{"text_format":"1","workbook":"xlsx","n_sheets":9,"sheets":["Opsætning","Rådata","Nøgletal","Data Sidste måned","Data Speedometer","Data Grafer","Visning Speedometer","Visning Grafer","Visning Rapport"],"not_rendered":{"charts":12,"images":2,"macros":1,"external_links":0,"defined_names":3,"comments":2,"pivot_tables":2},"unopened":[],"bounds":{"document_bytes":16777216,"sheet_cells":100000,"rows_first":2000,"rows_last":500,"rows_between":2000,"halvings":0,"cell_chars":16384,"cell_head_chars":4096},"cells_cut":0,"cells_raw":0,"read":"whole","date_system":"1900"}

{"sheet":"Opsætning","index":0,"n_rows":48,"n_cols":8,"rows_kept":48,"cut":false,"hidden":false,"merged":[]}
[]
["Vundne tilbud"]
["Skala","Værdi","Gul = +/-",10,null,null,1,"Jan"]
["Startpunkt",0,null,null,null,null,2,"Feb"]
["Rød",{"$f":"IF(ISERROR(IF(Nøgletal!D3<D3,0,Nøgletal!D3-Opsætning!D3))=TRUE,33,IF(Nøgletal!D3<D3,0,Nøgletal!D3-Opsætning!D3))","v":0},null,null,null,null,3,"Mar"]
["Gul",{"$f":"IF(ISERROR(IF(Nøgletal!D3+D3>100,Opsætning!D3,D3*2))=TRUE,34,IF(Nøgletal!D3+D3>100,Opsætning!D3,D3*2))","v":20},null,null,null,null,4,"Apr"]
["Grøn",{"$f":"IF(100-B5-B6<0,10,100-B5-B6)","v":80},null,null,null,null,5,"Maj"]
["Slutpunkt",100,null,null,null,null,6,"Jun"]
[null,null,null,null,null,null,7,"Jul"]
["Dækningsgrad på gennemførte opgaver",null,null,null,null,null,8,"Aug"]
["Skala","Værdi","Gul = +/-",5,null,null,9,"Sep"]
["Startpunkt",0,null,null,null,null,10,"Okt"]
["Rød",{"$f":"IF(Nøgletal!E3<D11,50,50+((Nøgletal!E3-Opsætning!D11)/2))","v":50},null,null,null,null,11,"Nov"]
["Gul",{"$f":"IF(Nøgletal!E3+D11>100,Opsætning!D11/2,D11)","v":5},null,null,null,null,12,"Dec"]
["Grøn",{"$f":"IF(100-B13-B14<0,10,100-B13-B14)","v":45}]
["Slutpunkt",100]
[]
["Fejlretningsprocent"]
["Skala","Værdi","Gul = +/-",3]
["Startpunkt",0]
["Grøn",{"$f":"IF(ISERROR(IF(Nøgletal!F3<D19,0,Nøgletal!F3-Opsætning!D19))=TRUE,33,IF(Nøgletal!F3<D19,0,Nøgletal!F3-Opsætning!D19))","v":0}]
["Gul",{"$f":"IF(ISERROR(IF(Nøgletal!F3+D19>100,Opsætning!D19,D19*2))=TRUE,34,IF(Nøgletal!F3+D19>100,Opsætning!D19,D19*2))","v":6}]
["Rød",{"$f":"IF(100-B21-B22<0,10,100-B21-B22)","v":94}]
["Slutpunkt",100]
[]
["Faktureringsgrad"]
["Skala","Værdi","Gul = +/-",5]
["Startpunkt",0]
["Grøn",{"$f":"IF(ISERROR(IF(Nøgletal!G3<D27,0,Nøgletal!G3-Opsætning!D27))=TRUE,33,IF(Nøgletal!G3<D27,0,Nøgletal!G3-Opsætning!D27))","v":0}]
["Gul",{"$f":"IF(ISERROR(IF(Nøgletal!G3+D27>100,Opsætning!D27,D27*2))=TRUE,34,IF(Nøgletal!G3+D27>100,Opsætning!D27,D27*2))","v":10}]
["Rød",{"$f":"IF(100-B29-B30<0,10,100-B29-B30)","v":90}]
["Slutpunkt",100]
[]
["Administrationsprocent"]
["Skala","Værdi","Gul = +/-",5]
["Startpunkt",0]
["Grøn",{"$f":"IF(ISERROR(IF(Nøgletal!H3<D35,0,Nøgletal!H3-Opsætning!D35))=TRUE,33,IF(Nøgletal!H3<D35,0,Nøgletal!H3-Opsætning!D35))","v":0}]
["Gul",{"$f":"IF(ISERROR(IF(Nøgletal!H3+D35>100,Opsætning!D35,D35*2))=TRUE,34,IF(Nøgletal!H3+D35>100,Opsætning!D35,D35*2))","v":10}]
["Rød",{"$f":"IF(100-B37-B38<0,10,100-B37-B38)","v":90}]
["Slutpunkt",100]
[]
["Afhentning hos grossist"]
["Skala","Værdi","Gul = +/-",5]
["Startpunkt",0]
["Grøn",{"$f":"IF(ISERROR(IF(Nøgletal!I3<D43,0,Nøgletal!I3-Opsætning!D43))=TRUE,33,IF(Nøgletal!I3<D43,0,Nøgletal!I3-Opsætning!D43))","v":0}]
["Gul",{"$f":"IF(ISERROR(IF(Nøgletal!I3+D43>100,Opsætning!D43,D43*2))=TRUE,34,IF(Nøgletal!I3+D43>100,Opsætning!D43,D43*2))","v":10}]
["Rød",{"$f":"IF(100-B45-B46<0,10,100-B45-B46)","v":90}]
["Slutpunkt",100]

{"sheet":"Rådata","index":1,"n_rows":1000,"n_cols":19,"rows_kept":1000,"cut":false,"hidden":false,"merged":[]}
[null,"Tilbud",null,"Dækningsgrad",null,"Om-igen-arbejde",null,"Arbejdstimer",null,null,null,null,"Udfakturerede timer",null,null,null,"Afhentet hos grossist"]
["dd-mm-yyyy","Afgivne tilbud","Vundne tilbud","Omsætning","Omkostninger","Udkald","Afsluttede opgaver","Svende","Lærlinge","Formænd","Ejerleder","Admin","Svende","Lærlinge","Formænd","Ejerleder","Fakturaer afhentet","Fakturaer i alt","Rækkenummer"]
["Opsætning",null,null,null,null,null,null,null,null,null,null,null,null,null,null,null,null,null,3]
[null,null,null,null,null,null,null,null,null,null,null,null,null,null,null,null,null,null,4]
[null,null,null,null,null,null,null,null,null,null,null,null,null,null,null,null,null,null,5]
[null,null,null,null,null,null,null,null,null,null,null,null,null,null,null,null,null,null,6]
[null,null,null,null,null,null,null,null,null,null,null,null,null,null,null,null,null,null,7]
[null,null,null,null,null,null,null,null,null,null,null,null,null,null,null,null,null,null,8]
[null,null,null,null,null,null,null,null,null,null,null,null,null,null,null,null,null,null,9]
[null,null,null,null,null,null,null,null,null,null,null,null,null,null,null,null,null,null,10]
[null,null,null,null,null,null,null,null,null,null,null,null,null,null,null,null,null,null,11]
[null,null,null,null,null,null,null,null,null,null,null,null,null,null,null,null,null,null,12]
[null,null,null,null,null,null,null,null,null,null,null,null,null,null,null,null,null,null,13]
[null,null,null,null,null,null,null,null,null,null,null,null,null,null,null,null,null,null,14]
[null,null,null,null,null,null,null,null,null,null,null,null,null,null,null,null,null,null,15]
[null,null,null,null,null,null,null,null,null,null,null,null,null,null,null,null,null,null,16]
[null,null,null,null,null,null,null,null,null,null,null,null,null,null,null,null,null,null,17]
[null,null,null,null,null,null,null,null,null,null,null,null,null,null,null,null,null,null,18]
[null,null,null,null,null,null,null,null,null,null,null,null,null,null,null,null,null,null,19]
[null,null,null,null,null,null,null,null,null,null,null,null,null,null,null,null,null,null,20]
[null,null,null,null,null,null,null,null,null,null,null,null,null,null,null,null,null,null,21]
[null,null,null,null,null,null,null,null,null,null,null,null,null,null,null,null,null,null,22]
[null,null,null,null,null,null,null,null,null,null,null,null,null,null,null,null,null,null,23]
[null,null,null,null,null,null,null,null,null,null,null,null,null,null,null,null,null,null,24]
[null,null,null,null,null,null,null,null,null,null,null,null,null,null,null,null,null,null,25]
[null,null,null,null,null,null,null,null,null,null,null,null,null,null,null,null,null,null,26]
[null,null,null,null,null,null,null,null,null,null,null,null,null,null,null,null,null,null,27]
[null,null,null,null,null,null,null,null,null,null,null,null,null,null,null,null,null,null,28]
[null,null,null,null,null,null,null,null,null,null,null,null,null,null,null,null,null,null,29]
[null,null,null,null,null,null,null,null,null,null,null,null,null,null,null,null,null,null,30]
[null,null,null,null,null,null,null,null,null,null,null,null,null,null,null,null,null,null,31]
[null,null,null,null,null,null,null,null,null,null,null,null,null,null,null,null,null,null,32]
[null,null,null,null,null,null,null,null,null,null,null,null,null,null,null,null,null,null,33]
[null,null,null,null,null,null,null,null,null,null,null,null,null,null,null,null,null,null,34]
[null,null,null,null,null,null,null,null,null,null,null,null,null,null,null,null,null,null,35]
[null,null,null,null,null,null,null,null,null,null,null,null,null,null,null,null,null,null,36]
[null,null,null,null,null,null,null,null,null,null,null,null,null,null,null,null,null,null,37]
[null,null,null,null,null,null,null,null,null,null,null,null,null,null,null,null,null,null,38]
[null,null,null,null,null,null,null,null,null,null,null,null,null,null,null,null,null,null,39]
[null,null,null,null,null,null,null,null,null,null,null,null,null,null,null,null,null,null,40]
[null,null,null,null,null,null,null,null,null,null,null,null,null,null,null,null,null,null,41]
[null,null,null,null,null,null,null,null,null,null,null,null,null,null,null,null,null,null,42]
[null,null,null,null,null,null,null,null,null,null,null,null,null,null,null,null,null,null,43]
[null,null,null,null,null,null,null,null,null,null,null,null,null,null,null,null,null,null,44]
[null,null,null,null,null,null,null,null,null,null,null,null,null,null,null,null,null,null,45]
[null,null,null,null,null,null,null,null,null,null,null,null,null,null,null,null,null,null,46]
[null,null,null,null,null,null,null,null,null,null,null,null,null,null,null,null,null,null,47]
[null,null,null,null,null,null,null,null,null,null,null,null,null,null,null,null,null,null,48]
[null,null,null,null,null,null,null,null,null,null,null,null,null,null,null,null,null,null,49]
[null,null,null,null,null,null,null,null,null,null,null,null,null,null,null,null,null,null,50]
[null,null,null,null,null,null,null,null,null,null,null,null,null,null,null,null,null,null,51]
[null,null,null,null,null,null,null,null,null,null,null,null,null,null,null,null,null,null,52]
[null,null,null,null,null,null,null,null,null,null,null,null,null,null,null,null,null,null,53]
[null,null,null,null,null,null,null,null,null,null,null,null,null,null,null,null,null,null,54]
[null,null,null,null,null,null,null,null,null,null,null,null,null,null,null,null,null,null,55]
[null,null,null,null,null,null,null,null,null,null,null,null,null,null,null,null,null,null,56]
[null,null,null,null,null,null,null,null,null,null,null,null,null,null,null,null,null,null,57]
[null,null,null,null,null,null,null,null,null,null,null,null,null,null,null,null,null,null,58]
[null,null,null,null,null,null,null,null,null,null,null,null,null,null,null,null,null,null,59]
[null,null,null,null,null,null,null,null,null,null,null,null,null,null,null,null,null,null,60]
[null,null,null,null,null,null,null,null,null,null,null,null,null,null,null,null,null,null,61]
[null,null,null,null,null,null,null,null,null,null,null,null,null,null,null,null,null,null,62]
[null,null,null,null,null,null,null,null,null,null,null,null,null,null,null,null,null,null,63]
[null,null,null,null,null,null,null,null,null,null,null,null,null,null,null,null,null,null,64]
[null,null,null,null,null,null,null,null,null,null,null,null,null,null,null,null,null,null,65]
[null,null,null,null,null,null,null,null,null,null,null,null,null,null,null,null,null,null,66]
[null,null,null,null,null,null,null,null,null,null,null,null,null,null,null,null,null,null,67]
[null,null,null,null,null,null,null,null,null,null,null,null,null,null,null,null,null,null,68]
[null,null,null,null,null,null,null,null,null,null,null,null,null,null,null,null,null,null,69]
[null,null,null,null,null,null,null,null,null,null,null,null,null,null,null,null,null,null,70]
[null,null,null,null,null,null,null,null,null,null,null,null,null,null,null,null,null,null,71]
[null,null,null,null,null,null,null,null,null,null,null,null,null,null,null,null,null,null,72]
[null,null,null,null,null,null,null,null,null,null,null,null,null,null,null,null,null,null,73]
[null,null,null,null,null,null,null,null,null,null,null,null,null,null,null,null,null,null,74]
[null,null,null,null,null,null,null,null,null,null,null,null,null,null,null,null,null,null,75]
[null,null,null,null,null,null,null,null,null,null,null,null,null,null,null,null,null,null,76]
[null,null,null,null,null,null,null,null,null,null,null,null,null,null,null,null,null,null,77]
[null,null,null,null,null,null,null,null,null,null,null,null,null,null,null,null,null,null,78]
[null,null,null,null,null,null,null,null,null,null,null,null,null,null,null,null,null,null,79]
[null,null,null,null,null,null,null,null,null,null,null,null,null,null,null,null,null,null,80]
[null,null,null,null,null,null,null,null,null,null,null,null,null,null,null,null,null,null,81]
[null,null,null,null,null,null,null,null,null,null,null,null,null,null,null,null,null,null,82]
[null,null,null,null,null,null,null,null,null,null,null,null,null,null,null,null,null,null,83]
[null,null,null,null,null,null,null,null,null,null,null,null,null,null,null,null,null,null,84]
[null,null,null,null,null,null,null,null,null,null,null,null,null,null,null,null,null,null,85]
[null,null,null,null,null,null,null,null,null,null,null,null,null,null,null,null,null,null,86]
[null,null,null,null,null,null,null,null,null,null,null,null,null,null,null,null,null,null,87]
[null,null,null,null,null,null,null,null,null,null,null,null,null,null,null,null,null,null,88]
[null,null,null,null,null,null,null,null,null,null,null,null,null,null,null,null,null,null,89]
[null,null,null,null,null,null,null,null,null,null,null,null,null,null,null,null,null,null,90]
[null,null,null,null,null,null,null,null,null,null,null,null,null,null,null,null,null,null,91]
[null,null,null,null,null,null,null,null,null,null,null,null,null,null,null,null,null,null,92]
[null,null,null,null,null,null,null,null,null,null,null,null,null,null,null,null,null,null,93]
[null,null,null,null,null,null,null,null,null,null,null,null,null,null,null,null,null,null,94]
[null,null,null,null,null,null,null,null,null,null,null,null,null,null,null,null,null,null,95]
[null,null,null,null,null,null,null,null,null,null,null,null,null,null,null,null,null,null,96]
[null,null,null,null,null,null,null,null,null,null,null,null,null,null,null,null,null,null,97]
[null,null,null,null,null,null,null,null,null,null,null,null,null,null,null,null,null,null,98]
[null,null,null,null,null,null,null,null,null,null,null,null,null,null,null,null,null,null,99]
[null,null,null,null,null,null,null,null,null,null,null,null,null,null,null,null,null,null,100]
[null,null,null,null,null,null,null,null,null,null,null,null,null,null,null,null,null,null,101]
[null,null,null,null,null,null,null,null,null,null,null,null,null,null,null,null,null,null,102]
[null,null,null,null,null,null,null,null,null,null,null,null,null,null,null,null,null,null,103]
[null,null,null,null,null,null,null,null,null,null,null,null,null,null,null,null,null,null,104]
[null,null,null,null,null,null,null,null,null,null,null,null,null,null,null,null,null,null,105]
[null,null,null,null,null,null,null,null,null,null,null,null,null,null,null,null,null,null,106]
[null,null,null,null,null,null,null,null,null,null,null,null,null,null,null,null,null,null,107]
[null,null,null,null,null,null,null,null,null,null,null,null,null,null,null,null,null,null,108]
[null,null,null,null,null,null,null,null,null,null,null,null,null,null,null,null,null,null,109]
[null,null,null,null,null,null,null,null,null,null,null,null,null,null,null,null,null,null,110]
[null,null,null,null,null,null,null,null,null,null,null,null,null,null,null,null,null,null,111]
[null,null,null,null,null,null,null,null,null,null,null,null,null,null,null,null,null,null,112]
[null,null,null,null,null,null,null,null,null,null,null,null,null,null,null,null,null,null,113]
[null,null,null,null,null,null,null,null,null,null,null,null,null,null,null,null,null,null,114]
[null,null,null,null,null,null,null,null,null,null,null,null,null,null,null,null,null,null,115]
[null,null,null,null,null,null,null,null,null,null,null,null,null,null,null,null,null,null,116]
[null,null,null,null,null,null,null,null,null,null,null,null,null,null,null,null,null,null,117]
[null,null,null,null,null,null,null,null,null,null,null,null,null,null,null,null,null,null,118]
[null,null,null,null,null,null,null,null,null,null,null,null,null,null,null,null,null,null,119]
[null,null,null,null,null,null,null,null,null,null,null,null,null,null,null,null,null,null,120]
[null,null,null,null,null,null,null,null,null,null,null,null,null,null,null,null,null,null,121]
[null,null,null,null,null,null,null,null,null,null,null,null,null,null,null,null,null,null,122]
[null,null,null,null,null,null,null,null,null,null,null,null,null,null,null,null,null,null,123]
[null,null,null,null,null,null,null,null,null,null,null,null,null,null,null,null,null,null,124]
[null,null,null,null,null,null,null,null,null,null,null,null,null,null,null,null,null,null,125]
[null,null,null,null,null,null,null,null,null,null,null,null,null,null,null,null,null,null,126]
[null,null,null,null,null,null,null,null,null,null,null,null,null,null,null,null,null,null,127]
[null,null,null,null,null,null,null,null,null,null,null,null,null,null,null,null,null,null,128]
[null,null,null,null,null,null,null,null,null,null,null,null,null,null,null,null,null,null,129]
[null,null,null,null,null,null,null,null,null,null,null,null,null,null,null,null,null,null,130]
[null,null,null,null,null,null,null,null,null,null,null,null,null,null,null,null,null,null,131]
[null,null,null,null,null,null,null,null,null,null,null,null,null,null,null,null,null,null,132]
[null,null,null,null,null,null,null,null,null,null,null,null,null,null,null,null,null,null,133]
[null,null,null,null,null,null,null,null,null,null,null,null,null,null,null,null,null,null,134]
[null,null,null,null,null,null,null,null,null,null,null,null,null,null,null,null,null,null,135]
[null,null,null,null,null,null,null,null,null,null,null,null,null,null,null,null,null,null,136]
[null,null,null,null,null,null,null,null,null,null,null,null,null,null,null,null,null,null,137]
[null,null,null,null,null,null,null,null,null,null,null,null,null,null,null,null,null,null,138]
[null,null,null,null,null,null,null,null,null,null,null,null,null,null,null,null,null,null,139]
[null,null,null,null,null,null,null,null,null,null,null,null,null,null,null,null,null,null,140]
[null,null,null,null,null,null,null,null,null,null,null,null,null,null,null,null,null,null,141]
[null,null,null,null,null,null,null,null,null,null,null,null,null,null,null,null,null,null,142]
[null,null,null,null,null,null,null,null,null,null,null,null,null,null,null,null,null,null,143]
[null,null,null,null,null,null,null,null,null,null,null,null,null,null,null,null,null,null,144]
[null,null,null,null,null,null,null,null,null,null,null,null,null,null,null,null,null,null,145]
[null,null,null,null,null,null,null,null,null,null,null,null,null,null,null,null,null,null,146]
[null,null,null,null,null,null,null,null,null,null,null,null,null,null,null,null,null,null,147]
[null,null,null,null,null,null,null,null,null,null,null,null,null,null,null,null,null,null,148]
[null,null,null,null,null,null,null,null,null,null,null,null,null,null,null,null,null,null,149]
[null,null,null,null,null,null,null,null,null,null,null,null,null,null,null,null,null,null,150]
[null,null,null,null,null,null,null,null,null,null,null,null,null,null,null,null,null,null,151]
[null,null,null,null,null,null,null,null,null,null,null,null,null,null,null,null,null,null,152]
[null,null,null,null,null,null,null,null,null,null,null,null,null,null,null,null,null,null,153]
[null,null,null,null,null,null,null,null,null,null,null,null,null,null,null,null,null,null,154]
[null,null,null,null,null,null,null,null,null,null,null,null,null,null,null,null,null,null,155]
[null,null,null,null,null,null,null,null,null,null,null,null,null,null,null,null,null,null,156]
[null,null,null,null,null,null,null,null,null,null,null,null,null,null,null,null,null,null,157]
[null,null,null,null,null,null,null,null,null,null,null,null,null,null,null,null,null,null,158]
[null,null,null,null,null,null,null,null,null,null,null,null,null,null,null,null,null,null,159]
[null,null,null,null,null,null,null,null,null,null,null,null,null,null,null,null,null,null,160]
[null,null,null,null,null,null,null,null,null,null,null,null,null,null,null,null,null,null,161]
[null,null,null,null,null,null,null,null,null,null,null,null,null,null,null,null,null,null,162]
[null,null,null,null,null,null,null,null,null,null,null,null,null,null,null,null,null,null,163]
[null,null,null,null,null,null,null,null,null,null,null,null,null,null,null,null,null,null,164]
[null,null,null,null,null,null,null,null,null,null,null,null,null,null,null,null,null,null,165]
[null,null,null,null,null,null,null,null,null,null,null,null,null,null,null,null,null,null,166]
[null,null,null,null,null,null,null,null,null,null,null,null,null,null,null,null,null,null,167]
[null,null,null,null,null,null,null,null,null,null,null,null,null,null,null,null,null,null,168]
[null,null,null,null,null,null,null,null,null,null,null,null,null,null,null,null,null,null,169]
[null,null,null,null,null,null,null,null,null,null,null,null,null,null,null,null,null,null,170]
[null,null,null,null,null,null,null,null,null,null,null,null,null,null,null,null,null,null,171]
[null,null,null,null,null,null,null,null,null,null,null,null,null,null,null,null,null,null,172]
[null,null,null,null,null,null,null,null,null,null,null,null,null,null,null,null,null,null,173]
[null,null,null,null,null,null,null,null,null,null,null,null,null,null,null,null,null,null,174]
[null,null,null,null,null,null,null,null,null,null,null,null,null,null,null,null,null,null,175]
[null,null,null,null,null,null,null,null,null,null,null,null,null,null,null,null,null,null,176]
[null,null,null,null,null,null,null,null,null,null,null,null,null,null,null,null,null,null,177]
[null,null,null,null,null,null,null,null,null,null,null,null,null,null,null,null,null,null,178]
[null,null,null,null,null,null,null,null,null,null,null,null,null,null,null,null,null,null,179]
[null,null,null,null,null,null,null,null,null,null,null,null,null,null,null,null,null,null,180]
[null,null,null,null,null,null,null,null,null,null,null,null,null,null,null,null,null,null,181]
[null,null,null,null,null,null,null,null,null,null,null,null,null,null,null,null,null,null,182]
[null,null,null,null,null,null,null,null,null,null,null,null,null,null,null,null,null,null,183]
[null,null,null,null,null,null,null,null,null,null,null,null,null,null,null,null,null,null,184]
[null,null,null,null,null,null,null,null,null,null,null,null,null,null,null,null,null,null,185]
[null,null,null,null,null,null,null,null,null,null,null,null,null,null,null,null,null,null,186]
[null,null,null,null,null,null,null,null,null,null,null,null,null,null,null,null,null,null,187]
[null,null,null,null,null,null,null,null,null,null,null,null,null,null,null,null,null,null,188]
[null,null,null,null,null,null,null,null,null,null,null,null,null,null,null,null,null,null,189]
[null,null,null,null,null,null,null,null,null,null,null,null,null,null,null,null,null,null,190]
[null,null,null,null,null,null,null,null,null,null,null,null,null,null,null,null,null,null,191]
[null,null,null,null,null,null,null,null,null,null,null,null,null,null,null,null,null,null,192]
[null,null,null,null,null,null,null,null,null,null,null,null,null,null,null,null,null,null,193]
[null,null,null,null,null,null,null,null,null,null,null,null,null,null,null,null,null,null,194]
[null,null,null,null,null,null,null,null,null,null,null,null,null,null,null,null,null,null,195]
[null,null,null,null,null,null,null,null,null,null,null,null,null,null,null,null,null,null,196]
[null,null,null,null,null,null,null,null,null,null,null,null,null,null,null,null,null,null,197]
[null,null,null,null,null,null,null,null,null,null,null,null,null,null,null,null,null,null,198]
[null,null,null,null,null,null,null,null,null,null,null,null,null,null,null,null,null,null,199]
[null,null,null,null,null,null,null,null,null,null,null,null,null,null,null,null,null,null,200]
[null,null,null,null,null,null,null,null,null,null,null,null,null,null,null,null,null,null,201]
[null,null,null,null,null,null,null,null,null,null,null,null,null,null,null,null,null,null,202]
[null,null,null,null,null,null,null,null,null,null,null,null,null,null,null,null,null,null,203]
[null,null,null,null,null,null,null,null,null,null,null,null,null,null,null,null,null,null,204]
[null,null,null,null,null,null,null,null,null,null,null,null,null,null,null,null,null,null,205]
[null,null,null,null,null,null,null,null,null,null,null,null,null,null,null,null,null,null,206]
[null,null,null,null,null,null,null,null,null,null,null,null,null,null,null,null,null,null,207]
[null,null,null,null,null,null,null,null,null,null,null,null,null,null,null,null,null,null,208]
[null,null,null,null,null,null,null,null,null,null,null,null,null,null,null,null,null,null,209]
[null,null,null,null,null,null,null,null,null,null,null,null,null,null,null,null,null,null,210]
[null,null,null,null,null,null,null,null,null,null,null,null,null,null,null,null,null,null,211]
[null,null,null,null,null,null,null,null,null,null,null,null,null,null,null,null,null,null,212]
[null,null,null,null,null,null,null,null,null,null,null,null,null,null,null,null,null,null,213]
[null,null,null,null,null,null,null,null,null,null,null,null,null,null,null,null,null,null,214]
[null,null,null,null,null,null,null,null,null,null,null,null,null,null,null,null,null,null,215]
[null,null,null,null,null,null,null,null,null,null,null,null,null,null,null,null,null,null,216]
[null,null,null,null,null,null,null,null,null,null,null,null,null,null,null,null,null,null,217]
[null,null,null,null,null,null,null,null,null,null,null,null,null,null,null,null,null,null,218]
[null,null,null,null,null,null,null,null,null,null,null,null,null,null,null,null,null,null,219]
[null,null,null,null,null,null,null,null,null,null,null,null,null,null,null,null,null,null,220]
[null,null,null,null,null,null,null,null,null,null,null,null,null,null,null,null,null,null,221]
[null,null,null,null,null,null,null,null,null,null,null,null,null,null,null,null,null,null,222]
[null,null,null,null,null,null,null,null,null,null,null,null,null,null,null,null,null,null,223]
[null,null,null,null,null,null,null,null,null,null,null,null,null,null,null,null,null,null,224]
[null,null,null,null,null,null,null,null,null,null,null,null,null,null,null,null,null,null,225]
[null,null,null,null,null,null,null,null,null,null,null,null,null,null,null,null,null,null,226]
[null,null,null,null,null,null,null,null,null,null,null,null,null,null,null,null,null,null,227]
[null,null,null,null,null,null,null,null,null,null,null,null,null,null,null,null,null,null,228]
[null,null,null,null,null,null,null,null,null,null,null,null,null,null,null,null,null,null,229]
[null,null,null,null,null,null,null,null,null,null,null,null,null,null,null,null,null,null,230]
[null,null,null,null,null,null,null,null,null,null,null,null,null,null,null,null,null,null,231]
[null,null,null,null,null,null,null,null,null,null,null,null,null,null,null,null,null,null,232]
[null,null,null,null,null,null,null,null,null,null,null,null,null,null,null,null,null,null,233]
[null,null,null,null,null,null,null,null,null,null,null,null,null,null,null,null,null,null,234]
[null,null,null,null,null,null,null,null,null,null,null,null,null,null,null,null,null,null,235]
[null,null,null,null,null,null,null,null,null,null,null,null,null,null,null,null,null,null,236]
[null,null,null,null,null,null,null,null,null,null,null,null,null,null,null,null,null,null,237]
[null,null,null,null,null,null,null,null,null,null,null,null,null,null,null,null,null,null,238]
[null,null,null,null,null,null,null,null,null,null,null,null,null,null,null,null,null,null,239]
[null,null,null,null,null,null,null,null,null,null,null,null,null,null,null,null,null,null,240]
[null,null,null,null,null,null,null,null,null,null,null,null,null,null,null,null,null,null,241]
[null,null,null,null,null,null,null,null,null,null,null,null,null,null,null,null,null,null,242]
[null,null,null,null,null,null,null,null,null,null,null,null,null,null,null,null,null,null,243]
[null,null,null,null,null,null,null,null,null,null,null,null,null,null,null,null,null,null,244]
[null,null,null,null,null,null,null,null,null,null,null,null,null,null,null,null,null,null,245]
[null,null,null,null,null,null,null,null,null,null,null,null,null,null,null,null,null,null,246]
[null,null,null,null,null,null,null,null,null,null,null,null,null,null,null,null,null,null,247]
[null,null,null,null,null,null,null,null,null,null,null,null,null,null,null,null,null,null,248]
[null,null,null,null,null,null,null,null,null,null,null,null,null,null,null,null,null,null,249]
[null,null,null,null,null,null,null,null,null,null,null,null,null,null,null,null,null,null,250]
[null,null,null,null,null,null,null,null,null,null,null,null,null,null,null,null,null,null,251]
[null,null,null,null,null,null,null,null,null,null,null,null,null,null,null,null,null,null,252]
[null,null,null,null,null,null,null,null,null,null,null,null,null,null,null,null,null,null,253]
[null,null,null,null,null,null,null,null,null,null,null,null,null,null,null,null,null,null,254]
[null,null,null,null,null,null,null,null,null,null,null,null,null,null,null,null,null,null,255]
[null,null,null,null,null,null,null,null,null,null,null,null,null,null,null,null,null,null,256]
[null,null,null,null,null,null,null,null,null,null,null,null,null,null,null,null,null,null,257]
[null,null,null,null,null,null,null,null,null,null,null,null,null,null,null,null,null,null,258]
[null,null,null,null,null,null,null,null,null,null,null,null,null,null,null,null,null,null,259]
[null,null,null,null,null,null,null,null,null,null,null,null,null,null,null,null,null,null,260]
[null,null,null,null,null,null,null,null,null,null,null,null,null,null,null,null,null,null,261]
[null,null,null,null,null,null,null,null,null,null,null,null,null,null,null,null,null,null,262]
[null,null,null,null,null,null,null,null,null,null,null,null,null,null,null,null,null,null,263]
[null,null,null,null,null,null,null,null,null,null,null,null,null,null,null,null,null,null,264]
[null,null,null,null,null,null,null,null,null,null,null,null,null,null,null,null,null,null,265]
[null,null,null,null,null,null,null,null,null,null,null,null,null,null,null,null,null,null,266]
[null,null,null,null,null,null,null,null,null,null,null,null,null,null,null,null,null,null,267]
[null,null,null,null,null,null,null,null,null,null,null,null,null,null,null,null,null,null,268]
[null,null,null,null,null,null,null,null,null,null,null,null,null,null,null,null,null,null,269]
[null,null,null,null,null,null,null,null,null,null,null,null,null,null,null,null,null,null,270]
[null,null,null,null,null,null,null,null,null,null,null,null,null,null,null,null,null,null,271]
[null,null,null,null,null,null,null,null,null,null,null,null,null,null,null,null,null,null,272]
[null,null,null,null,null,null,null,null,null,null,null,null,null,null,null,null,null,null,273]
[null,null,null,null,null,null,null,null,null,null,null,null,null,null,null,null,null,null,274]
[null,null,null,null,null,null,null,null,null,null,null,null,null,null,null,null,null,null,275]
[null,null,null,null,null,null,null,null,null,null,null,null,null,null,null,null,null,null,276]
[null,null,null,null,null,null,null,null,null,null,null,null,null,null,null,null,null,null,277]
[null,null,null,null,null,null,null,null,null,null,null,null,null,null,null,null,null,null,278]
[null,null,null,null,null,null,null,null,null,null,null,null,null,null,null,null,null,null,279]
[null,null,null,null,null,null,null,null,null,null,null,null,null,null,null,null,null,null,280]
[null,null,null,null,null,null,null,null,null,null,null,null,null,null,null,null,null,null,281]
[null,null,null,null,null,null,null,null,null,null,null,null,null,null,null,null,null,null,282]
[null,null,null,null,null,null,null,null,null,null,null,null,null,null,null,null,null,null,283]
[null,null,null,null,null,null,null,null,null,null,null,null,null,null,null,null,null,null,284]
[null,null,null,null,null,null,null,null,null,null,null,null,null,null,null,null,null,null,285]
[null,null,null,null,null,null,null,null,null,null,null,null,null,null,null,null,null,null,286]
[null,null,null,null,null,null,null,null,null,null,null,null,null,null,null,null,null,null,287]
[null,null,null,null,null,null,null,null,null,null,null,null,null,null,null,null,null,null,288]
[null,null,null,null,null,null,null,null,null,null,null,null,null,null,null,null,null,null,289]
[null,null,null,null,null,null,null,null,null,null,null,null,null,null,null,null,null,null,290]
[null,null,null,null,null,null,null,null,null,null,null,null,null,null,null,null,null,null,291]
[null,null,null,null,null,null,null,null,null,null,null,null,null,null,null,null,null,null,292]
[null,null,null,null,null,null,null,null,null,null,null,null,null,null,null,null,null,null,293]
[null,null,null,null,null,null,null,null,null,null,null,null,null,null,null,null,null,null,294]
[null,null,null,null,null,null,null,null,null,null,null,null,null,null,null,null,null,null,295]
[null,null,null,null,null,null,null,null,null,null,null,null,null,null,null,null,null,null,296]
[null,null,null,null,null,null,null,null,null,null,null,null,null,null,null,null,null,null,297]
[null,null,null,null,null,null,null,null,null,null,null,null,null,null,null,null,null,null,298]
[null,null,null,null,null,null,null,null,null,null,null,null,null,null,null,null,null,null,299]
[null,null,null,null,null,null,null,null,null,null,null,null,null,null,null,null,null,null,300]
[null,null,null,null,null,null,null,null,null,null,null,null,null,null,null,null,null,null,301]
[null,null,null,null,null,null,null,null,null,null,null,null,null,null,null,null,null,null,302]
[null,null,null,null,null,null,null,null,null,null,null,null,null,null,null,null,null,null,303]
[null,null,null,null,null,null,null,null,null,null,null,null,null,null,null,null,null,null,304]
[null,null,null,null,null,null,null,null,null,null,null,null,null,null,null,null,null,null,305]
[null,null,null,null,null,null,null,null,null,null,null,null,null,null,null,null,null,null,306]
[null,null,null,null,null,null,null,null,null,null,null,null,null,null,null,null,null,null,307]
[null,null,null,null,null,null,null,null,null,null,null,null,null,null,null,null,null,null,308]
[null,null,null,null,null,null,null,null,null,null,null,null,null,null,null,null,null,null,309]
[null,null,null,null,null,null,null,null,null,null,null,null,null,null,null,null,null,null,310]
[null,null,null,null,null,null,null,null,null,null,null,null,null,null,null,null,null,null,311]
[null,null,null,null,null,null,null,null,null,null,null,null,null,null,null,null,null,null,312]
[null,null,null,null,null,null,null,null,null,null,null,null,null,null,null,null,null,null,313]
[null,null,null,null,null,null,null,null,null,null,null,null,null,null,null,null,null,null,314]
[null,null,null,null,null,null,null,null,null,null,null,null,null,null,null,null,null,null,315]
[null,null,null,null,null,null,null,null,null,null,null,null,null,null,null,null,null,null,316]
[null,null,null,null,null,null,null,null,null,null,null,null,null,null,null,null,null,null,317]
[null,null,null,null,null,null,null,null,null,null,null,null,null,null,null,null,null,null,318]
[null,null,null,null,null,null,null,null,null,null,null,null,null,null,null,null,null,null,319]
[null,null,null,null,null,null,null,null,null,null,null,null,null,null,null,null,null,null,320]
[null,null,null,null,null,null,null,null,null,null,null,null,null,null,null,null,null,null,321]
[null,null,null,null,null,null,null,null,null,null,null,null,null,null,null,null,null,null,322]
[null,null,null,null,null,null,null,null,null,null,null,null,null,null,null,null,null,null,323]
[null,null,null,null,null,null,null,null,null,null,null,null,null,null,null,null,null,null,324]
[null,null,null,null,null,null,null,null,null,null,null,null,null,null,null,null,null,null,325]
[null,null,null,null,null,null,null,null,null,null,null,null,null,null,null,null,null,null,326]
[null,null,null,null,null,null,null,null,null,null,null,null,null,null,null,null,null,null,327]
[null,null,null,null,null,null,null,null,null,null,null,null,null,null,null,null,null,null,328]
[null,null,null,null,null,null,null,null,null,null,null,null,null,null,null,null,null,null,329]
[null,null,null,null,null,null,null,null,null,null,null,null,null,null,null,null,null,null,330]
[null,null,null,null,null,null,null,null,null,null,null,null,null,null,null,null,null,null,331]
[null,null,null,null,null,null,null,null,null,null,null,null,null,null,null,null,null,null,332]
[null,null,null,null,null,null,null,null,null,null,null,null,null,null,null,null,null,null,333]
[null,null,null,null,null,null,null,null,null,null,null,null,null,null,null,null,null,null,334]
[null,null,null,null,null,null,null,null,null,null,null,null,null,null,null,null,null,null,335]
[null,null,null,null,null,null,null,null,null,null,null,null,null,null,null,null,null,null,336]
[null,null,null,null,null,null,null,null,null,null,null,null,null,null,null,null,null,null,337]
[null,null,null,null,null,null,null,null,null,null,null,null,null,null,null,null,null,null,338]
[null,null,null,null,null,null,null,null,null,null,null,null,null,null,null,null,null,null,339]
[null,null,null,null,null,null,null,null,null,null,null,null,null,null,null,null,null,null,340]
[null,null,null,null,null,null,null,null,null,null,null,null,null,null,null,null,null,null,341]
[null,null,null,null,null,null,null,null,null,null,null,null,null,null,null,null,null,null,342]
[null,null,null,null,null,null,null,null,null,null,null,null,null,null,null,null,null,null,343]
[null,null,null,null,null,null,null,null,null,null,null,null,null,null,null,null,null,null,344]
[null,null,null,null,null,null,null,null,null,null,null,null,null,null,null,null,null,null,345]
[null,null,null,null,null,null,null,null,null,null,null,null,null,null,null,null,null,null,346]
[null,null,null,null,null,null,null,null,null,null,null,null,null,null,null,null,null,null,347]
[null,null,null,null,null,null,null,null,null,null,null,null,null,null,null,null,null,null,348]
[null,null,null,null,null,null,null,null,null,null,null,null,null,null,null,null,null,null,349]
[null,null,null,null,null,null,null,null,null,null,null,null,null,null,null,null,null,null,350]
[null,null,null,null,null,null,null,null,null,null,null,null,null,null,null,null,null,null,351]
[null,null,null,null,null,null,null,null,null,null,null,null,null,null,null,null,null,null,352]
[null,null,null,null,null,null,null,null,null,null,null,null,null,null,null,null,null,null,353]
[null,null,null,null,null,null,null,null,null,null,null,null,null,null,null,null,null,null,354]
[null,null,null,null,null,null,null,null,null,null,null,null,null,null,null,null,null,null,355]
[null,null,null,null,null,null,null,null,null,null,null,null,null,null,null,null,null,null,356]
[null,null,null,null,null,null,null,null,null,null,null,null,null,null,null,null,null,null,357]
[null,null,null,null,null,null,null,null,null,null,null,null,null,null,null,null,null,null,358]
[null,null,null,null,null,null,null,null,null,null,null,null,null,null,null,null,null,null,359]
[null,null,null,null,null,null,null,null,null,null,null,null,null,null,null,null,null,null,360]
[null,null,null,null,null,null,null,null,null,null,null,null,null,null,null,null,null,null,361]
[null,null,null,null,null,null,null,null,null,null,null,null,null,null,null,null,null,null,362]
[null,null,null,null,null,null,null,null,null,null,null,null,null,null,null,null,null,null,363]
[null,null,null,null,null,null,null,null,null,null,null,null,null,null,null,null,null,null,364]
[null,null,null,null,null,null,null,null,null,null,null,null,null,null,null,null,null,null,365]
[null,null,null,null,null,null,null,null,null,null,null,null,null,null,null,null,null,null,366]
[null,null,null,null,null,null,null,null,null,null,null,null,null,null,null,null,null,null,367]
[null,null,null,null,null,null,null,null,null,null,null,null,null,null,null,null,null,null,368]
[null,null,null,null,null,null,null,null,null,null,null,null,null,null,null,null,null,null,369]
[null,null,null,null,null,null,null,null,null,null,null,null,null,null,null,null,null,null,370]
[null,null,null,null,null,null,null,null,null,null,null,null,null,null,null,null,null,null,371]
[null,null,null,null,null,null,null,null,null,null,null,null,null,null,null,null,null,null,372]
[null,null,null,null,null,null,null,null,null,null,null,null,null,null,null,null,null,null,373]
[null,null,null,null,null,null,null,null,null,null,null,null,null,null,null,null,null,null,374]
[null,null,null,null,null,null,null,null,null,null,null,null,null,null,null,null,null,null,375]
[null,null,null,null,null,null,null,null,null,null,null,null,null,null,null,null,null,null,376]
[null,null,null,null,null,null,null,null,null,null,null,null,null,null,null,null,null,null,377]
[null,null,null,null,null,null,null,null,null,null,null,null,null,null,null,null,null,null,378]
[null,null,null,null,null,null,null,null,null,null,null,null,null,null,null,null,null,null,379]
[null,null,null,null,null,null,null,null,null,null,null,null,null,null,null,null,null,null,380]
[null,null,null,null,null,null,null,null,null,null,null,null,null,null,null,null,null,null,381]
[null,null,null,null,null,null,null,null,null,null,null,null,null,null,null,null,null,null,382]
[null,null,null,null,null,null,null,null,null,null,null,null,null,null,null,null,null,null,383]
[null,null,null,null,null,null,null,null,null,null,null,null,null,null,null,null,null,null,384]
[null,null,null,null,null,null,null,null,null,null,null,null,null,null,null,null,null,null,385]
[null,null,null,null,null,null,null,null,null,null,null,null,null,null,null,null,null,null,386]
[null,null,null,null,null,null,null,null,null,null,null,null,null,null,null,null,null,null,387]
[null,null,null,null,null,null,null,null,null,null,null,null,null,null,null,null,null,null,388]
[null,null,null,null,null,null,null,null,null,null,null,null,null,null,null,null,null,null,389]
[null,null,null,null,null,null,null,null,null,null,null,null,null,null,null,null,null,null,390]
[null,null,null,null,null,null,null,null,null,null,null,null,null,null,null,null,null,null,391]
[null,null,null,null,null,null,null,null,null,null,null,null,null,null,null,null,null,null,392]
[null,null,null,null,null,null,null,null,null,null,null,null,null,null,null,null,null,null,393]
[null,null,null,null,null,null,null,null,null,null,null,null,null,null,null,null,null,null,394]
[null,null,null,null,null,null,null,null,null,null,null,null,null,null,null,null,null,null,395]
[null,null,null,null,null,null,null,null,null,null,null,null,null,null,null,null,null,null,396]
[null,null,null,null,null,null,null,null,null,null,null,null,null,null,null,null,null,null,397]
[null,null,null,null,null,null,null,null,null,null,null,null,null,null,null,null,null,null,398]
[null,null,null,null,null,null,null,null,null,null,null,null,null,null,null,null,null,null,399]
[null,null,null,null,null,null,null,null,null,null,null,null,null,null,null,null,null,null,400]
[null,null,null,null,null,null,null,null,null,null,null,null,null,null,null,null,null,null,401]
[null,null,null,null,null,null,null,null,null,null,null,null,null,null,null,null,null,null,402]
[null,null,null,null,null,null,null,null,null,null,null,null,null,null,null,null,null,null,403]
[null,null,null,null,null,null,null,null,null,null,null,null,null,null,null,null,null,null,404]
[null,null,null,null,null,null,null,null,null,null,null,null,null,null,null,null,null,null,405]
[null,null,null,null,null,null,null,null,null,null,null,null,null,null,null,null,null,null,406]
[null,null,null,null,null,null,null,null,null,null,null,null,null,null,null,null,null,null,407]
[null,null,null,null,null,null,null,null,null,null,null,null,null,null,null,null,null,null,408]
[null,null,null,null,null,null,null,null,null,null,null,null,null,null,null,null,null,null,409]
[null,null,null,null,null,null,null,null,null,null,null,null,null,null,null,null,null,null,410]
[null,null,null,null,null,null,null,null,null,null,null,null,null,null,null,null,null,null,411]
[null,null,null,null,null,null,null,null,null,null,null,null,null,null,null,null,null,null,412]
[null,null,null,null,null,null,null,null,null,null,null,null,null,null,null,null,null,null,413]
[null,null,null,null,null,null,null,null,null,null,null,null,null,null,null,null,null,null,414]
[null,null,null,null,null,null,null,null,null,null,null,null,null,null,null,null,null,null,415]
[null,null,null,null,null,null,null,null,null,null,null,null,null,null,null,null,null,null,416]
[null,null,null,null,null,null,null,null,null,null,null,null,null,null,null,null,null,null,417]
[null,null,null,null,null,null,null,null,null,null,null,null,null,null,null,null,null,null,418]
[null,null,null,null,null,null,null,null,null,null,null,null,null,null,null,null,null,null,419]
[null,null,null,null,null,null,null,null,null,null,null,null,null,null,null,null,null,null,420]
[null,null,null,null,null,null,null,null,null,null,null,null,null,null,null,null,null,null,421]
[null,null,null,null,null,null,null,null,null,null,null,null,null,null,null,null,null,null,422]
[null,null,null,null,null,null,null,null,null,null,null,null,null,null,null,null,null,null,423]
[null,null,null,null,null,null,null,null,null,null,null,null,null,null,null,null,null,null,424]
[null,null,null,null,null,null,null,null,null,null,null,null,null,null,null,null,null,null,425]
[null,null,null,null,null,null,null,null,null,null,null,null,null,null,null,null,null,null,426]
[null,null,null,null,null,null,null,null,null,null,null,null,null,null,null,null,null,null,427]
[null,null,null,null,null,null,null,null,null,null,null,null,null,null,null,null,null,null,428]
[null,null,null,null,null,null,null,null,null,null,null,null,null,null,null,null,null,null,429]
[null,null,null,null,null,null,null,null,null,null,null,null,null,null,null,null,null,null,430]
[null,null,null,null,null,null,null,null,null,null,null,null,null,null,null,null,null,null,431]
[null,null,null,null,null,null,null,null,null,null,null,null,null,null,null,null,null,null,432]
[null,null,null,null,null,null,null,null,null,null,null,null,null,null,null,null,null,null,433]
[null,null,null,null,null,null,null,null,null,null,null,null,null,null,null,null,null,null,434]
[null,null,null,null,null,null,null,null,null,null,null,null,null,null,null,null,null,null,435]
[null,null,null,null,null,null,null,null,null,null,null,null,null,null,null,null,null,null,436]
[null,null,null,null,null,null,null,null,null,null,null,null,null,null,null,null,null,null,437]
[null,null,null,null,null,null,null,null,null,null,null,null,null,null,null,null,null,null,438]
[null,null,null,null,null,null,null,null,null,null,null,null,null,null,null,null,null,null,439]
[null,null,null,null,null,null,null,null,null,null,null,null,null,null,null,null,null,null,440]
[null,null,null,null,null,null,null,null,null,null,null,null,null,null,null,null,null,null,441]
[null,null,null,null,null,null,null,null,null,null,null,null,null,null,null,null,null,null,442]
[null,null,null,null,null,null,null,null,null,null,null,null,null,null,null,null,null,null,443]
[null,null,null,null,null,null,null,null,null,null,null,null,null,null,null,null,null,null,444]
[null,null,null,null,null,null,null,null,null,null,null,null,null,null,null,null,null,null,445]
[null,null,null,null,null,null,null,null,null,null,null,null,null,null,null,null,null,null,446]
[null,null,null,null,null,null,null,null,null,null,null,null,null,null,null,null,null,null,447]
[null,null,null,null,null,null,null,null,null,null,null,null,null,null,null,null,null,null,448]
[null,null,null,null,null,null,null,null,null,null,null,null,null,null,null,null,null,null,449]
[null,null,null,null,null,null,null,null,null,null,null,null,null,null,null,null,null,null,450]
[null,null,null,null,null,null,null,null,null,null,null,null,null,null,null,null,null,null,451]
[null,null,null,null,null,null,null,null,null,null,null,null,null,null,null,null,null,null,452]
[null,null,null,null,null,null,null,null,null,null,null,null,null,null,null,null,null,null,453]
[null,null,null,null,null,null,null,null,null,null,null,null,null,null,null,null,null,null,454]
[null,null,null,null,null,null,null,null,null,null,null,null,null,null,null,null,null,null,455]
[null,null,null,null,null,null,null,null,null,null,null,null,null,null,null,null,null,null,456]
[null,null,null,null,null,null,null,null,null,null,null,null,null,null,null,null,null,null,457]
[null,null,null,null,null,null,null,null,null,null,null,null,null,null,null,null,null,null,458]
[null,null,null,null,null,null,null,null,null,null,null,null,null,null,null,null,null,null,459]
[null,null,null,null,null,null,null,null,null,null,null,null,null,null,null,null,null,null,460]
[null,null,null,null,null,null,null,null,null,null,null,null,null,null,null,null,null,null,461]
[null,null,null,null,null,null,null,null,null,null,null,null,null,null,null,null,null,null,462]
[null,null,null,null,null,null,null,null,null,null,null,null,null,null,null,null,null,null,463]
[null,null,null,null,null,null,null,null,null,null,null,null,null,null,null,null,null,null,464]
[null,null,null,null,null,null,null,null,null,null,null,null,null,null,null,null,null,null,465]
[null,null,null,null,null,null,null,null,null,null,null,null,null,null,null,null,null,null,466]
[null,null,null,null,null,null,null,null,null,null,null,null,null,null,null,null,null,null,467]
[null,null,null,null,null,null,null,null,null,null,null,null,null,null,null,null,null,null,468]
[null,null,null,null,null,null,null,null,null,null,null,null,null,null,null,null,null,null,469]
[null,null,null,null,null,null,null,null,null,null,null,null,null,null,null,null,null,null,470]
[null,null,null,null,null,null,null,null,null,null,null,null,null,null,null,null,null,null,471]
[null,null,null,null,null,null,null,null,null,null,null,null,null,null,null,null,null,null,472]
[null,null,null,null,null,null,null,null,null,null,null,null,null,null,null,null,null,null,473]
[null,null,null,null,null,null,null,null,null,null,null,null,null,null,null,null,null,null,474]
[null,null,null,null,null,null,null,null,null,null,null,null,null,null,null,null,null,null,475]
[null,null,null,null,null,null,null,null,null,null,null,null,null,null,null,null,null,null,476]
[null,null,null,null,null,null,null,null,null,null,null,null,null,null,null,null,null,null,477]
[null,null,null,null,null,null,null,null,null,null,null,null,null,null,null,null,null,null,478]
[null,null,null,null,null,null,null,null,null,null,null,null,null,null,null,null,null,null,479]
[null,null,null,null,null,null,null,null,null,null,null,null,null,null,null,null,null,null,480]
[null,null,null,null,null,null,null,null,null,null,null,null,null,null,null,null,null,null,481]
[null,null,null,null,null,null,null,null,null,null,null,null,null,null,null,null,null,null,482]
[null,null,null,null,null,null,null,null,null,null,null,null,null,null,null,null,null,null,483]
[null,null,null,null,null,null,null,null,null,null,null,null,null,null,null,null,null,null,484]
[null,null,null,null,null,null,null,null,null,null,null,null,null,null,null,null,null,null,485]
[null,null,null,null,null,null,null,null,null,null,null,null,null,null,null,null,null,null,486]
[null,null,null,null,null,null,null,null,null,null,null,null,null,null,null,null,null,null,487]
[null,null,null,null,null,null,null,null,null,null,null,null,null,null,null,null,null,null,488]
[null,null,null,null,null,null,null,null,null,null,null,null,null,null,null,null,null,null,489]
[null,null,null,null,null,null,null,null,null,null,null,null,null,null,null,null,null,null,490]
[null,null,null,null,null,null,null,null,null,null,null,null,null,null,null,null,null,null,491]
[null,null,null,null,null,null,null,null,null,null,null,null,null,null,null,null,null,null,492]
[null,null,null,null,null,null,null,null,null,null,null,null,null,null,null,null,null,null,493]
[null,null,null,null,null,null,null,null,null,null,null,null,null,null,null,null,null,null,494]
[null,null,null,null,null,null,null,null,null,null,null,null,null,null,null,null,null,null,495]
[null,null,null,null,null,null,null,null,null,null,null,null,null,null,null,null,null,null,496]
[null,null,null,null,null,null,null,null,null,null,null,null,null,null,null,null,null,null,497]
[null,null,null,null,null,null,null,null,null,null,null,null,null,null,null,null,null,null,498]
[null,null,null,null,null,null,null,null,null,null,null,null,null,null,null,null,null,null,499]
[null,null,null,null,null,null,null,null,null,null,null,null,null,null,null,null,null,null,500]
[null,null,null,null,null,null,null,null,null,null,null,null,null,null,null,null,null,null,501]
[null,null,null,null,null,null,null,null,null,null,null,null,null,null,null,null,null,null,502]
[null,null,null,null,null,null,null,null,null,null,null,null,null,null,null,null,null,null,503]
[null,null,null,null,null,null,null,null,null,null,null,null,null,null,null,null,null,null,504]
[null,null,null,null,null,null,null,null,null,null,null,null,null,null,null,null,null,null,505]
[null,null,null,null,null,null,null,null,null,null,null,null,null,null,null,null,null,null,506]
[null,null,null,null,null,null,null,null,null,null,null,null,null,null,null,null,null,null,507]
[null,null,null,null,null,null,null,null,null,null,null,null,null,null,null,null,null,null,508]
[null,null,null,null,null,null,null,null,null,null,null,null,null,null,null,null,null,null,509]
[null,null,null,null,null,null,null,null,null,null,null,null,null,null,null,null,null,null,510]
[null,null,null,null,null,null,null,null,null,null,null,null,null,null,null,null,null,null,511]
[null,null,null,null,null,null,null,null,null,null,null,null,null,null,null,null,null,null,512]
[null,null,null,null,null,null,null,null,null,null,null,null,null,null,null,null,null,null,513]
[null,null,null,null,null,null,null,null,null,null,null,null,null,null,null,null,null,null,514]
[null,null,null,null,null,null,null,null,null,null,null,null,null,null,null,null,null,null,515]
[null,null,null,null,null,null,null,null,null,null,null,null,null,null,null,null,null,null,516]
[null,null,null,null,null,null,null,null,null,null,null,null,null,null,null,null,null,null,517]
[null,null,null,null,null,null,null,null,null,null,null,null,null,null,null,null,null,null,518]
[null,null,null,null,null,null,null,null,null,null,null,null,null,null,null,null,null,null,519]
[null,null,null,null,null,null,null,null,null,null,null,null,null,null,null,null,null,null,520]
[null,null,null,null,null,null,null,null,null,null,null,null,null,null,null,null,null,null,521]
[null,null,null,null,null,null,null,null,null,null,null,null,null,null,null,null,null,null,522]
[null,null,null,null,null,null,null,null,null,null,null,null,null,null,null,null,null,null,523]
[null,null,null,null,null,null,null,null,null,null,null,null,null,null,null,null,null,null,524]
[null,null,null,null,null,null,null,null,null,null,null,null,null,null,null,null,null,null,525]
[null,null,null,null,null,null,null,null,null,null,null,null,null,null,null,null,null,null,526]
[null,null,null,null,null,null,null,null,null,null,null,null,null,null,null,null,null,null,527]
[null,null,null,null,null,null,null,null,null,null,null,null,null,null,null,null,null,null,528]
[null,null,null,null,null,null,null,null,null,null,null,null,null,null,null,null,null,null,529]
[null,null,null,null,null,null,null,null,null,null,null,null,null,null,null,null,null,null,530]
[null,null,null,null,null,null,null,null,null,null,null,null,null,null,null,null,null,null,531]
[null,null,null,null,null,null,null,null,null,null,null,null,null,null,null,null,null,null,532]
[null,null,null,null,null,null,null,null,null,null,null,null,null,null,null,null,null,null,533]
[null,null,null,null,null,null,null,null,null,null,null,null,null,null,null,null,null,null,534]
[null,null,null,null,null,null,null,null,null,null,null,null,null,null,null,null,null,null,535]
[null,null,null,null,null,null,null,null,null,null,null,null,null,null,null,null,null,null,536]
[null,null,null,null,null,null,null,null,null,null,null,null,null,null,null,null,null,null,537]
[null,null,null,null,null,null,null,null,null,null,null,null,null,null,null,null,null,null,538]
[null,null,null,null,null,null,null,null,null,null,null,null,null,null,null,null,null,null,539]
[null,null,null,null,null,null,null,null,null,null,null,null,null,null,null,null,null,null,540]
[null,null,null,null,null,null,null,null,null,null,null,null,null,null,null,null,null,null,541]
[null,null,null,null,null,null,null,null,null,null,null,null,null,null,null,null,null,null,542]
[null,null,null,null,null,null,null,null,null,null,null,null,null,null,null,null,null,null,543]
[null,null,null,null,null,null,null,null,null,null,null,null,null,null,null,null,null,null,544]
[null,null,null,null,null,null,null,null,null,null,null,null,null,null,null,null,null,null,545]
[null,null,null,null,null,null,null,null,null,null,null,null,null,null,null,null,null,null,546]
[null,null,null,null,null,null,null,null,null,null,null,null,null,null,null,null,null,null,547]
[null,null,null,null,null,null,null,null,null,null,null,null,null,null,null,null,null,null,548]
[null,null,null,null,null,null,null,null,null,null,null,null,null,null,null,null,null,null,549]
[null,null,null,null,null,null,null,null,null,null,null,null,null,null,null,null,null,null,550]
[null,null,null,null,null,null,null,null,null,null,null,null,null,null,null,null,null,null,551]
[null,null,null,null,null,null,null,null,null,null,null,null,null,null,null,null,null,null,552]
[null,null,null,null,null,null,null,null,null,null,null,null,null,null,null,null,null,null,553]
[null,null,null,null,null,null,null,null,null,null,null,null,null,null,null,null,null,null,554]
[null,null,null,null,null,null,null,null,null,null,null,null,null,null,null,null,null,null,555]
[null,null,null,null,null,null,null,null,null,null,null,null,null,null,null,null,null,null,556]
[null,null,null,null,null,null,null,null,null,null,null,null,null,null,null,null,null,null,557]
[null,null,null,null,null,null,null,null,null,null,null,null,null,null,null,null,null,null,558]
[null,null,null,null,null,null,null,null,null,null,null,null,null,null,null,null,null,null,559]
[null,null,null,null,null,null,null,null,null,null,null,null,null,null,null,null,null,null,560]
[null,null,null,null,null,null,null,null,null,null,null,null,null,null,null,null,null,null,561]
[null,null,null,null,null,null,null,null,null,null,null,null,null,null,null,null,null,null,562]
[null,null,null,null,null,null,null,null,null,null,null,null,null,null,null,null,null,null,563]
[null,null,null,null,null,null,null,null,null,null,null,null,null,null,null,null,null,null,564]
[null,null,null,null,null,null,null,null,null,null,null,null,null,null,null,null,null,null,565]
[null,null,null,null,null,null,null,null,null,null,null,null,null,null,null,null,null,null,566]
[null,null,null,null,null,null,null,null,null,null,null,null,null,null,null,null,null,null,567]
[null,null,null,null,null,null,null,null,null,null,null,null,null,null,null,null,null,null,568]
[null,null,null,null,null,null,null,null,null,null,null,null,null,null,null,null,null,null,569]
[null,null,null,null,null,null,null,null,null,null,null,null,null,null,null,null,null,null,570]
[null,null,null,null,null,null,null,null,null,null,null,null,null,null,null,null,null,null,571]
[null,null,null,null,null,null,null,null,null,null,null,null,null,null,null,null,null,null,572]
[null,null,null,null,null,null,null,null,null,null,null,null,null,null,null,null,null,null,573]
[null,null,null,null,null,null,null,null,null,null,null,null,null,null,null,null,null,null,574]
[null,null,null,null,null,null,null,null,null,null,null,null,null,null,null,null,null,null,575]
[null,null,null,null,null,null,null,null,null,null,null,null,null,null,null,null,null,null,576]
[null,null,null,null,null,null,null,null,null,null,null,null,null,null,null,null,null,null,577]
[null,null,null,null,null,null,null,null,null,null,null,null,null,null,null,null,null,null,578]
[null,null,null,null,null,null,null,null,null,null,null,null,null,null,null,null,null,null,579]
[null,null,null,null,null,null,null,null,null,null,null,null,null,null,null,null,null,null,580]
[null,null,null,null,null,null,null,null,null,null,null,null,null,null,null,null,null,null,581]
[null,null,null,null,null,null,null,null,null,null,null,null,null,null,null,null,null,null,582]
[null,null,null,null,null,null,null,null,null,null,null,null,null,null,null,null,null,null,583]
[null,null,null,null,null,null,null,null,null,null,null,null,null,null,null,null,null,null,584]
[null,null,null,null,null,null,null,null,null,null,null,null,null,null,null,null,null,null,585]
[null,null,null,null,null,null,null,null,null,null,null,null,null,null,null,null,null,null,586]
[null,null,null,null,null,null,null,null,null,null,null,null,null,null,null,null,null,null,587]
[null,null,null,null,null,null,null,null,null,null,null,null,null,null,null,null,null,null,588]
[null,null,null,null,null,null,null,null,null,null,null,null,null,null,null,null,null,null,589]
[null,null,null,null,null,null,null,null,null,null,null,null,null,null,null,null,null,null,590]
[null,null,null,null,null,null,null,null,null,null,null,null,null,null,null,null,null,null,591]
[null,null,null,null,null,null,null,null,null,null,null,null,null,null,null,null,null,null,592]
[null,null,null,null,null,null,null,null,null,null,null,null,null,null,null,null,null,null,593]
[null,null,null,null,null,null,null,null,null,null,null,null,null,null,null,null,null,null,594]
[null,null,null,null,null,null,null,null,null,null,null,null,null,null,null,null,null,null,595]
[null,null,null,null,null,null,null,null,null,null,null,null,null,null,null,null,null,null,596]
[null,null,null,null,null,null,null,null,null,null,null,null,null,null,null,null,null,null,597]
[null,null,null,null,null,null,null,null,null,null,null,null,null,null,null,null,null,null,598]
[null,null,null,null,null,null,null,null,null,null,null,null,null,null,null,null,null,null,599]
[null,null,null,null,null,null,null,null,null,null,null,null,null,null,null,null,null,null,600]
[null,null,null,null,null,null,null,null,null,null,null,null,null,null,null,null,null,null,601]
[null,null,null,null,null,null,null,null,null,null,null,null,null,null,null,null,null,null,602]
[null,null,null,null,null,null,null,null,null,null,null,null,null,null,null,null,null,null,603]
[null,null,null,null,null,null,null,null,null,null,null,null,null,null,null,null,null,null,604]
[null,null,null,null,null,null,null,null,null,null,null,null,null,null,null,null,null,null,605]
[null,null,null,null,null,null,null,null,null,null,null,null,null,null,null,null,null,null,606]
[null,null,null,null,null,null,null,null,null,null,null,null,null,null,null,null,null,null,607]
[null,null,null,null,null,null,null,null,null,null,null,null,null,null,null,null,null,null,608]
[null,null,null,null,null,null,null,null,null,null,null,null,null,null,null,null,null,null,609]
[null,null,null,null,null,null,null,null,null,null,null,null,null,null,null,null,null,null,610]
[null,null,null,null,null,null,null,null,null,null,null,null,null,null,null,null,null,null,611]
[null,null,null,null,null,null,null,null,null,null,null,null,null,null,null,null,null,null,612]
[null,null,null,null,null,null,null,null,null,null,null,null,null,null,null,null,null,null,613]
[null,null,null,null,null,null,null,null,null,null,null,null,null,null,null,null,null,null,614]
[null,null,null,null,null,null,null,null,null,null,null,null,null,null,null,null,null,null,615]
[null,null,null,null,null,null,null,null,null,null,null,null,null,null,null,null,null,null,616]
[null,null,null,null,null,null,null,null,null,null,null,null,null,null,null,null,null,null,617]
[null,null,null,null,null,null,null,null,null,null,null,null,null,null,null,null,null,null,618]
[null,null,null,null,null,null,null,null,null,null,null,null,null,null,null,null,null,null,619]
[null,null,null,null,null,null,null,null,null,null,null,null,null,null,null,null,null,null,620]
[null,null,null,null,null,null,null,null,null,null,null,null,null,null,null,null,null,null,621]
[null,null,null,null,null,null,null,null,null,null,null,null,null,null,null,null,null,null,622]
[null,null,null,null,null,null,null,null,null,null,null,null,null,null,null,null,null,null,623]
[null,null,null,null,null,null,null,null,null,null,null,null,null,null,null,null,null,null,624]
[null,null,null,null,null,null,null,null,null,null,null,null,null,null,null,null,null,null,625]
[null,null,null,null,null,null,null,null,null,null,null,null,null,null,null,null,null,null,626]
[null,null,null,null,null,null,null,null,null,null,null,null,null,null,null,null,null,null,627]
[null,null,null,null,null,null,null,null,null,null,null,null,null,null,null,null,null,null,628]
[null,null,null,null,null,null,null,null,null,null,null,null,null,null,null,null,null,null,629]
[null,null,null,null,null,null,null,null,null,null,null,null,null,null,null,null,null,null,630]
[null,null,null,null,null,null,null,null,null,null,null,null,null,null,null,null,null,null,631]
[null,null,null,null,null,null,null,null,null,null,null,null,null,null,null,null,null,null,632]
[null,null,null,null,null,null,null,null,null,null,null,null,null,null,null,null,null,null,633]
[null,null,null,null,null,null,null,null,null,null,null,null,null,null,null,null,null,null,634]
[null,null,null,null,null,null,null,null,null,null,null,null,null,null,null,null,null,null,635]
[null,null,null,null,null,null,null,null,null,null,null,null,null,null,null,null,null,null,636]
[null,null,null,null,null,null,null,null,null,null,null,null,null,null,null,null,null,null,637]
[null,null,null,null,null,null,null,null,null,null,null,null,null,null,null,null,null,null,638]
[null,null,null,null,null,null,null,null,null,null,null,null,null,null,null,null,null,null,639]
[null,null,null,null,null,null,null,null,null,null,null,null,null,null,null,null,null,null,640]
[null,null,null,null,null,null,null,null,null,null,null,null,null,null,null,null,null,null,641]
[null,null,null,null,null,null,null,null,null,null,null,null,null,null,null,null,null,null,642]
[null,null,null,null,null,null,null,null,null,null,null,null,null,null,null,null,null,null,643]
[null,null,null,null,null,null,null,null,null,null,null,null,null,null,null,null,null,null,644]
[null,null,null,null,null,null,null,null,null,null,null,null,null,null,null,null,null,null,645]
[null,null,null,null,null,null,null,null,null,null,null,null,null,null,null,null,null,null,646]
[null,null,null,null,null,null,null,null,null,null,null,null,null,null,null,null,null,null,647]
[null,null,null,null,null,null,null,null,null,null,null,null,null,null,null,null,null,null,648]
[null,null,null,null,null,null,null,null,null,null,null,null,null,null,null,null,null,null,649]
[null,null,null,null,null,null,null,null,null,null,null,null,null,null,null,null,null,null,650]
[null,null,null,null,null,null,null,null,null,null,null,null,null,null,null,null,null,null,651]
[null,null,null,null,null,null,null,null,null,null,null,null,null,null,null,null,null,null,652]
[null,null,null,null,null,null,null,null,null,null,null,null,null,null,null,null,null,null,653]
[null,null,null,null,null,null,null,null,null,null,null,null,null,null,null,null,null,null,654]
[null,null,null,null,null,null,null,null,null,null,null,null,null,null,null,null,null,null,655]
[null,null,null,null,null,null,null,null,null,null,null,null,null,null,null,null,null,null,656]
[null,null,null,null,null,null,null,null,null,null,null,null,null,null,null,null,null,null,657]
[null,null,null,null,null,null,null,null,null,null,null,null,null,null,null,null,null,null,658]
[null,null,null,null,null,null,null,null,null,null,null,null,null,null,null,null,null,null,659]
[null,null,null,null,null,null,null,null,null,null,null,null,null,null,null,null,null,null,660]
[null,null,null,null,null,null,null,null,null,null,null,null,null,null,null,null,null,null,661]
[null,null,null,null,null,null,null,null,null,null,null,null,null,null,null,null,null,null,662]
[null,null,null,null,null,null,null,null,null,null,null,null,null,null,null,null,null,null,663]
[null,null,null,null,null,null,null,null,null,null,null,null,null,null,null,null,null,null,664]
[null,null,null,null,null,null,null,null,null,null,null,null,null,null,null,null,null,null,665]
[null,null,null,null,null,null,null,null,null,null,null,null,null,null,null,null,null,null,666]
[null,null,null,null,null,null,null,null,null,null,null,null,null,null,null,null,null,null,667]
[null,null,null,null,null,null,null,null,null,null,null,null,null,null,null,null,null,null,668]
[null,null,null,null,null,null,null,null,null,null,null,null,null,null,null,null,null,null,669]
[null,null,null,null,null,null,null,null,null,null,null,null,null,null,null,null,null,null,670]
[null,null,null,null,null,null,null,null,null,null,null,null,null,null,null,null,null,null,671]
[null,null,null,null,null,null,null,null,null,null,null,null,null,null,null,null,null,null,672]
[null,null,null,null,null,null,null,null,null,null,null,null,null,null,null,null,null,null,673]
[null,null,null,null,null,null,null,null,null,null,null,null,null,null,null,null,null,null,674]
[null,null,null,null,null,null,null,null,null,null,null,null,null,null,null,null,null,null,675]
[null,null,null,null,null,null,null,null,null,null,null,null,null,null,null,null,null,null,676]
[null,null,null,null,null,null,null,null,null,null,null,null,null,null,null,null,null,null,677]
[null,null,null,null,null,null,null,null,null,null,null,null,null,null,null,null,null,null,678]
[null,null,null,null,null,null,null,null,null,null,null,null,null,null,null,null,null,null,679]
[null,null,null,null,null,null,null,null,null,null,null,null,null,null,null,null,null,null,680]
[null,null,null,null,null,null,null,null,null,null,null,null,null,null,null,null,null,null,681]
[null,null,null,null,null,null,null,null,null,null,null,null,null,null,null,null,null,null,682]
[null,null,null,null,null,null,null,null,null,null,null,null,null,null,null,null,null,null,683]
[null,null,null,null,null,null,null,null,null,null,null,null,null,null,null,null,null,null,684]
[null,null,null,null,null,null,null,null,null,null,null,null,null,null,null,null,null,null,685]
[null,null,null,null,null,null,null,null,null,null,null,null,null,null,null,null,null,null,686]
[null,null,null,null,null,null,null,null,null,null,null,null,null,null,null,null,null,null,687]
[null,null,null,null,null,null,null,null,null,null,null,null,null,null,null,null,null,null,688]
[null,null,null,null,null,null,null,null,null,null,null,null,null,null,null,null,null,null,689]
[null,null,null,null,null,null,null,null,null,null,null,null,null,null,null,null,null,null,690]
[null,null,null,null,null,null,null,null,null,null,null,null,null,null,null,null,null,null,691]
[null,null,null,null,null,null,null,null,null,null,null,null,null,null,null,null,null,null,692]
[null,null,null,null,null,null,null,null,null,null,null,null,null,null,null,null,null,null,693]
[null,null,null,null,null,null,null,null,null,null,null,null,null,null,null,null,null,null,694]
[null,null,null,null,null,null,null,null,null,null,null,null,null,null,null,null,null,null,695]
[null,null,null,null,null,null,null,null,null,null,null,null,null,null,null,null,null,null,696]
[null,null,null,null,null,null,null,null,null,null,null,null,null,null,null,null,null,null,697]
[null,null,null,null,null,null,null,null,null,null,null,null,null,null,null,null,null,null,698]
[null,null,null,null,null,null,null,null,null,null,null,null,null,null,null,null,null,null,699]
[null,null,null,null,null,null,null,null,null,null,null,null,null,null,null,null,null,null,700]
[null,null,null,null,null,null,null,null,null,null,null,null,null,null,null,null,null,null,701]
[null,null,null,null,null,null,null,null,null,null,null,null,null,null,null,null,null,null,702]
[null,null,null,null,null,null,null,null,null,null,null,null,null,null,null,null,null,null,703]
[null,null,null,null,null,null,null,null,null,null,null,null,null,null,null,null,null,null,704]
[null,null,null,null,null,null,null,null,null,null,null,null,null,null,null,null,null,null,705]
[null,null,null,null,null,null,null,null,null,null,null,null,null,null,null,null,null,null,706]
[null,null,null,null,null,null,null,null,null,null,null,null,null,null,null,null,null,null,707]
[null,null,null,null,null,null,null,null,null,null,null,null,null,null,null,null,null,null,708]
[null,null,null,null,null,null,null,null,null,null,null,null,null,null,null,null,null,null,709]
[null,null,null,null,null,null,null,null,null,null,null,null,null,null,null,null,null,null,710]
[null,null,null,null,null,null,null,null,null,null,null,null,null,null,null,null,null,null,711]
[null,null,null,null,null,null,null,null,null,null,null,null,null,null,null,null,null,null,712]
[null,null,null,null,null,null,null,null,null,null,null,null,null,null,null,null,null,null,713]
[null,null,null,null,null,null,null,null,null,null,null,null,null,null,null,null,null,null,714]
[null,null,null,null,null,null,null,null,null,null,null,null,null,null,null,null,null,null,715]
[null,null,null,null,null,null,null,null,null,null,null,null,null,null,null,null,null,null,716]
[null,null,null,null,null,null,null,null,null,null,null,null,null,null,null,null,null,null,717]
[null,null,null,null,null,null,null,null,null,null,null,null,null,null,null,null,null,null,718]
[null,null,null,null,null,null,null,null,null,null,null,null,null,null,null,null,null,null,719]
[null,null,null,null,null,null,null,null,null,null,null,null,null,null,null,null,null,null,720]
[null,null,null,null,null,null,null,null,null,null,null,null,null,null,null,null,null,null,721]
[null,null,null,null,null,null,null,null,null,null,null,null,null,null,null,null,null,null,722]
[null,null,null,null,null,null,null,null,null,null,null,null,null,null,null,null,null,null,723]
[null,null,null,null,null,null,null,null,null,null,null,null,null,null,null,null,null,null,724]
[null,null,null,null,null,null,null,null,null,null,null,null,null,null,null,null,null,null,725]
[null,null,null,null,null,null,null,null,null,null,null,null,null,null,null,null,null,null,726]
[null,null,null,null,null,null,null,null,null,null,null,null,null,null,null,null,null,null,727]
[null,null,null,null,null,null,null,null,null,null,null,null,null,null,null,null,null,null,728]
[null,null,null,null,null,null,null,null,null,null,null,null,null,null,null,null,null,null,729]
[null,null,null,null,null,null,null,null,null,null,null,null,null,null,null,null,null,null,730]
[null,null,null,null,null,null,null,null,null,null,null,null,null,null,null,null,null,null,731]
[null,null,null,null,null,null,null,null,null,null,null,null,null,null,null,null,null,null,732]
[null,null,null,null,null,null,null,null,null,null,null,null,null,null,null,null,null,null,733]
[null,null,null,null,null,null,null,null,null,null,null,null,null,null,null,null,null,null,734]
[null,null,null,null,null,null,null,null,null,null,null,null,null,null,null,null,null,null,735]
[null,null,null,null,null,null,null,null,null,null,null,null,null,null,null,null,null,null,736]
[null,null,null,null,null,null,null,null,null,null,null,null,null,null,null,null,null,null,737]
[null,null,null,null,null,null,null,null,null,null,null,null,null,null,null,null,null,null,738]
[null,null,null,null,null,null,null,null,null,null,null,null,null,null,null,null,null,null,739]
[null,null,null,null,null,null,null,null,null,null,null,null,null,null,null,null,null,null,740]
[null,null,null,null,null,null,null,null,null,null,null,null,null,null,null,null,null,null,741]
[null,null,null,null,null,null,null,null,null,null,null,null,null,null,null,null,null,null,742]
[null,null,null,null,null,null,null,null,null,null,null,null,null,null,null,null,null,null,743]
[null,null,null,null,null,null,null,null,null,null,null,null,null,null,null,null,null,null,744]
[null,null,null,null,null,null,null,null,null,null,null,null,null,null,null,null,null,null,745]
[null,null,null,null,null,null,null,null,null,null,null,null,null,null,null,null,null,null,746]
[null,null,null,null,null,null,null,null,null,null,null,null,null,null,null,null,null,null,747]
[null,null,null,null,null,null,null,null,null,null,null,null,null,null,null,null,null,null,748]
[null,null,null,null,null,null,null,null,null,null,null,null,null,null,null,null,null,null,749]
[null,null,null,null,null,null,null,null,null,null,null,null,null,null,null,null,null,null,750]
[null,null,null,null,null,null,null,null,null,null,null,null,null,null,null,null,null,null,751]
[null,null,null,null,null,null,null,null,null,null,null,null,null,null,null,null,null,null,752]
[null,null,null,null,null,null,null,null,null,null,null,null,null,null,null,null,null,null,753]
[null,null,null,null,null,null,null,null,null,null,null,null,null,null,null,null,null,null,754]
[null,null,null,null,null,null,null,null,null,null,null,null,null,null,null,null,null,null,755]
[null,null,null,null,null,null,null,null,null,null,null,null,null,null,null,null,null,null,756]
[null,null,null,null,null,null,null,null,null,null,null,null,null,null,null,null,null,null,757]
[null,null,null,null,null,null,null,null,null,null,null,null,null,null,null,null,null,null,758]
[null,null,null,null,null,null,null,null,null,null,null,null,null,null,null,null,null,null,759]
[null,null,null,null,null,null,null,null,null,null,null,null,null,null,null,null,null,null,760]
[null,null,null,null,null,null,null,null,null,null,null,null,null,null,null,null,null,null,761]
[null,null,null,null,null,null,null,null,null,null,null,null,null,null,null,null,null,null,762]
[null,null,null,null,null,null,null,null,null,null,null,null,null,null,null,null,null,null,763]
[null,null,null,null,null,null,null,null,null,null,null,null,null,null,null,null,null,null,764]
[null,null,null,null,null,null,null,null,null,null,null,null,null,null,null,null,null,null,765]
[null,null,null,null,null,null,null,null,null,null,null,null,null,null,null,null,null,null,766]
[null,null,null,null,null,null,null,null,null,null,null,null,null,null,null,null,null,null,767]
[null,null,null,null,null,null,null,null,null,null,null,null,null,null,null,null,null,null,768]
[null,null,null,null,null,null,null,null,null,null,null,null,null,null,null,null,null,null,769]
[null,null,null,null,null,null,null,null,null,null,null,null,null,null,null,null,null,null,770]
[null,null,null,null,null,null,null,null,null,null,null,null,null,null,null,null,null,null,771]
[null,null,null,null,null,null,null,null,null,null,null,null,null,null,null,null,null,null,772]
[null,null,null,null,null,null,null,null,null,null,null,null,null,null,null,null,null,null,773]
[null,null,null,null,null,null,null,null,null,null,null,null,null,null,null,null,null,null,774]
[null,null,null,null,null,null,null,null,null,null,null,null,null,null,null,null,null,null,775]
[null,null,null,null,null,null,null,null,null,null,null,null,null,null,null,null,null,null,776]
[null,null,null,null,null,null,null,null,null,null,null,null,null,null,null,null,null,null,777]
[null,null,null,null,null,null,null,null,null,null,null,null,null,null,null,null,null,null,778]
[null,null,null,null,null,null,null,null,null,null,null,null,null,null,null,null,null,null,779]
[null,null,null,null,null,null,null,null,null,null,null,null,null,null,null,null,null,null,780]
[null,null,null,null,null,null,null,null,null,null,null,null,null,null,null,null,null,null,781]
[null,null,null,null,null,null,null,null,null,null,null,null,null,null,null,null,null,null,782]
[null,null,null,null,null,null,null,null,null,null,null,null,null,null,null,null,null,null,783]
[null,null,null,null,null,null,null,null,null,null,null,null,null,null,null,null,null,null,784]
[null,null,null,null,null,null,null,null,null,null,null,null,null,null,null,null,null,null,785]
[null,null,null,null,null,null,null,null,null,null,null,null,null,null,null,null,null,null,786]
[null,null,null,null,null,null,null,null,null,null,null,null,null,null,null,null,null,null,787]
[null,null,null,null,null,null,null,null,null,null,null,null,null,null,null,null,null,null,788]
[null,null,null,null,null,null,null,null,null,null,null,null,null,null,null,null,null,null,789]
[null,null,null,null,null,null,null,null,null,null,null,null,null,null,null,null,null,null,790]
[null,null,null,null,null,null,null,null,null,null,null,null,null,null,null,null,null,null,791]
[null,null,null,null,null,null,null,null,null,null,null,null,null,null,null,null,null,null,792]
[null,null,null,null,null,null,null,null,null,null,null,null,null,null,null,null,null,null,793]
[null,null,null,null,null,null,null,null,null,null,null,null,null,null,null,null,null,null,794]
[null,null,null,null,null,null,null,null,null,null,null,null,null,null,null,null,null,null,795]
[null,null,null,null,null,null,null,null,null,null,null,null,null,null,null,null,null,null,796]
[null,null,null,null,null,null,null,null,null,null,null,null,null,null,null,null,null,null,797]
[null,null,null,null,null,null,null,null,null,null,null,null,null,null,null,null,null,null,798]
[null,null,null,null,null,null,null,null,null,null,null,null,null,null,null,null,null,null,799]
[null,null,null,null,null,null,null,null,null,null,null,null,null,null,null,null,null,null,800]
[null,null,null,null,null,null,null,null,null,null,null,null,null,null,null,null,null,null,801]
[null,null,null,null,null,null,null,null,null,null,null,null,null,null,null,null,null,null,802]
[null,null,null,null,null,null,null,null,null,null,null,null,null,null,null,null,null,null,803]
[null,null,null,null,null,null,null,null,null,null,null,null,null,null,null,null,null,null,804]
[null,null,null,null,null,null,null,null,null,null,null,null,null,null,null,null,null,null,805]
[null,null,null,null,null,null,null,null,null,null,null,null,null,null,null,null,null,null,806]
[null,null,null,null,null,null,null,null,null,null,null,null,null,null,null,null,null,null,807]
[null,null,null,null,null,null,null,null,null,null,null,null,null,null,null,null,null,null,808]
[null,null,null,null,null,null,null,null,null,null,null,null,null,null,null,null,null,null,809]
[null,null,null,null,null,null,null,null,null,null,null,null,null,null,null,null,null,null,810]
[null,null,null,null,null,null,null,null,null,null,null,null,null,null,null,null,null,null,811]
[null,null,null,null,null,null,null,null,null,null,null,null,null,null,null,null,null,null,812]
[null,null,null,null,null,null,null,null,null,null,null,null,null,null,null,null,null,null,813]
[null,null,null,null,null,null,null,null,null,null,null,null,null,null,null,null,null,null,814]
[null,null,null,null,null,null,null,null,null,null,null,null,null,null,null,null,null,null,815]
[null,null,null,null,null,null,null,null,null,null,null,null,null,null,null,null,null,null,816]
[null,null,null,null,null,null,null,null,null,null,null,null,null,null,null,null,null,null,817]
[null,null,null,null,null,null,null,null,null,null,null,null,null,null,null,null,null,null,818]
[null,null,null,null,null,null,null,null,null,null,null,null,null,null,null,null,null,null,819]
[null,null,null,null,null,null,null,null,null,null,null,null,null,null,null,null,null,null,820]
[null,null,null,null,null,null,null,null,null,null,null,null,null,null,null,null,null,null,821]
[null,null,null,null,null,null,null,null,null,null,null,null,null,null,null,null,null,null,822]
[null,null,null,null,null,null,null,null,null,null,null,null,null,null,null,null,null,null,823]
[null,null,null,null,null,null,null,null,null,null,null,null,null,null,null,null,null,null,824]
[null,null,null,null,null,null,null,null,null,null,null,null,null,null,null,null,null,null,825]
[null,null,null,null,null,null,null,null,null,null,null,null,null,null,null,null,null,null,826]
[null,null,null,null,null,null,null,null,null,null,null,null,null,null,null,null,null,null,827]
[null,null,null,null,null,null,null,null,null,null,null,null,null,null,null,null,null,null,828]
[null,null,null,null,null,null,null,null,null,null,null,null,null,null,null,null,null,null,829]
[null,null,null,null,null,null,null,null,null,null,null,null,null,null,null,null,null,null,830]
[null,null,null,null,null,null,null,null,null,null,null,null,null,null,null,null,null,null,831]
[null,null,null,null,null,null,null,null,null,null,null,null,null,null,null,null,null,null,832]
[null,null,null,null,null,null,null,null,null,null,null,null,null,null,null,null,null,null,833]
[null,null,null,null,null,null,null,null,null,null,null,null,null,null,null,null,null,null,834]
[null,null,null,null,null,null,null,null,null,null,null,null,null,null,null,null,null,null,835]
[null,null,null,null,null,null,null,null,null,null,null,null,null,null,null,null,null,null,836]
[null,null,null,null,null,null,null,null,null,null,null,null,null,null,null,null,null,null,837]
[null,null,null,null,null,null,null,null,null,null,null,null,null,null,null,null,null,null,838]
[null,null,null,null,null,null,null,null,null,null,null,null,null,null,null,null,null,null,839]
[null,null,null,null,null,null,null,null,null,null,null,null,null,null,null,null,null,null,840]
[null,null,null,null,null,null,null,null,null,null,null,null,null,null,null,null,null,null,841]
[null,null,null,null,null,null,null,null,null,null,null,null,null,null,null,null,null,null,842]
[null,null,null,null,null,null,null,null,null,null,null,null,null,null,null,null,null,null,843]
[null,null,null,null,null,null,null,null,null,null,null,null,null,null,null,null,null,null,844]
[null,null,null,null,null,null,null,null,null,null,null,null,null,null,null,null,null,null,845]
[null,null,null,null,null,null,null,null,null,null,null,null,null,null,null,null,null,null,846]
[null,null,null,null,null,null,null,null,null,null,null,null,null,null,null,null,null,null,847]
[null,null,null,null,null,null,null,null,null,null,null,null,null,null,null,null,null,null,848]
[null,null,null,null,null,null,null,null,null,null,null,null,null,null,null,null,null,null,849]
[null,null,null,null,null,null,null,null,null,null,null,null,null,null,null,null,null,null,850]
[null,null,null,null,null,null,null,null,null,null,null,null,null,null,null,null,null,null,851]
[null,null,null,null,null,null,null,null,null,null,null,null,null,null,null,null,null,null,852]
[null,null,null,null,null,null,null,null,null,null,null,null,null,null,null,null,null,null,853]
[null,null,null,null,null,null,null,null,null,null,null,null,null,null,null,null,null,null,854]
[null,null,null,null,null,null,null,null,null,null,null,null,null,null,null,null,null,null,855]
[null,null,null,null,null,null,null,null,null,null,null,null,null,null,null,null,null,null,856]
[null,null,null,null,null,null,null,null,null,null,null,null,null,null,null,null,null,null,857]
[null,null,null,null,null,null,null,null,null,null,null,null,null,null,null,null,null,null,858]
[null,null,null,null,null,null,null,null,null,null,null,null,null,null,null,null,null,null,859]
[null,null,null,null,null,null,null,null,null,null,null,null,null,null,null,null,null,null,860]
[null,null,null,null,null,null,null,null,null,null,null,null,null,null,null,null,null,null,861]
[null,null,null,null,null,null,null,null,null,null,null,null,null,null,null,null,null,null,862]
[null,null,null,null,null,null,null,null,null,null,null,null,null,null,null,null,null,null,863]
[null,null,null,null,null,null,null,null,null,null,null,null,null,null,null,null,null,null,864]
[null,null,null,null,null,null,null,null,null,null,null,null,null,null,null,null,null,null,865]
[null,null,null,null,null,null,null,null,null,null,null,null,null,null,null,null,null,null,866]
[null,null,null,null,null,null,null,null,null,null,null,null,null,null,null,null,null,null,867]
[null,null,null,null,null,null,null,null,null,null,null,null,null,null,null,null,null,null,868]
[null,null,null,null,null,null,null,null,null,null,null,null,null,null,null,null,null,null,869]
[null,null,null,null,null,null,null,null,null,null,null,null,null,null,null,null,null,null,870]
[null,null,null,null,null,null,null,null,null,null,null,null,null,null,null,null,null,null,871]
[null,null,null,null,null,null,null,null,null,null,null,null,null,null,null,null,null,null,872]
[null,null,null,null,null,null,null,null,null,null,null,null,null,null,null,null,null,null,873]
[null,null,null,null,null,null,null,null,null,null,null,null,null,null,null,null,null,null,874]
[null,null,null,null,null,null,null,null,null,null,null,null,null,null,null,null,null,null,875]
[null,null,null,null,null,null,null,null,null,null,null,null,null,null,null,null,null,null,876]
[null,null,null,null,null,null,null,null,null,null,null,null,null,null,null,null,null,null,877]
[null,null,null,null,null,null,null,null,null,null,null,null,null,null,null,null,null,null,878]
[null,null,null,null,null,null,null,null,null,null,null,null,null,null,null,null,null,null,879]
[null,null,null,null,null,null,null,null,null,null,null,null,null,null,null,null,null,null,880]
[null,null,null,null,null,null,null,null,null,null,null,null,null,null,null,null,null,null,881]
[null,null,null,null,null,null,null,null,null,null,null,null,null,null,null,null,null,null,882]
[null,null,null,null,null,null,null,null,null,null,null,null,null,null,null,null,null,null,883]
[null,null,null,null,null,null,null,null,null,null,null,null,null,null,null,null,null,null,884]
[null,null,null,null,null,null,null,null,null,null,null,null,null,null,null,null,null,null,885]
[null,null,null,null,null,null,null,null,null,null,null,null,null,null,null,null,null,null,886]
[null,null,null,null,null,null,null,null,null,null,null,null,null,null,null,null,null,null,887]
[null,null,null,null,null,null,null,null,null,null,null,null,null,null,null,null,null,null,888]
[null,null,null,null,null,null,null,null,null,null,null,null,null,null,null,null,null,null,889]
[null,null,null,null,null,null,null,null,null,null,null,null,null,null,null,null,null,null,890]
[null,null,null,null,null,null,null,null,null,null,null,null,null,null,null,null,null,null,891]
[null,null,null,null,null,null,null,null,null,null,null,null,null,null,null,null,null,null,892]
[null,null,null,null,null,null,null,null,null,null,null,null,null,null,null,null,null,null,893]
[null,null,null,null,null,null,null,null,null,null,null,null,null,null,null,null,null,null,894]
[null,null,null,null,null,null,null,null,null,null,null,null,null,null,null,null,null,null,895]
[null,null,null,null,null,null,null,null,null,null,null,null,null,null,null,null,null,null,896]
[null,null,null,null,null,null,null,null,null,null,null,null,null,null,null,null,null,null,897]
[null,null,null,null,null,null,null,null,null,null,null,null,null,null,null,null,null,null,898]
[null,null,null,null,null,null,null,null,null,null,null,null,null,null,null,null,null,null,899]
[null,null,null,null,null,null,null,null,null,null,null,null,null,null,null,null,null,null,900]
[null,null,null,null,null,null,null,null,null,null,null,null,null,null,null,null,null,null,901]
[null,null,null,null,null,null,null,null,null,null,null,null,null,null,null,null,null,null,902]
[null,null,null,null,null,null,null,null,null,null,null,null,null,null,null,null,null,null,903]
[null,null,null,null,null,null,null,null,null,null,null,null,null,null,null,null,null,null,904]
[null,null,null,null,null,null,null,null,null,null,null,null,null,null,null,null,null,null,905]
[null,null,null,null,null,null,null,null,null,null,null,null,null,null,null,null,null,null,906]
[null,null,null,null,null,null,null,null,null,null,null,null,null,null,null,null,null,null,907]
[null,null,null,null,null,null,null,null,null,null,null,null,null,null,null,null,null,null,908]
[null,null,null,null,null,null,null,null,null,null,null,null,null,null,null,null,null,null,909]
[null,null,null,null,null,null,null,null,null,null,null,null,null,null,null,null,null,null,910]
[null,null,null,null,null,null,null,null,null,null,null,null,null,null,null,null,null,null,911]
[null,null,null,null,null,null,null,null,null,null,null,null,null,null,null,null,null,null,912]
[null,null,null,null,null,null,null,null,null,null,null,null,null,null,null,null,null,null,913]
[null,null,null,null,null,null,null,null,null,null,null,null,null,null,null,null,null,null,914]
[null,null,null,null,null,null,null,null,null,null,null,null,null,null,null,null,null,null,915]
[null,null,null,null,null,null,null,null,null,null,null,null,null,null,null,null,null,null,916]
[null,null,null,null,null,null,null,null,null,null,null,null,null,null,null,null,null,null,917]
[null,null,null,null,null,null,null,null,null,null,null,null,null,null,null,null,null,null,918]
[null,null,null,null,null,null,null,null,null,null,null,null,null,null,null,null,null,null,919]
[null,null,null,null,null,null,null,null,null,null,null,null,null,null,null,null,null,null,920]
[null,null,null,null,null,null,null,null,null,null,null,null,null,null,null,null,null,null,921]
[null,null,null,null,null,null,null,null,null,null,null,null,null,null,null,null,null,null,922]
[null,null,null,null,null,null,null,null,null,null,null,null,null,null,null,null,null,null,923]
[null,null,null,null,null,null,null,null,null,null,null,null,null,null,null,null,null,null,924]
[null,null,null,null,null,null,null,null,null,null,null,null,null,null,null,null,null,null,925]
[null,null,null,null,null,null,null,null,null,null,null,null,null,null,null,null,null,null,926]
[null,null,null,null,null,null,null,null,null,null,null,null,null,null,null,null,null,null,927]
[null,null,null,null,null,null,null,null,null,null,null,null,null,null,null,null,null,null,928]
[null,null,null,null,null,null,null,null,null,null,null,null,null,null,null,null,null,null,929]
[null,null,null,null,null,null,null,null,null,null,null,null,null,null,null,null,null,null,930]
[null,null,null,null,null,null,null,null,null,null,null,null,null,null,null,null,null,null,931]
[null,null,null,null,null,null,null,null,null,null,null,null,null,null,null,null,null,null,932]
[null,null,null,null,null,null,null,null,null,null,null,null,null,null,null,null,null,null,933]
[null,null,null,null,null,null,null,null,null,null,null,null,null,null,null,null,null,null,934]
[null,null,null,null,null,null,null,null,null,null,null,null,null,null,null,null,null,null,935]
[null,null,null,null,null,null,null,null,null,null,null,null,null,null,null,null,null,null,936]
[null,null,null,null,null,null,null,null,null,null,null,null,null,null,null,null,null,null,937]
[null,null,null,null,null,null,null,null,null,null,null,null,null,null,null,null,null,null,938]
[null,null,null,null,null,null,null,null,null,null,null,null,null,null,null,null,null,null,939]
[null,null,null,null,null,null,null,null,null,null,null,null,null,null,null,null,null,null,940]
[null,null,null,null,null,null,null,null,null,null,null,null,null,null,null,null,null,null,941]
[null,null,null,null,null,null,null,null,null,null,null,null,null,null,null,null,null,null,942]
[null,null,null,null,null,null,null,null,null,null,null,null,null,null,null,null,null,null,943]
[null,null,null,null,null,null,null,null,null,null,null,null,null,null,null,null,null,null,944]
[null,null,null,null,null,null,null,null,null,null,null,null,null,null,null,null,null,null,945]
[null,null,null,null,null,null,null,null,null,null,null,null,null,null,null,null,null,null,946]
[null,null,null,null,null,null,null,null,null,null,null,null,null,null,null,null,null,null,947]
[null,null,null,null,null,null,null,null,null,null,null,null,null,null,null,null,null,null,948]
[null,null,null,null,null,null,null,null,null,null,null,null,null,null,null,null,null,null,949]
[null,null,null,null,null,null,null,null,null,null,null,null,null,null,null,null,null,null,950]
[null,null,null,null,null,null,null,null,null,null,null,null,null,null,null,null,null,null,951]
[null,null,null,null,null,null,null,null,null,null,null,null,null,null,null,null,null,null,952]
[null,null,null,null,null,null,null,null,null,null,null,null,null,null,null,null,null,null,953]
[null,null,null,null,null,null,null,null,null,null,null,null,null,null,null,null,null,null,954]
[null,null,null,null,null,null,null,null,null,null,null,null,null,null,null,null,null,null,955]
[null,null,null,null,null,null,null,null,null,null,null,null,null,null,null,null,null,null,956]
[null,null,null,null,null,null,null,null,null,null,null,null,null,null,null,null,null,null,957]
[null,null,null,null,null,null,null,null,null,null,null,null,null,null,null,null,null,null,958]
[null,null,null,null,null,null,null,null,null,null,null,null,null,null,null,null,null,null,959]
[null,null,null,null,null,null,null,null,null,null,null,null,null,null,null,null,null,null,960]
[null,null,null,null,null,null,null,null,null,null,null,null,null,null,null,null,null,null,961]
[null,null,null,null,null,null,null,null,null,null,null,null,null,null,null,null,null,null,962]
[null,null,null,null,null,null,null,null,null,null,null,null,null,null,null,null,null,null,963]
[null,null,null,null,null,null,null,null,null,null,null,null,null,null,null,null,null,null,964]
[null,null,null,null,null,null,null,null,null,null,null,null,null,null,null,null,null,null,965]
[null,null,null,null,null,null,null,null,null,null,null,null,null,null,null,null,null,null,966]
[null,null,null,null,null,null,null,null,null,null,null,null,null,null,null,null,null,null,967]
[null,null,null,null,null,null,null,null,null,null,null,null,null,null,null,null,null,null,968]
[null,null,null,null,null,null,null,null,null,null,null,null,null,null,null,null,null,null,969]
[null,null,null,null,null,null,null,null,null,null,null,null,null,null,null,null,null,null,970]
[null,null,null,null,null,null,null,null,null,null,null,null,null,null,null,null,null,null,971]
[null,null,null,null,null,null,null,null,null,null,null,null,null,null,null,null,null,null,972]
[null,null,null,null,null,null,null,null,null,null,null,null,null,null,null,null,null,null,973]
[null,null,null,null,null,null,null,null,null,null,null,null,null,null,null,null,null,null,974]
[null,null,null,null,null,null,null,null,null,null,null,null,null,null,null,null,null,null,975]
[null,null,null,null,null,null,null,null,null,null,null,null,null,null,null,null,null,null,976]
[null,null,null,null,null,null,null,null,null,null,null,null,null,null,null,null,null,null,977]
[null,null,null,null,null,null,null,null,null,null,null,null,null,null,null,null,null,null,978]
[null,null,null,null,null,null,null,null,null,null,null,null,null,null,null,null,null,null,979]
[null,null,null,null,null,null,null,null,null,null,null,null,null,null,null,null,null,null,980]
[null,null,null,null,null,null,null,null,null,null,null,null,null,null,null,null,null,null,981]
[null,null,null,null,null,null,null,null,null,null,null,null,null,null,null,null,null,null,982]
[null,null,null,null,null,null,null,null,null,null,null,null,null,null,null,null,null,null,983]
[null,null,null,null,null,null,null,null,null,null,null,null,null,null,null,null,null,null,984]
[null,null,null,null,null,null,null,null,null,null,null,null,null,null,null,null,null,null,985]
[null,null,null,null,null,null,null,null,null,null,null,null,null,null,null,null,null,null,986]
[null,null,null,null,null,null,null,null,null,null,null,null,null,null,null,null,null,null,987]
[null,null,null,null,null,null,null,null,null,null,null,null,null,null,null,null,null,null,988]
[null,null,null,null,null,null,null,null,null,null,null,null,null,null,null,null,null,null,989]
[null,null,null,null,null,null,null,null,null,null,null,null,null,null,null,null,null,null,990]
[null,null,null,null,null,null,null,null,null,null,null,null,null,null,null,null,null,null,991]
[null,null,null,null,null,null,null,null,null,null,null,null,null,null,null,null,null,null,992]
[null,null,null,null,null,null,null,null,null,null,null,null,null,null,null,null,null,null,993]
[null,null,null,null,null,null,null,null,null,null,null,null,null,null,null,null,null,null,994]
[null,null,null,null,null,null,null,null,null,null,null,null,null,null,null,null,null,null,995]
[null,null,null,null,null,null,null,null,null,null,null,null,null,null,null,null,null,null,996]
[null,null,null,null,null,null,null,null,null,null,null,null,null,null,null,null,null,null,997]
[null,null,null,null,null,null,null,null,null,null,null,null,null,null,null,null,null,null,998]
[null,null,null,null,null,null,null,null,null,null,null,null,null,null,null,null,null,null,999]
[null,null,null,null,null,null,null,null,null,null,null,null,null,null,null,null,null,null,1000]

{"sheet":"Nøgletal","index":2,"n_rows":2001,"n_cols":9,"rows_kept":2001,"cut":false,"hidden":false,"merged":[]}
[]
["dd-mm-yyyy","År","Måned","Vundne tilbud","Dækningsgrad på gennemførte opgaver","Fejlretningsprocent","Faktureringsgrad","Administrationsprocent","Afhentet hos grossist"]
["Opsætning",null,null,{"$f":"IF(Rådata!B3=0,0,IF(ISBLANK(Rådata!B3)=TRUE,\"\",(Rådata!C3*100)/Rådata!B3))","v":0},{"$f":"IF(Rådata!D3=0,0,IF(ISBLANK(Rådata!D3)=TRUE,\"\",((Rådata!D3-Rådata!E3)*100)/Rådata!D3))","v":0},{"$f":"IF(Rådata!G3=0,0,IF(ISBLANK(Rådata!G3)=TRUE,\"\",(Rådata!F3*100)/Rådata!G3))","v":0},{"$f":"IF(SUM(Rådata!H3:K3)=0,0,IF(ISBLANK(Rådata!K3),\"\",(SUM(Rådata!M3:P3)*100)/SUM(Rådata!H3:K3)))","v":0},{"$f":"IF(SUM(Rådata!H3:L3)=0,0,IF(ISBLANK(Rådata!H3),\"\",((SUM(Rådata!J3:L3)-SUM(Rådata!O3:P3))*100)/SUM(Rådata!H3:L3)))","v":0},{"$f":"IF(Rådata!R3=0,0,(Rådata!Q3*100)/Rådata!R3)","v":0}]
[{"$f":"IF(ISBLANK(Rådata!A4)=TRUE,\"\",Rådata!A4)","v":""},{"$f":"IF(ISBLANK(Rådata!A4)=TRUE,\"\",YEAR(A4))","v":""},{"$f":"IF(ISBLANK(Rådata!A4)=TRUE,\"\",VLOOKUP(MONTH(A4),Opsætning!$G$3:$H$14,2,FALSE))","v":""},{"$f":"IF(ISBLANK(Rådata!B4)=TRUE,\"\",(Rådata!C4*100)/Rådata!B4)","v":""},{"$f":"IF(ISBLANK(Rådata!D4)=TRUE,\"\",((Rådata!D4-Rådata!E4)*100)/Rådata!D4)","v":""},{"$f":"IF(ISBLANK(Rådata!G4)=TRUE,\"\",(Rådata!F4*100)/Rådata!G4)","v":""},{"$f":"IF(ISBLANK(Rådata!K4),\"\",(SUM(Rådata!M4:P4)*100)/SUM(Rådata!H4:K4))","v":""},{"$f":"IF(ISBLANK(Rådata!H4),\"\",((SUM(Rådata!J4:L4)-SUM(Rådata!O4:P4))*100)/SUM(Rådata!H4:L4))","v":""},{"$f":"IF(ISBLANK(Rådata!R4),\"\",(Rådata!Q4*100)/Rådata!R4)","v":""}]
[{"$f":"IF(ISBLANK(Rådata!A5)=TRUE,\"\",Rådata!A5)","v":""},{"$f":"IF(ISBLANK(Rådata!A5)=TRUE,\"\",YEAR(A5))","v":""},{"$f":"IF(ISBLANK(Rådata!A5)=TRUE,\"\",VLOOKUP(MONTH(A5),Opsætning!$G$3:$H$14,2,FALSE))","v":""},{"$f":"IF(ISBLANK(Rådata!B5)=TRUE,\"\",(Rådata!C5*100)/Rådata!B5)","v":""},{"$f":"IF(ISBLANK(Rådata!D5)=TRUE,\"\",((Rådata!D5-Rådata!E5)*100)/Rådata!D5)","v":""},{"$f":"IF(ISBLANK(Rådata!G5)=TRUE,\"\",(Rådata!F5*100)/Rådata!G5)","v":""},{"$f":"IF(ISBLANK(Rådata!K5),\"\",(SUM(Rådata!M5:P5)*100)/SUM(Rådata!H5:K5))","v":""},{"$f":"IF(ISBLANK(Rådata!H5),\"\",((SUM(Rådata!J5:L5)-SUM(Rådata!O5:P5))*100)/SUM(Rådata!H5:L5))","v":""},{"$f":"IF(ISBLANK(Rådata!R5),\"\",(Rådata!Q5*100)/Rådata!R5)","v":""}]
[{"$f":"IF(ISBLANK(Rådata!A6)=TRUE,\"\",Rådata!A6)","v":""},{"$f":"IF(ISBLANK(Rådata!A6)=TRUE,\"\",YEAR(A6))","v":""},{"$f":"IF(ISBLANK(Rådata!A6)=TRUE,\"\",VLOOKUP(MONTH(A6),Opsætning!$G$3:$H$14,2,FALSE))","v":""},{"$f":"IF(ISBLANK(Rådata!B6)=TRUE,\"\",(Rådata!C6*100)/Rådata!B6)","v":""},{"$f":"IF(ISBLANK(Rådata!D6)=TRUE,\"\",((Rådata!D6-Rådata!E6)*100)/Rådata!D6)","v":""},{"$f":"IF(ISBLANK(Rådata!G6)=TRUE,\"\",(Rådata!F6*100)/Rådata!G6)","v":""},{"$f":"IF(ISBLANK(Rådata!K6),\"\",(SUM(Rådata!M6:P6)*100)/SUM(Rådata!H6:K6))","v":""},{"$f":"IF(ISBLANK(Rådata!H6),\"\",((SUM(Rådata!J6:L6)-SUM(Rådata!O6:P6))*100)/SUM(Rådata!H6:L6))","v":""},{"$f":"IF(ISBLANK(Rådata!R6),\"\",(Rådata!Q6*100)/Rådata!R6)","v":""}]
[{"$f":"IF(ISBLANK(Rådata!A7)=TRUE,\"\",Rådata!A7)","v":""},{"$f":"IF(ISBLANK(Rådata!A7)=TRUE,\"\",YEAR(A7))","v":""},{"$f":"IF(ISBLANK(Rådata!A7)=TRUE,\"\",VLOOKUP(MONTH(A7),Opsætning!$G$3:$H$14,2,FALSE))","v":""},{"$f":"IF(ISBLANK(Rådata!B7)=TRUE,\"\",(Rådata!C7*100)/Rådata!B7)","v":""},{"$f":"IF(ISBLANK(Rådata!D7)=TRUE,\"\",((Rådata!D7-Rådata!E7)*100)/Rådata!D7)","v":""},{"$f":"IF(ISBLANK(Rådata!G7)=TRUE,\"\",(Rådata!F7*100)/Rådata!G7)","v":""},{"$f":"IF(ISBLANK(Rådata!K7),\"\",(SUM(Rådata!M7:P7)*100)/SUM(Rådata!H7:K7))","v":""},{"$f":"IF(ISBLANK(Rådata!H7),\"\",((SUM(Rådata!J7:L7)-SUM(Rådata!O7:P7))*100)/SUM(Rådata!H7:L7))","v":""},{"$f":"IF(ISBLANK(Rådata!R7),\"\",(Rådata!Q7*100)/Rådata!R7)","v":""}]
[{"$f":"IF(ISBLANK(Rådata!A8)=TRUE,\"\",Rådata!A8)","v":""},{"$f":"IF(ISBLANK(Rådata!A8)=TRUE,\"\",YEAR(A8))","v":""},{"$f":"IF(ISBLANK(Rådata!A8)=TRUE,\"\",VLOOKUP(MONTH(A8),Opsætning!$G$3:$H$14,2,FALSE))","v":""},{"$f":"IF(ISBLANK(Rådata!B8)=TRUE,\"\",(Rådata!C8*100)/Rådata!B8)","v":""},{"$f":"IF(ISBLANK(Rådata!D8)=TRUE,\"\",((Rådata!D8-Rådata!E8)*100)/Rådata!D8)","v":""},{"$f":"IF(ISBLANK(Rådata!G8)=TRUE,\"\",(Rådata!F8*100)/Rådata!G8)","v":""},{"$f":"IF(ISBLANK(Rådata!K8),\"\",(SUM(Rådata!M8:P8)*100)/SUM(Rådata!H8:K8))","v":""},{"$f":"IF(ISBLANK(Rådata!H8),\"\",((SUM(Rådata!J8:L8)-SUM(Rådata!O8:P8))*100)/SUM(Rådata!H8:L8))","v":""},{"$f":"IF(ISBLANK(Rådata!R8),\"\",(Rådata!Q8*100)/Rådata!R8)","v":""}]
[{"$f":"IF(ISBLANK(Rådata!A9)=TRUE,\"\",Rådata!A9)","v":""},{"$f":"IF(ISBLANK(Rådata!A9)=TRUE,\"\",YEAR(A9))","v":""},{"$f":"IF(ISBLANK(Rådata!A9)=TRUE,\"\",VLOOKUP(MONTH(A9),Opsætning!$G$3:$H$14,2,FALSE))","v":""},{"$f":"IF(ISBLANK(Rådata!B9)=TRUE,\"\",(Rådata!C9*100)/Rådata!B9)","v":""},{"$f":"IF(ISBLANK(Rådata!D9)=TRUE,\"\",((Rådata!D9-Rådata!E9)*100)/Rådata!D9)","v":""},{"$f":"IF(ISBLANK(Rådata!G9)=TRUE,\"\",(Rådata!F9*100)/Rådata!G9)","v":""},{"$f":"IF(ISBLANK(Rådata!K9),\"\",(SUM(Rådata!M9:P9)*100)/SUM(Rådata!H9:K9))","v":""},{"$f":"IF(ISBLANK(Rådata!H9),\"\",((SUM(Rådata!J9:L9)-SUM(Rådata!O9:P9))*100)/SUM(Rådata!H9:L9))","v":""},{"$f":"IF(ISBLANK(Rådata!R9),\"\",(Rådata!Q9*100)/Rådata!R9)","v":""}]
[{"$f":"IF(ISBLANK(Rådata!A10)=TRUE,\"\",Rådata!A10)","v":""},{"$f":"IF(ISBLANK(Rådata!A10)=TRUE,\"\",YEAR(A10))","v":""},{"$f":"IF(ISBLANK(Rådata!A10)=TRUE,\"\",VLOOKUP(MONTH(A10),Opsætning!$G$3:$H$14,2,FALSE))","v":""},{"$f":"IF(ISBLANK(Rådata!B10)=TRUE,\"\",(Rådata!C10*100)/Rådata!B10)","v":""},{"$f":"IF(ISBLANK(Rådata!D10)=TRUE,\"\",((Rådata!D10-Rådata!E10)*100)/Rådata!D10)","v":""},{"$f":"IF(ISBLANK(Rådata!G10)=TRUE,\"\",(Rådata!F10*100)/Rådata!G10)","v":""},{"$f":"IF(ISBLANK(Rådata!K10),\"\",(SUM(Rådata!M10:P10)*100)/SUM(Rådata!H10:K10))","v":""},{"$f":"IF(ISBLANK(Rådata!H10),\"\",((SUM(Rådata!J10:L10)-SUM(Rådata!O10:P10))*100)/SUM(Rådata!H10:L10))","v":""},{"$f":"IF(ISBLANK(Rådata!R10),\"\",(Rådata!Q10*100)/Rådata!R10)","v":""}]
[{"$f":"IF(ISBLANK(Rådata!A11)=TRUE,\"\",Rådata!A11)","v":""},{"$f":"IF(ISBLANK(Rådata!A11)=TRUE,\"\",YEAR(A11))","v":""},{"$f":"IF(ISBLANK(Rådata!A11)=TRUE,\"\",VLOOKUP(MONTH(A11),Opsætning!$G$3:$H$14,2,FALSE))","v":""},{"$f":"IF(ISBLANK(Rådata!B11)=TRUE,\"\",(Rådata!C11*100)/Rådata!B11)","v":""},{"$f":"IF(ISBLANK(Rådata!D11)=TRUE,\"\",((Rådata!D11-Rådata!E11)*100)/Rådata!D11)","v":""},{"$f":"IF(ISBLANK(Rådata!G11)=TRUE,\"\",(Rådata!F11*100)/Rådata!G11)","v":""},{"$f":"IF(ISBLANK(Rådata!K11),\"\",(SUM(Rådata!M11:P11)*100)/SUM(Rådata!H11:K11))","v":""},{"$f":"IF(ISBLANK(Rådata!H11),\"\",((SUM(Rådata!J11:L11)-SUM(Rådata!O11:P11))*100)/SUM(Rådata!H11:L11))","v":""},{"$f":"IF(ISBLANK(Rådata!R11),\"\",(Rådata!Q11*100)/Rådata!R11)","v":""}]
[{"$f":"IF(ISBLANK(Rådata!A12)=TRUE,\"\",Rådata!A12)","v":""},{"$f":"IF(ISBLANK(Rådata!A12)=TRUE,\"\",YEAR(A12))","v":""},{"$f":"IF(ISBLANK(Rådata!A12)=TRUE,\"\",VLOOKUP(MONTH(A12),Opsætning!$G$3:$H$14,2,FALSE))","v":""},{"$f":"IF(ISBLANK(Rådata!B12)=TRUE,\"\",(Rådata!C12*100)/Rådata!B12)","v":""},{"$f":"IF(ISBLANK(Rådata!D12)=TRUE,\"\",((Rådata!D12-Rådata!E12)*100)/Rådata!D12)","v":""},{"$f":"IF(ISBLANK(Rådata!G12)=TRUE,\"\",(Rådata!F12*100)/Rådata!G12)","v":""},{"$f":"IF(ISBLANK(Rådata!K12),\"\",(SUM(Rådata!M12:P12)*100)/SUM(Rådata!H12:K12))","v":""},{"$f":"IF(ISBLANK(Rådata!H12),\"\",((SUM(Rådata!J12:L12)-SUM(Rådata!O12:P12))*100)/SUM(Rådata!H12:L12))","v":""},{"$f":"IF(ISBLANK(Rådata!R12),\"\",(Rådata!Q12*100)/Rådata!R12)","v":""}]
[{"$f":"IF(ISBLANK(Rådata!A13)=TRUE,\"\",Rådata!A13)","v":""},{"$f":"IF(ISBLANK(Rådata!A13)=TRUE,\"\",YEAR(A13))","v":""},{"$f":"IF(ISBLANK(Rådata!A13)=TRUE,\"\",VLOOKUP(MONTH(A13),Opsætning!$G$3:$H$14,2,FALSE))","v":""},{"$f":"IF(ISBLANK(Rådata!B13)=TRUE,\"\",(Rådata!C13*100)/Rådata!B13)","v":""},{"$f":"IF(ISBLANK(Rådata!D13)=TRUE,\"\",((Rådata!D13-Rådata!E13)*100)/Rådata!D13)","v":""},{"$f":"IF(ISBLANK(Rådata!G13)=TRUE,\"\",(Rådata!F13*100)/Rådata!G13)","v":""},{"$f":"IF(ISBLANK(Rådata!K13),\"\",(SUM(Rådata!M13:P13)*100)/SUM(Rådata!H13:K13))","v":""},{"$f":"IF(ISBLANK(Rådata!H13),\"\",((SUM(Rådata!J13:L13)-SUM(Rådata!O13:P13))*100)/SUM(Rådata!H13:L13))","v":""},{"$f":"IF(ISBLANK(Rådata!R13),\"\",(Rådata!Q13*100)/Rådata!R13)","v":""}]
[{"$f":"IF(ISBLANK(Rådata!A14)=TRUE,\"\",Rådata!A14)","v":""},{"$f":"IF(ISBLANK(Rådata!A14)=TRUE,\"\",YEAR(A14))","v":""},{"$f":"IF(ISBLANK(Rådata!A14)=TRUE,\"\",VLOOKUP(MONTH(A14),Opsætning!$G$3:$H$14,2,FALSE))","v":""},{"$f":"IF(ISBLANK(Rådata!B14)=TRUE,\"\",(Rådata!C14*100)/Rådata!B14)","v":""},{"$f":"IF(ISBLANK(Rådata!D14)=TRUE,\"\",((Rådata!D14-Rådata!E14)*100)/Rådata!D14)","v":""},{"$f":"IF(ISBLANK(Rådata!G14)=TRUE,\"\",(Rådata!F14*100)/Rådata!G14)","v":""},{"$f":"IF(ISBLANK(Rådata!K14),\"\",(SUM(Rådata!M14:P14)*100)/SUM(Rådata!H14:K14))","v":""},{"$f":"IF(ISBLANK(Rådata!H14),\"\",((SUM(Rådata!J14:L14)-SUM(Rådata!O14:P14))*100)/SUM(Rådata!H14:L14))","v":""},{"$f":"IF(ISBLANK(Rådata!R14),\"\",(Rådata!Q14*100)/Rådata!R14)","v":""}]
[{"$f":"IF(ISBLANK(Rådata!A15)=TRUE,\"\",Rådata!A15)","v":""},{"$f":"IF(ISBLANK(Rådata!A15)=TRUE,\"\",YEAR(A15))","v":""},{"$f":"IF(ISBLANK(Rådata!A15)=TRUE,\"\",VLOOKUP(MONTH(A15),Opsætning!$G$3:$H$14,2,FALSE))","v":""},{"$f":"IF(ISBLANK(Rådata!B15)=TRUE,\"\",(Rådata!C15*100)/Rådata!B15)","v":""},{"$f":"IF(ISBLANK(Rådata!D15)=TRUE,\"\",((Rådata!D15-Rådata!E15)*100)/Rådata!D15)","v":""},{"$f":"IF(ISBLANK(Rådata!G15)=TRUE,\"\",(Rådata!F15*100)/Rådata!G15)","v":""},{"$f":"IF(ISBLANK(Rådata!K15),\"\",(SUM(Rådata!M15:P15)*100)/SUM(Rådata!H15:K15))","v":""},{"$f":"IF(ISBLANK(Rådata!H15),\"\",((SUM(Rådata!J15:L15)-SUM(Rådata!O15:P15))*100)/SUM(Rådata!H15:L15))","v":""},{"$f":"IF(ISBLANK(Rådata!R15),\"\",(Rådata!Q15*100)/Rådata!R15)","v":""}]
[{"$f":"IF(ISBLANK(Rådata!A16)=TRUE,\"\",Rådata!A16)","v":""},{"$f":"IF(ISBLANK(Rådata!A16)=TRUE,\"\",YEAR(A16))","v":""},{"$f":"IF(ISBLANK(Rådata!A16)=TRUE,\"\",VLOOKUP(MONTH(A16),Opsætning!$G$3:$H$14,2,FALSE))","v":""},{"$f":"IF(ISBLANK(Rådata!B16)=TRUE,\"\",(Rådata!C16*100)/Rådata!B16)","v":""},{"$f":"IF(ISBLANK(Rådata!D16)=TRUE,\"\",((Rådata!D16-Rådata!E16)*100)/Rådata!D16)","v":""},{"$f":"IF(ISBLANK(Rådata!G16)=TRUE,\"\",(Rådata!F16*100)/Rådata!G16)","v":""},{"$f":"IF(ISBLANK(Rådata!K16),\"\",(SUM(Rådata!M16:P16)*100)/SUM(Rådata!H16:K16))","v":""},{"$f":"IF(ISBLANK(Rådata!H16),\"\",((SUM(Rådata!J16:L16)-SUM(Rådata!O16:P16))*100)/SUM(Rådata!H16:L16))","v":""},{"$f":"IF(ISBLANK(Rådata!R16),\"\",(Rådata!Q16*100)/Rådata!R16)","v":""}]
[{"$f":"IF(ISBLANK(Rådata!A17)=TRUE,\"\",Rådata!A17)","v":""},{"$f":"IF(ISBLANK(Rådata!A17)=TRUE,\"\",YEAR(A17))","v":""},{"$f":"IF(ISBLANK(Rådata!A17)=TRUE,\"\",VLOOKUP(MONTH(A17),Opsætning!$G$3:$H$14,2,FALSE))","v":""},{"$f":"IF(ISBLANK(Rådata!B17)=TRUE,\"\",(Rådata!C17*100)/Rådata!B17)","v":""},{"$f":"IF(ISBLANK(Rådata!D17)=TRUE,\"\",((Rådata!D17-Rådata!E17)*100)/Rådata!D17)","v":""},{"$f":"IF(ISBLANK(Rådata!G17)=TRUE,\"\",(Rådata!F17*100)/Rådata!G17)","v":""},{"$f":"IF(ISBLANK(Rådata!K17),\"\",(SUM(Rådata!M17:P17)*100)/SUM(Rådata!H17:K17))","v":""},{"$f":"IF(ISBLANK(Rådata!H17),\"\",((SUM(Rådata!J17:L17)-SUM(Rådata!O17:P17))*100)/SUM(Rådata!H17:L17))","v":""},{"$f":"IF(ISBLANK(Rådata!R17),\"\",(Rådata!Q17*100)/Rådata!R17)","v":""}]
[{"$f":"IF(ISBLANK(Rådata!A18)=TRUE,\"\",Rådata!A18)","v":""},{"$f":"IF(ISBLANK(Rådata!A18)=TRUE,\"\",YEAR(A18))","v":""},{"$f":"IF(ISBLANK(Rådata!A18)=TRUE,\"\",VLOOKUP(MONTH(A18),Opsætning!$G$3:$H$14,2,FALSE))","v":""},{"$f":"IF(ISBLANK(Rådata!B18)=TRUE,\"\",(Rådata!C18*100)/Rådata!B18)","v":""},{"$f":"IF(ISBLANK(Rådata!D18)=TRUE,\"\",((Rådata!D18-Rådata!E18)*100)/Rådata!D18)","v":""},{"$f":"IF(ISBLANK(Rådata!G18)=TRUE,\"\",(Rådata!F18*100)/Rådata!G18)","v":""},{"$f":"IF(ISBLANK(Rådata!K18),\"\",(SUM(Rådata!M18:P18)*100)/SUM(Rådata!H18:K18))","v":""},{"$f":"IF(ISBLANK(Rådata!H18),\"\",((SUM(Rådata!J18:L18)-SUM(Rådata!O18:P18))*100)/SUM(Rådata!H18:L18))","v":""},{"$f":"IF(ISBLANK(Rådata!R18),\"\",(Rådata!Q18*100)/Rådata!R18)","v":""}]
[{"$f":"IF(ISBLANK(Rådata!A19)=TRUE,\"\",Rådata!A19)","v":""},{"$f":"IF(ISBLANK(Rådata!A19)=TRUE,\"\",YEAR(A19))","v":""},{"$f":"IF(ISBLANK(Rådata!A19)=TRUE,\"\",VLOOKUP(MONTH(A19),Opsætning!$G$3:$H$14,2,FALSE))","v":""},{"$f":"IF(ISBLANK(Rådata!B19)=TRUE,\"\",(Rådata!C19*100)/Rådata!B19)","v":""},{"$f":"IF(ISBLANK(Rådata!D19)=TRUE,\"\",((Rådata!D19-Rådata!E19)*100)/Rådata!D19)","v":""},{"$f":"IF(ISBLANK(Rådata!G19)=TRUE,\"\",(Rådata!F19*100)/Rådata!G19)","v":""},{"$f":"IF(ISBLANK(Rådata!K19),\"\",(SUM(Rådata!M19:P19)*100)/SUM(Rådata!H19:K19))","v":""},{"$f":"IF(ISBLANK(Rådata!H19),\"\",((SUM(Rådata!J19:L19)-SUM(Rådata!O19:P19))*100)/SUM(Rådata!H19:L19))","v":""},{"$f":"IF(ISBLANK(Rådata!R19),\"\",(Rådata!Q19*100)/Rådata!R19)","v":""}]
[{"$f":"IF(ISBLANK(Rådata!A20)=TRUE,\"\",Rådata!A20)","v":""},{"$f":"IF(ISBLANK(Rådata!A20)=TRUE,\"\",YEAR(A20))","v":""},{"$f":"IF(ISBLANK(Rådata!A20)=TRUE,\"\",VLOOKUP(MONTH(A20),Opsætning!$G$3:$H$14,2,FALSE))","v":""},{"$f":"IF(ISBLANK(Rådata!B20)=TRUE,\"\",(Rådata!C20*100)/Rådata!B20)","v":""},{"$f":"IF(ISBLANK(Rådata!D20)=TRUE,\"\",((Rådata!D20-Rådata!E20)*100)/Rådata!D20)","v":""},{"$f":"IF(ISBLANK(Rådata!G20)=TRUE,\"\",(Rådata!F20*100)/Rådata!G20)","v":""},{"$f":"IF(ISBLANK(Rådata!K20),\"\",(SUM(Rådata!M20:P20)*100)/SUM(Rådata!H20:K20))","v":""},{"$f":"IF(ISBLANK(Rådata!H20),\"\",((SUM(Rådata!J20:L20)-SUM(Rådata!O20:P20))*100)/SUM(Rådata!H20:L20))","v":""},{"$f":"IF(ISBLANK(Rådata!R20),\"\",(Rådata!Q20*100)/Rådata!R20)","v":""}]
[{"$f":"IF(ISBLANK(Rådata!A21)=TRUE,\"\",Rådata!A21)","v":""},{"$f":"IF(ISBLANK(Rådata!A21)=TRUE,\"\",YEAR(A21))","v":""},{"$f":"IF(ISBLANK(Rådata!A21)=TRUE,\"\",VLOOKUP(MONTH(A21),Opsætning!$G$3:$H$14,2,FALSE))","v":""},{"$f":"IF(ISBLANK(Rådata!B21)=TRUE,\"\",(Rådata!C21*100)/Rådata!B21)","v":""},{"$f":"IF(ISBLANK(Rådata!D21)=TRUE,\"\",((Rådata!D21-Rådata!E21)*100)/Rådata!D21)","v":""},{"$f":"IF(ISBLANK(Rådata!G21)=TRUE,\"\",(Rådata!F21*100)/Rådata!G21)","v":""},{"$f":"IF(ISBLANK(Rådata!K21),\"\",(SUM(Rådata!M21:P21)*100)/SUM(Rådata!H21:K21))","v":""},{"$f":"IF(ISBLANK(Rådata!H21),\"\",((SUM(Rådata!J21:L21)-SUM(Rådata!O21:P21))*100)/SUM(Rådata!H21:L21))","v":""},{"$f":"IF(ISBLANK(Rådata!R21),\"\",(Rådata!Q21*100)/Rådata!R21)","v":""}]
[{"$f":"IF(ISBLANK(Rådata!A22)=TRUE,\"\",Rådata!A22)","v":""},{"$f":"IF(ISBLANK(Rådata!A22)=TRUE,\"\",YEAR(A22))","v":""},{"$f":"IF(ISBLANK(Rådata!A22)=TRUE,\"\",VLOOKUP(MONTH(A22),Opsætning!$G$3:$H$14,2,FALSE))","v":""},{"$f":"IF(ISBLANK(Rådata!B22)=TRUE,\"\",(Rådata!C22*100)/Rådata!B22)","v":""},{"$f":"IF(ISBLANK(Rådata!D22)=TRUE,\"\",((Rådata!D22-Rådata!E22)*100)/Rådata!D22)","v":""},{"$f":"IF(ISBLANK(Rådata!G22)=TRUE,\"\",(Rådata!F22*100)/Rådata!G22)","v":""},{"$f":"IF(ISBLANK(Rådata!K22),\"\",(SUM(Rådata!M22:P22)*100)/SUM(Rådata!H22:K22))","v":""},{"$f":"IF(ISBLANK(Rådata!H22),\"\",((SUM(Rådata!J22:L22)-SUM(Rådata!O22:P22))*100)/SUM(Rådata!H22:L22))","v":""},{"$f":"IF(ISBLANK(Rådata!R22),\"\",(Rådata!Q22*100)/Rådata!R22)","v":""}]
[{"$f":"IF(ISBLANK(Rådata!A23)=TRUE,\"\",Rådata!A23)","v":""},{"$f":"IF(ISBLANK(Rådata!A23)=TRUE,\"\",YEAR(A23))","v":""},{"$f":"IF(ISBLANK(Rådata!A23)=TRUE,\"\",VLOOKUP(MONTH(A23),Opsætning!$G$3:$H$14,2,FALSE))","v":""},{"$f":"IF(ISBLANK(Rådata!B23)=TRUE,\"\",(Rådata!C23*100)/Rådata!B23)","v":""},{"$f":"IF(ISBLANK(Rådata!D23)=TRUE,\"\",((Rådata!D23-Rådata!E23)*100)/Rådata!D23)","v":""},{"$f":"IF(ISBLANK(Rådata!G23)=TRUE,\"\",(Rådata!F23*100)/Rådata!G23)","v":""},{"$f":"IF(ISBLANK(Rådata!K23),\"\",(SUM(Rådata!M23:P23)*100)/SUM(Rådata!H23:K23))","v":""},{"$f":"IF(ISBLANK(Rådata!H23),\"\",((SUM(Rådata!J23:L23)-SUM(Rådata!O23:P23))*100)/SUM(Rådata!H23:L23))","v":""},{"$f":"IF(ISBLANK(Rådata!R23),\"\",(Rådata!Q23*100)/Rådata!R23)","v":""}]
[{"$f":"IF(ISBLANK(Rådata!A24)=TRUE,\"\",Rådata!A24)","v":""},{"$f":"IF(ISBLANK(Rådata!A24)=TRUE,\"\",YEAR(A24))","v":""},{"$f":"IF(ISBLANK(Rådata!A24)=TRUE,\"\",VLOOKUP(MONTH(A24),Opsætning!$G$3:$H$14,2,FALSE))","v":""},{"$f":"IF(ISBLANK(Rådata!B24)=TRUE,\"\",(Rådata!C24*100)/Rådata!B24)","v":""},{"$f":"IF(ISBLANK(Rådata!D24)=TRUE,\"\",((Rådata!D24-Rådata!E24)*100)/Rådata!D24)","v":""},{"$f":"IF(ISBLANK(Rådata!G24)=TRUE,\"\",(Rådata!F24*100)/Rådata!G24)","v":""},{"$f":"IF(ISBLANK(Rådata!K24),\"\",(SUM(Rådata!M24:P24)*100)/SUM(Rådata!H24:K24))","v":""},{"$f":"IF(ISBLANK(Rådata!H24),\"\",((SUM(Rådata!J24:L24)-SUM(Rådata!O24:P24))*100)/SUM(Rådata!H24:L24))","v":""},{"$f":"IF(ISBLANK(Rådata!R24),\"\",(Rådata!Q24*100)/Rådata!R24)","v":""}]
[{"$f":"IF(ISBLANK(Rådata!A25)=TRUE,\"\",Rådata!A25)","v":""},{"$f":"IF(ISBLANK(Rådata!A25)=TRUE,\"\",YEAR(A25))","v":""},{"$f":"IF(ISBLANK(Rådata!A25)=TRUE,\"\",VLOOKUP(MONTH(A25),Opsætning!$G$3:$H$14,2,FALSE))","v":""},{"$f":"IF(ISBLANK(Rådata!B25)=TRUE,\"\",(Rådata!C25*100)/Rådata!B25)","v":""},{"$f":"IF(ISBLANK(Rådata!D25)=TRUE,\"\",((Rådata!D25-Rådata!E25)*100)/Rådata!D25)","v":""},{"$f":"IF(ISBLANK(Rådata!G25)=TRUE,\"\",(Rådata!F25*100)/Rådata!G25)","v":""},{"$f":"IF(ISBLANK(Rådata!K25),\"\",(SUM(Rådata!M25:P25)*100)/SUM(Rådata!H25:K25))","v":""},{"$f":"IF(ISBLANK(Rådata!H25),\"\",((SUM(Rådata!J25:L25)-SUM(Rådata!O25:P25))*100)/SUM(Rådata!H25:L25))","v":""},{"$f":"IF(ISBLANK(Rådata!R25),\"\",(Rådata!Q25*100)/Rådata!R25)","v":""}]
[{"$f":"IF(ISBLANK(Rådata!A26)=TRUE,\"\",Rådata!A26)","v":""},{"$f":"IF(ISBLANK(Rådata!A26)=TRUE,\"\",YEAR(A26))","v":""},{"$f":"IF(ISBLANK(Rådata!A26)=TRUE,\"\",VLOOKUP(MONTH(A26),Opsætning!$G$3:$H$14,2,FALSE))","v":""},{"$f":"IF(ISBLANK(Rådata!B26)=TRUE,\"\",(Rådata!C26*100)/Rådata!B26)","v":""},{"$f":"IF(ISBLANK(Rådata!D26)=TRUE,\"\",((Rådata!D26-Rådata!E26)*100)/Rådata!D26)","v":""},{"$f":"IF(ISBLANK(Rådata!G26)=TRUE,\"\",(Rådata!F26*100)/Rådata!G26)","v":""},{"$f":"IF(ISBLANK(Rådata!K26),\"\",(SUM(Rådata!M26:P26)*100)/SUM(Rådata!H26:K26))","v":""},{"$f":"IF(ISBLANK(Rådata!H26),\"\",((SUM(Rådata!J26:L26)-SUM(Rådata!O26:P26))*100)/SUM(Rådata!H26:L26))","v":""},{"$f":"IF(ISBLANK(Rådata!R26),\"\",(Rådata!Q26*100)/Rådata!R26)","v":""}]
[{"$f":"IF(ISBLANK(Rådata!A27)=TRUE,\"\",Rådata!A27)","v":""},{"$f":"IF(ISBLANK(Rådata!A27)=TRUE,\"\",YEAR(A27))","v":""},{"$f":"IF(ISBLANK(Rådata!A27)=TRUE,\"\",VLOOKUP(MONTH(A27),Opsætning!$G$3:$H$14,2,FALSE))","v":""},{"$f":"IF(ISBLANK(Rådata!B27)=TRUE,\"\",(Rådata!C27*100)/Rådata!B27)","v":""},{"$f":"IF(ISBLANK(Rådata!D27)=TRUE,\"\",((Rådata!D27-Rådata!E27)*100)/Rådata!D27)","v":""},{"$f":"IF(ISBLANK(Rådata!G27)=TRUE,\"\",(Rådata!F27*100)/Rådata!G27)","v":""},{"$f":"IF(ISBLANK(Rådata!K27),\"\",(SUM(Rådata!M27:P27)*100)/SUM(Rådata!H27:K27))","v":""},{"$f":"IF(ISBLANK(Rådata!H27),\"\",((SUM(Rådata!J27:L27)-SUM(Rådata!O27:P27))*100)/SUM(Rådata!H27:L27))","v":""},{"$f":"IF(ISBLANK(Rådata!R27),\"\",(Rådata!Q27*100)/Rådata!R27)","v":""}]
[{"$f":"IF(ISBLANK(Rådata!A28)=TRUE,\"\",Rådata!A28)","v":""},{"$f":"IF(ISBLANK(Rådata!A28)=TRUE,\"\",YEAR(A28))","v":""},{"$f":"IF(ISBLANK(Rådata!A28)=TRUE,\"\",VLOOKUP(MONTH(A28),Opsætning!$G$3:$H$14,2,FALSE))","v":""},{"$f":"IF(ISBLANK(Rådata!B28)=TRUE,\"\",(Rådata!C28*100)/Rådata!B28)","v":""},{"$f":"IF(ISBLANK(Rådata!D28)=TRUE,\"\",((Rådata!D28-Rådata!E28)*100)/Rådata!D28)","v":""},{"$f":"IF(ISBLANK(Rådata!G28)=TRUE,\"\",(Rådata!F28*100)/Rådata!G28)","v":""},{"$f":"IF(ISBLANK(Rådata!K28),\"\",(SUM(Rådata!M28:P28)*100)/SUM(Rådata!H28:K28))","v":""},{"$f":"IF(ISBLANK(Rådata!H28),\"\",((SUM(Rådata!J28:L28)-SUM(Rådata!O28:P28))*100)/SUM(Rådata!H28:L28))","v":""},{"$f":"IF(ISBLANK(Rådata!R28),\"\",(Rådata!Q28*100)/Rådata!R28)","v":""}]
[{"$f":"IF(ISBLANK(Rådata!A29)=TRUE,\"\",Rådata!A29)","v":""},{"$f":"IF(ISBLANK(Rådata!A29)=TRUE,\"\",YEAR(A29))","v":""},{"$f":"IF(ISBLANK(Rådata!A29)=TRUE,\"\",VLOOKUP(MONTH(A29),Opsætning!$G$3:$H$14,2,FALSE))","v":""},{"$f":"IF(ISBLANK(Rådata!B29)=TRUE,\"\",(Rådata!C29*100)/Rådata!B29)","v":""},{"$f":"IF(ISBLANK(Rådata!D29)=TRUE,\"\",((Rådata!D29-Rådata!E29)*100)/Rådata!D29)","v":""},{"$f":"IF(ISBLANK(Rådata!G29)=TRUE,\"\",(Rådata!F29*100)/Rådata!G29)","v":""},{"$f":"IF(ISBLANK(Rådata!K29),\"\",(SUM(Rådata!M29:P29)*100)/SUM(Rådata!H29:K29))","v":""},{"$f":"IF(ISBLANK(Rådata!H29),\"\",((SUM(Rådata!J29:L29)-SUM(Rådata!O29:P29))*100)/SUM(Rådata!H29:L29))","v":""},{"$f":"IF(ISBLANK(Rådata!R29),\"\",(Rådata!Q29*100)/Rådata!R29)","v":""}]
[{"$f":"IF(ISBLANK(Rådata!A30)=TRUE,\"\",Rådata!A30)","v":""},{"$f":"IF(ISBLANK(Rådata!A30)=TRUE,\"\",YEAR(A30))","v":""},{"$f":"IF(ISBLANK(Rådata!A30)=TRUE,\"\",VLOOKUP(MONTH(A30),Opsætning!$G$3:$H$14,2,FALSE))","v":""},{"$f":"IF(ISBLANK(Rådata!B30)=TRUE,\"\",(Rådata!C30*100)/Rådata!B30)","v":""},{"$f":"IF(ISBLANK(Rådata!D30)=TRUE,\"\",((Rådata!D30-Rådata!E30)*100)/Rådata!D30)","v":""},{"$f":"IF(ISBLANK(Rådata!G30)=TRUE,\"\",(Rådata!F30*100)/Rådata!G30)","v":""},{"$f":"IF(ISBLANK(Rådata!K30),\"\",(SUM(Rådata!M30:P30)*100)/SUM(Rådata!H30:K30))","v":""},{"$f":"IF(ISBLANK(Rådata!H30),\"\",((SUM(Rådata!J30:L30)-SUM(Rådata!O30:P30))*100)/SUM(Rådata!H30:L30))","v":""},{"$f":"IF(ISBLANK(Rådata!R30),\"\",(Rådata!Q30*100)/Rådata!R30)","v":""}]
[{"$f":"IF(ISBLANK(Rådata!A31)=TRUE,\"\",Rådata!A31)","v":""},{"$f":"IF(ISBLANK(Rådata!A31)=TRUE,\"\",YEAR(A31))","v":""},{"$f":"IF(ISBLANK(Rådata!A31)=TRUE,\"\",VLOOKUP(MONTH(A31),Opsætning!$G$3:$H$14,2,FALSE))","v":""},{"$f":"IF(ISBLANK(Rådata!B31)=TRUE,\"\",(Rådata!C31*100)/Rådata!B31)","v":""},{"$f":"IF(ISBLANK(Rådata!D31)=TRUE,\"\",((Rådata!D31-Rådata!E31)*100)/Rådata!D31)","v":""},{"$f":"IF(ISBLANK(Rådata!G31)=TRUE,\"\",(Rådata!F31*100)/Rådata!G31)","v":""},{"$f":"IF(ISBLANK(Rådata!K31),\"\",(SUM(Rådata!M31:P31)*100)/SUM(Rådata!H31:K31))","v":""},{"$f":"IF(ISBLANK(Rådata!H31),\"\",((SUM(Rådata!J31:L31)-SUM(Rådata!O31:P31))*100)/SUM(Rådata!H31:L31))","v":""},{"$f":"IF(ISBLANK(Rådata!R31),\"\",(Rådata!Q31*100)/Rådata!R31)","v":""}]
[{"$f":"IF(ISBLANK(Rådata!A32)=TRUE,\"\",Rådata!A32)","v":""},{"$f":"IF(ISBLANK(Rådata!A32)=TRUE,\"\",YEAR(A32))","v":""},{"$f":"IF(ISBLANK(Rådata!A32)=TRUE,\"\",VLOOKUP(MONTH(A32),Opsætning!$G$3:$H$14,2,FALSE))","v":""},{"$f":"IF(ISBLANK(Rådata!B32)=TRUE,\"\",(Rådata!C32*100)/Rådata!B32)","v":""},{"$f":"IF(ISBLANK(Rådata!D32)=TRUE,\"\",((Rådata!D32-Rådata!E32)*100)/Rådata!D32)","v":""},{"$f":"IF(ISBLANK(Rådata!G32)=TRUE,\"\",(Rådata!F32*100)/Rådata!G32)","v":""},{"$f":"IF(ISBLANK(Rådata!K32),\"\",(SUM(Rådata!M32:P32)*100)/SUM(Rådata!H32:K32))","v":""},{"$f":"IF(ISBLANK(Rådata!H32),\"\",((SUM(Rådata!J32:L32)-SUM(Rådata!O32:P32))*100)/SUM(Rådata!H32:L32))","v":""},{"$f":"IF(ISBLANK(Rådata!R32),\"\",(Rådata!Q32*100)/Rådata!R32)","v":""}]
[{"$f":"IF(ISBLANK(Rådata!A33)=TRUE,\"\",Rådata!A33)","v":""},{"$f":"IF(ISBLANK(Rådata!A33)=TRUE,\"\",YEAR(A33))","v":""},{"$f":"IF(ISBLANK(Rådata!A33)=TRUE,\"\",VLOOKUP(MONTH(A33),Opsætning!$G$3:$H$14,2,FALSE))","v":""},{"$f":"IF(ISBLANK(Rådata!B33)=TRUE,\"\",(Rådata!C33*100)/Rådata!B33)","v":""},{"$f":"IF(ISBLANK(Rådata!D33)=TRUE,\"\",((Rådata!D33-Rådata!E33)*100)/Rådata!D33)","v":""},{"$f":"IF(ISBLANK(Rådata!G33)=TRUE,\"\",(Rådata!F33*100)/Rådata!G33)","v":""},{"$f":"IF(ISBLANK(Rådata!K33),\"\",(SUM(Rådata!M33:P33)*100)/SUM(Rådata!H33:K33))","v":""},{"$f":"IF(ISBLANK(Rådata!H33),\"\",((SUM(Rådata!J33:L33)-SUM(Rådata!O33:P33))*100)/SUM(Rådata!H33:L33))","v":""},{"$f":"IF(ISBLANK(Rådata!R33),\"\",(Rådata!Q33*100)/Rådata!R33)","v":""}]
[{"$f":"IF(ISBLANK(Rådata!A34)=TRUE,\"\",Rådata!A34)","v":""},{"$f":"IF(ISBLANK(Rådata!A34)=TRUE,\"\",YEAR(A34))","v":""},{"$f":"IF(ISBLANK(Rådata!A34)=TRUE,\"\",VLOOKUP(MONTH(A34),Opsætning!$G$3:$H$14,2,FALSE))","v":""},{"$f":"IF(ISBLANK(Rådata!B34)=TRUE,\"\",(Rådata!C34*100)/Rådata!B34)","v":""},{"$f":"IF(ISBLANK(Rådata!D34)=TRUE,\"\",((Rådata!D34-Rådata!E34)*100)/Rådata!D34)","v":""},{"$f":"IF(ISBLANK(Rådata!G34)=TRUE,\"\",(Rådata!F34*100)/Rådata!G34)","v":""},{"$f":"IF(ISBLANK(Rådata!K34),\"\",(SUM(Rådata!M34:P34)*100)/SUM(Rådata!H34:K34))","v":""},{"$f":"IF(ISBLANK(Rådata!H34),\"\",((SUM(Rådata!J34:L34)-SUM(Rådata!O34:P34))*100)/SUM(Rådata!H34:L34))","v":""},{"$f":"IF(ISBLANK(Rådata!R34),\"\",(Rådata!Q34*100)/Rådata!R34)","v":""}]
[{"$f":"IF(ISBLANK(Rådata!A35)=TRUE,\"\",Rådata!A35)","v":""},{"$f":"IF(ISBLANK(Rådata!A35)=TRUE,\"\",YEAR(A35))","v":""},{"$f":"IF(ISBLANK(Rådata!A35)=TRUE,\"\",VLOOKUP(MONTH(A35),Opsætning!$G$3:$H$14,2,FALSE))","v":""},{"$f":"IF(ISBLANK(Rådata!B35)=TRUE,\"\",(Rådata!C35*100)/Rådata!B35)","v":""},{"$f":"IF(ISBLANK(Rådata!D35)=TRUE,\"\",((Rådata!D35-Rådata!E35)*100)/Rådata!D35)","v":""},{"$f":"IF(ISBLANK(Rådata!G35)=TRUE,\"\",(Rådata!F35*100)/Rådata!G35)","v":""},{"$f":"IF(ISBLANK(Rådata!K35),\"\",(SUM(Rådata!M35:P35)*100)/SUM(Rådata!H35:K35))","v":""},{"$f":"IF(ISBLANK(Rådata!H35),\"\",((SUM(Rådata!J35:L35)-SUM(Rådata!O35:P35))*100)/SUM(Rådata!H35:L35))","v":""},{"$f":"IF(ISBLANK(Rådata!R35),\"\",(Rådata!Q35*100)/Rådata!R35)","v":""}]
[{"$f":"IF(ISBLANK(Rådata!A36)=TRUE,\"\",Rådata!A36)","v":""},{"$f":"IF(ISBLANK(Rådata!A36)=TRUE,\"\",YEAR(A36))","v":""},{"$f":"IF(ISBLANK(Rådata!A36)=TRUE,\"\",VLOOKUP(MONTH(A36),Opsætning!$G$3:$H$14,2,FALSE))","v":""},{"$f":"IF(ISBLANK(Rådata!B36)=TRUE,\"\",(Rådata!C36*100)/Rådata!B36)","v":""},{"$f":"IF(ISBLANK(Rådata!D36)=TRUE,\"\",((Rådata!D36-Rådata!E36)*100)/Rådata!D36)","v":""},{"$f":"IF(ISBLANK(Rådata!G36)=TRUE,\"\",(Rådata!F36*100)/Rådata!G36)","v":""},{"$f":"IF(ISBLANK(Rådata!K36),\"\",(SUM(Rådata!M36:P36)*100)/SUM(Rådata!H36:K36))","v":""},{"$f":"IF(ISBLANK(Rådata!H36),\"\",((SUM(Rådata!J36:L36)-SUM(Rådata!O36:P36))*100)/SUM(Rådata!H36:L36))","v":""},{"$f":"IF(ISBLANK(Rådata!R36),\"\",(Rådata!Q36*100)/Rådata!R36)","v":""}]
[{"$f":"IF(ISBLANK(Rådata!A37)=TRUE,\"\",Rådata!A37)","v":""},{"$f":"IF(ISBLANK(Rådata!A37)=TRUE,\"\",YEAR(A37))","v":""},{"$f":"IF(ISBLANK(Rådata!A37)=TRUE,\"\",VLOOKUP(MONTH(A37),Opsætning!$G$3:$H$14,2,FALSE))","v":""},{"$f":"IF(ISBLANK(Rådata!B37)=TRUE,\"\",(Rådata!C37*100)/Rådata!B37)","v":""},{"$f":"IF(ISBLANK(Rådata!D37)=TRUE,\"\",((Rådata!D37-Rådata!E37)*100)/Rådata!D37)","v":""},{"$f":"IF(ISBLANK(Rådata!G37)=TRUE,\"\",(Rådata!F37*100)/Rådata!G37)","v":""},{"$f":"IF(ISBLANK(Rådata!K37),\"\",(SUM(Rådata!M37:P37)*100)/SUM(Rådata!H37:K37))","v":""},{"$f":"IF(ISBLANK(Rådata!H37),\"\",((SUM(Rådata!J37:L37)-SUM(Rådata!O37:P37))*100)/SUM(Rådata!H37:L37))","v":""},{"$f":"IF(ISBLANK(Rådata!R37),\"\",(Rådata!Q37*100)/Rådata!R37)","v":""}]
[{"$f":"IF(ISBLANK(Rådata!A38)=TRUE,\"\",Rådata!A38)","v":""},{"$f":"IF(ISBLANK(Rådata!A38)=TRUE,\"\",YEAR(A38))","v":""},{"$f":"IF(ISBLANK(Rådata!A38)=TRUE,\"\",VLOOKUP(MONTH(A38),Opsætning!$G$3:$H$14,2,FALSE))","v":""},{"$f":"IF(ISBLANK(Rådata!B38)=TRUE,\"\",(Rådata!C38*100)/Rådata!B38)","v":""},{"$f":"IF(ISBLANK(Rådata!D38)=TRUE,\"\",((Rådata!D38-Rådata!E38)*100)/Rådata!D38)","v":""},{"$f":"IF(ISBLANK(Rådata!G38)=TRUE,\"\",(Rådata!F38*100)/Rådata!G38)","v":""},{"$f":"IF(ISBLANK(Rådata!K38),\"\",(SUM(Rådata!M38:P38)*100)/SUM(Rådata!H38:K38))","v":""},{"$f":"IF(ISBLANK(Rådata!H38),\"\",((SUM(Rådata!J38:L38)-SUM(Rådata!O38:P38))*100)/SUM(Rådata!H38:L38))","v":""},{"$f":"IF(ISBLANK(Rådata!R38),\"\",(Rådata!Q38*100)/Rådata!R38)","v":""}]
[{"$f":"IF(ISBLANK(Rådata!A39)=TRUE,\"\",Rådata!A39)","v":""},{"$f":"IF(ISBLANK(Rådata!A39)=TRUE,\"\",YEAR(A39))","v":""},{"$f":"IF(ISBLANK(Rådata!A39)=TRUE,\"\",VLOOKUP(MONTH(A39),Opsætning!$G$3:$H$14,2,FALSE))","v":""},{"$f":"IF(ISBLANK(Rådata!B39)=TRUE,\"\",(Rådata!C39*100)/Rådata!B39)","v":""},{"$f":"IF(ISBLANK(Rådata!D39)=TRUE,\"\",((Rådata!D39-Rådata!E39)*100)/Rådata!D39)","v":""},{"$f":"IF(ISBLANK(Rådata!G39)=TRUE,\"\",(Rådata!F39*100)/Rådata!G39)","v":""},{"$f":"IF(ISBLANK(Rådata!K39),\"\",(SUM(Rådata!M39:P39)*100)/SUM(Rådata!H39:K39))","v":""},{"$f":"IF(ISBLANK(Rådata!H39),\"\",((SUM(Rådata!J39:L39)-SUM(Rådata!O39:P39))*100)/SUM(Rådata!H39:L39))","v":""},{"$f":"IF(ISBLANK(Rådata!R39),\"\",(Rådata!Q39*100)/Rådata!R39)","v":""}]
[{"$f":"IF(ISBLANK(Rådata!A40)=TRUE,\"\",Rådata!A40)","v":""},{"$f":"IF(ISBLANK(Rådata!A40)=TRUE,\"\",YEAR(A40))","v":""},{"$f":"IF(ISBLANK(Rådata!A40)=TRUE,\"\",VLOOKUP(MONTH(A40),Opsætning!$G$3:$H$14,2,FALSE))","v":""},{"$f":"IF(ISBLANK(Rådata!B40)=TRUE,\"\",(Rådata!C40*100)/Rådata!B40)","v":""},{"$f":"IF(ISBLANK(Rådata!D40)=TRUE,\"\",((Rådata!D40-Rådata!E40)*100)/Rådata!D40)","v":""},{"$f":"IF(ISBLANK(Rådata!G40)=TRUE,\"\",(Rådata!F40*100)/Rådata!G40)","v":""},{"$f":"IF(ISBLANK(Rådata!K40),\"\",(SUM(Rådata!M40:P40)*100)/SUM(Rådata!H40:K40))","v":""},{"$f":"IF(ISBLANK(Rådata!H40),\"\",((SUM(Rådata!J40:L40)-SUM(Rådata!O40:P40))*100)/SUM(Rådata!H40:L40))","v":""},{"$f":"IF(ISBLANK(Rådata!R40),\"\",(Rådata!Q40*100)/Rådata!R40)","v":""}]
[{"$f":"IF(ISBLANK(Rådata!A41)=TRUE,\"\",Rådata!A41)","v":""},{"$f":"IF(ISBLANK(Rådata!A41)=TRUE,\"\",YEAR(A41))","v":""},{"$f":"IF(ISBLANK(Rådata!A41)=TRUE,\"\",VLOOKUP(MONTH(A41),Opsætning!$G$3:$H$14,2,FALSE))","v":""},{"$f":"IF(ISBLANK(Rådata!B41)=TRUE,\"\",(Rådata!C41*100)/Rådata!B41)","v":""},{"$f":"IF(ISBLANK(Rådata!D41)=TRUE,\"\",((Rådata!D41-Rådata!E41)*100)/Rådata!D41)","v":""},{"$f":"IF(ISBLANK(Rådata!G41)=TRUE,\"\",(Rådata!F41*100)/Rådata!G41)","v":""},{"$f":"IF(ISBLANK(Rådata!K41),\"\",(SUM(Rådata!M41:P41)*100)/SUM(Rådata!H41:K41))","v":""},{"$f":"IF(ISBLANK(Rådata!H41),\"\",((SUM(Rådata!J41:L41)-SUM(Rådata!O41:P41))*100)/SUM(Rådata!H41:L41))","v":""},{"$f":"IF(ISBLANK(Rådata!R41),\"\",(Rådata!Q41*100)/Rådata!R41)","v":""}]
[{"$f":"IF(ISBLANK(Rådata!A42)=TRUE,\"\",Rådata!A42)","v":""},{"$f":"IF(ISBLANK(Rådata!A42)=TRUE,\"\",YEAR(A42))","v":""},{"$f":"IF(ISBLANK(Rådata!A42)=TRUE,\"\",VLOOKUP(MONTH(A42),Opsætning!$G$3:$H$14,2,FALSE))","v":""},{"$f":"IF(ISBLANK(Rådata!B42)=TRUE,\"\",(Rådata!C42*100)/Rådata!B42)","v":""},{"$f":"IF(ISBLANK(Rådata!D42)=TRUE,\"\",((Rådata!D42-Rådata!E42)*100)/Rådata!D42)","v":""},{"$f":"IF(ISBLANK(Rådata!G42)=TRUE,\"\",(Rådata!F42*100)/Rådata!G42)","v":""},{"$f":"IF(ISBLANK(Rådata!K42),\"\",(SUM(Rådata!M42:P42)*100)/SUM(Rådata!H42:K42))","v":""},{"$f":"IF(ISBLANK(Rådata!H42),\"\",((SUM(Rådata!J42:L42)-SUM(Rådata!O42:P42))*100)/SUM(Rådata!H42:L42))","v":""},{"$f":"IF(ISBLANK(Rådata!R42),\"\",(Rådata!Q42*100)/Rådata!R42)","v":""}]
[{"$f":"IF(ISBLANK(Rådata!A43)=TRUE,\"\",Rådata!A43)","v":""},{"$f":"IF(ISBLANK(Rådata!A43)=TRUE,\"\",YEAR(A43))","v":""},{"$f":"IF(ISBLANK(Rådata!A43)=TRUE,\"\",VLOOKUP(MONTH(A43),Opsætning!$G$3:$H$14,2,FALSE))","v":""},{"$f":"IF(ISBLANK(Rådata!B43)=TRUE,\"\",(Rådata!C43*100)/Rådata!B43)","v":""},{"$f":"IF(ISBLANK(Rådata!D43)=TRUE,\"\",((Rådata!D43-Rådata!E43)*100)/Rådata!D43)","v":""},{"$f":"IF(ISBLANK(Rådata!G43)=TRUE,\"\",(Rådata!F43*100)/Rådata!G43)","v":""},{"$f":"IF(ISBLANK(Rådata!K43),\"\",(SUM(Rådata!M43:P43)*100)/SUM(Rådata!H43:K43))","v":""},{"$f":"IF(ISBLANK(Rådata!H43),\"\",((SUM(Rådata!J43:L43)-SUM(Rådata!O43:P43))*100)/SUM(Rådata!H43:L43))","v":""},{"$f":"IF(ISBLANK(Rådata!R43),\"\",(Rådata!Q43*100)/Rådata!R43)","v":""}]
[{"$f":"IF(ISBLANK(Rådata!A44)=TRUE,\"\",Rådata!A44)","v":""},{"$f":"IF(ISBLANK(Rådata!A44)=TRUE,\"\",YEAR(A44))","v":""},{"$f":"IF(ISBLANK(Rådata!A44)=TRUE,\"\",VLOOKUP(MONTH(A44),Opsætning!$G$3:$H$14,2,FALSE))","v":""},{"$f":"IF(ISBLANK(Rådata!B44)=TRUE,\"\",(Rådata!C44*100)/Rådata!B44)","v":""},{"$f":"IF(ISBLANK(Rådata!D44)=TRUE,\"\",((Rådata!D44-Rådata!E44)*100)/Rådata!D44)","v":""},{"$f":"IF(ISBLANK(Rådata!G44)=TRUE,\"\",(Rådata!F44*100)/Rådata!G44)","v":""},{"$f":"IF(ISBLANK(Rådata!K44),\"\",(SUM(Rådata!M44:P44)*100)/SUM(Rådata!H44:K44))","v":""},{"$f":"IF(ISBLANK(Rådata!H44),\"\",((SUM(Rådata!J44:L44)-SUM(Rådata!O44:P44))*100)/SUM(Rådata!H44:L44))","v":""},{"$f":"IF(ISBLANK(Rådata!R44),\"\",(Rådata!Q44*100)/Rådata!R44)","v":""}]
[{"$f":"IF(ISBLANK(Rådata!A45)=TRUE,\"\",Rådata!A45)","v":""},{"$f":"IF(ISBLANK(Rådata!A45)=TRUE,\"\",YEAR(A45))","v":""},{"$f":"IF(ISBLANK(Rådata!A45)=TRUE,\"\",VLOOKUP(MONTH(A45),Opsætning!$G$3:$H$14,2,FALSE))","v":""},{"$f":"IF(ISBLANK(Rådata!B45)=TRUE,\"\",(Rådata!C45*100)/Rådata!B45)","v":""},{"$f":"IF(ISBLANK(Rådata!D45)=TRUE,\"\",((Rådata!D45-Rådata!E45)*100)/Rådata!D45)","v":""},{"$f":"IF(ISBLANK(Rådata!G45)=TRUE,\"\",(Rådata!F45*100)/Rådata!G45)","v":""},{"$f":"IF(ISBLANK(Rådata!K45),\"\",(SUM(Rådata!M45:P45)*100)/SUM(Rådata!H45:K45))","v":""},{"$f":"IF(ISBLANK(Rådata!H45),\"\",((SUM(Rådata!J45:L45)-SUM(Rådata!O45:P45))*100)/SUM(Rådata!H45:L45))","v":""},{"$f":"IF(ISBLANK(Rådata!R45),\"\",(Rådata!Q45*100)/Rådata!R45)","v":""}]
[{"$f":"IF(ISBLANK(Rådata!A46)=TRUE,\"\",Rådata!A46)","v":""},{"$f":"IF(ISBLANK(Rådata!A46)=TRUE,\"\",YEAR(A46))","v":""},{"$f":"IF(ISBLANK(Rådata!A46)=TRUE,\"\",VLOOKUP(MONTH(A46),Opsætning!$G$3:$H$14,2,FALSE))","v":""},{"$f":"IF(ISBLANK(Rådata!B46)=TRUE,\"\",(Rådata!C46*100)/Rådata!B46)","v":""},{"$f":"IF(ISBLANK(Rådata!D46)=TRUE,\"\",((Rådata!D46-Rådata!E46)*100)/Rådata!D46)","v":""},{"$f":"IF(ISBLANK(Rådata!G46)=TRUE,\"\",(Rådata!F46*100)/Rådata!G46)","v":""},{"$f":"IF(ISBLANK(Rådata!K46),\"\",(SUM(Rådata!M46:P46)*100)/SUM(Rådata!H46:K46))","v":""},{"$f":"IF(ISBLANK(Rådata!H46),\"\",((SUM(Rådata!J46:L46)-SUM(Rådata!O46:P46))*100)/SUM(Rådata!H46:L46))","v":""},{"$f":"IF(ISBLANK(Rådata!R46),\"\",(Rådata!Q46*100)/Rådata!R46)","v":""}]
[{"$f":"IF(ISBLANK(Rådata!A47)=TRUE,\"\",Rådata!A47)","v":""},{"$f":"IF(ISBLANK(Rådata!A47)=TRUE,\"\",YEAR(A47))","v":""},{"$f":"IF(ISBLANK(Rådata!A47)=TRUE,\"\",VLOOKUP(MONTH(A47),Opsætning!$G$3:$H$14,2,FALSE))","v":""},{"$f":"IF(ISBLANK(Rådata!B47)=TRUE,\"\",(Rådata!C47*100)/Rådata!B47)","v":""},{"$f":"IF(ISBLANK(Rådata!D47)=TRUE,\"\",((Rådata!D47-Rådata!E47)*100)/Rådata!D47)","v":""},{"$f":"IF(ISBLANK(Rådata!G47)=TRUE,\"\",(Rådata!F47*100)/Rådata!G47)","v":""},{"$f":"IF(ISBLANK(Rådata!K47),\"\",(SUM(Rådata!M47:P47)*100)/SUM(Rådata!H47:K47))","v":""},{"$f":"IF(ISBLANK(Rådata!H47),\"\",((SUM(Rådata!J47:L47)-SUM(Rådata!O47:P47))*100)/SUM(Rådata!H47:L47))","v":""},{"$f":"IF(ISBLANK(Rådata!R47),\"\",(Rådata!Q47*100)/Rådata!R47)","v":""}]
[{"$f":"IF(ISBLANK(Rådata!A48)=TRUE,\"\",Rådata!A48)","v":""},{"$f":"IF(ISBLANK(Rådata!A48)=TRUE,\"\",YEAR(A48))","v":""},{"$f":"IF(ISBLANK(Rådata!A48)=TRUE,\"\",VLOOKUP(MONTH(A48),Opsætning!$G$3:$H$14,2,FALSE))","v":""},{"$f":"IF(ISBLANK(Rådata!B48)=TRUE,\"\",(Rådata!C48*100)/Rådata!B48)","v":""},{"$f":"IF(ISBLANK(Rådata!D48)=TRUE,\"\",((Rådata!D48-Rådata!E48)*100)/Rådata!D48)","v":""},{"$f":"IF(ISBLANK(Rådata!G48)=TRUE,\"\",(Rådata!F48*100)/Rådata!G48)","v":""},{"$f":"IF(ISBLANK(Rådata!K48),\"\",(SUM(Rådata!M48:P48)*100)/SUM(Rådata!H48:K48))","v":""},{"$f":"IF(ISBLANK(Rådata!H48),\"\",((SUM(Rådata!J48:L48)-SUM(Rådata!O48:P48))*100)/SUM(Rådata!H48:L48))","v":""},{"$f":"IF(ISBLANK(Rådata!R48),\"\",(Rådata!Q48*100)/Rådata!R48)","v":""}]
[{"$f":"IF(ISBLANK(Rådata!A49)=TRUE,\"\",Rådata!A49)","v":""},{"$f":"IF(ISBLANK(Rådata!A49)=TRUE,\"\",YEAR(A49))","v":""},{"$f":"IF(ISBLANK(Rådata!A49)=TRUE,\"\",VLOOKUP(MONTH(A49),Opsætning!$G$3:$H$14,2,FALSE))","v":""},{"$f":"IF(ISBLANK(Rådata!B49)=TRUE,\"\",(Rådata!C49*100)/Rådata!B49)","v":""},{"$f":"IF(ISBLANK(Rådata!D49)=TRUE,\"\",((Rådata!D49-Rådata!E49)*100)/Rådata!D49)","v":""},{"$f":"IF(ISBLANK(Rådata!G49)=TRUE,\"\",(Rådata!F49*100)/Rådata!G49)","v":""},{"$f":"IF(ISBLANK(Rådata!K49),\"\",(SUM(Rådata!M49:P49)*100)/SUM(Rådata!H49:K49))","v":""},{"$f":"IF(ISBLANK(Rådata!H49),\"\",((SUM(Rådata!J49:L49)-SUM(Rådata!O49:P49))*100)/SUM(Rådata!H49:L49))","v":""},{"$f":"IF(ISBLANK(Rådata!R49),\"\",(Rådata!Q49*100)/Rådata!R49)","v":""}]
[{"$f":"IF(ISBLANK(Rådata!A50)=TRUE,\"\",Rådata!A50)","v":""},{"$f":"IF(ISBLANK(Rådata!A50)=TRUE,\"\",YEAR(A50))","v":""},{"$f":"IF(ISBLANK(Rådata!A50)=TRUE,\"\",VLOOKUP(MONTH(A50),Opsætning!$G$3:$H$14,2,FALSE))","v":""},{"$f":"IF(ISBLANK(Rådata!B50)=TRUE,\"\",(Rådata!C50*100)/Rådata!B50)","v":""},{"$f":"IF(ISBLANK(Rådata!D50)=TRUE,\"\",((Rådata!D50-Rådata!E50)*100)/Rådata!D50)","v":""},{"$f":"IF(ISBLANK(Rådata!G50)=TRUE,\"\",(Rådata!F50*100)/Rådata!G50)","v":""},{"$f":"IF(ISBLANK(Rådata!K50),\"\",(SUM(Rådata!M50:P50)*100)/SUM(Rådata!H50:K50))","v":""},{"$f":"IF(ISBLANK(Rådata!H50),\"\",((SUM(Rådata!J50:L50)-SUM(Rådata!O50:P50))*100)/SUM(Rådata!H50:L50))","v":""},{"$f":"IF(ISBLANK(Rådata!R50),\"\",(Rådata!Q50*100)/Rådata!R50)","v":""}]
[{"$f":"IF(ISBLANK(Rådata!A51)=TRUE,\"\",Rådata!A51)","v":""},{"$f":"IF(ISBLANK(Rådata!A51)=TRUE,\"\",YEAR(A51))","v":""},{"$f":"IF(ISBLANK(Rådata!A51)=TRUE,\"\",VLOOKUP(MONTH(A51),Opsætning!$G$3:$H$14,2,FALSE))","v":""},{"$f":"IF(ISBLANK(Rådata!B51)=TRUE,\"\",(Rådata!C51*100)/Rådata!B51)","v":""},{"$f":"IF(ISBLANK(Rådata!D51)=TRUE,\"\",((Rådata!D51-Rådata!E51)*100)/Rådata!D51)","v":""},{"$f":"IF(ISBLANK(Rådata!G51)=TRUE,\"\",(Rådata!F51*100)/Rådata!G51)","v":""},{"$f":"IF(ISBLANK(Rådata!K51),\"\",(SUM(Rådata!M51:P51)*100)/SUM(Rådata!H51:K51))","v":""},{"$f":"IF(ISBLANK(Rådata!H51),\"\",((SUM(Rådata!J51:L51)-SUM(Rådata!O51:P51))*100)/SUM(Rådata!H51:L51))","v":""},{"$f":"IF(ISBLANK(Rådata!R51),\"\",(Rådata!Q51*100)/Rådata!R51)","v":""}]
[{"$f":"IF(ISBLANK(Rådata!A52)=TRUE,\"\",Rådata!A52)","v":""},{"$f":"IF(ISBLANK(Rådata!A52)=TRUE,\"\",YEAR(A52))","v":""},{"$f":"IF(ISBLANK(Rådata!A52)=TRUE,\"\",VLOOKUP(MONTH(A52),Opsætning!$G$3:$H$14,2,FALSE))","v":""},{"$f":"IF(ISBLANK(Rådata!B52)=TRUE,\"\",(Rådata!C52*100)/Rådata!B52)","v":""},{"$f":"IF(ISBLANK(Rådata!D52)=TRUE,\"\",((Rådata!D52-Rådata!E52)*100)/Rådata!D52)","v":""},{"$f":"IF(ISBLANK(Rådata!G52)=TRUE,\"\",(Rådata!F52*100)/Rådata!G52)","v":""},{"$f":"IF(ISBLANK(Rådata!K52),\"\",(SUM(Rådata!M52:P52)*100)/SUM(Rådata!H52:K52))","v":""},{"$f":"IF(ISBLANK(Rådata!H52),\"\",((SUM(Rådata!J52:L52)-SUM(Rådata!O52:P52))*100)/SUM(Rådata!H52:L52))","v":""},{"$f":"IF(ISBLANK(Rådata!R52),\"\",(Rådata!Q52*100)/Rådata!R52)","v":""}]
[{"$f":"IF(ISBLANK(Rådata!A53)=TRUE,\"\",Rådata!A53)","v":""},{"$f":"IF(ISBLANK(Rådata!A53)=TRUE,\"\",YEAR(A53))","v":""},{"$f":"IF(ISBLANK(Rådata!A53)=TRUE,\"\",VLOOKUP(MONTH(A53),Opsætning!$G$3:$H$14,2,FALSE))","v":""},{"$f":"IF(ISBLANK(Rådata!B53)=TRUE,\"\",(Rådata!C53*100)/Rådata!B53)","v":""},{"$f":"IF(ISBLANK(Rådata!D53)=TRUE,\"\",((Rådata!D53-Rådata!E53)*100)/Rådata!D53)","v":""},{"$f":"IF(ISBLANK(Rådata!G53)=TRUE,\"\",(Rådata!F53*100)/Rådata!G53)","v":""},{"$f":"IF(ISBLANK(Rådata!K53),\"\",(SUM(Rådata!M53:P53)*100)/SUM(Rådata!H53:K53))","v":""},{"$f":"IF(ISBLANK(Rådata!H53),\"\",((SUM(Rådata!J53:L53)-SUM(Rådata!O53:P53))*100)/SUM(Rådata!H53:L53))","v":""},{"$f":"IF(ISBLANK(Rådata!R53),\"\",(Rådata!Q53*100)/Rådata!R53)","v":""}]
[{"$f":"IF(ISBLANK(Rådata!A54)=TRUE,\"\",Rådata!A54)","v":""},{"$f":"IF(ISBLANK(Rådata!A54)=TRUE,\"\",YEAR(A54))","v":""},{"$f":"IF(ISBLANK(Rådata!A54)=TRUE,\"\",VLOOKUP(MONTH(A54),Opsætning!$G$3:$H$14,2,FALSE))","v":""},{"$f":"IF(ISBLANK(Rådata!B54)=TRUE,\"\",(Rådata!C54*100)/Rådata!B54)","v":""},{"$f":"IF(ISBLANK(Rådata!D54)=TRUE,\"\",((Rådata!D54-Rådata!E54)*100)/Rådata!D54)","v":""},{"$f":"IF(ISBLANK(Rådata!G54)=TRUE,\"\",(Rådata!F54*100)/Rådata!G54)","v":""},{"$f":"IF(ISBLANK(Rådata!K54),\"\",(SUM(Rådata!M54:P54)*100)/SUM(Rådata!H54:K54))","v":""},{"$f":"IF(ISBLANK(Rådata!H54),\"\",((SUM(Rådata!J54:L54)-SUM(Rådata!O54:P54))*100)/SUM(Rådata!H54:L54))","v":""},{"$f":"IF(ISBLANK(Rådata!R54),\"\",(Rådata!Q54*100)/Rådata!R54)","v":""}]
[{"$f":"IF(ISBLANK(Rådata!A55)=TRUE,\"\",Rådata!A55)","v":""},{"$f":"IF(ISBLANK(Rådata!A55)=TRUE,\"\",YEAR(A55))","v":""},{"$f":"IF(ISBLANK(Rådata!A55)=TRUE,\"\",VLOOKUP(MONTH(A55),Opsætning!$G$3:$H$14,2,FALSE))","v":""},{"$f":"IF(ISBLANK(Rådata!B55)=TRUE,\"\",(Rådata!C55*100)/Rådata!B55)","v":""},{"$f":"IF(ISBLANK(Rådata!D55)=TRUE,\"\",((Rådata!D55-Rådata!E55)*100)/Rådata!D55)","v":""},{"$f":"IF(ISBLANK(Rådata!G55)=TRUE,\"\",(Rådata!F55*100)/Rådata!G55)","v":""},{"$f":"IF(ISBLANK(Rådata!K55),\"\",(SUM(Rådata!M55:P55)*100)/SUM(Rådata!H55:K55))","v":""},{"$f":"IF(ISBLANK(Rådata!H55),\"\",((SUM(Rådata!J55:L55)-SUM(Rådata!O55:P55))*100)/SUM(Rådata!H55:L55))","v":""},{"$f":"IF(ISBLANK(Rådata!R55),\"\",(Rådata!Q55*100)/Rådata!R55)","v":""}]
[{"$f":"IF(ISBLANK(Rådata!A56)=TRUE,\"\",Rådata!A56)","v":""},{"$f":"IF(ISBLANK(Rådata!A56)=TRUE,\"\",YEAR(A56))","v":""},{"$f":"IF(ISBLANK(Rådata!A56)=TRUE,\"\",VLOOKUP(MONTH(A56),Opsætning!$G$3:$H$14,2,FALSE))","v":""},{"$f":"IF(ISBLANK(Rådata!B56)=TRUE,\"\",(Rådata!C56*100)/Rådata!B56)","v":""},{"$f":"IF(ISBLANK(Rådata!D56)=TRUE,\"\",((Rådata!D56-Rådata!E56)*100)/Rådata!D56)","v":""},{"$f":"IF(ISBLANK(Rådata!G56)=TRUE,\"\",(Rådata!F56*100)/Rådata!G56)","v":""},{"$f":"IF(ISBLANK(Rådata!K56),\"\",(SUM(Rådata!M56:P56)*100)/SUM(Rådata!H56:K56))","v":""},{"$f":"IF(ISBLANK(Rådata!H56),\"\",((SUM(Rådata!J56:L56)-SUM(Rådata!O56:P56))*100)/SUM(Rådata!H56:L56))","v":""},{"$f":"IF(ISBLANK(Rådata!R56),\"\",(Rådata!Q56*100)/Rådata!R56)","v":""}]
[{"$f":"IF(ISBLANK(Rådata!A57)=TRUE,\"\",Rådata!A57)","v":""},{"$f":"IF(ISBLANK(Rådata!A57)=TRUE,\"\",YEAR(A57))","v":""},{"$f":"IF(ISBLANK(Rådata!A57)=TRUE,\"\",VLOOKUP(MONTH(A57),Opsætning!$G$3:$H$14,2,FALSE))","v":""},{"$f":"IF(ISBLANK(Rådata!B57)=TRUE,\"\",(Rådata!C57*100)/Rådata!B57)","v":""},{"$f":"IF(ISBLANK(Rådata!D57)=TRUE,\"\",((Rådata!D57-Rådata!E57)*100)/Rådata!D57)","v":""},{"$f":"IF(ISBLANK(Rådata!G57)=TRUE,\"\",(Rådata!F57*100)/Rådata!G57)","v":""},{"$f":"IF(ISBLANK(Rådata!K57),\"\",(SUM(Rådata!M57:P57)*100)/SUM(Rådata!H57:K57))","v":""},{"$f":"IF(ISBLANK(Rådata!H57),\"\",((SUM(Rådata!J57:L57)-SUM(Rådata!O57:P57))*100)/SUM(Rådata!H57:L57))","v":""},{"$f":"IF(ISBLANK(Rådata!R57),\"\",(Rådata!Q57*100)/Rådata!R57)","v":""}]
[{"$f":"IF(ISBLANK(Rådata!A58)=TRUE,\"\",Rådata!A58)","v":""},{"$f":"IF(ISBLANK(Rådata!A58)=TRUE,\"\",YEAR(A58))","v":""},{"$f":"IF(ISBLANK(Rådata!A58)=TRUE,\"\",VLOOKUP(MONTH(A58),Opsætning!$G$3:$H$14,2,FALSE))","v":""},{"$f":"IF(ISBLANK(Rådata!B58)=TRUE,\"\",(Rådata!C58*100)/Rådata!B58)","v":""},{"$f":"IF(ISBLANK(Rådata!D58)=TRUE,\"\",((Rådata!D58-Rådata!E58)*100)/Rådata!D58)","v":""},{"$f":"IF(ISBLANK(Rådata!G58)=TRUE,\"\",(Rådata!F58*100)/Rådata!G58)","v":""},{"$f":"IF(ISBLANK(Rådata!K58),\"\",(SUM(Rådata!M58:P58)*100)/SUM(Rådata!H58:K58))","v":""},{"$f":"IF(ISBLANK(Rådata!H58),\"\",((SUM(Rådata!J58:L58)-SUM(Rådata!O58:P58))*100)/SUM(Rådata!H58:L58))","v":""},{"$f":"IF(ISBLANK(Rådata!R58),\"\",(Rådata!Q58*100)/Rådata!R58)","v":""}]
[{"$f":"IF(ISBLANK(Rådata!A59)=TRUE,\"\",Rådata!A59)","v":""},{"$f":"IF(ISBLANK(Rådata!A59)=TRUE,\"\",YEAR(A59))","v":""},{"$f":"IF(ISBLANK(Rådata!A59)=TRUE,\"\",VLOOKUP(MONTH(A59),Opsætning!$G$3:$H$14,2,FALSE))","v":""},{"$f":"IF(ISBLANK(Rådata!B59)=TRUE,\"\",(Rådata!C59*100)/Rådata!B59)","v":""},{"$f":"IF(ISBLANK(Rådata!D59)=TRUE,\"\",((Rådata!D59-Rådata!E59)*100)/Rådata!D59)","v":""},{"$f":"IF(ISBLANK(Rådata!G59)=TRUE,\"\",(Rådata!F59*100)/Rådata!G59)","v":""},{"$f":"IF(ISBLANK(Rådata!K59),\"\",(SUM(Rådata!M59:P59)*100)/SUM(Rådata!H59:K59))","v":""},{"$f":"IF(ISBLANK(Rådata!H59),\"\",((SUM(Rådata!J59:L59)-SUM(Rådata!O59:P59))*100)/SUM(Rådata!H59:L59))","v":""},{"$f":"IF(ISBLANK(Rådata!R59),\"\",(Rådata!Q59*100)/Rådata!R59)","v":""}]
[{"$f":"IF(ISBLANK(Rådata!A60)=TRUE,\"\",Rådata!A60)","v":""},{"$f":"IF(ISBLANK(Rådata!A60)=TRUE,\"\",YEAR(A60))","v":""},{"$f":"IF(ISBLANK(Rådata!A60)=TRUE,\"\",VLOOKUP(MONTH(A60),Opsætning!$G$3:$H$14,2,FALSE))","v":""},{"$f":"IF(ISBLANK(Rådata!B60)=TRUE,\"\",(Rådata!C60*100)/Rådata!B60)","v":""},{"$f":"IF(ISBLANK(Rådata!D60)=TRUE,\"\",((Rådata!D60-Rådata!E60)*100)/Rådata!D60)","v":""},{"$f":"IF(ISBLANK(Rådata!G60)=TRUE,\"\",(Rådata!F60*100)/Rådata!G60)","v":""},{"$f":"IF(ISBLANK(Rådata!K60),\"\",(SUM(Rådata!M60:P60)*100)/SUM(Rådata!H60:K60))","v":""},{"$f":"IF(ISBLANK(Rådata!H60),\"\",((SUM(Rådata!J60:L60)-SUM(Rådata!O60:P60))*100)/SUM(Rådata!H60:L60))","v":""},{"$f":"IF(ISBLANK(Rådata!R60),\"\",(Rådata!Q60*100)/Rådata!R60)","v":""}]
[{"$f":"IF(ISBLANK(Rådata!A61)=TRUE,\"\",Rådata!A61)","v":""},{"$f":"IF(ISBLANK(Rådata!A61)=TRUE,\"\",YEAR(A61))","v":""},{"$f":"IF(ISBLANK(Rådata!A61)=TRUE,\"\",VLOOKUP(MONTH(A61),Opsætning!$G$3:$H$14,2,FALSE))","v":""},{"$f":"IF(ISBLANK(Rådata!B61)=TRUE,\"\",(Rådata!C61*100)/Rådata!B61)","v":""},{"$f":"IF(ISBLANK(Rådata!D61)=TRUE,\"\",((Rådata!D61-Rådata!E61)*100)/Rådata!D61)","v":""},{"$f":"IF(ISBLANK(Rådata!G61)=TRUE,\"\",(Rådata!F61*100)/Rådata!G61)","v":""},{"$f":"IF(ISBLANK(Rådata!K61),\"\",(SUM(Rådata!M61:P61)*100)/SUM(Rådata!H61:K61))","v":""},{"$f":"IF(ISBLANK(Rådata!H61),\"\",((SUM(Rådata!J61:L61)-SUM(Rådata!O61:P61))*100)/SUM(Rådata!H61:L61))","v":""},{"$f":"IF(ISBLANK(Rådata!R61),\"\",(Rådata!Q61*100)/Rådata!R61)","v":""}]
[{"$f":"IF(ISBLANK(Rådata!A62)=TRUE,\"\",Rådata!A62)","v":""},{"$f":"IF(ISBLANK(Rådata!A62)=TRUE,\"\",YEAR(A62))","v":""},{"$f":"IF(ISBLANK(Rådata!A62)=TRUE,\"\",VLOOKUP(MONTH(A62),Opsætning!$G$3:$H$14,2,FALSE))","v":""},{"$f":"IF(ISBLANK(Rådata!B62)=TRUE,\"\",(Rådata!C62*100)/Rådata!B62)","v":""},{"$f":"IF(ISBLANK(Rådata!D62)=TRUE,\"\",((Rådata!D62-Rådata!E62)*100)/Rådata!D62)","v":""},{"$f":"IF(ISBLANK(Rådata!G62)=TRUE,\"\",(Rådata!F62*100)/Rådata!G62)","v":""},{"$f":"IF(ISBLANK(Rådata!K62),\"\",(SUM(Rådata!M62:P62)*100)/SUM(Rådata!H62:K62))","v":""},{"$f":"IF(ISBLANK(Rådata!H62),\"\",((SUM(Rådata!J62:L62)-SUM(Rådata!O62:P62))*100)/SUM(Rådata!H62:L62))","v":""},{"$f":"IF(ISBLANK(Rådata!R62),\"\",(Rådata!Q62*100)/Rådata!R62)","v":""}]
[{"$f":"IF(ISBLANK(Rådata!A63)=TRUE,\"\",Rådata!A63)","v":""},{"$f":"IF(ISBLANK(Rådata!A63)=TRUE,\"\",YEAR(A63))","v":""},{"$f":"IF(ISBLANK(Rådata!A63)=TRUE,\"\",VLOOKUP(MONTH(A63),Opsætning!$G$3:$H$14,2,FALSE))","v":""},{"$f":"IF(ISBLANK(Rådata!B63)=TRUE,\"\",(Rådata!C63*100)/Rådata!B63)","v":""},{"$f":"IF(ISBLANK(Rådata!D63)=TRUE,\"\",((Rådata!D63-Rådata!E63)*100)/Rådata!D63)","v":""},{"$f":"IF(ISBLANK(Rådata!G63)=TRUE,\"\",(Rådata!F63*100)/Rådata!G63)","v":""},{"$f":"IF(ISBLANK(Rådata!K63),\"\",(SUM(Rådata!M63:P63)*100)/SUM(Rådata!H63:K63))","v":""},{"$f":"IF(ISBLANK(Rådata!H63),\"\",((SUM(Rådata!J63:L63)-SUM(Rådata!O63:P63))*100)/SUM(Rådata!H63:L63))","v":""},{"$f":"IF(ISBLANK(Rådata!R63),\"\",(Rådata!Q63*100)/Rådata!R63)","v":""}]
[{"$f":"IF(ISBLANK(Rådata!A64)=TRUE,\"\",Rådata!A64)","v":""},{"$f":"IF(ISBLANK(Rådata!A64)=TRUE,\"\",YEAR(A64))","v":""},{"$f":"IF(ISBLANK(Rådata!A64)=TRUE,\"\",VLOOKUP(MONTH(A64),Opsætning!$G$3:$H$14,2,FALSE))","v":""},{"$f":"IF(ISBLANK(Rådata!B64)=TRUE,\"\",(Rådata!C64*100)/Rådata!B64)","v":""},{"$f":"IF(ISBLANK(Rådata!D64)=TRUE,\"\",((Rådata!D64-Rådata!E64)*100)/Rådata!D64)","v":""},{"$f":"IF(ISBLANK(Rådata!G64)=TRUE,\"\",(Rådata!F64*100)/Rådata!G64)","v":""},{"$f":"IF(ISBLANK(Rådata!K64),\"\",(SUM(Rådata!M64:P64)*100)/SUM(Rådata!H64:K64))","v":""},{"$f":"IF(ISBLANK(Rådata!H64),\"\",((SUM(Rådata!J64:L64)-SUM(Rådata!O64:P64))*100)/SUM(Rådata!H64:L64))","v":""},{"$f":"IF(ISBLANK(Rådata!R64),\"\",(Rådata!Q64*100)/Rådata!R64)","v":""}]
[{"$f":"IF(ISBLANK(Rådata!A65)=TRUE,\"\",Rådata!A65)","v":""},{"$f":"IF(ISBLANK(Rådata!A65)=TRUE,\"\",YEAR(A65))","v":""},{"$f":"IF(ISBLANK(Rådata!A65)=TRUE,\"\",VLOOKUP(MONTH(A65),Opsætning!$G$3:$H$14,2,FALSE))","v":""},{"$f":"IF(ISBLANK(Rådata!B65)=TRUE,\"\",(Rådata!C65*100)/Rådata!B65)","v":""},{"$f":"IF(ISBLANK(Rådata!D65)=TRUE,\"\",((Rådata!D65-Rådata!E65)*100)/Rådata!D65)","v":""},{"$f":"IF(ISBLANK(Rådata!G65)=TRUE,\"\",(Rådata!F65*100)/Rådata!G65)","v":""},{"$f":"IF(ISBLANK(Rådata!K65),\"\",(SUM(Rådata!M65:P65)*100)/SUM(Rådata!H65:K65))","v":""},{"$f":"IF(ISBLANK(Rådata!H65),\"\",((SUM(Rådata!J65:L65)-SUM(Rådata!O65:P65))*100)/SUM(Rådata!H65:L65))","v":""},{"$f":"IF(ISBLANK(Rådata!R65),\"\",(Rådata!Q65*100)/Rådata!R65)","v":""}]
[{"$f":"IF(ISBLANK(Rådata!A66)=TRUE,\"\",Rådata!A66)","v":""},{"$f":"IF(ISBLANK(Rådata!A66)=TRUE,\"\",YEAR(A66))","v":""},{"$f":"IF(ISBLANK(Rådata!A66)=TRUE,\"\",VLOOKUP(MONTH(A66),Opsætning!$G$3:$H$14,2,FALSE))","v":""},{"$f":"IF(ISBLANK(Rådata!B66)=TRUE,\"\",(Rådata!C66*100)/Rådata!B66)","v":""},{"$f":"IF(ISBLANK(Rådata!D66)=TRUE,\"\",((Rådata!D66-Rådata!E66)*100)/Rådata!D66)","v":""},{"$f":"IF(ISBLANK(Rådata!G66)=TRUE,\"\",(Rådata!F66*100)/Rådata!G66)","v":""},{"$f":"IF(ISBLANK(Rådata!K66),\"\",(SUM(Rådata!M66:P66)*100)/SUM(Rådata!H66:K66))","v":""},{"$f":"IF(ISBLANK(Rådata!H66),\"\",((SUM(Rådata!J66:L66)-SUM(Rådata!O66:P66))*100)/SUM(Rådata!H66:L66))","v":""},{"$f":"IF(ISBLANK(Rådata!R66),\"\",(Rådata!Q66*100)/Rådata!R66)","v":""}]
[{"$f":"IF(ISBLANK(Rådata!A67)=TRUE,\"\",Rådata!A67)","v":""},{"$f":"IF(ISBLANK(Rådata!A67)=TRUE,\"\",YEAR(A67))","v":""},{"$f":"IF(ISBLANK(Rådata!A67)=TRUE,\"\",VLOOKUP(MONTH(A67),Opsætning!$G$3:$H$14,2,FALSE))","v":""},{"$f":"IF(ISBLANK(Rådata!B67)=TRUE,\"\",(Rådata!C67*100)/Rådata!B67)","v":""},{"$f":"IF(ISBLANK(Rådata!D67)=TRUE,\"\",((Rådata!D67-Rådata!E67)*100)/Rådata!D67)","v":""},{"$f":"IF(ISBLANK(Rådata!G67)=TRUE,\"\",(Rådata!F67*100)/Rådata!G67)","v":""},{"$f":"IF(ISBLANK(Rådata!K67),\"\",(SUM(Rådata!M67:P67)*100)/SUM(Rådata!H67:K67))","v":""},{"$f":"IF(ISBLANK(Rådata!H67),\"\",((SUM(Rådata!J67:L67)-SUM(Rådata!O67:P67))*100)/SUM(Rådata!H67:L67))","v":""},{"$f":"IF(ISBLANK(Rådata!R67),\"\",(Rådata!Q67*100)/Rådata!R67)","v":""}]
[{"$f":"IF(ISBLANK(Rådata!A68)=TRUE,\"\",Rådata!A68)","v":""},{"$f":"IF(ISBLANK(Rådata!A68)=TRUE,\"\",YEAR(A68))","v":""},{"$f":"IF(ISBLANK(Rådata!A68)=TRUE,\"\",VLOOKUP(MONTH(A68),Opsætning!$G$3:$H$14,2,FALSE))","v":""},{"$f":"IF(ISBLANK(Rådata!B68)=TRUE,\"\",(Rådata!C68*100)/Rådata!B68)","v":""},{"$f":"IF(ISBLANK(Rådata!D68)=TRUE,\"\",((Rådata!D68-Rådata!E68)*100)/Rådata!D68)","v":""},{"$f":"IF(ISBLANK(Rådata!G68)=TRUE,\"\",(Rådata!F68*100)/Rådata!G68)","v":""},{"$f":"IF(ISBLANK(Rådata!K68),\"\",(SUM(Rådata!M68:P68)*100)/SUM(Rådata!H68:K68))","v":""},{"$f":"IF(ISBLANK(Rådata!H68),\"\",((SUM(Rådata!J68:L68)-SUM(Rådata!O68:P68))*100)/SUM(Rådata!H68:L68))","v":""},{"$f":"IF(ISBLANK(Rådata!R68),\"\",(Rådata!Q68*100)/Rådata!R68)","v":""}]
[{"$f":"IF(ISBLANK(Rådata!A69)=TRUE,\"\",Rådata!A69)","v":""},{"$f":"IF(ISBLANK(Rådata!A69)=TRUE,\"\",YEAR(A69))","v":""},{"$f":"IF(ISBLANK(Rådata!A69)=TRUE,\"\",VLOOKUP(MONTH(A69),Opsætning!$G$3:$H$14,2,FALSE))","v":""},{"$f":"IF(ISBLANK(Rådata!B69)=TRUE,\"\",(Rådata!C69*100)/Rådata!B69)","v":""},{"$f":"IF(ISBLANK(Rådata!D69)=TRUE,\"\",((Rådata!D69-Rådata!E69)*100)/Rådata!D69)","v":""},{"$f":"IF(ISBLANK(Rådata!G69)=TRUE,\"\",(Rådata!F69*100)/Rådata!G69)","v":""},{"$f":"IF(ISBLANK(Rådata!K69),\"\",(SUM(Rådata!M69:P69)*100)/SUM(Rådata!H69:K69))","v":""},{"$f":"IF(ISBLANK(Rådata!H69),\"\",((SUM(Rådata!J69:L69)-SUM(Rådata!O69:P69))*100)/SUM(Rådata!H69:L69))","v":""},{"$f":"IF(ISBLANK(Rådata!R69),\"\",(Rådata!Q69*100)/Rådata!R69)","v":""}]
[{"$f":"IF(ISBLANK(Rådata!A70)=TRUE,\"\",Rådata!A70)","v":""},{"$f":"IF(ISBLANK(Rådata!A70)=TRUE,\"\",YEAR(A70))","v":""},{"$f":"IF(ISBLANK(Rådata!A70)=TRUE,\"\",VLOOKUP(MONTH(A70),Opsætning!$G$3:$H$14,2,FALSE))","v":""},{"$f":"IF(ISBLANK(Rådata!B70)=TRUE,\"\",(Rådata!C70*100)/Rådata!B70)","v":""},{"$f":"IF(ISBLANK(Rådata!D70)=TRUE,\"\",((Rådata!D70-Rådata!E70)*100)/Rådata!D70)","v":""},{"$f":"IF(ISBLANK(Rådata!G70)=TRUE,\"\",(Rådata!F70*100)/Rådata!G70)","v":""},{"$f":"IF(ISBLANK(Rådata!K70),\"\",(SUM(Rådata!M70:P70)*100)/SUM(Rådata!H70:K70))","v":""},{"$f":"IF(ISBLANK(Rådata!H70),\"\",((SUM(Rådata!J70:L70)-SUM(Rådata!O70:P70))*100)/SUM(Rådata!H70:L70))","v":""},{"$f":"IF(ISBLANK(Rådata!R70),\"\",(Rådata!Q70*100)/Rådata!R70)","v":""}]
[{"$f":"IF(ISBLANK(Rådata!A71)=TRUE,\"\",Rådata!A71)","v":""},{"$f":"IF(ISBLANK(Rådata!A71)=TRUE,\"\",YEAR(A71))","v":""},{"$f":"IF(ISBLANK(Rådata!A71)=TRUE,\"\",VLOOKUP(MONTH(A71),Opsætning!$G$3:$H$14,2,FALSE))","v":""},{"$f":"IF(ISBLANK(Rådata!B71)=TRUE,\"\",(Rådata!C71*100)/Rådata!B71)","v":""},{"$f":"IF(ISBLANK(Rådata!D71)=TRUE,\"\",((Rådata!D71-Rådata!E71)*100)/Rådata!D71)","v":""},{"$f":"IF(ISBLANK(Rådata!G71)=TRUE,\"\",(Rådata!F71*100)/Rådata!G71)","v":""},{"$f":"IF(ISBLANK(Rådata!K71),\"\",(SUM(Rådata!M71:P71)*100)/SUM(Rådata!H71:K71))","v":""},{"$f":"IF(ISBLANK(Rådata!H71),\"\",((SUM(Rådata!J71:L71)-SUM(Rådata!O71:P71))*100)/SUM(Rådata!H71:L71))","v":""},{"$f":"IF(ISBLANK(Rådata!R71),\"\",(Rådata!Q71*100)/Rådata!R71)","v":""}]
[{"$f":"IF(ISBLANK(Rådata!A72)=TRUE,\"\",Rådata!A72)","v":""},{"$f":"IF(ISBLANK(Rådata!A72)=TRUE,\"\",YEAR(A72))","v":""},{"$f":"IF(ISBLANK(Rådata!A72)=TRUE,\"\",VLOOKUP(MONTH(A72),Opsætning!$G$3:$H$14,2,FALSE))","v":""},{"$f":"IF(ISBLANK(Rådata!B72)=TRUE,\"\",(Rådata!C72*100)/Rådata!B72)","v":""},{"$f":"IF(ISBLANK(Rådata!D72)=TRUE,\"\",((Rådata!D72-Rådata!E72)*100)/Rådata!D72)","v":""},{"$f":"IF(ISBLANK(Rådata!G72)=TRUE,\"\",(Rådata!F72*100)/Rådata!G72)","v":""},{"$f":"IF(ISBLANK(Rådata!K72),\"\",(SUM(Rådata!M72:P72)*100)/SUM(Rådata!H72:K72))","v":""},{"$f":"IF(ISBLANK(Rådata!H72),\"\",((SUM(Rådata!J72:L72)-SUM(Rådata!O72:P72))*100)/SUM(Rådata!H72:L72))","v":""},{"$f":"IF(ISBLANK(Rådata!R72),\"\",(Rådata!Q72*100)/Rådata!R72)","v":""}]
[{"$f":"IF(ISBLANK(Rådata!A73)=TRUE,\"\",Rådata!A73)","v":""},{"$f":"IF(ISBLANK(Rådata!A73)=TRUE,\"\",YEAR(A73))","v":""},{"$f":"IF(ISBLANK(Rådata!A73)=TRUE,\"\",VLOOKUP(MONTH(A73),Opsætning!$G$3:$H$14,2,FALSE))","v":""},{"$f":"IF(ISBLANK(Rådata!B73)=TRUE,\"\",(Rådata!C73*100)/Rådata!B73)","v":""},{"$f":"IF(ISBLANK(Rådata!D73)=TRUE,\"\",((Rådata!D73-Rådata!E73)*100)/Rådata!D73)","v":""},{"$f":"IF(ISBLANK(Rådata!G73)=TRUE,\"\",(Rådata!F73*100)/Rådata!G73)","v":""},{"$f":"IF(ISBLANK(Rådata!K73),\"\",(SUM(Rådata!M73:P73)*100)/SUM(Rådata!H73:K73))","v":""},{"$f":"IF(ISBLANK(Rådata!H73),\"\",((SUM(Rådata!J73:L73)-SUM(Rådata!O73:P73))*100)/SUM(Rådata!H73:L73))","v":""},{"$f":"IF(ISBLANK(Rådata!R73),\"\",(Rådata!Q73*100)/Rådata!R73)","v":""}]
[{"$f":"IF(ISBLANK(Rådata!A74)=TRUE,\"\",Rådata!A74)","v":""},{"$f":"IF(ISBLANK(Rådata!A74)=TRUE,\"\",YEAR(A74))","v":""},{"$f":"IF(ISBLANK(Rådata!A74)=TRUE,\"\",VLOOKUP(MONTH(A74),Opsætning!$G$3:$H$14,2,FALSE))","v":""},{"$f":"IF(ISBLANK(Rådata!B74)=TRUE,\"\",(Rådata!C74*100)/Rådata!B74)","v":""},{"$f":"IF(ISBLANK(Rådata!D74)=TRUE,\"\",((Rådata!D74-Rådata!E74)*100)/Rådata!D74)","v":""},{"$f":"IF(ISBLANK(Rådata!G74)=TRUE,\"\",(Rådata!F74*100)/Rådata!G74)","v":""},{"$f":"IF(ISBLANK(Rådata!K74),\"\",(SUM(Rådata!M74:P74)*100)/SUM(Rådata!H74:K74))","v":""},{"$f":"IF(ISBLANK(Rådata!H74),\"\",((SUM(Rådata!J74:L74)-SUM(Rådata!O74:P74))*100)/SUM(Rådata!H74:L74))","v":""},{"$f":"IF(ISBLANK(Rådata!R74),\"\",(Rådata!Q74*100)/Rådata!R74)","v":""}]
[{"$f":"IF(ISBLANK(Rådata!A75)=TRUE,\"\",Rådata!A75)","v":""},{"$f":"IF(ISBLANK(Rådata!A75)=TRUE,\"\",YEAR(A75))","v":""},{"$f":"IF(ISBLANK(Rådata!A75)=TRUE,\"\",VLOOKUP(MONTH(A75),Opsætning!$G$3:$H$14,2,FALSE))","v":""},{"$f":"IF(ISBLANK(Rådata!B75)=TRUE,\"\",(Rådata!C75*100)/Rådata!B75)","v":""},{"$f":"IF(ISBLANK(Rådata!D75)=TRUE,\"\",((Rådata!D75-Rådata!E75)*100)/Rådata!D75)","v":""},{"$f":"IF(ISBLANK(Rådata!G75)=TRUE,\"\",(Rådata!F75*100)/Rådata!G75)","v":""},{"$f":"IF(ISBLANK(Rådata!K75),\"\",(SUM(Rådata!M75:P75)*100)/SUM(Rådata!H75:K75))","v":""},{"$f":"IF(ISBLANK(Rådata!H75),\"\",((SUM(Rådata!J75:L75)-SUM(Rådata!O75:P75))*100)/SUM(Rådata!H75:L75))","v":""},{"$f":"IF(ISBLANK(Rådata!R75),\"\",(Rådata!Q75*100)/Rådata!R75)","v":""}]
[{"$f":"IF(ISBLANK(Rådata!A76)=TRUE,\"\",Rådata!A76)","v":""},{"$f":"IF(ISBLANK(Rådata!A76)=TRUE,\"\",YEAR(A76))","v":""},{"$f":"IF(ISBLANK(Rådata!A76)=TRUE,\"\",VLOOKUP(MONTH(A76),Opsætning!$G$3:$H$14,2,FALSE))","v":""},{"$f":"IF(ISBLANK(Rådata!B76)=TRUE,\"\",(Rådata!C76*100)/Rådata!B76)","v":""},{"$f":"IF(ISBLANK(Rådata!D76)=TRUE,\"\",((Rådata!D76-Rådata!E76)*100)/Rådata!D76)","v":""},{"$f":"IF(ISBLANK(Rådata!G76)=TRUE,\"\",(Rådata!F76*100)/Rådata!G76)","v":""},{"$f":"IF(ISBLANK(Rådata!K76),\"\",(SUM(Rådata!M76:P76)*100)/SUM(Rådata!H76:K76))","v":""},{"$f":"IF(ISBLANK(Rådata!H76),\"\",((SUM(Rådata!J76:L76)-SUM(Rådata!O76:P76))*100)/SUM(Rådata!H76:L76))","v":""},{"$f":"IF(ISBLANK(Rådata!R76),\"\",(Rådata!Q76*100)/Rådata!R76)","v":""}]
[{"$f":"IF(ISBLANK(Rådata!A77)=TRUE,\"\",Rådata!A77)","v":""},{"$f":"IF(ISBLANK(Rådata!A77)=TRUE,\"\",YEAR(A77))","v":""},{"$f":"IF(ISBLANK(Rådata!A77)=TRUE,\"\",VLOOKUP(MONTH(A77),Opsætning!$G$3:$H$14,2,FALSE))","v":""},{"$f":"IF(ISBLANK(Rådata!B77)=TRUE,\"\",(Rådata!C77*100)/Rådata!B77)","v":""},{"$f":"IF(ISBLANK(Rådata!D77)=TRUE,\"\",((Rådata!D77-Rådata!E77)*100)/Rådata!D77)","v":""},{"$f":"IF(ISBLANK(Rådata!G77)=TRUE,\"\",(Rådata!F77*100)/Rådata!G77)","v":""},{"$f":"IF(ISBLANK(Rådata!K77),\"\",(SUM(Rådata!M77:P77)*100)/SUM(Rådata!H77:K77))","v":""},{"$f":"IF(ISBLANK(Rådata!H77),\"\",((SUM(Rådata!J77:L77)-SUM(Rådata!O77:P77))*100)/SUM(Rådata!H77:L77))","v":""},{"$f":"IF(ISBLANK(Rådata!R77),\"\",(Rådata!Q77*100)/Rådata!R77)","v":""}]
[{"$f":"IF(ISBLANK(Rådata!A78)=TRUE,\"\",Rådata!A78)","v":""},{"$f":"IF(ISBLANK(Rådata!A78)=TRUE,\"\",YEAR(A78))","v":""},{"$f":"IF(ISBLANK(Rådata!A78)=TRUE,\"\",VLOOKUP(MONTH(A78),Opsætning!$G$3:$H$14,2,FALSE))","v":""},{"$f":"IF(ISBLANK(Rådata!B78)=TRUE,\"\",(Rådata!C78*100)/Rådata!B78)","v":""},{"$f":"IF(ISBLANK(Rådata!D78)=TRUE,\"\",((Rådata!D78-Rådata!E78)*100)/Rådata!D78)","v":""},{"$f":"IF(ISBLANK(Rådata!G78)=TRUE,\"\",(Rådata!F78*100)/Rådata!G78)","v":""},{"$f":"IF(ISBLANK(Rådata!K78),\"\",(SUM(Rådata!M78:P78)*100)/SUM(Rådata!H78:K78))","v":""},{"$f":"IF(ISBLANK(Rådata!H78),\"\",((SUM(Rådata!J78:L78)-SUM(Rådata!O78:P78))*100)/SUM(Rådata!H78:L78))","v":""},{"$f":"IF(ISBLANK(Rådata!R78),\"\",(Rådata!Q78*100)/Rådata!R78)","v":""}]
[{"$f":"IF(ISBLANK(Rådata!A79)=TRUE,\"\",Rådata!A79)","v":""},{"$f":"IF(ISBLANK(Rådata!A79)=TRUE,\"\",YEAR(A79))","v":""},{"$f":"IF(ISBLANK(Rådata!A79)=TRUE,\"\",VLOOKUP(MONTH(A79),Opsætning!$G$3:$H$14,2,FALSE))","v":""},{"$f":"IF(ISBLANK(Rådata!B79)=TRUE,\"\",(Rådata!C79*100)/Rådata!B79)","v":""},{"$f":"IF(ISBLANK(Rådata!D79)=TRUE,\"\",((Rådata!D79-Rådata!E79)*100)/Rådata!D79)","v":""},{"$f":"IF(ISBLANK(Rådata!G79)=TRUE,\"\",(Rådata!F79*100)/Rådata!G79)","v":""},{"$f":"IF(ISBLANK(Rådata!K79),\"\",(SUM(Rådata!M79:P79)*100)/SUM(Rådata!H79:K79))","v":""},{"$f":"IF(ISBLANK(Rådata!H79),\"\",((SUM(Rådata!J79:L79)-SUM(Rådata!O79:P79))*100)/SUM(Rådata!H79:L79))","v":""},{"$f":"IF(ISBLANK(Rådata!R79),\"\",(Rådata!Q79*100)/Rådata!R79)","v":""}]
[{"$f":"IF(ISBLANK(Rådata!A80)=TRUE,\"\",Rådata!A80)","v":""},{"$f":"IF(ISBLANK(Rådata!A80)=TRUE,\"\",YEAR(A80))","v":""},{"$f":"IF(ISBLANK(Rådata!A80)=TRUE,\"\",VLOOKUP(MONTH(A80),Opsætning!$G$3:$H$14,2,FALSE))","v":""},{"$f":"IF(ISBLANK(Rådata!B80)=TRUE,\"\",(Rådata!C80*100)/Rådata!B80)","v":""},{"$f":"IF(ISBLANK(Rådata!D80)=TRUE,\"\",((Rådata!D80-Rådata!E80)*100)/Rådata!D80)","v":""},{"$f":"IF(ISBLANK(Rådata!G80)=TRUE,\"\",(Rådata!F80*100)/Rådata!G80)","v":""},{"$f":"IF(ISBLANK(Rådata!K80),\"\",(SUM(Rådata!M80:P80)*100)/SUM(Rådata!H80:K80))","v":""},{"$f":"IF(ISBLANK(Rådata!H80),\"\",((SUM(Rådata!J80:L80)-SUM(Rådata!O80:P80))*100)/SUM(Rådata!H80:L80))","v":""},{"$f":"IF(ISBLANK(Rådata!R80),\"\",(Rådata!Q80*100)/Rådata!R80)","v":""}]
[{"$f":"IF(ISBLANK(Rådata!A81)=TRUE,\"\",Rådata!A81)","v":""},{"$f":"IF(ISBLANK(Rådata!A81)=TRUE,\"\",YEAR(A81))","v":""},{"$f":"IF(ISBLANK(Rådata!A81)=TRUE,\"\",VLOOKUP(MONTH(A81),Opsætning!$G$3:$H$14,2,FALSE))","v":""},{"$f":"IF(ISBLANK(Rådata!B81)=TRUE,\"\",(Rådata!C81*100)/Rådata!B81)","v":""},{"$f":"IF(ISBLANK(Rådata!D81)=TRUE,\"\",((Rådata!D81-Rådata!E81)*100)/Rådata!D81)","v":""},{"$f":"IF(ISBLANK(Rådata!G81)=TRUE,\"\",(Rådata!F81*100)/Rådata!G81)","v":""},{"$f":"IF(ISBLANK(Rådata!K81),\"\",(SUM(Rådata!M81:P81)*100)/SUM(Rådata!H81:K81))","v":""},{"$f":"IF(ISBLANK(Rådata!H81),\"\",((SUM(Rådata!J81:L81)-SUM(Rådata!O81:P81))*100)/SUM(Rådata!H81:L81))","v":""},{"$f":"IF(ISBLANK(Rådata!R81),\"\",(Rådata!Q81*100)/Rådata!R81)","v":""}]
[{"$f":"IF(ISBLANK(Rådata!A82)=TRUE,\"\",Rådata!A82)","v":""},{"$f":"IF(ISBLANK(Rådata!A82)=TRUE,\"\",YEAR(A82))","v":""},{"$f":"IF(ISBLANK(Rådata!A82)=TRUE,\"\",VLOOKUP(MONTH(A82),Opsætning!$G$3:$H$14,2,FALSE))","v":""},{"$f":"IF(ISBLANK(Rådata!B82)=TRUE,\"\",(Rådata!C82*100)/Rådata!B82)","v":""},{"$f":"IF(ISBLANK(Rådata!D82)=TRUE,\"\",((Rådata!D82-Rådata!E82)*100)/Rådata!D82)","v":""},{"$f":"IF(ISBLANK(Rådata!G82)=TRUE,\"\",(Rådata!F82*100)/Rådata!G82)","v":""},{"$f":"IF(ISBLANK(Rådata!K82),\"\",(SUM(Rådata!M82:P82)*100)/SUM(Rådata!H82:K82))","v":""},{"$f":"IF(ISBLANK(Rådata!H82),\"\",((SUM(Rådata!J82:L82)-SUM(Rådata!O82:P82))*100)/SUM(Rådata!H82:L82))","v":""},{"$f":"IF(ISBLANK(Rådata!R82),\"\",(Rådata!Q82*100)/Rådata!R82)","v":""}]
[{"$f":"IF(ISBLANK(Rådata!A83)=TRUE,\"\",Rådata!A83)","v":""},{"$f":"IF(ISBLANK(Rådata!A83)=TRUE,\"\",YEAR(A83))","v":""},{"$f":"IF(ISBLANK(Rådata!A83)=TRUE,\"\",VLOOKUP(MONTH(A83),Opsætning!$G$3:$H$14,2,FALSE))","v":""},{"$f":"IF(ISBLANK(Rådata!B83)=TRUE,\"\",(Rådata!C83*100)/Rådata!B83)","v":""},{"$f":"IF(ISBLANK(Rådata!D83)=TRUE,\"\",((Rådata!D83-Rådata!E83)*100)/Rådata!D83)","v":""},{"$f":"IF(ISBLANK(Rådata!G83)=TRUE,\"\",(Rådata!F83*100)/Rådata!G83)","v":""},{"$f":"IF(ISBLANK(Rådata!K83),\"\",(SUM(Rådata!M83:P83)*100)/SUM(Rådata!H83:K83))","v":""},{"$f":"IF(ISBLANK(Rådata!H83),\"\",((SUM(Rådata!J83:L83)-SUM(Rådata!O83:P83))*100)/SUM(Rådata!H83:L83))","v":""},{"$f":"IF(ISBLANK(Rådata!R83),\"\",(Rådata!Q83*100)/Rådata!R83)","v":""}]
[{"$f":"IF(ISBLANK(Rådata!A84)=TRUE,\"\",Rådata!A84)","v":""},{"$f":"IF(ISBLANK(Rådata!A84)=TRUE,\"\",YEAR(A84))","v":""},{"$f":"IF(ISBLANK(Rådata!A84)=TRUE,\"\",VLOOKUP(MONTH(A84),Opsætning!$G$3:$H$14,2,FALSE))","v":""},{"$f":"IF(ISBLANK(Rådata!B84)=TRUE,\"\",(Rådata!C84*100)/Rådata!B84)","v":""},{"$f":"IF(ISBLANK(Rådata!D84)=TRUE,\"\",((Rådata!D84-Rådata!E84)*100)/Rådata!D84)","v":""},{"$f":"IF(ISBLANK(Rådata!G84)=TRUE,\"\",(Rådata!F84*100)/Rådata!G84)","v":""},{"$f":"IF(ISBLANK(Rådata!K84),\"\",(SUM(Rådata!M84:P84)*100)/SUM(Rådata!H84:K84))","v":""},{"$f":"IF(ISBLANK(Rådata!H84),\"\",((SUM(Rådata!J84:L84)-SUM(Rådata!O84:P84))*100)/SUM(Rådata!H84:L84))","v":""},{"$f":"IF(ISBLANK(Rådata!R84),\"\",(Rådata!Q84*100)/Rådata!R84)","v":""}]
[{"$f":"IF(ISBLANK(Rådata!A85)=TRUE,\"\",Rådata!A85)","v":""},{"$f":"IF(ISBLANK(Rådata!A85)=TRUE,\"\",YEAR(A85))","v":""},{"$f":"IF(ISBLANK(Rådata!A85)=TRUE,\"\",VLOOKUP(MONTH(A85),Opsætning!$G$3:$H$14,2,FALSE))","v":""},{"$f":"IF(ISBLANK(Rådata!B85)=TRUE,\"\",(Rådata!C85*100)/Rådata!B85)","v":""},{"$f":"IF(ISBLANK(Rådata!D85)=TRUE,\"\",((Rådata!D85-Rådata!E85)*100)/Rådata!D85)","v":""},{"$f":"IF(ISBLANK(Rådata!G85)=TRUE,\"\",(Rådata!F85*100)/Rådata!G85)","v":""},{"$f":"IF(ISBLANK(Rådata!K85),\"\",(SUM(Rådata!M85:P85)*100)/SUM(Rådata!H85:K85))","v":""},{"$f":"IF(ISBLANK(Rådata!H85),\"\",((SUM(Rådata!J85:L85)-SUM(Rådata!O85:P85))*100)/SUM(Rådata!H85:L85))","v":""},{"$f":"IF(ISBLANK(Rådata!R85),\"\",(Rådata!Q85*100)/Rådata!R85)","v":""}]
[{"$f":"IF(ISBLANK(Rådata!A86)=TRUE,\"\",Rådata!A86)","v":""},{"$f":"IF(ISBLANK(Rådata!A86)=TRUE,\"\",YEAR(A86))","v":""},{"$f":"IF(ISBLANK(Rådata!A86)=TRUE,\"\",VLOOKUP(MONTH(A86),Opsætning!$G$3:$H$14,2,FALSE))","v":""},{"$f":"IF(ISBLANK(Rådata!B86)=TRUE,\"\",(Rådata!C86*100)/Rådata!B86)","v":""},{"$f":"IF(ISBLANK(Rådata!D86)=TRUE,\"\",((Rådata!D86-Rådata!E86)*100)/Rådata!D86)","v":""},{"$f":"IF(ISBLANK(Rådata!G86)=TRUE,\"\",(Rådata!F86*100)/Rådata!G86)","v":""},{"$f":"IF(ISBLANK(Rådata!K86),\"\",(SUM(Rådata!M86:P86)*100)/SUM(Rådata!H86:K86))","v":""},{"$f":"IF(ISBLANK(Rådata!H86),\"\",((SUM(Rådata!J86:L86)-SUM(Rådata!O86:P86))*100)/SUM(Rådata!H86:L86))","v":""},{"$f":"IF(ISBLANK(Rådata!R86),\"\",(Rådata!Q86*100)/Rådata!R86)","v":""}]
[{"$f":"IF(ISBLANK(Rådata!A87)=TRUE,\"\",Rådata!A87)","v":""},{"$f":"IF(ISBLANK(Rådata!A87)=TRUE,\"\",YEAR(A87))","v":""},{"$f":"IF(ISBLANK(Rådata!A87)=TRUE,\"\",VLOOKUP(MONTH(A87),Opsætning!$G$3:$H$14,2,FALSE))","v":""},{"$f":"IF(ISBLANK(Rådata!B87)=TRUE,\"\",(Rådata!C87*100)/Rådata!B87)","v":""},{"$f":"IF(ISBLANK(Rådata!D87)=TRUE,\"\",((Rådata!D87-Rådata!E87)*100)/Rådata!D87)","v":""},{"$f":"IF(ISBLANK(Rådata!G87)=TRUE,\"\",(Rådata!F87*100)/Rådata!G87)","v":""},{"$f":"IF(ISBLANK(Rådata!K87),\"\",(SUM(Rådata!M87:P87)*100)/SUM(Rådata!H87:K87))","v":""},{"$f":"IF(ISBLANK(Rådata!H87),\"\",((SUM(Rådata!J87:L87)-SUM(Rådata!O87:P87))*100)/SUM(Rådata!H87:L87))","v":""},{"$f":"IF(ISBLANK(Rådata!R87),\"\",(Rådata!Q87*100)/Rådata!R87)","v":""}]
[{"$f":"IF(ISBLANK(Rådata!A88)=TRUE,\"\",Rådata!A88)","v":""},{"$f":"IF(ISBLANK(Rådata!A88)=TRUE,\"\",YEAR(A88))","v":""},{"$f":"IF(ISBLANK(Rådata!A88)=TRUE,\"\",VLOOKUP(MONTH(A88),Opsætning!$G$3:$H$14,2,FALSE))","v":""},{"$f":"IF(ISBLANK(Rådata!B88)=TRUE,\"\",(Rådata!C88*100)/Rådata!B88)","v":""},{"$f":"IF(ISBLANK(Rådata!D88)=TRUE,\"\",((Rådata!D88-Rådata!E88)*100)/Rådata!D88)","v":""},{"$f":"IF(ISBLANK(Rådata!G88)=TRUE,\"\",(Rådata!F88*100)/Rådata!G88)","v":""},{"$f":"IF(ISBLANK(Rådata!K88),\"\",(SUM(Rådata!M88:P88)*100)/SUM(Rådata!H88:K88))","v":""},{"$f":"IF(ISBLANK(Rådata!H88),\"\",((SUM(Rådata!J88:L88)-SUM(Rådata!O88:P88))*100)/SUM(Rådata!H88:L88))","v":""},{"$f":"IF(ISBLANK(Rådata!R88),\"\",(Rådata!Q88*100)/Rådata!R88)","v":""}]
[{"$f":"IF(ISBLANK(Rådata!A89)=TRUE,\"\",Rådata!A89)","v":""},{"$f":"IF(ISBLANK(Rådata!A89)=TRUE,\"\",YEAR(A89))","v":""},{"$f":"IF(ISBLANK(Rådata!A89)=TRUE,\"\",VLOOKUP(MONTH(A89),Opsætning!$G$3:$H$14,2,FALSE))","v":""},{"$f":"IF(ISBLANK(Rådata!B89)=TRUE,\"\",(Rådata!C89*100)/Rådata!B89)","v":""},{"$f":"IF(ISBLANK(Rådata!D89)=TRUE,\"\",((Rådata!D89-Rådata!E89)*100)/Rådata!D89)","v":""},{"$f":"IF(ISBLANK(Rådata!G89)=TRUE,\"\",(Rådata!F89*100)/Rådata!G89)","v":""},{"$f":"IF(ISBLANK(Rådata!K89),\"\",(SUM(Rådata!M89:P89)*100)/SUM(Rådata!H89:K89))","v":""},{"$f":"IF(ISBLANK(Rådata!H89),\"\",((SUM(Rådata!J89:L89)-SUM(Rådata!O89:P89))*100)/SUM(Rådata!H89:L89))","v":""},{"$f":"IF(ISBLANK(Rådata!R89),\"\",(Rådata!Q89*100)/Rådata!R89)","v":""}]
[{"$f":"IF(ISBLANK(Rådata!A90)=TRUE,\"\",Rådata!A90)","v":""},{"$f":"IF(ISBLANK(Rådata!A90)=TRUE,\"\",YEAR(A90))","v":""},{"$f":"IF(ISBLANK(Rådata!A90)=TRUE,\"\",VLOOKUP(MONTH(A90),Opsætning!$G$3:$H$14,2,FALSE))","v":""},{"$f":"IF(ISBLANK(Rådata!B90)=TRUE,\"\",(Rådata!C90*100)/Rådata!B90)","v":""},{"$f":"IF(ISBLANK(Rådata!D90)=TRUE,\"\",((Rådata!D90-Rådata!E90)*100)/Rådata!D90)","v":""},{"$f":"IF(ISBLANK(Rådata!G90)=TRUE,\"\",(Rådata!F90*100)/Rådata!G90)","v":""},{"$f":"IF(ISBLANK(Rådata!K90),\"\",(SUM(Rådata!M90:P90)*100)/SUM(Rådata!H90:K90))","v":""},{"$f":"IF(ISBLANK(Rådata!H90),\"\",((SUM(Rådata!J90:L90)-SUM(Rådata!O90:P90))*100)/SUM(Rådata!H90:L90))","v":""},{"$f":"IF(ISBLANK(Rådata!R90),\"\",(Rådata!Q90*100)/Rådata!R90)","v":""}]
[{"$f":"IF(ISBLANK(Rådata!A91)=TRUE,\"\",Rådata!A91)","v":""},{"$f":"IF(ISBLANK(Rådata!A91)=TRUE,\"\",YEAR(A91))","v":""},{"$f":"IF(ISBLANK(Rådata!A91)=TRUE,\"\",VLOOKUP(MONTH(A91),Opsætning!$G$3:$H$14,2,FALSE))","v":""},{"$f":"IF(ISBLANK(Rådata!B91)=TRUE,\"\",(Rådata!C91*100)/Rådata!B91)","v":""},{"$f":"IF(ISBLANK(Rådata!D91)=TRUE,\"\",((Rådata!D91-Rådata!E91)*100)/Rådata!D91)","v":""},{"$f":"IF(ISBLANK(Rådata!G91)=TRUE,\"\",(Rådata!F91*100)/Rådata!G91)","v":""},{"$f":"IF(ISBLANK(Rådata!K91),\"\",(SUM(Rådata!M91:P91)*100)/SUM(Rådata!H91:K91))","v":""},{"$f":"IF(ISBLANK(Rådata!H91),\"\",((SUM(Rådata!J91:L91)-SUM(Rådata!O91:P91))*100)/SUM(Rådata!H91:L91))","v":""},{"$f":"IF(ISBLANK(Rådata!R91),\"\",(Rådata!Q91*100)/Rådata!R91)","v":""}]
[{"$f":"IF(ISBLANK(Rådata!A92)=TRUE,\"\",Rådata!A92)","v":""},{"$f":"IF(ISBLANK(Rådata!A92)=TRUE,\"\",YEAR(A92))","v":""},{"$f":"IF(ISBLANK(Rådata!A92)=TRUE,\"\",VLOOKUP(MONTH(A92),Opsætning!$G$3:$H$14,2,FALSE))","v":""},{"$f":"IF(ISBLANK(Rådata!B92)=TRUE,\"\",(Rådata!C92*100)/Rådata!B92)","v":""},{"$f":"IF(ISBLANK(Rådata!D92)=TRUE,\"\",((Rådata!D92-Rådata!E92)*100)/Rådata!D92)","v":""},{"$f":"IF(ISBLANK(Rådata!G92)=TRUE,\"\",(Rådata!F92*100)/Rådata!G92)","v":""},{"$f":"IF(ISBLANK(Rådata!K92),\"\",(SUM(Rådata!M92:P92)*100)/SUM(Rådata!H92:K92))","v":""},{"$f":"IF(ISBLANK(Rådata!H92),\"\",((SUM(Rådata!J92:L92)-SUM(Rådata!O92:P92))*100)/SUM(Rådata!H92:L92))","v":""},{"$f":"IF(ISBLANK(Rådata!R92),\"\",(Rådata!Q92*100)/Rådata!R92)","v":""}]
[{"$f":"IF(ISBLANK(Rådata!A93)=TRUE,\"\",Rådata!A93)","v":""},{"$f":"IF(ISBLANK(Rådata!A93)=TRUE,\"\",YEAR(A93))","v":""},{"$f":"IF(ISBLANK(Rådata!A93)=TRUE,\"\",VLOOKUP(MONTH(A93),Opsætning!$G$3:$H$14,2,FALSE))","v":""},{"$f":"IF(ISBLANK(Rådata!B93)=TRUE,\"\",(Rådata!C93*100)/Rådata!B93)","v":""},{"$f":"IF(ISBLANK(Rådata!D93)=TRUE,\"\",((Rådata!D93-Rådata!E93)*100)/Rådata!D93)","v":""},{"$f":"IF(ISBLANK(Rådata!G93)=TRUE,\"\",(Rådata!F93*100)/Rådata!G93)","v":""},{"$f":"IF(ISBLANK(Rådata!K93),\"\",(SUM(Rådata!M93:P93)*100)/SUM(Rådata!H93:K93))","v":""},{"$f":"IF(ISBLANK(Rådata!H93),\"\",((SUM(Rådata!J93:L93)-SUM(Rådata!O93:P93))*100)/SUM(Rådata!H93:L93))","v":""},{"$f":"IF(ISBLANK(Rådata!R93),\"\",(Rådata!Q93*100)/Rådata!R93)","v":""}]
[{"$f":"IF(ISBLANK(Rådata!A94)=TRUE,\"\",Rådata!A94)","v":""},{"$f":"IF(ISBLANK(Rådata!A94)=TRUE,\"\",YEAR(A94))","v":""},{"$f":"IF(ISBLANK(Rådata!A94)=TRUE,\"\",VLOOKUP(MONTH(A94),Opsætning!$G$3:$H$14,2,FALSE))","v":""},{"$f":"IF(ISBLANK(Rådata!B94)=TRUE,\"\",(Rådata!C94*100)/Rådata!B94)","v":""},{"$f":"IF(ISBLANK(Rådata!D94)=TRUE,\"\",((Rådata!D94-Rådata!E94)*100)/Rådata!D94)","v":""},{"$f":"IF(ISBLANK(Rådata!G94)=TRUE,\"\",(Rådata!F94*100)/Rådata!G94)","v":""},{"$f":"IF(ISBLANK(Rådata!K94),\"\",(SUM(Rådata!M94:P94)*100)/SUM(Rådata!H94:K94))","v":""},{"$f":"IF(ISBLANK(Rådata!H94),\"\",((SUM(Rådata!J94:L94)-SUM(Rådata!O94:P94))*100)/SUM(Rådata!H94:L94))","v":""},{"$f":"IF(ISBLANK(Rådata!R94),\"\",(Rådata!Q94*100)/Rådata!R94)","v":""}]
[{"$f":"IF(ISBLANK(Rådata!A95)=TRUE,\"\",Rådata!A95)","v":""},{"$f":"IF(ISBLANK(Rådata!A95)=TRUE,\"\",YEAR(A95))","v":""},{"$f":"IF(ISBLANK(Rådata!A95)=TRUE,\"\",VLOOKUP(MONTH(A95),Opsætning!$G$3:$H$14,2,FALSE))","v":""},{"$f":"IF(ISBLANK(Rådata!B95)=TRUE,\"\",(Rådata!C95*100)/Rådata!B95)","v":""},{"$f":"IF(ISBLANK(Rådata!D95)=TRUE,\"\",((Rådata!D95-Rådata!E95)*100)/Rådata!D95)","v":""},{"$f":"IF(ISBLANK(Rådata!G95)=TRUE,\"\",(Rådata!F95*100)/Rådata!G95)","v":""},{"$f":"IF(ISBLANK(Rådata!K95),\"\",(SUM(Rådata!M95:P95)*100)/SUM(Rådata!H95:K95))","v":""},{"$f":"IF(ISBLANK(Rådata!H95),\"\",((SUM(Rådata!J95:L95)-SUM(Rådata!O95:P95))*100)/SUM(Rådata!H95:L95))","v":""},{"$f":"IF(ISBLANK(Rådata!R95),\"\",(Rådata!Q95*100)/Rådata!R95)","v":""}]
[{"$f":"IF(ISBLANK(Rådata!A96)=TRUE,\"\",Rådata!A96)","v":""},{"$f":"IF(ISBLANK(Rådata!A96)=TRUE,\"\",YEAR(A96))","v":""},{"$f":"IF(ISBLANK(Rådata!A96)=TRUE,\"\",VLOOKUP(MONTH(A96),Opsætning!$G$3:$H$14,2,FALSE))","v":""},{"$f":"IF(ISBLANK(Rådata!B96)=TRUE,\"\",(Rådata!C96*100)/Rådata!B96)","v":""},{"$f":"IF(ISBLANK(Rådata!D96)=TRUE,\"\",((Rådata!D96-Rådata!E96)*100)/Rådata!D96)","v":""},{"$f":"IF(ISBLANK(Rådata!G96)=TRUE,\"\",(Rådata!F96*100)/Rådata!G96)","v":""},{"$f":"IF(ISBLANK(Rådata!K96),\"\",(SUM(Rådata!M96:P96)*100)/SUM(Rådata!H96:K96))","v":""},{"$f":"IF(ISBLANK(Rådata!H96),\"\",((SUM(Rådata!J96:L96)-SUM(Rådata!O96:P96))*100)/SUM(Rådata!H96:L96))","v":""},{"$f":"IF(ISBLANK(Rådata!R96),\"\",(Rådata!Q96*100)/Rådata!R96)","v":""}]
[{"$f":"IF(ISBLANK(Rådata!A97)=TRUE,\"\",Rådata!A97)","v":""},{"$f":"IF(ISBLANK(Rådata!A97)=TRUE,\"\",YEAR(A97))","v":""},{"$f":"IF(ISBLANK(Rådata!A97)=TRUE,\"\",VLOOKUP(MONTH(A97),Opsætning!$G$3:$H$14,2,FALSE))","v":""},{"$f":"IF(ISBLANK(Rådata!B97)=TRUE,\"\",(Rådata!C97*100)/Rådata!B97)","v":""},{"$f":"IF(ISBLANK(Rådata!D97)=TRUE,\"\",((Rådata!D97-Rådata!E97)*100)/Rådata!D97)","v":""},{"$f":"IF(ISBLANK(Rådata!G97)=TRUE,\"\",(Rådata!F97*100)/Rådata!G97)","v":""},{"$f":"IF(ISBLANK(Rådata!K97),\"\",(SUM(Rådata!M97:P97)*100)/SUM(Rådata!H97:K97))","v":""},{"$f":"IF(ISBLANK(Rådata!H97),\"\",((SUM(Rådata!J97:L97)-SUM(Rådata!O97:P97))*100)/SUM(Rådata!H97:L97))","v":""},{"$f":"IF(ISBLANK(Rådata!R97),\"\",(Rådata!Q97*100)/Rådata!R97)","v":""}]
[{"$f":"IF(ISBLANK(Rådata!A98)=TRUE,\"\",Rådata!A98)","v":""},{"$f":"IF(ISBLANK(Rådata!A98)=TRUE,\"\",YEAR(A98))","v":""},{"$f":"IF(ISBLANK(Rådata!A98)=TRUE,\"\",VLOOKUP(MONTH(A98),Opsætning!$G$3:$H$14,2,FALSE))","v":""},{"$f":"IF(ISBLANK(Rådata!B98)=TRUE,\"\",(Rådata!C98*100)/Rådata!B98)","v":""},{"$f":"IF(ISBLANK(Rådata!D98)=TRUE,\"\",((Rådata!D98-Rådata!E98)*100)/Rådata!D98)","v":""},{"$f":"IF(ISBLANK(Rådata!G98)=TRUE,\"\",(Rådata!F98*100)/Rådata!G98)","v":""},{"$f":"IF(ISBLANK(Rådata!K98),\"\",(SUM(Rådata!M98:P98)*100)/SUM(Rådata!H98:K98))","v":""},{"$f":"IF(ISBLANK(Rådata!H98),\"\",((SUM(Rådata!J98:L98)-SUM(Rådata!O98:P98))*100)/SUM(Rådata!H98:L98))","v":""},{"$f":"IF(ISBLANK(Rådata!R98),\"\",(Rådata!Q98*100)/Rådata!R98)","v":""}]
[{"$f":"IF(ISBLANK(Rådata!A99)=TRUE,\"\",Rådata!A99)","v":""},{"$f":"IF(ISBLANK(Rådata!A99)=TRUE,\"\",YEAR(A99))","v":""},{"$f":"IF(ISBLANK(Rådata!A99)=TRUE,\"\",VLOOKUP(MONTH(A99),Opsætning!$G$3:$H$14,2,FALSE))","v":""},{"$f":"IF(ISBLANK(Rådata!B99)=TRUE,\"\",(Rådata!C99*100)/Rådata!B99)","v":""},{"$f":"IF(ISBLANK(Rådata!D99)=TRUE,\"\",((Rådata!D99-Rådata!E99)*100)/Rådata!D99)","v":""},{"$f":"IF(ISBLANK(Rådata!G99)=TRUE,\"\",(Rådata!F99*100)/Rådata!G99)","v":""},{"$f":"IF(ISBLANK(Rådata!K99),\"\",(SUM(Rådata!M99:P99)*100)/SUM(Rådata!H99:K99))","v":""},{"$f":"IF(ISBLANK(Rådata!H99),\"\",((SUM(Rådata!J99:L99)-SUM(Rådata!O99:P99))*100)/SUM(Rådata!H99:L99))","v":""},{"$f":"IF(ISBLANK(Rådata!R99),\"\",(Rådata!Q99*100)/Rådata!R99)","v":""}]
[{"$f":"IF(ISBLANK(Rådata!A100)=TRUE,\"\",Rådata!A100)","v":""},{"$f":"IF(ISBLANK(Rådata!A100)=TRUE,\"\",YEAR(A100))","v":""},{"$f":"IF(ISBLANK(Rådata!A100)=TRUE,\"\",VLOOKUP(MONTH(A100),Opsætning!$G$3:$H$14,2,FALSE))","v":""},{"$f":"IF(ISBLANK(Rådata!B100)=TRUE,\"\",(Rådata!C100*100)/Rådata!B100)","v":""},{"$f":"IF(ISBLANK(Rådata!D100)=TRUE,\"\",((Rådata!D100-Rådata!E100)*100)/Rådata!D100)","v":""},{"$f":"IF(ISBLANK(Rådata!G100)=TRUE,\"\",(Rådata!F100*100)/Rådata!G100)","v":""},{"$f":"IF(ISBLANK(Rådata!K100),\"\",(SUM(Rådata!M100:P100)*100)/SUM(Rådata!H100:K100))","v":""},{"$f":"IF(ISBLANK(Rådata!H100),\"\",((SUM(Rådata!J100:L100)-SUM(Rådata!O100:P100))*100)/SUM(Rådata!H100:L100))","v":""},{"$f":"IF(ISBLANK(Rådata!R100),\"\",(Rådata!Q100*100)/Rådata!R100)","v":""}]
[{"$f":"IF(ISBLANK(Rådata!A101)=TRUE,\"\",Rådata!A101)","v":""},{"$f":"IF(ISBLANK(Rådata!A101)=TRUE,\"\",YEAR(A101))","v":""},{"$f":"IF(ISBLANK(Rådata!A101)=TRUE,\"\",VLOOKUP(MONTH(A101),Opsætning!$G$3:$H$14,2,FALSE))","v":""},{"$f":"IF(ISBLANK(Rådata!B101)=TRUE,\"\",(Rådata!C101*100)/Rådata!B101)","v":""},{"$f":"IF(ISBLANK(Rådata!D101)=TRUE,\"\",((Rådata!D101-Rådata!E101)*100)/Rådata!D101)","v":""},{"$f":"IF(ISBLANK(Rådata!G101)=TRUE,\"\",(Rådata!F101*100)/Rådata!G101)","v":""},{"$f":"IF(ISBLANK(Rådata!K101),\"\",(SUM(Rådata!M101:P101)*100)/SUM(Rådata!H101:K101))","v":""},{"$f":"IF(ISBLANK(Rådata!H101),\"\",((SUM(Rådata!J101:L101)-SUM(Rådata!O101:P101))*100)/SUM(Rådata!H101:L101))","v":""},{"$f":"IF(ISBLANK(Rådata!R101),\"\",(Rådata!Q101*100)/Rådata!R101)","v":""}]
[{"$f":"IF(ISBLANK(Rådata!A102)=TRUE,\"\",Rådata!A102)","v":""},{"$f":"IF(ISBLANK(Rådata!A102)=TRUE,\"\",YEAR(A102))","v":""},{"$f":"IF(ISBLANK(Rådata!A102)=TRUE,\"\",VLOOKUP(MONTH(A102),Opsætning!$G$3:$H$14,2,FALSE))","v":""},{"$f":"IF(ISBLANK(Rådata!B102)=TRUE,\"\",(Rådata!C102*100)/Rådata!B102)","v":""},{"$f":"IF(ISBLANK(Rådata!D102)=TRUE,\"\",((Rådata!D102-Rådata!E102)*100)/Rådata!D102)","v":""},{"$f":"IF(ISBLANK(Rådata!G102)=TRUE,\"\",(Rådata!F102*100)/Rådata!G102)","v":""},{"$f":"IF(ISBLANK(Rådata!K102),\"\",(SUM(Rådata!M102:P102)*100)/SUM(Rådata!H102:K102))","v":""},{"$f":"IF(ISBLANK(Rådata!H102),\"\",((SUM(Rådata!J102:L102)-SUM(Rådata!O102:P102))*100)/SUM(Rådata!H102:L102))","v":""},{"$f":"IF(ISBLANK(Rådata!R102),\"\",(Rådata!Q102*100)/Rådata!R102)","v":""}]
[{"$f":"IF(ISBLANK(Rådata!A103)=TRUE,\"\",Rådata!A103)","v":""},{"$f":"IF(ISBLANK(Rådata!A103)=TRUE,\"\",YEAR(A103))","v":""},{"$f":"IF(ISBLANK(Rådata!A103)=TRUE,\"\",VLOOKUP(MONTH(A103),Opsætning!$G$3:$H$14,2,FALSE))","v":""},{"$f":"IF(ISBLANK(Rådata!B103)=TRUE,\"\",(Rådata!C103*100)/Rådata!B103)","v":""},{"$f":"IF(ISBLANK(Rådata!D103)=TRUE,\"\",((Rådata!D103-Rådata!E103)*100)/Rådata!D103)","v":""},{"$f":"IF(ISBLANK(Rådata!G103)=TRUE,\"\",(Rådata!F103*100)/Rådata!G103)","v":""},{"$f":"IF(ISBLANK(Rådata!K103),\"\",(SUM(Rådata!M103:P103)*100)/SUM(Rådata!H103:K103))","v":""},{"$f":"IF(ISBLANK(Rådata!H103),\"\",((SUM(Rådata!J103:L103)-SUM(Rådata!O103:P103))*100)/SUM(Rådata!H103:L103))","v":""},{"$f":"IF(ISBLANK(Rådata!R103),\"\",(Rådata!Q103*100)/Rådata!R103)","v":""}]
[{"$f":"IF(ISBLANK(Rådata!A104)=TRUE,\"\",Rådata!A104)","v":""},{"$f":"IF(ISBLANK(Rådata!A104)=TRUE,\"\",YEAR(A104))","v":""},{"$f":"IF(ISBLANK(Rådata!A104)=TRUE,\"\",VLOOKUP(MONTH(A104),Opsætning!$G$3:$H$14,2,FALSE))","v":""},{"$f":"IF(ISBLANK(Rådata!B104)=TRUE,\"\",(Rådata!C104*100)/Rådata!B104)","v":""},{"$f":"IF(ISBLANK(Rådata!D104)=TRUE,\"\",((Rådata!D104-Rådata!E104)*100)/Rådata!D104)","v":""},{"$f":"IF(ISBLANK(Rådata!G104)=TRUE,\"\",(Rådata!F104*100)/Rådata!G104)","v":""},{"$f":"IF(ISBLANK(Rådata!K104),\"\",(SUM(Rådata!M104:P104)*100)/SUM(Rådata!H104:K104))","v":""},{"$f":"IF(ISBLANK(Rådata!H104),\"\",((SUM(Rådata!J104:L104)-SUM(Rådata!O104:P104))*100)/SUM(Rådata!H104:L104))","v":""},{"$f":"IF(ISBLANK(Rådata!R104),\"\",(Rådata!Q104*100)/Rådata!R104)","v":""}]
[{"$f":"IF(ISBLANK(Rådata!A105)=TRUE,\"\",Rådata!A105)","v":""},{"$f":"IF(ISBLANK(Rådata!A105)=TRUE,\"\",YEAR(A105))","v":""},{"$f":"IF(ISBLANK(Rådata!A105)=TRUE,\"\",VLOOKUP(MONTH(A105),Opsætning!$G$3:$H$14,2,FALSE))","v":""},{"$f":"IF(ISBLANK(Rådata!B105)=TRUE,\"\",(Rådata!C105*100)/Rådata!B105)","v":""},{"$f":"IF(ISBLANK(Rådata!D105)=TRUE,\"\",((Rådata!D105-Rådata!E105)*100)/Rådata!D105)","v":""},{"$f":"IF(ISBLANK(Rådata!G105)=TRUE,\"\",(Rådata!F105*100)/Rådata!G105)","v":""},{"$f":"IF(ISBLANK(Rådata!K105),\"\",(SUM(Rådata!M105:P105)*100)/SUM(Rådata!H105:K105))","v":""},{"$f":"IF(ISBLANK(Rådata!H105),\"\",((SUM(Rådata!J105:L105)-SUM(Rådata!O105:P105))*100)/SUM(Rådata!H105:L105))","v":""},{"$f":"IF(ISBLANK(Rådata!R105),\"\",(Rådata!Q105*100)/Rådata!R105)","v":""}]
[{"$f":"IF(ISBLANK(Rådata!A106)=TRUE,\"\",Rådata!A106)","v":""},{"$f":"IF(ISBLANK(Rådata!A106)=TRUE,\"\",YEAR(A106))","v":""},{"$f":"IF(ISBLANK(Rådata!A106)=TRUE,\"\",VLOOKUP(MONTH(A106),Opsætning!$G$3:$H$14,2,FALSE))","v":""},{"$f":"IF(ISBLANK(Rådata!B106)=TRUE,\"\",(Rådata!C106*100)/Rådata!B106)","v":""},{"$f":"IF(ISBLANK(Rådata!D106)=TRUE,\"\",((Rådata!D106-Rådata!E106)*100)/Rådata!D106)","v":""},{"$f":"IF(ISBLANK(Rådata!G106)=TRUE,\"\",(Rådata!F106*100)/Rådata!G106)","v":""},{"$f":"IF(ISBLANK(Rådata!K106),\"\",(SUM(Rådata!M106:P106)*100)/SUM(Rådata!H106:K106))","v":""},{"$f":"IF(ISBLANK(Rådata!H106),\"\",((SUM(Rådata!J106:L106)-SUM(Rådata!O106:P106))*100)/SUM(Rådata!H106:L106))","v":""},{"$f":"IF(ISBLANK(Rådata!R106),\"\",(Rådata!Q106*100)/Rådata!R106)","v":""}]
[{"$f":"IF(ISBLANK(Rådata!A107)=TRUE,\"\",Rådata!A107)","v":""},{"$f":"IF(ISBLANK(Rådata!A107)=TRUE,\"\",YEAR(A107))","v":""},{"$f":"IF(ISBLANK(Rådata!A107)=TRUE,\"\",VLOOKUP(MONTH(A107),Opsætning!$G$3:$H$14,2,FALSE))","v":""},{"$f":"IF(ISBLANK(Rådata!B107)=TRUE,\"\",(Rådata!C107*100)/Rådata!B107)","v":""},{"$f":"IF(ISBLANK(Rådata!D107)=TRUE,\"\",((Rådata!D107-Rådata!E107)*100)/Rådata!D107)","v":""},{"$f":"IF(ISBLANK(Rådata!G107)=TRUE,\"\",(Rådata!F107*100)/Rådata!G107)","v":""},{"$f":"IF(ISBLANK(Rådata!K107),\"\",(SUM(Rådata!M107:P107)*100)/SUM(Rådata!H107:K107))","v":""},{"$f":"IF(ISBLANK(Rådata!H107),\"\",((SUM(Rådata!J107:L107)-SUM(Rådata!O107:P107))*100)/SUM(Rådata!H107:L107))","v":""},{"$f":"IF(ISBLANK(Rådata!R107),\"\",(Rådata!Q107*100)/Rådata!R107)","v":""}]
[{"$f":"IF(ISBLANK(Rådata!A108)=TRUE,\"\",Rådata!A108)","v":""},{"$f":"IF(ISBLANK(Rådata!A108)=TRUE,\"\",YEAR(A108))","v":""},{"$f":"IF(ISBLANK(Rådata!A108)=TRUE,\"\",VLOOKUP(MONTH(A108),Opsætning!$G$3:$H$14,2,FALSE))","v":""},{"$f":"IF(ISBLANK(Rådata!B108)=TRUE,\"\",(Rådata!C108*100)/Rådata!B108)","v":""},{"$f":"IF(ISBLANK(Rådata!D108)=TRUE,\"\",((Rådata!D108-Rådata!E108)*100)/Rådata!D108)","v":""},{"$f":"IF(ISBLANK(Rådata!G108)=TRUE,\"\",(Rådata!F108*100)/Rådata!G108)","v":""},{"$f":"IF(ISBLANK(Rådata!K108),\"\",(SUM(Rådata!M108:P108)*100)/SUM(Rådata!H108:K108))","v":""},{"$f":"IF(ISBLANK(Rådata!H108),\"\",((SUM(Rådata!J108:L108)-SUM(Rådata!O108:P108))*100)/SUM(Rådata!H108:L108))","v":""},{"$f":"IF(ISBLANK(Rådata!R108),\"\",(Rådata!Q108*100)/Rådata!R108)","v":""}]
[{"$f":"IF(ISBLANK(Rådata!A109)=TRUE,\"\",Rådata!A109)","v":""},{"$f":"IF(ISBLANK(Rådata!A109)=TRUE,\"\",YEAR(A109))","v":""},{"$f":"IF(ISBLANK(Rådata!A109)=TRUE,\"\",VLOOKUP(MONTH(A109),Opsætning!$G$3:$H$14,2,FALSE))","v":""},{"$f":"IF(ISBLANK(Rådata!B109)=TRUE,\"\",(Rådata!C109*100)/Rådata!B109)","v":""},{"$f":"IF(ISBLANK(Rådata!D109)=TRUE,\"\",((Rådata!D109-Rådata!E109)*100)/Rådata!D109)","v":""},{"$f":"IF(ISBLANK(Rådata!G109)=TRUE,\"\",(Rådata!F109*100)/Rådata!G109)","v":""},{"$f":"IF(ISBLANK(Rådata!K109),\"\",(SUM(Rådata!M109:P109)*100)/SUM(Rådata!H109:K109))","v":""},{"$f":"IF(ISBLANK(Rådata!H109),\"\",((SUM(Rådata!J109:L109)-SUM(Rådata!O109:P109))*100)/SUM(Rådata!H109:L109))","v":""},{"$f":"IF(ISBLANK(Rådata!R109),\"\",(Rådata!Q109*100)/Rådata!R109)","v":""}]
[{"$f":"IF(ISBLANK(Rådata!A110)=TRUE,\"\",Rådata!A110)","v":""},{"$f":"IF(ISBLANK(Rådata!A110)=TRUE,\"\",YEAR(A110))","v":""},{"$f":"IF(ISBLANK(Rådata!A110)=TRUE,\"\",VLOOKUP(MONTH(A110),Opsætning!$G$3:$H$14,2,FALSE))","v":""},{"$f":"IF(ISBLANK(Rådata!B110)=TRUE,\"\",(Rådata!C110*100)/Rådata!B110)","v":""},{"$f":"IF(ISBLANK(Rådata!D110)=TRUE,\"\",((Rådata!D110-Rådata!E110)*100)/Rådata!D110)","v":""},{"$f":"IF(ISBLANK(Rådata!G110)=TRUE,\"\",(Rådata!F110*100)/Rådata!G110)","v":""},{"$f":"IF(ISBLANK(Rådata!K110),\"\",(SUM(Rådata!M110:P110)*100)/SUM(Rådata!H110:K110))","v":""},{"$f":"IF(ISBLANK(Rådata!H110),\"\",((SUM(Rådata!J110:L110)-SUM(Rådata!O110:P110))*100)/SUM(Rådata!H110:L110))","v":""},{"$f":"IF(ISBLANK(Rådata!R110),\"\",(Rådata!Q110*100)/Rådata!R110)","v":""}]
[{"$f":"IF(ISBLANK(Rådata!A111)=TRUE,\"\",Rådata!A111)","v":""},{"$f":"IF(ISBLANK(Rådata!A111)=TRUE,\"\",YEAR(A111))","v":""},{"$f":"IF(ISBLANK(Rådata!A111)=TRUE,\"\",VLOOKUP(MONTH(A111),Opsætning!$G$3:$H$14,2,FALSE))","v":""},{"$f":"IF(ISBLANK(Rådata!B111)=TRUE,\"\",(Rådata!C111*100)/Rådata!B111)","v":""},{"$f":"IF(ISBLANK(Rådata!D111)=TRUE,\"\",((Rådata!D111-Rådata!E111)*100)/Rådata!D111)","v":""},{"$f":"IF(ISBLANK(Rådata!G111)=TRUE,\"\",(Rådata!F111*100)/Rådata!G111)","v":""},{"$f":"IF(ISBLANK(Rådata!K111),\"\",(SUM(Rådata!M111:P111)*100)/SUM(Rådata!H111:K111))","v":""},{"$f":"IF(ISBLANK(Rådata!H111),\"\",((SUM(Rådata!J111:L111)-SUM(Rådata!O111:P111))*100)/SUM(Rådata!H111:L111))","v":""},{"$f":"IF(ISBLANK(Rådata!R111),\"\",(Rådata!Q111*100)/Rådata!R111)","v":""}]
[{"$f":"IF(ISBLANK(Rådata!A112)=TRUE,\"\",Rådata!A112)","v":""},{"$f":"IF(ISBLANK(Rådata!A112)=TRUE,\"\",YEAR(A112))","v":""},{"$f":"IF(ISBLANK(Rådata!A112)=TRUE,\"\",VLOOKUP(MONTH(A112),Opsætning!$G$3:$H$14,2,FALSE))","v":""},{"$f":"IF(ISBLANK(Rådata!B112)=TRUE,\"\",(Rådata!C112*100)/Rådata!B112)","v":""},{"$f":"IF(ISBLANK(Rådata!D112)=TRUE,\"\",((Rådata!D112-Rådata!E112)*100)/Rådata!D112)","v":""},{"$f":"IF(ISBLANK(Rådata!G112)=TRUE,\"\",(Rådata!F112*100)/Rådata!G112)","v":""},{"$f":"IF(ISBLANK(Rådata!K112),\"\",(SUM(Rådata!M112:P112)*100)/SUM(Rådata!H112:K112))","v":""},{"$f":"IF(ISBLANK(Rådata!H112),\"\",((SUM(Rådata!J112:L112)-SUM(Rådata!O112:P112))*100)/SUM(Rådata!H112:L112))","v":""},{"$f":"IF(ISBLANK(Rådata!R112),\"\",(Rådata!Q112*100)/Rådata!R112)","v":""}]
[{"$f":"IF(ISBLANK(Rådata!A113)=TRUE,\"\",Rådata!A113)","v":""},{"$f":"IF(ISBLANK(Rådata!A113)=TRUE,\"\",YEAR(A113))","v":""},{"$f":"IF(ISBLANK(Rådata!A113)=TRUE,\"\",VLOOKUP(MONTH(A113),Opsætning!$G$3:$H$14,2,FALSE))","v":""},{"$f":"IF(ISBLANK(Rådata!B113)=TRUE,\"\",(Rådata!C113*100)/Rådata!B113)","v":""},{"$f":"IF(ISBLANK(Rådata!D113)=TRUE,\"\",((Rådata!D113-Rådata!E113)*100)/Rådata!D113)","v":""},{"$f":"IF(ISBLANK(Rådata!G113)=TRUE,\"\",(Rådata!F113*100)/Rådata!G113)","v":""},{"$f":"IF(ISBLANK(Rådata!K113),\"\",(SUM(Rådata!M113:P113)*100)/SUM(Rådata!H113:K113))","v":""},{"$f":"IF(ISBLANK(Rådata!H113),\"\",((SUM(Rådata!J113:L113)-SUM(Rådata!O113:P113))*100)/SUM(Rådata!H113:L113))","v":""},{"$f":"IF(ISBLANK(Rådata!R113),\"\",(Rådata!Q113*100)/Rådata!R113)","v":""}]
[{"$f":"IF(ISBLANK(Rådata!A114)=TRUE,\"\",Rådata!A114)","v":""},{"$f":"IF(ISBLANK(Rådata!A114)=TRUE,\"\",YEAR(A114))","v":""},{"$f":"IF(ISBLANK(Rådata!A114)=TRUE,\"\",VLOOKUP(MONTH(A114),Opsætning!$G$3:$H$14,2,FALSE))","v":""},{"$f":"IF(ISBLANK(Rådata!B114)=TRUE,\"\",(Rådata!C114*100)/Rådata!B114)","v":""},{"$f":"IF(ISBLANK(Rådata!D114)=TRUE,\"\",((Rådata!D114-Rådata!E114)*100)/Rådata!D114)","v":""},{"$f":"IF(ISBLANK(Rådata!G114)=TRUE,\"\",(Rådata!F114*100)/Rådata!G114)","v":""},{"$f":"IF(ISBLANK(Rådata!K114),\"\",(SUM(Rådata!M114:P114)*100)/SUM(Rådata!H114:K114))","v":""},{"$f":"IF(ISBLANK(Rådata!H114),\"\",((SUM(Rådata!J114:L114)-SUM(Rådata!O114:P114))*100)/SUM(Rådata!H114:L114))","v":""},{"$f":"IF(ISBLANK(Rådata!R114),\"\",(Rådata!Q114*100)/Rådata!R114)","v":""}]
[{"$f":"IF(ISBLANK(Rådata!A115)=TRUE,\"\",Rådata!A115)","v":""},{"$f":"IF(ISBLANK(Rådata!A115)=TRUE,\"\",YEAR(A115))","v":""},{"$f":"IF(ISBLANK(Rådata!A115)=TRUE,\"\",VLOOKUP(MONTH(A115),Opsætning!$G$3:$H$14,2,FALSE))","v":""},{"$f":"IF(ISBLANK(Rådata!B115)=TRUE,\"\",(Rådata!C115*100)/Rådata!B115)","v":""},{"$f":"IF(ISBLANK(Rådata!D115)=TRUE,\"\",((Rådata!D115-Rådata!E115)*100)/Rådata!D115)","v":""},{"$f":"IF(ISBLANK(Rådata!G115)=TRUE,\"\",(Rådata!F115*100)/Rådata!G115)","v":""},{"$f":"IF(ISBLANK(Rådata!K115),\"\",(SUM(Rådata!M115:P115)*100)/SUM(Rådata!H115:K115))","v":""},{"$f":"IF(ISBLANK(Rådata!H115),\"\",((SUM(Rådata!J115:L115)-SUM(Rådata!O115:P115))*100)/SUM(Rådata!H115:L115))","v":""},{"$f":"IF(ISBLANK(Rådata!R115),\"\",(Rådata!Q115*100)/Rådata!R115)","v":""}]
[{"$f":"IF(ISBLANK(Rådata!A116)=TRUE,\"\",Rådata!A116)","v":""},{"$f":"IF(ISBLANK(Rådata!A116)=TRUE,\"\",YEAR(A116))","v":""},{"$f":"IF(ISBLANK(Rådata!A116)=TRUE,\"\",VLOOKUP(MONTH(A116),Opsætning!$G$3:$H$14,2,FALSE))","v":""},{"$f":"IF(ISBLANK(Rådata!B116)=TRUE,\"\",(Rådata!C116*100)/Rådata!B116)","v":""},{"$f":"IF(ISBLANK(Rådata!D116)=TRUE,\"\",((Rådata!D116-Rådata!E116)*100)/Rådata!D116)","v":""},{"$f":"IF(ISBLANK(Rådata!G116)=TRUE,\"\",(Rådata!F116*100)/Rådata!G116)","v":""},{"$f":"IF(ISBLANK(Rådata!K116),\"\",(SUM(Rådata!M116:P116)*100)/SUM(Rådata!H116:K116))","v":""},{"$f":"IF(ISBLANK(Rådata!H116),\"\",((SUM(Rådata!J116:L116)-SUM(Rådata!O116:P116))*100)/SUM(Rådata!H116:L116))","v":""},{"$f":"IF(ISBLANK(Rådata!R116),\"\",(Rådata!Q116*100)/Rådata!R116)","v":""}]
[{"$f":"IF(ISBLANK(Rådata!A117)=TRUE,\"\",Rådata!A117)","v":""},{"$f":"IF(ISBLANK(Rådata!A117)=TRUE,\"\",YEAR(A117))","v":""},{"$f":"IF(ISBLANK(Rådata!A117)=TRUE,\"\",VLOOKUP(MONTH(A117),Opsætning!$G$3:$H$14,2,FALSE))","v":""},{"$f":"IF(ISBLANK(Rådata!B117)=TRUE,\"\",(Rådata!C117*100)/Rådata!B117)","v":""},{"$f":"IF(ISBLANK(Rådata!D117)=TRUE,\"\",((Rådata!D117-Rådata!E117)*100)/Rådata!D117)","v":""},{"$f":"IF(ISBLANK(Rådata!G117)=TRUE,\"\",(Rådata!F117*100)/Rådata!G117)","v":""},{"$f":"IF(ISBLANK(Rådata!K117),\"\",(SUM(Rådata!M117:P117)*100)/SUM(Rådata!H117:K117))","v":""},{"$f":"IF(ISBLANK(Rådata!H117),\"\",((SUM(Rådata!J117:L117)-SUM(Rådata!O117:P117))*100)/SUM(Rådata!H117:L117))","v":""},{"$f":"IF(ISBLANK(Rådata!R117),\"\",(Rådata!Q117*100)/Rådata!R117)","v":""}]
[{"$f":"IF(ISBLANK(Rådata!A118)=TRUE,\"\",Rådata!A118)","v":""},{"$f":"IF(ISBLANK(Rådata!A118)=TRUE,\"\",YEAR(A118))","v":""},{"$f":"IF(ISBLANK(Rådata!A118)=TRUE,\"\",VLOOKUP(MONTH(A118),Opsætning!$G$3:$H$14,2,FALSE))","v":""},{"$f":"IF(ISBLANK(Rådata!B118)=TRUE,\"\",(Rådata!C118*100)/Rådata!B118)","v":""},{"$f":"IF(ISBLANK(Rådata!D118)=TRUE,\"\",((Rådata!D118-Rådata!E118)*100)/Rådata!D118)","v":""},{"$f":"IF(ISBLANK(Rådata!G118)=TRUE,\"\",(Rådata!F118*100)/Rådata!G118)","v":""},{"$f":"IF(ISBLANK(Rådata!K118),\"\",(SUM(Rådata!M118:P118)*100)/SUM(Rådata!H118:K118))","v":""},{"$f":"IF(ISBLANK(Rådata!H118),\"\",((SUM(Rådata!J118:L118)-SUM(Rådata!O118:P118))*100)/SUM(Rådata!H118:L118))","v":""},{"$f":"IF(ISBLANK(Rådata!R118),\"\",(Rådata!Q118*100)/Rådata!R118)","v":""}]
[{"$f":"IF(ISBLANK(Rådata!A119)=TRUE,\"\",Rådata!A119)","v":""},{"$f":"IF(ISBLANK(Rådata!A119)=TRUE,\"\",YEAR(A119))","v":""},{"$f":"IF(ISBLANK(Rådata!A119)=TRUE,\"\",VLOOKUP(MONTH(A119),Opsætning!$G$3:$H$14,2,FALSE))","v":""},{"$f":"IF(ISBLANK(Rådata!B119)=TRUE,\"\",(Rådata!C119*100)/Rådata!B119)","v":""},{"$f":"IF(ISBLANK(Rådata!D119)=TRUE,\"\",((Rådata!D119-Rådata!E119)*100)/Rådata!D119)","v":""},{"$f":"IF(ISBLANK(Rådata!G119)=TRUE,\"\",(Rådata!F119*100)/Rådata!G119)","v":""},{"$f":"IF(ISBLANK(Rådata!K119),\"\",(SUM(Rådata!M119:P119)*100)/SUM(Rådata!H119:K119))","v":""},{"$f":"IF(ISBLANK(Rådata!H119),\"\",((SUM(Rådata!J119:L119)-SUM(Rådata!O119:P119))*100)/SUM(Rådata!H119:L119))","v":""},{"$f":"IF(ISBLANK(Rådata!R119),\"\",(Rådata!Q119*100)/Rådata!R119)","v":""}]
[{"$f":"IF(ISBLANK(Rådata!A120)=TRUE,\"\",Rådata!A120)","v":""},{"$f":"IF(ISBLANK(Rådata!A120)=TRUE,\"\",YEAR(A120))","v":""},{"$f":"IF(ISBLANK(Rådata!A120)=TRUE,\"\",VLOOKUP(MONTH(A120),Opsætning!$G$3:$H$14,2,FALSE))","v":""},{"$f":"IF(ISBLANK(Rådata!B120)=TRUE,\"\",(Rådata!C120*100)/Rådata!B120)","v":""},{"$f":"IF(ISBLANK(Rådata!D120)=TRUE,\"\",((Rådata!D120-Rådata!E120)*100)/Rådata!D120)","v":""},{"$f":"IF(ISBLANK(Rådata!G120)=TRUE,\"\",(Rådata!F120*100)/Rådata!G120)","v":""},{"$f":"IF(ISBLANK(Rådata!K120),\"\",(SUM(Rådata!M120:P120)*100)/SUM(Rådata!H120:K120))","v":""},{"$f":"IF(ISBLANK(Rådata!H120),\"\",((SUM(Rådata!J120:L120)-SUM(Rådata!O120:P120))*100)/SUM(Rådata!H120:L120))","v":""},{"$f":"IF(ISBLANK(Rådata!R120),\"\",(Rådata!Q120*100)/Rådata!R120)","v":""}]
[{"$f":"IF(ISBLANK(Rådata!A121)=TRUE,\"\",Rådata!A121)","v":""},{"$f":"IF(ISBLANK(Rådata!A121)=TRUE,\"\",YEAR(A121))","v":""},{"$f":"IF(ISBLANK(Rådata!A121)=TRUE,\"\",VLOOKUP(MONTH(A121),Opsætning!$G$3:$H$14,2,FALSE))","v":""},{"$f":"IF(ISBLANK(Rådata!B121)=TRUE,\"\",(Rådata!C121*100)/Rådata!B121)","v":""},{"$f":"IF(ISBLANK(Rådata!D121)=TRUE,\"\",((Rådata!D121-Rådata!E121)*100)/Rådata!D121)","v":""},{"$f":"IF(ISBLANK(Rådata!G121)=TRUE,\"\",(Rådata!F121*100)/Rådata!G121)","v":""},{"$f":"IF(ISBLANK(Rådata!K121),\"\",(SUM(Rådata!M121:P121)*100)/SUM(Rådata!H121:K121))","v":""},{"$f":"IF(ISBLANK(Rådata!H121),\"\",((SUM(Rådata!J121:L121)-SUM(Rådata!O121:P121))*100)/SUM(Rådata!H121:L121))","v":""},{"$f":"IF(ISBLANK(Rådata!R121),\"\",(Rådata!Q121*100)/Rådata!R121)","v":""}]
[{"$f":"IF(ISBLANK(Rådata!A122)=TRUE,\"\",Rådata!A122)","v":""},{"$f":"IF(ISBLANK(Rådata!A122)=TRUE,\"\",YEAR(A122))","v":""},{"$f":"IF(ISBLANK(Rådata!A122)=TRUE,\"\",VLOOKUP(MONTH(A122),Opsætning!$G$3:$H$14,2,FALSE))","v":""},{"$f":"IF(ISBLANK(Rådata!B122)=TRUE,\"\",(Rådata!C122*100)/Rådata!B122)","v":""},{"$f":"IF(ISBLANK(Rådata!D122)=TRUE,\"\",((Rådata!D122-Rådata!E122)*100)/Rådata!D122)","v":""},{"$f":"IF(ISBLANK(Rådata!G122)=TRUE,\"\",(Rådata!F122*100)/Rådata!G122)","v":""},{"$f":"IF(ISBLANK(Rådata!K122),\"\",(SUM(Rådata!M122:P122)*100)/SUM(Rådata!H122:K122))","v":""},{"$f":"IF(ISBLANK(Rådata!H122),\"\",((SUM(Rådata!J122:L122)-SUM(Rådata!O122:P122))*100)/SUM(Rådata!H122:L122))","v":""},{"$f":"IF(ISBLANK(Rådata!R122),\"\",(Rådata!Q122*100)/Rådata!R122)","v":""}]
[{"$f":"IF(ISBLANK(Rådata!A123)=TRUE,\"\",Rådata!A123)","v":""},{"$f":"IF(ISBLANK(Rådata!A123)=TRUE,\"\",YEAR(A123))","v":""},{"$f":"IF(ISBLANK(Rådata!A123)=TRUE,\"\",VLOOKUP(MONTH(A123),Opsætning!$G$3:$H$14,2,FALSE))","v":""},{"$f":"IF(ISBLANK(Rådata!B123)=TRUE,\"\",(Rådata!C123*100)/Rådata!B123)","v":""},{"$f":"IF(ISBLANK(Rådata!D123)=TRUE,\"\",((Rådata!D123-Rådata!E123)*100)/Rådata!D123)","v":""},{"$f":"IF(ISBLANK(Rådata!G123)=TRUE,\"\",(Rådata!F123*100)/Rådata!G123)","v":""},{"$f":"IF(ISBLANK(Rådata!K123),\"\",(SUM(Rådata!M123:P123)*100)/SUM(Rådata!H123:K123))","v":""},{"$f":"IF(ISBLANK(Rådata!H123),\"\",((SUM(Rådata!J123:L123)-SUM(Rådata!O123:P123))*100)/SUM(Rådata!H123:L123))","v":""},{"$f":"IF(ISBLANK(Rådata!R123),\"\",(Rådata!Q123*100)/Rådata!R123)","v":""}]
[{"$f":"IF(ISBLANK(Rådata!A124)=TRUE,\"\",Rådata!A124)","v":""},{"$f":"IF(ISBLANK(Rådata!A124)=TRUE,\"\",YEAR(A124))","v":""},{"$f":"IF(ISBLANK(Rådata!A124)=TRUE,\"\",VLOOKUP(MONTH(A124),Opsætning!$G$3:$H$14,2,FALSE))","v":""},{"$f":"IF(ISBLANK(Rådata!B124)=TRUE,\"\",(Rådata!C124*100)/Rådata!B124)","v":""},{"$f":"IF(ISBLANK(Rådata!D124)=TRUE,\"\",((Rådata!D124-Rådata!E124)*100)/Rådata!D124)","v":""},{"$f":"IF(ISBLANK(Rådata!G124)=TRUE,\"\",(Rådata!F124*100)/Rådata!G124)","v":""},{"$f":"IF(ISBLANK(Rådata!K124),\"\",(SUM(Rådata!M124:P124)*100)/SUM(Rådata!H124:K124))","v":""},{"$f":"IF(ISBLANK(Rådata!H124),\"\",((SUM(Rådata!J124:L124)-SUM(Rådata!O124:P124))*100)/SUM(Rådata!H124:L124))","v":""},{"$f":"IF(ISBLANK(Rådata!R124),\"\",(Rådata!Q124*100)/Rådata!R124)","v":""}]
[{"$f":"IF(ISBLANK(Rådata!A125)=TRUE,\"\",Rådata!A125)","v":""},{"$f":"IF(ISBLANK(Rådata!A125)=TRUE,\"\",YEAR(A125))","v":""},{"$f":"IF(ISBLANK(Rådata!A125)=TRUE,\"\",VLOOKUP(MONTH(A125),Opsætning!$G$3:$H$14,2,FALSE))","v":""},{"$f":"IF(ISBLANK(Rådata!B125)=TRUE,\"\",(Rådata!C125*100)/Rådata!B125)","v":""},{"$f":"IF(ISBLANK(Rådata!D125)=TRUE,\"\",((Rådata!D125-Rådata!E125)*100)/Rådata!D125)","v":""},{"$f":"IF(ISBLANK(Rådata!G125)=TRUE,\"\",(Rådata!F125*100)/Rådata!G125)","v":""},{"$f":"IF(ISBLANK(Rådata!K125),\"\",(SUM(Rådata!M125:P125)*100)/SUM(Rådata!H125:K125))","v":""},{"$f":"IF(ISBLANK(Rådata!H125),\"\",((SUM(Rådata!J125:L125)-SUM(Rådata!O125:P125))*100)/SUM(Rådata!H125:L125))","v":""},{"$f":"IF(ISBLANK(Rådata!R125),\"\",(Rådata!Q125*100)/Rådata!R125)","v":""}]
[{"$f":"IF(ISBLANK(Rådata!A126)=TRUE,\"\",Rådata!A126)","v":""},{"$f":"IF(ISBLANK(Rådata!A126)=TRUE,\"\",YEAR(A126))","v":""},{"$f":"IF(ISBLANK(Rådata!A126)=TRUE,\"\",VLOOKUP(MONTH(A126),Opsætning!$G$3:$H$14,2,FALSE))","v":""},{"$f":"IF(ISBLANK(Rådata!B126)=TRUE,\"\",(Rådata!C126*100)/Rådata!B126)","v":""},{"$f":"IF(ISBLANK(Rådata!D126)=TRUE,\"\",((Rådata!D126-Rådata!E126)*100)/Rådata!D126)","v":""},{"$f":"IF(ISBLANK(Rådata!G126)=TRUE,\"\",(Rådata!F126*100)/Rådata!G126)","v":""},{"$f":"IF(ISBLANK(Rådata!K126),\"\",(SUM(Rådata!M126:P126)*100)/SUM(Rådata!H126:K126))","v":""},{"$f":"IF(ISBLANK(Rådata!H126),\"\",((SUM(Rådata!J126:L126)-SUM(Rådata!O126:P126))*100)/SUM(Rådata!H126:L126))","v":""},{"$f":"IF(ISBLANK(Rådata!R126),\"\",(Rådata!Q126*100)/Rådata!R126)","v":""}]
[{"$f":"IF(ISBLANK(Rådata!A127)=TRUE,\"\",Rådata!A127)","v":""},{"$f":"IF(ISBLANK(Rådata!A127)=TRUE,\"\",YEAR(A127))","v":""},{"$f":"IF(ISBLANK(Rådata!A127)=TRUE,\"\",VLOOKUP(MONTH(A127),Opsætning!$G$3:$H$14,2,FALSE))","v":""},{"$f":"IF(ISBLANK(Rådata!B127)=TRUE,\"\",(Rådata!C127*100)/Rådata!B127)","v":""},{"$f":"IF(ISBLANK(Rådata!D127)=TRUE,\"\",((Rådata!D127-Rådata!E127)*100)/Rådata!D127)","v":""},{"$f":"IF(ISBLANK(Rådata!G127)=TRUE,\"\",(Rådata!F127*100)/Rådata!G127)","v":""},{"$f":"IF(ISBLANK(Rådata!K127),\"\",(SUM(Rådata!M127:P127)*100)/SUM(Rådata!H127:K127))","v":""},{"$f":"IF(ISBLANK(Rådata!H127),\"\",((SUM(Rådata!J127:L127)-SUM(Rådata!O127:P127))*100)/SUM(Rådata!H127:L127))","v":""},{"$f":"IF(ISBLANK(Rådata!R127),\"\",(Rådata!Q127*100)/Rådata!R127)","v":""}]
[{"$f":"IF(ISBLANK(Rådata!A128)=TRUE,\"\",Rådata!A128)","v":""},{"$f":"IF(ISBLANK(Rådata!A128)=TRUE,\"\",YEAR(A128))","v":""},{"$f":"IF(ISBLANK(Rådata!A128)=TRUE,\"\",VLOOKUP(MONTH(A128),Opsætning!$G$3:$H$14,2,FALSE))","v":""},{"$f":"IF(ISBLANK(Rådata!B128)=TRUE,\"\",(Rådata!C128*100)/Rådata!B128)","v":""},{"$f":"IF(ISBLANK(Rådata!D128)=TRUE,\"\",((Rådata!D128-Rådata!E128)*100)/Rådata!D128)","v":""},{"$f":"IF(ISBLANK(Rådata!G128)=TRUE,\"\",(Rådata!F128*100)/Rådata!G128)","v":""},{"$f":"IF(ISBLANK(Rådata!K128),\"\",(SUM(Rådata!M128:P128)*100)/SUM(Rådata!H128:K128))","v":""},{"$f":"IF(ISBLANK(Rådata!H128),\"\",((SUM(Rådata!J128:L128)-SUM(Rådata!O128:P128))*100)/SUM(Rådata!H128:L128))","v":""},{"$f":"IF(ISBLANK(Rådata!R128),\"\",(Rådata!Q128*100)/Rådata!R128)","v":""}]
[{"$f":"IF(ISBLANK(Rådata!A129)=TRUE,\"\",Rådata!A129)","v":""},{"$f":"IF(ISBLANK(Rådata!A129)=TRUE,\"\",YEAR(A129))","v":""},{"$f":"IF(ISBLANK(Rådata!A129)=TRUE,\"\",VLOOKUP(MONTH(A129),Opsætning!$G$3:$H$14,2,FALSE))","v":""},{"$f":"IF(ISBLANK(Rådata!B129)=TRUE,\"\",(Rådata!C129*100)/Rådata!B129)","v":""},{"$f":"IF(ISBLANK(Rådata!D129)=TRUE,\"\",((Rådata!D129-Rådata!E129)*100)/Rådata!D129)","v":""},{"$f":"IF(ISBLANK(Rådata!G129)=TRUE,\"\",(Rådata!F129*100)/Rådata!G129)","v":""},{"$f":"IF(ISBLANK(Rådata!K129),\"\",(SUM(Rådata!M129:P129)*100)/SUM(Rådata!H129:K129))","v":""},{"$f":"IF(ISBLANK(Rådata!H129),\"\",((SUM(Rådata!J129:L129)-SUM(Rådata!O129:P129))*100)/SUM(Rådata!H129:L129))","v":""},{"$f":"IF(ISBLANK(Rådata!R129),\"\",(Rådata!Q129*100)/Rådata!R129)","v":""}]
[{"$f":"IF(ISBLANK(Rådata!A130)=TRUE,\"\",Rådata!A130)","v":""},{"$f":"IF(ISBLANK(Rådata!A130)=TRUE,\"\",YEAR(A130))","v":""},{"$f":"IF(ISBLANK(Rådata!A130)=TRUE,\"\",VLOOKUP(MONTH(A130),Opsætning!$G$3:$H$14,2,FALSE))","v":""},{"$f":"IF(ISBLANK(Rådata!B130)=TRUE,\"\",(Rådata!C130*100)/Rådata!B130)","v":""},{"$f":"IF(ISBLANK(Rådata!D130)=TRUE,\"\",((Rådata!D130-Rådata!E130)*100)/Rådata!D130)","v":""},{"$f":"IF(ISBLANK(Rådata!G130)=TRUE,\"\",(Rådata!F130*100)/Rådata!G130)","v":""},{"$f":"IF(ISBLANK(Rådata!K130),\"\",(SUM(Rådata!M130:P130)*100)/SUM(Rådata!H130:K130))","v":""},{"$f":"IF(ISBLANK(Rådata!H130),\"\",((SUM(Rådata!J130:L130)-SUM(Rådata!O130:P130))*100)/SUM(Rådata!H130:L130))","v":""},{"$f":"IF(ISBLANK(Rådata!R130),\"\",(Rådata!Q130*100)/Rådata!R130)","v":""}]
[{"$f":"IF(ISBLANK(Rådata!A131)=TRUE,\"\",Rådata!A131)","v":""},{"$f":"IF(ISBLANK(Rådata!A131)=TRUE,\"\",YEAR(A131))","v":""},{"$f":"IF(ISBLANK(Rådata!A131)=TRUE,\"\",VLOOKUP(MONTH(A131),Opsætning!$G$3:$H$14,2,FALSE))","v":""},{"$f":"IF(ISBLANK(Rådata!B131)=TRUE,\"\",(Rådata!C131*100)/Rådata!B131)","v":""},{"$f":"IF(ISBLANK(Rådata!D131)=TRUE,\"\",((Rådata!D131-Rådata!E131)*100)/Rådata!D131)","v":""},{"$f":"IF(ISBLANK(Rådata!G131)=TRUE,\"\",(Rådata!F131*100)/Rådata!G131)","v":""},{"$f":"IF(ISBLANK(Rådata!K131),\"\",(SUM(Rådata!M131:P131)*100)/SUM(Rådata!H131:K131))","v":""},{"$f":"IF(ISBLANK(Rådata!H131),\"\",((SUM(Rådata!J131:L131)-SUM(Rådata!O131:P131))*100)/SUM(Rådata!H131:L131))","v":""},{"$f":"IF(ISBLANK(Rådata!R131),\"\",(Rådata!Q131*100)/Rådata!R131)","v":""}]
[{"$f":"IF(ISBLANK(Rådata!A132)=TRUE,\"\",Rådata!A132)","v":""},{"$f":"IF(ISBLANK(Rådata!A132)=TRUE,\"\",YEAR(A132))","v":""},{"$f":"IF(ISBLANK(Rådata!A132)=TRUE,\"\",VLOOKUP(MONTH(A132),Opsætning!$G$3:$H$14,2,FALSE))","v":""},{"$f":"IF(ISBLANK(Rådata!B132)=TRUE,\"\",(Rådata!C132*100)/Rådata!B132)","v":""},{"$f":"IF(ISBLANK(Rådata!D132)=TRUE,\"\",((Rådata!D132-Rådata!E132)*100)/Rådata!D132)","v":""},{"$f":"IF(ISBLANK(Rådata!G132)=TRUE,\"\",(Rådata!F132*100)/Rådata!G132)","v":""},{"$f":"IF(ISBLANK(Rådata!K132),\"\",(SUM(Rådata!M132:P132)*100)/SUM(Rådata!H132:K132))","v":""},{"$f":"IF(ISBLANK(Rådata!H132),\"\",((SUM(Rådata!J132:L132)-SUM(Rådata!O132:P132))*100)/SUM(Rådata!H132:L132))","v":""},{"$f":"IF(ISBLANK(Rådata!R132),\"\",(Rådata!Q132*100)/Rådata!R132)","v":""}]
[{"$f":"IF(ISBLANK(Rådata!A133)=TRUE,\"\",Rådata!A133)","v":""},{"$f":"IF(ISBLANK(Rådata!A133)=TRUE,\"\",YEAR(A133))","v":""},{"$f":"IF(ISBLANK(Rådata!A133)=TRUE,\"\",VLOOKUP(MONTH(A133),Opsætning!$G$3:$H$14,2,FALSE))","v":""},{"$f":"IF(ISBLANK(Rådata!B133)=TRUE,\"\",(Rådata!C133*100)/Rådata!B133)","v":""},{"$f":"IF(ISBLANK(Rådata!D133)=TRUE,\"\",((Rådata!D133-Rådata!E133)*100)/Rådata!D133)","v":""},{"$f":"IF(ISBLANK(Rådata!G133)=TRUE,\"\",(Rådata!F133*100)/Rådata!G133)","v":""},{"$f":"IF(ISBLANK(Rådata!K133),\"\",(SUM(Rådata!M133:P133)*100)/SUM(Rådata!H133:K133))","v":""},{"$f":"IF(ISBLANK(Rådata!H133),\"\",((SUM(Rådata!J133:L133)-SUM(Rådata!O133:P133))*100)/SUM(Rådata!H133:L133))","v":""},{"$f":"IF(ISBLANK(Rådata!R133),\"\",(Rådata!Q133*100)/Rådata!R133)","v":""}]
[{"$f":"IF(ISBLANK(Rådata!A134)=TRUE,\"\",Rådata!A134)","v":""},{"$f":"IF(ISBLANK(Rådata!A134)=TRUE,\"\",YEAR(A134))","v":""},{"$f":"IF(ISBLANK(Rådata!A134)=TRUE,\"\",VLOOKUP(MONTH(A134),Opsætning!$G$3:$H$14,2,FALSE))","v":""},{"$f":"IF(ISBLANK(Rådata!B134)=TRUE,\"\",(Rådata!C134*100)/Rådata!B134)","v":""},{"$f":"IF(ISBLANK(Rådata!D134)=TRUE,\"\",((Rådata!D134-Rådata!E134)*100)/Rådata!D134)","v":""},{"$f":"IF(ISBLANK(Rådata!G134)=TRUE,\"\",(Rådata!F134*100)/Rådata!G134)","v":""},{"$f":"IF(ISBLANK(Rådata!K134),\"\",(SUM(Rådata!M134:P134)*100)/SUM(Rådata!H134:K134))","v":""},{"$f":"IF(ISBLANK(Rådata!H134),\"\",((SUM(Rådata!J134:L134)-SUM(Rådata!O134:P134))*100)/SUM(Rådata!H134:L134))","v":""},{"$f":"IF(ISBLANK(Rådata!R134),\"\",(Rådata!Q134*100)/Rådata!R134)","v":""}]
[{"$f":"IF(ISBLANK(Rådata!A135)=TRUE,\"\",Rådata!A135)","v":""},{"$f":"IF(ISBLANK(Rådata!A135)=TRUE,\"\",YEAR(A135))","v":""},{"$f":"IF(ISBLANK(Rådata!A135)=TRUE,\"\",VLOOKUP(MONTH(A135),Opsætning!$G$3:$H$14,2,FALSE))","v":""},{"$f":"IF(ISBLANK(Rådata!B135)=TRUE,\"\",(Rådata!C135*100)/Rådata!B135)","v":""},{"$f":"IF(ISBLANK(Rådata!D135)=TRUE,\"\",((Rådata!D135-Rådata!E135)*100)/Rådata!D135)","v":""},{"$f":"IF(ISBLANK(Rådata!G135)=TRUE,\"\",(Rådata!F135*100)/Rådata!G135)","v":""},{"$f":"IF(ISBLANK(Rådata!K135),\"\",(SUM(Rådata!M135:P135)*100)/SUM(Rådata!H135:K135))","v":""},{"$f":"IF(ISBLANK(Rådata!H135),\"\",((SUM(Rådata!J135:L135)-SUM(Rådata!O135:P135))*100)/SUM(Rådata!H135:L135))","v":""},{"$f":"IF(ISBLANK(Rådata!R135),\"\",(Rådata!Q135*100)/Rådata!R135)","v":""}]
[{"$f":"IF(ISBLANK(Rådata!A136)=TRUE,\"\",Rådata!A136)","v":""},{"$f":"IF(ISBLANK(Rådata!A136)=TRUE,\"\",YEAR(A136))","v":""},{"$f":"IF(ISBLANK(Rådata!A136)=TRUE,\"\",VLOOKUP(MONTH(A136),Opsætning!$G$3:$H$14,2,FALSE))","v":""},{"$f":"IF(ISBLANK(Rådata!B136)=TRUE,\"\",(Rådata!C136*100)/Rådata!B136)","v":""},{"$f":"IF(ISBLANK(Rådata!D136)=TRUE,\"\",((Rådata!D136-Rådata!E136)*100)/Rådata!D136)","v":""},{"$f":"IF(ISBLANK(Rådata!G136)=TRUE,\"\",(Rådata!F136*100)/Rådata!G136)","v":""},{"$f":"IF(ISBLANK(Rådata!K136),\"\",(SUM(Rådata!M136:P136)*100)/SUM(Rådata!H136:K136))","v":""},{"$f":"IF(ISBLANK(Rådata!H136),\"\",((SUM(Rådata!J136:L136)-SUM(Rådata!O136:P136))*100)/SUM(Rådata!H136:L136))","v":""},{"$f":"IF(ISBLANK(Rådata!R136),\"\",(Rådata!Q136*100)/Rådata!R136)","v":""}]
[{"$f":"IF(ISBLANK(Rådata!A137)=TRUE,\"\",Rådata!A137)","v":""},{"$f":"IF(ISBLANK(Rådata!A137)=TRUE,\"\",YEAR(A137))","v":""},{"$f":"IF(ISBLANK(Rådata!A137)=TRUE,\"\",VLOOKUP(MONTH(A137),Opsætning!$G$3:$H$14,2,FALSE))","v":""},{"$f":"IF(ISBLANK(Rådata!B137)=TRUE,\"\",(Rådata!C137*100)/Rådata!B137)","v":""},{"$f":"IF(ISBLANK(Rådata!D137)=TRUE,\"\",((Rådata!D137-Rådata!E137)*100)/Rådata!D137)","v":""},{"$f":"IF(ISBLANK(Rådata!G137)=TRUE,\"\",(Rådata!F137*100)/Rådata!G137)","v":""},{"$f":"IF(ISBLANK(Rådata!K137),\"\",(SUM(Rådata!M137:P137)*100)/SUM(Rådata!H137:K137))","v":""},{"$f":"IF(ISBLANK(Rådata!H137),\"\",((SUM(Rådata!J137:L137)-SUM(Rådata!O137:P137))*100)/SUM(Rådata!H137:L137))","v":""},{"$f":"IF(ISBLANK(Rådata!R137),\"\",(Rådata!Q137*100)/Rådata!R137)","v":""}]
[{"$f":"IF(ISBLANK(Rådata!A138)=TRUE,\"\",Rådata!A138)","v":""},{"$f":"IF(ISBLANK(Rådata!A138)=TRUE,\"\",YEAR(A138))","v":""},{"$f":"IF(ISBLANK(Rådata!A138)=TRUE,\"\",VLOOKUP(MONTH(A138),Opsætning!$G$3:$H$14,2,FALSE))","v":""},{"$f":"IF(ISBLANK(Rådata!B138)=TRUE,\"\",(Rådata!C138*100)/Rådata!B138)","v":""},{"$f":"IF(ISBLANK(Rådata!D138)=TRUE,\"\",((Rådata!D138-Rådata!E138)*100)/Rådata!D138)","v":""},{"$f":"IF(ISBLANK(Rådata!G138)=TRUE,\"\",(Rådata!F138*100)/Rådata!G138)","v":""},{"$f":"IF(ISBLANK(Rådata!K138),\"\",(SUM(Rådata!M138:P138)*100)/SUM(Rådata!H138:K138))","v":""},{"$f":"IF(ISBLANK(Rådata!H138),\"\",((SUM(Rådata!J138:L138)-SUM(Rådata!O138:P138))*100)/SUM(Rådata!H138:L138))","v":""},{"$f":"IF(ISBLANK(Rådata!R138),\"\",(Rådata!Q138*100)/Rådata!R138)","v":""}]
[{"$f":"IF(ISBLANK(Rådata!A139)=TRUE,\"\",Rådata!A139)","v":""},{"$f":"IF(ISBLANK(Rådata!A139)=TRUE,\"\",YEAR(A139))","v":""},{"$f":"IF(ISBLANK(Rådata!A139)=TRUE,\"\",VLOOKUP(MONTH(A139),Opsætning!$G$3:$H$14,2,FALSE))","v":""},{"$f":"IF(ISBLANK(Rådata!B139)=TRUE,\"\",(Rådata!C139*100)/Rådata!B139)","v":""},{"$f":"IF(ISBLANK(Rådata!D139)=TRUE,\"\",((Rådata!D139-Rådata!E139)*100)/Rådata!D139)","v":""},{"$f":"IF(ISBLANK(Rådata!G139)=TRUE,\"\",(Rådata!F139*100)/Rådata!G139)","v":""},{"$f":"IF(ISBLANK(Rådata!K139),\"\",(SUM(Rådata!M139:P139)*100)/SUM(Rådata!H139:K139))","v":""},{"$f":"IF(ISBLANK(Rådata!H139),\"\",((SUM(Rådata!J139:L139)-SUM(Rådata!O139:P139))*100)/SUM(Rådata!H139:L139))","v":""},{"$f":"IF(ISBLANK(Rådata!R139),\"\",(Rådata!Q139*100)/Rådata!R139)","v":""}]
[{"$f":"IF(ISBLANK(Rådata!A140)=TRUE,\"\",Rådata!A140)","v":""},{"$f":"IF(ISBLANK(Rådata!A140)=TRUE,\"\",YEAR(A140))","v":""},{"$f":"IF(ISBLANK(Rådata!A140)=TRUE,\"\",VLOOKUP(MONTH(A140),Opsætning!$G$3:$H$14,2,FALSE))","v":""},{"$f":"IF(ISBLANK(Rådata!B140)=TRUE,\"\",(Rådata!C140*100)/Rådata!B140)","v":""},{"$f":"IF(ISBLANK(Rådata!D140)=TRUE,\"\",((Rådata!D140-Rådata!E140)*100)/Rådata!D140)","v":""},{"$f":"IF(ISBLANK(Rådata!G140)=TRUE,\"\",(Rådata!F140*100)/Rådata!G140)","v":""},{"$f":"IF(ISBLANK(Rådata!K140),\"\",(SUM(Rådata!M140:P140)*100)/SUM(Rådata!H140:K140))","v":""},{"$f":"IF(ISBLANK(Rådata!H140),\"\",((SUM(Rådata!J140:L140)-SUM(Rådata!O140:P140))*100)/SUM(Rådata!H140:L140))","v":""},{"$f":"IF(ISBLANK(Rådata!R140),\"\",(Rådata!Q140*100)/Rådata!R140)","v":""}]
[{"$f":"IF(ISBLANK(Rådata!A141)=TRUE,\"\",Rådata!A141)","v":""},{"$f":"IF(ISBLANK(Rådata!A141)=TRUE,\"\",YEAR(A141))","v":""},{"$f":"IF(ISBLANK(Rådata!A141)=TRUE,\"\",VLOOKUP(MONTH(A141),Opsætning!$G$3:$H$14,2,FALSE))","v":""},{"$f":"IF(ISBLANK(Rådata!B141)=TRUE,\"\",(Rådata!C141*100)/Rådata!B141)","v":""},{"$f":"IF(ISBLANK(Rådata!D141)=TRUE,\"\",((Rådata!D141-Rådata!E141)*100)/Rådata!D141)","v":""},{"$f":"IF(ISBLANK(Rådata!G141)=TRUE,\"\",(Rådata!F141*100)/Rådata!G141)","v":""},{"$f":"IF(ISBLANK(Rådata!K141),\"\",(SUM(Rådata!M141:P141)*100)/SUM(Rådata!H141:K141))","v":""},{"$f":"IF(ISBLANK(Rådata!H141),\"\",((SUM(Rådata!J141:L141)-SUM(Rådata!O141:P141))*100)/SUM(Rådata!H141:L141))","v":""},{"$f":"IF(ISBLANK(Rådata!R141),\"\",(Rådata!Q141*100)/Rådata!R141)","v":""}]
[{"$f":"IF(ISBLANK(Rådata!A142)=TRUE,\"\",Rådata!A142)","v":""},{"$f":"IF(ISBLANK(Rådata!A142)=TRUE,\"\",YEAR(A142))","v":""},{"$f":"IF(ISBLANK(Rådata!A142)=TRUE,\"\",VLOOKUP(MONTH(A142),Opsætning!$G$3:$H$14,2,FALSE))","v":""},{"$f":"IF(ISBLANK(Rådata!B142)=TRUE,\"\",(Rådata!C142*100)/Rådata!B142)","v":""},{"$f":"IF(ISBLANK(Rådata!D142)=TRUE,\"\",((Rådata!D142-Rådata!E142)*100)/Rådata!D142)","v":""},{"$f":"IF(ISBLANK(Rådata!G142)=TRUE,\"\",(Rådata!F142*100)/Rådata!G142)","v":""},{"$f":"IF(ISBLANK(Rådata!K142),\"\",(SUM(Rådata!M142:P142)*100)/SUM(Rådata!H142:K142))","v":""},{"$f":"IF(ISBLANK(Rådata!H142),\"\",((SUM(Rådata!J142:L142)-SUM(Rådata!O142:P142))*100)/SUM(Rådata!H142:L142))","v":""},{"$f":"IF(ISBLANK(Rådata!R142),\"\",(Rådata!Q142*100)/Rådata!R142)","v":""}]
[{"$f":"IF(ISBLANK(Rådata!A143)=TRUE,\"\",Rådata!A143)","v":""},{"$f":"IF(ISBLANK(Rådata!A143)=TRUE,\"\",YEAR(A143))","v":""},{"$f":"IF(ISBLANK(Rådata!A143)=TRUE,\"\",VLOOKUP(MONTH(A143),Opsætning!$G$3:$H$14,2,FALSE))","v":""},{"$f":"IF(ISBLANK(Rådata!B143)=TRUE,\"\",(Rådata!C143*100)/Rådata!B143)","v":""},{"$f":"IF(ISBLANK(Rådata!D143)=TRUE,\"\",((Rådata!D143-Rådata!E143)*100)/Rådata!D143)","v":""},{"$f":"IF(ISBLANK(Rådata!G143)=TRUE,\"\",(Rådata!F143*100)/Rådata!G143)","v":""},{"$f":"IF(ISBLANK(Rådata!K143),\"\",(SUM(Rådata!M143:P143)*100)/SUM(Rådata!H143:K143))","v":""},{"$f":"IF(ISBLANK(Rådata!H143),\"\",((SUM(Rådata!J143:L143)-SUM(Rådata!O143:P143))*100)/SUM(Rådata!H143:L143))","v":""},{"$f":"IF(ISBLANK(Rådata!R143),\"\",(Rådata!Q143*100)/Rådata!R143)","v":""}]
[{"$f":"IF(ISBLANK(Rådata!A144)=TRUE,\"\",Rådata!A144)","v":""},{"$f":"IF(ISBLANK(Rådata!A144)=TRUE,\"\",YEAR(A144))","v":""},{"$f":"IF(ISBLANK(Rådata!A144)=TRUE,\"\",VLOOKUP(MONTH(A144),Opsætning!$G$3:$H$14,2,FALSE))","v":""},{"$f":"IF(ISBLANK(Rådata!B144)=TRUE,\"\",(Rådata!C144*100)/Rådata!B144)","v":""},{"$f":"IF(ISBLANK(Rådata!D144)=TRUE,\"\",((Rådata!D144-Rådata!E144)*100)/Rådata!D144)","v":""},{"$f":"IF(ISBLANK(Rådata!G144)=TRUE,\"\",(Rådata!F144*100)/Rådata!G144)","v":""},{"$f":"IF(ISBLANK(Rådata!K144),\"\",(SUM(Rådata!M144:P144)*100)/SUM(Rådata!H144:K144))","v":""},{"$f":"IF(ISBLANK(Rådata!H144),\"\",((SUM(Rådata!J144:L144)-SUM(Rådata!O144:P144))*100)/SUM(Rådata!H144:L144))","v":""},{"$f":"IF(ISBLANK(Rådata!R144),\"\",(Rådata!Q144*100)/Rådata!R144)","v":""}]
[{"$f":"IF(ISBLANK(Rådata!A145)=TRUE,\"\",Rådata!A145)","v":""},{"$f":"IF(ISBLANK(Rådata!A145)=TRUE,\"\",YEAR(A145))","v":""},{"$f":"IF(ISBLANK(Rådata!A145)=TRUE,\"\",VLOOKUP(MONTH(A145),Opsætning!$G$3:$H$14,2,FALSE))","v":""},{"$f":"IF(ISBLANK(Rådata!B145)=TRUE,\"\",(Rådata!C145*100)/Rådata!B145)","v":""},{"$f":"IF(ISBLANK(Rådata!D145)=TRUE,\"\",((Rådata!D145-Rådata!E145)*100)/Rådata!D145)","v":""},{"$f":"IF(ISBLANK(Rådata!G145)=TRUE,\"\",(Rådata!F145*100)/Rådata!G145)","v":""},{"$f":"IF(ISBLANK(Rådata!K145),\"\",(SUM(Rådata!M145:P145)*100)/SUM(Rådata!H145:K145))","v":""},{"$f":"IF(ISBLANK(Rådata!H145),\"\",((SUM(Rådata!J145:L145)-SUM(Rådata!O145:P145))*100)/SUM(Rådata!H145:L145))","v":""},{"$f":"IF(ISBLANK(Rådata!R145),\"\",(Rådata!Q145*100)/Rådata!R145)","v":""}]
[{"$f":"IF(ISBLANK(Rådata!A146)=TRUE,\"\",Rådata!A146)","v":""},{"$f":"IF(ISBLANK(Rådata!A146)=TRUE,\"\",YEAR(A146))","v":""},{"$f":"IF(ISBLANK(Rådata!A146)=TRUE,\"\",VLOOKUP(MONTH(A146),Opsætning!$G$3:$H$14,2,FALSE))","v":""},{"$f":"IF(ISBLANK(Rådata!B146)=TRUE,\"\",(Rådata!C146*100)/Rådata!B146)","v":""},{"$f":"IF(ISBLANK(Rådata!D146)=TRUE,\"\",((Rådata!D146-Rådata!E146)*100)/Rådata!D146)","v":""},{"$f":"IF(ISBLANK(Rådata!G146)=TRUE,\"\",(Rådata!F146*100)/Rådata!G146)","v":""},{"$f":"IF(ISBLANK(Rådata!K146),\"\",(SUM(Rådata!M146:P146)*100)/SUM(Rådata!H146:K146))","v":""},{"$f":"IF(ISBLANK(Rådata!H146),\"\",((SUM(Rådata!J146:L146)-SUM(Rådata!O146:P146))*100)/SUM(Rådata!H146:L146))","v":""},{"$f":"IF(ISBLANK(Rådata!R146),\"\",(Rådata!Q146*100)/Rådata!R146)","v":""}]
[{"$f":"IF(ISBLANK(Rådata!A147)=TRUE,\"\",Rådata!A147)","v":""},{"$f":"IF(ISBLANK(Rådata!A147)=TRUE,\"\",YEAR(A147))","v":""},{"$f":"IF(ISBLANK(Rådata!A147)=TRUE,\"\",VLOOKUP(MONTH(A147),Opsætning!$G$3:$H$14,2,FALSE))","v":""},{"$f":"IF(ISBLANK(Rådata!B147)=TRUE,\"\",(Rådata!C147*100)/Rådata!B147)","v":""},{"$f":"IF(ISBLANK(Rådata!D147)=TRUE,\"\",((Rådata!D147-Rådata!E147)*100)/Rådata!D147)","v":""},{"$f":"IF(ISBLANK(Rådata!G147)=TRUE,\"\",(Rådata!F147*100)/Rådata!G147)","v":""},{"$f":"IF(ISBLANK(Rådata!K147),\"\",(SUM(Rådata!M147:P147)*100)/SUM(Rådata!H147:K147))","v":""},{"$f":"IF(ISBLANK(Rådata!H147),\"\",((SUM(Rådata!J147:L147)-SUM(Rådata!O147:P147))*100)/SUM(Rådata!H147:L147))","v":""},{"$f":"IF(ISBLANK(Rådata!R147),\"\",(Rådata!Q147*100)/Rådata!R147)","v":""}]
[{"$f":"IF(ISBLANK(Rådata!A148)=TRUE,\"\",Rådata!A148)","v":""},{"$f":"IF(ISBLANK(Rådata!A148)=TRUE,\"\",YEAR(A148))","v":""},{"$f":"IF(ISBLANK(Rådata!A148)=TRUE,\"\",VLOOKUP(MONTH(A148),Opsætning!$G$3:$H$14,2,FALSE))","v":""},{"$f":"IF(ISBLANK(Rådata!B148)=TRUE,\"\",(Rådata!C148*100)/Rådata!B148)","v":""},{"$f":"IF(ISBLANK(Rådata!D148)=TRUE,\"\",((Rådata!D148-Rådata!E148)*100)/Rådata!D148)","v":""},{"$f":"IF(ISBLANK(Rådata!G148)=TRUE,\"\",(Rådata!F148*100)/Rådata!G148)","v":""},{"$f":"IF(ISBLANK(Rådata!K148),\"\",(SUM(Rådata!M148:P148)*100)/SUM(Rådata!H148:K148))","v":""},{"$f":"IF(ISBLANK(Rådata!H148),\"\",((SUM(Rådata!J148:L148)-SUM(Rådata!O148:P148))*100)/SUM(Rådata!H148:L148))","v":""},{"$f":"IF(ISBLANK(Rådata!R148),\"\",(Rådata!Q148*100)/Rådata!R148)","v":""}]
[{"$f":"IF(ISBLANK(Rådata!A149)=TRUE,\"\",Rådata!A149)","v":""},{"$f":"IF(ISBLANK(Rådata!A149)=TRUE,\"\",YEAR(A149))","v":""},{"$f":"IF(ISBLANK(Rådata!A149)=TRUE,\"\",VLOOKUP(MONTH(A149),Opsætning!$G$3:$H$14,2,FALSE))","v":""},{"$f":"IF(ISBLANK(Rådata!B149)=TRUE,\"\",(Rådata!C149*100)/Rådata!B149)","v":""},{"$f":"IF(ISBLANK(Rådata!D149)=TRUE,\"\",((Rådata!D149-Rådata!E149)*100)/Rådata!D149)","v":""},{"$f":"IF(ISBLANK(Rådata!G149)=TRUE,\"\",(Rådata!F149*100)/Rådata!G149)","v":""},{"$f":"IF(ISBLANK(Rådata!K149),\"\",(SUM(Rådata!M149:P149)*100)/SUM(Rådata!H149:K149))","v":""},{"$f":"IF(ISBLANK(Rådata!H149),\"\",((SUM(Rådata!J149:L149)-SUM(Rådata!O149:P149))*100)/SUM(Rådata!H149:L149))","v":""},{"$f":"IF(ISBLANK(Rådata!R149),\"\",(Rådata!Q149*100)/Rådata!R149)","v":""}]
[{"$f":"IF(ISBLANK(Rådata!A150)=TRUE,\"\",Rådata!A150)","v":""},{"$f":"IF(ISBLANK(Rådata!A150)=TRUE,\"\",YEAR(A150))","v":""},{"$f":"IF(ISBLANK(Rådata!A150)=TRUE,\"\",VLOOKUP(MONTH(A150),Opsætning!$G$3:$H$14,2,FALSE))","v":""},{"$f":"IF(ISBLANK(Rådata!B150)=TRUE,\"\",(Rådata!C150*100)/Rådata!B150)","v":""},{"$f":"IF(ISBLANK(Rådata!D150)=TRUE,\"\",((Rådata!D150-Rådata!E150)*100)/Rådata!D150)","v":""},{"$f":"IF(ISBLANK(Rådata!G150)=TRUE,\"\",(Rådata!F150*100)/Rådata!G150)","v":""},{"$f":"IF(ISBLANK(Rådata!K150),\"\",(SUM(Rådata!M150:P150)*100)/SUM(Rådata!H150:K150))","v":""},{"$f":"IF(ISBLANK(Rådata!H150),\"\",((SUM(Rådata!J150:L150)-SUM(Rådata!O150:P150))*100)/SUM(Rådata!H150:L150))","v":""},{"$f":"IF(ISBLANK(Rådata!R150),\"\",(Rådata!Q150*100)/Rådata!R150)","v":""}]
[{"$f":"IF(ISBLANK(Rådata!A151)=TRUE,\"\",Rådata!A151)","v":""},{"$f":"IF(ISBLANK(Rådata!A151)=TRUE,\"\",YEAR(A151))","v":""},{"$f":"IF(ISBLANK(Rådata!A151)=TRUE,\"\",VLOOKUP(MONTH(A151),Opsætning!$G$3:$H$14,2,FALSE))","v":""},{"$f":"IF(ISBLANK(Rådata!B151)=TRUE,\"\",(Rådata!C151*100)/Rådata!B151)","v":""},{"$f":"IF(ISBLANK(Rådata!D151)=TRUE,\"\",((Rådata!D151-Rådata!E151)*100)/Rådata!D151)","v":""},{"$f":"IF(ISBLANK(Rådata!G151)=TRUE,\"\",(Rådata!F151*100)/Rådata!G151)","v":""},{"$f":"IF(ISBLANK(Rådata!K151),\"\",(SUM(Rådata!M151:P151)*100)/SUM(Rådata!H151:K151))","v":""},{"$f":"IF(ISBLANK(Rådata!H151),\"\",((SUM(Rådata!J151:L151)-SUM(Rådata!O151:P151))*100)/SUM(Rådata!H151:L151))","v":""},{"$f":"IF(ISBLANK(Rådata!R151),\"\",(Rådata!Q151*100)/Rådata!R151)","v":""}]
[{"$f":"IF(ISBLANK(Rådata!A152)=TRUE,\"\",Rådata!A152)","v":""},{"$f":"IF(ISBLANK(Rådata!A152)=TRUE,\"\",YEAR(A152))","v":""},{"$f":"IF(ISBLANK(Rådata!A152)=TRUE,\"\",VLOOKUP(MONTH(A152),Opsætning!$G$3:$H$14,2,FALSE))","v":""},{"$f":"IF(ISBLANK(Rådata!B152)=TRUE,\"\",(Rådata!C152*100)/Rådata!B152)","v":""},{"$f":"IF(ISBLANK(Rådata!D152)=TRUE,\"\",((Rådata!D152-Rådata!E152)*100)/Rådata!D152)","v":""},{"$f":"IF(ISBLANK(Rådata!G152)=TRUE,\"\",(Rådata!F152*100)/Rådata!G152)","v":""},{"$f":"IF(ISBLANK(Rådata!K152),\"\",(SUM(Rådata!M152:P152)*100)/SUM(Rådata!H152:K152))","v":""},{"$f":"IF(ISBLANK(Rådata!H152),\"\",((SUM(Rådata!J152:L152)-SUM(Rådata!O152:P152))*100)/SUM(Rådata!H152:L152))","v":""},{"$f":"IF(ISBLANK(Rådata!R152),\"\",(Rådata!Q152*100)/Rådata!R152)","v":""}]
[{"$f":"IF(ISBLANK(Rådata!A153)=TRUE,\"\",Rådata!A153)","v":""},{"$f":"IF(ISBLANK(Rådata!A153)=TRUE,\"\",YEAR(A153))","v":""},{"$f":"IF(ISBLANK(Rådata!A153)=TRUE,\"\",VLOOKUP(MONTH(A153),Opsætning!$G$3:$H$14,2,FALSE))","v":""},{"$f":"IF(ISBLANK(Rådata!B153)=TRUE,\"\",(Rådata!C153*100)/Rådata!B153)","v":""},{"$f":"IF(ISBLANK(Rådata!D153)=TRUE,\"\",((Rådata!D153-Rådata!E153)*100)/Rådata!D153)","v":""},{"$f":"IF(ISBLANK(Rådata!G153)=TRUE,\"\",(Rådata!F153*100)/Rådata!G153)","v":""},{"$f":"IF(ISBLANK(Rådata!K153),\"\",(SUM(Rådata!M153:P153)*100)/SUM(Rådata!H153:K153))","v":""},{"$f":"IF(ISBLANK(Rådata!H153),\"\",((SUM(Rådata!J153:L153)-SUM(Rådata!O153:P153))*100)/SUM(Rådata!H153:L153))","v":""},{"$f":"IF(ISBLANK(Rådata!R153),\"\",(Rådata!Q153*100)/Rådata!R153)","v":""}]
[{"$f":"IF(ISBLANK(Rådata!A154)=TRUE,\"\",Rådata!A154)","v":""},{"$f":"IF(ISBLANK(Rådata!A154)=TRUE,\"\",YEAR(A154))","v":""},{"$f":"IF(ISBLANK(Rådata!A154)=TRUE,\"\",VLOOKUP(MONTH(A154),Opsætning!$G$3:$H$14,2,FALSE))","v":""},{"$f":"IF(ISBLANK(Rådata!B154)=TRUE,\"\",(Rådata!C154*100)/Rådata!B154)","v":""},{"$f":"IF(ISBLANK(Rådata!D154)=TRUE,\"\",((Rådata!D154-Rådata!E154)*100)/Rådata!D154)","v":""},{"$f":"IF(ISBLANK(Rådata!G154)=TRUE,\"\",(Rådata!F154*100)/Rådata!G154)","v":""},{"$f":"IF(ISBLANK(Rådata!K154),\"\",(SUM(Rådata!M154:P154)*100)/SUM(Rådata!H154:K154))","v":""},{"$f":"IF(ISBLANK(Rådata!H154),\"\",((SUM(Rådata!J154:L154)-SUM(Rådata!O154:P154))*100)/SUM(Rådata!H154:L154))","v":""},{"$f":"IF(ISBLANK(Rådata!R154),\"\",(Rådata!Q154*100)/Rådata!R154)","v":""}]
[{"$f":"IF(ISBLANK(Rådata!A155)=TRUE,\"\",Rådata!A155)","v":""},{"$f":"IF(ISBLANK(Rådata!A155)=TRUE,\"\",YEAR(A155))","v":""},{"$f":"IF(ISBLANK(Rådata!A155)=TRUE,\"\",VLOOKUP(MONTH(A155),Opsætning!$G$3:$H$14,2,FALSE))","v":""},{"$f":"IF(ISBLANK(Rådata!B155)=TRUE,\"\",(Rådata!C155*100)/Rådata!B155)","v":""},{"$f":"IF(ISBLANK(Rådata!D155)=TRUE,\"\",((Rådata!D155-Rådata!E155)*100)/Rådata!D155)","v":""},{"$f":"IF(ISBLANK(Rådata!G155)=TRUE,\"\",(Rådata!F155*100)/Rådata!G155)","v":""},{"$f":"IF(ISBLANK(Rådata!K155),\"\",(SUM(Rådata!M155:P155)*100)/SUM(Rådata!H155:K155))","v":""},{"$f":"IF(ISBLANK(Rådata!H155),\"\",((SUM(Rådata!J155:L155)-SUM(Rådata!O155:P155))*100)/SUM(Rådata!H155:L155))","v":""},{"$f":"IF(ISBLANK(Rådata!R155),\"\",(Rådata!Q155*100)/Rådata!R155)","v":""}]
[{"$f":"IF(ISBLANK(Rådata!A156)=TRUE,\"\",Rådata!A156)","v":""},{"$f":"IF(ISBLANK(Rådata!A156)=TRUE,\"\",YEAR(A156))","v":""},{"$f":"IF(ISBLANK(Rådata!A156)=TRUE,\"\",VLOOKUP(MONTH(A156),Opsætning!$G$3:$H$14,2,FALSE))","v":""},{"$f":"IF(ISBLANK(Rådata!B156)=TRUE,\"\",(Rådata!C156*100)/Rådata!B156)","v":""},{"$f":"IF(ISBLANK(Rådata!D156)=TRUE,\"\",((Rådata!D156-Rådata!E156)*100)/Rådata!D156)","v":""},{"$f":"IF(ISBLANK(Rådata!G156)=TRUE,\"\",(Rådata!F156*100)/Rådata!G156)","v":""},{"$f":"IF(ISBLANK(Rådata!K156),\"\",(SUM(Rådata!M156:P156)*100)/SUM(Rådata!H156:K156))","v":""},{"$f":"IF(ISBLANK(Rådata!H156),\"\",((SUM(Rådata!J156:L156)-SUM(Rådata!O156:P156))*100)/SUM(Rådata!H156:L156))","v":""},{"$f":"IF(ISBLANK(Rådata!R156),\"\",(Rådata!Q156*100)/Rådata!R156)","v":""}]
[{"$f":"IF(ISBLANK(Rådata!A157)=TRUE,\"\",Rådata!A157)","v":""},{"$f":"IF(ISBLANK(Rådata!A157)=TRUE,\"\",YEAR(A157))","v":""},{"$f":"IF(ISBLANK(Rådata!A157)=TRUE,\"\",VLOOKUP(MONTH(A157),Opsætning!$G$3:$H$14,2,FALSE))","v":""},{"$f":"IF(ISBLANK(Rådata!B157)=TRUE,\"\",(Rådata!C157*100)/Rådata!B157)","v":""},{"$f":"IF(ISBLANK(Rådata!D157)=TRUE,\"\",((Rådata!D157-Rådata!E157)*100)/Rådata!D157)","v":""},{"$f":"IF(ISBLANK(Rådata!G157)=TRUE,\"\",(Rådata!F157*100)/Rådata!G157)","v":""},{"$f":"IF(ISBLANK(Rådata!K157),\"\",(SUM(Rådata!M157:P157)*100)/SUM(Rådata!H157:K157))","v":""},{"$f":"IF(ISBLANK(Rådata!H157),\"\",((SUM(Rådata!J157:L157)-SUM(Rådata!O157:P157))*100)/SUM(Rådata!H157:L157))","v":""},{"$f":"IF(ISBLANK(Rådata!R157),\"\",(Rådata!Q157*100)/Rådata!R157)","v":""}]
[{"$f":"IF(ISBLANK(Rådata!A158)=TRUE,\"\",Rådata!A158)","v":""},{"$f":"IF(ISBLANK(Rådata!A158)=TRUE,\"\",YEAR(A158))","v":""},{"$f":"IF(ISBLANK(Rådata!A158)=TRUE,\"\",VLOOKUP(MONTH(A158),Opsætning!$G$3:$H$14,2,FALSE))","v":""},{"$f":"IF(ISBLANK(Rådata!B158)=TRUE,\"\",(Rådata!C158*100)/Rådata!B158)","v":""},{"$f":"IF(ISBLANK(Rådata!D158)=TRUE,\"\",((Rådata!D158-Rådata!E158)*100)/Rådata!D158)","v":""},{"$f":"IF(ISBLANK(Rådata!G158)=TRUE,\"\",(Rådata!F158*100)/Rådata!G158)","v":""},{"$f":"IF(ISBLANK(Rådata!K158),\"\",(SUM(Rådata!M158:P158)*100)/SUM(Rådata!H158:K158))","v":""},{"$f":"IF(ISBLANK(Rådata!H158),\"\",((SUM(Rådata!J158:L158)-SUM(Rådata!O158:P158))*100)/SUM(Rådata!H158:L158))","v":""},{"$f":"IF(ISBLANK(Rådata!R158),\"\",(Rådata!Q158*100)/Rådata!R158)","v":""}]
[{"$f":"IF(ISBLANK(Rådata!A159)=TRUE,\"\",Rådata!A159)","v":""},{"$f":"IF(ISBLANK(Rådata!A159)=TRUE,\"\",YEAR(A159))","v":""},{"$f":"IF(ISBLANK(Rådata!A159)=TRUE,\"\",VLOOKUP(MONTH(A159),Opsætning!$G$3:$H$14,2,FALSE))","v":""},{"$f":"IF(ISBLANK(Rådata!B159)=TRUE,\"\",(Rådata!C159*100)/Rådata!B159)","v":""},{"$f":"IF(ISBLANK(Rådata!D159)=TRUE,\"\",((Rådata!D159-Rådata!E159)*100)/Rådata!D159)","v":""},{"$f":"IF(ISBLANK(Rådata!G159)=TRUE,\"\",(Rådata!F159*100)/Rådata!G159)","v":""},{"$f":"IF(ISBLANK(Rådata!K159),\"\",(SUM(Rådata!M159:P159)*100)/SUM(Rådata!H159:K159))","v":""},{"$f":"IF(ISBLANK(Rådata!H159),\"\",((SUM(Rådata!J159:L159)-SUM(Rådata!O159:P159))*100)/SUM(Rådata!H159:L159))","v":""},{"$f":"IF(ISBLANK(Rådata!R159),\"\",(Rådata!Q159*100)/Rådata!R159)","v":""}]
[{"$f":"IF(ISBLANK(Rådata!A160)=TRUE,\"\",Rådata!A160)","v":""},{"$f":"IF(ISBLANK(Rådata!A160)=TRUE,\"\",YEAR(A160))","v":""},{"$f":"IF(ISBLANK(Rådata!A160)=TRUE,\"\",VLOOKUP(MONTH(A160),Opsætning!$G$3:$H$14,2,FALSE))","v":""},{"$f":"IF(ISBLANK(Rådata!B160)=TRUE,\"\",(Rådata!C160*100)/Rådata!B160)","v":""},{"$f":"IF(ISBLANK(Rådata!D160)=TRUE,\"\",((Rådata!D160-Rådata!E160)*100)/Rådata!D160)","v":""},{"$f":"IF(ISBLANK(Rådata!G160)=TRUE,\"\",(Rådata!F160*100)/Rådata!G160)","v":""},{"$f":"IF(ISBLANK(Rådata!K160),\"\",(SUM(Rådata!M160:P160)*100)/SUM(Rådata!H160:K160))","v":""},{"$f":"IF(ISBLANK(Rådata!H160),\"\",((SUM(Rådata!J160:L160)-SUM(Rådata!O160:P160))*100)/SUM(Rådata!H160:L160))","v":""},{"$f":"IF(ISBLANK(Rådata!R160),\"\",(Rådata!Q160*100)/Rådata!R160)","v":""}]
[{"$f":"IF(ISBLANK(Rådata!A161)=TRUE,\"\",Rådata!A161)","v":""},{"$f":"IF(ISBLANK(Rådata!A161)=TRUE,\"\",YEAR(A161))","v":""},{"$f":"IF(ISBLANK(Rådata!A161)=TRUE,\"\",VLOOKUP(MONTH(A161),Opsætning!$G$3:$H$14,2,FALSE))","v":""},{"$f":"IF(ISBLANK(Rådata!B161)=TRUE,\"\",(Rådata!C161*100)/Rådata!B161)","v":""},{"$f":"IF(ISBLANK(Rådata!D161)=TRUE,\"\",((Rådata!D161-Rådata!E161)*100)/Rådata!D161)","v":""},{"$f":"IF(ISBLANK(Rådata!G161)=TRUE,\"\",(Rådata!F161*100)/Rådata!G161)","v":""},{"$f":"IF(ISBLANK(Rådata!K161),\"\",(SUM(Rådata!M161:P161)*100)/SUM(Rådata!H161:K161))","v":""},{"$f":"IF(ISBLANK(Rådata!H161),\"\",((SUM(Rådata!J161:L161)-SUM(Rådata!O161:P161))*100)/SUM(Rådata!H161:L161))","v":""},{"$f":"IF(ISBLANK(Rådata!R161),\"\",(Rådata!Q161*100)/Rådata!R161)","v":""}]
[{"$f":"IF(ISBLANK(Rådata!A162)=TRUE,\"\",Rådata!A162)","v":""},{"$f":"IF(ISBLANK(Rådata!A162)=TRUE,\"\",YEAR(A162))","v":""},{"$f":"IF(ISBLANK(Rådata!A162)=TRUE,\"\",VLOOKUP(MONTH(A162),Opsætning!$G$3:$H$14,2,FALSE))","v":""},{"$f":"IF(ISBLANK(Rådata!B162)=TRUE,\"\",(Rådata!C162*100)/Rådata!B162)","v":""},{"$f":"IF(ISBLANK(Rådata!D162)=TRUE,\"\",((Rådata!D162-Rådata!E162)*100)/Rådata!D162)","v":""},{"$f":"IF(ISBLANK(Rådata!G162)=TRUE,\"\",(Rådata!F162*100)/Rådata!G162)","v":""},{"$f":"IF(ISBLANK(Rådata!K162),\"\",(SUM(Rådata!M162:P162)*100)/SUM(Rådata!H162:K162))","v":""},{"$f":"IF(ISBLANK(Rådata!H162),\"\",((SUM(Rådata!J162:L162)-SUM(Rådata!O162:P162))*100)/SUM(Rådata!H162:L162))","v":""},{"$f":"IF(ISBLANK(Rådata!R162),\"\",(Rådata!Q162*100)/Rådata!R162)","v":""}]
[{"$f":"IF(ISBLANK(Rådata!A163)=TRUE,\"\",Rådata!A163)","v":""},{"$f":"IF(ISBLANK(Rådata!A163)=TRUE,\"\",YEAR(A163))","v":""},{"$f":"IF(ISBLANK(Rådata!A163)=TRUE,\"\",VLOOKUP(MONTH(A163),Opsætning!$G$3:$H$14,2,FALSE))","v":""},{"$f":"IF(ISBLANK(Rådata!B163)=TRUE,\"\",(Rådata!C163*100)/Rådata!B163)","v":""},{"$f":"IF(ISBLANK(Rådata!D163)=TRUE,\"\",((Rådata!D163-Rådata!E163)*100)/Rådata!D163)","v":""},{"$f":"IF(ISBLANK(Rådata!G163)=TRUE,\"\",(Rådata!F163*100)/Rådata!G163)","v":""},{"$f":"IF(ISBLANK(Rådata!K163),\"\",(SUM(Rådata!M163:P163)*100)/SUM(Rådata!H163:K163))","v":""},{"$f":"IF(ISBLANK(Rådata!H163),\"\",((SUM(Rådata!J163:L163)-SUM(Rådata!O163:P163))*100)/SUM(Rådata!H163:L163))","v":""},{"$f":"IF(ISBLANK(Rådata!R163),\"\",(Rådata!Q163*100)/Rådata!R163)","v":""}]
[{"$f":"IF(ISBLANK(Rådata!A164)=TRUE,\"\",Rådata!A164)","v":""},{"$f":"IF(ISBLANK(Rådata!A164)=TRUE,\"\",YEAR(A164))","v":""},{"$f":"IF(ISBLANK(Rådata!A164)=TRUE,\"\",VLOOKUP(MONTH(A164),Opsætning!$G$3:$H$14,2,FALSE))","v":""},{"$f":"IF(ISBLANK(Rådata!B164)=TRUE,\"\",(Rådata!C164*100)/Rådata!B164)","v":""},{"$f":"IF(ISBLANK(Rådata!D164)=TRUE,\"\",((Rådata!D164-Rådata!E164)*100)/Rådata!D164)","v":""},{"$f":"IF(ISBLANK(Rådata!G164)=TRUE,\"\",(Rådata!F164*100)/Rådata!G164)","v":""},{"$f":"IF(ISBLANK(Rådata!K164),\"\",(SUM(Rådata!M164:P164)*100)/SUM(Rådata!H164:K164))","v":""},{"$f":"IF(ISBLANK(Rådata!H164),\"\",((SUM(Rådata!J164:L164)-SUM(Rådata!O164:P164))*100)/SUM(Rådata!H164:L164))","v":""},{"$f":"IF(ISBLANK(Rådata!R164),\"\",(Rådata!Q164*100)/Rådata!R164)","v":""}]
[{"$f":"IF(ISBLANK(Rådata!A165)=TRUE,\"\",Rådata!A165)","v":""},{"$f":"IF(ISBLANK(Rådata!A165)=TRUE,\"\",YEAR(A165))","v":""},{"$f":"IF(ISBLANK(Rådata!A165)=TRUE,\"\",VLOOKUP(MONTH(A165),Opsætning!$G$3:$H$14,2,FALSE))","v":""},{"$f":"IF(ISBLANK(Rådata!B165)=TRUE,\"\",(Rådata!C165*100)/Rådata!B165)","v":""},{"$f":"IF(ISBLANK(Rådata!D165)=TRUE,\"\",((Rådata!D165-Rådata!E165)*100)/Rådata!D165)","v":""},{"$f":"IF(ISBLANK(Rådata!G165)=TRUE,\"\",(Rådata!F165*100)/Rådata!G165)","v":""},{"$f":"IF(ISBLANK(Rådata!K165),\"\",(SUM(Rådata!M165:P165)*100)/SUM(Rådata!H165:K165))","v":""},{"$f":"IF(ISBLANK(Rådata!H165),\"\",((SUM(Rådata!J165:L165)-SUM(Rådata!O165:P165))*100)/SUM(Rådata!H165:L165))","v":""},{"$f":"IF(ISBLANK(Rådata!R165),\"\",(Rådata!Q165*100)/Rådata!R165)","v":""}]
[{"$f":"IF(ISBLANK(Rådata!A166)=TRUE,\"\",Rådata!A166)","v":""},{"$f":"IF(ISBLANK(Rådata!A166)=TRUE,\"\",YEAR(A166))","v":""},{"$f":"IF(ISBLANK(Rådata!A166)=TRUE,\"\",VLOOKUP(MONTH(A166),Opsætning!$G$3:$H$14,2,FALSE))","v":""},{"$f":"IF(ISBLANK(Rådata!B166)=TRUE,\"\",(Rådata!C166*100)/Rådata!B166)","v":""},{"$f":"IF(ISBLANK(Rådata!D166)=TRUE,\"\",((Rådata!D166-Rådata!E166)*100)/Rådata!D166)","v":""},{"$f":"IF(ISBLANK(Rådata!G166)=TRUE,\"\",(Rådata!F166*100)/Rådata!G166)","v":""},{"$f":"IF(ISBLANK(Rådata!K166),\"\",(SUM(Rådata!M166:P166)*100)/SUM(Rådata!H166:K166))","v":""},{"$f":"IF(ISBLANK(Rådata!H166),\"\",((SUM(Rådata!J166:L166)-SUM(Rådata!O166:P166))*100)/SUM(Rådata!H166:L166))","v":""},{"$f":"IF(ISBLANK(Rådata!R166),\"\",(Rådata!Q166*100)/Rådata!R166)","v":""}]
[{"$f":"IF(ISBLANK(Rådata!A167)=TRUE,\"\",Rådata!A167)","v":""},{"$f":"IF(ISBLANK(Rådata!A167)=TRUE,\"\",YEAR(A167))","v":""},{"$f":"IF(ISBLANK(Rådata!A167)=TRUE,\"\",VLOOKUP(MONTH(A167),Opsætning!$G$3:$H$14,2,FALSE))","v":""},{"$f":"IF(ISBLANK(Rådata!B167)=TRUE,\"\",(Rådata!C167*100)/Rådata!B167)","v":""},{"$f":"IF(ISBLANK(Rådata!D167)=TRUE,\"\",((Rådata!D167-Rådata!E167)*100)/Rådata!D167)","v":""},{"$f":"IF(ISBLANK(Rådata!G167)=TRUE,\"\",(Rådata!F167*100)/Rådata!G167)","v":""},{"$f":"IF(ISBLANK(Rådata!K167),\"\",(SUM(Rådata!M167:P167)*100)/SUM(Rådata!H167:K167))","v":""},{"$f":"IF(ISBLANK(Rådata!H167),\"\",((SUM(Rådata!J167:L167)-SUM(Rådata!O167:P167))*100)/SUM(Rådata!H167:L167))","v":""},{"$f":"IF(ISBLANK(Rådata!R167),\"\",(Rådata!Q167*100)/Rådata!R167)","v":""}]
[{"$f":"IF(ISBLANK(Rådata!A168)=TRUE,\"\",Rådata!A168)","v":""},{"$f":"IF(ISBLANK(Rådata!A168)=TRUE,\"\",YEAR(A168))","v":""},{"$f":"IF(ISBLANK(Rådata!A168)=TRUE,\"\",VLOOKUP(MONTH(A168),Opsætning!$G$3:$H$14,2,FALSE))","v":""},{"$f":"IF(ISBLANK(Rådata!B168)=TRUE,\"\",(Rådata!C168*100)/Rådata!B168)","v":""},{"$f":"IF(ISBLANK(Rådata!D168)=TRUE,\"\",((Rådata!D168-Rådata!E168)*100)/Rådata!D168)","v":""},{"$f":"IF(ISBLANK(Rådata!G168)=TRUE,\"\",(Rådata!F168*100)/Rådata!G168)","v":""},{"$f":"IF(ISBLANK(Rådata!K168),\"\",(SUM(Rådata!M168:P168)*100)/SUM(Rådata!H168:K168))","v":""},{"$f":"IF(ISBLANK(Rådata!H168),\"\",((SUM(Rådata!J168:L168)-SUM(Rådata!O168:P168))*100)/SUM(Rådata!H168:L168))","v":""},{"$f":"IF(ISBLANK(Rådata!R168),\"\",(Rådata!Q168*100)/Rådata!R168)","v":""}]
[{"$f":"IF(ISBLANK(Rådata!A169)=TRUE,\"\",Rådata!A169)","v":""},{"$f":"IF(ISBLANK(Rådata!A169)=TRUE,\"\",YEAR(A169))","v":""},{"$f":"IF(ISBLANK(Rådata!A169)=TRUE,\"\",VLOOKUP(MONTH(A169),Opsætning!$G$3:$H$14,2,FALSE))","v":""},{"$f":"IF(ISBLANK(Rådata!B169)=TRUE,\"\",(Rådata!C169*100)/Rådata!B169)","v":""},{"$f":"IF(ISBLANK(Rådata!D169)=TRUE,\"\",((Rådata!D169-Rådata!E169)*100)/Rådata!D169)","v":""},{"$f":"IF(ISBLANK(Rådata!G169)=TRUE,\"\",(Rådata!F169*100)/Rådata!G169)","v":""},{"$f":"IF(ISBLANK(Rådata!K169),\"\",(SUM(Rådata!M169:P169)*100)/SUM(Rådata!H169:K169))","v":""},{"$f":"IF(ISBLANK(Rådata!H169),\"\",((SUM(Rådata!J169:L169)-SUM(Rådata!O169:P169))*100)/SUM(Rådata!H169:L169))","v":""},{"$f":"IF(ISBLANK(Rådata!R169),\"\",(Rådata!Q169*100)/Rådata!R169)","v":""}]
[{"$f":"IF(ISBLANK(Rådata!A170)=TRUE,\"\",Rådata!A170)","v":""},{"$f":"IF(ISBLANK(Rådata!A170)=TRUE,\"\",YEAR(A170))","v":""},{"$f":"IF(ISBLANK(Rådata!A170)=TRUE,\"\",VLOOKUP(MONTH(A170),Opsætning!$G$3:$H$14,2,FALSE))","v":""},{"$f":"IF(ISBLANK(Rådata!B170)=TRUE,\"\",(Rådata!C170*100)/Rådata!B170)","v":""},{"$f":"IF(ISBLANK(Rådata!D170)=TRUE,\"\",((Rådata!D170-Rådata!E170)*100)/Rådata!D170)","v":""},{"$f":"IF(ISBLANK(Rådata!G170)=TRUE,\"\",(Rådata!F170*100)/Rådata!G170)","v":""},{"$f":"IF(ISBLANK(Rådata!K170),\"\",(SUM(Rådata!M170:P170)*100)/SUM(Rådata!H170:K170))","v":""},{"$f":"IF(ISBLANK(Rådata!H170),\"\",((SUM(Rådata!J170:L170)-SUM(Rådata!O170:P170))*100)/SUM(Rådata!H170:L170))","v":""},{"$f":"IF(ISBLANK(Rådata!R170),\"\",(Rådata!Q170*100)/Rådata!R170)","v":""}]
[{"$f":"IF(ISBLANK(Rådata!A171)=TRUE,\"\",Rådata!A171)","v":""},{"$f":"IF(ISBLANK(Rådata!A171)=TRUE,\"\",YEAR(A171))","v":""},{"$f":"IF(ISBLANK(Rådata!A171)=TRUE,\"\",VLOOKUP(MONTH(A171),Opsætning!$G$3:$H$14,2,FALSE))","v":""},{"$f":"IF(ISBLANK(Rådata!B171)=TRUE,\"\",(Rådata!C171*100)/Rådata!B171)","v":""},{"$f":"IF(ISBLANK(Rådata!D171)=TRUE,\"\",((Rådata!D171-Rådata!E171)*100)/Rådata!D171)","v":""},{"$f":"IF(ISBLANK(Rådata!G171)=TRUE,\"\",(Rådata!F171*100)/Rådata!G171)","v":""},{"$f":"IF(ISBLANK(Rådata!K171),\"\",(SUM(Rådata!M171:P171)*100)/SUM(Rådata!H171:K171))","v":""},{"$f":"IF(ISBLANK(Rådata!H171),\"\",((SUM(Rådata!J171:L171)-SUM(Rådata!O171:P171))*100)/SUM(Rådata!H171:L171))","v":""},{"$f":"IF(ISBLANK(Rådata!R171),\"\",(Rådata!Q171*100)/Rådata!R171)","v":""}]
[{"$f":"IF(ISBLANK(Rådata!A172)=TRUE,\"\",Rådata!A172)","v":""},{"$f":"IF(ISBLANK(Rådata!A172)=TRUE,\"\",YEAR(A172))","v":""},{"$f":"IF(ISBLANK(Rådata!A172)=TRUE,\"\",VLOOKUP(MONTH(A172),Opsætning!$G$3:$H$14,2,FALSE))","v":""},{"$f":"IF(ISBLANK(Rådata!B172)=TRUE,\"\",(Rådata!C172*100)/Rådata!B172)","v":""},{"$f":"IF(ISBLANK(Rådata!D172)=TRUE,\"\",((Rådata!D172-Rådata!E172)*100)/Rådata!D172)","v":""},{"$f":"IF(ISBLANK(Rådata!G172)=TRUE,\"\",(Rådata!F172*100)/Rådata!G172)","v":""},{"$f":"IF(ISBLANK(Rådata!K172),\"\",(SUM(Rådata!M172:P172)*100)/SUM(Rådata!H172:K172))","v":""},{"$f":"IF(ISBLANK(Rådata!H172),\"\",((SUM(Rådata!J172:L172)-SUM(Rådata!O172:P172))*100)/SUM(Rådata!H172:L172))","v":""},{"$f":"IF(ISBLANK(Rådata!R172),\"\",(Rådata!Q172*100)/Rådata!R172)","v":""}]
[{"$f":"IF(ISBLANK(Rådata!A173)=TRUE,\"\",Rådata!A173)","v":""},{"$f":"IF(ISBLANK(Rådata!A173)=TRUE,\"\",YEAR(A173))","v":""},{"$f":"IF(ISBLANK(Rådata!A173)=TRUE,\"\",VLOOKUP(MONTH(A173),Opsætning!$G$3:$H$14,2,FALSE))","v":""},{"$f":"IF(ISBLANK(Rådata!B173)=TRUE,\"\",(Rådata!C173*100)/Rådata!B173)","v":""},{"$f":"IF(ISBLANK(Rådata!D173)=TRUE,\"\",((Rådata!D173-Rådata!E173)*100)/Rådata!D173)","v":""},{"$f":"IF(ISBLANK(Rådata!G173)=TRUE,\"\",(Rådata!F173*100)/Rådata!G173)","v":""},{"$f":"IF(ISBLANK(Rådata!K173),\"\",(SUM(Rådata!M173:P173)*100)/SUM(Rådata!H173:K173))","v":""},{"$f":"IF(ISBLANK(Rådata!H173),\"\",((SUM(Rådata!J173:L173)-SUM(Rådata!O173:P173))*100)/SUM(Rådata!H173:L173))","v":""},{"$f":"IF(ISBLANK(Rådata!R173),\"\",(Rådata!Q173*100)/Rådata!R173)","v":""}]
[{"$f":"IF(ISBLANK(Rådata!A174)=TRUE,\"\",Rådata!A174)","v":""},{"$f":"IF(ISBLANK(Rådata!A174)=TRUE,\"\",YEAR(A174))","v":""},{"$f":"IF(ISBLANK(Rådata!A174)=TRUE,\"\",VLOOKUP(MONTH(A174),Opsætning!$G$3:$H$14,2,FALSE))","v":""},{"$f":"IF(ISBLANK(Rådata!B174)=TRUE,\"\",(Rådata!C174*100)/Rådata!B174)","v":""},{"$f":"IF(ISBLANK(Rådata!D174)=TRUE,\"\",((Rådata!D174-Rådata!E174)*100)/Rådata!D174)","v":""},{"$f":"IF(ISBLANK(Rådata!G174)=TRUE,\"\",(Rådata!F174*100)/Rådata!G174)","v":""},{"$f":"IF(ISBLANK(Rådata!K174),\"\",(SUM(Rådata!M174:P174)*100)/SUM(Rådata!H174:K174))","v":""},{"$f":"IF(ISBLANK(Rådata!H174),\"\",((SUM(Rådata!J174:L174)-SUM(Rådata!O174:P174))*100)/SUM(Rådata!H174:L174))","v":""},{"$f":"IF(ISBLANK(Rådata!R174),\"\",(Rådata!Q174*100)/Rådata!R174)","v":""}]
[{"$f":"IF(ISBLANK(Rådata!A175)=TRUE,\"\",Rådata!A175)","v":""},{"$f":"IF(ISBLANK(Rådata!A175)=TRUE,\"\",YEAR(A175))","v":""},{"$f":"IF(ISBLANK(Rådata!A175)=TRUE,\"\",VLOOKUP(MONTH(A175),Opsætning!$G$3:$H$14,2,FALSE))","v":""},{"$f":"IF(ISBLANK(Rådata!B175)=TRUE,\"\",(Rådata!C175*100)/Rådata!B175)","v":""},{"$f":"IF(ISBLANK(Rådata!D175)=TRUE,\"\",((Rådata!D175-Rådata!E175)*100)/Rådata!D175)","v":""},{"$f":"IF(ISBLANK(Rådata!G175)=TRUE,\"\",(Rådata!F175*100)/Rådata!G175)","v":""},{"$f":"IF(ISBLANK(Rådata!K175),\"\",(SUM(Rådata!M175:P175)*100)/SUM(Rådata!H175:K175))","v":""},{"$f":"IF(ISBLANK(Rådata!H175),\"\",((SUM(Rådata!J175:L175)-SUM(Rådata!O175:P175))*100)/SUM(Rådata!H175:L175))","v":""},{"$f":"IF(ISBLANK(Rådata!R175),\"\",(Rådata!Q175*100)/Rådata!R175)","v":""}]
[{"$f":"IF(ISBLANK(Rådata!A176)=TRUE,\"\",Rådata!A176)","v":""},{"$f":"IF(ISBLANK(Rådata!A176)=TRUE,\"\",YEAR(A176))","v":""},{"$f":"IF(ISBLANK(Rådata!A176)=TRUE,\"\",VLOOKUP(MONTH(A176),Opsætning!$G$3:$H$14,2,FALSE))","v":""},{"$f":"IF(ISBLANK(Rådata!B176)=TRUE,\"\",(Rådata!C176*100)/Rådata!B176)","v":""},{"$f":"IF(ISBLANK(Rådata!D176)=TRUE,\"\",((Rådata!D176-Rådata!E176)*100)/Rådata!D176)","v":""},{"$f":"IF(ISBLANK(Rådata!G176)=TRUE,\"\",(Rådata!F176*100)/Rådata!G176)","v":""},{"$f":"IF(ISBLANK(Rådata!K176),\"\",(SUM(Rådata!M176:P176)*100)/SUM(Rådata!H176:K176))","v":""},{"$f":"IF(ISBLANK(Rådata!H176),\"\",((SUM(Rådata!J176:L176)-SUM(Rådata!O176:P176))*100)/SUM(Rådata!H176:L176))","v":""},{"$f":"IF(ISBLANK(Rådata!R176),\"\",(Rådata!Q176*100)/Rådata!R176)","v":""}]
[{"$f":"IF(ISBLANK(Rådata!A177)=TRUE,\"\",Rådata!A177)","v":""},{"$f":"IF(ISBLANK(Rådata!A177)=TRUE,\"\",YEAR(A177))","v":""},{"$f":"IF(ISBLANK(Rådata!A177)=TRUE,\"\",VLOOKUP(MONTH(A177),Opsætning!$G$3:$H$14,2,FALSE))","v":""},{"$f":"IF(ISBLANK(Rådata!B177)=TRUE,\"\",(Rådata!C177*100)/Rådata!B177)","v":""},{"$f":"IF(ISBLANK(Rådata!D177)=TRUE,\"\",((Rådata!D177-Rådata!E177)*100)/Rådata!D177)","v":""},{"$f":"IF(ISBLANK(Rådata!G177)=TRUE,\"\",(Rådata!F177*100)/Rådata!G177)","v":""},{"$f":"IF(ISBLANK(Rådata!K177),\"\",(SUM(Rådata!M177:P177)*100)/SUM(Rådata!H177:K177))","v":""},{"$f":"IF(ISBLANK(Rådata!H177),\"\",((SUM(Rådata!J177:L177)-SUM(Rådata!O177:P177))*100)/SUM(Rådata!H177:L177))","v":""},{"$f":"IF(ISBLANK(Rådata!R177),\"\",(Rådata!Q177*100)/Rådata!R177)","v":""}]
[{"$f":"IF(ISBLANK(Rådata!A178)=TRUE,\"\",Rådata!A178)","v":""},{"$f":"IF(ISBLANK(Rådata!A178)=TRUE,\"\",YEAR(A178))","v":""},{"$f":"IF(ISBLANK(Rådata!A178)=TRUE,\"\",VLOOKUP(MONTH(A178),Opsætning!$G$3:$H$14,2,FALSE))","v":""},{"$f":"IF(ISBLANK(Rådata!B178)=TRUE,\"\",(Rådata!C178*100)/Rådata!B178)","v":""},{"$f":"IF(ISBLANK(Rådata!D178)=TRUE,\"\",((Rådata!D178-Rådata!E178)*100)/Rådata!D178)","v":""},{"$f":"IF(ISBLANK(Rådata!G178)=TRUE,\"\",(Rådata!F178*100)/Rådata!G178)","v":""},{"$f":"IF(ISBLANK(Rådata!K178),\"\",(SUM(Rådata!M178:P178)*100)/SUM(Rådata!H178:K178))","v":""},{"$f":"IF(ISBLANK(Rådata!H178),\"\",((SUM(Rådata!J178:L178)-SUM(Rådata!O178:P178))*100)/SUM(Rådata!H178:L178))","v":""},{"$f":"IF(ISBLANK(Rådata!R178),\"\",(Rådata!Q178*100)/Rådata!R178)","v":""}]
[{"$f":"IF(ISBLANK(Rådata!A179)=TRUE,\"\",Rådata!A179)","v":""},{"$f":"IF(ISBLANK(Rådata!A179)=TRUE,\"\",YEAR(A179))","v":""},{"$f":"IF(ISBLANK(Rådata!A179)=TRUE,\"\",VLOOKUP(MONTH(A179),Opsætning!$G$3:$H$14,2,FALSE))","v":""},{"$f":"IF(ISBLANK(Rådata!B179)=TRUE,\"\",(Rådata!C179*100)/Rådata!B179)","v":""},{"$f":"IF(ISBLANK(Rådata!D179)=TRUE,\"\",((Rådata!D179-Rådata!E179)*100)/Rådata!D179)","v":""},{"$f":"IF(ISBLANK(Rådata!G179)=TRUE,\"\",(Rådata!F179*100)/Rådata!G179)","v":""},{"$f":"IF(ISBLANK(Rådata!K179),\"\",(SUM(Rådata!M179:P179)*100)/SUM(Rådata!H179:K179))","v":""},{"$f":"IF(ISBLANK(Rådata!H179),\"\",((SUM(Rådata!J179:L179)-SUM(Rådata!O179:P179))*100)/SUM(Rådata!H179:L179))","v":""},{"$f":"IF(ISBLANK(Rådata!R179),\"\",(Rådata!Q179*100)/Rådata!R179)","v":""}]
[{"$f":"IF(ISBLANK(Rådata!A180)=TRUE,\"\",Rådata!A180)","v":""},{"$f":"IF(ISBLANK(Rådata!A180)=TRUE,\"\",YEAR(A180))","v":""},{"$f":"IF(ISBLANK(Rådata!A180)=TRUE,\"\",VLOOKUP(MONTH(A180),Opsætning!$G$3:$H$14,2,FALSE))","v":""},{"$f":"IF(ISBLANK(Rådata!B180)=TRUE,\"\",(Rådata!C180*100)/Rådata!B180)","v":""},{"$f":"IF(ISBLANK(Rådata!D180)=TRUE,\"\",((Rådata!D180-Rådata!E180)*100)/Rådata!D180)","v":""},{"$f":"IF(ISBLANK(Rådata!G180)=TRUE,\"\",(Rådata!F180*100)/Rådata!G180)","v":""},{"$f":"IF(ISBLANK(Rådata!K180),\"\",(SUM(Rådata!M180:P180)*100)/SUM(Rådata!H180:K180))","v":""},{"$f":"IF(ISBLANK(Rådata!H180),\"\",((SUM(Rådata!J180:L180)-SUM(Rådata!O180:P180))*100)/SUM(Rådata!H180:L180))","v":""},{"$f":"IF(ISBLANK(Rådata!R180),\"\",(Rådata!Q180*100)/Rådata!R180)","v":""}]
[{"$f":"IF(ISBLANK(Rådata!A181)=TRUE,\"\",Rådata!A181)","v":""},{"$f":"IF(ISBLANK(Rådata!A181)=TRUE,\"\",YEAR(A181))","v":""},{"$f":"IF(ISBLANK(Rådata!A181)=TRUE,\"\",VLOOKUP(MONTH(A181),Opsætning!$G$3:$H$14,2,FALSE))","v":""},{"$f":"IF(ISBLANK(Rådata!B181)=TRUE,\"\",(Rådata!C181*100)/Rådata!B181)","v":""},{"$f":"IF(ISBLANK(Rådata!D181)=TRUE,\"\",((Rådata!D181-Rådata!E181)*100)/Rådata!D181)","v":""},{"$f":"IF(ISBLANK(Rådata!G181)=TRUE,\"\",(Rådata!F181*100)/Rådata!G181)","v":""},{"$f":"IF(ISBLANK(Rådata!K181),\"\",(SUM(Rådata!M181:P181)*100)/SUM(Rådata!H181:K181))","v":""},{"$f":"IF(ISBLANK(Rådata!H181),\"\",((SUM(Rådata!J181:L181)-SUM(Rådata!O181:P181))*100)/SUM(Rådata!H181:L181))","v":""},{"$f":"IF(ISBLANK(Rådata!R181),\"\",(Rådata!Q181*100)/Rådata!R181)","v":""}]
[{"$f":"IF(ISBLANK(Rådata!A182)=TRUE,\"\",Rådata!A182)","v":""},{"$f":"IF(ISBLANK(Rådata!A182)=TRUE,\"\",YEAR(A182))","v":""},{"$f":"IF(ISBLANK(Rådata!A182)=TRUE,\"\",VLOOKUP(MONTH(A182),Opsætning!$G$3:$H$14,2,FALSE))","v":""},{"$f":"IF(ISBLANK(Rådata!B182)=TRUE,\"\",(Rådata!C182*100)/Rådata!B182)","v":""},{"$f":"IF(ISBLANK(Rådata!D182)=TRUE,\"\",((Rådata!D182-Rådata!E182)*100)/Rådata!D182)","v":""},{"$f":"IF(ISBLANK(Rådata!G182)=TRUE,\"\",(Rådata!F182*100)/Rådata!G182)","v":""},{"$f":"IF(ISBLANK(Rådata!K182),\"\",(SUM(Rådata!M182:P182)*100)/SUM(Rådata!H182:K182))","v":""},{"$f":"IF(ISBLANK(Rådata!H182),\"\",((SUM(Rådata!J182:L182)-SUM(Rådata!O182:P182))*100)/SUM(Rådata!H182:L182))","v":""},{"$f":"IF(ISBLANK(Rådata!R182),\"\",(Rådata!Q182*100)/Rådata!R182)","v":""}]
[{"$f":"IF(ISBLANK(Rådata!A183)=TRUE,\"\",Rådata!A183)","v":""},{"$f":"IF(ISBLANK(Rådata!A183)=TRUE,\"\",YEAR(A183))","v":""},{"$f":"IF(ISBLANK(Rådata!A183)=TRUE,\"\",VLOOKUP(MONTH(A183),Opsætning!$G$3:$H$14,2,FALSE))","v":""},{"$f":"IF(ISBLANK(Rådata!B183)=TRUE,\"\",(Rådata!C183*100)/Rådata!B183)","v":""},{"$f":"IF(ISBLANK(Rådata!D183)=TRUE,\"\",((Rådata!D183-Rådata!E183)*100)/Rådata!D183)","v":""},{"$f":"IF(ISBLANK(Rådata!G183)=TRUE,\"\",(Rådata!F183*100)/Rådata!G183)","v":""},{"$f":"IF(ISBLANK(Rådata!K183),\"\",(SUM(Rådata!M183:P183)*100)/SUM(Rådata!H183:K183))","v":""},{"$f":"IF(ISBLANK(Rådata!H183),\"\",((SUM(Rådata!J183:L183)-SUM(Rådata!O183:P183))*100)/SUM(Rådata!H183:L183))","v":""},{"$f":"IF(ISBLANK(Rådata!R183),\"\",(Rådata!Q183*100)/Rådata!R183)","v":""}]
[{"$f":"IF(ISBLANK(Rådata!A184)=TRUE,\"\",Rådata!A184)","v":""},{"$f":"IF(ISBLANK(Rådata!A184)=TRUE,\"\",YEAR(A184))","v":""},{"$f":"IF(ISBLANK(Rådata!A184)=TRUE,\"\",VLOOKUP(MONTH(A184),Opsætning!$G$3:$H$14,2,FALSE))","v":""},{"$f":"IF(ISBLANK(Rådata!B184)=TRUE,\"\",(Rådata!C184*100)/Rådata!B184)","v":""},{"$f":"IF(ISBLANK(Rådata!D184)=TRUE,\"\",((Rådata!D184-Rådata!E184)*100)/Rådata!D184)","v":""},{"$f":"IF(ISBLANK(Rådata!G184)=TRUE,\"\",(Rådata!F184*100)/Rådata!G184)","v":""},{"$f":"IF(ISBLANK(Rådata!K184),\"\",(SUM(Rådata!M184:P184)*100)/SUM(Rådata!H184:K184))","v":""},{"$f":"IF(ISBLANK(Rådata!H184),\"\",((SUM(Rådata!J184:L184)-SUM(Rådata!O184:P184))*100)/SUM(Rådata!H184:L184))","v":""},{"$f":"IF(ISBLANK(Rådata!R184),\"\",(Rådata!Q184*100)/Rådata!R184)","v":""}]
[{"$f":"IF(ISBLANK(Rådata!A185)=TRUE,\"\",Rådata!A185)","v":""},{"$f":"IF(ISBLANK(Rådata!A185)=TRUE,\"\",YEAR(A185))","v":""},{"$f":"IF(ISBLANK(Rådata!A185)=TRUE,\"\",VLOOKUP(MONTH(A185),Opsætning!$G$3:$H$14,2,FALSE))","v":""},{"$f":"IF(ISBLANK(Rådata!B185)=TRUE,\"\",(Rådata!C185*100)/Rådata!B185)","v":""},{"$f":"IF(ISBLANK(Rådata!D185)=TRUE,\"\",((Rådata!D185-Rådata!E185)*100)/Rådata!D185)","v":""},{"$f":"IF(ISBLANK(Rådata!G185)=TRUE,\"\",(Rådata!F185*100)/Rådata!G185)","v":""},{"$f":"IF(ISBLANK(Rådata!K185),\"\",(SUM(Rådata!M185:P185)*100)/SUM(Rådata!H185:K185))","v":""},{"$f":"IF(ISBLANK(Rådata!H185),\"\",((SUM(Rådata!J185:L185)-SUM(Rådata!O185:P185))*100)/SUM(Rådata!H185:L185))","v":""},{"$f":"IF(ISBLANK(Rådata!R185),\"\",(Rådata!Q185*100)/Rådata!R185)","v":""}]
[{"$f":"IF(ISBLANK(Rådata!A186)=TRUE,\"\",Rådata!A186)","v":""},{"$f":"IF(ISBLANK(Rådata!A186)=TRUE,\"\",YEAR(A186))","v":""},{"$f":"IF(ISBLANK(Rådata!A186)=TRUE,\"\",VLOOKUP(MONTH(A186),Opsætning!$G$3:$H$14,2,FALSE))","v":""},{"$f":"IF(ISBLANK(Rådata!B186)=TRUE,\"\",(Rådata!C186*100)/Rådata!B186)","v":""},{"$f":"IF(ISBLANK(Rådata!D186)=TRUE,\"\",((Rådata!D186-Rådata!E186)*100)/Rådata!D186)","v":""},{"$f":"IF(ISBLANK(Rådata!G186)=TRUE,\"\",(Rådata!F186*100)/Rådata!G186)","v":""},{"$f":"IF(ISBLANK(Rådata!K186),\"\",(SUM(Rådata!M186:P186)*100)/SUM(Rådata!H186:K186))","v":""},{"$f":"IF(ISBLANK(Rådata!H186),\"\",((SUM(Rådata!J186:L186)-SUM(Rådata!O186:P186))*100)/SUM(Rådata!H186:L186))","v":""},{"$f":"IF(ISBLANK(Rådata!R186),\"\",(Rådata!Q186*100)/Rådata!R186)","v":""}]
[{"$f":"IF(ISBLANK(Rådata!A187)=TRUE,\"\",Rådata!A187)","v":""},{"$f":"IF(ISBLANK(Rådata!A187)=TRUE,\"\",YEAR(A187))","v":""},{"$f":"IF(ISBLANK(Rådata!A187)=TRUE,\"\",VLOOKUP(MONTH(A187),Opsætning!$G$3:$H$14,2,FALSE))","v":""},{"$f":"IF(ISBLANK(Rådata!B187)=TRUE,\"\",(Rådata!C187*100)/Rådata!B187)","v":""},{"$f":"IF(ISBLANK(Rådata!D187)=TRUE,\"\",((Rådata!D187-Rådata!E187)*100)/Rådata!D187)","v":""},{"$f":"IF(ISBLANK(Rådata!G187)=TRUE,\"\",(Rådata!F187*100)/Rådata!G187)","v":""},{"$f":"IF(ISBLANK(Rådata!K187),\"\",(SUM(Rådata!M187:P187)*100)/SUM(Rådata!H187:K187))","v":""},{"$f":"IF(ISBLANK(Rådata!H187),\"\",((SUM(Rådata!J187:L187)-SUM(Rådata!O187:P187))*100)/SUM(Rådata!H187:L187))","v":""},{"$f":"IF(ISBLANK(Rådata!R187),\"\",(Rådata!Q187*100)/Rådata!R187)","v":""}]
[{"$f":"IF(ISBLANK(Rådata!A188)=TRUE,\"\",Rådata!A188)","v":""},{"$f":"IF(ISBLANK(Rådata!A188)=TRUE,\"\",YEAR(A188))","v":""},{"$f":"IF(ISBLANK(Rådata!A188)=TRUE,\"\",VLOOKUP(MONTH(A188),Opsætning!$G$3:$H$14,2,FALSE))","v":""},{"$f":"IF(ISBLANK(Rådata!B188)=TRUE,\"\",(Rådata!C188*100)/Rådata!B188)","v":""},{"$f":"IF(ISBLANK(Rådata!D188)=TRUE,\"\",((Rådata!D188-Rådata!E188)*100)/Rådata!D188)","v":""},{"$f":"IF(ISBLANK(Rådata!G188)=TRUE,\"\",(Rådata!F188*100)/Rådata!G188)","v":""},{"$f":"IF(ISBLANK(Rådata!K188),\"\",(SUM(Rådata!M188:P188)*100)/SUM(Rådata!H188:K188))","v":""},{"$f":"IF(ISBLANK(Rådata!H188),\"\",((SUM(Rådata!J188:L188)-SUM(Rådata!O188:P188))*100)/SUM(Rådata!H188:L188))","v":""},{"$f":"IF(ISBLANK(Rådata!R188),\"\",(Rådata!Q188*100)/Rådata!R188)","v":""}]
[{"$f":"IF(ISBLANK(Rådata!A189)=TRUE,\"\",Rådata!A189)","v":""},{"$f":"IF(ISBLANK(Rådata!A189)=TRUE,\"\",YEAR(A189))","v":""},{"$f":"IF(ISBLANK(Rådata!A189)=TRUE,\"\",VLOOKUP(MONTH(A189),Opsætning!$G$3:$H$14,2,FALSE))","v":""},{"$f":"IF(ISBLANK(Rådata!B189)=TRUE,\"\",(Rådata!C189*100)/Rådata!B189)","v":""},{"$f":"IF(ISBLANK(Rådata!D189)=TRUE,\"\",((Rådata!D189-Rådata!E189)*100)/Rådata!D189)","v":""},{"$f":"IF(ISBLANK(Rådata!G189)=TRUE,\"\",(Rådata!F189*100)/Rådata!G189)","v":""},{"$f":"IF(ISBLANK(Rådata!K189),\"\",(SUM(Rådata!M189:P189)*100)/SUM(Rådata!H189:K189))","v":""},{"$f":"IF(ISBLANK(Rådata!H189),\"\",((SUM(Rådata!J189:L189)-SUM(Rådata!O189:P189))*100)/SUM(Rådata!H189:L189))","v":""},{"$f":"IF(ISBLANK(Rådata!R189),\"\",(Rådata!Q189*100)/Rådata!R189)","v":""}]
[{"$f":"IF(ISBLANK(Rådata!A190)=TRUE,\"\",Rådata!A190)","v":""},{"$f":"IF(ISBLANK(Rådata!A190)=TRUE,\"\",YEAR(A190))","v":""},{"$f":"IF(ISBLANK(Rådata!A190)=TRUE,\"\",VLOOKUP(MONTH(A190),Opsætning!$G$3:$H$14,2,FALSE))","v":""},{"$f":"IF(ISBLANK(Rådata!B190)=TRUE,\"\",(Rådata!C190*100)/Rådata!B190)","v":""},{"$f":"IF(ISBLANK(Rådata!D190)=TRUE,\"\",((Rådata!D190-Rådata!E190)*100)/Rådata!D190)","v":""},{"$f":"IF(ISBLANK(Rådata!G190)=TRUE,\"\",(Rådata!F190*100)/Rådata!G190)","v":""},{"$f":"IF(ISBLANK(Rådata!K190),\"\",(SUM(Rådata!M190:P190)*100)/SUM(Rådata!H190:K190))","v":""},{"$f":"IF(ISBLANK(Rådata!H190),\"\",((SUM(Rådata!J190:L190)-SUM(Rådata!O190:P190))*100)/SUM(Rådata!H190:L190))","v":""},{"$f":"IF(ISBLANK(Rådata!R190),\"\",(Rådata!Q190*100)/Rådata!R190)","v":""}]
[{"$f":"IF(ISBLANK(Rådata!A191)=TRUE,\"\",Rådata!A191)","v":""},{"$f":"IF(ISBLANK(Rådata!A191)=TRUE,\"\",YEAR(A191))","v":""},{"$f":"IF(ISBLANK(Rådata!A191)=TRUE,\"\",VLOOKUP(MONTH(A191),Opsætning!$G$3:$H$14,2,FALSE))","v":""},{"$f":"IF(ISBLANK(Rådata!B191)=TRUE,\"\",(Rådata!C191*100)/Rådata!B191)","v":""},{"$f":"IF(ISBLANK(Rådata!D191)=TRUE,\"\",((Rådata!D191-Rådata!E191)*100)/Rådata!D191)","v":""},{"$f":"IF(ISBLANK(Rådata!G191)=TRUE,\"\",(Rådata!F191*100)/Rådata!G191)","v":""},{"$f":"IF(ISBLANK(Rådata!K191),\"\",(SUM(Rådata!M191:P191)*100)/SUM(Rådata!H191:K191))","v":""},{"$f":"IF(ISBLANK(Rådata!H191),\"\",((SUM(Rådata!J191:L191)-SUM(Rådata!O191:P191))*100)/SUM(Rådata!H191:L191))","v":""},{"$f":"IF(ISBLANK(Rådata!R191),\"\",(Rådata!Q191*100)/Rådata!R191)","v":""}]
[{"$f":"IF(ISBLANK(Rådata!A192)=TRUE,\"\",Rådata!A192)","v":""},{"$f":"IF(ISBLANK(Rådata!A192)=TRUE,\"\",YEAR(A192))","v":""},{"$f":"IF(ISBLANK(Rådata!A192)=TRUE,\"\",VLOOKUP(MONTH(A192),Opsætning!$G$3:$H$14,2,FALSE))","v":""},{"$f":"IF(ISBLANK(Rådata!B192)=TRUE,\"\",(Rådata!C192*100)/Rådata!B192)","v":""},{"$f":"IF(ISBLANK(Rådata!D192)=TRUE,\"\",((Rådata!D192-Rådata!E192)*100)/Rådata!D192)","v":""},{"$f":"IF(ISBLANK(Rådata!G192)=TRUE,\"\",(Rådata!F192*100)/Rådata!G192)","v":""},{"$f":"IF(ISBLANK(Rådata!K192),\"\",(SUM(Rådata!M192:P192)*100)/SUM(Rådata!H192:K192))","v":""},{"$f":"IF(ISBLANK(Rådata!H192),\"\",((SUM(Rådata!J192:L192)-SUM(Rådata!O192:P192))*100)/SUM(Rådata!H192:L192))","v":""},{"$f":"IF(ISBLANK(Rådata!R192),\"\",(Rådata!Q192*100)/Rådata!R192)","v":""}]
[{"$f":"IF(ISBLANK(Rådata!A193)=TRUE,\"\",Rådata!A193)","v":""},{"$f":"IF(ISBLANK(Rådata!A193)=TRUE,\"\",YEAR(A193))","v":""},{"$f":"IF(ISBLANK(Rådata!A193)=TRUE,\"\",VLOOKUP(MONTH(A193),Opsætning!$G$3:$H$14,2,FALSE))","v":""},{"$f":"IF(ISBLANK(Rådata!B193)=TRUE,\"\",(Rådata!C193*100)/Rådata!B193)","v":""},{"$f":"IF(ISBLANK(Rådata!D193)=TRUE,\"\",((Rådata!D193-Rådata!E193)*100)/Rådata!D193)","v":""},{"$f":"IF(ISBLANK(Rådata!G193)=TRUE,\"\",(Rådata!F193*100)/Rådata!G193)","v":""},{"$f":"IF(ISBLANK(Rådata!K193),\"\",(SUM(Rådata!M193:P193)*100)/SUM(Rådata!H193:K193))","v":""},{"$f":"IF(ISBLANK(Rådata!H193),\"\",((SUM(Rådata!J193:L193)-SUM(Rådata!O193:P193))*100)/SUM(Rådata!H193:L193))","v":""},{"$f":"IF(ISBLANK(Rådata!R193),\"\",(Rådata!Q193*100)/Rådata!R193)","v":""}]
[{"$f":"IF(ISBLANK(Rådata!A194)=TRUE,\"\",Rådata!A194)","v":""},{"$f":"IF(ISBLANK(Rådata!A194)=TRUE,\"\",YEAR(A194))","v":""},{"$f":"IF(ISBLANK(Rådata!A194)=TRUE,\"\",VLOOKUP(MONTH(A194),Opsætning!$G$3:$H$14,2,FALSE))","v":""},{"$f":"IF(ISBLANK(Rådata!B194)=TRUE,\"\",(Rådata!C194*100)/Rådata!B194)","v":""},{"$f":"IF(ISBLANK(Rådata!D194)=TRUE,\"\",((Rådata!D194-Rådata!E194)*100)/Rådata!D194)","v":""},{"$f":"IF(ISBLANK(Rådata!G194)=TRUE,\"\",(Rådata!F194*100)/Rådata!G194)","v":""},{"$f":"IF(ISBLANK(Rådata!K194),\"\",(SUM(Rådata!M194:P194)*100)/SUM(Rådata!H194:K194))","v":""},{"$f":"IF(ISBLANK(Rådata!H194),\"\",((SUM(Rådata!J194:L194)-SUM(Rådata!O194:P194))*100)/SUM(Rådata!H194:L194))","v":""},{"$f":"IF(ISBLANK(Rådata!R194),\"\",(Rådata!Q194*100)/Rådata!R194)","v":""}]
[{"$f":"IF(ISBLANK(Rådata!A195)=TRUE,\"\",Rådata!A195)","v":""},{"$f":"IF(ISBLANK(Rådata!A195)=TRUE,\"\",YEAR(A195))","v":""},{"$f":"IF(ISBLANK(Rådata!A195)=TRUE,\"\",VLOOKUP(MONTH(A195),Opsætning!$G$3:$H$14,2,FALSE))","v":""},{"$f":"IF(ISBLANK(Rådata!B195)=TRUE,\"\",(Rådata!C195*100)/Rådata!B195)","v":""},{"$f":"IF(ISBLANK(Rådata!D195)=TRUE,\"\",((Rådata!D195-Rådata!E195)*100)/Rådata!D195)","v":""},{"$f":"IF(ISBLANK(Rådata!G195)=TRUE,\"\",(Rådata!F195*100)/Rådata!G195)","v":""},{"$f":"IF(ISBLANK(Rådata!K195),\"\",(SUM(Rådata!M195:P195)*100)/SUM(Rådata!H195:K195))","v":""},{"$f":"IF(ISBLANK(Rådata!H195),\"\",((SUM(Rådata!J195:L195)-SUM(Rådata!O195:P195))*100)/SUM(Rådata!H195:L195))","v":""},{"$f":"IF(ISBLANK(Rådata!R195),\"\",(Rådata!Q195*100)/Rådata!R195)","v":""}]
[{"$f":"IF(ISBLANK(Rådata!A196)=TRUE,\"\",Rådata!A196)","v":""},{"$f":"IF(ISBLANK(Rådata!A196)=TRUE,\"\",YEAR(A196))","v":""},{"$f":"IF(ISBLANK(Rådata!A196)=TRUE,\"\",VLOOKUP(MONTH(A196),Opsætning!$G$3:$H$14,2,FALSE))","v":""},{"$f":"IF(ISBLANK(Rådata!B196)=TRUE,\"\",(Rådata!C196*100)/Rådata!B196)","v":""},{"$f":"IF(ISBLANK(Rådata!D196)=TRUE,\"\",((Rådata!D196-Rådata!E196)*100)/Rådata!D196)","v":""},{"$f":"IF(ISBLANK(Rådata!G196)=TRUE,\"\",(Rådata!F196*100)/Rådata!G196)","v":""},{"$f":"IF(ISBLANK(Rådata!K196),\"\",(SUM(Rådata!M196:P196)*100)/SUM(Rådata!H196:K196))","v":""},{"$f":"IF(ISBLANK(Rådata!H196),\"\",((SUM(Rådata!J196:L196)-SUM(Rådata!O196:P196))*100)/SUM(Rådata!H196:L196))","v":""},{"$f":"IF(ISBLANK(Rådata!R196),\"\",(Rådata!Q196*100)/Rådata!R196)","v":""}]
[{"$f":"IF(ISBLANK(Rådata!A197)=TRUE,\"\",Rådata!A197)","v":""},{"$f":"IF(ISBLANK(Rådata!A197)=TRUE,\"\",YEAR(A197))","v":""},{"$f":"IF(ISBLANK(Rådata!A197)=TRUE,\"\",VLOOKUP(MONTH(A197),Opsætning!$G$3:$H$14,2,FALSE))","v":""},{"$f":"IF(ISBLANK(Rådata!B197)=TRUE,\"\",(Rådata!C197*100)/Rådata!B197)","v":""},{"$f":"IF(ISBLANK(Rådata!D197)=TRUE,\"\",((Rådata!D197-Rådata!E197)*100)/Rådata!D197)","v":""},{"$f":"IF(ISBLANK(Rådata!G197)=TRUE,\"\",(Rådata!F197*100)/Rådata!G197)","v":""},{"$f":"IF(ISBLANK(Rådata!K197),\"\",(SUM(Rådata!M197:P197)*100)/SUM(Rådata!H197:K197))","v":""},{"$f":"IF(ISBLANK(Rådata!H197),\"\",((SUM(Rådata!J197:L197)-SUM(Rådata!O197:P197))*100)/SUM(Rådata!H197:L197))","v":""},{"$f":"IF(ISBLANK(Rådata!R197),\"\",(Rådata!Q197*100)/Rådata!R197)","v":""}]
[{"$f":"IF(ISBLANK(Rådata!A198)=TRUE,\"\",Rådata!A198)","v":""},{"$f":"IF(ISBLANK(Rådata!A198)=TRUE,\"\",YEAR(A198))","v":""},{"$f":"IF(ISBLANK(Rådata!A198)=TRUE,\"\",VLOOKUP(MONTH(A198),Opsætning!$G$3:$H$14,2,FALSE))","v":""},{"$f":"IF(ISBLANK(Rådata!B198)=TRUE,\"\",(Rådata!C198*100)/Rådata!B198)","v":""},{"$f":"IF(ISBLANK(Rådata!D198)=TRUE,\"\",((Rådata!D198-Rådata!E198)*100)/Rådata!D198)","v":""},{"$f":"IF(ISBLANK(Rådata!G198)=TRUE,\"\",(Rådata!F198*100)/Rådata!G198)","v":""},{"$f":"IF(ISBLANK(Rådata!K198),\"\",(SUM(Rådata!M198:P198)*100)/SUM(Rådata!H198:K198))","v":""},{"$f":"IF(ISBLANK(Rådata!H198),\"\",((SUM(Rådata!J198:L198)-SUM(Rådata!O198:P198))*100)/SUM(Rådata!H198:L198))","v":""},{"$f":"IF(ISBLANK(Rådata!R198),\"\",(Rådata!Q198*100)/Rådata!R198)","v":""}]
[{"$f":"IF(ISBLANK(Rådata!A199)=TRUE,\"\",Rådata!A199)","v":""},{"$f":"IF(ISBLANK(Rådata!A199)=TRUE,\"\",YEAR(A199))","v":""},{"$f":"IF(ISBLANK(Rådata!A199)=TRUE,\"\",VLOOKUP(MONTH(A199),Opsætning!$G$3:$H$14,2,FALSE))","v":""},{"$f":"IF(ISBLANK(Rådata!B199)=TRUE,\"\",(Rådata!C199*100)/Rådata!B199)","v":""},{"$f":"IF(ISBLANK(Rådata!D199)=TRUE,\"\",((Rådata!D199-Rådata!E199)*100)/Rådata!D199)","v":""},{"$f":"IF(ISBLANK(Rådata!G199)=TRUE,\"\",(Rådata!F199*100)/Rådata!G199)","v":""},{"$f":"IF(ISBLANK(Rådata!K199),\"\",(SUM(Rådata!M199:P199)*100)/SUM(Rådata!H199:K199))","v":""},{"$f":"IF(ISBLANK(Rådata!H199),\"\",((SUM(Rådata!J199:L199)-SUM(Rådata!O199:P199))*100)/SUM(Rådata!H199:L199))","v":""},{"$f":"IF(ISBLANK(Rådata!R199),\"\",(Rådata!Q199*100)/Rådata!R199)","v":""}]
[{"$f":"IF(ISBLANK(Rådata!A200)=TRUE,\"\",Rådata!A200)","v":""},{"$f":"IF(ISBLANK(Rådata!A200)=TRUE,\"\",YEAR(A200))","v":""},{"$f":"IF(ISBLANK(Rådata!A200)=TRUE,\"\",VLOOKUP(MONTH(A200),Opsætning!$G$3:$H$14,2,FALSE))","v":""},{"$f":"IF(ISBLANK(Rådata!B200)=TRUE,\"\",(Rådata!C200*100)/Rådata!B200)","v":""},{"$f":"IF(ISBLANK(Rådata!D200)=TRUE,\"\",((Rådata!D200-Rådata!E200)*100)/Rådata!D200)","v":""},{"$f":"IF(ISBLANK(Rådata!G200)=TRUE,\"\",(Rådata!F200*100)/Rådata!G200)","v":""},{"$f":"IF(ISBLANK(Rådata!K200),\"\",(SUM(Rådata!M200:P200)*100)/SUM(Rådata!H200:K200))","v":""},{"$f":"IF(ISBLANK(Rådata!H200),\"\",((SUM(Rådata!J200:L200)-SUM(Rådata!O200:P200))*100)/SUM(Rådata!H200:L200))","v":""},{"$f":"IF(ISBLANK(Rådata!R200),\"\",(Rådata!Q200*100)/Rådata!R200)","v":""}]
[{"$f":"IF(ISBLANK(Rådata!A201)=TRUE,\"\",Rådata!A201)","v":""},{"$f":"IF(ISBLANK(Rådata!A201)=TRUE,\"\",YEAR(A201))","v":""},{"$f":"IF(ISBLANK(Rådata!A201)=TRUE,\"\",VLOOKUP(MONTH(A201),Opsætning!$G$3:$H$14,2,FALSE))","v":""},{"$f":"IF(ISBLANK(Rådata!B201)=TRUE,\"\",(Rådata!C201*100)/Rådata!B201)","v":""},{"$f":"IF(ISBLANK(Rådata!D201)=TRUE,\"\",((Rådata!D201-Rådata!E201)*100)/Rådata!D201)","v":""},{"$f":"IF(ISBLANK(Rådata!G201)=TRUE,\"\",(Rådata!F201*100)/Rådata!G201)","v":""},{"$f":"IF(ISBLANK(Rådata!K201),\"\",(SUM(Rådata!M201:P201)*100)/SUM(Rådata!H201:K201))","v":""},{"$f":"IF(ISBLANK(Rådata!H201),\"\",((SUM(Rådata!J201:L201)-SUM(Rådata!O201:P201))*100)/SUM(Rådata!H201:L201))","v":""},{"$f":"IF(ISBLANK(Rådata!R201),\"\",(Rådata!Q201*100)/Rådata!R201)","v":""}]
[{"$f":"IF(ISBLANK(Rådata!A202)=TRUE,\"\",Rådata!A202)","v":""},{"$f":"IF(ISBLANK(Rådata!A202)=TRUE,\"\",YEAR(A202))","v":""},{"$f":"IF(ISBLANK(Rådata!A202)=TRUE,\"\",VLOOKUP(MONTH(A202),Opsætning!$G$3:$H$14,2,FALSE))","v":""},{"$f":"IF(ISBLANK(Rådata!B202)=TRUE,\"\",(Rådata!C202*100)/Rådata!B202)","v":""},{"$f":"IF(ISBLANK(Rådata!D202)=TRUE,\"\",((Rådata!D202-Rådata!E202)*100)/Rådata!D202)","v":""},{"$f":"IF(ISBLANK(Rådata!G202)=TRUE,\"\",(Rådata!F202*100)/Rådata!G202)","v":""},{"$f":"IF(ISBLANK(Rådata!K202),\"\",(SUM(Rådata!M202:P202)*100)/SUM(Rådata!H202:K202))","v":""},{"$f":"IF(ISBLANK(Rådata!H202),\"\",((SUM(Rådata!J202:L202)-SUM(Rådata!O202:P202))*100)/SUM(Rådata!H202:L202))","v":""},{"$f":"IF(ISBLANK(Rådata!R202),\"\",(Rådata!Q202*100)/Rådata!R202)","v":""}]
[{"$f":"IF(ISBLANK(Rådata!A203)=TRUE,\"\",Rådata!A203)","v":""},{"$f":"IF(ISBLANK(Rådata!A203)=TRUE,\"\",YEAR(A203))","v":""},{"$f":"IF(ISBLANK(Rådata!A203)=TRUE,\"\",VLOOKUP(MONTH(A203),Opsætning!$G$3:$H$14,2,FALSE))","v":""},{"$f":"IF(ISBLANK(Rådata!B203)=TRUE,\"\",(Rådata!C203*100)/Rådata!B203)","v":""},{"$f":"IF(ISBLANK(Rådata!D203)=TRUE,\"\",((Rådata!D203-Rådata!E203)*100)/Rådata!D203)","v":""},{"$f":"IF(ISBLANK(Rådata!G203)=TRUE,\"\",(Rådata!F203*100)/Rådata!G203)","v":""},{"$f":"IF(ISBLANK(Rådata!K203),\"\",(SUM(Rådata!M203:P203)*100)/SUM(Rådata!H203:K203))","v":""},{"$f":"IF(ISBLANK(Rådata!H203),\"\",((SUM(Rådata!J203:L203)-SUM(Rådata!O203:P203))*100)/SUM(Rådata!H203:L203))","v":""},{"$f":"IF(ISBLANK(Rådata!R203),\"\",(Rådata!Q203*100)/Rådata!R203)","v":""}]
[{"$f":"IF(ISBLANK(Rådata!A204)=TRUE,\"\",Rådata!A204)","v":""},{"$f":"IF(ISBLANK(Rådata!A204)=TRUE,\"\",YEAR(A204))","v":""},{"$f":"IF(ISBLANK(Rådata!A204)=TRUE,\"\",VLOOKUP(MONTH(A204),Opsætning!$G$3:$H$14,2,FALSE))","v":""},{"$f":"IF(ISBLANK(Rådata!B204)=TRUE,\"\",(Rådata!C204*100)/Rådata!B204)","v":""},{"$f":"IF(ISBLANK(Rådata!D204)=TRUE,\"\",((Rådata!D204-Rådata!E204)*100)/Rådata!D204)","v":""},{"$f":"IF(ISBLANK(Rådata!G204)=TRUE,\"\",(Rådata!F204*100)/Rådata!G204)","v":""},{"$f":"IF(ISBLANK(Rådata!K204),\"\",(SUM(Rådata!M204:P204)*100)/SUM(Rådata!H204:K204))","v":""},{"$f":"IF(ISBLANK(Rådata!H204),\"\",((SUM(Rådata!J204:L204)-SUM(Rådata!O204:P204))*100)/SUM(Rådata!H204:L204))","v":""},{"$f":"IF(ISBLANK(Rådata!R204),\"\",(Rådata!Q204*100)/Rådata!R204)","v":""}]
[{"$f":"IF(ISBLANK(Rådata!A205)=TRUE,\"\",Rådata!A205)","v":""},{"$f":"IF(ISBLANK(Rådata!A205)=TRUE,\"\",YEAR(A205))","v":""},{"$f":"IF(ISBLANK(Rådata!A205)=TRUE,\"\",VLOOKUP(MONTH(A205),Opsætning!$G$3:$H$14,2,FALSE))","v":""},{"$f":"IF(ISBLANK(Rådata!B205)=TRUE,\"\",(Rådata!C205*100)/Rådata!B205)","v":""},{"$f":"IF(ISBLANK(Rådata!D205)=TRUE,\"\",((Rådata!D205-Rådata!E205)*100)/Rådata!D205)","v":""},{"$f":"IF(ISBLANK(Rådata!G205)=TRUE,\"\",(Rådata!F205*100)/Rådata!G205)","v":""},{"$f":"IF(ISBLANK(Rådata!K205),\"\",(SUM(Rådata!M205:P205)*100)/SUM(Rådata!H205:K205))","v":""},{"$f":"IF(ISBLANK(Rådata!H205),\"\",((SUM(Rådata!J205:L205)-SUM(Rådata!O205:P205))*100)/SUM(Rådata!H205:L205))","v":""},{"$f":"IF(ISBLANK(Rådata!R205),\"\",(Rådata!Q205*100)/Rådata!R205)","v":""}]
[{"$f":"IF(ISBLANK(Rådata!A206)=TRUE,\"\",Rådata!A206)","v":""},{"$f":"IF(ISBLANK(Rådata!A206)=TRUE,\"\",YEAR(A206))","v":""},{"$f":"IF(ISBLANK(Rådata!A206)=TRUE,\"\",VLOOKUP(MONTH(A206),Opsætning!$G$3:$H$14,2,FALSE))","v":""},{"$f":"IF(ISBLANK(Rådata!B206)=TRUE,\"\",(Rådata!C206*100)/Rådata!B206)","v":""},{"$f":"IF(ISBLANK(Rådata!D206)=TRUE,\"\",((Rådata!D206-Rådata!E206)*100)/Rådata!D206)","v":""},{"$f":"IF(ISBLANK(Rådata!G206)=TRUE,\"\",(Rådata!F206*100)/Rådata!G206)","v":""},{"$f":"IF(ISBLANK(Rådata!K206),\"\",(SUM(Rådata!M206:P206)*100)/SUM(Rådata!H206:K206))","v":""},{"$f":"IF(ISBLANK(Rådata!H206),\"\",((SUM(Rådata!J206:L206)-SUM(Rådata!O206:P206))*100)/SUM(Rådata!H206:L206))","v":""},{"$f":"IF(ISBLANK(Rådata!R206),\"\",(Rådata!Q206*100)/Rådata!R206)","v":""}]
[{"$f":"IF(ISBLANK(Rådata!A207)=TRUE,\"\",Rådata!A207)","v":""},{"$f":"IF(ISBLANK(Rådata!A207)=TRUE,\"\",YEAR(A207))","v":""},{"$f":"IF(ISBLANK(Rådata!A207)=TRUE,\"\",VLOOKUP(MONTH(A207),Opsætning!$G$3:$H$14,2,FALSE))","v":""},{"$f":"IF(ISBLANK(Rådata!B207)=TRUE,\"\",(Rådata!C207*100)/Rådata!B207)","v":""},{"$f":"IF(ISBLANK(Rådata!D207)=TRUE,\"\",((Rådata!D207-Rådata!E207)*100)/Rådata!D207)","v":""},{"$f":"IF(ISBLANK(Rådata!G207)=TRUE,\"\",(Rådata!F207*100)/Rådata!G207)","v":""},{"$f":"IF(ISBLANK(Rådata!K207),\"\",(SUM(Rådata!M207:P207)*100)/SUM(Rådata!H207:K207))","v":""},{"$f":"IF(ISBLANK(Rådata!H207),\"\",((SUM(Rådata!J207:L207)-SUM(Rådata!O207:P207))*100)/SUM(Rådata!H207:L207))","v":""},{"$f":"IF(ISBLANK(Rådata!R207),\"\",(Rådata!Q207*100)/Rådata!R207)","v":""}]
[{"$f":"IF(ISBLANK(Rådata!A208)=TRUE,\"\",Rådata!A208)","v":""},{"$f":"IF(ISBLANK(Rådata!A208)=TRUE,\"\",YEAR(A208))","v":""},{"$f":"IF(ISBLANK(Rådata!A208)=TRUE,\"\",VLOOKUP(MONTH(A208),Opsætning!$G$3:$H$14,2,FALSE))","v":""},{"$f":"IF(ISBLANK(Rådata!B208)=TRUE,\"\",(Rådata!C208*100)/Rådata!B208)","v":""},{"$f":"IF(ISBLANK(Rådata!D208)=TRUE,\"\",((Rådata!D208-Rådata!E208)*100)/Rådata!D208)","v":""},{"$f":"IF(ISBLANK(Rådata!G208)=TRUE,\"\",(Rådata!F208*100)/Rådata!G208)","v":""},{"$f":"IF(ISBLANK(Rådata!K208),\"\",(SUM(Rådata!M208:P208)*100)/SUM(Rådata!H208:K208))","v":""},{"$f":"IF(ISBLANK(Rådata!H208),\"\",((SUM(Rådata!J208:L208)-SUM(Rådata!O208:P208))*100)/SUM(Rådata!H208:L208))","v":""},{"$f":"IF(ISBLANK(Rådata!R208),\"\",(Rådata!Q208*100)/Rådata!R208)","v":""}]
[{"$f":"IF(ISBLANK(Rådata!A209)=TRUE,\"\",Rådata!A209)","v":""},{"$f":"IF(ISBLANK(Rådata!A209)=TRUE,\"\",YEAR(A209))","v":""},{"$f":"IF(ISBLANK(Rådata!A209)=TRUE,\"\",VLOOKUP(MONTH(A209),Opsætning!$G$3:$H$14,2,FALSE))","v":""},{"$f":"IF(ISBLANK(Rådata!B209)=TRUE,\"\",(Rådata!C209*100)/Rådata!B209)","v":""},{"$f":"IF(ISBLANK(Rådata!D209)=TRUE,\"\",((Rådata!D209-Rådata!E209)*100)/Rådata!D209)","v":""},{"$f":"IF(ISBLANK(Rådata!G209)=TRUE,\"\",(Rådata!F209*100)/Rådata!G209)","v":""},{"$f":"IF(ISBLANK(Rådata!K209),\"\",(SUM(Rådata!M209:P209)*100)/SUM(Rådata!H209:K209))","v":""},{"$f":"IF(ISBLANK(Rådata!H209),\"\",((SUM(Rådata!J209:L209)-SUM(Rådata!O209:P209))*100)/SUM(Rådata!H209:L209))","v":""},{"$f":"IF(ISBLANK(Rådata!R209),\"\",(Rådata!Q209*100)/Rådata!R209)","v":""}]
[{"$f":"IF(ISBLANK(Rådata!A210)=TRUE,\"\",Rådata!A210)","v":""},{"$f":"IF(ISBLANK(Rådata!A210)=TRUE,\"\",YEAR(A210))","v":""},{"$f":"IF(ISBLANK(Rådata!A210)=TRUE,\"\",VLOOKUP(MONTH(A210),Opsætning!$G$3:$H$14,2,FALSE))","v":""},{"$f":"IF(ISBLANK(Rådata!B210)=TRUE,\"\",(Rådata!C210*100)/Rådata!B210)","v":""},{"$f":"IF(ISBLANK(Rådata!D210)=TRUE,\"\",((Rådata!D210-Rådata!E210)*100)/Rådata!D210)","v":""},{"$f":"IF(ISBLANK(Rådata!G210)=TRUE,\"\",(Rådata!F210*100)/Rådata!G210)","v":""},{"$f":"IF(ISBLANK(Rådata!K210),\"\",(SUM(Rådata!M210:P210)*100)/SUM(Rådata!H210:K210))","v":""},{"$f":"IF(ISBLANK(Rådata!H210),\"\",((SUM(Rådata!J210:L210)-SUM(Rådata!O210:P210))*100)/SUM(Rådata!H210:L210))","v":""},{"$f":"IF(ISBLANK(Rådata!R210),\"\",(Rådata!Q210*100)/Rådata!R210)","v":""}]
[{"$f":"IF(ISBLANK(Rådata!A211)=TRUE,\"\",Rådata!A211)","v":""},{"$f":"IF(ISBLANK(Rådata!A211)=TRUE,\"\",YEAR(A211))","v":""},{"$f":"IF(ISBLANK(Rådata!A211)=TRUE,\"\",VLOOKUP(MONTH(A211),Opsætning!$G$3:$H$14,2,FALSE))","v":""},{"$f":"IF(ISBLANK(Rådata!B211)=TRUE,\"\",(Rådata!C211*100)/Rådata!B211)","v":""},{"$f":"IF(ISBLANK(Rådata!D211)=TRUE,\"\",((Rådata!D211-Rådata!E211)*100)/Rådata!D211)","v":""},{"$f":"IF(ISBLANK(Rådata!G211)=TRUE,\"\",(Rådata!F211*100)/Rådata!G211)","v":""},{"$f":"IF(ISBLANK(Rådata!K211),\"\",(SUM(Rådata!M211:P211)*100)/SUM(Rådata!H211:K211))","v":""},{"$f":"IF(ISBLANK(Rådata!H211),\"\",((SUM(Rådata!J211:L211)-SUM(Rådata!O211:P211))*100)/SUM(Rådata!H211:L211))","v":""},{"$f":"IF(ISBLANK(Rådata!R211),\"\",(Rådata!Q211*100)/Rådata!R211)","v":""}]
[{"$f":"IF(ISBLANK(Rådata!A212)=TRUE,\"\",Rådata!A212)","v":""},{"$f":"IF(ISBLANK(Rådata!A212)=TRUE,\"\",YEAR(A212))","v":""},{"$f":"IF(ISBLANK(Rådata!A212)=TRUE,\"\",VLOOKUP(MONTH(A212),Opsætning!$G$3:$H$14,2,FALSE))","v":""},{"$f":"IF(ISBLANK(Rådata!B212)=TRUE,\"\",(Rådata!C212*100)/Rådata!B212)","v":""},{"$f":"IF(ISBLANK(Rådata!D212)=TRUE,\"\",((Rådata!D212-Rådata!E212)*100)/Rådata!D212)","v":""},{"$f":"IF(ISBLANK(Rådata!G212)=TRUE,\"\",(Rådata!F212*100)/Rådata!G212)","v":""},{"$f":"IF(ISBLANK(Rådata!K212),\"\",(SUM(Rådata!M212:P212)*100)/SUM(Rådata!H212:K212))","v":""},{"$f":"IF(ISBLANK(Rådata!H212),\"\",((SUM(Rådata!J212:L212)-SUM(Rådata!O212:P212))*100)/SUM(Rådata!H212:L212))","v":""},{"$f":"IF(ISBLANK(Rådata!R212),\"\",(Rådata!Q212*100)/Rådata!R212)","v":""}]
[{"$f":"IF(ISBLANK(Rådata!A213)=TRUE,\"\",Rådata!A213)","v":""},{"$f":"IF(ISBLANK(Rådata!A213)=TRUE,\"\",YEAR(A213))","v":""},{"$f":"IF(ISBLANK(Rådata!A213)=TRUE,\"\",VLOOKUP(MONTH(A213),Opsætning!$G$3:$H$14,2,FALSE))","v":""},{"$f":"IF(ISBLANK(Rådata!B213)=TRUE,\"\",(Rådata!C213*100)/Rådata!B213)","v":""},{"$f":"IF(ISBLANK(Rådata!D213)=TRUE,\"\",((Rådata!D213-Rådata!E213)*100)/Rådata!D213)","v":""},{"$f":"IF(ISBLANK(Rådata!G213)=TRUE,\"\",(Rådata!F213*100)/Rådata!G213)","v":""},{"$f":"IF(ISBLANK(Rådata!K213),\"\",(SUM(Rådata!M213:P213)*100)/SUM(Rådata!H213:K213))","v":""},{"$f":"IF(ISBLANK(Rådata!H213),\"\",((SUM(Rådata!J213:L213)-SUM(Rådata!O213:P213))*100)/SUM(Rådata!H213:L213))","v":""},{"$f":"IF(ISBLANK(Rådata!R213),\"\",(Rådata!Q213*100)/Rådata!R213)","v":""}]
[{"$f":"IF(ISBLANK(Rådata!A214)=TRUE,\"\",Rådata!A214)","v":""},{"$f":"IF(ISBLANK(Rådata!A214)=TRUE,\"\",YEAR(A214))","v":""},{"$f":"IF(ISBLANK(Rådata!A214)=TRUE,\"\",VLOOKUP(MONTH(A214),Opsætning!$G$3:$H$14,2,FALSE))","v":""},{"$f":"IF(ISBLANK(Rådata!B214)=TRUE,\"\",(Rådata!C214*100)/Rådata!B214)","v":""},{"$f":"IF(ISBLANK(Rådata!D214)=TRUE,\"\",((Rådata!D214-Rådata!E214)*100)/Rådata!D214)","v":""},{"$f":"IF(ISBLANK(Rådata!G214)=TRUE,\"\",(Rådata!F214*100)/Rådata!G214)","v":""},{"$f":"IF(ISBLANK(Rådata!K214),\"\",(SUM(Rådata!M214:P214)*100)/SUM(Rådata!H214:K214))","v":""},{"$f":"IF(ISBLANK(Rådata!H214),\"\",((SUM(Rådata!J214:L214)-SUM(Rådata!O214:P214))*100)/SUM(Rådata!H214:L214))","v":""},{"$f":"IF(ISBLANK(Rådata!R214),\"\",(Rådata!Q214*100)/Rådata!R214)","v":""}]
[{"$f":"IF(ISBLANK(Rådata!A215)=TRUE,\"\",Rådata!A215)","v":""},{"$f":"IF(ISBLANK(Rådata!A215)=TRUE,\"\",YEAR(A215))","v":""},{"$f":"IF(ISBLANK(Rådata!A215)=TRUE,\"\",VLOOKUP(MONTH(A215),Opsætning!$G$3:$H$14,2,FALSE))","v":""},{"$f":"IF(ISBLANK(Rådata!B215)=TRUE,\"\",(Rådata!C215*100)/Rådata!B215)","v":""},{"$f":"IF(ISBLANK(Rådata!D215)=TRUE,\"\",((Rådata!D215-Rådata!E215)*100)/Rådata!D215)","v":""},{"$f":"IF(ISBLANK(Rådata!G215)=TRUE,\"\",(Rådata!F215*100)/Rådata!G215)","v":""},{"$f":"IF(ISBLANK(Rådata!K215),\"\",(SUM(Rådata!M215:P215)*100)/SUM(Rådata!H215:K215))","v":""},{"$f":"IF(ISBLANK(Rådata!H215),\"\",((SUM(Rådata!J215:L215)-SUM(Rådata!O215:P215))*100)/SUM(Rådata!H215:L215))","v":""},{"$f":"IF(ISBLANK(Rådata!R215),\"\",(Rådata!Q215*100)/Rådata!R215)","v":""}]
[{"$f":"IF(ISBLANK(Rådata!A216)=TRUE,\"\",Rådata!A216)","v":""},{"$f":"IF(ISBLANK(Rådata!A216)=TRUE,\"\",YEAR(A216))","v":""},{"$f":"IF(ISBLANK(Rådata!A216)=TRUE,\"\",VLOOKUP(MONTH(A216),Opsætning!$G$3:$H$14,2,FALSE))","v":""},{"$f":"IF(ISBLANK(Rådata!B216)=TRUE,\"\",(Rådata!C216*100)/Rådata!B216)","v":""},{"$f":"IF(ISBLANK(Rådata!D216)=TRUE,\"\",((Rådata!D216-Rådata!E216)*100)/Rådata!D216)","v":""},{"$f":"IF(ISBLANK(Rådata!G216)=TRUE,\"\",(Rådata!F216*100)/Rådata!G216)","v":""},{"$f":"IF(ISBLANK(Rådata!K216),\"\",(SUM(Rådata!M216:P216)*100)/SUM(Rådata!H216:K216))","v":""},{"$f":"IF(ISBLANK(Rådata!H216),\"\",((SUM(Rådata!J216:L216)-SUM(Rådata!O216:P216))*100)/SUM(Rådata!H216:L216))","v":""},{"$f":"IF(ISBLANK(Rådata!R216),\"\",(Rådata!Q216*100)/Rådata!R216)","v":""}]
[{"$f":"IF(ISBLANK(Rådata!A217)=TRUE,\"\",Rådata!A217)","v":""},{"$f":"IF(ISBLANK(Rådata!A217)=TRUE,\"\",YEAR(A217))","v":""},{"$f":"IF(ISBLANK(Rådata!A217)=TRUE,\"\",VLOOKUP(MONTH(A217),Opsætning!$G$3:$H$14,2,FALSE))","v":""},{"$f":"IF(ISBLANK(Rådata!B217)=TRUE,\"\",(Rådata!C217*100)/Rådata!B217)","v":""},{"$f":"IF(ISBLANK(Rådata!D217)=TRUE,\"\",((Rådata!D217-Rådata!E217)*100)/Rådata!D217)","v":""},{"$f":"IF(ISBLANK(Rådata!G217)=TRUE,\"\",(Rådata!F217*100)/Rådata!G217)","v":""},{"$f":"IF(ISBLANK(Rådata!K217),\"\",(SUM(Rådata!M217:P217)*100)/SUM(Rådata!H217:K217))","v":""},{"$f":"IF(ISBLANK(Rådata!H217),\"\",((SUM(Rådata!J217:L217)-SUM(Rådata!O217:P217))*100)/SUM(Rådata!H217:L217))","v":""},{"$f":"IF(ISBLANK(Rådata!R217),\"\",(Rådata!Q217*100)/Rådata!R217)","v":""}]
[{"$f":"IF(ISBLANK(Rådata!A218)=TRUE,\"\",Rådata!A218)","v":""},{"$f":"IF(ISBLANK(Rådata!A218)=TRUE,\"\",YEAR(A218))","v":""},{"$f":"IF(ISBLANK(Rådata!A218)=TRUE,\"\",VLOOKUP(MONTH(A218),Opsætning!$G$3:$H$14,2,FALSE))","v":""},{"$f":"IF(ISBLANK(Rådata!B218)=TRUE,\"\",(Rådata!C218*100)/Rådata!B218)","v":""},{"$f":"IF(ISBLANK(Rådata!D218)=TRUE,\"\",((Rådata!D218-Rådata!E218)*100)/Rådata!D218)","v":""},{"$f":"IF(ISBLANK(Rådata!G218)=TRUE,\"\",(Rådata!F218*100)/Rådata!G218)","v":""},{"$f":"IF(ISBLANK(Rådata!K218),\"\",(SUM(Rådata!M218:P218)*100)/SUM(Rådata!H218:K218))","v":""},{"$f":"IF(ISBLANK(Rådata!H218),\"\",((SUM(Rådata!J218:L218)-SUM(Rådata!O218:P218))*100)/SUM(Rådata!H218:L218))","v":""},{"$f":"IF(ISBLANK(Rådata!R218),\"\",(Rådata!Q218*100)/Rådata!R218)","v":""}]
[{"$f":"IF(ISBLANK(Rådata!A219)=TRUE,\"\",Rådata!A219)","v":""},{"$f":"IF(ISBLANK(Rådata!A219)=TRUE,\"\",YEAR(A219))","v":""},{"$f":"IF(ISBLANK(Rådata!A219)=TRUE,\"\",VLOOKUP(MONTH(A219),Opsætning!$G$3:$H$14,2,FALSE))","v":""},{"$f":"IF(ISBLANK(Rådata!B219)=TRUE,\"\",(Rådata!C219*100)/Rådata!B219)","v":""},{"$f":"IF(ISBLANK(Rådata!D219)=TRUE,\"\",((Rådata!D219-Rådata!E219)*100)/Rådata!D219)","v":""},{"$f":"IF(ISBLANK(Rådata!G219)=TRUE,\"\",(Rådata!F219*100)/Rådata!G219)","v":""},{"$f":"IF(ISBLANK(Rådata!K219),\"\",(SUM(Rådata!M219:P219)*100)/SUM(Rådata!H219:K219))","v":""},{"$f":"IF(ISBLANK(Rådata!H219),\"\",((SUM(Rådata!J219:L219)-SUM(Rådata!O219:P219))*100)/SUM(Rådata!H219:L219))","v":""},{"$f":"IF(ISBLANK(Rådata!R219),\"\",(Rådata!Q219*100)/Rådata!R219)","v":""}]
[{"$f":"IF(ISBLANK(Rådata!A220)=TRUE,\"\",Rådata!A220)","v":""},{"$f":"IF(ISBLANK(Rådata!A220)=TRUE,\"\",YEAR(A220))","v":""},{"$f":"IF(ISBLANK(Rådata!A220)=TRUE,\"\",VLOOKUP(MONTH(A220),Opsætning!$G$3:$H$14,2,FALSE))","v":""},{"$f":"IF(ISBLANK(Rådata!B220)=TRUE,\"\",(Rådata!C220*100)/Rådata!B220)","v":""},{"$f":"IF(ISBLANK(Rådata!D220)=TRUE,\"\",((Rådata!D220-Rådata!E220)*100)/Rådata!D220)","v":""},{"$f":"IF(ISBLANK(Rådata!G220)=TRUE,\"\",(Rådata!F220*100)/Rådata!G220)","v":""},{"$f":"IF(ISBLANK(Rådata!K220),\"\",(SUM(Rådata!M220:P220)*100)/SUM(Rådata!H220:K220))","v":""},{"$f":"IF(ISBLANK(Rådata!H220),\"\",((SUM(Rådata!J220:L220)-SUM(Rådata!O220:P220))*100)/SUM(Rådata!H220:L220))","v":""},{"$f":"IF(ISBLANK(Rådata!R220),\"\",(Rådata!Q220*100)/Rådata!R220)","v":""}]
[{"$f":"IF(ISBLANK(Rådata!A221)=TRUE,\"\",Rådata!A221)","v":""},{"$f":"IF(ISBLANK(Rådata!A221)=TRUE,\"\",YEAR(A221))","v":""},{"$f":"IF(ISBLANK(Rådata!A221)=TRUE,\"\",VLOOKUP(MONTH(A221),Opsætning!$G$3:$H$14,2,FALSE))","v":""},{"$f":"IF(ISBLANK(Rådata!B221)=TRUE,\"\",(Rådata!C221*100)/Rådata!B221)","v":""},{"$f":"IF(ISBLANK(Rådata!D221)=TRUE,\"\",((Rådata!D221-Rådata!E221)*100)/Rådata!D221)","v":""},{"$f":"IF(ISBLANK(Rådata!G221)=TRUE,\"\",(Rådata!F221*100)/Rådata!G221)","v":""},{"$f":"IF(ISBLANK(Rådata!K221),\"\",(SUM(Rådata!M221:P221)*100)/SUM(Rådata!H221:K221))","v":""},{"$f":"IF(ISBLANK(Rådata!H221),\"\",((SUM(Rådata!J221:L221)-SUM(Rådata!O221:P221))*100)/SUM(Rådata!H221:L221))","v":""},{"$f":"IF(ISBLANK(Rådata!R221),\"\",(Rådata!Q221*100)/Rådata!R221)","v":""}]
[{"$f":"IF(ISBLANK(Rådata!A222)=TRUE,\"\",Rådata!A222)","v":""},{"$f":"IF(ISBLANK(Rådata!A222)=TRUE,\"\",YEAR(A222))","v":""},{"$f":"IF(ISBLANK(Rådata!A222)=TRUE,\"\",VLOOKUP(MONTH(A222),Opsætning!$G$3:$H$14,2,FALSE))","v":""},{"$f":"IF(ISBLANK(Rådata!B222)=TRUE,\"\",(Rådata!C222*100)/Rådata!B222)","v":""},{"$f":"IF(ISBLANK(Rådata!D222)=TRUE,\"\",((Rådata!D222-Rådata!E222)*100)/Rådata!D222)","v":""},{"$f":"IF(ISBLANK(Rådata!G222)=TRUE,\"\",(Rådata!F222*100)/Rådata!G222)","v":""},{"$f":"IF(ISBLANK(Rådata!K222),\"\",(SUM(Rådata!M222:P222)*100)/SUM(Rådata!H222:K222))","v":""},{"$f":"IF(ISBLANK(Rådata!H222),\"\",((SUM(Rådata!J222:L222)-SUM(Rådata!O222:P222))*100)/SUM(Rådata!H222:L222))","v":""},{"$f":"IF(ISBLANK(Rådata!R222),\"\",(Rådata!Q222*100)/Rådata!R222)","v":""}]
[{"$f":"IF(ISBLANK(Rådata!A223)=TRUE,\"\",Rådata!A223)","v":""},{"$f":"IF(ISBLANK(Rådata!A223)=TRUE,\"\",YEAR(A223))","v":""},{"$f":"IF(ISBLANK(Rådata!A223)=TRUE,\"\",VLOOKUP(MONTH(A223),Opsætning!$G$3:$H$14,2,FALSE))","v":""},{"$f":"IF(ISBLANK(Rådata!B223)=TRUE,\"\",(Rådata!C223*100)/Rådata!B223)","v":""},{"$f":"IF(ISBLANK(Rådata!D223)=TRUE,\"\",((Rådata!D223-Rådata!E223)*100)/Rådata!D223)","v":""},{"$f":"IF(ISBLANK(Rådata!G223)=TRUE,\"\",(Rådata!F223*100)/Rådata!G223)","v":""},{"$f":"IF(ISBLANK(Rådata!K223),\"\",(SUM(Rådata!M223:P223)*100)/SUM(Rådata!H223:K223))","v":""},{"$f":"IF(ISBLANK(Rådata!H223),\"\",((SUM(Rådata!J223:L223)-SUM(Rådata!O223:P223))*100)/SUM(Rådata!H223:L223))","v":""},{"$f":"IF(ISBLANK(Rådata!R223),\"\",(Rådata!Q223*100)/Rådata!R223)","v":""}]
[{"$f":"IF(ISBLANK(Rådata!A224)=TRUE,\"\",Rådata!A224)","v":""},{"$f":"IF(ISBLANK(Rådata!A224)=TRUE,\"\",YEAR(A224))","v":""},{"$f":"IF(ISBLANK(Rådata!A224)=TRUE,\"\",VLOOKUP(MONTH(A224),Opsætning!$G$3:$H$14,2,FALSE))","v":""},{"$f":"IF(ISBLANK(Rådata!B224)=TRUE,\"\",(Rådata!C224*100)/Rådata!B224)","v":""},{"$f":"IF(ISBLANK(Rådata!D224)=TRUE,\"\",((Rådata!D224-Rådata!E224)*100)/Rådata!D224)","v":""},{"$f":"IF(ISBLANK(Rådata!G224)=TRUE,\"\",(Rådata!F224*100)/Rådata!G224)","v":""},{"$f":"IF(ISBLANK(Rådata!K224),\"\",(SUM(Rådata!M224:P224)*100)/SUM(Rådata!H224:K224))","v":""},{"$f":"IF(ISBLANK(Rådata!H224),\"\",((SUM(Rådata!J224:L224)-SUM(Rådata!O224:P224))*100)/SUM(Rådata!H224:L224))","v":""},{"$f":"IF(ISBLANK(Rådata!R224),\"\",(Rådata!Q224*100)/Rådata!R224)","v":""}]
[{"$f":"IF(ISBLANK(Rådata!A225)=TRUE,\"\",Rådata!A225)","v":""},{"$f":"IF(ISBLANK(Rådata!A225)=TRUE,\"\",YEAR(A225))","v":""},{"$f":"IF(ISBLANK(Rådata!A225)=TRUE,\"\",VLOOKUP(MONTH(A225),Opsætning!$G$3:$H$14,2,FALSE))","v":""},{"$f":"IF(ISBLANK(Rådata!B225)=TRUE,\"\",(Rådata!C225*100)/Rådata!B225)","v":""},{"$f":"IF(ISBLANK(Rådata!D225)=TRUE,\"\",((Rådata!D225-Rådata!E225)*100)/Rådata!D225)","v":""},{"$f":"IF(ISBLANK(Rådata!G225)=TRUE,\"\",(Rådata!F225*100)/Rådata!G225)","v":""},{"$f":"IF(ISBLANK(Rådata!K225),\"\",(SUM(Rådata!M225:P225)*100)/SUM(Rådata!H225:K225))","v":""},{"$f":"IF(ISBLANK(Rådata!H225),\"\",((SUM(Rådata!J225:L225)-SUM(Rådata!O225:P225))*100)/SUM(Rådata!H225:L225))","v":""},{"$f":"IF(ISBLANK(Rådata!R225),\"\",(Rådata!Q225*100)/Rådata!R225)","v":""}]
[{"$f":"IF(ISBLANK(Rådata!A226)=TRUE,\"\",Rådata!A226)","v":""},{"$f":"IF(ISBLANK(Rådata!A226)=TRUE,\"\",YEAR(A226))","v":""},{"$f":"IF(ISBLANK(Rådata!A226)=TRUE,\"\",VLOOKUP(MONTH(A226),Opsætning!$G$3:$H$14,2,FALSE))","v":""},{"$f":"IF(ISBLANK(Rådata!B226)=TRUE,\"\",(Rådata!C226*100)/Rådata!B226)","v":""},{"$f":"IF(ISBLANK(Rådata!D226)=TRUE,\"\",((Rådata!D226-Rådata!E226)*100)/Rådata!D226)","v":""},{"$f":"IF(ISBLANK(Rådata!G226)=TRUE,\"\",(Rådata!F226*100)/Rådata!G226)","v":""},{"$f":"IF(ISBLANK(Rådata!K226),\"\",(SUM(Rådata!M226:P226)*100)/SUM(Rådata!H226:K226))","v":""},{"$f":"IF(ISBLANK(Rådata!H226),\"\",((SUM(Rådata!J226:L226)-SUM(Rådata!O226:P226))*100)/SUM(Rådata!H226:L226))","v":""},{"$f":"IF(ISBLANK(Rådata!R226),\"\",(Rådata!Q226*100)/Rådata!R226)","v":""}]
[{"$f":"IF(ISBLANK(Rådata!A227)=TRUE,\"\",Rådata!A227)","v":""},{"$f":"IF(ISBLANK(Rådata!A227)=TRUE,\"\",YEAR(A227))","v":""},{"$f":"IF(ISBLANK(Rådata!A227)=TRUE,\"\",VLOOKUP(MONTH(A227),Opsætning!$G$3:$H$14,2,FALSE))","v":""},{"$f":"IF(ISBLANK(Rådata!B227)=TRUE,\"\",(Rådata!C227*100)/Rådata!B227)","v":""},{"$f":"IF(ISBLANK(Rådata!D227)=TRUE,\"\",((Rådata!D227-Rådata!E227)*100)/Rådata!D227)","v":""},{"$f":"IF(ISBLANK(Rådata!G227)=TRUE,\"\",(Rådata!F227*100)/Rådata!G227)","v":""},{"$f":"IF(ISBLANK(Rådata!K227),\"\",(SUM(Rådata!M227:P227)*100)/SUM(Rådata!H227:K227))","v":""},{"$f":"IF(ISBLANK(Rådata!H227),\"\",((SUM(Rådata!J227:L227)-SUM(Rådata!O227:P227))*100)/SUM(Rådata!H227:L227))","v":""},{"$f":"IF(ISBLANK(Rådata!R227),\"\",(Rådata!Q227*100)/Rådata!R227)","v":""}]
[{"$f":"IF(ISBLANK(Rådata!A228)=TRUE,\"\",Rådata!A228)","v":""},{"$f":"IF(ISBLANK(Rådata!A228)=TRUE,\"\",YEAR(A228))","v":""},{"$f":"IF(ISBLANK(Rådata!A228)=TRUE,\"\",VLOOKUP(MONTH(A228),Opsætning!$G$3:$H$14,2,FALSE))","v":""},{"$f":"IF(ISBLANK(Rådata!B228)=TRUE,\"\",(Rådata!C228*100)/Rådata!B228)","v":""},{"$f":"IF(ISBLANK(Rådata!D228)=TRUE,\"\",((Rådata!D228-Rådata!E228)*100)/Rådata!D228)","v":""},{"$f":"IF(ISBLANK(Rådata!G228)=TRUE,\"\",(Rådata!F228*100)/Rådata!G228)","v":""},{"$f":"IF(ISBLANK(Rådata!K228),\"\",(SUM(Rådata!M228:P228)*100)/SUM(Rådata!H228:K228))","v":""},{"$f":"IF(ISBLANK(Rådata!H228),\"\",((SUM(Rådata!J228:L228)-SUM(Rådata!O228:P228))*100)/SUM(Rådata!H228:L228))","v":""},{"$f":"IF(ISBLANK(Rådata!R228),\"\",(Rådata!Q228*100)/Rådata!R228)","v":""}]
[{"$f":"IF(ISBLANK(Rådata!A229)=TRUE,\"\",Rådata!A229)","v":""},{"$f":"IF(ISBLANK(Rådata!A229)=TRUE,\"\",YEAR(A229))","v":""},{"$f":"IF(ISBLANK(Rådata!A229)=TRUE,\"\",VLOOKUP(MONTH(A229),Opsætning!$G$3:$H$14,2,FALSE))","v":""},{"$f":"IF(ISBLANK(Rådata!B229)=TRUE,\"\",(Rådata!C229*100)/Rådata!B229)","v":""},{"$f":"IF(ISBLANK(Rådata!D229)=TRUE,\"\",((Rådata!D229-Rådata!E229)*100)/Rådata!D229)","v":""},{"$f":"IF(ISBLANK(Rådata!G229)=TRUE,\"\",(Rådata!F229*100)/Rådata!G229)","v":""},{"$f":"IF(ISBLANK(Rådata!K229),\"\",(SUM(Rådata!M229:P229)*100)/SUM(Rådata!H229:K229))","v":""},{"$f":"IF(ISBLANK(Rådata!H229),\"\",((SUM(Rådata!J229:L229)-SUM(Rådata!O229:P229))*100)/SUM(Rådata!H229:L229))","v":""},{"$f":"IF(ISBLANK(Rådata!R229),\"\",(Rådata!Q229*100)/Rådata!R229)","v":""}]
[{"$f":"IF(ISBLANK(Rådata!A230)=TRUE,\"\",Rådata!A230)","v":""},{"$f":"IF(ISBLANK(Rådata!A230)=TRUE,\"\",YEAR(A230))","v":""},{"$f":"IF(ISBLANK(Rådata!A230)=TRUE,\"\",VLOOKUP(MONTH(A230),Opsætning!$G$3:$H$14,2,FALSE))","v":""},{"$f":"IF(ISBLANK(Rådata!B230)=TRUE,\"\",(Rådata!C230*100)/Rådata!B230)","v":""},{"$f":"IF(ISBLANK(Rådata!D230)=TRUE,\"\",((Rådata!D230-Rådata!E230)*100)/Rådata!D230)","v":""},{"$f":"IF(ISBLANK(Rådata!G230)=TRUE,\"\",(Rådata!F230*100)/Rådata!G230)","v":""},{"$f":"IF(ISBLANK(Rådata!K230),\"\",(SUM(Rådata!M230:P230)*100)/SUM(Rådata!H230:K230))","v":""},{"$f":"IF(ISBLANK(Rådata!H230),\"\",((SUM(Rådata!J230:L230)-SUM(Rådata!O230:P230))*100)/SUM(Rådata!H230:L230))","v":""},{"$f":"IF(ISBLANK(Rådata!R230),\"\",(Rådata!Q230*100)/Rådata!R230)","v":""}]
[{"$f":"IF(ISBLANK(Rådata!A231)=TRUE,\"\",Rådata!A231)","v":""},{"$f":"IF(ISBLANK(Rådata!A231)=TRUE,\"\",YEAR(A231))","v":""},{"$f":"IF(ISBLANK(Rådata!A231)=TRUE,\"\",VLOOKUP(MONTH(A231),Opsætning!$G$3:$H$14,2,FALSE))","v":""},{"$f":"IF(ISBLANK(Rådata!B231)=TRUE,\"\",(Rådata!C231*100)/Rådata!B231)","v":""},{"$f":"IF(ISBLANK(Rådata!D231)=TRUE,\"\",((Rådata!D231-Rådata!E231)*100)/Rådata!D231)","v":""},{"$f":"IF(ISBLANK(Rådata!G231)=TRUE,\"\",(Rådata!F231*100)/Rådata!G231)","v":""},{"$f":"IF(ISBLANK(Rådata!K231),\"\",(SUM(Rådata!M231:P231)*100)/SUM(Rådata!H231:K231))","v":""},{"$f":"IF(ISBLANK(Rådata!H231),\"\",((SUM(Rådata!J231:L231)-SUM(Rådata!O231:P231))*100)/SUM(Rådata!H231:L231))","v":""},{"$f":"IF(ISBLANK(Rådata!R231),\"\",(Rådata!Q231*100)/Rådata!R231)","v":""}]
[{"$f":"IF(ISBLANK(Rådata!A232)=TRUE,\"\",Rådata!A232)","v":""},{"$f":"IF(ISBLANK(Rådata!A232)=TRUE,\"\",YEAR(A232))","v":""},{"$f":"IF(ISBLANK(Rådata!A232)=TRUE,\"\",VLOOKUP(MONTH(A232),Opsætning!$G$3:$H$14,2,FALSE))","v":""},{"$f":"IF(ISBLANK(Rådata!B232)=TRUE,\"\",(Rådata!C232*100)/Rådata!B232)","v":""},{"$f":"IF(ISBLANK(Rådata!D232)=TRUE,\"\",((Rådata!D232-Rådata!E232)*100)/Rådata!D232)","v":""},{"$f":"IF(ISBLANK(Rådata!G232)=TRUE,\"\",(Rådata!F232*100)/Rådata!G232)","v":""},{"$f":"IF(ISBLANK(Rådata!K232),\"\",(SUM(Rådata!M232:P232)*100)/SUM(Rådata!H232:K232))","v":""},{"$f":"IF(ISBLANK(Rådata!H232),\"\",((SUM(Rådata!J232:L232)-SUM(Rådata!O232:P232))*100)/SUM(Rådata!H232:L232))","v":""},{"$f":"IF(ISBLANK(Rådata!R232),\"\",(Rådata!Q232*100)/Rådata!R232)","v":""}]
[{"$f":"IF(ISBLANK(Rådata!A233)=TRUE,\"\",Rådata!A233)","v":""},{"$f":"IF(ISBLANK(Rådata!A233)=TRUE,\"\",YEAR(A233))","v":""},{"$f":"IF(ISBLANK(Rådata!A233)=TRUE,\"\",VLOOKUP(MONTH(A233),Opsætning!$G$3:$H$14,2,FALSE))","v":""},{"$f":"IF(ISBLANK(Rådata!B233)=TRUE,\"\",(Rådata!C233*100)/Rådata!B233)","v":""},{"$f":"IF(ISBLANK(Rådata!D233)=TRUE,\"\",((Rådata!D233-Rådata!E233)*100)/Rådata!D233)","v":""},{"$f":"IF(ISBLANK(Rådata!G233)=TRUE,\"\",(Rådata!F233*100)/Rådata!G233)","v":""},{"$f":"IF(ISBLANK(Rådata!K233),\"\",(SUM(Rådata!M233:P233)*100)/SUM(Rådata!H233:K233))","v":""},{"$f":"IF(ISBLANK(Rådata!H233),\"\",((SUM(Rådata!J233:L233)-SUM(Rådata!O233:P233))*100)/SUM(Rådata!H233:L233))","v":""},{"$f":"IF(ISBLANK(Rådata!R233),\"\",(Rådata!Q233*100)/Rådata!R233)","v":""}]
[{"$f":"IF(ISBLANK(Rådata!A234)=TRUE,\"\",Rådata!A234)","v":""},{"$f":"IF(ISBLANK(Rådata!A234)=TRUE,\"\",YEAR(A234))","v":""},{"$f":"IF(ISBLANK(Rådata!A234)=TRUE,\"\",VLOOKUP(MONTH(A234),Opsætning!$G$3:$H$14,2,FALSE))","v":""},{"$f":"IF(ISBLANK(Rådata!B234)=TRUE,\"\",(Rådata!C234*100)/Rådata!B234)","v":""},{"$f":"IF(ISBLANK(Rådata!D234)=TRUE,\"\",((Rådata!D234-Rådata!E234)*100)/Rådata!D234)","v":""},{"$f":"IF(ISBLANK(Rådata!G234)=TRUE,\"\",(Rådata!F234*100)/Rådata!G234)","v":""},{"$f":"IF(ISBLANK(Rådata!K234),\"\",(SUM(Rådata!M234:P234)*100)/SUM(Rådata!H234:K234))","v":""},{"$f":"IF(ISBLANK(Rådata!H234),\"\",((SUM(Rådata!J234:L234)-SUM(Rådata!O234:P234))*100)/SUM(Rådata!H234:L234))","v":""},{"$f":"IF(ISBLANK(Rådata!R234),\"\",(Rådata!Q234*100)/Rådata!R234)","v":""}]
[{"$f":"IF(ISBLANK(Rådata!A235)=TRUE,\"\",Rådata!A235)","v":""},{"$f":"IF(ISBLANK(Rådata!A235)=TRUE,\"\",YEAR(A235))","v":""},{"$f":"IF(ISBLANK(Rådata!A235)=TRUE,\"\",VLOOKUP(MONTH(A235),Opsætning!$G$3:$H$14,2,FALSE))","v":""},{"$f":"IF(ISBLANK(Rådata!B235)=TRUE,\"\",(Rådata!C235*100)/Rådata!B235)","v":""},{"$f":"IF(ISBLANK(Rådata!D235)=TRUE,\"\",((Rådata!D235-Rådata!E235)*100)/Rådata!D235)","v":""},{"$f":"IF(ISBLANK(Rådata!G235)=TRUE,\"\",(Rådata!F235*100)/Rådata!G235)","v":""},{"$f":"IF(ISBLANK(Rådata!K235),\"\",(SUM(Rådata!M235:P235)*100)/SUM(Rådata!H235:K235))","v":""},{"$f":"IF(ISBLANK(Rådata!H235),\"\",((SUM(Rådata!J235:L235)-SUM(Rådata!O235:P235))*100)/SUM(Rådata!H235:L235))","v":""},{"$f":"IF(ISBLANK(Rådata!R235),\"\",(Rådata!Q235*100)/Rådata!R235)","v":""}]
[{"$f":"IF(ISBLANK(Rådata!A236)=TRUE,\"\",Rådata!A236)","v":""},{"$f":"IF(ISBLANK(Rådata!A236)=TRUE,\"\",YEAR(A236))","v":""},{"$f":"IF(ISBLANK(Rådata!A236)=TRUE,\"\",VLOOKUP(MONTH(A236),Opsætning!$G$3:$H$14,2,FALSE))","v":""},{"$f":"IF(ISBLANK(Rådata!B236)=TRUE,\"\",(Rådata!C236*100)/Rådata!B236)","v":""},{"$f":"IF(ISBLANK(Rådata!D236)=TRUE,\"\",((Rådata!D236-Rådata!E236)*100)/Rådata!D236)","v":""},{"$f":"IF(ISBLANK(Rådata!G236)=TRUE,\"\",(Rådata!F236*100)/Rådata!G236)","v":""},{"$f":"IF(ISBLANK(Rådata!K236),\"\",(SUM(Rådata!M236:P236)*100)/SUM(Rådata!H236:K236))","v":""},{"$f":"IF(ISBLANK(Rådata!H236),\"\",((SUM(Rådata!J236:L236)-SUM(Rådata!O236:P236))*100)/SUM(Rådata!H236:L236))","v":""},{"$f":"IF(ISBLANK(Rådata!R236),\"\",(Rådata!Q236*100)/Rådata!R236)","v":""}]
[{"$f":"IF(ISBLANK(Rådata!A237)=TRUE,\"\",Rådata!A237)","v":""},{"$f":"IF(ISBLANK(Rådata!A237)=TRUE,\"\",YEAR(A237))","v":""},{"$f":"IF(ISBLANK(Rådata!A237)=TRUE,\"\",VLOOKUP(MONTH(A237),Opsætning!$G$3:$H$14,2,FALSE))","v":""},{"$f":"IF(ISBLANK(Rådata!B237)=TRUE,\"\",(Rådata!C237*100)/Rådata!B237)","v":""},{"$f":"IF(ISBLANK(Rådata!D237)=TRUE,\"\",((Rådata!D237-Rådata!E237)*100)/Rådata!D237)","v":""},{"$f":"IF(ISBLANK(Rådata!G237)=TRUE,\"\",(Rådata!F237*100)/Rådata!G237)","v":""},{"$f":"IF(ISBLANK(Rådata!K237),\"\",(SUM(Rådata!M237:P237)*100)/SUM(Rådata!H237:K237))","v":""},{"$f":"IF(ISBLANK(Rådata!H237),\"\",((SUM(Rådata!J237:L237)-SUM(Rådata!O237:P237))*100)/SUM(Rådata!H237:L237))","v":""},{"$f":"IF(ISBLANK(Rådata!R237),\"\",(Rådata!Q237*100)/Rådata!R237)","v":""}]
[{"$f":"IF(ISBLANK(Rådata!A238)=TRUE,\"\",Rådata!A238)","v":""},{"$f":"IF(ISBLANK(Rådata!A238)=TRUE,\"\",YEAR(A238))","v":""},{"$f":"IF(ISBLANK(Rådata!A238)=TRUE,\"\",VLOOKUP(MONTH(A238),Opsætning!$G$3:$H$14,2,FALSE))","v":""},{"$f":"IF(ISBLANK(Rådata!B238)=TRUE,\"\",(Rådata!C238*100)/Rådata!B238)","v":""},{"$f":"IF(ISBLANK(Rådata!D238)=TRUE,\"\",((Rådata!D238-Rådata!E238)*100)/Rådata!D238)","v":""},{"$f":"IF(ISBLANK(Rådata!G238)=TRUE,\"\",(Rådata!F238*100)/Rådata!G238)","v":""},{"$f":"IF(ISBLANK(Rådata!K238),\"\",(SUM(Rådata!M238:P238)*100)/SUM(Rådata!H238:K238))","v":""},{"$f":"IF(ISBLANK(Rådata!H238),\"\",((SUM(Rådata!J238:L238)-SUM(Rådata!O238:P238))*100)/SUM(Rådata!H238:L238))","v":""},{"$f":"IF(ISBLANK(Rådata!R238),\"\",(Rådata!Q238*100)/Rådata!R238)","v":""}]
[{"$f":"IF(ISBLANK(Rådata!A239)=TRUE,\"\",Rådata!A239)","v":""},{"$f":"IF(ISBLANK(Rådata!A239)=TRUE,\"\",YEAR(A239))","v":""},{"$f":"IF(ISBLANK(Rådata!A239)=TRUE,\"\",VLOOKUP(MONTH(A239),Opsætning!$G$3:$H$14,2,FALSE))","v":""},{"$f":"IF(ISBLANK(Rådata!B239)=TRUE,\"\",(Rådata!C239*100)/Rådata!B239)","v":""},{"$f":"IF(ISBLANK(Rådata!D239)=TRUE,\"\",((Rådata!D239-Rådata!E239)*100)/Rådata!D239)","v":""},{"$f":"IF(ISBLANK(Rådata!G239)=TRUE,\"\",(Rådata!F239*100)/Rådata!G239)","v":""},{"$f":"IF(ISBLANK(Rådata!K239),\"\",(SUM(Rådata!M239:P239)*100)/SUM(Rådata!H239:K239))","v":""},{"$f":"IF(ISBLANK(Rådata!H239),\"\",((SUM(Rådata!J239:L239)-SUM(Rådata!O239:P239))*100)/SUM(Rådata!H239:L239))","v":""},{"$f":"IF(ISBLANK(Rådata!R239),\"\",(Rådata!Q239*100)/Rådata!R239)","v":""}]
[{"$f":"IF(ISBLANK(Rådata!A240)=TRUE,\"\",Rådata!A240)","v":""},{"$f":"IF(ISBLANK(Rådata!A240)=TRUE,\"\",YEAR(A240))","v":""},{"$f":"IF(ISBLANK(Rådata!A240)=TRUE,\"\",VLOOKUP(MONTH(A240),Opsætning!$G$3:$H$14,2,FALSE))","v":""},{"$f":"IF(ISBLANK(Rådata!B240)=TRUE,\"\",(Rådata!C240*100)/Rådata!B240)","v":""},{"$f":"IF(ISBLANK(Rådata!D240)=TRUE,\"\",((Rådata!D240-Rådata!E240)*100)/Rådata!D240)","v":""},{"$f":"IF(ISBLANK(Rådata!G240)=TRUE,\"\",(Rådata!F240*100)/Rådata!G240)","v":""},{"$f":"IF(ISBLANK(Rådata!K240),\"\",(SUM(Rådata!M240:P240)*100)/SUM(Rådata!H240:K240))","v":""},{"$f":"IF(ISBLANK(Rådata!H240),\"\",((SUM(Rådata!J240:L240)-SUM(Rådata!O240:P240))*100)/SUM(Rådata!H240:L240))","v":""},{"$f":"IF(ISBLANK(Rådata!R240),\"\",(Rådata!Q240*100)/Rådata!R240)","v":""}]
[{"$f":"IF(ISBLANK(Rådata!A241)=TRUE,\"\",Rådata!A241)","v":""},{"$f":"IF(ISBLANK(Rådata!A241)=TRUE,\"\",YEAR(A241))","v":""},{"$f":"IF(ISBLANK(Rådata!A241)=TRUE,\"\",VLOOKUP(MONTH(A241),Opsætning!$G$3:$H$14,2,FALSE))","v":""},{"$f":"IF(ISBLANK(Rådata!B241)=TRUE,\"\",(Rådata!C241*100)/Rådata!B241)","v":""},{"$f":"IF(ISBLANK(Rådata!D241)=TRUE,\"\",((Rådata!D241-Rådata!E241)*100)/Rådata!D241)","v":""},{"$f":"IF(ISBLANK(Rådata!G241)=TRUE,\"\",(Rådata!F241*100)/Rådata!G241)","v":""},{"$f":"IF(ISBLANK(Rådata!K241),\"\",(SUM(Rådata!M241:P241)*100)/SUM(Rådata!H241:K241))","v":""},{"$f":"IF(ISBLANK(Rådata!H241),\"\",((SUM(Rådata!J241:L241)-SUM(Rådata!O241:P241))*100)/SUM(Rådata!H241:L241))","v":""},{"$f":"IF(ISBLANK(Rådata!R241),\"\",(Rådata!Q241*100)/Rådata!R241)","v":""}]
[{"$f":"IF(ISBLANK(Rådata!A242)=TRUE,\"\",Rådata!A242)","v":""},{"$f":"IF(ISBLANK(Rådata!A242)=TRUE,\"\",YEAR(A242))","v":""},{"$f":"IF(ISBLANK(Rådata!A242)=TRUE,\"\",VLOOKUP(MONTH(A242),Opsætning!$G$3:$H$14,2,FALSE))","v":""},{"$f":"IF(ISBLANK(Rådata!B242)=TRUE,\"\",(Rådata!C242*100)/Rådata!B242)","v":""},{"$f":"IF(ISBLANK(Rådata!D242)=TRUE,\"\",((Rådata!D242-Rådata!E242)*100)/Rådata!D242)","v":""},{"$f":"IF(ISBLANK(Rådata!G242)=TRUE,\"\",(Rådata!F242*100)/Rådata!G242)","v":""},{"$f":"IF(ISBLANK(Rådata!K242),\"\",(SUM(Rådata!M242:P242)*100)/SUM(Rådata!H242:K242))","v":""},{"$f":"IF(ISBLANK(Rådata!H242),\"\",((SUM(Rådata!J242:L242)-SUM(Rådata!O242:P242))*100)/SUM(Rådata!H242:L242))","v":""},{"$f":"IF(ISBLANK(Rådata!R242),\"\",(Rådata!Q242*100)/Rådata!R242)","v":""}]
[{"$f":"IF(ISBLANK(Rådata!A243)=TRUE,\"\",Rådata!A243)","v":""},{"$f":"IF(ISBLANK(Rådata!A243)=TRUE,\"\",YEAR(A243))","v":""},{"$f":"IF(ISBLANK(Rådata!A243)=TRUE,\"\",VLOOKUP(MONTH(A243),Opsætning!$G$3:$H$14,2,FALSE))","v":""},{"$f":"IF(ISBLANK(Rådata!B243)=TRUE,\"\",(Rådata!C243*100)/Rådata!B243)","v":""},{"$f":"IF(ISBLANK(Rådata!D243)=TRUE,\"\",((Rådata!D243-Rådata!E243)*100)/Rådata!D243)","v":""},{"$f":"IF(ISBLANK(Rådata!G243)=TRUE,\"\",(Rådata!F243*100)/Rådata!G243)","v":""},{"$f":"IF(ISBLANK(Rådata!K243),\"\",(SUM(Rådata!M243:P243)*100)/SUM(Rådata!H243:K243))","v":""},{"$f":"IF(ISBLANK(Rådata!H243),\"\",((SUM(Rådata!J243:L243)-SUM(Rådata!O243:P243))*100)/SUM(Rådata!H243:L243))","v":""},{"$f":"IF(ISBLANK(Rådata!R243),\"\",(Rådata!Q243*100)/Rådata!R243)","v":""}]
[{"$f":"IF(ISBLANK(Rådata!A244)=TRUE,\"\",Rådata!A244)","v":""},{"$f":"IF(ISBLANK(Rådata!A244)=TRUE,\"\",YEAR(A244))","v":""},{"$f":"IF(ISBLANK(Rådata!A244)=TRUE,\"\",VLOOKUP(MONTH(A244),Opsætning!$G$3:$H$14,2,FALSE))","v":""},{"$f":"IF(ISBLANK(Rådata!B244)=TRUE,\"\",(Rådata!C244*100)/Rådata!B244)","v":""},{"$f":"IF(ISBLANK(Rådata!D244)=TRUE,\"\",((Rådata!D244-Rådata!E244)*100)/Rådata!D244)","v":""},{"$f":"IF(ISBLANK(Rådata!G244)=TRUE,\"\",(Rådata!F244*100)/Rådata!G244)","v":""},{"$f":"IF(ISBLANK(Rådata!K244),\"\",(SUM(Rådata!M244:P244)*100)/SUM(Rådata!H244:K244))","v":""},{"$f":"IF(ISBLANK(Rådata!H244),\"\",((SUM(Rådata!J244:L244)-SUM(Rådata!O244:P244))*100)/SUM(Rådata!H244:L244))","v":""},{"$f":"IF(ISBLANK(Rådata!R244),\"\",(Rådata!Q244*100)/Rådata!R244)","v":""}]
[{"$f":"IF(ISBLANK(Rådata!A245)=TRUE,\"\",Rådata!A245)","v":""},{"$f":"IF(ISBLANK(Rådata!A245)=TRUE,\"\",YEAR(A245))","v":""},{"$f":"IF(ISBLANK(Rådata!A245)=TRUE,\"\",VLOOKUP(MONTH(A245),Opsætning!$G$3:$H$14,2,FALSE))","v":""},{"$f":"IF(ISBLANK(Rådata!B245)=TRUE,\"\",(Rådata!C245*100)/Rådata!B245)","v":""},{"$f":"IF(ISBLANK(Rådata!D245)=TRUE,\"\",((Rådata!D245-Rådata!E245)*100)/Rådata!D245)","v":""},{"$f":"IF(ISBLANK(Rådata!G245)=TRUE,\"\",(Rådata!F245*100)/Rådata!G245)","v":""},{"$f":"IF(ISBLANK(Rådata!K245),\"\",(SUM(Rådata!M245:P245)*100)/SUM(Rådata!H245:K245))","v":""},{"$f":"IF(ISBLANK(Rådata!H245),\"\",((SUM(Rådata!J245:L245)-SUM(Rådata!O245:P245))*100)/SUM(Rådata!H245:L245))","v":""},{"$f":"IF(ISBLANK(Rådata!R245),\"\",(Rådata!Q245*100)/Rådata!R245)","v":""}]
[{"$f":"IF(ISBLANK(Rådata!A246)=TRUE,\"\",Rådata!A246)","v":""},{"$f":"IF(ISBLANK(Rådata!A246)=TRUE,\"\",YEAR(A246))","v":""},{"$f":"IF(ISBLANK(Rådata!A246)=TRUE,\"\",VLOOKUP(MONTH(A246),Opsætning!$G$3:$H$14,2,FALSE))","v":""},{"$f":"IF(ISBLANK(Rådata!B246)=TRUE,\"\",(Rådata!C246*100)/Rådata!B246)","v":""},{"$f":"IF(ISBLANK(Rådata!D246)=TRUE,\"\",((Rådata!D246-Rådata!E246)*100)/Rådata!D246)","v":""},{"$f":"IF(ISBLANK(Rådata!G246)=TRUE,\"\",(Rådata!F246*100)/Rådata!G246)","v":""},{"$f":"IF(ISBLANK(Rådata!K246),\"\",(SUM(Rådata!M246:P246)*100)/SUM(Rådata!H246:K246))","v":""},{"$f":"IF(ISBLANK(Rådata!H246),\"\",((SUM(Rådata!J246:L246)-SUM(Rådata!O246:P246))*100)/SUM(Rådata!H246:L246))","v":""},{"$f":"IF(ISBLANK(Rådata!R246),\"\",(Rådata!Q246*100)/Rådata!R246)","v":""}]
[{"$f":"IF(ISBLANK(Rådata!A247)=TRUE,\"\",Rådata!A247)","v":""},{"$f":"IF(ISBLANK(Rådata!A247)=TRUE,\"\",YEAR(A247))","v":""},{"$f":"IF(ISBLANK(Rådata!A247)=TRUE,\"\",VLOOKUP(MONTH(A247),Opsætning!$G$3:$H$14,2,FALSE))","v":""},{"$f":"IF(ISBLANK(Rådata!B247)=TRUE,\"\",(Rådata!C247*100)/Rådata!B247)","v":""},{"$f":"IF(ISBLANK(Rådata!D247)=TRUE,\"\",((Rådata!D247-Rådata!E247)*100)/Rådata!D247)","v":""},{"$f":"IF(ISBLANK(Rådata!G247)=TRUE,\"\",(Rådata!F247*100)/Rådata!G247)","v":""},{"$f":"IF(ISBLANK(Rådata!K247),\"\",(SUM(Rådata!M247:P247)*100)/SUM(Rådata!H247:K247))","v":""},{"$f":"IF(ISBLANK(Rådata!H247),\"\",((SUM(Rådata!J247:L247)-SUM(Rådata!O247:P247))*100)/SUM(Rådata!H247:L247))","v":""},{"$f":"IF(ISBLANK(Rådata!R247),\"\",(Rådata!Q247*100)/Rådata!R247)","v":""}]
[{"$f":"IF(ISBLANK(Rådata!A248)=TRUE,\"\",Rådata!A248)","v":""},{"$f":"IF(ISBLANK(Rådata!A248)=TRUE,\"\",YEAR(A248))","v":""},{"$f":"IF(ISBLANK(Rådata!A248)=TRUE,\"\",VLOOKUP(MONTH(A248),Opsætning!$G$3:$H$14,2,FALSE))","v":""},{"$f":"IF(ISBLANK(Rådata!B248)=TRUE,\"\",(Rådata!C248*100)/Rådata!B248)","v":""},{"$f":"IF(ISBLANK(Rådata!D248)=TRUE,\"\",((Rådata!D248-Rådata!E248)*100)/Rådata!D248)","v":""},{"$f":"IF(ISBLANK(Rådata!G248)=TRUE,\"\",(Rådata!F248*100)/Rådata!G248)","v":""},{"$f":"IF(ISBLANK(Rådata!K248),\"\",(SUM(Rådata!M248:P248)*100)/SUM(Rådata!H248:K248))","v":""},{"$f":"IF(ISBLANK(Rådata!H248),\"\",((SUM(Rådata!J248:L248)-SUM(Rådata!O248:P248))*100)/SUM(Rådata!H248:L248))","v":""},{"$f":"IF(ISBLANK(Rådata!R248),\"\",(Rådata!Q248*100)/Rådata!R248)","v":""}]
[{"$f":"IF(ISBLANK(Rådata!A249)=TRUE,\"\",Rådata!A249)","v":""},{"$f":"IF(ISBLANK(Rådata!A249)=TRUE,\"\",YEAR(A249))","v":""},{"$f":"IF(ISBLANK(Rådata!A249)=TRUE,\"\",VLOOKUP(MONTH(A249),Opsætning!$G$3:$H$14,2,FALSE))","v":""},{"$f":"IF(ISBLANK(Rådata!B249)=TRUE,\"\",(Rådata!C249*100)/Rådata!B249)","v":""},{"$f":"IF(ISBLANK(Rådata!D249)=TRUE,\"\",((Rådata!D249-Rådata!E249)*100)/Rådata!D249)","v":""},{"$f":"IF(ISBLANK(Rådata!G249)=TRUE,\"\",(Rådata!F249*100)/Rådata!G249)","v":""},{"$f":"IF(ISBLANK(Rådata!K249),\"\",(SUM(Rådata!M249:P249)*100)/SUM(Rådata!H249:K249))","v":""},{"$f":"IF(ISBLANK(Rådata!H249),\"\",((SUM(Rådata!J249:L249)-SUM(Rådata!O249:P249))*100)/SUM(Rådata!H249:L249))","v":""},{"$f":"IF(ISBLANK(Rådata!R249),\"\",(Rådata!Q249*100)/Rådata!R249)","v":""}]
[{"$f":"IF(ISBLANK(Rådata!A250)=TRUE,\"\",Rådata!A250)","v":""},{"$f":"IF(ISBLANK(Rådata!A250)=TRUE,\"\",YEAR(A250))","v":""},{"$f":"IF(ISBLANK(Rådata!A250)=TRUE,\"\",VLOOKUP(MONTH(A250),Opsætning!$G$3:$H$14,2,FALSE))","v":""},{"$f":"IF(ISBLANK(Rådata!B250)=TRUE,\"\",(Rådata!C250*100)/Rådata!B250)","v":""},{"$f":"IF(ISBLANK(Rådata!D250)=TRUE,\"\",((Rådata!D250-Rådata!E250)*100)/Rådata!D250)","v":""},{"$f":"IF(ISBLANK(Rådata!G250)=TRUE,\"\",(Rådata!F250*100)/Rådata!G250)","v":""},{"$f":"IF(ISBLANK(Rådata!K250),\"\",(SUM(Rådata!M250:P250)*100)/SUM(Rådata!H250:K250))","v":""},{"$f":"IF(ISBLANK(Rådata!H250),\"\",((SUM(Rådata!J250:L250)-SUM(Rådata!O250:P250))*100)/SUM(Rådata!H250:L250))","v":""},{"$f":"IF(ISBLANK(Rådata!R250),\"\",(Rådata!Q250*100)/Rådata!R250)","v":""}]
[{"$f":"IF(ISBLANK(Rådata!A251)=TRUE,\"\",Rådata!A251)","v":""},{"$f":"IF(ISBLANK(Rådata!A251)=TRUE,\"\",YEAR(A251))","v":""},{"$f":"IF(ISBLANK(Rådata!A251)=TRUE,\"\",VLOOKUP(MONTH(A251),Opsætning!$G$3:$H$14,2,FALSE))","v":""},{"$f":"IF(ISBLANK(Rådata!B251)=TRUE,\"\",(Rådata!C251*100)/Rådata!B251)","v":""},{"$f":"IF(ISBLANK(Rådata!D251)=TRUE,\"\",((Rådata!D251-Rådata!E251)*100)/Rådata!D251)","v":""},{"$f":"IF(ISBLANK(Rådata!G251)=TRUE,\"\",(Rådata!F251*100)/Rådata!G251)","v":""},{"$f":"IF(ISBLANK(Rådata!K251),\"\",(SUM(Rådata!M251:P251)*100)/SUM(Rådata!H251:K251))","v":""},{"$f":"IF(ISBLANK(Rådata!H251),\"\",((SUM(Rådata!J251:L251)-SUM(Rådata!O251:P251))*100)/SUM(Rådata!H251:L251))","v":""},{"$f":"IF(ISBLANK(Rådata!R251),\"\",(Rådata!Q251*100)/Rådata!R251)","v":""}]
[{"$f":"IF(ISBLANK(Rådata!A252)=TRUE,\"\",Rådata!A252)","v":""},{"$f":"IF(ISBLANK(Rådata!A252)=TRUE,\"\",YEAR(A252))","v":""},{"$f":"IF(ISBLANK(Rådata!A252)=TRUE,\"\",VLOOKUP(MONTH(A252),Opsætning!$G$3:$H$14,2,FALSE))","v":""},{"$f":"IF(ISBLANK(Rådata!B252)=TRUE,\"\",(Rådata!C252*100)/Rådata!B252)","v":""},{"$f":"IF(ISBLANK(Rådata!D252)=TRUE,\"\",((Rådata!D252-Rådata!E252)*100)/Rådata!D252)","v":""},{"$f":"IF(ISBLANK(Rådata!G252)=TRUE,\"\",(Rådata!F252*100)/Rådata!G252)","v":""},{"$f":"IF(ISBLANK(Rådata!K252),\"\",(SUM(Rådata!M252:P252)*100)/SUM(Rådata!H252:K252))","v":""},{"$f":"IF(ISBLANK(Rådata!H252),\"\",((SUM(Rådata!J252:L252)-SUM(Rådata!O252:P252))*100)/SUM(Rådata!H252:L252))","v":""},{"$f":"IF(ISBLANK(Rådata!R252),\"\",(Rådata!Q252*100)/Rådata!R252)","v":""}]
[{"$f":"IF(ISBLANK(Rådata!A253)=TRUE,\"\",Rådata!A253)","v":""},{"$f":"IF(ISBLANK(Rådata!A253)=TRUE,\"\",YEAR(A253))","v":""},{"$f":"IF(ISBLANK(Rådata!A253)=TRUE,\"\",VLOOKUP(MONTH(A253),Opsætning!$G$3:$H$14,2,FALSE))","v":""},{"$f":"IF(ISBLANK(Rådata!B253)=TRUE,\"\",(Rådata!C253*100)/Rådata!B253)","v":""},{"$f":"IF(ISBLANK(Rådata!D253)=TRUE,\"\",((Rådata!D253-Rådata!E253)*100)/Rådata!D253)","v":""},{"$f":"IF(ISBLANK(Rådata!G253)=TRUE,\"\",(Rådata!F253*100)/Rådata!G253)","v":""},{"$f":"IF(ISBLANK(Rådata!K253),\"\",(SUM(Rådata!M253:P253)*100)/SUM(Rådata!H253:K253))","v":""},{"$f":"IF(ISBLANK(Rådata!H253),\"\",((SUM(Rådata!J253:L253)-SUM(Rådata!O253:P253))*100)/SUM(Rådata!H253:L253))","v":""},{"$f":"IF(ISBLANK(Rådata!R253),\"\",(Rådata!Q253*100)/Rådata!R253)","v":""}]
[{"$f":"IF(ISBLANK(Rådata!A254)=TRUE,\"\",Rådata!A254)","v":""},{"$f":"IF(ISBLANK(Rådata!A254)=TRUE,\"\",YEAR(A254))","v":""},{"$f":"IF(ISBLANK(Rådata!A254)=TRUE,\"\",VLOOKUP(MONTH(A254),Opsætning!$G$3:$H$14,2,FALSE))","v":""},{"$f":"IF(ISBLANK(Rådata!B254)=TRUE,\"\",(Rådata!C254*100)/Rådata!B254)","v":""},{"$f":"IF(ISBLANK(Rådata!D254)=TRUE,\"\",((Rådata!D254-Rådata!E254)*100)/Rådata!D254)","v":""},{"$f":"IF(ISBLANK(Rådata!G254)=TRUE,\"\",(Rådata!F254*100)/Rådata!G254)","v":""},{"$f":"IF(ISBLANK(Rådata!K254),\"\",(SUM(Rådata!M254:P254)*100)/SUM(Rådata!H254:K254))","v":""},{"$f":"IF(ISBLANK(Rådata!H254),\"\",((SUM(Rådata!J254:L254)-SUM(Rådata!O254:P254))*100)/SUM(Rådata!H254:L254))","v":""},{"$f":"IF(ISBLANK(Rådata!R254),\"\",(Rådata!Q254*100)/Rådata!R254)","v":""}]
[{"$f":"IF(ISBLANK(Rådata!A255)=TRUE,\"\",Rådata!A255)","v":""},{"$f":"IF(ISBLANK(Rådata!A255)=TRUE,\"\",YEAR(A255))","v":""},{"$f":"IF(ISBLANK(Rådata!A255)=TRUE,\"\",VLOOKUP(MONTH(A255),Opsætning!$G$3:$H$14,2,FALSE))","v":""},{"$f":"IF(ISBLANK(Rådata!B255)=TRUE,\"\",(Rådata!C255*100)/Rådata!B255)","v":""},{"$f":"IF(ISBLANK(Rådata!D255)=TRUE,\"\",((Rådata!D255-Rådata!E255)*100)/Rådata!D255)","v":""},{"$f":"IF(ISBLANK(Rådata!G255)=TRUE,\"\",(Rådata!F255*100)/Rådata!G255)","v":""},{"$f":"IF(ISBLANK(Rådata!K255),\"\",(SUM(Rådata!M255:P255)*100)/SUM(Rådata!H255:K255))","v":""},{"$f":"IF(ISBLANK(Rådata!H255),\"\",((SUM(Rådata!J255:L255)-SUM(Rådata!O255:P255))*100)/SUM(Rådata!H255:L255))","v":""},{"$f":"IF(ISBLANK(Rådata!R255),\"\",(Rådata!Q255*100)/Rådata!R255)","v":""}]
[{"$f":"IF(ISBLANK(Rådata!A256)=TRUE,\"\",Rådata!A256)","v":""},{"$f":"IF(ISBLANK(Rådata!A256)=TRUE,\"\",YEAR(A256))","v":""},{"$f":"IF(ISBLANK(Rådata!A256)=TRUE,\"\",VLOOKUP(MONTH(A256),Opsætning!$G$3:$H$14,2,FALSE))","v":""},{"$f":"IF(ISBLANK(Rådata!B256)=TRUE,\"\",(Rådata!C256*100)/Rådata!B256)","v":""},{"$f":"IF(ISBLANK(Rådata!D256)=TRUE,\"\",((Rådata!D256-Rådata!E256)*100)/Rådata!D256)","v":""},{"$f":"IF(ISBLANK(Rådata!G256)=TRUE,\"\",(Rådata!F256*100)/Rådata!G256)","v":""},{"$f":"IF(ISBLANK(Rådata!K256),\"\",(SUM(Rådata!M256:P256)*100)/SUM(Rådata!H256:K256))","v":""},{"$f":"IF(ISBLANK(Rådata!H256),\"\",((SUM(Rådata!J256:L256)-SUM(Rådata!O256:P256))*100)/SUM(Rådata!H256:L256))","v":""},{"$f":"IF(ISBLANK(Rådata!R256),\"\",(Rådata!Q256*100)/Rådata!R256)","v":""}]
[{"$f":"IF(ISBLANK(Rådata!A257)=TRUE,\"\",Rådata!A257)","v":""},{"$f":"IF(ISBLANK(Rådata!A257)=TRUE,\"\",YEAR(A257))","v":""},{"$f":"IF(ISBLANK(Rådata!A257)=TRUE,\"\",VLOOKUP(MONTH(A257),Opsætning!$G$3:$H$14,2,FALSE))","v":""},{"$f":"IF(ISBLANK(Rådata!B257)=TRUE,\"\",(Rådata!C257*100)/Rådata!B257)","v":""},{"$f":"IF(ISBLANK(Rådata!D257)=TRUE,\"\",((Rådata!D257-Rådata!E257)*100)/Rådata!D257)","v":""},{"$f":"IF(ISBLANK(Rådata!G257)=TRUE,\"\",(Rådata!F257*100)/Rådata!G257)","v":""},{"$f":"IF(ISBLANK(Rådata!K257),\"\",(SUM(Rådata!M257:P257)*100)/SUM(Rådata!H257:K257))","v":""},{"$f":"IF(ISBLANK(Rådata!H257),\"\",((SUM(Rådata!J257:L257)-SUM(Rådata!O257:P257))*100)/SUM(Rådata!H257:L257))","v":""},{"$f":"IF(ISBLANK(Rådata!R257),\"\",(Rådata!Q257*100)/Rådata!R257)","v":""}]
[{"$f":"IF(ISBLANK(Rådata!A258)=TRUE,\"\",Rådata!A258)","v":""},{"$f":"IF(ISBLANK(Rådata!A258)=TRUE,\"\",YEAR(A258))","v":""},{"$f":"IF(ISBLANK(Rådata!A258)=TRUE,\"\",VLOOKUP(MONTH(A258),Opsætning!$G$3:$H$14,2,FALSE))","v":""},{"$f":"IF(ISBLANK(Rådata!B258)=TRUE,\"\",(Rådata!C258*100)/Rådata!B258)","v":""},{"$f":"IF(ISBLANK(Rådata!D258)=TRUE,\"\",((Rådata!D258-Rådata!E258)*100)/Rådata!D258)","v":""},{"$f":"IF(ISBLANK(Rådata!G258)=TRUE,\"\",(Rådata!F258*100)/Rådata!G258)","v":""},{"$f":"IF(ISBLANK(Rådata!K258),\"\",(SUM(Rådata!M258:P258)*100)/SUM(Rådata!H258:K258))","v":""},{"$f":"IF(ISBLANK(Rådata!H258),\"\",((SUM(Rådata!J258:L258)-SUM(Rådata!O258:P258))*100)/SUM(Rådata!H258:L258))","v":""},{"$f":"IF(ISBLANK(Rådata!R258),\"\",(Rådata!Q258*100)/Rådata!R258)","v":""}]
[{"$f":"IF(ISBLANK(Rådata!A259)=TRUE,\"\",Rådata!A259)","v":""},{"$f":"IF(ISBLANK(Rådata!A259)=TRUE,\"\",YEAR(A259))","v":""},{"$f":"IF(ISBLANK(Rådata!A259)=TRUE,\"\",VLOOKUP(MONTH(A259),Opsætning!$G$3:$H$14,2,FALSE))","v":""},{"$f":"IF(ISBLANK(Rådata!B259)=TRUE,\"\",(Rådata!C259*100)/Rådata!B259)","v":""},{"$f":"IF(ISBLANK(Rådata!D259)=TRUE,\"\",((Rådata!D259-Rådata!E259)*100)/Rådata!D259)","v":""},{"$f":"IF(ISBLANK(Rådata!G259)=TRUE,\"\",(Rådata!F259*100)/Rådata!G259)","v":""},{"$f":"IF(ISBLANK(Rådata!K259),\"\",(SUM(Rådata!M259:P259)*100)/SUM(Rådata!H259:K259))","v":""},{"$f":"IF(ISBLANK(Rådata!H259),\"\",((SUM(Rådata!J259:L259)-SUM(Rådata!O259:P259))*100)/SUM(Rådata!H259:L259))","v":""},{"$f":"IF(ISBLANK(Rådata!R259),\"\",(Rådata!Q259*100)/Rådata!R259)","v":""}]
[{"$f":"IF(ISBLANK(Rådata!A260)=TRUE,\"\",Rådata!A260)","v":""},{"$f":"IF(ISBLANK(Rådata!A260)=TRUE,\"\",YEAR(A260))","v":""},{"$f":"IF(ISBLANK(Rådata!A260)=TRUE,\"\",VLOOKUP(MONTH(A260),Opsætning!$G$3:$H$14,2,FALSE))","v":""},{"$f":"IF(ISBLANK(Rådata!B260)=TRUE,\"\",(Rådata!C260*100)/Rådata!B260)","v":""},{"$f":"IF(ISBLANK(Rådata!D260)=TRUE,\"\",((Rådata!D260-Rådata!E260)*100)/Rådata!D260)","v":""},{"$f":"IF(ISBLANK(Rådata!G260)=TRUE,\"\",(Rådata!F260*100)/Rådata!G260)","v":""},{"$f":"IF(ISBLANK(Rådata!K260),\"\",(SUM(Rådata!M260:P260)*100)/SUM(Rådata!H260:K260))","v":""},{"$f":"IF(ISBLANK(Rådata!H260),\"\",((SUM(Rådata!J260:L260)-SUM(Rådata!O260:P260))*100)/SUM(Rådata!H260:L260))","v":""},{"$f":"IF(ISBLANK(Rådata!R260),\"\",(Rådata!Q260*100)/Rådata!R260)","v":""}]
[{"$f":"IF(ISBLANK(Rådata!A261)=TRUE,\"\",Rådata!A261)","v":""},{"$f":"IF(ISBLANK(Rådata!A261)=TRUE,\"\",YEAR(A261))","v":""},{"$f":"IF(ISBLANK(Rådata!A261)=TRUE,\"\",VLOOKUP(MONTH(A261),Opsætning!$G$3:$H$14,2,FALSE))","v":""},{"$f":"IF(ISBLANK(Rådata!B261)=TRUE,\"\",(Rådata!C261*100)/Rådata!B261)","v":""},{"$f":"IF(ISBLANK(Rådata!D261)=TRUE,\"\",((Rådata!D261-Rådata!E261)*100)/Rådata!D261)","v":""},{"$f":"IF(ISBLANK(Rådata!G261)=TRUE,\"\",(Rådata!F261*100)/Rådata!G261)","v":""},{"$f":"IF(ISBLANK(Rådata!K261),\"\",(SUM(Rådata!M261:P261)*100)/SUM(Rådata!H261:K261))","v":""},{"$f":"IF(ISBLANK(Rådata!H261),\"\",((SUM(Rådata!J261:L261)-SUM(Rådata!O261:P261))*100)/SUM(Rådata!H261:L261))","v":""},{"$f":"IF(ISBLANK(Rådata!R261),\"\",(Rådata!Q261*100)/Rådata!R261)","v":""}]
[{"$f":"IF(ISBLANK(Rådata!A262)=TRUE,\"\",Rådata!A262)","v":""},{"$f":"IF(ISBLANK(Rådata!A262)=TRUE,\"\",YEAR(A262))","v":""},{"$f":"IF(ISBLANK(Rådata!A262)=TRUE,\"\",VLOOKUP(MONTH(A262),Opsætning!$G$3:$H$14,2,FALSE))","v":""},{"$f":"IF(ISBLANK(Rådata!B262)=TRUE,\"\",(Rådata!C262*100)/Rådata!B262)","v":""},{"$f":"IF(ISBLANK(Rådata!D262)=TRUE,\"\",((Rådata!D262-Rådata!E262)*100)/Rådata!D262)","v":""},{"$f":"IF(ISBLANK(Rådata!G262)=TRUE,\"\",(Rådata!F262*100)/Rådata!G262)","v":""},{"$f":"IF(ISBLANK(Rådata!K262),\"\",(SUM(Rådata!M262:P262)*100)/SUM(Rådata!H262:K262))","v":""},{"$f":"IF(ISBLANK(Rådata!H262),\"\",((SUM(Rådata!J262:L262)-SUM(Rådata!O262:P262))*100)/SUM(Rådata!H262:L262))","v":""},{"$f":"IF(ISBLANK(Rådata!R262),\"\",(Rådata!Q262*100)/Rådata!R262)","v":""}]
[{"$f":"IF(ISBLANK(Rådata!A263)=TRUE,\"\",Rådata!A263)","v":""},{"$f":"IF(ISBLANK(Rådata!A263)=TRUE,\"\",YEAR(A263))","v":""},{"$f":"IF(ISBLANK(Rådata!A263)=TRUE,\"\",VLOOKUP(MONTH(A263),Opsætning!$G$3:$H$14,2,FALSE))","v":""},{"$f":"IF(ISBLANK(Rådata!B263)=TRUE,\"\",(Rådata!C263*100)/Rådata!B263)","v":""},{"$f":"IF(ISBLANK(Rådata!D263)=TRUE,\"\",((Rådata!D263-Rådata!E263)*100)/Rådata!D263)","v":""},{"$f":"IF(ISBLANK(Rådata!G263)=TRUE,\"\",(Rådata!F263*100)/Rådata!G263)","v":""},{"$f":"IF(ISBLANK(Rådata!K263),\"\",(SUM(Rådata!M263:P263)*100)/SUM(Rådata!H263:K263))","v":""},{"$f":"IF(ISBLANK(Rådata!H263),\"\",((SUM(Rådata!J263:L263)-SUM(Rådata!O263:P263))*100)/SUM(Rådata!H263:L263))","v":""},{"$f":"IF(ISBLANK(Rådata!R263),\"\",(Rådata!Q263*100)/Rådata!R263)","v":""}]
[{"$f":"IF(ISBLANK(Rådata!A264)=TRUE,\"\",Rådata!A264)","v":""},{"$f":"IF(ISBLANK(Rådata!A264)=TRUE,\"\",YEAR(A264))","v":""},{"$f":"IF(ISBLANK(Rådata!A264)=TRUE,\"\",VLOOKUP(MONTH(A264),Opsætning!$G$3:$H$14,2,FALSE))","v":""},{"$f":"IF(ISBLANK(Rådata!B264)=TRUE,\"\",(Rådata!C264*100)/Rådata!B264)","v":""},{"$f":"IF(ISBLANK(Rådata!D264)=TRUE,\"\",((Rådata!D264-Rådata!E264)*100)/Rådata!D264)","v":""},{"$f":"IF(ISBLANK(Rådata!G264)=TRUE,\"\",(Rådata!F264*100)/Rådata!G264)","v":""},{"$f":"IF(ISBLANK(Rådata!K264),\"\",(SUM(Rådata!M264:P264)*100)/SUM(Rådata!H264:K264))","v":""},{"$f":"IF(ISBLANK(Rådata!H264),\"\",((SUM(Rådata!J264:L264)-SUM(Rådata!O264:P264))*100)/SUM(Rådata!H264:L264))","v":""},{"$f":"IF(ISBLANK(Rådata!R264),\"\",(Rådata!Q264*100)/Rådata!R264)","v":""}]
[{"$f":"IF(ISBLANK(Rådata!A265)=TRUE,\"\",Rådata!A265)","v":""},{"$f":"IF(ISBLANK(Rådata!A265)=TRUE,\"\",YEAR(A265))","v":""},{"$f":"IF(ISBLANK(Rådata!A265)=TRUE,\"\",VLOOKUP(MONTH(A265),Opsætning!$G$3:$H$14,2,FALSE))","v":""},{"$f":"IF(ISBLANK(Rådata!B265)=TRUE,\"\",(Rådata!C265*100)/Rådata!B265)","v":""},{"$f":"IF(ISBLANK(Rådata!D265)=TRUE,\"\",((Rådata!D265-Rådata!E265)*100)/Rådata!D265)","v":""},{"$f":"IF(ISBLANK(Rådata!G265)=TRUE,\"\",(Rådata!F265*100)/Rådata!G265)","v":""},{"$f":"IF(ISBLANK(Rådata!K265),\"\",(SUM(Rådata!M265:P265)*100)/SUM(Rådata!H265:K265))","v":""},{"$f":"IF(ISBLANK(Rådata!H265),\"\",((SUM(Rådata!J265:L265)-SUM(Rådata!O265:P265))*100)/SUM(Rådata!H265:L265))","v":""},{"$f":"IF(ISBLANK(Rådata!R265),\"\",(Rådata!Q265*100)/Rådata!R265)","v":""}]
[{"$f":"IF(ISBLANK(Rådata!A266)=TRUE,\"\",Rådata!A266)","v":""},{"$f":"IF(ISBLANK(Rådata!A266)=TRUE,\"\",YEAR(A266))","v":""},{"$f":"IF(ISBLANK(Rådata!A266)=TRUE,\"\",VLOOKUP(MONTH(A266),Opsætning!$G$3:$H$14,2,FALSE))","v":""},{"$f":"IF(ISBLANK(Rådata!B266)=TRUE,\"\",(Rådata!C266*100)/Rådata!B266)","v":""},{"$f":"IF(ISBLANK(Rådata!D266)=TRUE,\"\",((Rådata!D266-Rådata!E266)*100)/Rådata!D266)","v":""},{"$f":"IF(ISBLANK(Rådata!G266)=TRUE,\"\",(Rådata!F266*100)/Rådata!G266)","v":""},{"$f":"IF(ISBLANK(Rådata!K266),\"\",(SUM(Rådata!M266:P266)*100)/SUM(Rådata!H266:K266))","v":""},{"$f":"IF(ISBLANK(Rådata!H266),\"\",((SUM(Rådata!J266:L266)-SUM(Rådata!O266:P266))*100)/SUM(Rådata!H266:L266))","v":""},{"$f":"IF(ISBLANK(Rådata!R266),\"\",(Rådata!Q266*100)/Rådata!R266)","v":""}]
[{"$f":"IF(ISBLANK(Rådata!A267)=TRUE,\"\",Rådata!A267)","v":""},{"$f":"IF(ISBLANK(Rådata!A267)=TRUE,\"\",YEAR(A267))","v":""},{"$f":"IF(ISBLANK(Rådata!A267)=TRUE,\"\",VLOOKUP(MONTH(A267),Opsætning!$G$3:$H$14,2,FALSE))","v":""},{"$f":"IF(ISBLANK(Rådata!B267)=TRUE,\"\",(Rådata!C267*100)/Rådata!B267)","v":""},{"$f":"IF(ISBLANK(Rådata!D267)=TRUE,\"\",((Rådata!D267-Rådata!E267)*100)/Rådata!D267)","v":""},{"$f":"IF(ISBLANK(Rådata!G267)=TRUE,\"\",(Rådata!F267*100)/Rådata!G267)","v":""},{"$f":"IF(ISBLANK(Rådata!K267),\"\",(SUM(Rådata!M267:P267)*100)/SUM(Rådata!H267:K267))","v":""},{"$f":"IF(ISBLANK(Rådata!H267),\"\",((SUM(Rådata!J267:L267)-SUM(Rådata!O267:P267))*100)/SUM(Rådata!H267:L267))","v":""},{"$f":"IF(ISBLANK(Rådata!R267),\"\",(Rådata!Q267*100)/Rådata!R267)","v":""}]
[{"$f":"IF(ISBLANK(Rådata!A268)=TRUE,\"\",Rådata!A268)","v":""},{"$f":"IF(ISBLANK(Rådata!A268)=TRUE,\"\",YEAR(A268))","v":""},{"$f":"IF(ISBLANK(Rådata!A268)=TRUE,\"\",VLOOKUP(MONTH(A268),Opsætning!$G$3:$H$14,2,FALSE))","v":""},{"$f":"IF(ISBLANK(Rådata!B268)=TRUE,\"\",(Rådata!C268*100)/Rådata!B268)","v":""},{"$f":"IF(ISBLANK(Rådata!D268)=TRUE,\"\",((Rådata!D268-Rådata!E268)*100)/Rådata!D268)","v":""},{"$f":"IF(ISBLANK(Rådata!G268)=TRUE,\"\",(Rådata!F268*100)/Rådata!G268)","v":""},{"$f":"IF(ISBLANK(Rådata!K268),\"\",(SUM(Rådata!M268:P268)*100)/SUM(Rådata!H268:K268))","v":""},{"$f":"IF(ISBLANK(Rådata!H268),\"\",((SUM(Rådata!J268:L268)-SUM(Rådata!O268:P268))*100)/SUM(Rådata!H268:L268))","v":""},{"$f":"IF(ISBLANK(Rådata!R268),\"\",(Rådata!Q268*100)/Rådata!R268)","v":""}]
[{"$f":"IF(ISBLANK(Rådata!A269)=TRUE,\"\",Rådata!A269)","v":""},{"$f":"IF(ISBLANK(Rådata!A269)=TRUE,\"\",YEAR(A269))","v":""},{"$f":"IF(ISBLANK(Rådata!A269)=TRUE,\"\",VLOOKUP(MONTH(A269),Opsætning!$G$3:$H$14,2,FALSE))","v":""},{"$f":"IF(ISBLANK(Rådata!B269)=TRUE,\"\",(Rådata!C269*100)/Rådata!B269)","v":""},{"$f":"IF(ISBLANK(Rådata!D269)=TRUE,\"\",((Rådata!D269-Rådata!E269)*100)/Rådata!D269)","v":""},{"$f":"IF(ISBLANK(Rådata!G269)=TRUE,\"\",(Rådata!F269*100)/Rådata!G269)","v":""},{"$f":"IF(ISBLANK(Rådata!K269),\"\",(SUM(Rådata!M269:P269)*100)/SUM(Rådata!H269:K269))","v":""},{"$f":"IF(ISBLANK(Rådata!H269),\"\",((SUM(Rådata!J269:L269)-SUM(Rådata!O269:P269))*100)/SUM(Rådata!H269:L269))","v":""},{"$f":"IF(ISBLANK(Rådata!R269),\"\",(Rådata!Q269*100)/Rådata!R269)","v":""}]
[{"$f":"IF(ISBLANK(Rådata!A270)=TRUE,\"\",Rådata!A270)","v":""},{"$f":"IF(ISBLANK(Rådata!A270)=TRUE,\"\",YEAR(A270))","v":""},{"$f":"IF(ISBLANK(Rådata!A270)=TRUE,\"\",VLOOKUP(MONTH(A270),Opsætning!$G$3:$H$14,2,FALSE))","v":""},{"$f":"IF(ISBLANK(Rådata!B270)=TRUE,\"\",(Rådata!C270*100)/Rådata!B270)","v":""},{"$f":"IF(ISBLANK(Rådata!D270)=TRUE,\"\",((Rådata!D270-Rådata!E270)*100)/Rådata!D270)","v":""},{"$f":"IF(ISBLANK(Rådata!G270)=TRUE,\"\",(Rådata!F270*100)/Rådata!G270)","v":""},{"$f":"IF(ISBLANK(Rådata!K270),\"\",(SUM(Rådata!M270:P270)*100)/SUM(Rådata!H270:K270))","v":""},{"$f":"IF(ISBLANK(Rådata!H270),\"\",((SUM(Rådata!J270:L270)-SUM(Rådata!O270:P270))*100)/SUM(Rådata!H270:L270))","v":""},{"$f":"IF(ISBLANK(Rådata!R270),\"\",(Rådata!Q270*100)/Rådata!R270)","v":""}]
[{"$f":"IF(ISBLANK(Rådata!A271)=TRUE,\"\",Rådata!A271)","v":""},{"$f":"IF(ISBLANK(Rådata!A271)=TRUE,\"\",YEAR(A271))","v":""},{"$f":"IF(ISBLANK(Rådata!A271)=TRUE,\"\",VLOOKUP(MONTH(A271),Opsætning!$G$3:$H$14,2,FALSE))","v":""},{"$f":"IF(ISBLANK(Rådata!B271)=TRUE,\"\",(Rådata!C271*100)/Rådata!B271)","v":""},{"$f":"IF(ISBLANK(Rådata!D271)=TRUE,\"\",((Rådata!D271-Rådata!E271)*100)/Rådata!D271)","v":""},{"$f":"IF(ISBLANK(Rådata!G271)=TRUE,\"\",(Rådata!F271*100)/Rådata!G271)","v":""},{"$f":"IF(ISBLANK(Rådata!K271),\"\",(SUM(Rådata!M271:P271)*100)/SUM(Rådata!H271:K271))","v":""},{"$f":"IF(ISBLANK(Rådata!H271),\"\",((SUM(Rådata!J271:L271)-SUM(Rådata!O271:P271))*100)/SUM(Rådata!H271:L271))","v":""},{"$f":"IF(ISBLANK(Rådata!R271),\"\",(Rådata!Q271*100)/Rådata!R271)","v":""}]
[{"$f":"IF(ISBLANK(Rådata!A272)=TRUE,\"\",Rådata!A272)","v":""},{"$f":"IF(ISBLANK(Rådata!A272)=TRUE,\"\",YEAR(A272))","v":""},{"$f":"IF(ISBLANK(Rådata!A272)=TRUE,\"\",VLOOKUP(MONTH(A272),Opsætning!$G$3:$H$14,2,FALSE))","v":""},{"$f":"IF(ISBLANK(Rådata!B272)=TRUE,\"\",(Rådata!C272*100)/Rådata!B272)","v":""},{"$f":"IF(ISBLANK(Rådata!D272)=TRUE,\"\",((Rådata!D272-Rådata!E272)*100)/Rådata!D272)","v":""},{"$f":"IF(ISBLANK(Rådata!G272)=TRUE,\"\",(Rådata!F272*100)/Rådata!G272)","v":""},{"$f":"IF(ISBLANK(Rådata!K272),\"\",(SUM(Rådata!M272:P272)*100)/SUM(Rådata!H272:K272))","v":""},{"$f":"IF(ISBLANK(Rådata!H272),\"\",((SUM(Rådata!J272:L272)-SUM(Rådata!O272:P272))*100)/SUM(Rådata!H272:L272))","v":""},{"$f":"IF(ISBLANK(Rådata!R272),\"\",(Rådata!Q272*100)/Rådata!R272)","v":""}]
[{"$f":"IF(ISBLANK(Rådata!A273)=TRUE,\"\",Rådata!A273)","v":""},{"$f":"IF(ISBLANK(Rådata!A273)=TRUE,\"\",YEAR(A273))","v":""},{"$f":"IF(ISBLANK(Rådata!A273)=TRUE,\"\",VLOOKUP(MONTH(A273),Opsætning!$G$3:$H$14,2,FALSE))","v":""},{"$f":"IF(ISBLANK(Rådata!B273)=TRUE,\"\",(Rådata!C273*100)/Rådata!B273)","v":""},{"$f":"IF(ISBLANK(Rådata!D273)=TRUE,\"\",((Rådata!D273-Rådata!E273)*100)/Rådata!D273)","v":""},{"$f":"IF(ISBLANK(Rådata!G273)=TRUE,\"\",(Rådata!F273*100)/Rådata!G273)","v":""},{"$f":"IF(ISBLANK(Rådata!K273),\"\",(SUM(Rådata!M273:P273)*100)/SUM(Rådata!H273:K273))","v":""},{"$f":"IF(ISBLANK(Rådata!H273),\"\",((SUM(Rådata!J273:L273)-SUM(Rådata!O273:P273))*100)/SUM(Rådata!H273:L273))","v":""},{"$f":"IF(ISBLANK(Rådata!R273),\"\",(Rådata!Q273*100)/Rådata!R273)","v":""}]
[{"$f":"IF(ISBLANK(Rådata!A274)=TRUE,\"\",Rådata!A274)","v":""},{"$f":"IF(ISBLANK(Rådata!A274)=TRUE,\"\",YEAR(A274))","v":""},{"$f":"IF(ISBLANK(Rådata!A274)=TRUE,\"\",VLOOKUP(MONTH(A274),Opsætning!$G$3:$H$14,2,FALSE))","v":""},{"$f":"IF(ISBLANK(Rådata!B274)=TRUE,\"\",(Rådata!C274*100)/Rådata!B274)","v":""},{"$f":"IF(ISBLANK(Rådata!D274)=TRUE,\"\",((Rådata!D274-Rådata!E274)*100)/Rådata!D274)","v":""},{"$f":"IF(ISBLANK(Rådata!G274)=TRUE,\"\",(Rådata!F274*100)/Rådata!G274)","v":""},{"$f":"IF(ISBLANK(Rådata!K274),\"\",(SUM(Rådata!M274:P274)*100)/SUM(Rådata!H274:K274))","v":""},{"$f":"IF(ISBLANK(Rådata!H274),\"\",((SUM(Rådata!J274:L274)-SUM(Rådata!O274:P274))*100)/SUM(Rådata!H274:L274))","v":""},{"$f":"IF(ISBLANK(Rådata!R274),\"\",(Rådata!Q274*100)/Rådata!R274)","v":""}]
[{"$f":"IF(ISBLANK(Rådata!A275)=TRUE,\"\",Rådata!A275)","v":""},{"$f":"IF(ISBLANK(Rådata!A275)=TRUE,\"\",YEAR(A275))","v":""},{"$f":"IF(ISBLANK(Rådata!A275)=TRUE,\"\",VLOOKUP(MONTH(A275),Opsætning!$G$3:$H$14,2,FALSE))","v":""},{"$f":"IF(ISBLANK(Rådata!B275)=TRUE,\"\",(Rådata!C275*100)/Rådata!B275)","v":""},{"$f":"IF(ISBLANK(Rådata!D275)=TRUE,\"\",((Rådata!D275-Rådata!E275)*100)/Rådata!D275)","v":""},{"$f":"IF(ISBLANK(Rådata!G275)=TRUE,\"\",(Rådata!F275*100)/Rådata!G275)","v":""},{"$f":"IF(ISBLANK(Rådata!K275),\"\",(SUM(Rådata!M275:P275)*100)/SUM(Rådata!H275:K275))","v":""},{"$f":"IF(ISBLANK(Rådata!H275),\"\",((SUM(Rådata!J275:L275)-SUM(Rådata!O275:P275))*100)/SUM(Rådata!H275:L275))","v":""},{"$f":"IF(ISBLANK(Rådata!R275),\"\",(Rådata!Q275*100)/Rådata!R275)","v":""}]
[{"$f":"IF(ISBLANK(Rådata!A276)=TRUE,\"\",Rådata!A276)","v":""},{"$f":"IF(ISBLANK(Rådata!A276)=TRUE,\"\",YEAR(A276))","v":""},{"$f":"IF(ISBLANK(Rådata!A276)=TRUE,\"\",VLOOKUP(MONTH(A276),Opsætning!$G$3:$H$14,2,FALSE))","v":""},{"$f":"IF(ISBLANK(Rådata!B276)=TRUE,\"\",(Rådata!C276*100)/Rådata!B276)","v":""},{"$f":"IF(ISBLANK(Rådata!D276)=TRUE,\"\",((Rådata!D276-Rådata!E276)*100)/Rådata!D276)","v":""},{"$f":"IF(ISBLANK(Rådata!G276)=TRUE,\"\",(Rådata!F276*100)/Rådata!G276)","v":""},{"$f":"IF(ISBLANK(Rådata!K276),\"\",(SUM(Rådata!M276:P276)*100)/SUM(Rådata!H276:K276))","v":""},{"$f":"IF(ISBLANK(Rådata!H276),\"\",((SUM(Rådata!J276:L276)-SUM(Rådata!O276:P276))*100)/SUM(Rådata!H276:L276))","v":""},{"$f":"IF(ISBLANK(Rådata!R276),\"\",(Rådata!Q276*100)/Rådata!R276)","v":""}]
[{"$f":"IF(ISBLANK(Rådata!A277)=TRUE,\"\",Rådata!A277)","v":""},{"$f":"IF(ISBLANK(Rådata!A277)=TRUE,\"\",YEAR(A277))","v":""},{"$f":"IF(ISBLANK(Rådata!A277)=TRUE,\"\",VLOOKUP(MONTH(A277),Opsætning!$G$3:$H$14,2,FALSE))","v":""},{"$f":"IF(ISBLANK(Rådata!B277)=TRUE,\"\",(Rådata!C277*100)/Rådata!B277)","v":""},{"$f":"IF(ISBLANK(Rådata!D277)=TRUE,\"\",((Rådata!D277-Rådata!E277)*100)/Rådata!D277)","v":""},{"$f":"IF(ISBLANK(Rådata!G277)=TRUE,\"\",(Rådata!F277*100)/Rådata!G277)","v":""},{"$f":"IF(ISBLANK(Rådata!K277),\"\",(SUM(Rådata!M277:P277)*100)/SUM(Rådata!H277:K277))","v":""},{"$f":"IF(ISBLANK(Rådata!H277),\"\",((SUM(Rådata!J277:L277)-SUM(Rådata!O277:P277))*100)/SUM(Rådata!H277:L277))","v":""},{"$f":"IF(ISBLANK(Rådata!R277),\"\",(Rådata!Q277*100)/Rådata!R277)","v":""}]
[{"$f":"IF(ISBLANK(Rådata!A278)=TRUE,\"\",Rådata!A278)","v":""},{"$f":"IF(ISBLANK(Rådata!A278)=TRUE,\"\",YEAR(A278))","v":""},{"$f":"IF(ISBLANK(Rådata!A278)=TRUE,\"\",VLOOKUP(MONTH(A278),Opsætning!$G$3:$H$14,2,FALSE))","v":""},{"$f":"IF(ISBLANK(Rådata!B278)=TRUE,\"\",(Rådata!C278*100)/Rådata!B278)","v":""},{"$f":"IF(ISBLANK(Rådata!D278)=TRUE,\"\",((Rådata!D278-Rådata!E278)*100)/Rådata!D278)","v":""},{"$f":"IF(ISBLANK(Rådata!G278)=TRUE,\"\",(Rådata!F278*100)/Rådata!G278)","v":""},{"$f":"IF(ISBLANK(Rådata!K278),\"\",(SUM(Rådata!M278:P278)*100)/SUM(Rådata!H278:K278))","v":""},{"$f":"IF(ISBLANK(Rådata!H278),\"\",((SUM(Rådata!J278:L278)-SUM(Rådata!O278:P278))*100)/SUM(Rådata!H278:L278))","v":""},{"$f":"IF(ISBLANK(Rådata!R278),\"\",(Rådata!Q278*100)/Rådata!R278)","v":""}]
[{"$f":"IF(ISBLANK(Rådata!A279)=TRUE,\"\",Rådata!A279)","v":""},{"$f":"IF(ISBLANK(Rådata!A279)=TRUE,\"\",YEAR(A279))","v":""},{"$f":"IF(ISBLANK(Rådata!A279)=TRUE,\"\",VLOOKUP(MONTH(A279),Opsætning!$G$3:$H$14,2,FALSE))","v":""},{"$f":"IF(ISBLANK(Rådata!B279)=TRUE,\"\",(Rådata!C279*100)/Rådata!B279)","v":""},{"$f":"IF(ISBLANK(Rådata!D279)=TRUE,\"\",((Rådata!D279-Rådata!E279)*100)/Rådata!D279)","v":""},{"$f":"IF(ISBLANK(Rådata!G279)=TRUE,\"\",(Rådata!F279*100)/Rådata!G279)","v":""},{"$f":"IF(ISBLANK(Rådata!K279),\"\",(SUM(Rådata!M279:P279)*100)/SUM(Rådata!H279:K279))","v":""},{"$f":"IF(ISBLANK(Rådata!H279),\"\",((SUM(Rådata!J279:L279)-SUM(Rådata!O279:P279))*100)/SUM(Rådata!H279:L279))","v":""},{"$f":"IF(ISBLANK(Rådata!R279),\"\",(Rådata!Q279*100)/Rådata!R279)","v":""}]
[{"$f":"IF(ISBLANK(Rådata!A280)=TRUE,\"\",Rådata!A280)","v":""},{"$f":"IF(ISBLANK(Rådata!A280)=TRUE,\"\",YEAR(A280))","v":""},{"$f":"IF(ISBLANK(Rådata!A280)=TRUE,\"\",VLOOKUP(MONTH(A280),Opsætning!$G$3:$H$14,2,FALSE))","v":""},{"$f":"IF(ISBLANK(Rådata!B280)=TRUE,\"\",(Rådata!C280*100)/Rådata!B280)","v":""},{"$f":"IF(ISBLANK(Rådata!D280)=TRUE,\"\",((Rådata!D280-Rådata!E280)*100)/Rådata!D280)","v":""},{"$f":"IF(ISBLANK(Rådata!G280)=TRUE,\"\",(Rådata!F280*100)/Rådata!G280)","v":""},{"$f":"IF(ISBLANK(Rådata!K280),\"\",(SUM(Rådata!M280:P280)*100)/SUM(Rådata!H280:K280))","v":""},{"$f":"IF(ISBLANK(Rådata!H280),\"\",((SUM(Rådata!J280:L280)-SUM(Rådata!O280:P280))*100)/SUM(Rådata!H280:L280))","v":""},{"$f":"IF(ISBLANK(Rådata!R280),\"\",(Rådata!Q280*100)/Rådata!R280)","v":""}]
[{"$f":"IF(ISBLANK(Rådata!A281)=TRUE,\"\",Rådata!A281)","v":""},{"$f":"IF(ISBLANK(Rådata!A281)=TRUE,\"\",YEAR(A281))","v":""},{"$f":"IF(ISBLANK(Rådata!A281)=TRUE,\"\",VLOOKUP(MONTH(A281),Opsætning!$G$3:$H$14,2,FALSE))","v":""},{"$f":"IF(ISBLANK(Rådata!B281)=TRUE,\"\",(Rådata!C281*100)/Rådata!B281)","v":""},{"$f":"IF(ISBLANK(Rådata!D281)=TRUE,\"\",((Rådata!D281-Rådata!E281)*100)/Rådata!D281)","v":""},{"$f":"IF(ISBLANK(Rådata!G281)=TRUE,\"\",(Rådata!F281*100)/Rådata!G281)","v":""},{"$f":"IF(ISBLANK(Rådata!K281),\"\",(SUM(Rådata!M281:P281)*100)/SUM(Rådata!H281:K281))","v":""},{"$f":"IF(ISBLANK(Rådata!H281),\"\",((SUM(Rådata!J281:L281)-SUM(Rådata!O281:P281))*100)/SUM(Rådata!H281:L281))","v":""},{"$f":"IF(ISBLANK(Rådata!R281),\"\",(Rådata!Q281*100)/Rådata!R281)","v":""}]
[{"$f":"IF(ISBLANK(Rådata!A282)=TRUE,\"\",Rådata!A282)","v":""},{"$f":"IF(ISBLANK(Rådata!A282)=TRUE,\"\",YEAR(A282))","v":""},{"$f":"IF(ISBLANK(Rådata!A282)=TRUE,\"\",VLOOKUP(MONTH(A282),Opsætning!$G$3:$H$14,2,FALSE))","v":""},{"$f":"IF(ISBLANK(Rådata!B282)=TRUE,\"\",(Rådata!C282*100)/Rådata!B282)","v":""},{"$f":"IF(ISBLANK(Rådata!D282)=TRUE,\"\",((Rådata!D282-Rådata!E282)*100)/Rådata!D282)","v":""},{"$f":"IF(ISBLANK(Rådata!G282)=TRUE,\"\",(Rådata!F282*100)/Rådata!G282)","v":""},{"$f":"IF(ISBLANK(Rådata!K282),\"\",(SUM(Rådata!M282:P282)*100)/SUM(Rådata!H282:K282))","v":""},{"$f":"IF(ISBLANK(Rådata!H282),\"\",((SUM(Rådata!J282:L282)-SUM(Rådata!O282:P282))*100)/SUM(Rådata!H282:L282))","v":""},{"$f":"IF(ISBLANK(Rådata!R282),\"\",(Rådata!Q282*100)/Rådata!R282)","v":""}]
[{"$f":"IF(ISBLANK(Rådata!A283)=TRUE,\"\",Rådata!A283)","v":""},{"$f":"IF(ISBLANK(Rådata!A283)=TRUE,\"\",YEAR(A283))","v":""},{"$f":"IF(ISBLANK(Rådata!A283)=TRUE,\"\",VLOOKUP(MONTH(A283),Opsætning!$G$3:$H$14,2,FALSE))","v":""},{"$f":"IF(ISBLANK(Rådata!B283)=TRUE,\"\",(Rådata!C283*100)/Rådata!B283)","v":""},{"$f":"IF(ISBLANK(Rådata!D283)=TRUE,\"\",((Rådata!D283-Rådata!E283)*100)/Rådata!D283)","v":""},{"$f":"IF(ISBLANK(Rådata!G283)=TRUE,\"\",(Rådata!F283*100)/Rådata!G283)","v":""},{"$f":"IF(ISBLANK(Rådata!K283),\"\",(SUM(Rådata!M283:P283)*100)/SUM(Rådata!H283:K283))","v":""},{"$f":"IF(ISBLANK(Rådata!H283),\"\",((SUM(Rådata!J283:L283)-SUM(Rådata!O283:P283))*100)/SUM(Rådata!H283:L283))","v":""},{"$f":"IF(ISBLANK(Rådata!R283),\"\",(Rådata!Q283*100)/Rådata!R283)","v":""}]
[{"$f":"IF(ISBLANK(Rådata!A284)=TRUE,\"\",Rådata!A284)","v":""},{"$f":"IF(ISBLANK(Rådata!A284)=TRUE,\"\",YEAR(A284))","v":""},{"$f":"IF(ISBLANK(Rådata!A284)=TRUE,\"\",VLOOKUP(MONTH(A284),Opsætning!$G$3:$H$14,2,FALSE))","v":""},{"$f":"IF(ISBLANK(Rådata!B284)=TRUE,\"\",(Rådata!C284*100)/Rådata!B284)","v":""},{"$f":"IF(ISBLANK(Rådata!D284)=TRUE,\"\",((Rådata!D284-Rådata!E284)*100)/Rådata!D284)","v":""},{"$f":"IF(ISBLANK(Rådata!G284)=TRUE,\"\",(Rådata!F284*100)/Rådata!G284)","v":""},{"$f":"IF(ISBLANK(Rådata!K284),\"\",(SUM(Rådata!M284:P284)*100)/SUM(Rådata!H284:K284))","v":""},{"$f":"IF(ISBLANK(Rådata!H284),\"\",((SUM(Rådata!J284:L284)-SUM(Rådata!O284:P284))*100)/SUM(Rådata!H284:L284))","v":""},{"$f":"IF(ISBLANK(Rådata!R284),\"\",(Rådata!Q284*100)/Rådata!R284)","v":""}]
[{"$f":"IF(ISBLANK(Rådata!A285)=TRUE,\"\",Rådata!A285)","v":""},{"$f":"IF(ISBLANK(Rådata!A285)=TRUE,\"\",YEAR(A285))","v":""},{"$f":"IF(ISBLANK(Rådata!A285)=TRUE,\"\",VLOOKUP(MONTH(A285),Opsætning!$G$3:$H$14,2,FALSE))","v":""},{"$f":"IF(ISBLANK(Rådata!B285)=TRUE,\"\",(Rådata!C285*100)/Rådata!B285)","v":""},{"$f":"IF(ISBLANK(Rådata!D285)=TRUE,\"\",((Rådata!D285-Rådata!E285)*100)/Rådata!D285)","v":""},{"$f":"IF(ISBLANK(Rådata!G285)=TRUE,\"\",(Rådata!F285*100)/Rådata!G285)","v":""},{"$f":"IF(ISBLANK(Rådata!K285),\"\",(SUM(Rådata!M285:P285)*100)/SUM(Rådata!H285:K285))","v":""},{"$f":"IF(ISBLANK(Rådata!H285),\"\",((SUM(Rådata!J285:L285)-SUM(Rådata!O285:P285))*100)/SUM(Rådata!H285:L285))","v":""},{"$f":"IF(ISBLANK(Rådata!R285),\"\",(Rådata!Q285*100)/Rådata!R285)","v":""}]
[{"$f":"IF(ISBLANK(Rådata!A286)=TRUE,\"\",Rådata!A286)","v":""},{"$f":"IF(ISBLANK(Rådata!A286)=TRUE,\"\",YEAR(A286))","v":""},{"$f":"IF(ISBLANK(Rådata!A286)=TRUE,\"\",VLOOKUP(MONTH(A286),Opsætning!$G$3:$H$14,2,FALSE))","v":""},{"$f":"IF(ISBLANK(Rådata!B286)=TRUE,\"\",(Rådata!C286*100)/Rådata!B286)","v":""},{"$f":"IF(ISBLANK(Rådata!D286)=TRUE,\"\",((Rådata!D286-Rådata!E286)*100)/Rådata!D286)","v":""},{"$f":"IF(ISBLANK(Rådata!G286)=TRUE,\"\",(Rådata!F286*100)/Rådata!G286)","v":""},{"$f":"IF(ISBLANK(Rådata!K286),\"\",(SUM(Rådata!M286:P286)*100)/SUM(Rådata!H286:K286))","v":""},{"$f":"IF(ISBLANK(Rådata!H286),\"\",((SUM(Rådata!J286:L286)-SUM(Rådata!O286:P286))*100)/SUM(Rådata!H286:L286))","v":""},{"$f":"IF(ISBLANK(Rådata!R286),\"\",(Rådata!Q286*100)/Rådata!R286)","v":""}]
[{"$f":"IF(ISBLANK(Rådata!A287)=TRUE,\"\",Rådata!A287)","v":""},{"$f":"IF(ISBLANK(Rådata!A287)=TRUE,\"\",YEAR(A287))","v":""},{"$f":"IF(ISBLANK(Rådata!A287)=TRUE,\"\",VLOOKUP(MONTH(A287),Opsætning!$G$3:$H$14,2,FALSE))","v":""},{"$f":"IF(ISBLANK(Rådata!B287)=TRUE,\"\",(Rådata!C287*100)/Rådata!B287)","v":""},{"$f":"IF(ISBLANK(Rådata!D287)=TRUE,\"\",((Rådata!D287-Rådata!E287)*100)/Rådata!D287)","v":""},{"$f":"IF(ISBLANK(Rådata!G287)=TRUE,\"\",(Rådata!F287*100)/Rådata!G287)","v":""},{"$f":"IF(ISBLANK(Rådata!K287),\"\",(SUM(Rådata!M287:P287)*100)/SUM(Rådata!H287:K287))","v":""},{"$f":"IF(ISBLANK(Rådata!H287),\"\",((SUM(Rådata!J287:L287)-SUM(Rådata!O287:P287))*100)/SUM(Rådata!H287:L287))","v":""},{"$f":"IF(ISBLANK(Rådata!R287),\"\",(Rådata!Q287*100)/Rådata!R287)","v":""}]
[{"$f":"IF(ISBLANK(Rådata!A288)=TRUE,\"\",Rådata!A288)","v":""},{"$f":"IF(ISBLANK(Rådata!A288)=TRUE,\"\",YEAR(A288))","v":""},{"$f":"IF(ISBLANK(Rådata!A288)=TRUE,\"\",VLOOKUP(MONTH(A288),Opsætning!$G$3:$H$14,2,FALSE))","v":""},{"$f":"IF(ISBLANK(Rådata!B288)=TRUE,\"\",(Rådata!C288*100)/Rådata!B288)","v":""},{"$f":"IF(ISBLANK(Rådata!D288)=TRUE,\"\",((Rådata!D288-Rådata!E288)*100)/Rådata!D288)","v":""},{"$f":"IF(ISBLANK(Rådata!G288)=TRUE,\"\",(Rådata!F288*100)/Rådata!G288)","v":""},{"$f":"IF(ISBLANK(Rådata!K288),\"\",(SUM(Rådata!M288:P288)*100)/SUM(Rådata!H288:K288))","v":""},{"$f":"IF(ISBLANK(Rådata!H288),\"\",((SUM(Rådata!J288:L288)-SUM(Rådata!O288:P288))*100)/SUM(Rådata!H288:L288))","v":""},{"$f":"IF(ISBLANK(Rådata!R288),\"\",(Rådata!Q288*100)/Rådata!R288)","v":""}]
[{"$f":"IF(ISBLANK(Rådata!A289)=TRUE,\"\",Rådata!A289)","v":""},{"$f":"IF(ISBLANK(Rådata!A289)=TRUE,\"\",YEAR(A289))","v":""},{"$f":"IF(ISBLANK(Rådata!A289)=TRUE,\"\",VLOOKUP(MONTH(A289),Opsætning!$G$3:$H$14,2,FALSE))","v":""},{"$f":"IF(ISBLANK(Rådata!B289)=TRUE,\"\",(Rådata!C289*100)/Rådata!B289)","v":""},{"$f":"IF(ISBLANK(Rådata!D289)=TRUE,\"\",((Rådata!D289-Rådata!E289)*100)/Rådata!D289)","v":""},{"$f":"IF(ISBLANK(Rådata!G289)=TRUE,\"\",(Rådata!F289*100)/Rådata!G289)","v":""},{"$f":"IF(ISBLANK(Rådata!K289),\"\",(SUM(Rådata!M289:P289)*100)/SUM(Rådata!H289:K289))","v":""},{"$f":"IF(ISBLANK(Rådata!H289),\"\",((SUM(Rådata!J289:L289)-SUM(Rådata!O289:P289))*100)/SUM(Rådata!H289:L289))","v":""},{"$f":"IF(ISBLANK(Rådata!R289),\"\",(Rådata!Q289*100)/Rådata!R289)","v":""}]
[{"$f":"IF(ISBLANK(Rådata!A290)=TRUE,\"\",Rådata!A290)","v":""},{"$f":"IF(ISBLANK(Rådata!A290)=TRUE,\"\",YEAR(A290))","v":""},{"$f":"IF(ISBLANK(Rådata!A290)=TRUE,\"\",VLOOKUP(MONTH(A290),Opsætning!$G$3:$H$14,2,FALSE))","v":""},{"$f":"IF(ISBLANK(Rådata!B290)=TRUE,\"\",(Rådata!C290*100)/Rådata!B290)","v":""},{"$f":"IF(ISBLANK(Rådata!D290)=TRUE,\"\",((Rådata!D290-Rådata!E290)*100)/Rådata!D290)","v":""},{"$f":"IF(ISBLANK(Rådata!G290)=TRUE,\"\",(Rådata!F290*100)/Rådata!G290)","v":""},{"$f":"IF(ISBLANK(Rådata!K290),\"\",(SUM(Rådata!M290:P290)*100)/SUM(Rådata!H290:K290))","v":""},{"$f":"IF(ISBLANK(Rådata!H290),\"\",((SUM(Rådata!J290:L290)-SUM(Rådata!O290:P290))*100)/SUM(Rådata!H290:L290))","v":""},{"$f":"IF(ISBLANK(Rådata!R290),\"\",(Rådata!Q290*100)/Rådata!R290)","v":""}]
[{"$f":"IF(ISBLANK(Rådata!A291)=TRUE,\"\",Rådata!A291)","v":""},{"$f":"IF(ISBLANK(Rådata!A291)=TRUE,\"\",YEAR(A291))","v":""},{"$f":"IF(ISBLANK(Rådata!A291)=TRUE,\"\",VLOOKUP(MONTH(A291),Opsætning!$G$3:$H$14,2,FALSE))","v":""},{"$f":"IF(ISBLANK(Rådata!B291)=TRUE,\"\",(Rådata!C291*100)/Rådata!B291)","v":""},{"$f":"IF(ISBLANK(Rådata!D291)=TRUE,\"\",((Rådata!D291-Rådata!E291)*100)/Rådata!D291)","v":""},{"$f":"IF(ISBLANK(Rådata!G291)=TRUE,\"\",(Rådata!F291*100)/Rådata!G291)","v":""},{"$f":"IF(ISBLANK(Rådata!K291),\"\",(SUM(Rådata!M291:P291)*100)/SUM(Rådata!H291:K291))","v":""},{"$f":"IF(ISBLANK(Rådata!H291),\"\",((SUM(Rådata!J291:L291)-SUM(Rådata!O291:P291))*100)/SUM(Rådata!H291:L291))","v":""},{"$f":"IF(ISBLANK(Rådata!R291),\"\",(Rådata!Q291*100)/Rådata!R291)","v":""}]
[{"$f":"IF(ISBLANK(Rådata!A292)=TRUE,\"\",Rådata!A292)","v":""},{"$f":"IF(ISBLANK(Rådata!A292)=TRUE,\"\",YEAR(A292))","v":""},{"$f":"IF(ISBLANK(Rådata!A292)=TRUE,\"\",VLOOKUP(MONTH(A292),Opsætning!$G$3:$H$14,2,FALSE))","v":""},{"$f":"IF(ISBLANK(Rådata!B292)=TRUE,\"\",(Rådata!C292*100)/Rådata!B292)","v":""},{"$f":"IF(ISBLANK(Rådata!D292)=TRUE,\"\",((Rådata!D292-Rådata!E292)*100)/Rådata!D292)","v":""},{"$f":"IF(ISBLANK(Rådata!G292)=TRUE,\"\",(Rådata!F292*100)/Rådata!G292)","v":""},{"$f":"IF(ISBLANK(Rådata!K292),\"\",(SUM(Rådata!M292:P292)*100)/SUM(Rådata!H292:K292))","v":""},{"$f":"IF(ISBLANK(Rådata!H292),\"\",((SUM(Rådata!J292:L292)-SUM(Rådata!O292:P292))*100)/SUM(Rådata!H292:L292))","v":""},{"$f":"IF(ISBLANK(Rådata!R292),\"\",(Rådata!Q292*100)/Rådata!R292)","v":""}]
[{"$f":"IF(ISBLANK(Rådata!A293)=TRUE,\"\",Rådata!A293)","v":""},{"$f":"IF(ISBLANK(Rådata!A293)=TRUE,\"\",YEAR(A293))","v":""},{"$f":"IF(ISBLANK(Rådata!A293)=TRUE,\"\",VLOOKUP(MONTH(A293),Opsætning!$G$3:$H$14,2,FALSE))","v":""},{"$f":"IF(ISBLANK(Rådata!B293)=TRUE,\"\",(Rådata!C293*100)/Rådata!B293)","v":""},{"$f":"IF(ISBLANK(Rådata!D293)=TRUE,\"\",((Rådata!D293-Rådata!E293)*100)/Rådata!D293)","v":""},{"$f":"IF(ISBLANK(Rådata!G293)=TRUE,\"\",(Rådata!F293*100)/Rådata!G293)","v":""},{"$f":"IF(ISBLANK(Rådata!K293),\"\",(SUM(Rådata!M293:P293)*100)/SUM(Rådata!H293:K293))","v":""},{"$f":"IF(ISBLANK(Rådata!H293),\"\",((SUM(Rådata!J293:L293)-SUM(Rådata!O293:P293))*100)/SUM(Rådata!H293:L293))","v":""},{"$f":"IF(ISBLANK(Rådata!R293),\"\",(Rådata!Q293*100)/Rådata!R293)","v":""}]
[{"$f":"IF(ISBLANK(Rådata!A294)=TRUE,\"\",Rådata!A294)","v":""},{"$f":"IF(ISBLANK(Rådata!A294)=TRUE,\"\",YEAR(A294))","v":""},{"$f":"IF(ISBLANK(Rådata!A294)=TRUE,\"\",VLOOKUP(MONTH(A294),Opsætning!$G$3:$H$14,2,FALSE))","v":""},{"$f":"IF(ISBLANK(Rådata!B294)=TRUE,\"\",(Rådata!C294*100)/Rådata!B294)","v":""},{"$f":"IF(ISBLANK(Rådata!D294)=TRUE,\"\",((Rådata!D294-Rådata!E294)*100)/Rådata!D294)","v":""},{"$f":"IF(ISBLANK(Rådata!G294)=TRUE,\"\",(Rådata!F294*100)/Rådata!G294)","v":""},{"$f":"IF(ISBLANK(Rådata!K294),\"\",(SUM(Rådata!M294:P294)*100)/SUM(Rådata!H294:K294))","v":""},{"$f":"IF(ISBLANK(Rådata!H294),\"\",((SUM(Rådata!J294:L294)-SUM(Rådata!O294:P294))*100)/SUM(Rådata!H294:L294))","v":""},{"$f":"IF(ISBLANK(Rådata!R294),\"\",(Rådata!Q294*100)/Rådata!R294)","v":""}]
[{"$f":"IF(ISBLANK(Rådata!A295)=TRUE,\"\",Rådata!A295)","v":""},{"$f":"IF(ISBLANK(Rådata!A295)=TRUE,\"\",YEAR(A295))","v":""},{"$f":"IF(ISBLANK(Rådata!A295)=TRUE,\"\",VLOOKUP(MONTH(A295),Opsætning!$G$3:$H$14,2,FALSE))","v":""},{"$f":"IF(ISBLANK(Rådata!B295)=TRUE,\"\",(Rådata!C295*100)/Rådata!B295)","v":""},{"$f":"IF(ISBLANK(Rådata!D295)=TRUE,\"\",((Rådata!D295-Rådata!E295)*100)/Rådata!D295)","v":""},{"$f":"IF(ISBLANK(Rådata!G295)=TRUE,\"\",(Rådata!F295*100)/Rådata!G295)","v":""},{"$f":"IF(ISBLANK(Rådata!K295),\"\",(SUM(Rådata!M295:P295)*100)/SUM(Rådata!H295:K295))","v":""},{"$f":"IF(ISBLANK(Rådata!H295),\"\",((SUM(Rådata!J295:L295)-SUM(Rådata!O295:P295))*100)/SUM(Rådata!H295:L295))","v":""},{"$f":"IF(ISBLANK(Rådata!R295),\"\",(Rådata!Q295*100)/Rådata!R295)","v":""}]
[{"$f":"IF(ISBLANK(Rådata!A296)=TRUE,\"\",Rådata!A296)","v":""},{"$f":"IF(ISBLANK(Rådata!A296)=TRUE,\"\",YEAR(A296))","v":""},{"$f":"IF(ISBLANK(Rådata!A296)=TRUE,\"\",VLOOKUP(MONTH(A296),Opsætning!$G$3:$H$14,2,FALSE))","v":""},{"$f":"IF(ISBLANK(Rådata!B296)=TRUE,\"\",(Rådata!C296*100)/Rådata!B296)","v":""},{"$f":"IF(ISBLANK(Rådata!D296)=TRUE,\"\",((Rådata!D296-Rådata!E296)*100)/Rådata!D296)","v":""},{"$f":"IF(ISBLANK(Rådata!G296)=TRUE,\"\",(Rådata!F296*100)/Rådata!G296)","v":""},{"$f":"IF(ISBLANK(Rådata!K296),\"\",(SUM(Rådata!M296:P296)*100)/SUM(Rådata!H296:K296))","v":""},{"$f":"IF(ISBLANK(Rådata!H296),\"\",((SUM(Rådata!J296:L296)-SUM(Rådata!O296:P296))*100)/SUM(Rådata!H296:L296))","v":""},{"$f":"IF(ISBLANK(Rådata!R296),\"\",(Rådata!Q296*100)/Rådata!R296)","v":""}]
[{"$f":"IF(ISBLANK(Rådata!A297)=TRUE,\"\",Rådata!A297)","v":""},{"$f":"IF(ISBLANK(Rådata!A297)=TRUE,\"\",YEAR(A297))","v":""},{"$f":"IF(ISBLANK(Rådata!A297)=TRUE,\"\",VLOOKUP(MONTH(A297),Opsætning!$G$3:$H$14,2,FALSE))","v":""},{"$f":"IF(ISBLANK(Rådata!B297)=TRUE,\"\",(Rådata!C297*100)/Rådata!B297)","v":""},{"$f":"IF(ISBLANK(Rådata!D297)=TRUE,\"\",((Rådata!D297-Rådata!E297)*100)/Rådata!D297)","v":""},{"$f":"IF(ISBLANK(Rådata!G297)=TRUE,\"\",(Rådata!F297*100)/Rådata!G297)","v":""},{"$f":"IF(ISBLANK(Rådata!K297),\"\",(SUM(Rådata!M297:P297)*100)/SUM(Rådata!H297:K297))","v":""},{"$f":"IF(ISBLANK(Rådata!H297),\"\",((SUM(Rådata!J297:L297)-SUM(Rådata!O297:P297))*100)/SUM(Rådata!H297:L297))","v":""},{"$f":"IF(ISBLANK(Rådata!R297),\"\",(Rådata!Q297*100)/Rådata!R297)","v":""}]
[{"$f":"IF(ISBLANK(Rådata!A298)=TRUE,\"\",Rådata!A298)","v":""},{"$f":"IF(ISBLANK(Rådata!A298)=TRUE,\"\",YEAR(A298))","v":""},{"$f":"IF(ISBLANK(Rådata!A298)=TRUE,\"\",VLOOKUP(MONTH(A298),Opsætning!$G$3:$H$14,2,FALSE))","v":""},{"$f":"IF(ISBLANK(Rådata!B298)=TRUE,\"\",(Rådata!C298*100)/Rådata!B298)","v":""},{"$f":"IF(ISBLANK(Rådata!D298)=TRUE,\"\",((Rådata!D298-Rådata!E298)*100)/Rådata!D298)","v":""},{"$f":"IF(ISBLANK(Rådata!G298)=TRUE,\"\",(Rådata!F298*100)/Rådata!G298)","v":""},{"$f":"IF(ISBLANK(Rådata!K298),\"\",(SUM(Rådata!M298:P298)*100)/SUM(Rådata!H298:K298))","v":""},{"$f":"IF(ISBLANK(Rådata!H298),\"\",((SUM(Rådata!J298:L298)-SUM(Rådata!O298:P298))*100)/SUM(Rådata!H298:L298))","v":""},{"$f":"IF(ISBLANK(Rådata!R298),\"\",(Rådata!Q298*100)/Rådata!R298)","v":""}]
[{"$f":"IF(ISBLANK(Rådata!A299)=TRUE,\"\",Rådata!A299)","v":""},{"$f":"IF(ISBLANK(Rådata!A299)=TRUE,\"\",YEAR(A299))","v":""},{"$f":"IF(ISBLANK(Rådata!A299)=TRUE,\"\",VLOOKUP(MONTH(A299),Opsætning!$G$3:$H$14,2,FALSE))","v":""},{"$f":"IF(ISBLANK(Rådata!B299)=TRUE,\"\",(Rådata!C299*100)/Rådata!B299)","v":""},{"$f":"IF(ISBLANK(Rådata!D299)=TRUE,\"\",((Rådata!D299-Rådata!E299)*100)/Rådata!D299)","v":""},{"$f":"IF(ISBLANK(Rådata!G299)=TRUE,\"\",(Rådata!F299*100)/Rådata!G299)","v":""},{"$f":"IF(ISBLANK(Rådata!K299),\"\",(SUM(Rådata!M299:P299)*100)/SUM(Rådata!H299:K299))","v":""},{"$f":"IF(ISBLANK(Rådata!H299),\"\",((SUM(Rådata!J299:L299)-SUM(Rådata!O299:P299))*100)/SUM(Rådata!H299:L299))","v":""},{"$f":"IF(ISBLANK(Rådata!R299),\"\",(Rådata!Q299*100)/Rådata!R299)","v":""}]
[{"$f":"IF(ISBLANK(Rådata!A300)=TRUE,\"\",Rådata!A300)","v":""},{"$f":"IF(ISBLANK(Rådata!A300)=TRUE,\"\",YEAR(A300))","v":""},{"$f":"IF(ISBLANK(Rådata!A300)=TRUE,\"\",VLOOKUP(MONTH(A300),Opsætning!$G$3:$H$14,2,FALSE))","v":""},{"$f":"IF(ISBLANK(Rådata!B300)=TRUE,\"\",(Rådata!C300*100)/Rådata!B300)","v":""},{"$f":"IF(ISBLANK(Rådata!D300)=TRUE,\"\",((Rådata!D300-Rådata!E300)*100)/Rådata!D300)","v":""},{"$f":"IF(ISBLANK(Rådata!G300)=TRUE,\"\",(Rådata!F300*100)/Rådata!G300)","v":""},{"$f":"IF(ISBLANK(Rådata!K300),\"\",(SUM(Rådata!M300:P300)*100)/SUM(Rådata!H300:K300))","v":""},{"$f":"IF(ISBLANK(Rådata!H300),\"\",((SUM(Rådata!J300:L300)-SUM(Rådata!O300:P300))*100)/SUM(Rådata!H300:L300))","v":""},{"$f":"IF(ISBLANK(Rådata!R300),\"\",(Rådata!Q300*100)/Rådata!R300)","v":""}]
[{"$f":"IF(ISBLANK(Rådata!A301)=TRUE,\"\",Rådata!A301)","v":""},{"$f":"IF(ISBLANK(Rådata!A301)=TRUE,\"\",YEAR(A301))","v":""},{"$f":"IF(ISBLANK(Rådata!A301)=TRUE,\"\",VLOOKUP(MONTH(A301),Opsætning!$G$3:$H$14,2,FALSE))","v":""},{"$f":"IF(ISBLANK(Rådata!B301)=TRUE,\"\",(Rådata!C301*100)/Rådata!B301)","v":""},{"$f":"IF(ISBLANK(Rådata!D301)=TRUE,\"\",((Rådata!D301-Rådata!E301)*100)/Rådata!D301)","v":""},{"$f":"IF(ISBLANK(Rådata!G301)=TRUE,\"\",(Rådata!F301*100)/Rådata!G301)","v":""},{"$f":"IF(ISBLANK(Rådata!K301),\"\",(SUM(Rådata!M301:P301)*100)/SUM(Rådata!H301:K301))","v":""},{"$f":"IF(ISBLANK(Rådata!H301),\"\",((SUM(Rådata!J301:L301)-SUM(Rådata!O301:P301))*100)/SUM(Rådata!H301:L301))","v":""},{"$f":"IF(ISBLANK(Rådata!R301),\"\",(Rådata!Q301*100)/Rådata!R301)","v":""}]
[{"$f":"IF(ISBLANK(Rådata!A302)=TRUE,\"\",Rådata!A302)","v":""},{"$f":"IF(ISBLANK(Rådata!A302)=TRUE,\"\",YEAR(A302))","v":""},{"$f":"IF(ISBLANK(Rådata!A302)=TRUE,\"\",VLOOKUP(MONTH(A302),Opsætning!$G$3:$H$14,2,FALSE))","v":""},{"$f":"IF(ISBLANK(Rådata!B302)=TRUE,\"\",(Rådata!C302*100)/Rådata!B302)","v":""},{"$f":"IF(ISBLANK(Rådata!D302)=TRUE,\"\",((Rådata!D302-Rådata!E302)*100)/Rådata!D302)","v":""},{"$f":"IF(ISBLANK(Rådata!G302)=TRUE,\"\",(Rådata!F302*100)/Rådata!G302)","v":""},{"$f":"IF(ISBLANK(Rådata!K302),\"\",(SUM(Rådata!M302:P302)*100)/SUM(Rådata!H302:K302))","v":""},{"$f":"IF(ISBLANK(Rådata!H302),\"\",((SUM(Rådata!J302:L302)-SUM(Rådata!O302:P302))*100)/SUM(Rådata!H302:L302))","v":""},{"$f":"IF(ISBLANK(Rådata!R302),\"\",(Rådata!Q302*100)/Rådata!R302)","v":""}]
[{"$f":"IF(ISBLANK(Rådata!A303)=TRUE,\"\",Rådata!A303)","v":""},{"$f":"IF(ISBLANK(Rådata!A303)=TRUE,\"\",YEAR(A303))","v":""},{"$f":"IF(ISBLANK(Rådata!A303)=TRUE,\"\",VLOOKUP(MONTH(A303),Opsætning!$G$3:$H$14,2,FALSE))","v":""},{"$f":"IF(ISBLANK(Rådata!B303)=TRUE,\"\",(Rådata!C303*100)/Rådata!B303)","v":""},{"$f":"IF(ISBLANK(Rådata!D303)=TRUE,\"\",((Rådata!D303-Rådata!E303)*100)/Rådata!D303)","v":""},{"$f":"IF(ISBLANK(Rådata!G303)=TRUE,\"\",(Rådata!F303*100)/Rådata!G303)","v":""},{"$f":"IF(ISBLANK(Rådata!K303),\"\",(SUM(Rådata!M303:P303)*100)/SUM(Rådata!H303:K303))","v":""},{"$f":"IF(ISBLANK(Rådata!H303),\"\",((SUM(Rådata!J303:L303)-SUM(Rådata!O303:P303))*100)/SUM(Rådata!H303:L303))","v":""},{"$f":"IF(ISBLANK(Rådata!R303),\"\",(Rådata!Q303*100)/Rådata!R303)","v":""}]
[{"$f":"IF(ISBLANK(Rådata!A304)=TRUE,\"\",Rådata!A304)","v":""},{"$f":"IF(ISBLANK(Rådata!A304)=TRUE,\"\",YEAR(A304))","v":""},{"$f":"IF(ISBLANK(Rådata!A304)=TRUE,\"\",VLOOKUP(MONTH(A304),Opsætning!$G$3:$H$14,2,FALSE))","v":""},{"$f":"IF(ISBLANK(Rådata!B304)=TRUE,\"\",(Rådata!C304*100)/Rådata!B304)","v":""},{"$f":"IF(ISBLANK(Rådata!D304)=TRUE,\"\",((Rådata!D304-Rådata!E304)*100)/Rådata!D304)","v":""},{"$f":"IF(ISBLANK(Rådata!G304)=TRUE,\"\",(Rådata!F304*100)/Rådata!G304)","v":""},{"$f":"IF(ISBLANK(Rådata!K304),\"\",(SUM(Rådata!M304:P304)*100)/SUM(Rådata!H304:K304))","v":""},{"$f":"IF(ISBLANK(Rådata!H304),\"\",((SUM(Rådata!J304:L304)-SUM(Rådata!O304:P304))*100)/SUM(Rådata!H304:L304))","v":""},{"$f":"IF(ISBLANK(Rådata!R304),\"\",(Rådata!Q304*100)/Rådata!R304)","v":""}]
[{"$f":"IF(ISBLANK(Rådata!A305)=TRUE,\"\",Rådata!A305)","v":""},{"$f":"IF(ISBLANK(Rådata!A305)=TRUE,\"\",YEAR(A305))","v":""},{"$f":"IF(ISBLANK(Rådata!A305)=TRUE,\"\",VLOOKUP(MONTH(A305),Opsætning!$G$3:$H$14,2,FALSE))","v":""},{"$f":"IF(ISBLANK(Rådata!B305)=TRUE,\"\",(Rådata!C305*100)/Rådata!B305)","v":""},{"$f":"IF(ISBLANK(Rådata!D305)=TRUE,\"\",((Rådata!D305-Rådata!E305)*100)/Rådata!D305)","v":""},{"$f":"IF(ISBLANK(Rådata!G305)=TRUE,\"\",(Rådata!F305*100)/Rådata!G305)","v":""},{"$f":"IF(ISBLANK(Rådata!K305),\"\",(SUM(Rådata!M305:P305)*100)/SUM(Rådata!H305:K305))","v":""},{"$f":"IF(ISBLANK(Rådata!H305),\"\",((SUM(Rådata!J305:L305)-SUM(Rådata!O305:P305))*100)/SUM(Rådata!H305:L305))","v":""},{"$f":"IF(ISBLANK(Rådata!R305),\"\",(Rådata!Q305*100)/Rådata!R305)","v":""}]
[{"$f":"IF(ISBLANK(Rådata!A306)=TRUE,\"\",Rådata!A306)","v":""},{"$f":"IF(ISBLANK(Rådata!A306)=TRUE,\"\",YEAR(A306))","v":""},{"$f":"IF(ISBLANK(Rådata!A306)=TRUE,\"\",VLOOKUP(MONTH(A306),Opsætning!$G$3:$H$14,2,FALSE))","v":""},{"$f":"IF(ISBLANK(Rådata!B306)=TRUE,\"\",(Rådata!C306*100)/Rådata!B306)","v":""},{"$f":"IF(ISBLANK(Rådata!D306)=TRUE,\"\",((Rådata!D306-Rådata!E306)*100)/Rådata!D306)","v":""},{"$f":"IF(ISBLANK(Rådata!G306)=TRUE,\"\",(Rådata!F306*100)/Rådata!G306)","v":""},{"$f":"IF(ISBLANK(Rådata!K306),\"\",(SUM(Rådata!M306:P306)*100)/SUM(Rådata!H306:K306))","v":""},{"$f":"IF(ISBLANK(Rådata!H306),\"\",((SUM(Rådata!J306:L306)-SUM(Rådata!O306:P306))*100)/SUM(Rådata!H306:L306))","v":""},{"$f":"IF(ISBLANK(Rådata!R306),\"\",(Rådata!Q306*100)/Rådata!R306)","v":""}]
[{"$f":"IF(ISBLANK(Rådata!A307)=TRUE,\"\",Rådata!A307)","v":""},{"$f":"IF(ISBLANK(Rådata!A307)=TRUE,\"\",YEAR(A307))","v":""},{"$f":"IF(ISBLANK(Rådata!A307)=TRUE,\"\",VLOOKUP(MONTH(A307),Opsætning!$G$3:$H$14,2,FALSE))","v":""},{"$f":"IF(ISBLANK(Rådata!B307)=TRUE,\"\",(Rådata!C307*100)/Rådata!B307)","v":""},{"$f":"IF(ISBLANK(Rådata!D307)=TRUE,\"\",((Rådata!D307-Rådata!E307)*100)/Rådata!D307)","v":""},{"$f":"IF(ISBLANK(Rådata!G307)=TRUE,\"\",(Rådata!F307*100)/Rådata!G307)","v":""},{"$f":"IF(ISBLANK(Rådata!K307),\"\",(SUM(Rådata!M307:P307)*100)/SUM(Rådata!H307:K307))","v":""},{"$f":"IF(ISBLANK(Rådata!H307),\"\",((SUM(Rådata!J307:L307)-SUM(Rådata!O307:P307))*100)/SUM(Rådata!H307:L307))","v":""},{"$f":"IF(ISBLANK(Rådata!R307),\"\",(Rådata!Q307*100)/Rådata!R307)","v":""}]
[{"$f":"IF(ISBLANK(Rådata!A308)=TRUE,\"\",Rådata!A308)","v":""},{"$f":"IF(ISBLANK(Rådata!A308)=TRUE,\"\",YEAR(A308))","v":""},{"$f":"IF(ISBLANK(Rådata!A308)=TRUE,\"\",VLOOKUP(MONTH(A308),Opsætning!$G$3:$H$14,2,FALSE))","v":""},{"$f":"IF(ISBLANK(Rådata!B308)=TRUE,\"\",(Rådata!C308*100)/Rådata!B308)","v":""},{"$f":"IF(ISBLANK(Rådata!D308)=TRUE,\"\",((Rådata!D308-Rådata!E308)*100)/Rådata!D308)","v":""},{"$f":"IF(ISBLANK(Rådata!G308)=TRUE,\"\",(Rådata!F308*100)/Rådata!G308)","v":""},{"$f":"IF(ISBLANK(Rådata!K308),\"\",(SUM(Rådata!M308:P308)*100)/SUM(Rådata!H308:K308))","v":""},{"$f":"IF(ISBLANK(Rådata!H308),\"\",((SUM(Rådata!J308:L308)-SUM(Rådata!O308:P308))*100)/SUM(Rådata!H308:L308))","v":""},{"$f":"IF(ISBLANK(Rådata!R308),\"\",(Rådata!Q308*100)/Rådata!R308)","v":""}]
[{"$f":"IF(ISBLANK(Rådata!A309)=TRUE,\"\",Rådata!A309)","v":""},{"$f":"IF(ISBLANK(Rådata!A309)=TRUE,\"\",YEAR(A309))","v":""},{"$f":"IF(ISBLANK(Rådata!A309)=TRUE,\"\",VLOOKUP(MONTH(A309),Opsætning!$G$3:$H$14,2,FALSE))","v":""},{"$f":"IF(ISBLANK(Rådata!B309)=TRUE,\"\",(Rådata!C309*100)/Rådata!B309)","v":""},{"$f":"IF(ISBLANK(Rådata!D309)=TRUE,\"\",((Rådata!D309-Rådata!E309)*100)/Rådata!D309)","v":""},{"$f":"IF(ISBLANK(Rådata!G309)=TRUE,\"\",(Rådata!F309*100)/Rådata!G309)","v":""},{"$f":"IF(ISBLANK(Rådata!K309),\"\",(SUM(Rådata!M309:P309)*100)/SUM(Rådata!H309:K309))","v":""},{"$f":"IF(ISBLANK(Rådata!H309),\"\",((SUM(Rådata!J309:L309)-SUM(Rådata!O309:P309))*100)/SUM(Rådata!H309:L309))","v":""},{"$f":"IF(ISBLANK(Rådata!R309),\"\",(Rådata!Q309*100)/Rådata!R309)","v":""}]
[{"$f":"IF(ISBLANK(Rådata!A310)=TRUE,\"\",Rådata!A310)","v":""},{"$f":"IF(ISBLANK(Rådata!A310)=TRUE,\"\",YEAR(A310))","v":""},{"$f":"IF(ISBLANK(Rådata!A310)=TRUE,\"\",VLOOKUP(MONTH(A310),Opsætning!$G$3:$H$14,2,FALSE))","v":""},{"$f":"IF(ISBLANK(Rådata!B310)=TRUE,\"\",(Rådata!C310*100)/Rådata!B310)","v":""},{"$f":"IF(ISBLANK(Rådata!D310)=TRUE,\"\",((Rådata!D310-Rådata!E310)*100)/Rådata!D310)","v":""},{"$f":"IF(ISBLANK(Rådata!G310)=TRUE,\"\",(Rådata!F310*100)/Rådata!G310)","v":""},{"$f":"IF(ISBLANK(Rådata!K310),\"\",(SUM(Rådata!M310:P310)*100)/SUM(Rådata!H310:K310))","v":""},{"$f":"IF(ISBLANK(Rådata!H310),\"\",((SUM(Rådata!J310:L310)-SUM(Rådata!O310:P310))*100)/SUM(Rådata!H310:L310))","v":""},{"$f":"IF(ISBLANK(Rådata!R310),\"\",(Rådata!Q310*100)/Rådata!R310)","v":""}]
[{"$f":"IF(ISBLANK(Rådata!A311)=TRUE,\"\",Rådata!A311)","v":""},{"$f":"IF(ISBLANK(Rådata!A311)=TRUE,\"\",YEAR(A311))","v":""},{"$f":"IF(ISBLANK(Rådata!A311)=TRUE,\"\",VLOOKUP(MONTH(A311),Opsætning!$G$3:$H$14,2,FALSE))","v":""},{"$f":"IF(ISBLANK(Rådata!B311)=TRUE,\"\",(Rådata!C311*100)/Rådata!B311)","v":""},{"$f":"IF(ISBLANK(Rådata!D311)=TRUE,\"\",((Rådata!D311-Rådata!E311)*100)/Rådata!D311)","v":""},{"$f":"IF(ISBLANK(Rådata!G311)=TRUE,\"\",(Rådata!F311*100)/Rådata!G311)","v":""},{"$f":"IF(ISBLANK(Rådata!K311),\"\",(SUM(Rådata!M311:P311)*100)/SUM(Rådata!H311:K311))","v":""},{"$f":"IF(ISBLANK(Rådata!H311),\"\",((SUM(Rådata!J311:L311)-SUM(Rådata!O311:P311))*100)/SUM(Rådata!H311:L311))","v":""},{"$f":"IF(ISBLANK(Rådata!R311),\"\",(Rådata!Q311*100)/Rådata!R311)","v":""}]
[{"$f":"IF(ISBLANK(Rådata!A312)=TRUE,\"\",Rådata!A312)","v":""},{"$f":"IF(ISBLANK(Rådata!A312)=TRUE,\"\",YEAR(A312))","v":""},{"$f":"IF(ISBLANK(Rådata!A312)=TRUE,\"\",VLOOKUP(MONTH(A312),Opsætning!$G$3:$H$14,2,FALSE))","v":""},{"$f":"IF(ISBLANK(Rådata!B312)=TRUE,\"\",(Rådata!C312*100)/Rådata!B312)","v":""},{"$f":"IF(ISBLANK(Rådata!D312)=TRUE,\"\",((Rådata!D312-Rådata!E312)*100)/Rådata!D312)","v":""},{"$f":"IF(ISBLANK(Rådata!G312)=TRUE,\"\",(Rådata!F312*100)/Rådata!G312)","v":""},{"$f":"IF(ISBLANK(Rådata!K312),\"\",(SUM(Rådata!M312:P312)*100)/SUM(Rådata!H312:K312))","v":""},{"$f":"IF(ISBLANK(Rådata!H312),\"\",((SUM(Rådata!J312:L312)-SUM(Rådata!O312:P312))*100)/SUM(Rådata!H312:L312))","v":""},{"$f":"IF(ISBLANK(Rådata!R312),\"\",(Rådata!Q312*100)/Rådata!R312)","v":""}]
[{"$f":"IF(ISBLANK(Rådata!A313)=TRUE,\"\",Rådata!A313)","v":""},{"$f":"IF(ISBLANK(Rådata!A313)=TRUE,\"\",YEAR(A313))","v":""},{"$f":"IF(ISBLANK(Rådata!A313)=TRUE,\"\",VLOOKUP(MONTH(A313),Opsætning!$G$3:$H$14,2,FALSE))","v":""},{"$f":"IF(ISBLANK(Rådata!B313)=TRUE,\"\",(Rådata!C313*100)/Rådata!B313)","v":""},{"$f":"IF(ISBLANK(Rådata!D313)=TRUE,\"\",((Rådata!D313-Rådata!E313)*100)/Rådata!D313)","v":""},{"$f":"IF(ISBLANK(Rådata!G313)=TRUE,\"\",(Rådata!F313*100)/Rådata!G313)","v":""},{"$f":"IF(ISBLANK(Rådata!K313),\"\",(SUM(Rådata!M313:P313)*100)/SUM(Rådata!H313:K313))","v":""},{"$f":"IF(ISBLANK(Rådata!H313),\"\",((SUM(Rådata!J313:L313)-SUM(Rådata!O313:P313))*100)/SUM(Rådata!H313:L313))","v":""},{"$f":"IF(ISBLANK(Rådata!R313),\"\",(Rådata!Q313*100)/Rådata!R313)","v":""}]
[{"$f":"IF(ISBLANK(Rådata!A314)=TRUE,\"\",Rådata!A314)","v":""},{"$f":"IF(ISBLANK(Rådata!A314)=TRUE,\"\",YEAR(A314))","v":""},{"$f":"IF(ISBLANK(Rådata!A314)=TRUE,\"\",VLOOKUP(MONTH(A314),Opsætning!$G$3:$H$14,2,FALSE))","v":""},{"$f":"IF(ISBLANK(Rådata!B314)=TRUE,\"\",(Rådata!C314*100)/Rådata!B314)","v":""},{"$f":"IF(ISBLANK(Rådata!D314)=TRUE,\"\",((Rådata!D314-Rådata!E314)*100)/Rådata!D314)","v":""},{"$f":"IF(ISBLANK(Rådata!G314)=TRUE,\"\",(Rådata!F314*100)/Rådata!G314)","v":""},{"$f":"IF(ISBLANK(Rådata!K314),\"\",(SUM(Rådata!M314:P314)*100)/SUM(Rådata!H314:K314))","v":""},{"$f":"IF(ISBLANK(Rådata!H314),\"\",((SUM(Rådata!J314:L314)-SUM(Rådata!O314:P314))*100)/SUM(Rådata!H314:L314))","v":""},{"$f":"IF(ISBLANK(Rådata!R314),\"\",(Rådata!Q314*100)/Rådata!R314)","v":""}]
[{"$f":"IF(ISBLANK(Rådata!A315)=TRUE,\"\",Rådata!A315)","v":""},{"$f":"IF(ISBLANK(Rådata!A315)=TRUE,\"\",YEAR(A315))","v":""},{"$f":"IF(ISBLANK(Rådata!A315)=TRUE,\"\",VLOOKUP(MONTH(A315),Opsætning!$G$3:$H$14,2,FALSE))","v":""},{"$f":"IF(ISBLANK(Rådata!B315)=TRUE,\"\",(Rådata!C315*100)/Rådata!B315)","v":""},{"$f":"IF(ISBLANK(Rådata!D315)=TRUE,\"\",((Rådata!D315-Rådata!E315)*100)/Rådata!D315)","v":""},{"$f":"IF(ISBLANK(Rådata!G315)=TRUE,\"\",(Rådata!F315*100)/Rådata!G315)","v":""},{"$f":"IF(ISBLANK(Rådata!K315),\"\",(SUM(Rådata!M315:P315)*100)/SUM(Rådata!H315:K315))","v":""},{"$f":"IF(ISBLANK(Rådata!H315),\"\",((SUM(Rådata!J315:L315)-SUM(Rådata!O315:P315))*100)/SUM(Rådata!H315:L315))","v":""},{"$f":"IF(ISBLANK(Rådata!R315),\"\",(Rådata!Q315*100)/Rådata!R315)","v":""}]
[{"$f":"IF(ISBLANK(Rådata!A316)=TRUE,\"\",Rådata!A316)","v":""},{"$f":"IF(ISBLANK(Rådata!A316)=TRUE,\"\",YEAR(A316))","v":""},{"$f":"IF(ISBLANK(Rådata!A316)=TRUE,\"\",VLOOKUP(MONTH(A316),Opsætning!$G$3:$H$14,2,FALSE))","v":""},{"$f":"IF(ISBLANK(Rådata!B316)=TRUE,\"\",(Rådata!C316*100)/Rådata!B316)","v":""},{"$f":"IF(ISBLANK(Rådata!D316)=TRUE,\"\",((Rådata!D316-Rådata!E316)*100)/Rådata!D316)","v":""},{"$f":"IF(ISBLANK(Rådata!G316)=TRUE,\"\",(Rådata!F316*100)/Rådata!G316)","v":""},{"$f":"IF(ISBLANK(Rådata!K316),\"\",(SUM(Rådata!M316:P316)*100)/SUM(Rådata!H316:K316))","v":""},{"$f":"IF(ISBLANK(Rådata!H316),\"\",((SUM(Rådata!J316:L316)-SUM(Rådata!O316:P316))*100)/SUM(Rådata!H316:L316))","v":""},{"$f":"IF(ISBLANK(Rådata!R316),\"\",(Rådata!Q316*100)/Rådata!R316)","v":""}]
[{"$f":"IF(ISBLANK(Rådata!A317)=TRUE,\"\",Rådata!A317)","v":""},{"$f":"IF(ISBLANK(Rådata!A317)=TRUE,\"\",YEAR(A317))","v":""},{"$f":"IF(ISBLANK(Rådata!A317)=TRUE,\"\",VLOOKUP(MONTH(A317),Opsætning!$G$3:$H$14,2,FALSE))","v":""},{"$f":"IF(ISBLANK(Rådata!B317)=TRUE,\"\",(Rådata!C317*100)/Rådata!B317)","v":""},{"$f":"IF(ISBLANK(Rådata!D317)=TRUE,\"\",((Rådata!D317-Rådata!E317)*100)/Rådata!D317)","v":""},{"$f":"IF(ISBLANK(Rådata!G317)=TRUE,\"\",(Rådata!F317*100)/Rådata!G317)","v":""},{"$f":"IF(ISBLANK(Rådata!K317),\"\",(SUM(Rådata!M317:P317)*100)/SUM(Rådata!H317:K317))","v":""},{"$f":"IF(ISBLANK(Rådata!H317),\"\",((SUM(Rådata!J317:L317)-SUM(Rådata!O317:P317))*100)/SUM(Rådata!H317:L317))","v":""},{"$f":"IF(ISBLANK(Rådata!R317),\"\",(Rådata!Q317*100)/Rådata!R317)","v":""}]
[{"$f":"IF(ISBLANK(Rådata!A318)=TRUE,\"\",Rådata!A318)","v":""},{"$f":"IF(ISBLANK(Rådata!A318)=TRUE,\"\",YEAR(A318))","v":""},{"$f":"IF(ISBLANK(Rådata!A318)=TRUE,\"\",VLOOKUP(MONTH(A318),Opsætning!$G$3:$H$14,2,FALSE))","v":""},{"$f":"IF(ISBLANK(Rådata!B318)=TRUE,\"\",(Rådata!C318*100)/Rådata!B318)","v":""},{"$f":"IF(ISBLANK(Rådata!D318)=TRUE,\"\",((Rådata!D318-Rådata!E318)*100)/Rådata!D318)","v":""},{"$f":"IF(ISBLANK(Rådata!G318)=TRUE,\"\",(Rådata!F318*100)/Rådata!G318)","v":""},{"$f":"IF(ISBLANK(Rådata!K318),\"\",(SUM(Rådata!M318:P318)*100)/SUM(Rådata!H318:K318))","v":""},{"$f":"IF(ISBLANK(Rådata!H318),\"\",((SUM(Rådata!J318:L318)-SUM(Rådata!O318:P318))*100)/SUM(Rådata!H318:L318))","v":""},{"$f":"IF(ISBLANK(Rådata!R318),\"\",(Rådata!Q318*100)/Rådata!R318)","v":""}]
[{"$f":"IF(ISBLANK(Rådata!A319)=TRUE,\"\",Rådata!A319)","v":""},{"$f":"IF(ISBLANK(Rådata!A319)=TRUE,\"\",YEAR(A319))","v":""},{"$f":"IF(ISBLANK(Rådata!A319)=TRUE,\"\",VLOOKUP(MONTH(A319),Opsætning!$G$3:$H$14,2,FALSE))","v":""},{"$f":"IF(ISBLANK(Rådata!B319)=TRUE,\"\",(Rådata!C319*100)/Rådata!B319)","v":""},{"$f":"IF(ISBLANK(Rådata!D319)=TRUE,\"\",((Rådata!D319-Rådata!E319)*100)/Rådata!D319)","v":""},{"$f":"IF(ISBLANK(Rådata!G319)=TRUE,\"\",(Rådata!F319*100)/Rådata!G319)","v":""},{"$f":"IF(ISBLANK(Rådata!K319),\"\",(SUM(Rådata!M319:P319)*100)/SUM(Rådata!H319:K319))","v":""},{"$f":"IF(ISBLANK(Rådata!H319),\"\",((SUM(Rådata!J319:L319)-SUM(Rådata!O319:P319))*100)/SUM(Rådata!H319:L319))","v":""},{"$f":"IF(ISBLANK(Rådata!R319),\"\",(Rådata!Q319*100)/Rådata!R319)","v":""}]
[{"$f":"IF(ISBLANK(Rådata!A320)=TRUE,\"\",Rådata!A320)","v":""},{"$f":"IF(ISBLANK(Rådata!A320)=TRUE,\"\",YEAR(A320))","v":""},{"$f":"IF(ISBLANK(Rådata!A320)=TRUE,\"\",VLOOKUP(MONTH(A320),Opsætning!$G$3:$H$14,2,FALSE))","v":""},{"$f":"IF(ISBLANK(Rådata!B320)=TRUE,\"\",(Rådata!C320*100)/Rådata!B320)","v":""},{"$f":"IF(ISBLANK(Rådata!D320)=TRUE,\"\",((Rådata!D320-Rådata!E320)*100)/Rådata!D320)","v":""},{"$f":"IF(ISBLANK(Rådata!G320)=TRUE,\"\",(Rådata!F320*100)/Rådata!G320)","v":""},{"$f":"IF(ISBLANK(Rådata!K320),\"\",(SUM(Rådata!M320:P320)*100)/SUM(Rådata!H320:K320))","v":""},{"$f":"IF(ISBLANK(Rådata!H320),\"\",((SUM(Rådata!J320:L320)-SUM(Rådata!O320:P320))*100)/SUM(Rådata!H320:L320))","v":""},{"$f":"IF(ISBLANK(Rådata!R320),\"\",(Rådata!Q320*100)/Rådata!R320)","v":""}]
[{"$f":"IF(ISBLANK(Rådata!A321)=TRUE,\"\",Rådata!A321)","v":""},{"$f":"IF(ISBLANK(Rådata!A321)=TRUE,\"\",YEAR(A321))","v":""},{"$f":"IF(ISBLANK(Rådata!A321)=TRUE,\"\",VLOOKUP(MONTH(A321),Opsætning!$G$3:$H$14,2,FALSE))","v":""},{"$f":"IF(ISBLANK(Rådata!B321)=TRUE,\"\",(Rådata!C321*100)/Rådata!B321)","v":""},{"$f":"IF(ISBLANK(Rådata!D321)=TRUE,\"\",((Rådata!D321-Rådata!E321)*100)/Rådata!D321)","v":""},{"$f":"IF(ISBLANK(Rådata!G321)=TRUE,\"\",(Rådata!F321*100)/Rådata!G321)","v":""},{"$f":"IF(ISBLANK(Rådata!K321),\"\",(SUM(Rådata!M321:P321)*100)/SUM(Rådata!H321:K321))","v":""},{"$f":"IF(ISBLANK(Rådata!H321),\"\",((SUM(Rådata!J321:L321)-SUM(Rådata!O321:P321))*100)/SUM(Rådata!H321:L321))","v":""},{"$f":"IF(ISBLANK(Rådata!R321),\"\",(Rådata!Q321*100)/Rådata!R321)","v":""}]
[{"$f":"IF(ISBLANK(Rådata!A322)=TRUE,\"\",Rådata!A322)","v":""},{"$f":"IF(ISBLANK(Rådata!A322)=TRUE,\"\",YEAR(A322))","v":""},{"$f":"IF(ISBLANK(Rådata!A322)=TRUE,\"\",VLOOKUP(MONTH(A322),Opsætning!$G$3:$H$14,2,FALSE))","v":""},{"$f":"IF(ISBLANK(Rådata!B322)=TRUE,\"\",(Rådata!C322*100)/Rådata!B322)","v":""},{"$f":"IF(ISBLANK(Rådata!D322)=TRUE,\"\",((Rådata!D322-Rådata!E322)*100)/Rådata!D322)","v":""},{"$f":"IF(ISBLANK(Rådata!G322)=TRUE,\"\",(Rådata!F322*100)/Rådata!G322)","v":""},{"$f":"IF(ISBLANK(Rådata!K322),\"\",(SUM(Rådata!M322:P322)*100)/SUM(Rådata!H322:K322))","v":""},{"$f":"IF(ISBLANK(Rådata!H322),\"\",((SUM(Rådata!J322:L322)-SUM(Rådata!O322:P322))*100)/SUM(Rådata!H322:L322))","v":""},{"$f":"IF(ISBLANK(Rådata!R322),\"\",(Rådata!Q322*100)/Rådata!R322)","v":""}]
[{"$f":"IF(ISBLANK(Rådata!A323)=TRUE,\"\",Rådata!A323)","v":""},{"$f":"IF(ISBLANK(Rådata!A323)=TRUE,\"\",YEAR(A323))","v":""},{"$f":"IF(ISBLANK(Rådata!A323)=TRUE,\"\",VLOOKUP(MONTH(A323),Opsætning!$G$3:$H$14,2,FALSE))","v":""},{"$f":"IF(ISBLANK(Rådata!B323)=TRUE,\"\",(Rådata!C323*100)/Rådata!B323)","v":""},{"$f":"IF(ISBLANK(Rådata!D323)=TRUE,\"\",((Rådata!D323-Rådata!E323)*100)/Rådata!D323)","v":""},{"$f":"IF(ISBLANK(Rådata!G323)=TRUE,\"\",(Rådata!F323*100)/Rådata!G323)","v":""},{"$f":"IF(ISBLANK(Rådata!K323),\"\",(SUM(Rådata!M323:P323)*100)/SUM(Rådata!H323:K323))","v":""},{"$f":"IF(ISBLANK(Rådata!H323),\"\",((SUM(Rådata!J323:L323)-SUM(Rådata!O323:P323))*100)/SUM(Rådata!H323:L323))","v":""},{"$f":"IF(ISBLANK(Rådata!R323),\"\",(Rådata!Q323*100)/Rådata!R323)","v":""}]
[{"$f":"IF(ISBLANK(Rådata!A324)=TRUE,\"\",Rådata!A324)","v":""},{"$f":"IF(ISBLANK(Rådata!A324)=TRUE,\"\",YEAR(A324))","v":""},{"$f":"IF(ISBLANK(Rådata!A324)=TRUE,\"\",VLOOKUP(MONTH(A324),Opsætning!$G$3:$H$14,2,FALSE))","v":""},{"$f":"IF(ISBLANK(Rådata!B324)=TRUE,\"\",(Rådata!C324*100)/Rådata!B324)","v":""},{"$f":"IF(ISBLANK(Rådata!D324)=TRUE,\"\",((Rådata!D324-Rådata!E324)*100)/Rådata!D324)","v":""},{"$f":"IF(ISBLANK(Rådata!G324)=TRUE,\"\",(Rådata!F324*100)/Rådata!G324)","v":""},{"$f":"IF(ISBLANK(Rådata!K324),\"\",(SUM(Rådata!M324:P324)*100)/SUM(Rådata!H324:K324))","v":""},{"$f":"IF(ISBLANK(Rådata!H324),\"\",((SUM(Rådata!J324:L324)-SUM(Rådata!O324:P324))*100)/SUM(Rådata!H324:L324))","v":""},{"$f":"IF(ISBLANK(Rådata!R324),\"\",(Rådata!Q324*100)/Rådata!R324)","v":""}]
[{"$f":"IF(ISBLANK(Rådata!A325)=TRUE,\"\",Rådata!A325)","v":""},{"$f":"IF(ISBLANK(Rådata!A325)=TRUE,\"\",YEAR(A325))","v":""},{"$f":"IF(ISBLANK(Rådata!A325)=TRUE,\"\",VLOOKUP(MONTH(A325),Opsætning!$G$3:$H$14,2,FALSE))","v":""},{"$f":"IF(ISBLANK(Rådata!B325)=TRUE,\"\",(Rådata!C325*100)/Rådata!B325)","v":""},{"$f":"IF(ISBLANK(Rådata!D325)=TRUE,\"\",((Rådata!D325-Rådata!E325)*100)/Rådata!D325)","v":""},{"$f":"IF(ISBLANK(Rådata!G325)=TRUE,\"\",(Rådata!F325*100)/Rådata!G325)","v":""},{"$f":"IF(ISBLANK(Rådata!K325),\"\",(SUM(Rådata!M325:P325)*100)/SUM(Rådata!H325:K325))","v":""},{"$f":"IF(ISBLANK(Rådata!H325),\"\",((SUM(Rådata!J325:L325)-SUM(Rådata!O325:P325))*100)/SUM(Rådata!H325:L325))","v":""},{"$f":"IF(ISBLANK(Rådata!R325),\"\",(Rådata!Q325*100)/Rådata!R325)","v":""}]
[{"$f":"IF(ISBLANK(Rådata!A326)=TRUE,\"\",Rådata!A326)","v":""},{"$f":"IF(ISBLANK(Rådata!A326)=TRUE,\"\",YEAR(A326))","v":""},{"$f":"IF(ISBLANK(Rådata!A326)=TRUE,\"\",VLOOKUP(MONTH(A326),Opsætning!$G$3:$H$14,2,FALSE))","v":""},{"$f":"IF(ISBLANK(Rådata!B326)=TRUE,\"\",(Rådata!C326*100)/Rådata!B326)","v":""},{"$f":"IF(ISBLANK(Rådata!D326)=TRUE,\"\",((Rådata!D326-Rådata!E326)*100)/Rådata!D326)","v":""},{"$f":"IF(ISBLANK(Rådata!G326)=TRUE,\"\",(Rådata!F326*100)/Rådata!G326)","v":""},{"$f":"IF(ISBLANK(Rådata!K326),\"\",(SUM(Rådata!M326:P326)*100)/SUM(Rådata!H326:K326))","v":""},{"$f":"IF(ISBLANK(Rådata!H326),\"\",((SUM(Rådata!J326:L326)-SUM(Rådata!O326:P326))*100)/SUM(Rådata!H326:L326))","v":""},{"$f":"IF(ISBLANK(Rådata!R326),\"\",(Rådata!Q326*100)/Rådata!R326)","v":""}]
[{"$f":"IF(ISBLANK(Rådata!A327)=TRUE,\"\",Rådata!A327)","v":""},{"$f":"IF(ISBLANK(Rådata!A327)=TRUE,\"\",YEAR(A327))","v":""},{"$f":"IF(ISBLANK(Rådata!A327)=TRUE,\"\",VLOOKUP(MONTH(A327),Opsætning!$G$3:$H$14,2,FALSE))","v":""},{"$f":"IF(ISBLANK(Rådata!B327)=TRUE,\"\",(Rådata!C327*100)/Rådata!B327)","v":""},{"$f":"IF(ISBLANK(Rådata!D327)=TRUE,\"\",((Rådata!D327-Rådata!E327)*100)/Rådata!D327)","v":""},{"$f":"IF(ISBLANK(Rådata!G327)=TRUE,\"\",(Rådata!F327*100)/Rådata!G327)","v":""},{"$f":"IF(ISBLANK(Rådata!K327),\"\",(SUM(Rådata!M327:P327)*100)/SUM(Rådata!H327:K327))","v":""},{"$f":"IF(ISBLANK(Rådata!H327),\"\",((SUM(Rådata!J327:L327)-SUM(Rådata!O327:P327))*100)/SUM(Rådata!H327:L327))","v":""},{"$f":"IF(ISBLANK(Rådata!R327),\"\",(Rådata!Q327*100)/Rådata!R327)","v":""}]
[{"$f":"IF(ISBLANK(Rådata!A328)=TRUE,\"\",Rådata!A328)","v":""},{"$f":"IF(ISBLANK(Rådata!A328)=TRUE,\"\",YEAR(A328))","v":""},{"$f":"IF(ISBLANK(Rådata!A328)=TRUE,\"\",VLOOKUP(MONTH(A328),Opsætning!$G$3:$H$14,2,FALSE))","v":""},{"$f":"IF(ISBLANK(Rådata!B328)=TRUE,\"\",(Rådata!C328*100)/Rådata!B328)","v":""},{"$f":"IF(ISBLANK(Rådata!D328)=TRUE,\"\",((Rådata!D328-Rådata!E328)*100)/Rådata!D328)","v":""},{"$f":"IF(ISBLANK(Rådata!G328)=TRUE,\"\",(Rådata!F328*100)/Rådata!G328)","v":""},{"$f":"IF(ISBLANK(Rådata!K328),\"\",(SUM(Rådata!M328:P328)*100)/SUM(Rådata!H328:K328))","v":""},{"$f":"IF(ISBLANK(Rådata!H328),\"\",((SUM(Rådata!J328:L328)-SUM(Rådata!O328:P328))*100)/SUM(Rådata!H328:L328))","v":""},{"$f":"IF(ISBLANK(Rådata!R328),\"\",(Rådata!Q328*100)/Rådata!R328)","v":""}]
[{"$f":"IF(ISBLANK(Rådata!A329)=TRUE,\"\",Rådata!A329)","v":""},{"$f":"IF(ISBLANK(Rådata!A329)=TRUE,\"\",YEAR(A329))","v":""},{"$f":"IF(ISBLANK(Rådata!A329)=TRUE,\"\",VLOOKUP(MONTH(A329),Opsætning!$G$3:$H$14,2,FALSE))","v":""},{"$f":"IF(ISBLANK(Rådata!B329)=TRUE,\"\",(Rådata!C329*100)/Rådata!B329)","v":""},{"$f":"IF(ISBLANK(Rådata!D329)=TRUE,\"\",((Rådata!D329-Rådata!E329)*100)/Rådata!D329)","v":""},{"$f":"IF(ISBLANK(Rådata!G329)=TRUE,\"\",(Rådata!F329*100)/Rådata!G329)","v":""},{"$f":"IF(ISBLANK(Rådata!K329),\"\",(SUM(Rådata!M329:P329)*100)/SUM(Rådata!H329:K329))","v":""},{"$f":"IF(ISBLANK(Rådata!H329),\"\",((SUM(Rådata!J329:L329)-SUM(Rådata!O329:P329))*100)/SUM(Rådata!H329:L329))","v":""},{"$f":"IF(ISBLANK(Rådata!R329),\"\",(Rådata!Q329*100)/Rådata!R329)","v":""}]
[{"$f":"IF(ISBLANK(Rådata!A330)=TRUE,\"\",Rådata!A330)","v":""},{"$f":"IF(ISBLANK(Rådata!A330)=TRUE,\"\",YEAR(A330))","v":""},{"$f":"IF(ISBLANK(Rådata!A330)=TRUE,\"\",VLOOKUP(MONTH(A330),Opsætning!$G$3:$H$14,2,FALSE))","v":""},{"$f":"IF(ISBLANK(Rådata!B330)=TRUE,\"\",(Rådata!C330*100)/Rådata!B330)","v":""},{"$f":"IF(ISBLANK(Rådata!D330)=TRUE,\"\",((Rådata!D330-Rådata!E330)*100)/Rådata!D330)","v":""},{"$f":"IF(ISBLANK(Rådata!G330)=TRUE,\"\",(Rådata!F330*100)/Rådata!G330)","v":""},{"$f":"IF(ISBLANK(Rådata!K330),\"\",(SUM(Rådata!M330:P330)*100)/SUM(Rådata!H330:K330))","v":""},{"$f":"IF(ISBLANK(Rådata!H330),\"\",((SUM(Rådata!J330:L330)-SUM(Rådata!O330:P330))*100)/SUM(Rådata!H330:L330))","v":""},{"$f":"IF(ISBLANK(Rådata!R330),\"\",(Rådata!Q330*100)/Rådata!R330)","v":""}]
[{"$f":"IF(ISBLANK(Rådata!A331)=TRUE,\"\",Rådata!A331)","v":""},{"$f":"IF(ISBLANK(Rådata!A331)=TRUE,\"\",YEAR(A331))","v":""},{"$f":"IF(ISBLANK(Rådata!A331)=TRUE,\"\",VLOOKUP(MONTH(A331),Opsætning!$G$3:$H$14,2,FALSE))","v":""},{"$f":"IF(ISBLANK(Rådata!B331)=TRUE,\"\",(Rådata!C331*100)/Rådata!B331)","v":""},{"$f":"IF(ISBLANK(Rådata!D331)=TRUE,\"\",((Rådata!D331-Rådata!E331)*100)/Rådata!D331)","v":""},{"$f":"IF(ISBLANK(Rådata!G331)=TRUE,\"\",(Rådata!F331*100)/Rådata!G331)","v":""},{"$f":"IF(ISBLANK(Rådata!K331),\"\",(SUM(Rådata!M331:P331)*100)/SUM(Rådata!H331:K331))","v":""},{"$f":"IF(ISBLANK(Rådata!H331),\"\",((SUM(Rådata!J331:L331)-SUM(Rådata!O331:P331))*100)/SUM(Rådata!H331:L331))","v":""},{"$f":"IF(ISBLANK(Rådata!R331),\"\",(Rådata!Q331*100)/Rådata!R331)","v":""}]
[{"$f":"IF(ISBLANK(Rådata!A332)=TRUE,\"\",Rådata!A332)","v":""},{"$f":"IF(ISBLANK(Rådata!A332)=TRUE,\"\",YEAR(A332))","v":""},{"$f":"IF(ISBLANK(Rådata!A332)=TRUE,\"\",VLOOKUP(MONTH(A332),Opsætning!$G$3:$H$14,2,FALSE))","v":""},{"$f":"IF(ISBLANK(Rådata!B332)=TRUE,\"\",(Rådata!C332*100)/Rådata!B332)","v":""},{"$f":"IF(ISBLANK(Rådata!D332)=TRUE,\"\",((Rådata!D332-Rådata!E332)*100)/Rådata!D332)","v":""},{"$f":"IF(ISBLANK(Rådata!G332)=TRUE,\"\",(Rådata!F332*100)/Rådata!G332)","v":""},{"$f":"IF(ISBLANK(Rådata!K332),\"\",(SUM(Rådata!M332:P332)*100)/SUM(Rådata!H332:K332))","v":""},{"$f":"IF(ISBLANK(Rådata!H332),\"\",((SUM(Rådata!J332:L332)-SUM(Rådata!O332:P332))*100)/SUM(Rådata!H332:L332))","v":""},{"$f":"IF(ISBLANK(Rådata!R332),\"\",(Rådata!Q332*100)/Rådata!R332)","v":""}]
[{"$f":"IF(ISBLANK(Rådata!A333)=TRUE,\"\",Rådata!A333)","v":""},{"$f":"IF(ISBLANK(Rådata!A333)=TRUE,\"\",YEAR(A333))","v":""},{"$f":"IF(ISBLANK(Rådata!A333)=TRUE,\"\",VLOOKUP(MONTH(A333),Opsætning!$G$3:$H$14,2,FALSE))","v":""},{"$f":"IF(ISBLANK(Rådata!B333)=TRUE,\"\",(Rådata!C333*100)/Rådata!B333)","v":""},{"$f":"IF(ISBLANK(Rådata!D333)=TRUE,\"\",((Rådata!D333-Rådata!E333)*100)/Rådata!D333)","v":""},{"$f":"IF(ISBLANK(Rådata!G333)=TRUE,\"\",(Rådata!F333*100)/Rådata!G333)","v":""},{"$f":"IF(ISBLANK(Rådata!K333),\"\",(SUM(Rådata!M333:P333)*100)/SUM(Rådata!H333:K333))","v":""},{"$f":"IF(ISBLANK(Rådata!H333),\"\",((SUM(Rådata!J333:L333)-SUM(Rådata!O333:P333))*100)/SUM(Rådata!H333:L333))","v":""},{"$f":"IF(ISBLANK(Rådata!R333),\"\",(Rådata!Q333*100)/Rådata!R333)","v":""}]
[{"$f":"IF(ISBLANK(Rådata!A334)=TRUE,\"\",Rådata!A334)","v":""},{"$f":"IF(ISBLANK(Rådata!A334)=TRUE,\"\",YEAR(A334))","v":""},{"$f":"IF(ISBLANK(Rådata!A334)=TRUE,\"\",VLOOKUP(MONTH(A334),Opsætning!$G$3:$H$14,2,FALSE))","v":""},{"$f":"IF(ISBLANK(Rådata!B334)=TRUE,\"\",(Rådata!C334*100)/Rådata!B334)","v":""},{"$f":"IF(ISBLANK(Rådata!D334)=TRUE,\"\",((Rådata!D334-Rådata!E334)*100)/Rådata!D334)","v":""},{"$f":"IF(ISBLANK(Rådata!G334)=TRUE,\"\",(Rådata!F334*100)/Rådata!G334)","v":""},{"$f":"IF(ISBLANK(Rådata!K334),\"\",(SUM(Rådata!M334:P334)*100)/SUM(Rådata!H334:K334))","v":""},{"$f":"IF(ISBLANK(Rådata!H334),\"\",((SUM(Rådata!J334:L334)-SUM(Rådata!O334:P334))*100)/SUM(Rådata!H334:L334))","v":""},{"$f":"IF(ISBLANK(Rådata!R334),\"\",(Rådata!Q334*100)/Rådata!R334)","v":""}]
[{"$f":"IF(ISBLANK(Rådata!A335)=TRUE,\"\",Rådata!A335)","v":""},{"$f":"IF(ISBLANK(Rådata!A335)=TRUE,\"\",YEAR(A335))","v":""},{"$f":"IF(ISBLANK(Rådata!A335)=TRUE,\"\",VLOOKUP(MONTH(A335),Opsætning!$G$3:$H$14,2,FALSE))","v":""},{"$f":"IF(ISBLANK(Rådata!B335)=TRUE,\"\",(Rådata!C335*100)/Rådata!B335)","v":""},{"$f":"IF(ISBLANK(Rådata!D335)=TRUE,\"\",((Rådata!D335-Rådata!E335)*100)/Rådata!D335)","v":""},{"$f":"IF(ISBLANK(Rådata!G335)=TRUE,\"\",(Rådata!F335*100)/Rådata!G335)","v":""},{"$f":"IF(ISBLANK(Rådata!K335),\"\",(SUM(Rådata!M335:P335)*100)/SUM(Rådata!H335:K335))","v":""},{"$f":"IF(ISBLANK(Rådata!H335),\"\",((SUM(Rådata!J335:L335)-SUM(Rådata!O335:P335))*100)/SUM(Rådata!H335:L335))","v":""},{"$f":"IF(ISBLANK(Rådata!R335),\"\",(Rådata!Q335*100)/Rådata!R335)","v":""}]
[{"$f":"IF(ISBLANK(Rådata!A336)=TRUE,\"\",Rådata!A336)","v":""},{"$f":"IF(ISBLANK(Rådata!A336)=TRUE,\"\",YEAR(A336))","v":""},{"$f":"IF(ISBLANK(Rådata!A336)=TRUE,\"\",VLOOKUP(MONTH(A336),Opsætning!$G$3:$H$14,2,FALSE))","v":""},{"$f":"IF(ISBLANK(Rådata!B336)=TRUE,\"\",(Rådata!C336*100)/Rådata!B336)","v":""},{"$f":"IF(ISBLANK(Rådata!D336)=TRUE,\"\",((Rådata!D336-Rådata!E336)*100)/Rådata!D336)","v":""},{"$f":"IF(ISBLANK(Rådata!G336)=TRUE,\"\",(Rådata!F336*100)/Rådata!G336)","v":""},{"$f":"IF(ISBLANK(Rådata!K336),\"\",(SUM(Rådata!M336:P336)*100)/SUM(Rådata!H336:K336))","v":""},{"$f":"IF(ISBLANK(Rådata!H336),\"\",((SUM(Rådata!J336:L336)-SUM(Rådata!O336:P336))*100)/SUM(Rådata!H336:L336))","v":""},{"$f":"IF(ISBLANK(Rådata!R336),\"\",(Rådata!Q336*100)/Rådata!R336)","v":""}]
[{"$f":"IF(ISBLANK(Rådata!A337)=TRUE,\"\",Rådata!A337)","v":""},{"$f":"IF(ISBLANK(Rådata!A337)=TRUE,\"\",YEAR(A337))","v":""},{"$f":"IF(ISBLANK(Rådata!A337)=TRUE,\"\",VLOOKUP(MONTH(A337),Opsætning!$G$3:$H$14,2,FALSE))","v":""},{"$f":"IF(ISBLANK(Rådata!B337)=TRUE,\"\",(Rådata!C337*100)/Rådata!B337)","v":""},{"$f":"IF(ISBLANK(Rådata!D337)=TRUE,\"\",((Rådata!D337-Rådata!E337)*100)/Rådata!D337)","v":""},{"$f":"IF(ISBLANK(Rådata!G337)=TRUE,\"\",(Rådata!F337*100)/Rådata!G337)","v":""},{"$f":"IF(ISBLANK(Rådata!K337),\"\",(SUM(Rådata!M337:P337)*100)/SUM(Rådata!H337:K337))","v":""},{"$f":"IF(ISBLANK(Rådata!H337),\"\",((SUM(Rådata!J337:L337)-SUM(Rådata!O337:P337))*100)/SUM(Rådata!H337:L337))","v":""},{"$f":"IF(ISBLANK(Rådata!R337),\"\",(Rådata!Q337*100)/Rådata!R337)","v":""}]
[{"$f":"IF(ISBLANK(Rådata!A338)=TRUE,\"\",Rådata!A338)","v":""},{"$f":"IF(ISBLANK(Rådata!A338)=TRUE,\"\",YEAR(A338))","v":""},{"$f":"IF(ISBLANK(Rådata!A338)=TRUE,\"\",VLOOKUP(MONTH(A338),Opsætning!$G$3:$H$14,2,FALSE))","v":""},{"$f":"IF(ISBLANK(Rådata!B338)=TRUE,\"\",(Rådata!C338*100)/Rådata!B338)","v":""},{"$f":"IF(ISBLANK(Rådata!D338)=TRUE,\"\",((Rådata!D338-Rådata!E338)*100)/Rådata!D338)","v":""},{"$f":"IF(ISBLANK(Rådata!G338)=TRUE,\"\",(Rådata!F338*100)/Rådata!G338)","v":""},{"$f":"IF(ISBLANK(Rådata!K338),\"\",(SUM(Rådata!M338:P338)*100)/SUM(Rådata!H338:K338))","v":""},{"$f":"IF(ISBLANK(Rådata!H338),\"\",((SUM(Rådata!J338:L338)-SUM(Rådata!O338:P338))*100)/SUM(Rådata!H338:L338))","v":""},{"$f":"IF(ISBLANK(Rådata!R338),\"\",(Rådata!Q338*100)/Rådata!R338)","v":""}]
[{"$f":"IF(ISBLANK(Rådata!A339)=TRUE,\"\",Rådata!A339)","v":""},{"$f":"IF(ISBLANK(Rådata!A339)=TRUE,\"\",YEAR(A339))","v":""},{"$f":"IF(ISBLANK(Rådata!A339)=TRUE,\"\",VLOOKUP(MONTH(A339),Opsætning!$G$3:$H$14,2,FALSE))","v":""},{"$f":"IF(ISBLANK(Rådata!B339)=TRUE,\"\",(Rådata!C339*100)/Rådata!B339)","v":""},{"$f":"IF(ISBLANK(Rådata!D339)=TRUE,\"\",((Rådata!D339-Rådata!E339)*100)/Rådata!D339)","v":""},{"$f":"IF(ISBLANK(Rådata!G339)=TRUE,\"\",(Rådata!F339*100)/Rådata!G339)","v":""},{"$f":"IF(ISBLANK(Rådata!K339),\"\",(SUM(Rådata!M339:P339)*100)/SUM(Rådata!H339:K339))","v":""},{"$f":"IF(ISBLANK(Rådata!H339),\"\",((SUM(Rådata!J339:L339)-SUM(Rådata!O339:P339))*100)/SUM(Rådata!H339:L339))","v":""},{"$f":"IF(ISBLANK(Rådata!R339),\"\",(Rådata!Q339*100)/Rådata!R339)","v":""}]
[{"$f":"IF(ISBLANK(Rådata!A340)=TRUE,\"\",Rådata!A340)","v":""},{"$f":"IF(ISBLANK(Rådata!A340)=TRUE,\"\",YEAR(A340))","v":""},{"$f":"IF(ISBLANK(Rådata!A340)=TRUE,\"\",VLOOKUP(MONTH(A340),Opsætning!$G$3:$H$14,2,FALSE))","v":""},{"$f":"IF(ISBLANK(Rådata!B340)=TRUE,\"\",(Rådata!C340*100)/Rådata!B340)","v":""},{"$f":"IF(ISBLANK(Rådata!D340)=TRUE,\"\",((Rådata!D340-Rådata!E340)*100)/Rådata!D340)","v":""},{"$f":"IF(ISBLANK(Rådata!G340)=TRUE,\"\",(Rådata!F340*100)/Rådata!G340)","v":""},{"$f":"IF(ISBLANK(Rådata!K340),\"\",(SUM(Rådata!M340:P340)*100)/SUM(Rådata!H340:K340))","v":""},{"$f":"IF(ISBLANK(Rådata!H340),\"\",((SUM(Rådata!J340:L340)-SUM(Rådata!O340:P340))*100)/SUM(Rådata!H340:L340))","v":""},{"$f":"IF(ISBLANK(Rådata!R340),\"\",(Rådata!Q340*100)/Rådata!R340)","v":""}]
[{"$f":"IF(ISBLANK(Rådata!A341)=TRUE,\"\",Rådata!A341)","v":""},{"$f":"IF(ISBLANK(Rådata!A341)=TRUE,\"\",YEAR(A341))","v":""},{"$f":"IF(ISBLANK(Rådata!A341)=TRUE,\"\",VLOOKUP(MONTH(A341),Opsætning!$G$3:$H$14,2,FALSE))","v":""},{"$f":"IF(ISBLANK(Rådata!B341)=TRUE,\"\",(Rådata!C341*100)/Rådata!B341)","v":""},{"$f":"IF(ISBLANK(Rådata!D341)=TRUE,\"\",((Rådata!D341-Rådata!E341)*100)/Rådata!D341)","v":""},{"$f":"IF(ISBLANK(Rådata!G341)=TRUE,\"\",(Rådata!F341*100)/Rådata!G341)","v":""},{"$f":"IF(ISBLANK(Rådata!K341),\"\",(SUM(Rådata!M341:P341)*100)/SUM(Rådata!H341:K341))","v":""},{"$f":"IF(ISBLANK(Rådata!H341),\"\",((SUM(Rådata!J341:L341)-SUM(Rådata!O341:P341))*100)/SUM(Rådata!H341:L341))","v":""},{"$f":"IF(ISBLANK(Rådata!R341),\"\",(Rådata!Q341*100)/Rådata!R341)","v":""}]
[{"$f":"IF(ISBLANK(Rådata!A342)=TRUE,\"\",Rådata!A342)","v":""},{"$f":"IF(ISBLANK(Rådata!A342)=TRUE,\"\",YEAR(A342))","v":""},{"$f":"IF(ISBLANK(Rådata!A342)=TRUE,\"\",VLOOKUP(MONTH(A342),Opsætning!$G$3:$H$14,2,FALSE))","v":""},{"$f":"IF(ISBLANK(Rådata!B342)=TRUE,\"\",(Rådata!C342*100)/Rådata!B342)","v":""},{"$f":"IF(ISBLANK(Rådata!D342)=TRUE,\"\",((Rådata!D342-Rådata!E342)*100)/Rådata!D342)","v":""},{"$f":"IF(ISBLANK(Rådata!G342)=TRUE,\"\",(Rådata!F342*100)/Rådata!G342)","v":""},{"$f":"IF(ISBLANK(Rådata!K342),\"\",(SUM(Rådata!M342:P342)*100)/SUM(Rådata!H342:K342))","v":""},{"$f":"IF(ISBLANK(Rådata!H342),\"\",((SUM(Rådata!J342:L342)-SUM(Rådata!O342:P342))*100)/SUM(Rådata!H342:L342))","v":""},{"$f":"IF(ISBLANK(Rådata!R342),\"\",(Rådata!Q342*100)/Rådata!R342)","v":""}]
[{"$f":"IF(ISBLANK(Rådata!A343)=TRUE,\"\",Rådata!A343)","v":""},{"$f":"IF(ISBLANK(Rådata!A343)=TRUE,\"\",YEAR(A343))","v":""},{"$f":"IF(ISBLANK(Rådata!A343)=TRUE,\"\",VLOOKUP(MONTH(A343),Opsætning!$G$3:$H$14,2,FALSE))","v":""},{"$f":"IF(ISBLANK(Rådata!B343)=TRUE,\"\",(Rådata!C343*100)/Rådata!B343)","v":""},{"$f":"IF(ISBLANK(Rådata!D343)=TRUE,\"\",((Rådata!D343-Rådata!E343)*100)/Rådata!D343)","v":""},{"$f":"IF(ISBLANK(Rådata!G343)=TRUE,\"\",(Rådata!F343*100)/Rådata!G343)","v":""},{"$f":"IF(ISBLANK(Rådata!K343),\"\",(SUM(Rådata!M343:P343)*100)/SUM(Rådata!H343:K343))","v":""},{"$f":"IF(ISBLANK(Rådata!H343),\"\",((SUM(Rådata!J343:L343)-SUM(Rådata!O343:P343))*100)/SUM(Rådata!H343:L343))","v":""},{"$f":"IF(ISBLANK(Rådata!R343),\"\",(Rådata!Q343*100)/Rådata!R343)","v":""}]
[{"$f":"IF(ISBLANK(Rådata!A344)=TRUE,\"\",Rådata!A344)","v":""},{"$f":"IF(ISBLANK(Rådata!A344)=TRUE,\"\",YEAR(A344))","v":""},{"$f":"IF(ISBLANK(Rådata!A344)=TRUE,\"\",VLOOKUP(MONTH(A344),Opsætning!$G$3:$H$14,2,FALSE))","v":""},{"$f":"IF(ISBLANK(Rådata!B344)=TRUE,\"\",(Rådata!C344*100)/Rådata!B344)","v":""},{"$f":"IF(ISBLANK(Rådata!D344)=TRUE,\"\",((Rådata!D344-Rådata!E344)*100)/Rådata!D344)","v":""},{"$f":"IF(ISBLANK(Rådata!G344)=TRUE,\"\",(Rådata!F344*100)/Rådata!G344)","v":""},{"$f":"IF(ISBLANK(Rådata!K344),\"\",(SUM(Rådata!M344:P344)*100)/SUM(Rådata!H344:K344))","v":""},{"$f":"IF(ISBLANK(Rådata!H344),\"\",((SUM(Rådata!J344:L344)-SUM(Rådata!O344:P344))*100)/SUM(Rådata!H344:L344))","v":""},{"$f":"IF(ISBLANK(Rådata!R344),\"\",(Rådata!Q344*100)/Rådata!R344)","v":""}]
[{"$f":"IF(ISBLANK(Rådata!A345)=TRUE,\"\",Rådata!A345)","v":""},{"$f":"IF(ISBLANK(Rådata!A345)=TRUE,\"\",YEAR(A345))","v":""},{"$f":"IF(ISBLANK(Rådata!A345)=TRUE,\"\",VLOOKUP(MONTH(A345),Opsætning!$G$3:$H$14,2,FALSE))","v":""},{"$f":"IF(ISBLANK(Rådata!B345)=TRUE,\"\",(Rådata!C345*100)/Rådata!B345)","v":""},{"$f":"IF(ISBLANK(Rådata!D345)=TRUE,\"\",((Rådata!D345-Rådata!E345)*100)/Rådata!D345)","v":""},{"$f":"IF(ISBLANK(Rådata!G345)=TRUE,\"\",(Rådata!F345*100)/Rådata!G345)","v":""},{"$f":"IF(ISBLANK(Rådata!K345),\"\",(SUM(Rådata!M345:P345)*100)/SUM(Rådata!H345:K345))","v":""},{"$f":"IF(ISBLANK(Rådata!H345),\"\",((SUM(Rådata!J345:L345)-SUM(Rådata!O345:P345))*100)/SUM(Rådata!H345:L345))","v":""},{"$f":"IF(ISBLANK(Rådata!R345),\"\",(Rådata!Q345*100)/Rådata!R345)","v":""}]
[{"$f":"IF(ISBLANK(Rådata!A346)=TRUE,\"\",Rådata!A346)","v":""},{"$f":"IF(ISBLANK(Rådata!A346)=TRUE,\"\",YEAR(A346))","v":""},{"$f":"IF(ISBLANK(Rådata!A346)=TRUE,\"\",VLOOKUP(MONTH(A346),Opsætning!$G$3:$H$14,2,FALSE))","v":""},{"$f":"IF(ISBLANK(Rådata!B346)=TRUE,\"\",(Rådata!C346*100)/Rådata!B346)","v":""},{"$f":"IF(ISBLANK(Rådata!D346)=TRUE,\"\",((Rådata!D346-Rådata!E346)*100)/Rådata!D346)","v":""},{"$f":"IF(ISBLANK(Rådata!G346)=TRUE,\"\",(Rådata!F346*100)/Rådata!G346)","v":""},{"$f":"IF(ISBLANK(Rådata!K346),\"\",(SUM(Rådata!M346:P346)*100)/SUM(Rådata!H346:K346))","v":""},{"$f":"IF(ISBLANK(Rådata!H346),\"\",((SUM(Rådata!J346:L346)-SUM(Rådata!O346:P346))*100)/SUM(Rådata!H346:L346))","v":""},{"$f":"IF(ISBLANK(Rådata!R346),\"\",(Rådata!Q346*100)/Rådata!R346)","v":""}]
[{"$f":"IF(ISBLANK(Rådata!A347)=TRUE,\"\",Rådata!A347)","v":""},{"$f":"IF(ISBLANK(Rådata!A347)=TRUE,\"\",YEAR(A347))","v":""},{"$f":"IF(ISBLANK(Rådata!A347)=TRUE,\"\",VLOOKUP(MONTH(A347),Opsætning!$G$3:$H$14,2,FALSE))","v":""},{"$f":"IF(ISBLANK(Rådata!B347)=TRUE,\"\",(Rådata!C347*100)/Rådata!B347)","v":""},{"$f":"IF(ISBLANK(Rådata!D347)=TRUE,\"\",((Rådata!D347-Rådata!E347)*100)/Rådata!D347)","v":""},{"$f":"IF(ISBLANK(Rådata!G347)=TRUE,\"\",(Rådata!F347*100)/Rådata!G347)","v":""},{"$f":"IF(ISBLANK(Rådata!K347),\"\",(SUM(Rådata!M347:P347)*100)/SUM(Rådata!H347:K347))","v":""},{"$f":"IF(ISBLANK(Rådata!H347),\"\",((SUM(Rådata!J347:L347)-SUM(Rådata!O347:P347))*100)/SUM(Rådata!H347:L347))","v":""},{"$f":"IF(ISBLANK(Rådata!R347),\"\",(Rådata!Q347*100)/Rådata!R347)","v":""}]
[{"$f":"IF(ISBLANK(Rådata!A348)=TRUE,\"\",Rådata!A348)","v":""},{"$f":"IF(ISBLANK(Rådata!A348)=TRUE,\"\",YEAR(A348))","v":""},{"$f":"IF(ISBLANK(Rådata!A348)=TRUE,\"\",VLOOKUP(MONTH(A348),Opsætning!$G$3:$H$14,2,FALSE))","v":""},{"$f":"IF(ISBLANK(Rådata!B348)=TRUE,\"\",(Rådata!C348*100)/Rådata!B348)","v":""},{"$f":"IF(ISBLANK(Rådata!D348)=TRUE,\"\",((Rådata!D348-Rådata!E348)*100)/Rådata!D348)","v":""},{"$f":"IF(ISBLANK(Rådata!G348)=TRUE,\"\",(Rådata!F348*100)/Rådata!G348)","v":""},{"$f":"IF(ISBLANK(Rådata!K348),\"\",(SUM(Rådata!M348:P348)*100)/SUM(Rådata!H348:K348))","v":""},{"$f":"IF(ISBLANK(Rådata!H348),\"\",((SUM(Rådata!J348:L348)-SUM(Rådata!O348:P348))*100)/SUM(Rådata!H348:L348))","v":""},{"$f":"IF(ISBLANK(Rådata!R348),\"\",(Rådata!Q348*100)/Rådata!R348)","v":""}]
[{"$f":"IF(ISBLANK(Rådata!A349)=TRUE,\"\",Rådata!A349)","v":""},{"$f":"IF(ISBLANK(Rådata!A349)=TRUE,\"\",YEAR(A349))","v":""},{"$f":"IF(ISBLANK(Rådata!A349)=TRUE,\"\",VLOOKUP(MONTH(A349),Opsætning!$G$3:$H$14,2,FALSE))","v":""},{"$f":"IF(ISBLANK(Rådata!B349)=TRUE,\"\",(Rådata!C349*100)/Rådata!B349)","v":""},{"$f":"IF(ISBLANK(Rådata!D349)=TRUE,\"\",((Rådata!D349-Rådata!E349)*100)/Rådata!D349)","v":""},{"$f":"IF(ISBLANK(Rådata!G349)=TRUE,\"\",(Rådata!F349*100)/Rådata!G349)","v":""},{"$f":"IF(ISBLANK(Rådata!K349),\"\",(SUM(Rådata!M349:P349)*100)/SUM(Rådata!H349:K349))","v":""},{"$f":"IF(ISBLANK(Rådata!H349),\"\",((SUM(Rådata!J349:L349)-SUM(Rådata!O349:P349))*100)/SUM(Rådata!H349:L349))","v":""},{"$f":"IF(ISBLANK(Rådata!R349),\"\",(Rådata!Q349*100)/Rådata!R349)","v":""}]
[{"$f":"IF(ISBLANK(Rådata!A350)=TRUE,\"\",Rådata!A350)","v":""},{"$f":"IF(ISBLANK(Rådata!A350)=TRUE,\"\",YEAR(A350))","v":""},{"$f":"IF(ISBLANK(Rådata!A350)=TRUE,\"\",VLOOKUP(MONTH(A350),Opsætning!$G$3:$H$14,2,FALSE))","v":""},{"$f":"IF(ISBLANK(Rådata!B350)=TRUE,\"\",(Rådata!C350*100)/Rådata!B350)","v":""},{"$f":"IF(ISBLANK(Rådata!D350)=TRUE,\"\",((Rådata!D350-Rådata!E350)*100)/Rådata!D350)","v":""},{"$f":"IF(ISBLANK(Rådata!G350)=TRUE,\"\",(Rådata!F350*100)/Rådata!G350)","v":""},{"$f":"IF(ISBLANK(Rådata!K350),\"\",(SUM(Rådata!M350:P350)*100)/SUM(Rådata!H350:K350))","v":""},{"$f":"IF(ISBLANK(Rådata!H350),\"\",((SUM(Rådata!J350:L350)-SUM(Rådata!O350:P350))*100)/SUM(Rådata!H350:L350))","v":""},{"$f":"IF(ISBLANK(Rådata!R350),\"\",(Rådata!Q350*100)/Rådata!R350)","v":""}]
[{"$f":"IF(ISBLANK(Rådata!A351)=TRUE,\"\",Rådata!A351)","v":""},{"$f":"IF(ISBLANK(Rådata!A351)=TRUE,\"\",YEAR(A351))","v":""},{"$f":"IF(ISBLANK(Rådata!A351)=TRUE,\"\",VLOOKUP(MONTH(A351),Opsætning!$G$3:$H$14,2,FALSE))","v":""},{"$f":"IF(ISBLANK(Rådata!B351)=TRUE,\"\",(Rådata!C351*100)/Rådata!B351)","v":""},{"$f":"IF(ISBLANK(Rådata!D351)=TRUE,\"\",((Rådata!D351-Rådata!E351)*100)/Rådata!D351)","v":""},{"$f":"IF(ISBLANK(Rådata!G351)=TRUE,\"\",(Rådata!F351*100)/Rådata!G351)","v":""},{"$f":"IF(ISBLANK(Rådata!K351),\"\",(SUM(Rådata!M351:P351)*100)/SUM(Rådata!H351:K351))","v":""},{"$f":"IF(ISBLANK(Rådata!H351),\"\",((SUM(Rådata!J351:L351)-SUM(Rådata!O351:P351))*100)/SUM(Rådata!H351:L351))","v":""},{"$f":"IF(ISBLANK(Rådata!R351),\"\",(Rådata!Q351*100)/Rådata!R351)","v":""}]
[{"$f":"IF(ISBLANK(Rådata!A352)=TRUE,\"\",Rådata!A352)","v":""},{"$f":"IF(ISBLANK(Rådata!A352)=TRUE,\"\",YEAR(A352))","v":""},{"$f":"IF(ISBLANK(Rådata!A352)=TRUE,\"\",VLOOKUP(MONTH(A352),Opsætning!$G$3:$H$14,2,FALSE))","v":""},{"$f":"IF(ISBLANK(Rådata!B352)=TRUE,\"\",(Rådata!C352*100)/Rådata!B352)","v":""},{"$f":"IF(ISBLANK(Rådata!D352)=TRUE,\"\",((Rådata!D352-Rådata!E352)*100)/Rådata!D352)","v":""},{"$f":"IF(ISBLANK(Rådata!G352)=TRUE,\"\",(Rådata!F352*100)/Rådata!G352)","v":""},{"$f":"IF(ISBLANK(Rådata!K352),\"\",(SUM(Rådata!M352:P352)*100)/SUM(Rådata!H352:K352))","v":""},{"$f":"IF(ISBLANK(Rådata!H352),\"\",((SUM(Rådata!J352:L352)-SUM(Rådata!O352:P352))*100)/SUM(Rådata!H352:L352))","v":""},{"$f":"IF(ISBLANK(Rådata!R352),\"\",(Rådata!Q352*100)/Rådata!R352)","v":""}]
[{"$f":"IF(ISBLANK(Rådata!A353)=TRUE,\"\",Rådata!A353)","v":""},{"$f":"IF(ISBLANK(Rådata!A353)=TRUE,\"\",YEAR(A353))","v":""},{"$f":"IF(ISBLANK(Rådata!A353)=TRUE,\"\",VLOOKUP(MONTH(A353),Opsætning!$G$3:$H$14,2,FALSE))","v":""},{"$f":"IF(ISBLANK(Rådata!B353)=TRUE,\"\",(Rådata!C353*100)/Rådata!B353)","v":""},{"$f":"IF(ISBLANK(Rådata!D353)=TRUE,\"\",((Rådata!D353-Rådata!E353)*100)/Rådata!D353)","v":""},{"$f":"IF(ISBLANK(Rådata!G353)=TRUE,\"\",(Rådata!F353*100)/Rådata!G353)","v":""},{"$f":"IF(ISBLANK(Rådata!K353),\"\",(SUM(Rådata!M353:P353)*100)/SUM(Rådata!H353:K353))","v":""},{"$f":"IF(ISBLANK(Rådata!H353),\"\",((SUM(Rådata!J353:L353)-SUM(Rådata!O353:P353))*100)/SUM(Rådata!H353:L353))","v":""},{"$f":"IF(ISBLANK(Rådata!R353),\"\",(Rådata!Q353*100)/Rådata!R353)","v":""}]
[{"$f":"IF(ISBLANK(Rådata!A354)=TRUE,\"\",Rådata!A354)","v":""},{"$f":"IF(ISBLANK(Rådata!A354)=TRUE,\"\",YEAR(A354))","v":""},{"$f":"IF(ISBLANK(Rådata!A354)=TRUE,\"\",VLOOKUP(MONTH(A354),Opsætning!$G$3:$H$14,2,FALSE))","v":""},{"$f":"IF(ISBLANK(Rådata!B354)=TRUE,\"\",(Rådata!C354*100)/Rådata!B354)","v":""},{"$f":"IF(ISBLANK(Rådata!D354)=TRUE,\"\",((Rådata!D354-Rådata!E354)*100)/Rådata!D354)","v":""},{"$f":"IF(ISBLANK(Rådata!G354)=TRUE,\"\",(Rådata!F354*100)/Rådata!G354)","v":""},{"$f":"IF(ISBLANK(Rådata!K354),\"\",(SUM(Rådata!M354:P354)*100)/SUM(Rådata!H354:K354))","v":""},{"$f":"IF(ISBLANK(Rådata!H354),\"\",((SUM(Rådata!J354:L354)-SUM(Rådata!O354:P354))*100)/SUM(Rådata!H354:L354))","v":""},{"$f":"IF(ISBLANK(Rådata!R354),\"\",(Rådata!Q354*100)/Rådata!R354)","v":""}]
[{"$f":"IF(ISBLANK(Rådata!A355)=TRUE,\"\",Rådata!A355)","v":""},{"$f":"IF(ISBLANK(Rådata!A355)=TRUE,\"\",YEAR(A355))","v":""},{"$f":"IF(ISBLANK(Rådata!A355)=TRUE,\"\",VLOOKUP(MONTH(A355),Opsætning!$G$3:$H$14,2,FALSE))","v":""},{"$f":"IF(ISBLANK(Rådata!B355)=TRUE,\"\",(Rådata!C355*100)/Rådata!B355)","v":""},{"$f":"IF(ISBLANK(Rådata!D355)=TRUE,\"\",((Rådata!D355-Rådata!E355)*100)/Rådata!D355)","v":""},{"$f":"IF(ISBLANK(Rådata!G355)=TRUE,\"\",(Rådata!F355*100)/Rådata!G355)","v":""},{"$f":"IF(ISBLANK(Rådata!K355),\"\",(SUM(Rådata!M355:P355)*100)/SUM(Rådata!H355:K355))","v":""},{"$f":"IF(ISBLANK(Rådata!H355),\"\",((SUM(Rådata!J355:L355)-SUM(Rådata!O355:P355))*100)/SUM(Rådata!H355:L355))","v":""},{"$f":"IF(ISBLANK(Rådata!R355),\"\",(Rådata!Q355*100)/Rådata!R355)","v":""}]
[{"$f":"IF(ISBLANK(Rådata!A356)=TRUE,\"\",Rådata!A356)","v":""},{"$f":"IF(ISBLANK(Rådata!A356)=TRUE,\"\",YEAR(A356))","v":""},{"$f":"IF(ISBLANK(Rådata!A356)=TRUE,\"\",VLOOKUP(MONTH(A356),Opsætning!$G$3:$H$14,2,FALSE))","v":""},{"$f":"IF(ISBLANK(Rådata!B356)=TRUE,\"\",(Rådata!C356*100)/Rådata!B356)","v":""},{"$f":"IF(ISBLANK(Rådata!D356)=TRUE,\"\",((Rådata!D356-Rådata!E356)*100)/Rådata!D356)","v":""},{"$f":"IF(ISBLANK(Rådata!G356)=TRUE,\"\",(Rådata!F356*100)/Rådata!G356)","v":""},{"$f":"IF(ISBLANK(Rådata!K356),\"\",(SUM(Rådata!M356:P356)*100)/SUM(Rådata!H356:K356))","v":""},{"$f":"IF(ISBLANK(Rådata!H356),\"\",((SUM(Rådata!J356:L356)-SUM(Rådata!O356:P356))*100)/SUM(Rådata!H356:L356))","v":""},{"$f":"IF(ISBLANK(Rådata!R356),\"\",(Rådata!Q356*100)/Rådata!R356)","v":""}]
[{"$f":"IF(ISBLANK(Rådata!A357)=TRUE,\"\",Rådata!A357)","v":""},{"$f":"IF(ISBLANK(Rådata!A357)=TRUE,\"\",YEAR(A357))","v":""},{"$f":"IF(ISBLANK(Rådata!A357)=TRUE,\"\",VLOOKUP(MONTH(A357),Opsætning!$G$3:$H$14,2,FALSE))","v":""},{"$f":"IF(ISBLANK(Rådata!B357)=TRUE,\"\",(Rådata!C357*100)/Rådata!B357)","v":""},{"$f":"IF(ISBLANK(Rådata!D357)=TRUE,\"\",((Rådata!D357-Rådata!E357)*100)/Rådata!D357)","v":""},{"$f":"IF(ISBLANK(Rådata!G357)=TRUE,\"\",(Rådata!F357*100)/Rådata!G357)","v":""},{"$f":"IF(ISBLANK(Rådata!K357),\"\",(SUM(Rådata!M357:P357)*100)/SUM(Rådata!H357:K357))","v":""},{"$f":"IF(ISBLANK(Rådata!H357),\"\",((SUM(Rådata!J357:L357)-SUM(Rådata!O357:P357))*100)/SUM(Rådata!H357:L357))","v":""},{"$f":"IF(ISBLANK(Rådata!R357),\"\",(Rådata!Q357*100)/Rådata!R357)","v":""}]
[{"$f":"IF(ISBLANK(Rådata!A358)=TRUE,\"\",Rådata!A358)","v":""},{"$f":"IF(ISBLANK(Rådata!A358)=TRUE,\"\",YEAR(A358))","v":""},{"$f":"IF(ISBLANK(Rådata!A358)=TRUE,\"\",VLOOKUP(MONTH(A358),Opsætning!$G$3:$H$14,2,FALSE))","v":""},{"$f":"IF(ISBLANK(Rådata!B358)=TRUE,\"\",(Rådata!C358*100)/Rådata!B358)","v":""},{"$f":"IF(ISBLANK(Rådata!D358)=TRUE,\"\",((Rådata!D358-Rådata!E358)*100)/Rådata!D358)","v":""},{"$f":"IF(ISBLANK(Rådata!G358)=TRUE,\"\",(Rådata!F358*100)/Rådata!G358)","v":""},{"$f":"IF(ISBLANK(Rådata!K358),\"\",(SUM(Rådata!M358:P358)*100)/SUM(Rådata!H358:K358))","v":""},{"$f":"IF(ISBLANK(Rådata!H358),\"\",((SUM(Rådata!J358:L358)-SUM(Rådata!O358:P358))*100)/SUM(Rådata!H358:L358))","v":""},{"$f":"IF(ISBLANK(Rådata!R358),\"\",(Rådata!Q358*100)/Rådata!R358)","v":""}]
[{"$f":"IF(ISBLANK(Rådata!A359)=TRUE,\"\",Rådata!A359)","v":""},{"$f":"IF(ISBLANK(Rådata!A359)=TRUE,\"\",YEAR(A359))","v":""},{"$f":"IF(ISBLANK(Rådata!A359)=TRUE,\"\",VLOOKUP(MONTH(A359),Opsætning!$G$3:$H$14,2,FALSE))","v":""},{"$f":"IF(ISBLANK(Rådata!B359)=TRUE,\"\",(Rådata!C359*100)/Rådata!B359)","v":""},{"$f":"IF(ISBLANK(Rådata!D359)=TRUE,\"\",((Rådata!D359-Rådata!E359)*100)/Rådata!D359)","v":""},{"$f":"IF(ISBLANK(Rådata!G359)=TRUE,\"\",(Rådata!F359*100)/Rådata!G359)","v":""},{"$f":"IF(ISBLANK(Rådata!K359),\"\",(SUM(Rådata!M359:P359)*100)/SUM(Rådata!H359:K359))","v":""},{"$f":"IF(ISBLANK(Rådata!H359),\"\",((SUM(Rådata!J359:L359)-SUM(Rådata!O359:P359))*100)/SUM(Rådata!H359:L359))","v":""},{"$f":"IF(ISBLANK(Rådata!R359),\"\",(Rådata!Q359*100)/Rådata!R359)","v":""}]
[{"$f":"IF(ISBLANK(Rådata!A360)=TRUE,\"\",Rådata!A360)","v":""},{"$f":"IF(ISBLANK(Rådata!A360)=TRUE,\"\",YEAR(A360))","v":""},{"$f":"IF(ISBLANK(Rådata!A360)=TRUE,\"\",VLOOKUP(MONTH(A360),Opsætning!$G$3:$H$14,2,FALSE))","v":""},{"$f":"IF(ISBLANK(Rådata!B360)=TRUE,\"\",(Rådata!C360*100)/Rådata!B360)","v":""},{"$f":"IF(ISBLANK(Rådata!D360)=TRUE,\"\",((Rådata!D360-Rådata!E360)*100)/Rådata!D360)","v":""},{"$f":"IF(ISBLANK(Rådata!G360)=TRUE,\"\",(Rådata!F360*100)/Rådata!G360)","v":""},{"$f":"IF(ISBLANK(Rådata!K360),\"\",(SUM(Rådata!M360:P360)*100)/SUM(Rådata!H360:K360))","v":""},{"$f":"IF(ISBLANK(Rådata!H360),\"\",((SUM(Rådata!J360:L360)-SUM(Rådata!O360:P360))*100)/SUM(Rådata!H360:L360))","v":""},{"$f":"IF(ISBLANK(Rådata!R360),\"\",(Rådata!Q360*100)/Rådata!R360)","v":""}]
[{"$f":"IF(ISBLANK(Rådata!A361)=TRUE,\"\",Rådata!A361)","v":""},{"$f":"IF(ISBLANK(Rådata!A361)=TRUE,\"\",YEAR(A361))","v":""},{"$f":"IF(ISBLANK(Rådata!A361)=TRUE,\"\",VLOOKUP(MONTH(A361),Opsætning!$G$3:$H$14,2,FALSE))","v":""},{"$f":"IF(ISBLANK(Rådata!B361)=TRUE,\"\",(Rådata!C361*100)/Rådata!B361)","v":""},{"$f":"IF(ISBLANK(Rådata!D361)=TRUE,\"\",((Rådata!D361-Rådata!E361)*100)/Rådata!D361)","v":""},{"$f":"IF(ISBLANK(Rådata!G361)=TRUE,\"\",(Rådata!F361*100)/Rådata!G361)","v":""},{"$f":"IF(ISBLANK(Rådata!K361),\"\",(SUM(Rådata!M361:P361)*100)/SUM(Rådata!H361:K361))","v":""},{"$f":"IF(ISBLANK(Rådata!H361),\"\",((SUM(Rådata!J361:L361)-SUM(Rådata!O361:P361))*100)/SUM(Rådata!H361:L361))","v":""},{"$f":"IF(ISBLANK(Rådata!R361),\"\",(Rådata!Q361*100)/Rådata!R361)","v":""}]
[{"$f":"IF(ISBLANK(Rådata!A362)=TRUE,\"\",Rådata!A362)","v":""},{"$f":"IF(ISBLANK(Rådata!A362)=TRUE,\"\",YEAR(A362))","v":""},{"$f":"IF(ISBLANK(Rådata!A362)=TRUE,\"\",VLOOKUP(MONTH(A362),Opsætning!$G$3:$H$14,2,FALSE))","v":""},{"$f":"IF(ISBLANK(Rådata!B362)=TRUE,\"\",(Rådata!C362*100)/Rådata!B362)","v":""},{"$f":"IF(ISBLANK(Rådata!D362)=TRUE,\"\",((Rådata!D362-Rådata!E362)*100)/Rådata!D362)","v":""},{"$f":"IF(ISBLANK(Rådata!G362)=TRUE,\"\",(Rådata!F362*100)/Rådata!G362)","v":""},{"$f":"IF(ISBLANK(Rådata!K362),\"\",(SUM(Rådata!M362:P362)*100)/SUM(Rådata!H362:K362))","v":""},{"$f":"IF(ISBLANK(Rådata!H362),\"\",((SUM(Rådata!J362:L362)-SUM(Rådata!O362:P362))*100)/SUM(Rådata!H362:L362))","v":""},{"$f":"IF(ISBLANK(Rådata!R362),\"\",(Rådata!Q362*100)/Rådata!R362)","v":""}]
[{"$f":"IF(ISBLANK(Rådata!A363)=TRUE,\"\",Rådata!A363)","v":""},{"$f":"IF(ISBLANK(Rådata!A363)=TRUE,\"\",YEAR(A363))","v":""},{"$f":"IF(ISBLANK(Rådata!A363)=TRUE,\"\",VLOOKUP(MONTH(A363),Opsætning!$G$3:$H$14,2,FALSE))","v":""},{"$f":"IF(ISBLANK(Rådata!B363)=TRUE,\"\",(Rådata!C363*100)/Rådata!B363)","v":""},{"$f":"IF(ISBLANK(Rådata!D363)=TRUE,\"\",((Rådata!D363-Rådata!E363)*100)/Rådata!D363)","v":""},{"$f":"IF(ISBLANK(Rådata!G363)=TRUE,\"\",(Rådata!F363*100)/Rådata!G363)","v":""},{"$f":"IF(ISBLANK(Rådata!K363),\"\",(SUM(Rådata!M363:P363)*100)/SUM(Rådata!H363:K363))","v":""},{"$f":"IF(ISBLANK(Rådata!H363),\"\",((SUM(Rådata!J363:L363)-SUM(Rådata!O363:P363))*100)/SUM(Rådata!H363:L363))","v":""},{"$f":"IF(ISBLANK(Rådata!R363),\"\",(Rådata!Q363*100)/Rådata!R363)","v":""}]
[{"$f":"IF(ISBLANK(Rådata!A364)=TRUE,\"\",Rådata!A364)","v":""},{"$f":"IF(ISBLANK(Rådata!A364)=TRUE,\"\",YEAR(A364))","v":""},{"$f":"IF(ISBLANK(Rådata!A364)=TRUE,\"\",VLOOKUP(MONTH(A364),Opsætning!$G$3:$H$14,2,FALSE))","v":""},{"$f":"IF(ISBLANK(Rådata!B364)=TRUE,\"\",(Rådata!C364*100)/Rådata!B364)","v":""},{"$f":"IF(ISBLANK(Rådata!D364)=TRUE,\"\",((Rådata!D364-Rådata!E364)*100)/Rådata!D364)","v":""},{"$f":"IF(ISBLANK(Rådata!G364)=TRUE,\"\",(Rådata!F364*100)/Rådata!G364)","v":""},{"$f":"IF(ISBLANK(Rådata!K364),\"\",(SUM(Rådata!M364:P364)*100)/SUM(Rådata!H364:K364))","v":""},{"$f":"IF(ISBLANK(Rådata!H364),\"\",((SUM(Rådata!J364:L364)-SUM(Rådata!O364:P364))*100)/SUM(Rådata!H364:L364))","v":""},{"$f":"IF(ISBLANK(Rådata!R364),\"\",(Rådata!Q364*100)/Rådata!R364)","v":""}]
[{"$f":"IF(ISBLANK(Rådata!A365)=TRUE,\"\",Rådata!A365)","v":""},{"$f":"IF(ISBLANK(Rådata!A365)=TRUE,\"\",YEAR(A365))","v":""},{"$f":"IF(ISBLANK(Rådata!A365)=TRUE,\"\",VLOOKUP(MONTH(A365),Opsætning!$G$3:$H$14,2,FALSE))","v":""},{"$f":"IF(ISBLANK(Rådata!B365)=TRUE,\"\",(Rådata!C365*100)/Rådata!B365)","v":""},{"$f":"IF(ISBLANK(Rådata!D365)=TRUE,\"\",((Rådata!D365-Rådata!E365)*100)/Rådata!D365)","v":""},{"$f":"IF(ISBLANK(Rådata!G365)=TRUE,\"\",(Rådata!F365*100)/Rådata!G365)","v":""},{"$f":"IF(ISBLANK(Rådata!K365),\"\",(SUM(Rådata!M365:P365)*100)/SUM(Rådata!H365:K365))","v":""},{"$f":"IF(ISBLANK(Rådata!H365),\"\",((SUM(Rådata!J365:L365)-SUM(Rådata!O365:P365))*100)/SUM(Rådata!H365:L365))","v":""},{"$f":"IF(ISBLANK(Rådata!R365),\"\",(Rådata!Q365*100)/Rådata!R365)","v":""}]
[{"$f":"IF(ISBLANK(Rådata!A366)=TRUE,\"\",Rådata!A366)","v":""},{"$f":"IF(ISBLANK(Rådata!A366)=TRUE,\"\",YEAR(A366))","v":""},{"$f":"IF(ISBLANK(Rådata!A366)=TRUE,\"\",VLOOKUP(MONTH(A366),Opsætning!$G$3:$H$14,2,FALSE))","v":""},{"$f":"IF(ISBLANK(Rådata!B366)=TRUE,\"\",(Rådata!C366*100)/Rådata!B366)","v":""},{"$f":"IF(ISBLANK(Rådata!D366)=TRUE,\"\",((Rådata!D366-Rådata!E366)*100)/Rådata!D366)","v":""},{"$f":"IF(ISBLANK(Rådata!G366)=TRUE,\"\",(Rådata!F366*100)/Rådata!G366)","v":""},{"$f":"IF(ISBLANK(Rådata!K366),\"\",(SUM(Rådata!M366:P366)*100)/SUM(Rådata!H366:K366))","v":""},{"$f":"IF(ISBLANK(Rådata!H366),\"\",((SUM(Rådata!J366:L366)-SUM(Rådata!O366:P366))*100)/SUM(Rådata!H366:L366))","v":""},{"$f":"IF(ISBLANK(Rådata!R366),\"\",(Rådata!Q366*100)/Rådata!R366)","v":""}]
[{"$f":"IF(ISBLANK(Rådata!A367)=TRUE,\"\",Rådata!A367)","v":""},{"$f":"IF(ISBLANK(Rådata!A367)=TRUE,\"\",YEAR(A367))","v":""},{"$f":"IF(ISBLANK(Rådata!A367)=TRUE,\"\",VLOOKUP(MONTH(A367),Opsætning!$G$3:$H$14,2,FALSE))","v":""},{"$f":"IF(ISBLANK(Rådata!B367)=TRUE,\"\",(Rådata!C367*100)/Rådata!B367)","v":""},{"$f":"IF(ISBLANK(Rådata!D367)=TRUE,\"\",((Rådata!D367-Rådata!E367)*100)/Rådata!D367)","v":""},{"$f":"IF(ISBLANK(Rådata!G367)=TRUE,\"\",(Rådata!F367*100)/Rådata!G367)","v":""},{"$f":"IF(ISBLANK(Rådata!K367),\"\",(SUM(Rådata!M367:P367)*100)/SUM(Rådata!H367:K367))","v":""},{"$f":"IF(ISBLANK(Rådata!H367),\"\",((SUM(Rådata!J367:L367)-SUM(Rådata!O367:P367))*100)/SUM(Rådata!H367:L367))","v":""},{"$f":"IF(ISBLANK(Rådata!R367),\"\",(Rådata!Q367*100)/Rådata!R367)","v":""}]
[{"$f":"IF(ISBLANK(Rådata!A368)=TRUE,\"\",Rådata!A368)","v":""},{"$f":"IF(ISBLANK(Rådata!A368)=TRUE,\"\",YEAR(A368))","v":""},{"$f":"IF(ISBLANK(Rådata!A368)=TRUE,\"\",VLOOKUP(MONTH(A368),Opsætning!$G$3:$H$14,2,FALSE))","v":""},{"$f":"IF(ISBLANK(Rådata!B368)=TRUE,\"\",(Rådata!C368*100)/Rådata!B368)","v":""},{"$f":"IF(ISBLANK(Rådata!D368)=TRUE,\"\",((Rådata!D368-Rådata!E368)*100)/Rådata!D368)","v":""},{"$f":"IF(ISBLANK(Rådata!G368)=TRUE,\"\",(Rådata!F368*100)/Rådata!G368)","v":""},{"$f":"IF(ISBLANK(Rådata!K368),\"\",(SUM(Rådata!M368:P368)*100)/SUM(Rådata!H368:K368))","v":""},{"$f":"IF(ISBLANK(Rådata!H368),\"\",((SUM(Rådata!J368:L368)-SUM(Rådata!O368:P368))*100)/SUM(Rådata!H368:L368))","v":""},{"$f":"IF(ISBLANK(Rådata!R368),\"\",(Rådata!Q368*100)/Rådata!R368)","v":""}]
[{"$f":"IF(ISBLANK(Rådata!A369)=TRUE,\"\",Rådata!A369)","v":""},{"$f":"IF(ISBLANK(Rådata!A369)=TRUE,\"\",YEAR(A369))","v":""},{"$f":"IF(ISBLANK(Rådata!A369)=TRUE,\"\",VLOOKUP(MONTH(A369),Opsætning!$G$3:$H$14,2,FALSE))","v":""},{"$f":"IF(ISBLANK(Rådata!B369)=TRUE,\"\",(Rådata!C369*100)/Rådata!B369)","v":""},{"$f":"IF(ISBLANK(Rådata!D369)=TRUE,\"\",((Rådata!D369-Rådata!E369)*100)/Rådata!D369)","v":""},{"$f":"IF(ISBLANK(Rådata!G369)=TRUE,\"\",(Rådata!F369*100)/Rådata!G369)","v":""},{"$f":"IF(ISBLANK(Rådata!K369),\"\",(SUM(Rådata!M369:P369)*100)/SUM(Rådata!H369:K369))","v":""},{"$f":"IF(ISBLANK(Rådata!H369),\"\",((SUM(Rådata!J369:L369)-SUM(Rådata!O369:P369))*100)/SUM(Rådata!H369:L369))","v":""},{"$f":"IF(ISBLANK(Rådata!R369),\"\",(Rådata!Q369*100)/Rådata!R369)","v":""}]
[{"$f":"IF(ISBLANK(Rådata!A370)=TRUE,\"\",Rådata!A370)","v":""},{"$f":"IF(ISBLANK(Rådata!A370)=TRUE,\"\",YEAR(A370))","v":""},{"$f":"IF(ISBLANK(Rådata!A370)=TRUE,\"\",VLOOKUP(MONTH(A370),Opsætning!$G$3:$H$14,2,FALSE))","v":""},{"$f":"IF(ISBLANK(Rådata!B370)=TRUE,\"\",(Rådata!C370*100)/Rådata!B370)","v":""},{"$f":"IF(ISBLANK(Rådata!D370)=TRUE,\"\",((Rådata!D370-Rådata!E370)*100)/Rådata!D370)","v":""},{"$f":"IF(ISBLANK(Rådata!G370)=TRUE,\"\",(Rådata!F370*100)/Rådata!G370)","v":""},{"$f":"IF(ISBLANK(Rådata!K370),\"\",(SUM(Rådata!M370:P370)*100)/SUM(Rådata!H370:K370))","v":""},{"$f":"IF(ISBLANK(Rådata!H370),\"\",((SUM(Rådata!J370:L370)-SUM(Rådata!O370:P370))*100)/SUM(Rådata!H370:L370))","v":""},{"$f":"IF(ISBLANK(Rådata!R370),\"\",(Rådata!Q370*100)/Rådata!R370)","v":""}]
[{"$f":"IF(ISBLANK(Rådata!A371)=TRUE,\"\",Rådata!A371)","v":""},{"$f":"IF(ISBLANK(Rådata!A371)=TRUE,\"\",YEAR(A371))","v":""},{"$f":"IF(ISBLANK(Rådata!A371)=TRUE,\"\",VLOOKUP(MONTH(A371),Opsætning!$G$3:$H$14,2,FALSE))","v":""},{"$f":"IF(ISBLANK(Rådata!B371)=TRUE,\"\",(Rådata!C371*100)/Rådata!B371)","v":""},{"$f":"IF(ISBLANK(Rådata!D371)=TRUE,\"\",((Rådata!D371-Rådata!E371)*100)/Rådata!D371)","v":""},{"$f":"IF(ISBLANK(Rådata!G371)=TRUE,\"\",(Rådata!F371*100)/Rådata!G371)","v":""},{"$f":"IF(ISBLANK(Rådata!K371),\"\",(SUM(Rådata!M371:P371)*100)/SUM(Rådata!H371:K371))","v":""},{"$f":"IF(ISBLANK(Rådata!H371),\"\",((SUM(Rådata!J371:L371)-SUM(Rådata!O371:P371))*100)/SUM(Rådata!H371:L371))","v":""},{"$f":"IF(ISBLANK(Rådata!R371),\"\",(Rådata!Q371*100)/Rådata!R371)","v":""}]
[{"$f":"IF(ISBLANK(Rådata!A372)=TRUE,\"\",Rådata!A372)","v":""},{"$f":"IF(ISBLANK(Rådata!A372)=TRUE,\"\",YEAR(A372))","v":""},{"$f":"IF(ISBLANK(Rådata!A372)=TRUE,\"\",VLOOKUP(MONTH(A372),Opsætning!$G$3:$H$14,2,FALSE))","v":""},{"$f":"IF(ISBLANK(Rådata!B372)=TRUE,\"\",(Rådata!C372*100)/Rådata!B372)","v":""},{"$f":"IF(ISBLANK(Rådata!D372)=TRUE,\"\",((Rådata!D372-Rådata!E372)*100)/Rådata!D372)","v":""},{"$f":"IF(ISBLANK(Rådata!G372)=TRUE,\"\",(Rådata!F372*100)/Rådata!G372)","v":""},{"$f":"IF(ISBLANK(Rådata!K372),\"\",(SUM(Rådata!M372:P372)*100)/SUM(Rådata!H372:K372))","v":""},{"$f":"IF(ISBLANK(Rådata!H372),\"\",((SUM(Rådata!J372:L372)-SUM(Rådata!O372:P372))*100)/SUM(Rådata!H372:L372))","v":""},{"$f":"IF(ISBLANK(Rådata!R372),\"\",(Rådata!Q372*100)/Rådata!R372)","v":""}]
[{"$f":"IF(ISBLANK(Rådata!A373)=TRUE,\"\",Rådata!A373)","v":""},{"$f":"IF(ISBLANK(Rådata!A373)=TRUE,\"\",YEAR(A373))","v":""},{"$f":"IF(ISBLANK(Rådata!A373)=TRUE,\"\",VLOOKUP(MONTH(A373),Opsætning!$G$3:$H$14,2,FALSE))","v":""},{"$f":"IF(ISBLANK(Rådata!B373)=TRUE,\"\",(Rådata!C373*100)/Rådata!B373)","v":""},{"$f":"IF(ISBLANK(Rådata!D373)=TRUE,\"\",((Rådata!D373-Rådata!E373)*100)/Rådata!D373)","v":""},{"$f":"IF(ISBLANK(Rådata!G373)=TRUE,\"\",(Rådata!F373*100)/Rådata!G373)","v":""},{"$f":"IF(ISBLANK(Rådata!K373),\"\",(SUM(Rådata!M373:P373)*100)/SUM(Rådata!H373:K373))","v":""},{"$f":"IF(ISBLANK(Rådata!H373),\"\",((SUM(Rådata!J373:L373)-SUM(Rådata!O373:P373))*100)/SUM(Rådata!H373:L373))","v":""},{"$f":"IF(ISBLANK(Rådata!R373),\"\",(Rådata!Q373*100)/Rådata!R373)","v":""}]
[{"$f":"IF(ISBLANK(Rådata!A374)=TRUE,\"\",Rådata!A374)","v":""},{"$f":"IF(ISBLANK(Rådata!A374)=TRUE,\"\",YEAR(A374))","v":""},{"$f":"IF(ISBLANK(Rådata!A374)=TRUE,\"\",VLOOKUP(MONTH(A374),Opsætning!$G$3:$H$14,2,FALSE))","v":""},{"$f":"IF(ISBLANK(Rådata!B374)=TRUE,\"\",(Rådata!C374*100)/Rådata!B374)","v":""},{"$f":"IF(ISBLANK(Rådata!D374)=TRUE,\"\",((Rådata!D374-Rådata!E374)*100)/Rådata!D374)","v":""},{"$f":"IF(ISBLANK(Rådata!G374)=TRUE,\"\",(Rådata!F374*100)/Rådata!G374)","v":""},{"$f":"IF(ISBLANK(Rådata!K374),\"\",(SUM(Rådata!M374:P374)*100)/SUM(Rådata!H374:K374))","v":""},{"$f":"IF(ISBLANK(Rådata!H374),\"\",((SUM(Rådata!J374:L374)-SUM(Rådata!O374:P374))*100)/SUM(Rådata!H374:L374))","v":""},{"$f":"IF(ISBLANK(Rådata!R374),\"\",(Rådata!Q374*100)/Rådata!R374)","v":""}]
[{"$f":"IF(ISBLANK(Rådata!A375)=TRUE,\"\",Rådata!A375)","v":""},{"$f":"IF(ISBLANK(Rådata!A375)=TRUE,\"\",YEAR(A375))","v":""},{"$f":"IF(ISBLANK(Rådata!A375)=TRUE,\"\",VLOOKUP(MONTH(A375),Opsætning!$G$3:$H$14,2,FALSE))","v":""},{"$f":"IF(ISBLANK(Rådata!B375)=TRUE,\"\",(Rådata!C375*100)/Rådata!B375)","v":""},{"$f":"IF(ISBLANK(Rådata!D375)=TRUE,\"\",((Rådata!D375-Rådata!E375)*100)/Rådata!D375)","v":""},{"$f":"IF(ISBLANK(Rådata!G375)=TRUE,\"\",(Rådata!F375*100)/Rådata!G375)","v":""},{"$f":"IF(ISBLANK(Rådata!K375),\"\",(SUM(Rådata!M375:P375)*100)/SUM(Rådata!H375:K375))","v":""},{"$f":"IF(ISBLANK(Rådata!H375),\"\",((SUM(Rådata!J375:L375)-SUM(Rådata!O375:P375))*100)/SUM(Rådata!H375:L375))","v":""},{"$f":"IF(ISBLANK(Rådata!R375),\"\",(Rådata!Q375*100)/Rådata!R375)","v":""}]
[{"$f":"IF(ISBLANK(Rådata!A376)=TRUE,\"\",Rådata!A376)","v":""},{"$f":"IF(ISBLANK(Rådata!A376)=TRUE,\"\",YEAR(A376))","v":""},{"$f":"IF(ISBLANK(Rådata!A376)=TRUE,\"\",VLOOKUP(MONTH(A376),Opsætning!$G$3:$H$14,2,FALSE))","v":""},{"$f":"IF(ISBLANK(Rådata!B376)=TRUE,\"\",(Rådata!C376*100)/Rådata!B376)","v":""},{"$f":"IF(ISBLANK(Rådata!D376)=TRUE,\"\",((Rådata!D376-Rådata!E376)*100)/Rådata!D376)","v":""},{"$f":"IF(ISBLANK(Rådata!G376)=TRUE,\"\",(Rådata!F376*100)/Rådata!G376)","v":""},{"$f":"IF(ISBLANK(Rådata!K376),\"\",(SUM(Rådata!M376:P376)*100)/SUM(Rådata!H376:K376))","v":""},{"$f":"IF(ISBLANK(Rådata!H376),\"\",((SUM(Rådata!J376:L376)-SUM(Rådata!O376:P376))*100)/SUM(Rådata!H376:L376))","v":""},{"$f":"IF(ISBLANK(Rådata!R376),\"\",(Rådata!Q376*100)/Rådata!R376)","v":""}]
[{"$f":"IF(ISBLANK(Rådata!A377)=TRUE,\"\",Rådata!A377)","v":""},{"$f":"IF(ISBLANK(Rådata!A377)=TRUE,\"\",YEAR(A377))","v":""},{"$f":"IF(ISBLANK(Rådata!A377)=TRUE,\"\",VLOOKUP(MONTH(A377),Opsætning!$G$3:$H$14,2,FALSE))","v":""},{"$f":"IF(ISBLANK(Rådata!B377)=TRUE,\"\",(Rådata!C377*100)/Rådata!B377)","v":""},{"$f":"IF(ISBLANK(Rådata!D377)=TRUE,\"\",((Rådata!D377-Rådata!E377)*100)/Rådata!D377)","v":""},{"$f":"IF(ISBLANK(Rådata!G377)=TRUE,\"\",(Rådata!F377*100)/Rådata!G377)","v":""},{"$f":"IF(ISBLANK(Rådata!K377),\"\",(SUM(Rådata!M377:P377)*100)/SUM(Rådata!H377:K377))","v":""},{"$f":"IF(ISBLANK(Rådata!H377),\"\",((SUM(Rådata!J377:L377)-SUM(Rådata!O377:P377))*100)/SUM(Rådata!H377:L377))","v":""},{"$f":"IF(ISBLANK(Rådata!R377),\"\",(Rådata!Q377*100)/Rådata!R377)","v":""}]
[{"$f":"IF(ISBLANK(Rådata!A378)=TRUE,\"\",Rådata!A378)","v":""},{"$f":"IF(ISBLANK(Rådata!A378)=TRUE,\"\",YEAR(A378))","v":""},{"$f":"IF(ISBLANK(Rådata!A378)=TRUE,\"\",VLOOKUP(MONTH(A378),Opsætning!$G$3:$H$14,2,FALSE))","v":""},{"$f":"IF(ISBLANK(Rådata!B378)=TRUE,\"\",(Rådata!C378*100)/Rådata!B378)","v":""},{"$f":"IF(ISBLANK(Rådata!D378)=TRUE,\"\",((Rådata!D378-Rådata!E378)*100)/Rådata!D378)","v":""},{"$f":"IF(ISBLANK(Rådata!G378)=TRUE,\"\",(Rådata!F378*100)/Rådata!G378)","v":""},{"$f":"IF(ISBLANK(Rådata!K378),\"\",(SUM(Rådata!M378:P378)*100)/SUM(Rådata!H378:K378))","v":""},{"$f":"IF(ISBLANK(Rådata!H378),\"\",((SUM(Rådata!J378:L378)-SUM(Rådata!O378:P378))*100)/SUM(Rådata!H378:L378))","v":""},{"$f":"IF(ISBLANK(Rådata!R378),\"\",(Rådata!Q378*100)/Rådata!R378)","v":""}]
[{"$f":"IF(ISBLANK(Rådata!A379)=TRUE,\"\",Rådata!A379)","v":""},{"$f":"IF(ISBLANK(Rådata!A379)=TRUE,\"\",YEAR(A379))","v":""},{"$f":"IF(ISBLANK(Rådata!A379)=TRUE,\"\",VLOOKUP(MONTH(A379),Opsætning!$G$3:$H$14,2,FALSE))","v":""},{"$f":"IF(ISBLANK(Rådata!B379)=TRUE,\"\",(Rådata!C379*100)/Rådata!B379)","v":""},{"$f":"IF(ISBLANK(Rådata!D379)=TRUE,\"\",((Rådata!D379-Rådata!E379)*100)/Rådata!D379)","v":""},{"$f":"IF(ISBLANK(Rådata!G379)=TRUE,\"\",(Rådata!F379*100)/Rådata!G379)","v":""},{"$f":"IF(ISBLANK(Rådata!K379),\"\",(SUM(Rådata!M379:P379)*100)/SUM(Rådata!H379:K379))","v":""},{"$f":"IF(ISBLANK(Rådata!H379),\"\",((SUM(Rådata!J379:L379)-SUM(Rådata!O379:P379))*100)/SUM(Rådata!H379:L379))","v":""},{"$f":"IF(ISBLANK(Rådata!R379),\"\",(Rådata!Q379*100)/Rådata!R379)","v":""}]
[{"$f":"IF(ISBLANK(Rådata!A380)=TRUE,\"\",Rådata!A380)","v":""},{"$f":"IF(ISBLANK(Rådata!A380)=TRUE,\"\",YEAR(A380))","v":""},{"$f":"IF(ISBLANK(Rådata!A380)=TRUE,\"\",VLOOKUP(MONTH(A380),Opsætning!$G$3:$H$14,2,FALSE))","v":""},{"$f":"IF(ISBLANK(Rådata!B380)=TRUE,\"\",(Rådata!C380*100)/Rådata!B380)","v":""},{"$f":"IF(ISBLANK(Rådata!D380)=TRUE,\"\",((Rådata!D380-Rådata!E380)*100)/Rådata!D380)","v":""},{"$f":"IF(ISBLANK(Rådata!G380)=TRUE,\"\",(Rådata!F380*100)/Rådata!G380)","v":""},{"$f":"IF(ISBLANK(Rådata!K380),\"\",(SUM(Rådata!M380:P380)*100)/SUM(Rådata!H380:K380))","v":""},{"$f":"IF(ISBLANK(Rådata!H380),\"\",((SUM(Rådata!J380:L380)-SUM(Rådata!O380:P380))*100)/SUM(Rådata!H380:L380))","v":""},{"$f":"IF(ISBLANK(Rådata!R380),\"\",(Rådata!Q380*100)/Rådata!R380)","v":""}]
[{"$f":"IF(ISBLANK(Rådata!A381)=TRUE,\"\",Rådata!A381)","v":""},{"$f":"IF(ISBLANK(Rådata!A381)=TRUE,\"\",YEAR(A381))","v":""},{"$f":"IF(ISBLANK(Rådata!A381)=TRUE,\"\",VLOOKUP(MONTH(A381),Opsætning!$G$3:$H$14,2,FALSE))","v":""},{"$f":"IF(ISBLANK(Rådata!B381)=TRUE,\"\",(Rådata!C381*100)/Rådata!B381)","v":""},{"$f":"IF(ISBLANK(Rådata!D381)=TRUE,\"\",((Rådata!D381-Rådata!E381)*100)/Rådata!D381)","v":""},{"$f":"IF(ISBLANK(Rådata!G381)=TRUE,\"\",(Rådata!F381*100)/Rådata!G381)","v":""},{"$f":"IF(ISBLANK(Rådata!K381),\"\",(SUM(Rådata!M381:P381)*100)/SUM(Rådata!H381:K381))","v":""},{"$f":"IF(ISBLANK(Rådata!H381),\"\",((SUM(Rådata!J381:L381)-SUM(Rådata!O381:P381))*100)/SUM(Rådata!H381:L381))","v":""},{"$f":"IF(ISBLANK(Rådata!R381),\"\",(Rådata!Q381*100)/Rådata!R381)","v":""}]
[{"$f":"IF(ISBLANK(Rådata!A382)=TRUE,\"\",Rådata!A382)","v":""},{"$f":"IF(ISBLANK(Rådata!A382)=TRUE,\"\",YEAR(A382))","v":""},{"$f":"IF(ISBLANK(Rådata!A382)=TRUE,\"\",VLOOKUP(MONTH(A382),Opsætning!$G$3:$H$14,2,FALSE))","v":""},{"$f":"IF(ISBLANK(Rådata!B382)=TRUE,\"\",(Rådata!C382*100)/Rådata!B382)","v":""},{"$f":"IF(ISBLANK(Rådata!D382)=TRUE,\"\",((Rådata!D382-Rådata!E382)*100)/Rådata!D382)","v":""},{"$f":"IF(ISBLANK(Rådata!G382)=TRUE,\"\",(Rådata!F382*100)/Rådata!G382)","v":""},{"$f":"IF(ISBLANK(Rådata!K382),\"\",(SUM(Rådata!M382:P382)*100)/SUM(Rådata!H382:K382))","v":""},{"$f":"IF(ISBLANK(Rådata!H382),\"\",((SUM(Rådata!J382:L382)-SUM(Rådata!O382:P382))*100)/SUM(Rådata!H382:L382))","v":""},{"$f":"IF(ISBLANK(Rådata!R382),\"\",(Rådata!Q382*100)/Rådata!R382)","v":""}]
[{"$f":"IF(ISBLANK(Rådata!A383)=TRUE,\"\",Rådata!A383)","v":""},{"$f":"IF(ISBLANK(Rådata!A383)=TRUE,\"\",YEAR(A383))","v":""},{"$f":"IF(ISBLANK(Rådata!A383)=TRUE,\"\",VLOOKUP(MONTH(A383),Opsætning!$G$3:$H$14,2,FALSE))","v":""},{"$f":"IF(ISBLANK(Rådata!B383)=TRUE,\"\",(Rådata!C383*100)/Rådata!B383)","v":""},{"$f":"IF(ISBLANK(Rådata!D383)=TRUE,\"\",((Rådata!D383-Rådata!E383)*100)/Rådata!D383)","v":""},{"$f":"IF(ISBLANK(Rådata!G383)=TRUE,\"\",(Rådata!F383*100)/Rådata!G383)","v":""},{"$f":"IF(ISBLANK(Rådata!K383),\"\",(SUM(Rådata!M383:P383)*100)/SUM(Rådata!H383:K383))","v":""},{"$f":"IF(ISBLANK(Rådata!H383),\"\",((SUM(Rådata!J383:L383)-SUM(Rådata!O383:P383))*100)/SUM(Rådata!H383:L383))","v":""},{"$f":"IF(ISBLANK(Rådata!R383),\"\",(Rådata!Q383*100)/Rådata!R383)","v":""}]
[{"$f":"IF(ISBLANK(Rådata!A384)=TRUE,\"\",Rådata!A384)","v":""},{"$f":"IF(ISBLANK(Rådata!A384)=TRUE,\"\",YEAR(A384))","v":""},{"$f":"IF(ISBLANK(Rådata!A384)=TRUE,\"\",VLOOKUP(MONTH(A384),Opsætning!$G$3:$H$14,2,FALSE))","v":""},{"$f":"IF(ISBLANK(Rådata!B384)=TRUE,\"\",(Rådata!C384*100)/Rådata!B384)","v":""},{"$f":"IF(ISBLANK(Rådata!D384)=TRUE,\"\",((Rådata!D384-Rådata!E384)*100)/Rådata!D384)","v":""},{"$f":"IF(ISBLANK(Rådata!G384)=TRUE,\"\",(Rådata!F384*100)/Rådata!G384)","v":""},{"$f":"IF(ISBLANK(Rådata!K384),\"\",(SUM(Rådata!M384:P384)*100)/SUM(Rådata!H384:K384))","v":""},{"$f":"IF(ISBLANK(Rådata!H384),\"\",((SUM(Rådata!J384:L384)-SUM(Rådata!O384:P384))*100)/SUM(Rådata!H384:L384))","v":""},{"$f":"IF(ISBLANK(Rådata!R384),\"\",(Rådata!Q384*100)/Rådata!R384)","v":""}]
[{"$f":"IF(ISBLANK(Rådata!A385)=TRUE,\"\",Rådata!A385)","v":""},{"$f":"IF(ISBLANK(Rådata!A385)=TRUE,\"\",YEAR(A385))","v":""},{"$f":"IF(ISBLANK(Rådata!A385)=TRUE,\"\",VLOOKUP(MONTH(A385),Opsætning!$G$3:$H$14,2,FALSE))","v":""},{"$f":"IF(ISBLANK(Rådata!B385)=TRUE,\"\",(Rådata!C385*100)/Rådata!B385)","v":""},{"$f":"IF(ISBLANK(Rådata!D385)=TRUE,\"\",((Rådata!D385-Rådata!E385)*100)/Rådata!D385)","v":""},{"$f":"IF(ISBLANK(Rådata!G385)=TRUE,\"\",(Rådata!F385*100)/Rådata!G385)","v":""},{"$f":"IF(ISBLANK(Rådata!K385),\"\",(SUM(Rådata!M385:P385)*100)/SUM(Rådata!H385:K385))","v":""},{"$f":"IF(ISBLANK(Rådata!H385),\"\",((SUM(Rådata!J385:L385)-SUM(Rådata!O385:P385))*100)/SUM(Rådata!H385:L385))","v":""},{"$f":"IF(ISBLANK(Rådata!R385),\"\",(Rådata!Q385*100)/Rådata!R385)","v":""}]
[{"$f":"IF(ISBLANK(Rådata!A386)=TRUE,\"\",Rådata!A386)","v":""},{"$f":"IF(ISBLANK(Rådata!A386)=TRUE,\"\",YEAR(A386))","v":""},{"$f":"IF(ISBLANK(Rådata!A386)=TRUE,\"\",VLOOKUP(MONTH(A386),Opsætning!$G$3:$H$14,2,FALSE))","v":""},{"$f":"IF(ISBLANK(Rådata!B386)=TRUE,\"\",(Rådata!C386*100)/Rådata!B386)","v":""},{"$f":"IF(ISBLANK(Rådata!D386)=TRUE,\"\",((Rådata!D386-Rådata!E386)*100)/Rådata!D386)","v":""},{"$f":"IF(ISBLANK(Rådata!G386)=TRUE,\"\",(Rådata!F386*100)/Rådata!G386)","v":""},{"$f":"IF(ISBLANK(Rådata!K386),\"\",(SUM(Rådata!M386:P386)*100)/SUM(Rådata!H386:K386))","v":""},{"$f":"IF(ISBLANK(Rådata!H386),\"\",((SUM(Rådata!J386:L386)-SUM(Rådata!O386:P386))*100)/SUM(Rådata!H386:L386))","v":""},{"$f":"IF(ISBLANK(Rådata!R386),\"\",(Rådata!Q386*100)/Rådata!R386)","v":""}]
[{"$f":"IF(ISBLANK(Rådata!A387)=TRUE,\"\",Rådata!A387)","v":""},{"$f":"IF(ISBLANK(Rådata!A387)=TRUE,\"\",YEAR(A387))","v":""},{"$f":"IF(ISBLANK(Rådata!A387)=TRUE,\"\",VLOOKUP(MONTH(A387),Opsætning!$G$3:$H$14,2,FALSE))","v":""},{"$f":"IF(ISBLANK(Rådata!B387)=TRUE,\"\",(Rådata!C387*100)/Rådata!B387)","v":""},{"$f":"IF(ISBLANK(Rådata!D387)=TRUE,\"\",((Rådata!D387-Rådata!E387)*100)/Rådata!D387)","v":""},{"$f":"IF(ISBLANK(Rådata!G387)=TRUE,\"\",(Rådata!F387*100)/Rådata!G387)","v":""},{"$f":"IF(ISBLANK(Rådata!K387),\"\",(SUM(Rådata!M387:P387)*100)/SUM(Rådata!H387:K387))","v":""},{"$f":"IF(ISBLANK(Rådata!H387),\"\",((SUM(Rådata!J387:L387)-SUM(Rådata!O387:P387))*100)/SUM(Rådata!H387:L387))","v":""},{"$f":"IF(ISBLANK(Rådata!R387),\"\",(Rådata!Q387*100)/Rådata!R387)","v":""}]
[{"$f":"IF(ISBLANK(Rådata!A388)=TRUE,\"\",Rådata!A388)","v":""},{"$f":"IF(ISBLANK(Rådata!A388)=TRUE,\"\",YEAR(A388))","v":""},{"$f":"IF(ISBLANK(Rådata!A388)=TRUE,\"\",VLOOKUP(MONTH(A388),Opsætning!$G$3:$H$14,2,FALSE))","v":""},{"$f":"IF(ISBLANK(Rådata!B388)=TRUE,\"\",(Rådata!C388*100)/Rådata!B388)","v":""},{"$f":"IF(ISBLANK(Rådata!D388)=TRUE,\"\",((Rådata!D388-Rådata!E388)*100)/Rådata!D388)","v":""},{"$f":"IF(ISBLANK(Rådata!G388)=TRUE,\"\",(Rådata!F388*100)/Rådata!G388)","v":""},{"$f":"IF(ISBLANK(Rådata!K388),\"\",(SUM(Rådata!M388:P388)*100)/SUM(Rådata!H388:K388))","v":""},{"$f":"IF(ISBLANK(Rådata!H388),\"\",((SUM(Rådata!J388:L388)-SUM(Rådata!O388:P388))*100)/SUM(Rådata!H388:L388))","v":""},{"$f":"IF(ISBLANK(Rådata!R388),\"\",(Rådata!Q388*100)/Rådata!R388)","v":""}]
[{"$f":"IF(ISBLANK(Rådata!A389)=TRUE,\"\",Rådata!A389)","v":""},{"$f":"IF(ISBLANK(Rådata!A389)=TRUE,\"\",YEAR(A389))","v":""},{"$f":"IF(ISBLANK(Rådata!A389)=TRUE,\"\",VLOOKUP(MONTH(A389),Opsætning!$G$3:$H$14,2,FALSE))","v":""},{"$f":"IF(ISBLANK(Rådata!B389)=TRUE,\"\",(Rådata!C389*100)/Rådata!B389)","v":""},{"$f":"IF(ISBLANK(Rådata!D389)=TRUE,\"\",((Rådata!D389-Rådata!E389)*100)/Rådata!D389)","v":""},{"$f":"IF(ISBLANK(Rådata!G389)=TRUE,\"\",(Rådata!F389*100)/Rådata!G389)","v":""},{"$f":"IF(ISBLANK(Rådata!K389),\"\",(SUM(Rådata!M389:P389)*100)/SUM(Rådata!H389:K389))","v":""},{"$f":"IF(ISBLANK(Rådata!H389),\"\",((SUM(Rådata!J389:L389)-SUM(Rådata!O389:P389))*100)/SUM(Rådata!H389:L389))","v":""},{"$f":"IF(ISBLANK(Rådata!R389),\"\",(Rådata!Q389*100)/Rådata!R389)","v":""}]
[{"$f":"IF(ISBLANK(Rådata!A390)=TRUE,\"\",Rådata!A390)","v":""},{"$f":"IF(ISBLANK(Rådata!A390)=TRUE,\"\",YEAR(A390))","v":""},{"$f":"IF(ISBLANK(Rådata!A390)=TRUE,\"\",VLOOKUP(MONTH(A390),Opsætning!$G$3:$H$14,2,FALSE))","v":""},{"$f":"IF(ISBLANK(Rådata!B390)=TRUE,\"\",(Rådata!C390*100)/Rådata!B390)","v":""},{"$f":"IF(ISBLANK(Rådata!D390)=TRUE,\"\",((Rådata!D390-Rådata!E390)*100)/Rådata!D390)","v":""},{"$f":"IF(ISBLANK(Rådata!G390)=TRUE,\"\",(Rådata!F390*100)/Rådata!G390)","v":""},{"$f":"IF(ISBLANK(Rådata!K390),\"\",(SUM(Rådata!M390:P390)*100)/SUM(Rådata!H390:K390))","v":""},{"$f":"IF(ISBLANK(Rådata!H390),\"\",((SUM(Rådata!J390:L390)-SUM(Rådata!O390:P390))*100)/SUM(Rådata!H390:L390))","v":""},{"$f":"IF(ISBLANK(Rådata!R390),\"\",(Rådata!Q390*100)/Rådata!R390)","v":""}]
[{"$f":"IF(ISBLANK(Rådata!A391)=TRUE,\"\",Rådata!A391)","v":""},{"$f":"IF(ISBLANK(Rådata!A391)=TRUE,\"\",YEAR(A391))","v":""},{"$f":"IF(ISBLANK(Rådata!A391)=TRUE,\"\",VLOOKUP(MONTH(A391),Opsætning!$G$3:$H$14,2,FALSE))","v":""},{"$f":"IF(ISBLANK(Rådata!B391)=TRUE,\"\",(Rådata!C391*100)/Rådata!B391)","v":""},{"$f":"IF(ISBLANK(Rådata!D391)=TRUE,\"\",((Rådata!D391-Rådata!E391)*100)/Rådata!D391)","v":""},{"$f":"IF(ISBLANK(Rådata!G391)=TRUE,\"\",(Rådata!F391*100)/Rådata!G391)","v":""},{"$f":"IF(ISBLANK(Rådata!K391),\"\",(SUM(Rådata!M391:P391)*100)/SUM(Rådata!H391:K391))","v":""},{"$f":"IF(ISBLANK(Rådata!H391),\"\",((SUM(Rådata!J391:L391)-SUM(Rådata!O391:P391))*100)/SUM(Rådata!H391:L391))","v":""},{"$f":"IF(ISBLANK(Rådata!R391),\"\",(Rådata!Q391*100)/Rådata!R391)","v":""}]
[{"$f":"IF(ISBLANK(Rådata!A392)=TRUE,\"\",Rådata!A392)","v":""},{"$f":"IF(ISBLANK(Rådata!A392)=TRUE,\"\",YEAR(A392))","v":""},{"$f":"IF(ISBLANK(Rådata!A392)=TRUE,\"\",VLOOKUP(MONTH(A392),Opsætning!$G$3:$H$14,2,FALSE))","v":""},{"$f":"IF(ISBLANK(Rådata!B392)=TRUE,\"\",(Rådata!C392*100)/Rådata!B392)","v":""},{"$f":"IF(ISBLANK(Rådata!D392)=TRUE,\"\",((Rådata!D392-Rådata!E392)*100)/Rådata!D392)","v":""},{"$f":"IF(ISBLANK(Rådata!G392)=TRUE,\"\",(Rådata!F392*100)/Rådata!G392)","v":""},{"$f":"IF(ISBLANK(Rådata!K392),\"\",(SUM(Rådata!M392:P392)*100)/SUM(Rådata!H392:K392))","v":""},{"$f":"IF(ISBLANK(Rådata!H392),\"\",((SUM(Rådata!J392:L392)-SUM(Rådata!O392:P392))*100)/SUM(Rådata!H392:L392))","v":""},{"$f":"IF(ISBLANK(Rådata!R392),\"\",(Rådata!Q392*100)/Rådata!R392)","v":""}]
[{"$f":"IF(ISBLANK(Rådata!A393)=TRUE,\"\",Rådata!A393)","v":""},{"$f":"IF(ISBLANK(Rådata!A393)=TRUE,\"\",YEAR(A393))","v":""},{"$f":"IF(ISBLANK(Rådata!A393)=TRUE,\"\",VLOOKUP(MONTH(A393),Opsætning!$G$3:$H$14,2,FALSE))","v":""},{"$f":"IF(ISBLANK(Rådata!B393)=TRUE,\"\",(Rådata!C393*100)/Rådata!B393)","v":""},{"$f":"IF(ISBLANK(Rådata!D393)=TRUE,\"\",((Rådata!D393-Rådata!E393)*100)/Rådata!D393)","v":""},{"$f":"IF(ISBLANK(Rådata!G393)=TRUE,\"\",(Rådata!F393*100)/Rådata!G393)","v":""},{"$f":"IF(ISBLANK(Rådata!K393),\"\",(SUM(Rådata!M393:P393)*100)/SUM(Rådata!H393:K393))","v":""},{"$f":"IF(ISBLANK(Rådata!H393),\"\",((SUM(Rådata!J393:L393)-SUM(Rådata!O393:P393))*100)/SUM(Rådata!H393:L393))","v":""},{"$f":"IF(ISBLANK(Rådata!R393),\"\",(Rådata!Q393*100)/Rådata!R393)","v":""}]
[{"$f":"IF(ISBLANK(Rådata!A394)=TRUE,\"\",Rådata!A394)","v":""},{"$f":"IF(ISBLANK(Rådata!A394)=TRUE,\"\",YEAR(A394))","v":""},{"$f":"IF(ISBLANK(Rådata!A394)=TRUE,\"\",VLOOKUP(MONTH(A394),Opsætning!$G$3:$H$14,2,FALSE))","v":""},{"$f":"IF(ISBLANK(Rådata!B394)=TRUE,\"\",(Rådata!C394*100)/Rådata!B394)","v":""},{"$f":"IF(ISBLANK(Rådata!D394)=TRUE,\"\",((Rådata!D394-Rådata!E394)*100)/Rådata!D394)","v":""},{"$f":"IF(ISBLANK(Rådata!G394)=TRUE,\"\",(Rådata!F394*100)/Rådata!G394)","v":""},{"$f":"IF(ISBLANK(Rådata!K394),\"\",(SUM(Rådata!M394:P394)*100)/SUM(Rådata!H394:K394))","v":""},{"$f":"IF(ISBLANK(Rådata!H394),\"\",((SUM(Rådata!J394:L394)-SUM(Rådata!O394:P394))*100)/SUM(Rådata!H394:L394))","v":""},{"$f":"IF(ISBLANK(Rådata!R394),\"\",(Rådata!Q394*100)/Rådata!R394)","v":""}]
[{"$f":"IF(ISBLANK(Rådata!A395)=TRUE,\"\",Rådata!A395)","v":""},{"$f":"IF(ISBLANK(Rådata!A395)=TRUE,\"\",YEAR(A395))","v":""},{"$f":"IF(ISBLANK(Rådata!A395)=TRUE,\"\",VLOOKUP(MONTH(A395),Opsætning!$G$3:$H$14,2,FALSE))","v":""},{"$f":"IF(ISBLANK(Rådata!B395)=TRUE,\"\",(Rådata!C395*100)/Rådata!B395)","v":""},{"$f":"IF(ISBLANK(Rådata!D395)=TRUE,\"\",((Rådata!D395-Rådata!E395)*100)/Rådata!D395)","v":""},{"$f":"IF(ISBLANK(Rådata!G395)=TRUE,\"\",(Rådata!F395*100)/Rådata!G395)","v":""},{"$f":"IF(ISBLANK(Rådata!K395),\"\",(SUM(Rådata!M395:P395)*100)/SUM(Rådata!H395:K395))","v":""},{"$f":"IF(ISBLANK(Rådata!H395),\"\",((SUM(Rådata!J395:L395)-SUM(Rådata!O395:P395))*100)/SUM(Rådata!H395:L395))","v":""},{"$f":"IF(ISBLANK(Rådata!R395),\"\",(Rådata!Q395*100)/Rådata!R395)","v":""}]
[{"$f":"IF(ISBLANK(Rådata!A396)=TRUE,\"\",Rådata!A396)","v":""},{"$f":"IF(ISBLANK(Rådata!A396)=TRUE,\"\",YEAR(A396))","v":""},{"$f":"IF(ISBLANK(Rådata!A396)=TRUE,\"\",VLOOKUP(MONTH(A396),Opsætning!$G$3:$H$14,2,FALSE))","v":""},{"$f":"IF(ISBLANK(Rådata!B396)=TRUE,\"\",(Rådata!C396*100)/Rådata!B396)","v":""},{"$f":"IF(ISBLANK(Rådata!D396)=TRUE,\"\",((Rådata!D396-Rådata!E396)*100)/Rådata!D396)","v":""},{"$f":"IF(ISBLANK(Rådata!G396)=TRUE,\"\",(Rådata!F396*100)/Rådata!G396)","v":""},{"$f":"IF(ISBLANK(Rådata!K396),\"\",(SUM(Rådata!M396:P396)*100)/SUM(Rådata!H396:K396))","v":""},{"$f":"IF(ISBLANK(Rådata!H396),\"\",((SUM(Rådata!J396:L396)-SUM(Rådata!O396:P396))*100)/SUM(Rådata!H396:L396))","v":""},{"$f":"IF(ISBLANK(Rådata!R396),\"\",(Rådata!Q396*100)/Rådata!R396)","v":""}]
[{"$f":"IF(ISBLANK(Rådata!A397)=TRUE,\"\",Rådata!A397)","v":""},{"$f":"IF(ISBLANK(Rådata!A397)=TRUE,\"\",YEAR(A397))","v":""},{"$f":"IF(ISBLANK(Rådata!A397)=TRUE,\"\",VLOOKUP(MONTH(A397),Opsætning!$G$3:$H$14,2,FALSE))","v":""},{"$f":"IF(ISBLANK(Rådata!B397)=TRUE,\"\",(Rådata!C397*100)/Rådata!B397)","v":""},{"$f":"IF(ISBLANK(Rådata!D397)=TRUE,\"\",((Rådata!D397-Rådata!E397)*100)/Rådata!D397)","v":""},{"$f":"IF(ISBLANK(Rådata!G397)=TRUE,\"\",(Rådata!F397*100)/Rådata!G397)","v":""},{"$f":"IF(ISBLANK(Rådata!K397),\"\",(SUM(Rådata!M397:P397)*100)/SUM(Rådata!H397:K397))","v":""},{"$f":"IF(ISBLANK(Rådata!H397),\"\",((SUM(Rådata!J397:L397)-SUM(Rådata!O397:P397))*100)/SUM(Rådata!H397:L397))","v":""},{"$f":"IF(ISBLANK(Rådata!R397),\"\",(Rådata!Q397*100)/Rådata!R397)","v":""}]
[{"$f":"IF(ISBLANK(Rådata!A398)=TRUE,\"\",Rådata!A398)","v":""},{"$f":"IF(ISBLANK(Rådata!A398)=TRUE,\"\",YEAR(A398))","v":""},{"$f":"IF(ISBLANK(Rådata!A398)=TRUE,\"\",VLOOKUP(MONTH(A398),Opsætning!$G$3:$H$14,2,FALSE))","v":""},{"$f":"IF(ISBLANK(Rådata!B398)=TRUE,\"\",(Rådata!C398*100)/Rådata!B398)","v":""},{"$f":"IF(ISBLANK(Rådata!D398)=TRUE,\"\",((Rådata!D398-Rådata!E398)*100)/Rådata!D398)","v":""},{"$f":"IF(ISBLANK(Rådata!G398)=TRUE,\"\",(Rådata!F398*100)/Rådata!G398)","v":""},{"$f":"IF(ISBLANK(Rådata!K398),\"\",(SUM(Rådata!M398:P398)*100)/SUM(Rådata!H398:K398))","v":""},{"$f":"IF(ISBLANK(Rådata!H398),\"\",((SUM(Rådata!J398:L398)-SUM(Rådata!O398:P398))*100)/SUM(Rådata!H398:L398))","v":""},{"$f":"IF(ISBLANK(Rådata!R398),\"\",(Rådata!Q398*100)/Rådata!R398)","v":""}]
[{"$f":"IF(ISBLANK(Rådata!A399)=TRUE,\"\",Rådata!A399)","v":""},{"$f":"IF(ISBLANK(Rådata!A399)=TRUE,\"\",YEAR(A399))","v":""},{"$f":"IF(ISBLANK(Rådata!A399)=TRUE,\"\",VLOOKUP(MONTH(A399),Opsætning!$G$3:$H$14,2,FALSE))","v":""},{"$f":"IF(ISBLANK(Rådata!B399)=TRUE,\"\",(Rådata!C399*100)/Rådata!B399)","v":""},{"$f":"IF(ISBLANK(Rådata!D399)=TRUE,\"\",((Rådata!D399-Rådata!E399)*100)/Rådata!D399)","v":""},{"$f":"IF(ISBLANK(Rådata!G399)=TRUE,\"\",(Rådata!F399*100)/Rådata!G399)","v":""},{"$f":"IF(ISBLANK(Rådata!K399),\"\",(SUM(Rådata!M399:P399)*100)/SUM(Rådata!H399:K399))","v":""},{"$f":"IF(ISBLANK(Rådata!H399),\"\",((SUM(Rådata!J399:L399)-SUM(Rådata!O399:P399))*100)/SUM(Rådata!H399:L399))","v":""},{"$f":"IF(ISBLANK(Rådata!R399),\"\",(Rådata!Q399*100)/Rådata!R399)","v":""}]
[{"$f":"IF(ISBLANK(Rådata!A400)=TRUE,\"\",Rådata!A400)","v":""},{"$f":"IF(ISBLANK(Rådata!A400)=TRUE,\"\",YEAR(A400))","v":""},{"$f":"IF(ISBLANK(Rådata!A400)=TRUE,\"\",VLOOKUP(MONTH(A400),Opsætning!$G$3:$H$14,2,FALSE))","v":""},{"$f":"IF(ISBLANK(Rådata!B400)=TRUE,\"\",(Rådata!C400*100)/Rådata!B400)","v":""},{"$f":"IF(ISBLANK(Rådata!D400)=TRUE,\"\",((Rådata!D400-Rådata!E400)*100)/Rådata!D400)","v":""},{"$f":"IF(ISBLANK(Rådata!G400)=TRUE,\"\",(Rådata!F400*100)/Rådata!G400)","v":""},{"$f":"IF(ISBLANK(Rådata!K400),\"\",(SUM(Rådata!M400:P400)*100)/SUM(Rådata!H400:K400))","v":""},{"$f":"IF(ISBLANK(Rådata!H400),\"\",((SUM(Rådata!J400:L400)-SUM(Rådata!O400:P400))*100)/SUM(Rådata!H400:L400))","v":""},{"$f":"IF(ISBLANK(Rådata!R400),\"\",(Rådata!Q400*100)/Rådata!R400)","v":""}]
[{"$f":"IF(ISBLANK(Rådata!A401)=TRUE,\"\",Rådata!A401)","v":""},{"$f":"IF(ISBLANK(Rådata!A401)=TRUE,\"\",YEAR(A401))","v":""},{"$f":"IF(ISBLANK(Rådata!A401)=TRUE,\"\",VLOOKUP(MONTH(A401),Opsætning!$G$3:$H$14,2,FALSE))","v":""},{"$f":"IF(ISBLANK(Rådata!B401)=TRUE,\"\",(Rådata!C401*100)/Rådata!B401)","v":""},{"$f":"IF(ISBLANK(Rådata!D401)=TRUE,\"\",((Rådata!D401-Rådata!E401)*100)/Rådata!D401)","v":""},{"$f":"IF(ISBLANK(Rådata!G401)=TRUE,\"\",(Rådata!F401*100)/Rådata!G401)","v":""},{"$f":"IF(ISBLANK(Rådata!K401),\"\",(SUM(Rådata!M401:P401)*100)/SUM(Rådata!H401:K401))","v":""},{"$f":"IF(ISBLANK(Rådata!H401),\"\",((SUM(Rådata!J401:L401)-SUM(Rådata!O401:P401))*100)/SUM(Rådata!H401:L401))","v":""},{"$f":"IF(ISBLANK(Rådata!R401),\"\",(Rådata!Q401*100)/Rådata!R401)","v":""}]
[{"$f":"IF(ISBLANK(Rådata!A402)=TRUE,\"\",Rådata!A402)","v":""},{"$f":"IF(ISBLANK(Rådata!A402)=TRUE,\"\",YEAR(A402))","v":""},{"$f":"IF(ISBLANK(Rådata!A402)=TRUE,\"\",VLOOKUP(MONTH(A402),Opsætning!$G$3:$H$14,2,FALSE))","v":""},{"$f":"IF(ISBLANK(Rådata!B402)=TRUE,\"\",(Rådata!C402*100)/Rådata!B402)","v":""},{"$f":"IF(ISBLANK(Rådata!D402)=TRUE,\"\",((Rådata!D402-Rådata!E402)*100)/Rådata!D402)","v":""},{"$f":"IF(ISBLANK(Rådata!G402)=TRUE,\"\",(Rådata!F402*100)/Rådata!G402)","v":""},{"$f":"IF(ISBLANK(Rådata!K402),\"\",(SUM(Rådata!M402:P402)*100)/SUM(Rådata!H402:K402))","v":""},{"$f":"IF(ISBLANK(Rådata!H402),\"\",((SUM(Rådata!J402:L402)-SUM(Rådata!O402:P402))*100)/SUM(Rådata!H402:L402))","v":""},{"$f":"IF(ISBLANK(Rådata!R402),\"\",(Rådata!Q402*100)/Rådata!R402)","v":""}]
[{"$f":"IF(ISBLANK(Rådata!A403)=TRUE,\"\",Rådata!A403)","v":""},{"$f":"IF(ISBLANK(Rådata!A403)=TRUE,\"\",YEAR(A403))","v":""},{"$f":"IF(ISBLANK(Rådata!A403)=TRUE,\"\",VLOOKUP(MONTH(A403),Opsætning!$G$3:$H$14,2,FALSE))","v":""},{"$f":"IF(ISBLANK(Rådata!B403)=TRUE,\"\",(Rådata!C403*100)/Rådata!B403)","v":""},{"$f":"IF(ISBLANK(Rådata!D403)=TRUE,\"\",((Rådata!D403-Rådata!E403)*100)/Rådata!D403)","v":""},{"$f":"IF(ISBLANK(Rådata!G403)=TRUE,\"\",(Rådata!F403*100)/Rådata!G403)","v":""},{"$f":"IF(ISBLANK(Rådata!K403),\"\",(SUM(Rådata!M403:P403)*100)/SUM(Rådata!H403:K403))","v":""},{"$f":"IF(ISBLANK(Rådata!H403),\"\",((SUM(Rådata!J403:L403)-SUM(Rådata!O403:P403))*100)/SUM(Rådata!H403:L403))","v":""},{"$f":"IF(ISBLANK(Rådata!R403),\"\",(Rådata!Q403*100)/Rådata!R403)","v":""}]
[{"$f":"IF(ISBLANK(Rådata!A404)=TRUE,\"\",Rådata!A404)","v":""},{"$f":"IF(ISBLANK(Rådata!A404)=TRUE,\"\",YEAR(A404))","v":""},{"$f":"IF(ISBLANK(Rådata!A404)=TRUE,\"\",VLOOKUP(MONTH(A404),Opsætning!$G$3:$H$14,2,FALSE))","v":""},{"$f":"IF(ISBLANK(Rådata!B404)=TRUE,\"\",(Rådata!C404*100)/Rådata!B404)","v":""},{"$f":"IF(ISBLANK(Rådata!D404)=TRUE,\"\",((Rådata!D404-Rådata!E404)*100)/Rådata!D404)","v":""},{"$f":"IF(ISBLANK(Rådata!G404)=TRUE,\"\",(Rådata!F404*100)/Rådata!G404)","v":""},{"$f":"IF(ISBLANK(Rådata!K404),\"\",(SUM(Rådata!M404:P404)*100)/SUM(Rådata!H404:K404))","v":""},{"$f":"IF(ISBLANK(Rådata!H404),\"\",((SUM(Rådata!J404:L404)-SUM(Rådata!O404:P404))*100)/SUM(Rådata!H404:L404))","v":""},{"$f":"IF(ISBLANK(Rådata!R404),\"\",(Rådata!Q404*100)/Rådata!R404)","v":""}]
[{"$f":"IF(ISBLANK(Rådata!A405)=TRUE,\"\",Rådata!A405)","v":""},{"$f":"IF(ISBLANK(Rådata!A405)=TRUE,\"\",YEAR(A405))","v":""},{"$f":"IF(ISBLANK(Rådata!A405)=TRUE,\"\",VLOOKUP(MONTH(A405),Opsætning!$G$3:$H$14,2,FALSE))","v":""},{"$f":"IF(ISBLANK(Rådata!B405)=TRUE,\"\",(Rådata!C405*100)/Rådata!B405)","v":""},{"$f":"IF(ISBLANK(Rådata!D405)=TRUE,\"\",((Rådata!D405-Rådata!E405)*100)/Rådata!D405)","v":""},{"$f":"IF(ISBLANK(Rådata!G405)=TRUE,\"\",(Rådata!F405*100)/Rådata!G405)","v":""},{"$f":"IF(ISBLANK(Rådata!K405),\"\",(SUM(Rådata!M405:P405)*100)/SUM(Rådata!H405:K405))","v":""},{"$f":"IF(ISBLANK(Rådata!H405),\"\",((SUM(Rådata!J405:L405)-SUM(Rådata!O405:P405))*100)/SUM(Rådata!H405:L405))","v":""},{"$f":"IF(ISBLANK(Rådata!R405),\"\",(Rådata!Q405*100)/Rådata!R405)","v":""}]
[{"$f":"IF(ISBLANK(Rådata!A406)=TRUE,\"\",Rådata!A406)","v":""},{"$f":"IF(ISBLANK(Rådata!A406)=TRUE,\"\",YEAR(A406))","v":""},{"$f":"IF(ISBLANK(Rådata!A406)=TRUE,\"\",VLOOKUP(MONTH(A406),Opsætning!$G$3:$H$14,2,FALSE))","v":""},{"$f":"IF(ISBLANK(Rådata!B406)=TRUE,\"\",(Rådata!C406*100)/Rådata!B406)","v":""},{"$f":"IF(ISBLANK(Rådata!D406)=TRUE,\"\",((Rådata!D406-Rådata!E406)*100)/Rådata!D406)","v":""},{"$f":"IF(ISBLANK(Rådata!G406)=TRUE,\"\",(Rådata!F406*100)/Rådata!G406)","v":""},{"$f":"IF(ISBLANK(Rådata!K406),\"\",(SUM(Rådata!M406:P406)*100)/SUM(Rådata!H406:K406))","v":""},{"$f":"IF(ISBLANK(Rådata!H406),\"\",((SUM(Rådata!J406:L406)-SUM(Rådata!O406:P406))*100)/SUM(Rådata!H406:L406))","v":""},{"$f":"IF(ISBLANK(Rådata!R406),\"\",(Rådata!Q406*100)/Rådata!R406)","v":""}]
[{"$f":"IF(ISBLANK(Rådata!A407)=TRUE,\"\",Rådata!A407)","v":""},{"$f":"IF(ISBLANK(Rådata!A407)=TRUE,\"\",YEAR(A407))","v":""},{"$f":"IF(ISBLANK(Rådata!A407)=TRUE,\"\",VLOOKUP(MONTH(A407),Opsætning!$G$3:$H$14,2,FALSE))","v":""},{"$f":"IF(ISBLANK(Rådata!B407)=TRUE,\"\",(Rådata!C407*100)/Rådata!B407)","v":""},{"$f":"IF(ISBLANK(Rådata!D407)=TRUE,\"\",((Rådata!D407-Rådata!E407)*100)/Rådata!D407)","v":""},{"$f":"IF(ISBLANK(Rådata!G407)=TRUE,\"\",(Rådata!F407*100)/Rådata!G407)","v":""},{"$f":"IF(ISBLANK(Rådata!K407),\"\",(SUM(Rådata!M407:P407)*100)/SUM(Rådata!H407:K407))","v":""},{"$f":"IF(ISBLANK(Rådata!H407),\"\",((SUM(Rådata!J407:L407)-SUM(Rådata!O407:P407))*100)/SUM(Rådata!H407:L407))","v":""},{"$f":"IF(ISBLANK(Rådata!R407),\"\",(Rådata!Q407*100)/Rådata!R407)","v":""}]
[{"$f":"IF(ISBLANK(Rådata!A408)=TRUE,\"\",Rådata!A408)","v":""},{"$f":"IF(ISBLANK(Rådata!A408)=TRUE,\"\",YEAR(A408))","v":""},{"$f":"IF(ISBLANK(Rådata!A408)=TRUE,\"\",VLOOKUP(MONTH(A408),Opsætning!$G$3:$H$14,2,FALSE))","v":""},{"$f":"IF(ISBLANK(Rådata!B408)=TRUE,\"\",(Rådata!C408*100)/Rådata!B408)","v":""},{"$f":"IF(ISBLANK(Rådata!D408)=TRUE,\"\",((Rådata!D408-Rådata!E408)*100)/Rådata!D408)","v":""},{"$f":"IF(ISBLANK(Rådata!G408)=TRUE,\"\",(Rådata!F408*100)/Rådata!G408)","v":""},{"$f":"IF(ISBLANK(Rådata!K408),\"\",(SUM(Rådata!M408:P408)*100)/SUM(Rådata!H408:K408))","v":""},{"$f":"IF(ISBLANK(Rådata!H408),\"\",((SUM(Rådata!J408:L408)-SUM(Rådata!O408:P408))*100)/SUM(Rådata!H408:L408))","v":""},{"$f":"IF(ISBLANK(Rådata!R408),\"\",(Rådata!Q408*100)/Rådata!R408)","v":""}]
[{"$f":"IF(ISBLANK(Rådata!A409)=TRUE,\"\",Rådata!A409)","v":""},{"$f":"IF(ISBLANK(Rådata!A409)=TRUE,\"\",YEAR(A409))","v":""},{"$f":"IF(ISBLANK(Rådata!A409)=TRUE,\"\",VLOOKUP(MONTH(A409),Opsætning!$G$3:$H$14,2,FALSE))","v":""},{"$f":"IF(ISBLANK(Rådata!B409)=TRUE,\"\",(Rådata!C409*100)/Rådata!B409)","v":""},{"$f":"IF(ISBLANK(Rådata!D409)=TRUE,\"\",((Rådata!D409-Rådata!E409)*100)/Rådata!D409)","v":""},{"$f":"IF(ISBLANK(Rådata!G409)=TRUE,\"\",(Rådata!F409*100)/Rådata!G409)","v":""},{"$f":"IF(ISBLANK(Rådata!K409),\"\",(SUM(Rådata!M409:P409)*100)/SUM(Rådata!H409:K409))","v":""},{"$f":"IF(ISBLANK(Rådata!H409),\"\",((SUM(Rådata!J409:L409)-SUM(Rådata!O409:P409))*100)/SUM(Rådata!H409:L409))","v":""},{"$f":"IF(ISBLANK(Rådata!R409),\"\",(Rådata!Q409*100)/Rådata!R409)","v":""}]
[{"$f":"IF(ISBLANK(Rådata!A410)=TRUE,\"\",Rådata!A410)","v":""},{"$f":"IF(ISBLANK(Rådata!A410)=TRUE,\"\",YEAR(A410))","v":""},{"$f":"IF(ISBLANK(Rådata!A410)=TRUE,\"\",VLOOKUP(MONTH(A410),Opsætning!$G$3:$H$14,2,FALSE))","v":""},{"$f":"IF(ISBLANK(Rådata!B410)=TRUE,\"\",(Rådata!C410*100)/Rådata!B410)","v":""},{"$f":"IF(ISBLANK(Rådata!D410)=TRUE,\"\",((Rådata!D410-Rådata!E410)*100)/Rådata!D410)","v":""},{"$f":"IF(ISBLANK(Rådata!G410)=TRUE,\"\",(Rådata!F410*100)/Rådata!G410)","v":""},{"$f":"IF(ISBLANK(Rådata!K410),\"\",(SUM(Rådata!M410:P410)*100)/SUM(Rådata!H410:K410))","v":""},{"$f":"IF(ISBLANK(Rådata!H410),\"\",((SUM(Rådata!J410:L410)-SUM(Rådata!O410:P410))*100)/SUM(Rådata!H410:L410))","v":""},{"$f":"IF(ISBLANK(Rådata!R410),\"\",(Rådata!Q410*100)/Rådata!R410)","v":""}]
[{"$f":"IF(ISBLANK(Rådata!A411)=TRUE,\"\",Rådata!A411)","v":""},{"$f":"IF(ISBLANK(Rådata!A411)=TRUE,\"\",YEAR(A411))","v":""},{"$f":"IF(ISBLANK(Rådata!A411)=TRUE,\"\",VLOOKUP(MONTH(A411),Opsætning!$G$3:$H$14,2,FALSE))","v":""},{"$f":"IF(ISBLANK(Rådata!B411)=TRUE,\"\",(Rådata!C411*100)/Rådata!B411)","v":""},{"$f":"IF(ISBLANK(Rådata!D411)=TRUE,\"\",((Rådata!D411-Rådata!E411)*100)/Rådata!D411)","v":""},{"$f":"IF(ISBLANK(Rådata!G411)=TRUE,\"\",(Rådata!F411*100)/Rådata!G411)","v":""},{"$f":"IF(ISBLANK(Rådata!K411),\"\",(SUM(Rådata!M411:P411)*100)/SUM(Rådata!H411:K411))","v":""},{"$f":"IF(ISBLANK(Rådata!H411),\"\",((SUM(Rådata!J411:L411)-SUM(Rådata!O411:P411))*100)/SUM(Rådata!H411:L411))","v":""},{"$f":"IF(ISBLANK(Rådata!R411),\"\",(Rådata!Q411*100)/Rådata!R411)","v":""}]
[{"$f":"IF(ISBLANK(Rådata!A412)=TRUE,\"\",Rådata!A412)","v":""},{"$f":"IF(ISBLANK(Rådata!A412)=TRUE,\"\",YEAR(A412))","v":""},{"$f":"IF(ISBLANK(Rådata!A412)=TRUE,\"\",VLOOKUP(MONTH(A412),Opsætning!$G$3:$H$14,2,FALSE))","v":""},{"$f":"IF(ISBLANK(Rådata!B412)=TRUE,\"\",(Rådata!C412*100)/Rådata!B412)","v":""},{"$f":"IF(ISBLANK(Rådata!D412)=TRUE,\"\",((Rådata!D412-Rådata!E412)*100)/Rådata!D412)","v":""},{"$f":"IF(ISBLANK(Rådata!G412)=TRUE,\"\",(Rådata!F412*100)/Rådata!G412)","v":""},{"$f":"IF(ISBLANK(Rådata!K412),\"\",(SUM(Rådata!M412:P412)*100)/SUM(Rådata!H412:K412))","v":""},{"$f":"IF(ISBLANK(Rådata!H412),\"\",((SUM(Rådata!J412:L412)-SUM(Rådata!O412:P412))*100)/SUM(Rådata!H412:L412))","v":""},{"$f":"IF(ISBLANK(Rådata!R412),\"\",(Rådata!Q412*100)/Rådata!R412)","v":""}]
[{"$f":"IF(ISBLANK(Rådata!A413)=TRUE,\"\",Rådata!A413)","v":""},{"$f":"IF(ISBLANK(Rådata!A413)=TRUE,\"\",YEAR(A413))","v":""},{"$f":"IF(ISBLANK(Rådata!A413)=TRUE,\"\",VLOOKUP(MONTH(A413),Opsætning!$G$3:$H$14,2,FALSE))","v":""},{"$f":"IF(ISBLANK(Rådata!B413)=TRUE,\"\",(Rådata!C413*100)/Rådata!B413)","v":""},{"$f":"IF(ISBLANK(Rådata!D413)=TRUE,\"\",((Rådata!D413-Rådata!E413)*100)/Rådata!D413)","v":""},{"$f":"IF(ISBLANK(Rådata!G413)=TRUE,\"\",(Rådata!F413*100)/Rådata!G413)","v":""},{"$f":"IF(ISBLANK(Rådata!K413),\"\",(SUM(Rådata!M413:P413)*100)/SUM(Rådata!H413:K413))","v":""},{"$f":"IF(ISBLANK(Rådata!H413),\"\",((SUM(Rådata!J413:L413)-SUM(Rådata!O413:P413))*100)/SUM(Rådata!H413:L413))","v":""},{"$f":"IF(ISBLANK(Rådata!R413),\"\",(Rådata!Q413*100)/Rådata!R413)","v":""}]
[{"$f":"IF(ISBLANK(Rådata!A414)=TRUE,\"\",Rådata!A414)","v":""},{"$f":"IF(ISBLANK(Rådata!A414)=TRUE,\"\",YEAR(A414))","v":""},{"$f":"IF(ISBLANK(Rådata!A414)=TRUE,\"\",VLOOKUP(MONTH(A414),Opsætning!$G$3:$H$14,2,FALSE))","v":""},{"$f":"IF(ISBLANK(Rådata!B414)=TRUE,\"\",(Rådata!C414*100)/Rådata!B414)","v":""},{"$f":"IF(ISBLANK(Rådata!D414)=TRUE,\"\",((Rådata!D414-Rådata!E414)*100)/Rådata!D414)","v":""},{"$f":"IF(ISBLANK(Rådata!G414)=TRUE,\"\",(Rådata!F414*100)/Rådata!G414)","v":""},{"$f":"IF(ISBLANK(Rådata!K414),\"\",(SUM(Rådata!M414:P414)*100)/SUM(Rådata!H414:K414))","v":""},{"$f":"IF(ISBLANK(Rådata!H414),\"\",((SUM(Rådata!J414:L414)-SUM(Rådata!O414:P414))*100)/SUM(Rådata!H414:L414))","v":""},{"$f":"IF(ISBLANK(Rådata!R414),\"\",(Rådata!Q414*100)/Rådata!R414)","v":""}]
[{"$f":"IF(ISBLANK(Rådata!A415)=TRUE,\"\",Rådata!A415)","v":""},{"$f":"IF(ISBLANK(Rådata!A415)=TRUE,\"\",YEAR(A415))","v":""},{"$f":"IF(ISBLANK(Rådata!A415)=TRUE,\"\",VLOOKUP(MONTH(A415),Opsætning!$G$3:$H$14,2,FALSE))","v":""},{"$f":"IF(ISBLANK(Rådata!B415)=TRUE,\"\",(Rådata!C415*100)/Rådata!B415)","v":""},{"$f":"IF(ISBLANK(Rådata!D415)=TRUE,\"\",((Rådata!D415-Rådata!E415)*100)/Rådata!D415)","v":""},{"$f":"IF(ISBLANK(Rådata!G415)=TRUE,\"\",(Rådata!F415*100)/Rådata!G415)","v":""},{"$f":"IF(ISBLANK(Rådata!K415),\"\",(SUM(Rådata!M415:P415)*100)/SUM(Rådata!H415:K415))","v":""},{"$f":"IF(ISBLANK(Rådata!H415),\"\",((SUM(Rådata!J415:L415)-SUM(Rådata!O415:P415))*100)/SUM(Rådata!H415:L415))","v":""},{"$f":"IF(ISBLANK(Rådata!R415),\"\",(Rådata!Q415*100)/Rådata!R415)","v":""}]
[{"$f":"IF(ISBLANK(Rådata!A416)=TRUE,\"\",Rådata!A416)","v":""},{"$f":"IF(ISBLANK(Rådata!A416)=TRUE,\"\",YEAR(A416))","v":""},{"$f":"IF(ISBLANK(Rådata!A416)=TRUE,\"\",VLOOKUP(MONTH(A416),Opsætning!$G$3:$H$14,2,FALSE))","v":""},{"$f":"IF(ISBLANK(Rådata!B416)=TRUE,\"\",(Rådata!C416*100)/Rådata!B416)","v":""},{"$f":"IF(ISBLANK(Rådata!D416)=TRUE,\"\",((Rådata!D416-Rådata!E416)*100)/Rådata!D416)","v":""},{"$f":"IF(ISBLANK(Rådata!G416)=TRUE,\"\",(Rådata!F416*100)/Rådata!G416)","v":""},{"$f":"IF(ISBLANK(Rådata!K416),\"\",(SUM(Rådata!M416:P416)*100)/SUM(Rådata!H416:K416))","v":""},{"$f":"IF(ISBLANK(Rådata!H416),\"\",((SUM(Rådata!J416:L416)-SUM(Rådata!O416:P416))*100)/SUM(Rådata!H416:L416))","v":""},{"$f":"IF(ISBLANK(Rådata!R416),\"\",(Rådata!Q416*100)/Rådata!R416)","v":""}]
[{"$f":"IF(ISBLANK(Rådata!A417)=TRUE,\"\",Rådata!A417)","v":""},{"$f":"IF(ISBLANK(Rådata!A417)=TRUE,\"\",YEAR(A417))","v":""},{"$f":"IF(ISBLANK(Rådata!A417)=TRUE,\"\",VLOOKUP(MONTH(A417),Opsætning!$G$3:$H$14,2,FALSE))","v":""},{"$f":"IF(ISBLANK(Rådata!B417)=TRUE,\"\",(Rådata!C417*100)/Rådata!B417)","v":""},{"$f":"IF(ISBLANK(Rådata!D417)=TRUE,\"\",((Rådata!D417-Rådata!E417)*100)/Rådata!D417)","v":""},{"$f":"IF(ISBLANK(Rådata!G417)=TRUE,\"\",(Rådata!F417*100)/Rådata!G417)","v":""},{"$f":"IF(ISBLANK(Rådata!K417),\"\",(SUM(Rådata!M417:P417)*100)/SUM(Rådata!H417:K417))","v":""},{"$f":"IF(ISBLANK(Rådata!H417),\"\",((SUM(Rådata!J417:L417)-SUM(Rådata!O417:P417))*100)/SUM(Rådata!H417:L417))","v":""},{"$f":"IF(ISBLANK(Rådata!R417),\"\",(Rådata!Q417*100)/Rådata!R417)","v":""}]
[{"$f":"IF(ISBLANK(Rådata!A418)=TRUE,\"\",Rådata!A418)","v":""},{"$f":"IF(ISBLANK(Rådata!A418)=TRUE,\"\",YEAR(A418))","v":""},{"$f":"IF(ISBLANK(Rådata!A418)=TRUE,\"\",VLOOKUP(MONTH(A418),Opsætning!$G$3:$H$14,2,FALSE))","v":""},{"$f":"IF(ISBLANK(Rådata!B418)=TRUE,\"\",(Rådata!C418*100)/Rådata!B418)","v":""},{"$f":"IF(ISBLANK(Rådata!D418)=TRUE,\"\",((Rådata!D418-Rådata!E418)*100)/Rådata!D418)","v":""},{"$f":"IF(ISBLANK(Rådata!G418)=TRUE,\"\",(Rådata!F418*100)/Rådata!G418)","v":""},{"$f":"IF(ISBLANK(Rådata!K418),\"\",(SUM(Rådata!M418:P418)*100)/SUM(Rådata!H418:K418))","v":""},{"$f":"IF(ISBLANK(Rådata!H418),\"\",((SUM(Rådata!J418:L418)-SUM(Rådata!O418:P418))*100)/SUM(Rådata!H418:L418))","v":""},{"$f":"IF(ISBLANK(Rådata!R418),\"\",(Rådata!Q418*100)/Rådata!R418)","v":""}]
[{"$f":"IF(ISBLANK(Rådata!A419)=TRUE,\"\",Rådata!A419)","v":""},{"$f":"IF(ISBLANK(Rådata!A419)=TRUE,\"\",YEAR(A419))","v":""},{"$f":"IF(ISBLANK(Rådata!A419)=TRUE,\"\",VLOOKUP(MONTH(A419),Opsætning!$G$3:$H$14,2,FALSE))","v":""},{"$f":"IF(ISBLANK(Rådata!B419)=TRUE,\"\",(Rådata!C419*100)/Rådata!B419)","v":""},{"$f":"IF(ISBLANK(Rådata!D419)=TRUE,\"\",((Rådata!D419-Rådata!E419)*100)/Rådata!D419)","v":""},{"$f":"IF(ISBLANK(Rådata!G419)=TRUE,\"\",(Rådata!F419*100)/Rådata!G419)","v":""},{"$f":"IF(ISBLANK(Rådata!K419),\"\",(SUM(Rådata!M419:P419)*100)/SUM(Rådata!H419:K419))","v":""},{"$f":"IF(ISBLANK(Rådata!H419),\"\",((SUM(Rådata!J419:L419)-SUM(Rådata!O419:P419))*100)/SUM(Rådata!H419:L419))","v":""},{"$f":"IF(ISBLANK(Rådata!R419),\"\",(Rådata!Q419*100)/Rådata!R419)","v":""}]
[{"$f":"IF(ISBLANK(Rådata!A420)=TRUE,\"\",Rådata!A420)","v":""},{"$f":"IF(ISBLANK(Rådata!A420)=TRUE,\"\",YEAR(A420))","v":""},{"$f":"IF(ISBLANK(Rådata!A420)=TRUE,\"\",VLOOKUP(MONTH(A420),Opsætning!$G$3:$H$14,2,FALSE))","v":""},{"$f":"IF(ISBLANK(Rådata!B420)=TRUE,\"\",(Rådata!C420*100)/Rådata!B420)","v":""},{"$f":"IF(ISBLANK(Rådata!D420)=TRUE,\"\",((Rådata!D420-Rådata!E420)*100)/Rådata!D420)","v":""},{"$f":"IF(ISBLANK(Rådata!G420)=TRUE,\"\",(Rådata!F420*100)/Rådata!G420)","v":""},{"$f":"IF(ISBLANK(Rådata!K420),\"\",(SUM(Rådata!M420:P420)*100)/SUM(Rådata!H420:K420))","v":""},{"$f":"IF(ISBLANK(Rådata!H420),\"\",((SUM(Rådata!J420:L420)-SUM(Rådata!O420:P420))*100)/SUM(Rådata!H420:L420))","v":""},{"$f":"IF(ISBLANK(Rådata!R420),\"\",(Rådata!Q420*100)/Rådata!R420)","v":""}]
[{"$f":"IF(ISBLANK(Rådata!A421)=TRUE,\"\",Rådata!A421)","v":""},{"$f":"IF(ISBLANK(Rådata!A421)=TRUE,\"\",YEAR(A421))","v":""},{"$f":"IF(ISBLANK(Rådata!A421)=TRUE,\"\",VLOOKUP(MONTH(A421),Opsætning!$G$3:$H$14,2,FALSE))","v":""},{"$f":"IF(ISBLANK(Rådata!B421)=TRUE,\"\",(Rådata!C421*100)/Rådata!B421)","v":""},{"$f":"IF(ISBLANK(Rådata!D421)=TRUE,\"\",((Rådata!D421-Rådata!E421)*100)/Rådata!D421)","v":""},{"$f":"IF(ISBLANK(Rådata!G421)=TRUE,\"\",(Rådata!F421*100)/Rådata!G421)","v":""},{"$f":"IF(ISBLANK(Rådata!K421),\"\",(SUM(Rådata!M421:P421)*100)/SUM(Rådata!H421:K421))","v":""},{"$f":"IF(ISBLANK(Rådata!H421),\"\",((SUM(Rådata!J421:L421)-SUM(Rådata!O421:P421))*100)/SUM(Rådata!H421:L421))","v":""},{"$f":"IF(ISBLANK(Rådata!R421),\"\",(Rådata!Q421*100)/Rådata!R421)","v":""}]
[{"$f":"IF(ISBLANK(Rådata!A422)=TRUE,\"\",Rådata!A422)","v":""},{"$f":"IF(ISBLANK(Rådata!A422)=TRUE,\"\",YEAR(A422))","v":""},{"$f":"IF(ISBLANK(Rådata!A422)=TRUE,\"\",VLOOKUP(MONTH(A422),Opsætning!$G$3:$H$14,2,FALSE))","v":""},{"$f":"IF(ISBLANK(Rådata!B422)=TRUE,\"\",(Rådata!C422*100)/Rådata!B422)","v":""},{"$f":"IF(ISBLANK(Rådata!D422)=TRUE,\"\",((Rådata!D422-Rådata!E422)*100)/Rådata!D422)","v":""},{"$f":"IF(ISBLANK(Rådata!G422)=TRUE,\"\",(Rådata!F422*100)/Rådata!G422)","v":""},{"$f":"IF(ISBLANK(Rådata!K422),\"\",(SUM(Rådata!M422:P422)*100)/SUM(Rådata!H422:K422))","v":""},{"$f":"IF(ISBLANK(Rådata!H422),\"\",((SUM(Rådata!J422:L422)-SUM(Rådata!O422:P422))*100)/SUM(Rådata!H422:L422))","v":""},{"$f":"IF(ISBLANK(Rådata!R422),\"\",(Rådata!Q422*100)/Rådata!R422)","v":""}]
[{"$f":"IF(ISBLANK(Rådata!A423)=TRUE,\"\",Rådata!A423)","v":""},{"$f":"IF(ISBLANK(Rådata!A423)=TRUE,\"\",YEAR(A423))","v":""},{"$f":"IF(ISBLANK(Rådata!A423)=TRUE,\"\",VLOOKUP(MONTH(A423),Opsætning!$G$3:$H$14,2,FALSE))","v":""},{"$f":"IF(ISBLANK(Rådata!B423)=TRUE,\"\",(Rådata!C423*100)/Rådata!B423)","v":""},{"$f":"IF(ISBLANK(Rådata!D423)=TRUE,\"\",((Rådata!D423-Rådata!E423)*100)/Rådata!D423)","v":""},{"$f":"IF(ISBLANK(Rådata!G423)=TRUE,\"\",(Rådata!F423*100)/Rådata!G423)","v":""},{"$f":"IF(ISBLANK(Rådata!K423),\"\",(SUM(Rådata!M423:P423)*100)/SUM(Rådata!H423:K423))","v":""},{"$f":"IF(ISBLANK(Rådata!H423),\"\",((SUM(Rådata!J423:L423)-SUM(Rådata!O423:P423))*100)/SUM(Rådata!H423:L423))","v":""},{"$f":"IF(ISBLANK(Rådata!R423),\"\",(Rådata!Q423*100)/Rådata!R423)","v":""}]
[{"$f":"IF(ISBLANK(Rådata!A424)=TRUE,\"\",Rådata!A424)","v":""},{"$f":"IF(ISBLANK(Rådata!A424)=TRUE,\"\",YEAR(A424))","v":""},{"$f":"IF(ISBLANK(Rådata!A424)=TRUE,\"\",VLOOKUP(MONTH(A424),Opsætning!$G$3:$H$14,2,FALSE))","v":""},{"$f":"IF(ISBLANK(Rådata!B424)=TRUE,\"\",(Rådata!C424*100)/Rådata!B424)","v":""},{"$f":"IF(ISBLANK(Rådata!D424)=TRUE,\"\",((Rådata!D424-Rådata!E424)*100)/Rådata!D424)","v":""},{"$f":"IF(ISBLANK(Rådata!G424)=TRUE,\"\",(Rådata!F424*100)/Rådata!G424)","v":""},{"$f":"IF(ISBLANK(Rådata!K424),\"\",(SUM(Rådata!M424:P424)*100)/SUM(Rådata!H424:K424))","v":""},{"$f":"IF(ISBLANK(Rådata!H424),\"\",((SUM(Rådata!J424:L424)-SUM(Rådata!O424:P424))*100)/SUM(Rådata!H424:L424))","v":""},{"$f":"IF(ISBLANK(Rådata!R424),\"\",(Rådata!Q424*100)/Rådata!R424)","v":""}]
[{"$f":"IF(ISBLANK(Rådata!A425)=TRUE,\"\",Rådata!A425)","v":""},{"$f":"IF(ISBLANK(Rådata!A425)=TRUE,\"\",YEAR(A425))","v":""},{"$f":"IF(ISBLANK(Rådata!A425)=TRUE,\"\",VLOOKUP(MONTH(A425),Opsætning!$G$3:$H$14,2,FALSE))","v":""},{"$f":"IF(ISBLANK(Rådata!B425)=TRUE,\"\",(Rådata!C425*100)/Rådata!B425)","v":""},{"$f":"IF(ISBLANK(Rådata!D425)=TRUE,\"\",((Rådata!D425-Rådata!E425)*100)/Rådata!D425)","v":""},{"$f":"IF(ISBLANK(Rådata!G425)=TRUE,\"\",(Rådata!F425*100)/Rådata!G425)","v":""},{"$f":"IF(ISBLANK(Rådata!K425),\"\",(SUM(Rådata!M425:P425)*100)/SUM(Rådata!H425:K425))","v":""},{"$f":"IF(ISBLANK(Rådata!H425),\"\",((SUM(Rådata!J425:L425)-SUM(Rådata!O425:P425))*100)/SUM(Rådata!H425:L425))","v":""},{"$f":"IF(ISBLANK(Rådata!R425),\"\",(Rådata!Q425*100)/Rådata!R425)","v":""}]
[{"$f":"IF(ISBLANK(Rådata!A426)=TRUE,\"\",Rådata!A426)","v":""},{"$f":"IF(ISBLANK(Rådata!A426)=TRUE,\"\",YEAR(A426))","v":""},{"$f":"IF(ISBLANK(Rådata!A426)=TRUE,\"\",VLOOKUP(MONTH(A426),Opsætning!$G$3:$H$14,2,FALSE))","v":""},{"$f":"IF(ISBLANK(Rådata!B426)=TRUE,\"\",(Rådata!C426*100)/Rådata!B426)","v":""},{"$f":"IF(ISBLANK(Rådata!D426)=TRUE,\"\",((Rådata!D426-Rådata!E426)*100)/Rådata!D426)","v":""},{"$f":"IF(ISBLANK(Rådata!G426)=TRUE,\"\",(Rådata!F426*100)/Rådata!G426)","v":""},{"$f":"IF(ISBLANK(Rådata!K426),\"\",(SUM(Rådata!M426:P426)*100)/SUM(Rådata!H426:K426))","v":""},{"$f":"IF(ISBLANK(Rådata!H426),\"\",((SUM(Rådata!J426:L426)-SUM(Rådata!O426:P426))*100)/SUM(Rådata!H426:L426))","v":""},{"$f":"IF(ISBLANK(Rådata!R426),\"\",(Rådata!Q426*100)/Rådata!R426)","v":""}]
[{"$f":"IF(ISBLANK(Rådata!A427)=TRUE,\"\",Rådata!A427)","v":""},{"$f":"IF(ISBLANK(Rådata!A427)=TRUE,\"\",YEAR(A427))","v":""},{"$f":"IF(ISBLANK(Rådata!A427)=TRUE,\"\",VLOOKUP(MONTH(A427),Opsætning!$G$3:$H$14,2,FALSE))","v":""},{"$f":"IF(ISBLANK(Rådata!B427)=TRUE,\"\",(Rådata!C427*100)/Rådata!B427)","v":""},{"$f":"IF(ISBLANK(Rådata!D427)=TRUE,\"\",((Rådata!D427-Rådata!E427)*100)/Rådata!D427)","v":""},{"$f":"IF(ISBLANK(Rådata!G427)=TRUE,\"\",(Rådata!F427*100)/Rådata!G427)","v":""},{"$f":"IF(ISBLANK(Rådata!K427),\"\",(SUM(Rådata!M427:P427)*100)/SUM(Rådata!H427:K427))","v":""},{"$f":"IF(ISBLANK(Rådata!H427),\"\",((SUM(Rådata!J427:L427)-SUM(Rådata!O427:P427))*100)/SUM(Rådata!H427:L427))","v":""},{"$f":"IF(ISBLANK(Rådata!R427),\"\",(Rådata!Q427*100)/Rådata!R427)","v":""}]
[{"$f":"IF(ISBLANK(Rådata!A428)=TRUE,\"\",Rådata!A428)","v":""},{"$f":"IF(ISBLANK(Rådata!A428)=TRUE,\"\",YEAR(A428))","v":""},{"$f":"IF(ISBLANK(Rådata!A428)=TRUE,\"\",VLOOKUP(MONTH(A428),Opsætning!$G$3:$H$14,2,FALSE))","v":""},{"$f":"IF(ISBLANK(Rådata!B428)=TRUE,\"\",(Rådata!C428*100)/Rådata!B428)","v":""},{"$f":"IF(ISBLANK(Rådata!D428)=TRUE,\"\",((Rådata!D428-Rådata!E428)*100)/Rådata!D428)","v":""},{"$f":"IF(ISBLANK(Rådata!G428)=TRUE,\"\",(Rådata!F428*100)/Rådata!G428)","v":""},{"$f":"IF(ISBLANK(Rådata!K428),\"\",(SUM(Rådata!M428:P428)*100)/SUM(Rådata!H428:K428))","v":""},{"$f":"IF(ISBLANK(Rådata!H428),\"\",((SUM(Rådata!J428:L428)-SUM(Rådata!O428:P428))*100)/SUM(Rådata!H428:L428))","v":""},{"$f":"IF(ISBLANK(Rådata!R428),\"\",(Rådata!Q428*100)/Rådata!R428)","v":""}]
[{"$f":"IF(ISBLANK(Rådata!A429)=TRUE,\"\",Rådata!A429)","v":""},{"$f":"IF(ISBLANK(Rådata!A429)=TRUE,\"\",YEAR(A429))","v":""},{"$f":"IF(ISBLANK(Rådata!A429)=TRUE,\"\",VLOOKUP(MONTH(A429),Opsætning!$G$3:$H$14,2,FALSE))","v":""},{"$f":"IF(ISBLANK(Rådata!B429)=TRUE,\"\",(Rådata!C429*100)/Rådata!B429)","v":""},{"$f":"IF(ISBLANK(Rådata!D429)=TRUE,\"\",((Rådata!D429-Rådata!E429)*100)/Rådata!D429)","v":""},{"$f":"IF(ISBLANK(Rådata!G429)=TRUE,\"\",(Rådata!F429*100)/Rådata!G429)","v":""},{"$f":"IF(ISBLANK(Rådata!K429),\"\",(SUM(Rådata!M429:P429)*100)/SUM(Rådata!H429:K429))","v":""},{"$f":"IF(ISBLANK(Rådata!H429),\"\",((SUM(Rådata!J429:L429)-SUM(Rådata!O429:P429))*100)/SUM(Rådata!H429:L429))","v":""},{"$f":"IF(ISBLANK(Rådata!R429),\"\",(Rådata!Q429*100)/Rådata!R429)","v":""}]
[{"$f":"IF(ISBLANK(Rådata!A430)=TRUE,\"\",Rådata!A430)","v":""},{"$f":"IF(ISBLANK(Rådata!A430)=TRUE,\"\",YEAR(A430))","v":""},{"$f":"IF(ISBLANK(Rådata!A430)=TRUE,\"\",VLOOKUP(MONTH(A430),Opsætning!$G$3:$H$14,2,FALSE))","v":""},{"$f":"IF(ISBLANK(Rådata!B430)=TRUE,\"\",(Rådata!C430*100)/Rådata!B430)","v":""},{"$f":"IF(ISBLANK(Rådata!D430)=TRUE,\"\",((Rådata!D430-Rådata!E430)*100)/Rådata!D430)","v":""},{"$f":"IF(ISBLANK(Rådata!G430)=TRUE,\"\",(Rådata!F430*100)/Rådata!G430)","v":""},{"$f":"IF(ISBLANK(Rådata!K430),\"\",(SUM(Rådata!M430:P430)*100)/SUM(Rådata!H430:K430))","v":""},{"$f":"IF(ISBLANK(Rådata!H430),\"\",((SUM(Rådata!J430:L430)-SUM(Rådata!O430:P430))*100)/SUM(Rådata!H430:L430))","v":""},{"$f":"IF(ISBLANK(Rådata!R430),\"\",(Rådata!Q430*100)/Rådata!R430)","v":""}]
[{"$f":"IF(ISBLANK(Rådata!A431)=TRUE,\"\",Rådata!A431)","v":""},{"$f":"IF(ISBLANK(Rådata!A431)=TRUE,\"\",YEAR(A431))","v":""},{"$f":"IF(ISBLANK(Rådata!A431)=TRUE,\"\",VLOOKUP(MONTH(A431),Opsætning!$G$3:$H$14,2,FALSE))","v":""},{"$f":"IF(ISBLANK(Rådata!B431)=TRUE,\"\",(Rådata!C431*100)/Rådata!B431)","v":""},{"$f":"IF(ISBLANK(Rådata!D431)=TRUE,\"\",((Rådata!D431-Rådata!E431)*100)/Rådata!D431)","v":""},{"$f":"IF(ISBLANK(Rådata!G431)=TRUE,\"\",(Rådata!F431*100)/Rådata!G431)","v":""},{"$f":"IF(ISBLANK(Rådata!K431),\"\",(SUM(Rådata!M431:P431)*100)/SUM(Rådata!H431:K431))","v":""},{"$f":"IF(ISBLANK(Rådata!H431),\"\",((SUM(Rådata!J431:L431)-SUM(Rådata!O431:P431))*100)/SUM(Rådata!H431:L431))","v":""},{"$f":"IF(ISBLANK(Rådata!R431),\"\",(Rådata!Q431*100)/Rådata!R431)","v":""}]
[{"$f":"IF(ISBLANK(Rådata!A432)=TRUE,\"\",Rådata!A432)","v":""},{"$f":"IF(ISBLANK(Rådata!A432)=TRUE,\"\",YEAR(A432))","v":""},{"$f":"IF(ISBLANK(Rådata!A432)=TRUE,\"\",VLOOKUP(MONTH(A432),Opsætning!$G$3:$H$14,2,FALSE))","v":""},{"$f":"IF(ISBLANK(Rådata!B432)=TRUE,\"\",(Rådata!C432*100)/Rådata!B432)","v":""},{"$f":"IF(ISBLANK(Rådata!D432)=TRUE,\"\",((Rådata!D432-Rådata!E432)*100)/Rådata!D432)","v":""},{"$f":"IF(ISBLANK(Rådata!G432)=TRUE,\"\",(Rådata!F432*100)/Rådata!G432)","v":""},{"$f":"IF(ISBLANK(Rådata!K432),\"\",(SUM(Rådata!M432:P432)*100)/SUM(Rådata!H432:K432))","v":""},{"$f":"IF(ISBLANK(Rådata!H432),\"\",((SUM(Rådata!J432:L432)-SUM(Rådata!O432:P432))*100)/SUM(Rådata!H432:L432))","v":""},{"$f":"IF(ISBLANK(Rådata!R432),\"\",(Rådata!Q432*100)/Rådata!R432)","v":""}]
[{"$f":"IF(ISBLANK(Rådata!A433)=TRUE,\"\",Rådata!A433)","v":""},{"$f":"IF(ISBLANK(Rådata!A433)=TRUE,\"\",YEAR(A433))","v":""},{"$f":"IF(ISBLANK(Rådata!A433)=TRUE,\"\",VLOOKUP(MONTH(A433),Opsætning!$G$3:$H$14,2,FALSE))","v":""},{"$f":"IF(ISBLANK(Rådata!B433)=TRUE,\"\",(Rådata!C433*100)/Rådata!B433)","v":""},{"$f":"IF(ISBLANK(Rådata!D433)=TRUE,\"\",((Rådata!D433-Rådata!E433)*100)/Rådata!D433)","v":""},{"$f":"IF(ISBLANK(Rådata!G433)=TRUE,\"\",(Rådata!F433*100)/Rådata!G433)","v":""},{"$f":"IF(ISBLANK(Rådata!K433),\"\",(SUM(Rådata!M433:P433)*100)/SUM(Rådata!H433:K433))","v":""},{"$f":"IF(ISBLANK(Rådata!H433),\"\",((SUM(Rådata!J433:L433)-SUM(Rådata!O433:P433))*100)/SUM(Rådata!H433:L433))","v":""},{"$f":"IF(ISBLANK(Rådata!R433),\"\",(Rådata!Q433*100)/Rådata!R433)","v":""}]
[{"$f":"IF(ISBLANK(Rådata!A434)=TRUE,\"\",Rådata!A434)","v":""},{"$f":"IF(ISBLANK(Rådata!A434)=TRUE,\"\",YEAR(A434))","v":""},{"$f":"IF(ISBLANK(Rådata!A434)=TRUE,\"\",VLOOKUP(MONTH(A434),Opsætning!$G$3:$H$14,2,FALSE))","v":""},{"$f":"IF(ISBLANK(Rådata!B434)=TRUE,\"\",(Rådata!C434*100)/Rådata!B434)","v":""},{"$f":"IF(ISBLANK(Rådata!D434)=TRUE,\"\",((Rådata!D434-Rådata!E434)*100)/Rådata!D434)","v":""},{"$f":"IF(ISBLANK(Rådata!G434)=TRUE,\"\",(Rådata!F434*100)/Rådata!G434)","v":""},{"$f":"IF(ISBLANK(Rådata!K434),\"\",(SUM(Rådata!M434:P434)*100)/SUM(Rådata!H434:K434))","v":""},{"$f":"IF(ISBLANK(Rådata!H434),\"\",((SUM(Rådata!J434:L434)-SUM(Rådata!O434:P434))*100)/SUM(Rådata!H434:L434))","v":""},{"$f":"IF(ISBLANK(Rådata!R434),\"\",(Rådata!Q434*100)/Rådata!R434)","v":""}]
[{"$f":"IF(ISBLANK(Rådata!A435)=TRUE,\"\",Rådata!A435)","v":""},{"$f":"IF(ISBLANK(Rådata!A435)=TRUE,\"\",YEAR(A435))","v":""},{"$f":"IF(ISBLANK(Rådata!A435)=TRUE,\"\",VLOOKUP(MONTH(A435),Opsætning!$G$3:$H$14,2,FALSE))","v":""},{"$f":"IF(ISBLANK(Rådata!B435)=TRUE,\"\",(Rådata!C435*100)/Rådata!B435)","v":""},{"$f":"IF(ISBLANK(Rådata!D435)=TRUE,\"\",((Rådata!D435-Rådata!E435)*100)/Rådata!D435)","v":""},{"$f":"IF(ISBLANK(Rådata!G435)=TRUE,\"\",(Rådata!F435*100)/Rådata!G435)","v":""},{"$f":"IF(ISBLANK(Rådata!K435),\"\",(SUM(Rådata!M435:P435)*100)/SUM(Rådata!H435:K435))","v":""},{"$f":"IF(ISBLANK(Rådata!H435),\"\",((SUM(Rådata!J435:L435)-SUM(Rådata!O435:P435))*100)/SUM(Rådata!H435:L435))","v":""},{"$f":"IF(ISBLANK(Rådata!R435),\"\",(Rådata!Q435*100)/Rådata!R435)","v":""}]
[{"$f":"IF(ISBLANK(Rådata!A436)=TRUE,\"\",Rådata!A436)","v":""},{"$f":"IF(ISBLANK(Rådata!A436)=TRUE,\"\",YEAR(A436))","v":""},{"$f":"IF(ISBLANK(Rådata!A436)=TRUE,\"\",VLOOKUP(MONTH(A436),Opsætning!$G$3:$H$14,2,FALSE))","v":""},{"$f":"IF(ISBLANK(Rådata!B436)=TRUE,\"\",(Rådata!C436*100)/Rådata!B436)","v":""},{"$f":"IF(ISBLANK(Rådata!D436)=TRUE,\"\",((Rådata!D436-Rådata!E436)*100)/Rådata!D436)","v":""},{"$f":"IF(ISBLANK(Rådata!G436)=TRUE,\"\",(Rådata!F436*100)/Rådata!G436)","v":""},{"$f":"IF(ISBLANK(Rådata!K436),\"\",(SUM(Rådata!M436:P436)*100)/SUM(Rådata!H436:K436))","v":""},{"$f":"IF(ISBLANK(Rådata!H436),\"\",((SUM(Rådata!J436:L436)-SUM(Rådata!O436:P436))*100)/SUM(Rådata!H436:L436))","v":""},{"$f":"IF(ISBLANK(Rådata!R436),\"\",(Rådata!Q436*100)/Rådata!R436)","v":""}]
[{"$f":"IF(ISBLANK(Rådata!A437)=TRUE,\"\",Rådata!A437)","v":""},{"$f":"IF(ISBLANK(Rådata!A437)=TRUE,\"\",YEAR(A437))","v":""},{"$f":"IF(ISBLANK(Rådata!A437)=TRUE,\"\",VLOOKUP(MONTH(A437),Opsætning!$G$3:$H$14,2,FALSE))","v":""},{"$f":"IF(ISBLANK(Rådata!B437)=TRUE,\"\",(Rådata!C437*100)/Rådata!B437)","v":""},{"$f":"IF(ISBLANK(Rådata!D437)=TRUE,\"\",((Rådata!D437-Rådata!E437)*100)/Rådata!D437)","v":""},{"$f":"IF(ISBLANK(Rådata!G437)=TRUE,\"\",(Rådata!F437*100)/Rådata!G437)","v":""},{"$f":"IF(ISBLANK(Rådata!K437),\"\",(SUM(Rådata!M437:P437)*100)/SUM(Rådata!H437:K437))","v":""},{"$f":"IF(ISBLANK(Rådata!H437),\"\",((SUM(Rådata!J437:L437)-SUM(Rådata!O437:P437))*100)/SUM(Rådata!H437:L437))","v":""},{"$f":"IF(ISBLANK(Rådata!R437),\"\",(Rådata!Q437*100)/Rådata!R437)","v":""}]
[{"$f":"IF(ISBLANK(Rådata!A438)=TRUE,\"\",Rådata!A438)","v":""},{"$f":"IF(ISBLANK(Rådata!A438)=TRUE,\"\",YEAR(A438))","v":""},{"$f":"IF(ISBLANK(Rådata!A438)=TRUE,\"\",VLOOKUP(MONTH(A438),Opsætning!$G$3:$H$14,2,FALSE))","v":""},{"$f":"IF(ISBLANK(Rådata!B438)=TRUE,\"\",(Rådata!C438*100)/Rådata!B438)","v":""},{"$f":"IF(ISBLANK(Rådata!D438)=TRUE,\"\",((Rådata!D438-Rådata!E438)*100)/Rådata!D438)","v":""},{"$f":"IF(ISBLANK(Rådata!G438)=TRUE,\"\",(Rådata!F438*100)/Rådata!G438)","v":""},{"$f":"IF(ISBLANK(Rådata!K438),\"\",(SUM(Rådata!M438:P438)*100)/SUM(Rådata!H438:K438))","v":""},{"$f":"IF(ISBLANK(Rådata!H438),\"\",((SUM(Rådata!J438:L438)-SUM(Rådata!O438:P438))*100)/SUM(Rådata!H438:L438))","v":""},{"$f":"IF(ISBLANK(Rådata!R438),\"\",(Rådata!Q438*100)/Rådata!R438)","v":""}]
[{"$f":"IF(ISBLANK(Rådata!A439)=TRUE,\"\",Rådata!A439)","v":""},{"$f":"IF(ISBLANK(Rådata!A439)=TRUE,\"\",YEAR(A439))","v":""},{"$f":"IF(ISBLANK(Rådata!A439)=TRUE,\"\",VLOOKUP(MONTH(A439),Opsætning!$G$3:$H$14,2,FALSE))","v":""},{"$f":"IF(ISBLANK(Rådata!B439)=TRUE,\"\",(Rådata!C439*100)/Rådata!B439)","v":""},{"$f":"IF(ISBLANK(Rådata!D439)=TRUE,\"\",((Rådata!D439-Rådata!E439)*100)/Rådata!D439)","v":""},{"$f":"IF(ISBLANK(Rådata!G439)=TRUE,\"\",(Rådata!F439*100)/Rådata!G439)","v":""},{"$f":"IF(ISBLANK(Rådata!K439),\"\",(SUM(Rådata!M439:P439)*100)/SUM(Rådata!H439:K439))","v":""},{"$f":"IF(ISBLANK(Rådata!H439),\"\",((SUM(Rådata!J439:L439)-SUM(Rådata!O439:P439))*100)/SUM(Rådata!H439:L439))","v":""},{"$f":"IF(ISBLANK(Rådata!R439),\"\",(Rådata!Q439*100)/Rådata!R439)","v":""}]
[{"$f":"IF(ISBLANK(Rådata!A440)=TRUE,\"\",Rådata!A440)","v":""},{"$f":"IF(ISBLANK(Rådata!A440)=TRUE,\"\",YEAR(A440))","v":""},{"$f":"IF(ISBLANK(Rådata!A440)=TRUE,\"\",VLOOKUP(MONTH(A440),Opsætning!$G$3:$H$14,2,FALSE))","v":""},{"$f":"IF(ISBLANK(Rådata!B440)=TRUE,\"\",(Rådata!C440*100)/Rådata!B440)","v":""},{"$f":"IF(ISBLANK(Rådata!D440)=TRUE,\"\",((Rådata!D440-Rådata!E440)*100)/Rådata!D440)","v":""},{"$f":"IF(ISBLANK(Rådata!G440)=TRUE,\"\",(Rådata!F440*100)/Rådata!G440)","v":""},{"$f":"IF(ISBLANK(Rådata!K440),\"\",(SUM(Rådata!M440:P440)*100)/SUM(Rådata!H440:K440))","v":""},{"$f":"IF(ISBLANK(Rådata!H440),\"\",((SUM(Rådata!J440:L440)-SUM(Rådata!O440:P440))*100)/SUM(Rådata!H440:L440))","v":""},{"$f":"IF(ISBLANK(Rådata!R440),\"\",(Rådata!Q440*100)/Rådata!R440)","v":""}]
[{"$f":"IF(ISBLANK(Rådata!A441)=TRUE,\"\",Rådata!A441)","v":""},{"$f":"IF(ISBLANK(Rådata!A441)=TRUE,\"\",YEAR(A441))","v":""},{"$f":"IF(ISBLANK(Rådata!A441)=TRUE,\"\",VLOOKUP(MONTH(A441),Opsætning!$G$3:$H$14,2,FALSE))","v":""},{"$f":"IF(ISBLANK(Rådata!B441)=TRUE,\"\",(Rådata!C441*100)/Rådata!B441)","v":""},{"$f":"IF(ISBLANK(Rådata!D441)=TRUE,\"\",((Rådata!D441-Rådata!E441)*100)/Rådata!D441)","v":""},{"$f":"IF(ISBLANK(Rådata!G441)=TRUE,\"\",(Rådata!F441*100)/Rådata!G441)","v":""},{"$f":"IF(ISBLANK(Rådata!K441),\"\",(SUM(Rådata!M441:P441)*100)/SUM(Rådata!H441:K441))","v":""},{"$f":"IF(ISBLANK(Rådata!H441),\"\",((SUM(Rådata!J441:L441)-SUM(Rådata!O441:P441))*100)/SUM(Rådata!H441:L441))","v":""},{"$f":"IF(ISBLANK(Rådata!R441),\"\",(Rådata!Q441*100)/Rådata!R441)","v":""}]
[{"$f":"IF(ISBLANK(Rådata!A442)=TRUE,\"\",Rådata!A442)","v":""},{"$f":"IF(ISBLANK(Rådata!A442)=TRUE,\"\",YEAR(A442))","v":""},{"$f":"IF(ISBLANK(Rådata!A442)=TRUE,\"\",VLOOKUP(MONTH(A442),Opsætning!$G$3:$H$14,2,FALSE))","v":""},{"$f":"IF(ISBLANK(Rådata!B442)=TRUE,\"\",(Rådata!C442*100)/Rådata!B442)","v":""},{"$f":"IF(ISBLANK(Rådata!D442)=TRUE,\"\",((Rådata!D442-Rådata!E442)*100)/Rådata!D442)","v":""},{"$f":"IF(ISBLANK(Rådata!G442)=TRUE,\"\",(Rådata!F442*100)/Rådata!G442)","v":""},{"$f":"IF(ISBLANK(Rådata!K442),\"\",(SUM(Rådata!M442:P442)*100)/SUM(Rådata!H442:K442))","v":""},{"$f":"IF(ISBLANK(Rådata!H442),\"\",((SUM(Rådata!J442:L442)-SUM(Rådata!O442:P442))*100)/SUM(Rådata!H442:L442))","v":""},{"$f":"IF(ISBLANK(Rådata!R442),\"\",(Rådata!Q442*100)/Rådata!R442)","v":""}]
[{"$f":"IF(ISBLANK(Rådata!A443)=TRUE,\"\",Rådata!A443)","v":""},{"$f":"IF(ISBLANK(Rådata!A443)=TRUE,\"\",YEAR(A443))","v":""},{"$f":"IF(ISBLANK(Rådata!A443)=TRUE,\"\",VLOOKUP(MONTH(A443),Opsætning!$G$3:$H$14,2,FALSE))","v":""},{"$f":"IF(ISBLANK(Rådata!B443)=TRUE,\"\",(Rådata!C443*100)/Rådata!B443)","v":""},{"$f":"IF(ISBLANK(Rådata!D443)=TRUE,\"\",((Rådata!D443-Rådata!E443)*100)/Rådata!D443)","v":""},{"$f":"IF(ISBLANK(Rådata!G443)=TRUE,\"\",(Rådata!F443*100)/Rådata!G443)","v":""},{"$f":"IF(ISBLANK(Rådata!K443),\"\",(SUM(Rådata!M443:P443)*100)/SUM(Rådata!H443:K443))","v":""},{"$f":"IF(ISBLANK(Rådata!H443),\"\",((SUM(Rådata!J443:L443)-SUM(Rådata!O443:P443))*100)/SUM(Rådata!H443:L443))","v":""},{"$f":"IF(ISBLANK(Rådata!R443),\"\",(Rådata!Q443*100)/Rådata!R443)","v":""}]
[{"$f":"IF(ISBLANK(Rådata!A444)=TRUE,\"\",Rådata!A444)","v":""},{"$f":"IF(ISBLANK(Rådata!A444)=TRUE,\"\",YEAR(A444))","v":""},{"$f":"IF(ISBLANK(Rådata!A444)=TRUE,\"\",VLOOKUP(MONTH(A444),Opsætning!$G$3:$H$14,2,FALSE))","v":""},{"$f":"IF(ISBLANK(Rådata!B444)=TRUE,\"\",(Rådata!C444*100)/Rådata!B444)","v":""},{"$f":"IF(ISBLANK(Rådata!D444)=TRUE,\"\",((Rådata!D444-Rådata!E444)*100)/Rådata!D444)","v":""},{"$f":"IF(ISBLANK(Rådata!G444)=TRUE,\"\",(Rådata!F444*100)/Rådata!G444)","v":""},{"$f":"IF(ISBLANK(Rådata!K444),\"\",(SUM(Rådata!M444:P444)*100)/SUM(Rådata!H444:K444))","v":""},{"$f":"IF(ISBLANK(Rådata!H444),\"\",((SUM(Rådata!J444:L444)-SUM(Rådata!O444:P444))*100)/SUM(Rådata!H444:L444))","v":""},{"$f":"IF(ISBLANK(Rådata!R444),\"\",(Rådata!Q444*100)/Rådata!R444)","v":""}]
[{"$f":"IF(ISBLANK(Rådata!A445)=TRUE,\"\",Rådata!A445)","v":""},{"$f":"IF(ISBLANK(Rådata!A445)=TRUE,\"\",YEAR(A445))","v":""},{"$f":"IF(ISBLANK(Rådata!A445)=TRUE,\"\",VLOOKUP(MONTH(A445),Opsætning!$G$3:$H$14,2,FALSE))","v":""},{"$f":"IF(ISBLANK(Rådata!B445)=TRUE,\"\",(Rådata!C445*100)/Rådata!B445)","v":""},{"$f":"IF(ISBLANK(Rådata!D445)=TRUE,\"\",((Rådata!D445-Rådata!E445)*100)/Rådata!D445)","v":""},{"$f":"IF(ISBLANK(Rådata!G445)=TRUE,\"\",(Rådata!F445*100)/Rådata!G445)","v":""},{"$f":"IF(ISBLANK(Rådata!K445),\"\",(SUM(Rådata!M445:P445)*100)/SUM(Rådata!H445:K445))","v":""},{"$f":"IF(ISBLANK(Rådata!H445),\"\",((SUM(Rådata!J445:L445)-SUM(Rådata!O445:P445))*100)/SUM(Rådata!H445:L445))","v":""},{"$f":"IF(ISBLANK(Rådata!R445),\"\",(Rådata!Q445*100)/Rådata!R445)","v":""}]
[{"$f":"IF(ISBLANK(Rådata!A446)=TRUE,\"\",Rådata!A446)","v":""},{"$f":"IF(ISBLANK(Rådata!A446)=TRUE,\"\",YEAR(A446))","v":""},{"$f":"IF(ISBLANK(Rådata!A446)=TRUE,\"\",VLOOKUP(MONTH(A446),Opsætning!$G$3:$H$14,2,FALSE))","v":""},{"$f":"IF(ISBLANK(Rådata!B446)=TRUE,\"\",(Rådata!C446*100)/Rådata!B446)","v":""},{"$f":"IF(ISBLANK(Rådata!D446)=TRUE,\"\",((Rådata!D446-Rådata!E446)*100)/Rådata!D446)","v":""},{"$f":"IF(ISBLANK(Rådata!G446)=TRUE,\"\",(Rådata!F446*100)/Rådata!G446)","v":""},{"$f":"IF(ISBLANK(Rådata!K446),\"\",(SUM(Rådata!M446:P446)*100)/SUM(Rådata!H446:K446))","v":""},{"$f":"IF(ISBLANK(Rådata!H446),\"\",((SUM(Rådata!J446:L446)-SUM(Rådata!O446:P446))*100)/SUM(Rådata!H446:L446))","v":""},{"$f":"IF(ISBLANK(Rådata!R446),\"\",(Rådata!Q446*100)/Rådata!R446)","v":""}]
[{"$f":"IF(ISBLANK(Rådata!A447)=TRUE,\"\",Rådata!A447)","v":""},{"$f":"IF(ISBLANK(Rådata!A447)=TRUE,\"\",YEAR(A447))","v":""},{"$f":"IF(ISBLANK(Rådata!A447)=TRUE,\"\",VLOOKUP(MONTH(A447),Opsætning!$G$3:$H$14,2,FALSE))","v":""},{"$f":"IF(ISBLANK(Rådata!B447)=TRUE,\"\",(Rådata!C447*100)/Rådata!B447)","v":""},{"$f":"IF(ISBLANK(Rådata!D447)=TRUE,\"\",((Rådata!D447-Rådata!E447)*100)/Rådata!D447)","v":""},{"$f":"IF(ISBLANK(Rådata!G447)=TRUE,\"\",(Rådata!F447*100)/Rådata!G447)","v":""},{"$f":"IF(ISBLANK(Rådata!K447),\"\",(SUM(Rådata!M447:P447)*100)/SUM(Rådata!H447:K447))","v":""},{"$f":"IF(ISBLANK(Rådata!H447),\"\",((SUM(Rådata!J447:L447)-SUM(Rådata!O447:P447))*100)/SUM(Rådata!H447:L447))","v":""},{"$f":"IF(ISBLANK(Rådata!R447),\"\",(Rådata!Q447*100)/Rådata!R447)","v":""}]
[{"$f":"IF(ISBLANK(Rådata!A448)=TRUE,\"\",Rådata!A448)","v":""},{"$f":"IF(ISBLANK(Rådata!A448)=TRUE,\"\",YEAR(A448))","v":""},{"$f":"IF(ISBLANK(Rådata!A448)=TRUE,\"\",VLOOKUP(MONTH(A448),Opsætning!$G$3:$H$14,2,FALSE))","v":""},{"$f":"IF(ISBLANK(Rådata!B448)=TRUE,\"\",(Rådata!C448*100)/Rådata!B448)","v":""},{"$f":"IF(ISBLANK(Rådata!D448)=TRUE,\"\",((Rådata!D448-Rådata!E448)*100)/Rådata!D448)","v":""},{"$f":"IF(ISBLANK(Rådata!G448)=TRUE,\"\",(Rådata!F448*100)/Rådata!G448)","v":""},{"$f":"IF(ISBLANK(Rådata!K448),\"\",(SUM(Rådata!M448:P448)*100)/SUM(Rådata!H448:K448))","v":""},{"$f":"IF(ISBLANK(Rådata!H448),\"\",((SUM(Rådata!J448:L448)-SUM(Rådata!O448:P448))*100)/SUM(Rådata!H448:L448))","v":""},{"$f":"IF(ISBLANK(Rådata!R448),\"\",(Rådata!Q448*100)/Rådata!R448)","v":""}]
[{"$f":"IF(ISBLANK(Rådata!A449)=TRUE,\"\",Rådata!A449)","v":""},{"$f":"IF(ISBLANK(Rådata!A449)=TRUE,\"\",YEAR(A449))","v":""},{"$f":"IF(ISBLANK(Rådata!A449)=TRUE,\"\",VLOOKUP(MONTH(A449),Opsætning!$G$3:$H$14,2,FALSE))","v":""},{"$f":"IF(ISBLANK(Rådata!B449)=TRUE,\"\",(Rådata!C449*100)/Rådata!B449)","v":""},{"$f":"IF(ISBLANK(Rådata!D449)=TRUE,\"\",((Rådata!D449-Rådata!E449)*100)/Rådata!D449)","v":""},{"$f":"IF(ISBLANK(Rådata!G449)=TRUE,\"\",(Rådata!F449*100)/Rådata!G449)","v":""},{"$f":"IF(ISBLANK(Rådata!K449),\"\",(SUM(Rådata!M449:P449)*100)/SUM(Rådata!H449:K449))","v":""},{"$f":"IF(ISBLANK(Rådata!H449),\"\",((SUM(Rådata!J449:L449)-SUM(Rådata!O449:P449))*100)/SUM(Rådata!H449:L449))","v":""},{"$f":"IF(ISBLANK(Rådata!R449),\"\",(Rådata!Q449*100)/Rådata!R449)","v":""}]
[{"$f":"IF(ISBLANK(Rådata!A450)=TRUE,\"\",Rådata!A450)","v":""},{"$f":"IF(ISBLANK(Rådata!A450)=TRUE,\"\",YEAR(A450))","v":""},{"$f":"IF(ISBLANK(Rådata!A450)=TRUE,\"\",VLOOKUP(MONTH(A450),Opsætning!$G$3:$H$14,2,FALSE))","v":""},{"$f":"IF(ISBLANK(Rådata!B450)=TRUE,\"\",(Rådata!C450*100)/Rådata!B450)","v":""},{"$f":"IF(ISBLANK(Rådata!D450)=TRUE,\"\",((Rådata!D450-Rådata!E450)*100)/Rådata!D450)","v":""},{"$f":"IF(ISBLANK(Rådata!G450)=TRUE,\"\",(Rådata!F450*100)/Rådata!G450)","v":""},{"$f":"IF(ISBLANK(Rådata!K450),\"\",(SUM(Rådata!M450:P450)*100)/SUM(Rådata!H450:K450))","v":""},{"$f":"IF(ISBLANK(Rådata!H450),\"\",((SUM(Rådata!J450:L450)-SUM(Rådata!O450:P450))*100)/SUM(Rådata!H450:L450))","v":""},{"$f":"IF(ISBLANK(Rådata!R450),\"\",(Rådata!Q450*100)/Rådata!R450)","v":""}]
[{"$f":"IF(ISBLANK(Rådata!A451)=TRUE,\"\",Rådata!A451)","v":""},{"$f":"IF(ISBLANK(Rådata!A451)=TRUE,\"\",YEAR(A451))","v":""},{"$f":"IF(ISBLANK(Rådata!A451)=TRUE,\"\",VLOOKUP(MONTH(A451),Opsætning!$G$3:$H$14,2,FALSE))","v":""},{"$f":"IF(ISBLANK(Rådata!B451)=TRUE,\"\",(Rådata!C451*100)/Rådata!B451)","v":""},{"$f":"IF(ISBLANK(Rådata!D451)=TRUE,\"\",((Rådata!D451-Rådata!E451)*100)/Rådata!D451)","v":""},{"$f":"IF(ISBLANK(Rådata!G451)=TRUE,\"\",(Rådata!F451*100)/Rådata!G451)","v":""},{"$f":"IF(ISBLANK(Rådata!K451),\"\",(SUM(Rådata!M451:P451)*100)/SUM(Rådata!H451:K451))","v":""},{"$f":"IF(ISBLANK(Rådata!H451),\"\",((SUM(Rådata!J451:L451)-SUM(Rådata!O451:P451))*100)/SUM(Rådata!H451:L451))","v":""},{"$f":"IF(ISBLANK(Rådata!R451),\"\",(Rådata!Q451*100)/Rådata!R451)","v":""}]
[{"$f":"IF(ISBLANK(Rådata!A452)=TRUE,\"\",Rådata!A452)","v":""},{"$f":"IF(ISBLANK(Rådata!A452)=TRUE,\"\",YEAR(A452))","v":""},{"$f":"IF(ISBLANK(Rådata!A452)=TRUE,\"\",VLOOKUP(MONTH(A452),Opsætning!$G$3:$H$14,2,FALSE))","v":""},{"$f":"IF(ISBLANK(Rådata!B452)=TRUE,\"\",(Rådata!C452*100)/Rådata!B452)","v":""},{"$f":"IF(ISBLANK(Rådata!D452)=TRUE,\"\",((Rådata!D452-Rådata!E452)*100)/Rådata!D452)","v":""},{"$f":"IF(ISBLANK(Rådata!G452)=TRUE,\"\",(Rådata!F452*100)/Rådata!G452)","v":""},{"$f":"IF(ISBLANK(Rådata!K452),\"\",(SUM(Rådata!M452:P452)*100)/SUM(Rådata!H452:K452))","v":""},{"$f":"IF(ISBLANK(Rådata!H452),\"\",((SUM(Rådata!J452:L452)-SUM(Rådata!O452:P452))*100)/SUM(Rådata!H452:L452))","v":""},{"$f":"IF(ISBLANK(Rådata!R452),\"\",(Rådata!Q452*100)/Rådata!R452)","v":""}]
[{"$f":"IF(ISBLANK(Rådata!A453)=TRUE,\"\",Rådata!A453)","v":""},{"$f":"IF(ISBLANK(Rådata!A453)=TRUE,\"\",YEAR(A453))","v":""},{"$f":"IF(ISBLANK(Rådata!A453)=TRUE,\"\",VLOOKUP(MONTH(A453),Opsætning!$G$3:$H$14,2,FALSE))","v":""},{"$f":"IF(ISBLANK(Rådata!B453)=TRUE,\"\",(Rådata!C453*100)/Rådata!B453)","v":""},{"$f":"IF(ISBLANK(Rådata!D453)=TRUE,\"\",((Rådata!D453-Rådata!E453)*100)/Rådata!D453)","v":""},{"$f":"IF(ISBLANK(Rådata!G453)=TRUE,\"\",(Rådata!F453*100)/Rådata!G453)","v":""},{"$f":"IF(ISBLANK(Rådata!K453),\"\",(SUM(Rådata!M453:P453)*100)/SUM(Rådata!H453:K453))","v":""},{"$f":"IF(ISBLANK(Rådata!H453),\"\",((SUM(Rådata!J453:L453)-SUM(Rådata!O453:P453))*100)/SUM(Rådata!H453:L453))","v":""},{"$f":"IF(ISBLANK(Rådata!R453),\"\",(Rådata!Q453*100)/Rådata!R453)","v":""}]
[{"$f":"IF(ISBLANK(Rådata!A454)=TRUE,\"\",Rådata!A454)","v":""},{"$f":"IF(ISBLANK(Rådata!A454)=TRUE,\"\",YEAR(A454))","v":""},{"$f":"IF(ISBLANK(Rådata!A454)=TRUE,\"\",VLOOKUP(MONTH(A454),Opsætning!$G$3:$H$14,2,FALSE))","v":""},{"$f":"IF(ISBLANK(Rådata!B454)=TRUE,\"\",(Rådata!C454*100)/Rådata!B454)","v":""},{"$f":"IF(ISBLANK(Rådata!D454)=TRUE,\"\",((Rådata!D454-Rådata!E454)*100)/Rådata!D454)","v":""},{"$f":"IF(ISBLANK(Rådata!G454)=TRUE,\"\",(Rådata!F454*100)/Rådata!G454)","v":""},{"$f":"IF(ISBLANK(Rådata!K454),\"\",(SUM(Rådata!M454:P454)*100)/SUM(Rådata!H454:K454))","v":""},{"$f":"IF(ISBLANK(Rådata!H454),\"\",((SUM(Rådata!J454:L454)-SUM(Rådata!O454:P454))*100)/SUM(Rådata!H454:L454))","v":""},{"$f":"IF(ISBLANK(Rådata!R454),\"\",(Rådata!Q454*100)/Rådata!R454)","v":""}]
[{"$f":"IF(ISBLANK(Rådata!A455)=TRUE,\"\",Rådata!A455)","v":""},{"$f":"IF(ISBLANK(Rådata!A455)=TRUE,\"\",YEAR(A455))","v":""},{"$f":"IF(ISBLANK(Rådata!A455)=TRUE,\"\",VLOOKUP(MONTH(A455),Opsætning!$G$3:$H$14,2,FALSE))","v":""},{"$f":"IF(ISBLANK(Rådata!B455)=TRUE,\"\",(Rådata!C455*100)/Rådata!B455)","v":""},{"$f":"IF(ISBLANK(Rådata!D455)=TRUE,\"\",((Rådata!D455-Rådata!E455)*100)/Rådata!D455)","v":""},{"$f":"IF(ISBLANK(Rådata!G455)=TRUE,\"\",(Rådata!F455*100)/Rådata!G455)","v":""},{"$f":"IF(ISBLANK(Rådata!K455),\"\",(SUM(Rådata!M455:P455)*100)/SUM(Rådata!H455:K455))","v":""},{"$f":"IF(ISBLANK(Rådata!H455),\"\",((SUM(Rådata!J455:L455)-SUM(Rådata!O455:P455))*100)/SUM(Rådata!H455:L455))","v":""},{"$f":"IF(ISBLANK(Rådata!R455),\"\",(Rådata!Q455*100)/Rådata!R455)","v":""}]
[{"$f":"IF(ISBLANK(Rådata!A456)=TRUE,\"\",Rådata!A456)","v":""},{"$f":"IF(ISBLANK(Rådata!A456)=TRUE,\"\",YEAR(A456))","v":""},{"$f":"IF(ISBLANK(Rådata!A456)=TRUE,\"\",VLOOKUP(MONTH(A456),Opsætning!$G$3:$H$14,2,FALSE))","v":""},{"$f":"IF(ISBLANK(Rådata!B456)=TRUE,\"\",(Rådata!C456*100)/Rådata!B456)","v":""},{"$f":"IF(ISBLANK(Rådata!D456)=TRUE,\"\",((Rådata!D456-Rådata!E456)*100)/Rådata!D456)","v":""},{"$f":"IF(ISBLANK(Rådata!G456)=TRUE,\"\",(Rådata!F456*100)/Rådata!G456)","v":""},{"$f":"IF(ISBLANK(Rådata!K456),\"\",(SUM(Rådata!M456:P456)*100)/SUM(Rådata!H456:K456))","v":""},{"$f":"IF(ISBLANK(Rådata!H456),\"\",((SUM(Rådata!J456:L456)-SUM(Rådata!O456:P456))*100)/SUM(Rådata!H456:L456))","v":""},{"$f":"IF(ISBLANK(Rådata!R456),\"\",(Rådata!Q456*100)/Rådata!R456)","v":""}]
[{"$f":"IF(ISBLANK(Rådata!A457)=TRUE,\"\",Rådata!A457)","v":""},{"$f":"IF(ISBLANK(Rådata!A457)=TRUE,\"\",YEAR(A457))","v":""},{"$f":"IF(ISBLANK(Rådata!A457)=TRUE,\"\",VLOOKUP(MONTH(A457),Opsætning!$G$3:$H$14,2,FALSE))","v":""},{"$f":"IF(ISBLANK(Rådata!B457)=TRUE,\"\",(Rådata!C457*100)/Rådata!B457)","v":""},{"$f":"IF(ISBLANK(Rådata!D457)=TRUE,\"\",((Rådata!D457-Rådata!E457)*100)/Rådata!D457)","v":""},{"$f":"IF(ISBLANK(Rådata!G457)=TRUE,\"\",(Rådata!F457*100)/Rådata!G457)","v":""},{"$f":"IF(ISBLANK(Rådata!K457),\"\",(SUM(Rådata!M457:P457)*100)/SUM(Rådata!H457:K457))","v":""},{"$f":"IF(ISBLANK(Rådata!H457),\"\",((SUM(Rådata!J457:L457)-SUM(Rådata!O457:P457))*100)/SUM(Rådata!H457:L457))","v":""},{"$f":"IF(ISBLANK(Rådata!R457),\"\",(Rådata!Q457*100)/Rådata!R457)","v":""}]
[{"$f":"IF(ISBLANK(Rådata!A458)=TRUE,\"\",Rådata!A458)","v":""},{"$f":"IF(ISBLANK(Rådata!A458)=TRUE,\"\",YEAR(A458))","v":""},{"$f":"IF(ISBLANK(Rådata!A458)=TRUE,\"\",VLOOKUP(MONTH(A458),Opsætning!$G$3:$H$14,2,FALSE))","v":""},{"$f":"IF(ISBLANK(Rådata!B458)=TRUE,\"\",(Rådata!C458*100)/Rådata!B458)","v":""},{"$f":"IF(ISBLANK(Rådata!D458)=TRUE,\"\",((Rådata!D458-Rådata!E458)*100)/Rådata!D458)","v":""},{"$f":"IF(ISBLANK(Rådata!G458)=TRUE,\"\",(Rådata!F458*100)/Rådata!G458)","v":""},{"$f":"IF(ISBLANK(Rådata!K458),\"\",(SUM(Rådata!M458:P458)*100)/SUM(Rådata!H458:K458))","v":""},{"$f":"IF(ISBLANK(Rådata!H458),\"\",((SUM(Rådata!J458:L458)-SUM(Rådata!O458:P458))*100)/SUM(Rådata!H458:L458))","v":""},{"$f":"IF(ISBLANK(Rådata!R458),\"\",(Rådata!Q458*100)/Rådata!R458)","v":""}]
[{"$f":"IF(ISBLANK(Rådata!A459)=TRUE,\"\",Rådata!A459)","v":""},{"$f":"IF(ISBLANK(Rådata!A459)=TRUE,\"\",YEAR(A459))","v":""},{"$f":"IF(ISBLANK(Rådata!A459)=TRUE,\"\",VLOOKUP(MONTH(A459),Opsætning!$G$3:$H$14,2,FALSE))","v":""},{"$f":"IF(ISBLANK(Rådata!B459)=TRUE,\"\",(Rådata!C459*100)/Rådata!B459)","v":""},{"$f":"IF(ISBLANK(Rådata!D459)=TRUE,\"\",((Rådata!D459-Rådata!E459)*100)/Rådata!D459)","v":""},{"$f":"IF(ISBLANK(Rådata!G459)=TRUE,\"\",(Rådata!F459*100)/Rådata!G459)","v":""},{"$f":"IF(ISBLANK(Rådata!K459),\"\",(SUM(Rådata!M459:P459)*100)/SUM(Rådata!H459:K459))","v":""},{"$f":"IF(ISBLANK(Rådata!H459),\"\",((SUM(Rådata!J459:L459)-SUM(Rådata!O459:P459))*100)/SUM(Rådata!H459:L459))","v":""},{"$f":"IF(ISBLANK(Rådata!R459),\"\",(Rådata!Q459*100)/Rådata!R459)","v":""}]
[{"$f":"IF(ISBLANK(Rådata!A460)=TRUE,\"\",Rådata!A460)","v":""},{"$f":"IF(ISBLANK(Rådata!A460)=TRUE,\"\",YEAR(A460))","v":""},{"$f":"IF(ISBLANK(Rådata!A460)=TRUE,\"\",VLOOKUP(MONTH(A460),Opsætning!$G$3:$H$14,2,FALSE))","v":""},{"$f":"IF(ISBLANK(Rådata!B460)=TRUE,\"\",(Rådata!C460*100)/Rådata!B460)","v":""},{"$f":"IF(ISBLANK(Rådata!D460)=TRUE,\"\",((Rådata!D460-Rådata!E460)*100)/Rådata!D460)","v":""},{"$f":"IF(ISBLANK(Rådata!G460)=TRUE,\"\",(Rådata!F460*100)/Rådata!G460)","v":""},{"$f":"IF(ISBLANK(Rådata!K460),\"\",(SUM(Rådata!M460:P460)*100)/SUM(Rådata!H460:K460))","v":""},{"$f":"IF(ISBLANK(Rådata!H460),\"\",((SUM(Rådata!J460:L460)-SUM(Rådata!O460:P460))*100)/SUM(Rådata!H460:L460))","v":""},{"$f":"IF(ISBLANK(Rådata!R460),\"\",(Rådata!Q460*100)/Rådata!R460)","v":""}]
[{"$f":"IF(ISBLANK(Rådata!A461)=TRUE,\"\",Rådata!A461)","v":""},{"$f":"IF(ISBLANK(Rådata!A461)=TRUE,\"\",YEAR(A461))","v":""},{"$f":"IF(ISBLANK(Rådata!A461)=TRUE,\"\",VLOOKUP(MONTH(A461),Opsætning!$G$3:$H$14,2,FALSE))","v":""},{"$f":"IF(ISBLANK(Rådata!B461)=TRUE,\"\",(Rådata!C461*100)/Rådata!B461)","v":""},{"$f":"IF(ISBLANK(Rådata!D461)=TRUE,\"\",((Rådata!D461-Rådata!E461)*100)/Rådata!D461)","v":""},{"$f":"IF(ISBLANK(Rådata!G461)=TRUE,\"\",(Rådata!F461*100)/Rådata!G461)","v":""},{"$f":"IF(ISBLANK(Rådata!K461),\"\",(SUM(Rådata!M461:P461)*100)/SUM(Rådata!H461:K461))","v":""},{"$f":"IF(ISBLANK(Rådata!H461),\"\",((SUM(Rådata!J461:L461)-SUM(Rådata!O461:P461))*100)/SUM(Rådata!H461:L461))","v":""},{"$f":"IF(ISBLANK(Rådata!R461),\"\",(Rådata!Q461*100)/Rådata!R461)","v":""}]
[{"$f":"IF(ISBLANK(Rådata!A462)=TRUE,\"\",Rådata!A462)","v":""},{"$f":"IF(ISBLANK(Rådata!A462)=TRUE,\"\",YEAR(A462))","v":""},{"$f":"IF(ISBLANK(Rådata!A462)=TRUE,\"\",VLOOKUP(MONTH(A462),Opsætning!$G$3:$H$14,2,FALSE))","v":""},{"$f":"IF(ISBLANK(Rådata!B462)=TRUE,\"\",(Rådata!C462*100)/Rådata!B462)","v":""},{"$f":"IF(ISBLANK(Rådata!D462)=TRUE,\"\",((Rådata!D462-Rådata!E462)*100)/Rådata!D462)","v":""},{"$f":"IF(ISBLANK(Rådata!G462)=TRUE,\"\",(Rådata!F462*100)/Rådata!G462)","v":""},{"$f":"IF(ISBLANK(Rådata!K462),\"\",(SUM(Rådata!M462:P462)*100)/SUM(Rådata!H462:K462))","v":""},{"$f":"IF(ISBLANK(Rådata!H462),\"\",((SUM(Rådata!J462:L462)-SUM(Rådata!O462:P462))*100)/SUM(Rådata!H462:L462))","v":""},{"$f":"IF(ISBLANK(Rådata!R462),\"\",(Rådata!Q462*100)/Rådata!R462)","v":""}]
[{"$f":"IF(ISBLANK(Rådata!A463)=TRUE,\"\",Rådata!A463)","v":""},{"$f":"IF(ISBLANK(Rådata!A463)=TRUE,\"\",YEAR(A463))","v":""},{"$f":"IF(ISBLANK(Rådata!A463)=TRUE,\"\",VLOOKUP(MONTH(A463),Opsætning!$G$3:$H$14,2,FALSE))","v":""},{"$f":"IF(ISBLANK(Rådata!B463)=TRUE,\"\",(Rådata!C463*100)/Rådata!B463)","v":""},{"$f":"IF(ISBLANK(Rådata!D463)=TRUE,\"\",((Rådata!D463-Rådata!E463)*100)/Rådata!D463)","v":""},{"$f":"IF(ISBLANK(Rådata!G463)=TRUE,\"\",(Rådata!F463*100)/Rådata!G463)","v":""},{"$f":"IF(ISBLANK(Rådata!K463),\"\",(SUM(Rådata!M463:P463)*100)/SUM(Rådata!H463:K463))","v":""},{"$f":"IF(ISBLANK(Rådata!H463),\"\",((SUM(Rådata!J463:L463)-SUM(Rådata!O463:P463))*100)/SUM(Rådata!H463:L463))","v":""},{"$f":"IF(ISBLANK(Rådata!R463),\"\",(Rådata!Q463*100)/Rådata!R463)","v":""}]
[{"$f":"IF(ISBLANK(Rådata!A464)=TRUE,\"\",Rådata!A464)","v":""},{"$f":"IF(ISBLANK(Rådata!A464)=TRUE,\"\",YEAR(A464))","v":""},{"$f":"IF(ISBLANK(Rådata!A464)=TRUE,\"\",VLOOKUP(MONTH(A464),Opsætning!$G$3:$H$14,2,FALSE))","v":""},{"$f":"IF(ISBLANK(Rådata!B464)=TRUE,\"\",(Rådata!C464*100)/Rådata!B464)","v":""},{"$f":"IF(ISBLANK(Rådata!D464)=TRUE,\"\",((Rådata!D464-Rådata!E464)*100)/Rådata!D464)","v":""},{"$f":"IF(ISBLANK(Rådata!G464)=TRUE,\"\",(Rådata!F464*100)/Rådata!G464)","v":""},{"$f":"IF(ISBLANK(Rådata!K464),\"\",(SUM(Rådata!M464:P464)*100)/SUM(Rådata!H464:K464))","v":""},{"$f":"IF(ISBLANK(Rådata!H464),\"\",((SUM(Rådata!J464:L464)-SUM(Rådata!O464:P464))*100)/SUM(Rådata!H464:L464))","v":""},{"$f":"IF(ISBLANK(Rådata!R464),\"\",(Rådata!Q464*100)/Rådata!R464)","v":""}]
[{"$f":"IF(ISBLANK(Rådata!A465)=TRUE,\"\",Rådata!A465)","v":""},{"$f":"IF(ISBLANK(Rådata!A465)=TRUE,\"\",YEAR(A465))","v":""},{"$f":"IF(ISBLANK(Rådata!A465)=TRUE,\"\",VLOOKUP(MONTH(A465),Opsætning!$G$3:$H$14,2,FALSE))","v":""},{"$f":"IF(ISBLANK(Rådata!B465)=TRUE,\"\",(Rådata!C465*100)/Rådata!B465)","v":""},{"$f":"IF(ISBLANK(Rådata!D465)=TRUE,\"\",((Rådata!D465-Rådata!E465)*100)/Rådata!D465)","v":""},{"$f":"IF(ISBLANK(Rådata!G465)=TRUE,\"\",(Rådata!F465*100)/Rådata!G465)","v":""},{"$f":"IF(ISBLANK(Rådata!K465),\"\",(SUM(Rådata!M465:P465)*100)/SUM(Rådata!H465:K465))","v":""},{"$f":"IF(ISBLANK(Rådata!H465),\"\",((SUM(Rådata!J465:L465)-SUM(Rådata!O465:P465))*100)/SUM(Rådata!H465:L465))","v":""},{"$f":"IF(ISBLANK(Rådata!R465),\"\",(Rådata!Q465*100)/Rådata!R465)","v":""}]
[{"$f":"IF(ISBLANK(Rådata!A466)=TRUE,\"\",Rådata!A466)","v":""},{"$f":"IF(ISBLANK(Rådata!A466)=TRUE,\"\",YEAR(A466))","v":""},{"$f":"IF(ISBLANK(Rådata!A466)=TRUE,\"\",VLOOKUP(MONTH(A466),Opsætning!$G$3:$H$14,2,FALSE))","v":""},{"$f":"IF(ISBLANK(Rådata!B466)=TRUE,\"\",(Rådata!C466*100)/Rådata!B466)","v":""},{"$f":"IF(ISBLANK(Rådata!D466)=TRUE,\"\",((Rådata!D466-Rådata!E466)*100)/Rådata!D466)","v":""},{"$f":"IF(ISBLANK(Rådata!G466)=TRUE,\"\",(Rådata!F466*100)/Rådata!G466)","v":""},{"$f":"IF(ISBLANK(Rådata!K466),\"\",(SUM(Rådata!M466:P466)*100)/SUM(Rådata!H466:K466))","v":""},{"$f":"IF(ISBLANK(Rådata!H466),\"\",((SUM(Rådata!J466:L466)-SUM(Rådata!O466:P466))*100)/SUM(Rådata!H466:L466))","v":""},{"$f":"IF(ISBLANK(Rådata!R466),\"\",(Rådata!Q466*100)/Rådata!R466)","v":""}]
[{"$f":"IF(ISBLANK(Rådata!A467)=TRUE,\"\",Rådata!A467)","v":""},{"$f":"IF(ISBLANK(Rådata!A467)=TRUE,\"\",YEAR(A467))","v":""},{"$f":"IF(ISBLANK(Rådata!A467)=TRUE,\"\",VLOOKUP(MONTH(A467),Opsætning!$G$3:$H$14,2,FALSE))","v":""},{"$f":"IF(ISBLANK(Rådata!B467)=TRUE,\"\",(Rådata!C467*100)/Rådata!B467)","v":""},{"$f":"IF(ISBLANK(Rådata!D467)=TRUE,\"\",((Rådata!D467-Rådata!E467)*100)/Rådata!D467)","v":""},{"$f":"IF(ISBLANK(Rådata!G467)=TRUE,\"\",(Rådata!F467*100)/Rådata!G467)","v":""},{"$f":"IF(ISBLANK(Rådata!K467),\"\",(SUM(Rådata!M467:P467)*100)/SUM(Rådata!H467:K467))","v":""},{"$f":"IF(ISBLANK(Rådata!H467),\"\",((SUM(Rådata!J467:L467)-SUM(Rådata!O467:P467))*100)/SUM(Rådata!H467:L467))","v":""},{"$f":"IF(ISBLANK(Rådata!R467),\"\",(Rådata!Q467*100)/Rådata!R467)","v":""}]
[{"$f":"IF(ISBLANK(Rådata!A468)=TRUE,\"\",Rådata!A468)","v":""},{"$f":"IF(ISBLANK(Rådata!A468)=TRUE,\"\",YEAR(A468))","v":""},{"$f":"IF(ISBLANK(Rådata!A468)=TRUE,\"\",VLOOKUP(MONTH(A468),Opsætning!$G$3:$H$14,2,FALSE))","v":""},{"$f":"IF(ISBLANK(Rådata!B468)=TRUE,\"\",(Rådata!C468*100)/Rådata!B468)","v":""},{"$f":"IF(ISBLANK(Rådata!D468)=TRUE,\"\",((Rådata!D468-Rådata!E468)*100)/Rådata!D468)","v":""},{"$f":"IF(ISBLANK(Rådata!G468)=TRUE,\"\",(Rådata!F468*100)/Rådata!G468)","v":""},{"$f":"IF(ISBLANK(Rådata!K468),\"\",(SUM(Rådata!M468:P468)*100)/SUM(Rådata!H468:K468))","v":""},{"$f":"IF(ISBLANK(Rådata!H468),\"\",((SUM(Rådata!J468:L468)-SUM(Rådata!O468:P468))*100)/SUM(Rådata!H468:L468))","v":""},{"$f":"IF(ISBLANK(Rådata!R468),\"\",(Rådata!Q468*100)/Rådata!R468)","v":""}]
[{"$f":"IF(ISBLANK(Rådata!A469)=TRUE,\"\",Rådata!A469)","v":""},{"$f":"IF(ISBLANK(Rådata!A469)=TRUE,\"\",YEAR(A469))","v":""},{"$f":"IF(ISBLANK(Rådata!A469)=TRUE,\"\",VLOOKUP(MONTH(A469),Opsætning!$G$3:$H$14,2,FALSE))","v":""},{"$f":"IF(ISBLANK(Rådata!B469)=TRUE,\"\",(Rådata!C469*100)/Rådata!B469)","v":""},{"$f":"IF(ISBLANK(Rådata!D469)=TRUE,\"\",((Rådata!D469-Rådata!E469)*100)/Rådata!D469)","v":""},{"$f":"IF(ISBLANK(Rådata!G469)=TRUE,\"\",(Rådata!F469*100)/Rådata!G469)","v":""},{"$f":"IF(ISBLANK(Rådata!K469),\"\",(SUM(Rådata!M469:P469)*100)/SUM(Rådata!H469:K469))","v":""},{"$f":"IF(ISBLANK(Rådata!H469),\"\",((SUM(Rådata!J469:L469)-SUM(Rådata!O469:P469))*100)/SUM(Rådata!H469:L469))","v":""},{"$f":"IF(ISBLANK(Rådata!R469),\"\",(Rådata!Q469*100)/Rådata!R469)","v":""}]
[{"$f":"IF(ISBLANK(Rådata!A470)=TRUE,\"\",Rådata!A470)","v":""},{"$f":"IF(ISBLANK(Rådata!A470)=TRUE,\"\",YEAR(A470))","v":""},{"$f":"IF(ISBLANK(Rådata!A470)=TRUE,\"\",VLOOKUP(MONTH(A470),Opsætning!$G$3:$H$14,2,FALSE))","v":""},{"$f":"IF(ISBLANK(Rådata!B470)=TRUE,\"\",(Rådata!C470*100)/Rådata!B470)","v":""},{"$f":"IF(ISBLANK(Rådata!D470)=TRUE,\"\",((Rådata!D470-Rådata!E470)*100)/Rådata!D470)","v":""},{"$f":"IF(ISBLANK(Rådata!G470)=TRUE,\"\",(Rådata!F470*100)/Rådata!G470)","v":""},{"$f":"IF(ISBLANK(Rådata!K470),\"\",(SUM(Rådata!M470:P470)*100)/SUM(Rådata!H470:K470))","v":""},{"$f":"IF(ISBLANK(Rådata!H470),\"\",((SUM(Rådata!J470:L470)-SUM(Rådata!O470:P470))*100)/SUM(Rådata!H470:L470))","v":""},{"$f":"IF(ISBLANK(Rådata!R470),\"\",(Rådata!Q470*100)/Rådata!R470)","v":""}]
[{"$f":"IF(ISBLANK(Rådata!A471)=TRUE,\"\",Rådata!A471)","v":""},{"$f":"IF(ISBLANK(Rådata!A471)=TRUE,\"\",YEAR(A471))","v":""},{"$f":"IF(ISBLANK(Rådata!A471)=TRUE,\"\",VLOOKUP(MONTH(A471),Opsætning!$G$3:$H$14,2,FALSE))","v":""},{"$f":"IF(ISBLANK(Rådata!B471)=TRUE,\"\",(Rådata!C471*100)/Rådata!B471)","v":""},{"$f":"IF(ISBLANK(Rådata!D471)=TRUE,\"\",((Rådata!D471-Rådata!E471)*100)/Rådata!D471)","v":""},{"$f":"IF(ISBLANK(Rådata!G471)=TRUE,\"\",(Rådata!F471*100)/Rådata!G471)","v":""},{"$f":"IF(ISBLANK(Rådata!K471),\"\",(SUM(Rådata!M471:P471)*100)/SUM(Rådata!H471:K471))","v":""},{"$f":"IF(ISBLANK(Rådata!H471),\"\",((SUM(Rådata!J471:L471)-SUM(Rådata!O471:P471))*100)/SUM(Rådata!H471:L471))","v":""},{"$f":"IF(ISBLANK(Rådata!R471),\"\",(Rådata!Q471*100)/Rådata!R471)","v":""}]
[{"$f":"IF(ISBLANK(Rådata!A472)=TRUE,\"\",Rådata!A472)","v":""},{"$f":"IF(ISBLANK(Rådata!A472)=TRUE,\"\",YEAR(A472))","v":""},{"$f":"IF(ISBLANK(Rådata!A472)=TRUE,\"\",VLOOKUP(MONTH(A472),Opsætning!$G$3:$H$14,2,FALSE))","v":""},{"$f":"IF(ISBLANK(Rådata!B472)=TRUE,\"\",(Rådata!C472*100)/Rådata!B472)","v":""},{"$f":"IF(ISBLANK(Rådata!D472)=TRUE,\"\",((Rådata!D472-Rådata!E472)*100)/Rådata!D472)","v":""},{"$f":"IF(ISBLANK(Rådata!G472)=TRUE,\"\",(Rådata!F472*100)/Rådata!G472)","v":""},{"$f":"IF(ISBLANK(Rådata!K472),\"\",(SUM(Rådata!M472:P472)*100)/SUM(Rådata!H472:K472))","v":""},{"$f":"IF(ISBLANK(Rådata!H472),\"\",((SUM(Rådata!J472:L472)-SUM(Rådata!O472:P472))*100)/SUM(Rådata!H472:L472))","v":""},{"$f":"IF(ISBLANK(Rådata!R472),\"\",(Rådata!Q472*100)/Rådata!R472)","v":""}]
[{"$f":"IF(ISBLANK(Rådata!A473)=TRUE,\"\",Rådata!A473)","v":""},{"$f":"IF(ISBLANK(Rådata!A473)=TRUE,\"\",YEAR(A473))","v":""},{"$f":"IF(ISBLANK(Rådata!A473)=TRUE,\"\",VLOOKUP(MONTH(A473),Opsætning!$G$3:$H$14,2,FALSE))","v":""},{"$f":"IF(ISBLANK(Rådata!B473)=TRUE,\"\",(Rådata!C473*100)/Rådata!B473)","v":""},{"$f":"IF(ISBLANK(Rådata!D473)=TRUE,\"\",((Rådata!D473-Rådata!E473)*100)/Rådata!D473)","v":""},{"$f":"IF(ISBLANK(Rådata!G473)=TRUE,\"\",(Rådata!F473*100)/Rådata!G473)","v":""},{"$f":"IF(ISBLANK(Rådata!K473),\"\",(SUM(Rådata!M473:P473)*100)/SUM(Rådata!H473:K473))","v":""},{"$f":"IF(ISBLANK(Rådata!H473),\"\",((SUM(Rådata!J473:L473)-SUM(Rådata!O473:P473))*100)/SUM(Rådata!H473:L473))","v":""},{"$f":"IF(ISBLANK(Rådata!R473),\"\",(Rådata!Q473*100)/Rådata!R473)","v":""}]
[{"$f":"IF(ISBLANK(Rådata!A474)=TRUE,\"\",Rådata!A474)","v":""},{"$f":"IF(ISBLANK(Rådata!A474)=TRUE,\"\",YEAR(A474))","v":""},{"$f":"IF(ISBLANK(Rådata!A474)=TRUE,\"\",VLOOKUP(MONTH(A474),Opsætning!$G$3:$H$14,2,FALSE))","v":""},{"$f":"IF(ISBLANK(Rådata!B474)=TRUE,\"\",(Rådata!C474*100)/Rådata!B474)","v":""},{"$f":"IF(ISBLANK(Rådata!D474)=TRUE,\"\",((Rådata!D474-Rådata!E474)*100)/Rådata!D474)","v":""},{"$f":"IF(ISBLANK(Rådata!G474)=TRUE,\"\",(Rådata!F474*100)/Rådata!G474)","v":""},{"$f":"IF(ISBLANK(Rådata!K474),\"\",(SUM(Rådata!M474:P474)*100)/SUM(Rådata!H474:K474))","v":""},{"$f":"IF(ISBLANK(Rådata!H474),\"\",((SUM(Rådata!J474:L474)-SUM(Rådata!O474:P474))*100)/SUM(Rådata!H474:L474))","v":""},{"$f":"IF(ISBLANK(Rådata!R474),\"\",(Rådata!Q474*100)/Rådata!R474)","v":""}]
[{"$f":"IF(ISBLANK(Rådata!A475)=TRUE,\"\",Rådata!A475)","v":""},{"$f":"IF(ISBLANK(Rådata!A475)=TRUE,\"\",YEAR(A475))","v":""},{"$f":"IF(ISBLANK(Rådata!A475)=TRUE,\"\",VLOOKUP(MONTH(A475),Opsætning!$G$3:$H$14,2,FALSE))","v":""},{"$f":"IF(ISBLANK(Rådata!B475)=TRUE,\"\",(Rådata!C475*100)/Rådata!B475)","v":""},{"$f":"IF(ISBLANK(Rådata!D475)=TRUE,\"\",((Rådata!D475-Rådata!E475)*100)/Rådata!D475)","v":""},{"$f":"IF(ISBLANK(Rådata!G475)=TRUE,\"\",(Rådata!F475*100)/Rådata!G475)","v":""},{"$f":"IF(ISBLANK(Rådata!K475),\"\",(SUM(Rådata!M475:P475)*100)/SUM(Rådata!H475:K475))","v":""},{"$f":"IF(ISBLANK(Rådata!H475),\"\",((SUM(Rådata!J475:L475)-SUM(Rådata!O475:P475))*100)/SUM(Rådata!H475:L475))","v":""},{"$f":"IF(ISBLANK(Rådata!R475),\"\",(Rådata!Q475*100)/Rådata!R475)","v":""}]
[{"$f":"IF(ISBLANK(Rådata!A476)=TRUE,\"\",Rådata!A476)","v":""},{"$f":"IF(ISBLANK(Rådata!A476)=TRUE,\"\",YEAR(A476))","v":""},{"$f":"IF(ISBLANK(Rådata!A476)=TRUE,\"\",VLOOKUP(MONTH(A476),Opsætning!$G$3:$H$14,2,FALSE))","v":""},{"$f":"IF(ISBLANK(Rådata!B476)=TRUE,\"\",(Rådata!C476*100)/Rådata!B476)","v":""},{"$f":"IF(ISBLANK(Rådata!D476)=TRUE,\"\",((Rådata!D476-Rådata!E476)*100)/Rådata!D476)","v":""},{"$f":"IF(ISBLANK(Rådata!G476)=TRUE,\"\",(Rådata!F476*100)/Rådata!G476)","v":""},{"$f":"IF(ISBLANK(Rådata!K476),\"\",(SUM(Rådata!M476:P476)*100)/SUM(Rådata!H476:K476))","v":""},{"$f":"IF(ISBLANK(Rådata!H476),\"\",((SUM(Rådata!J476:L476)-SUM(Rådata!O476:P476))*100)/SUM(Rådata!H476:L476))","v":""},{"$f":"IF(ISBLANK(Rådata!R476),\"\",(Rådata!Q476*100)/Rådata!R476)","v":""}]
[{"$f":"IF(ISBLANK(Rådata!A477)=TRUE,\"\",Rådata!A477)","v":""},{"$f":"IF(ISBLANK(Rådata!A477)=TRUE,\"\",YEAR(A477))","v":""},{"$f":"IF(ISBLANK(Rådata!A477)=TRUE,\"\",VLOOKUP(MONTH(A477),Opsætning!$G$3:$H$14,2,FALSE))","v":""},{"$f":"IF(ISBLANK(Rådata!B477)=TRUE,\"\",(Rådata!C477*100)/Rådata!B477)","v":""},{"$f":"IF(ISBLANK(Rådata!D477)=TRUE,\"\",((Rådata!D477-Rådata!E477)*100)/Rådata!D477)","v":""},{"$f":"IF(ISBLANK(Rådata!G477)=TRUE,\"\",(Rådata!F477*100)/Rådata!G477)","v":""},{"$f":"IF(ISBLANK(Rådata!K477),\"\",(SUM(Rådata!M477:P477)*100)/SUM(Rådata!H477:K477))","v":""},{"$f":"IF(ISBLANK(Rådata!H477),\"\",((SUM(Rådata!J477:L477)-SUM(Rådata!O477:P477))*100)/SUM(Rådata!H477:L477))","v":""},{"$f":"IF(ISBLANK(Rådata!R477),\"\",(Rådata!Q477*100)/Rådata!R477)","v":""}]
[{"$f":"IF(ISBLANK(Rådata!A478)=TRUE,\"\",Rådata!A478)","v":""},{"$f":"IF(ISBLANK(Rådata!A478)=TRUE,\"\",YEAR(A478))","v":""},{"$f":"IF(ISBLANK(Rådata!A478)=TRUE,\"\",VLOOKUP(MONTH(A478),Opsætning!$G$3:$H$14,2,FALSE))","v":""},{"$f":"IF(ISBLANK(Rådata!B478)=TRUE,\"\",(Rådata!C478*100)/Rådata!B478)","v":""},{"$f":"IF(ISBLANK(Rådata!D478)=TRUE,\"\",((Rådata!D478-Rådata!E478)*100)/Rådata!D478)","v":""},{"$f":"IF(ISBLANK(Rådata!G478)=TRUE,\"\",(Rådata!F478*100)/Rådata!G478)","v":""},{"$f":"IF(ISBLANK(Rådata!K478),\"\",(SUM(Rådata!M478:P478)*100)/SUM(Rådata!H478:K478))","v":""},{"$f":"IF(ISBLANK(Rådata!H478),\"\",((SUM(Rådata!J478:L478)-SUM(Rådata!O478:P478))*100)/SUM(Rådata!H478:L478))","v":""},{"$f":"IF(ISBLANK(Rådata!R478),\"\",(Rådata!Q478*100)/Rådata!R478)","v":""}]
[{"$f":"IF(ISBLANK(Rådata!A479)=TRUE,\"\",Rådata!A479)","v":""},{"$f":"IF(ISBLANK(Rådata!A479)=TRUE,\"\",YEAR(A479))","v":""},{"$f":"IF(ISBLANK(Rådata!A479)=TRUE,\"\",VLOOKUP(MONTH(A479),Opsætning!$G$3:$H$14,2,FALSE))","v":""},{"$f":"IF(ISBLANK(Rådata!B479)=TRUE,\"\",(Rådata!C479*100)/Rådata!B479)","v":""},{"$f":"IF(ISBLANK(Rådata!D479)=TRUE,\"\",((Rådata!D479-Rådata!E479)*100)/Rådata!D479)","v":""},{"$f":"IF(ISBLANK(Rådata!G479)=TRUE,\"\",(Rådata!F479*100)/Rådata!G479)","v":""},{"$f":"IF(ISBLANK(Rådata!K479),\"\",(SUM(Rådata!M479:P479)*100)/SUM(Rådata!H479:K479))","v":""},{"$f":"IF(ISBLANK(Rådata!H479),\"\",((SUM(Rådata!J479:L479)-SUM(Rådata!O479:P479))*100)/SUM(Rådata!H479:L479))","v":""},{"$f":"IF(ISBLANK(Rådata!R479),\"\",(Rådata!Q479*100)/Rådata!R479)","v":""}]
[{"$f":"IF(ISBLANK(Rådata!A480)=TRUE,\"\",Rådata!A480)","v":""},{"$f":"IF(ISBLANK(Rådata!A480)=TRUE,\"\",YEAR(A480))","v":""},{"$f":"IF(ISBLANK(Rådata!A480)=TRUE,\"\",VLOOKUP(MONTH(A480),Opsætning!$G$3:$H$14,2,FALSE))","v":""},{"$f":"IF(ISBLANK(Rådata!B480)=TRUE,\"\",(Rådata!C480*100)/Rådata!B480)","v":""},{"$f":"IF(ISBLANK(Rådata!D480)=TRUE,\"\",((Rådata!D480-Rådata!E480)*100)/Rådata!D480)","v":""},{"$f":"IF(ISBLANK(Rådata!G480)=TRUE,\"\",(Rådata!F480*100)/Rådata!G480)","v":""},{"$f":"IF(ISBLANK(Rådata!K480),\"\",(SUM(Rådata!M480:P480)*100)/SUM(Rådata!H480:K480))","v":""},{"$f":"IF(ISBLANK(Rådata!H480),\"\",((SUM(Rådata!J480:L480)-SUM(Rådata!O480:P480))*100)/SUM(Rådata!H480:L480))","v":""},{"$f":"IF(ISBLANK(Rådata!R480),\"\",(Rådata!Q480*100)/Rådata!R480)","v":""}]
[{"$f":"IF(ISBLANK(Rådata!A481)=TRUE,\"\",Rådata!A481)","v":""},{"$f":"IF(ISBLANK(Rådata!A481)=TRUE,\"\",YEAR(A481))","v":""},{"$f":"IF(ISBLANK(Rådata!A481)=TRUE,\"\",VLOOKUP(MONTH(A481),Opsætning!$G$3:$H$14,2,FALSE))","v":""},{"$f":"IF(ISBLANK(Rådata!B481)=TRUE,\"\",(Rådata!C481*100)/Rådata!B481)","v":""},{"$f":"IF(ISBLANK(Rådata!D481)=TRUE,\"\",((Rådata!D481-Rådata!E481)*100)/Rådata!D481)","v":""},{"$f":"IF(ISBLANK(Rådata!G481)=TRUE,\"\",(Rådata!F481*100)/Rådata!G481)","v":""},{"$f":"IF(ISBLANK(Rådata!K481),\"\",(SUM(Rådata!M481:P481)*100)/SUM(Rådata!H481:K481))","v":""},{"$f":"IF(ISBLANK(Rådata!H481),\"\",((SUM(Rådata!J481:L481)-SUM(Rådata!O481:P481))*100)/SUM(Rådata!H481:L481))","v":""},{"$f":"IF(ISBLANK(Rådata!R481),\"\",(Rådata!Q481*100)/Rådata!R481)","v":""}]
[{"$f":"IF(ISBLANK(Rådata!A482)=TRUE,\"\",Rådata!A482)","v":""},{"$f":"IF(ISBLANK(Rådata!A482)=TRUE,\"\",YEAR(A482))","v":""},{"$f":"IF(ISBLANK(Rådata!A482)=TRUE,\"\",VLOOKUP(MONTH(A482),Opsætning!$G$3:$H$14,2,FALSE))","v":""},{"$f":"IF(ISBLANK(Rådata!B482)=TRUE,\"\",(Rådata!C482*100)/Rådata!B482)","v":""},{"$f":"IF(ISBLANK(Rådata!D482)=TRUE,\"\",((Rådata!D482-Rådata!E482)*100)/Rådata!D482)","v":""},{"$f":"IF(ISBLANK(Rådata!G482)=TRUE,\"\",(Rådata!F482*100)/Rådata!G482)","v":""},{"$f":"IF(ISBLANK(Rådata!K482),\"\",(SUM(Rådata!M482:P482)*100)/SUM(Rådata!H482:K482))","v":""},{"$f":"IF(ISBLANK(Rådata!H482),\"\",((SUM(Rådata!J482:L482)-SUM(Rådata!O482:P482))*100)/SUM(Rådata!H482:L482))","v":""},{"$f":"IF(ISBLANK(Rådata!R482),\"\",(Rådata!Q482*100)/Rådata!R482)","v":""}]
[{"$f":"IF(ISBLANK(Rådata!A483)=TRUE,\"\",Rådata!A483)","v":""},{"$f":"IF(ISBLANK(Rådata!A483)=TRUE,\"\",YEAR(A483))","v":""},{"$f":"IF(ISBLANK(Rådata!A483)=TRUE,\"\",VLOOKUP(MONTH(A483),Opsætning!$G$3:$H$14,2,FALSE))","v":""},{"$f":"IF(ISBLANK(Rådata!B483)=TRUE,\"\",(Rådata!C483*100)/Rådata!B483)","v":""},{"$f":"IF(ISBLANK(Rådata!D483)=TRUE,\"\",((Rådata!D483-Rådata!E483)*100)/Rådata!D483)","v":""},{"$f":"IF(ISBLANK(Rådata!G483)=TRUE,\"\",(Rådata!F483*100)/Rådata!G483)","v":""},{"$f":"IF(ISBLANK(Rådata!K483),\"\",(SUM(Rådata!M483:P483)*100)/SUM(Rådata!H483:K483))","v":""},{"$f":"IF(ISBLANK(Rådata!H483),\"\",((SUM(Rådata!J483:L483)-SUM(Rådata!O483:P483))*100)/SUM(Rådata!H483:L483))","v":""},{"$f":"IF(ISBLANK(Rådata!R483),\"\",(Rådata!Q483*100)/Rådata!R483)","v":""}]
[{"$f":"IF(ISBLANK(Rådata!A484)=TRUE,\"\",Rådata!A484)","v":""},{"$f":"IF(ISBLANK(Rådata!A484)=TRUE,\"\",YEAR(A484))","v":""},{"$f":"IF(ISBLANK(Rådata!A484)=TRUE,\"\",VLOOKUP(MONTH(A484),Opsætning!$G$3:$H$14,2,FALSE))","v":""},{"$f":"IF(ISBLANK(Rådata!B484)=TRUE,\"\",(Rådata!C484*100)/Rådata!B484)","v":""},{"$f":"IF(ISBLANK(Rådata!D484)=TRUE,\"\",((Rådata!D484-Rådata!E484)*100)/Rådata!D484)","v":""},{"$f":"IF(ISBLANK(Rådata!G484)=TRUE,\"\",(Rådata!F484*100)/Rådata!G484)","v":""},{"$f":"IF(ISBLANK(Rådata!K484),\"\",(SUM(Rådata!M484:P484)*100)/SUM(Rådata!H484:K484))","v":""},{"$f":"IF(ISBLANK(Rådata!H484),\"\",((SUM(Rådata!J484:L484)-SUM(Rådata!O484:P484))*100)/SUM(Rådata!H484:L484))","v":""},{"$f":"IF(ISBLANK(Rådata!R484),\"\",(Rådata!Q484*100)/Rådata!R484)","v":""}]
[{"$f":"IF(ISBLANK(Rådata!A485)=TRUE,\"\",Rådata!A485)","v":""},{"$f":"IF(ISBLANK(Rådata!A485)=TRUE,\"\",YEAR(A485))","v":""},{"$f":"IF(ISBLANK(Rådata!A485)=TRUE,\"\",VLOOKUP(MONTH(A485),Opsætning!$G$3:$H$14,2,FALSE))","v":""},{"$f":"IF(ISBLANK(Rådata!B485)=TRUE,\"\",(Rådata!C485*100)/Rådata!B485)","v":""},{"$f":"IF(ISBLANK(Rådata!D485)=TRUE,\"\",((Rådata!D485-Rådata!E485)*100)/Rådata!D485)","v":""},{"$f":"IF(ISBLANK(Rådata!G485)=TRUE,\"\",(Rådata!F485*100)/Rådata!G485)","v":""},{"$f":"IF(ISBLANK(Rådata!K485),\"\",(SUM(Rådata!M485:P485)*100)/SUM(Rådata!H485:K485))","v":""},{"$f":"IF(ISBLANK(Rådata!H485),\"\",((SUM(Rådata!J485:L485)-SUM(Rådata!O485:P485))*100)/SUM(Rådata!H485:L485))","v":""},{"$f":"IF(ISBLANK(Rådata!R485),\"\",(Rådata!Q485*100)/Rådata!R485)","v":""}]
[{"$f":"IF(ISBLANK(Rådata!A486)=TRUE,\"\",Rådata!A486)","v":""},{"$f":"IF(ISBLANK(Rådata!A486)=TRUE,\"\",YEAR(A486))","v":""},{"$f":"IF(ISBLANK(Rådata!A486)=TRUE,\"\",VLOOKUP(MONTH(A486),Opsætning!$G$3:$H$14,2,FALSE))","v":""},{"$f":"IF(ISBLANK(Rådata!B486)=TRUE,\"\",(Rådata!C486*100)/Rådata!B486)","v":""},{"$f":"IF(ISBLANK(Rådata!D486)=TRUE,\"\",((Rådata!D486-Rådata!E486)*100)/Rådata!D486)","v":""},{"$f":"IF(ISBLANK(Rådata!G486)=TRUE,\"\",(Rådata!F486*100)/Rådata!G486)","v":""},{"$f":"IF(ISBLANK(Rådata!K486),\"\",(SUM(Rådata!M486:P486)*100)/SUM(Rådata!H486:K486))","v":""},{"$f":"IF(ISBLANK(Rådata!H486),\"\",((SUM(Rådata!J486:L486)-SUM(Rådata!O486:P486))*100)/SUM(Rådata!H486:L486))","v":""},{"$f":"IF(ISBLANK(Rådata!R486),\"\",(Rådata!Q486*100)/Rådata!R486)","v":""}]
[{"$f":"IF(ISBLANK(Rådata!A487)=TRUE,\"\",Rådata!A487)","v":""},{"$f":"IF(ISBLANK(Rådata!A487)=TRUE,\"\",YEAR(A487))","v":""},{"$f":"IF(ISBLANK(Rådata!A487)=TRUE,\"\",VLOOKUP(MONTH(A487),Opsætning!$G$3:$H$14,2,FALSE))","v":""},{"$f":"IF(ISBLANK(Rådata!B487)=TRUE,\"\",(Rådata!C487*100)/Rådata!B487)","v":""},{"$f":"IF(ISBLANK(Rådata!D487)=TRUE,\"\",((Rådata!D487-Rådata!E487)*100)/Rådata!D487)","v":""},{"$f":"IF(ISBLANK(Rådata!G487)=TRUE,\"\",(Rådata!F487*100)/Rådata!G487)","v":""},{"$f":"IF(ISBLANK(Rådata!K487),\"\",(SUM(Rådata!M487:P487)*100)/SUM(Rådata!H487:K487))","v":""},{"$f":"IF(ISBLANK(Rådata!H487),\"\",((SUM(Rådata!J487:L487)-SUM(Rådata!O487:P487))*100)/SUM(Rådata!H487:L487))","v":""},{"$f":"IF(ISBLANK(Rådata!R487),\"\",(Rådata!Q487*100)/Rådata!R487)","v":""}]
[{"$f":"IF(ISBLANK(Rådata!A488)=TRUE,\"\",Rådata!A488)","v":""},{"$f":"IF(ISBLANK(Rådata!A488)=TRUE,\"\",YEAR(A488))","v":""},{"$f":"IF(ISBLANK(Rådata!A488)=TRUE,\"\",VLOOKUP(MONTH(A488),Opsætning!$G$3:$H$14,2,FALSE))","v":""},{"$f":"IF(ISBLANK(Rådata!B488)=TRUE,\"\",(Rådata!C488*100)/Rådata!B488)","v":""},{"$f":"IF(ISBLANK(Rådata!D488)=TRUE,\"\",((Rådata!D488-Rådata!E488)*100)/Rådata!D488)","v":""},{"$f":"IF(ISBLANK(Rådata!G488)=TRUE,\"\",(Rådata!F488*100)/Rådata!G488)","v":""},{"$f":"IF(ISBLANK(Rådata!K488),\"\",(SUM(Rådata!M488:P488)*100)/SUM(Rådata!H488:K488))","v":""},{"$f":"IF(ISBLANK(Rådata!H488),\"\",((SUM(Rådata!J488:L488)-SUM(Rådata!O488:P488))*100)/SUM(Rådata!H488:L488))","v":""},{"$f":"IF(ISBLANK(Rådata!R488),\"\",(Rådata!Q488*100)/Rådata!R488)","v":""}]
[{"$f":"IF(ISBLANK(Rådata!A489)=TRUE,\"\",Rådata!A489)","v":""},{"$f":"IF(ISBLANK(Rådata!A489)=TRUE,\"\",YEAR(A489))","v":""},{"$f":"IF(ISBLANK(Rådata!A489)=TRUE,\"\",VLOOKUP(MONTH(A489),Opsætning!$G$3:$H$14,2,FALSE))","v":""},{"$f":"IF(ISBLANK(Rådata!B489)=TRUE,\"\",(Rådata!C489*100)/Rådata!B489)","v":""},{"$f":"IF(ISBLANK(Rådata!D489)=TRUE,\"\",((Rådata!D489-Rådata!E489)*100)/Rådata!D489)","v":""},{"$f":"IF(ISBLANK(Rådata!G489)=TRUE,\"\",(Rådata!F489*100)/Rådata!G489)","v":""},{"$f":"IF(ISBLANK(Rådata!K489),\"\",(SUM(Rådata!M489:P489)*100)/SUM(Rådata!H489:K489))","v":""},{"$f":"IF(ISBLANK(Rådata!H489),\"\",((SUM(Rådata!J489:L489)-SUM(Rådata!O489:P489))*100)/SUM(Rådata!H489:L489))","v":""},{"$f":"IF(ISBLANK(Rådata!R489),\"\",(Rådata!Q489*100)/Rådata!R489)","v":""}]
[{"$f":"IF(ISBLANK(Rådata!A490)=TRUE,\"\",Rådata!A490)","v":""},{"$f":"IF(ISBLANK(Rådata!A490)=TRUE,\"\",YEAR(A490))","v":""},{"$f":"IF(ISBLANK(Rådata!A490)=TRUE,\"\",VLOOKUP(MONTH(A490),Opsætning!$G$3:$H$14,2,FALSE))","v":""},{"$f":"IF(ISBLANK(Rådata!B490)=TRUE,\"\",(Rådata!C490*100)/Rådata!B490)","v":""},{"$f":"IF(ISBLANK(Rådata!D490)=TRUE,\"\",((Rådata!D490-Rådata!E490)*100)/Rådata!D490)","v":""},{"$f":"IF(ISBLANK(Rådata!G490)=TRUE,\"\",(Rådata!F490*100)/Rådata!G490)","v":""},{"$f":"IF(ISBLANK(Rådata!K490),\"\",(SUM(Rådata!M490:P490)*100)/SUM(Rådata!H490:K490))","v":""},{"$f":"IF(ISBLANK(Rådata!H490),\"\",((SUM(Rådata!J490:L490)-SUM(Rådata!O490:P490))*100)/SUM(Rådata!H490:L490))","v":""},{"$f":"IF(ISBLANK(Rådata!R490),\"\",(Rådata!Q490*100)/Rådata!R490)","v":""}]
[{"$f":"IF(ISBLANK(Rådata!A491)=TRUE,\"\",Rådata!A491)","v":""},{"$f":"IF(ISBLANK(Rådata!A491)=TRUE,\"\",YEAR(A491))","v":""},{"$f":"IF(ISBLANK(Rådata!A491)=TRUE,\"\",VLOOKUP(MONTH(A491),Opsætning!$G$3:$H$14,2,FALSE))","v":""},{"$f":"IF(ISBLANK(Rådata!B491)=TRUE,\"\",(Rådata!C491*100)/Rådata!B491)","v":""},{"$f":"IF(ISBLANK(Rådata!D491)=TRUE,\"\",((Rådata!D491-Rådata!E491)*100)/Rådata!D491)","v":""},{"$f":"IF(ISBLANK(Rådata!G491)=TRUE,\"\",(Rådata!F491*100)/Rådata!G491)","v":""},{"$f":"IF(ISBLANK(Rådata!K491),\"\",(SUM(Rådata!M491:P491)*100)/SUM(Rådata!H491:K491))","v":""},{"$f":"IF(ISBLANK(Rådata!H491),\"\",((SUM(Rådata!J491:L491)-SUM(Rådata!O491:P491))*100)/SUM(Rådata!H491:L491))","v":""},{"$f":"IF(ISBLANK(Rådata!R491),\"\",(Rådata!Q491*100)/Rådata!R491)","v":""}]
[{"$f":"IF(ISBLANK(Rådata!A492)=TRUE,\"\",Rådata!A492)","v":""},{"$f":"IF(ISBLANK(Rådata!A492)=TRUE,\"\",YEAR(A492))","v":""},{"$f":"IF(ISBLANK(Rådata!A492)=TRUE,\"\",VLOOKUP(MONTH(A492),Opsætning!$G$3:$H$14,2,FALSE))","v":""},{"$f":"IF(ISBLANK(Rådata!B492)=TRUE,\"\",(Rådata!C492*100)/Rådata!B492)","v":""},{"$f":"IF(ISBLANK(Rådata!D492)=TRUE,\"\",((Rådata!D492-Rådata!E492)*100)/Rådata!D492)","v":""},{"$f":"IF(ISBLANK(Rådata!G492)=TRUE,\"\",(Rådata!F492*100)/Rådata!G492)","v":""},{"$f":"IF(ISBLANK(Rådata!K492),\"\",(SUM(Rådata!M492:P492)*100)/SUM(Rådata!H492:K492))","v":""},{"$f":"IF(ISBLANK(Rådata!H492),\"\",((SUM(Rådata!J492:L492)-SUM(Rådata!O492:P492))*100)/SUM(Rådata!H492:L492))","v":""},{"$f":"IF(ISBLANK(Rådata!R492),\"\",(Rådata!Q492*100)/Rådata!R492)","v":""}]
[{"$f":"IF(ISBLANK(Rådata!A493)=TRUE,\"\",Rådata!A493)","v":""},{"$f":"IF(ISBLANK(Rådata!A493)=TRUE,\"\",YEAR(A493))","v":""},{"$f":"IF(ISBLANK(Rådata!A493)=TRUE,\"\",VLOOKUP(MONTH(A493),Opsætning!$G$3:$H$14,2,FALSE))","v":""},{"$f":"IF(ISBLANK(Rådata!B493)=TRUE,\"\",(Rådata!C493*100)/Rådata!B493)","v":""},{"$f":"IF(ISBLANK(Rådata!D493)=TRUE,\"\",((Rådata!D493-Rådata!E493)*100)/Rådata!D493)","v":""},{"$f":"IF(ISBLANK(Rådata!G493)=TRUE,\"\",(Rådata!F493*100)/Rådata!G493)","v":""},{"$f":"IF(ISBLANK(Rådata!K493),\"\",(SUM(Rådata!M493:P493)*100)/SUM(Rådata!H493:K493))","v":""},{"$f":"IF(ISBLANK(Rådata!H493),\"\",((SUM(Rådata!J493:L493)-SUM(Rådata!O493:P493))*100)/SUM(Rådata!H493:L493))","v":""},{"$f":"IF(ISBLANK(Rådata!R493),\"\",(Rådata!Q493*100)/Rådata!R493)","v":""}]
[{"$f":"IF(ISBLANK(Rådata!A494)=TRUE,\"\",Rådata!A494)","v":""},{"$f":"IF(ISBLANK(Rådata!A494)=TRUE,\"\",YEAR(A494))","v":""},{"$f":"IF(ISBLANK(Rådata!A494)=TRUE,\"\",VLOOKUP(MONTH(A494),Opsætning!$G$3:$H$14,2,FALSE))","v":""},{"$f":"IF(ISBLANK(Rådata!B494)=TRUE,\"\",(Rådata!C494*100)/Rådata!B494)","v":""},{"$f":"IF(ISBLANK(Rådata!D494)=TRUE,\"\",((Rådata!D494-Rådata!E494)*100)/Rådata!D494)","v":""},{"$f":"IF(ISBLANK(Rådata!G494)=TRUE,\"\",(Rådata!F494*100)/Rådata!G494)","v":""},{"$f":"IF(ISBLANK(Rådata!K494),\"\",(SUM(Rådata!M494:P494)*100)/SUM(Rådata!H494:K494))","v":""},{"$f":"IF(ISBLANK(Rådata!H494),\"\",((SUM(Rådata!J494:L494)-SUM(Rådata!O494:P494))*100)/SUM(Rådata!H494:L494))","v":""},{"$f":"IF(ISBLANK(Rådata!R494),\"\",(Rådata!Q494*100)/Rådata!R494)","v":""}]
[{"$f":"IF(ISBLANK(Rådata!A495)=TRUE,\"\",Rådata!A495)","v":""},{"$f":"IF(ISBLANK(Rådata!A495)=TRUE,\"\",YEAR(A495))","v":""},{"$f":"IF(ISBLANK(Rådata!A495)=TRUE,\"\",VLOOKUP(MONTH(A495),Opsætning!$G$3:$H$14,2,FALSE))","v":""},{"$f":"IF(ISBLANK(Rådata!B495)=TRUE,\"\",(Rådata!C495*100)/Rådata!B495)","v":""},{"$f":"IF(ISBLANK(Rådata!D495)=TRUE,\"\",((Rådata!D495-Rådata!E495)*100)/Rådata!D495)","v":""},{"$f":"IF(ISBLANK(Rådata!G495)=TRUE,\"\",(Rådata!F495*100)/Rådata!G495)","v":""},{"$f":"IF(ISBLANK(Rådata!K495),\"\",(SUM(Rådata!M495:P495)*100)/SUM(Rådata!H495:K495))","v":""},{"$f":"IF(ISBLANK(Rådata!H495),\"\",((SUM(Rådata!J495:L495)-SUM(Rådata!O495:P495))*100)/SUM(Rådata!H495:L495))","v":""},{"$f":"IF(ISBLANK(Rådata!R495),\"\",(Rådata!Q495*100)/Rådata!R495)","v":""}]
[{"$f":"IF(ISBLANK(Rådata!A496)=TRUE,\"\",Rådata!A496)","v":""},{"$f":"IF(ISBLANK(Rådata!A496)=TRUE,\"\",YEAR(A496))","v":""},{"$f":"IF(ISBLANK(Rådata!A496)=TRUE,\"\",VLOOKUP(MONTH(A496),Opsætning!$G$3:$H$14,2,FALSE))","v":""},{"$f":"IF(ISBLANK(Rådata!B496)=TRUE,\"\",(Rådata!C496*100)/Rådata!B496)","v":""},{"$f":"IF(ISBLANK(Rådata!D496)=TRUE,\"\",((Rådata!D496-Rådata!E496)*100)/Rådata!D496)","v":""},{"$f":"IF(ISBLANK(Rådata!G496)=TRUE,\"\",(Rådata!F496*100)/Rådata!G496)","v":""},{"$f":"IF(ISBLANK(Rådata!K496),\"\",(SUM(Rådata!M496:P496)*100)/SUM(Rådata!H496:K496))","v":""},{"$f":"IF(ISBLANK(Rådata!H496),\"\",((SUM(Rådata!J496:L496)-SUM(Rådata!O496:P496))*100)/SUM(Rådata!H496:L496))","v":""},{"$f":"IF(ISBLANK(Rådata!R496),\"\",(Rådata!Q496*100)/Rådata!R496)","v":""}]
[{"$f":"IF(ISBLANK(Rådata!A497)=TRUE,\"\",Rådata!A497)","v":""},{"$f":"IF(ISBLANK(Rådata!A497)=TRUE,\"\",YEAR(A497))","v":""},{"$f":"IF(ISBLANK(Rådata!A497)=TRUE,\"\",VLOOKUP(MONTH(A497),Opsætning!$G$3:$H$14,2,FALSE))","v":""},{"$f":"IF(ISBLANK(Rådata!B497)=TRUE,\"\",(Rådata!C497*100)/Rådata!B497)","v":""},{"$f":"IF(ISBLANK(Rådata!D497)=TRUE,\"\",((Rådata!D497-Rådata!E497)*100)/Rådata!D497)","v":""},{"$f":"IF(ISBLANK(Rådata!G497)=TRUE,\"\",(Rådata!F497*100)/Rådata!G497)","v":""},{"$f":"IF(ISBLANK(Rådata!K497),\"\",(SUM(Rådata!M497:P497)*100)/SUM(Rådata!H497:K497))","v":""},{"$f":"IF(ISBLANK(Rådata!H497),\"\",((SUM(Rådata!J497:L497)-SUM(Rådata!O497:P497))*100)/SUM(Rådata!H497:L497))","v":""},{"$f":"IF(ISBLANK(Rådata!R497),\"\",(Rådata!Q497*100)/Rådata!R497)","v":""}]
[{"$f":"IF(ISBLANK(Rådata!A498)=TRUE,\"\",Rådata!A498)","v":""},{"$f":"IF(ISBLANK(Rådata!A498)=TRUE,\"\",YEAR(A498))","v":""},{"$f":"IF(ISBLANK(Rådata!A498)=TRUE,\"\",VLOOKUP(MONTH(A498),Opsætning!$G$3:$H$14,2,FALSE))","v":""},{"$f":"IF(ISBLANK(Rådata!B498)=TRUE,\"\",(Rådata!C498*100)/Rådata!B498)","v":""},{"$f":"IF(ISBLANK(Rådata!D498)=TRUE,\"\",((Rådata!D498-Rådata!E498)*100)/Rådata!D498)","v":""},{"$f":"IF(ISBLANK(Rådata!G498)=TRUE,\"\",(Rådata!F498*100)/Rådata!G498)","v":""},{"$f":"IF(ISBLANK(Rådata!K498),\"\",(SUM(Rådata!M498:P498)*100)/SUM(Rådata!H498:K498))","v":""},{"$f":"IF(ISBLANK(Rådata!H498),\"\",((SUM(Rådata!J498:L498)-SUM(Rådata!O498:P498))*100)/SUM(Rådata!H498:L498))","v":""},{"$f":"IF(ISBLANK(Rådata!R498),\"\",(Rådata!Q498*100)/Rådata!R498)","v":""}]
[{"$f":"IF(ISBLANK(Rådata!A499)=TRUE,\"\",Rådata!A499)","v":""},{"$f":"IF(ISBLANK(Rådata!A499)=TRUE,\"\",YEAR(A499))","v":""},{"$f":"IF(ISBLANK(Rådata!A499)=TRUE,\"\",VLOOKUP(MONTH(A499),Opsætning!$G$3:$H$14,2,FALSE))","v":""},{"$f":"IF(ISBLANK(Rådata!B499)=TRUE,\"\",(Rådata!C499*100)/Rådata!B499)","v":""},{"$f":"IF(ISBLANK(Rådata!D499)=TRUE,\"\",((Rådata!D499-Rådata!E499)*100)/Rådata!D499)","v":""},{"$f":"IF(ISBLANK(Rådata!G499)=TRUE,\"\",(Rådata!F499*100)/Rådata!G499)","v":""},{"$f":"IF(ISBLANK(Rådata!K499),\"\",(SUM(Rådata!M499:P499)*100)/SUM(Rådata!H499:K499))","v":""},{"$f":"IF(ISBLANK(Rådata!H499),\"\",((SUM(Rådata!J499:L499)-SUM(Rådata!O499:P499))*100)/SUM(Rådata!H499:L499))","v":""},{"$f":"IF(ISBLANK(Rådata!R499),\"\",(Rådata!Q499*100)/Rådata!R499)","v":""}]
[{"$f":"IF(ISBLANK(Rådata!A500)=TRUE,\"\",Rådata!A500)","v":""},{"$f":"IF(ISBLANK(Rådata!A500)=TRUE,\"\",YEAR(A500))","v":""},{"$f":"IF(ISBLANK(Rådata!A500)=TRUE,\"\",VLOOKUP(MONTH(A500),Opsætning!$G$3:$H$14,2,FALSE))","v":""},{"$f":"IF(ISBLANK(Rådata!B500)=TRUE,\"\",(Rådata!C500*100)/Rådata!B500)","v":""},{"$f":"IF(ISBLANK(Rådata!D500)=TRUE,\"\",((Rådata!D500-Rådata!E500)*100)/Rådata!D500)","v":""},{"$f":"IF(ISBLANK(Rådata!G500)=TRUE,\"\",(Rådata!F500*100)/Rådata!G500)","v":""},{"$f":"IF(ISBLANK(Rådata!K500),\"\",(SUM(Rådata!M500:P500)*100)/SUM(Rådata!H500:K500))","v":""},{"$f":"IF(ISBLANK(Rådata!H500),\"\",((SUM(Rådata!J500:L500)-SUM(Rådata!O500:P500))*100)/SUM(Rådata!H500:L500))","v":""},{"$f":"IF(ISBLANK(Rådata!R500),\"\",(Rådata!Q500*100)/Rådata!R500)","v":""}]
[{"$f":"IF(ISBLANK(Rådata!A501)=TRUE,\"\",Rådata!A501)","v":""},{"$f":"IF(ISBLANK(Rådata!A501)=TRUE,\"\",YEAR(A501))","v":""},{"$f":"IF(ISBLANK(Rådata!A501)=TRUE,\"\",VLOOKUP(MONTH(A501),Opsætning!$G$3:$H$14,2,FALSE))","v":""},{"$f":"IF(ISBLANK(Rådata!B501)=TRUE,\"\",(Rådata!C501*100)/Rådata!B501)","v":""},{"$f":"IF(ISBLANK(Rådata!D501)=TRUE,\"\",((Rådata!D501-Rådata!E501)*100)/Rådata!D501)","v":""},{"$f":"IF(ISBLANK(Rådata!G501)=TRUE,\"\",(Rådata!F501*100)/Rådata!G501)","v":""},{"$f":"IF(ISBLANK(Rådata!K501),\"\",(SUM(Rådata!M501:P501)*100)/SUM(Rådata!H501:K501))","v":""},{"$f":"IF(ISBLANK(Rådata!H501),\"\",((SUM(Rådata!J501:L501)-SUM(Rådata!O501:P501))*100)/SUM(Rådata!H501:L501))","v":""},{"$f":"IF(ISBLANK(Rådata!R501),\"\",(Rådata!Q501*100)/Rådata!R501)","v":""}]
[{"$f":"IF(ISBLANK(Rådata!A502)=TRUE,\"\",Rådata!A502)","v":""},{"$f":"IF(ISBLANK(Rådata!A502)=TRUE,\"\",YEAR(A502))","v":""},{"$f":"IF(ISBLANK(Rådata!A502)=TRUE,\"\",VLOOKUP(MONTH(A502),Opsætning!$G$3:$H$14,2,FALSE))","v":""},{"$f":"IF(ISBLANK(Rådata!B502)=TRUE,\"\",(Rådata!C502*100)/Rådata!B502)","v":""},{"$f":"IF(ISBLANK(Rådata!D502)=TRUE,\"\",((Rådata!D502-Rådata!E502)*100)/Rådata!D502)","v":""},{"$f":"IF(ISBLANK(Rådata!G502)=TRUE,\"\",(Rådata!F502*100)/Rådata!G502)","v":""},{"$f":"IF(ISBLANK(Rådata!K502),\"\",(SUM(Rådata!M502:P502)*100)/SUM(Rådata!H502:K502))","v":""},{"$f":"IF(ISBLANK(Rådata!H502),\"\",((SUM(Rådata!J502:L502)-SUM(Rådata!O502:P502))*100)/SUM(Rådata!H502:L502))","v":""},{"$f":"IF(ISBLANK(Rådata!R502),\"\",(Rådata!Q502*100)/Rådata!R502)","v":""}]
[{"$f":"IF(ISBLANK(Rådata!A503)=TRUE,\"\",Rådata!A503)","v":""},{"$f":"IF(ISBLANK(Rådata!A503)=TRUE,\"\",YEAR(A503))","v":""},{"$f":"IF(ISBLANK(Rådata!A503)=TRUE,\"\",VLOOKUP(MONTH(A503),Opsætning!$G$3:$H$14,2,FALSE))","v":""},{"$f":"IF(ISBLANK(Rådata!B503)=TRUE,\"\",(Rådata!C503*100)/Rådata!B503)","v":""},{"$f":"IF(ISBLANK(Rådata!D503)=TRUE,\"\",((Rådata!D503-Rådata!E503)*100)/Rådata!D503)","v":""},{"$f":"IF(ISBLANK(Rådata!G503)=TRUE,\"\",(Rådata!F503*100)/Rådata!G503)","v":""},{"$f":"IF(ISBLANK(Rådata!K503),\"\",(SUM(Rådata!M503:P503)*100)/SUM(Rådata!H503:K503))","v":""},{"$f":"IF(ISBLANK(Rådata!H503),\"\",((SUM(Rådata!J503:L503)-SUM(Rådata!O503:P503))*100)/SUM(Rådata!H503:L503))","v":""},{"$f":"IF(ISBLANK(Rådata!R503),\"\",(Rådata!Q503*100)/Rådata!R503)","v":""}]
[{"$f":"IF(ISBLANK(Rådata!A504)=TRUE,\"\",Rådata!A504)","v":""},{"$f":"IF(ISBLANK(Rådata!A504)=TRUE,\"\",YEAR(A504))","v":""},{"$f":"IF(ISBLANK(Rådata!A504)=TRUE,\"\",VLOOKUP(MONTH(A504),Opsætning!$G$3:$H$14,2,FALSE))","v":""},{"$f":"IF(ISBLANK(Rådata!B504)=TRUE,\"\",(Rådata!C504*100)/Rådata!B504)","v":""},{"$f":"IF(ISBLANK(Rådata!D504)=TRUE,\"\",((Rådata!D504-Rådata!E504)*100)/Rådata!D504)","v":""},{"$f":"IF(ISBLANK(Rådata!G504)=TRUE,\"\",(Rådata!F504*100)/Rådata!G504)","v":""},{"$f":"IF(ISBLANK(Rådata!K504),\"\",(SUM(Rådata!M504:P504)*100)/SUM(Rådata!H504:K504))","v":""},{"$f":"IF(ISBLANK(Rådata!H504),\"\",((SUM(Rådata!J504:L504)-SUM(Rådata!O504:P504))*100)/SUM(Rådata!H504:L504))","v":""},{"$f":"IF(ISBLANK(Rådata!R504),\"\",(Rådata!Q504*100)/Rådata!R504)","v":""}]
[{"$f":"IF(ISBLANK(Rådata!A505)=TRUE,\"\",Rådata!A505)","v":""},{"$f":"IF(ISBLANK(Rådata!A505)=TRUE,\"\",YEAR(A505))","v":""},{"$f":"IF(ISBLANK(Rådata!A505)=TRUE,\"\",VLOOKUP(MONTH(A505),Opsætning!$G$3:$H$14,2,FALSE))","v":""},{"$f":"IF(ISBLANK(Rådata!B505)=TRUE,\"\",(Rådata!C505*100)/Rådata!B505)","v":""},{"$f":"IF(ISBLANK(Rådata!D505)=TRUE,\"\",((Rådata!D505-Rådata!E505)*100)/Rådata!D505)","v":""},{"$f":"IF(ISBLANK(Rådata!G505)=TRUE,\"\",(Rådata!F505*100)/Rådata!G505)","v":""},{"$f":"IF(ISBLANK(Rådata!K505),\"\",(SUM(Rådata!M505:P505)*100)/SUM(Rådata!H505:K505))","v":""},{"$f":"IF(ISBLANK(Rådata!H505),\"\",((SUM(Rådata!J505:L505)-SUM(Rådata!O505:P505))*100)/SUM(Rådata!H505:L505))","v":""},{"$f":"IF(ISBLANK(Rådata!R505),\"\",(Rådata!Q505*100)/Rådata!R505)","v":""}]
[{"$f":"IF(ISBLANK(Rådata!A506)=TRUE,\"\",Rådata!A506)","v":""},{"$f":"IF(ISBLANK(Rådata!A506)=TRUE,\"\",YEAR(A506))","v":""},{"$f":"IF(ISBLANK(Rådata!A506)=TRUE,\"\",VLOOKUP(MONTH(A506),Opsætning!$G$3:$H$14,2,FALSE))","v":""},{"$f":"IF(ISBLANK(Rådata!B506)=TRUE,\"\",(Rådata!C506*100)/Rådata!B506)","v":""},{"$f":"IF(ISBLANK(Rådata!D506)=TRUE,\"\",((Rådata!D506-Rådata!E506)*100)/Rådata!D506)","v":""},{"$f":"IF(ISBLANK(Rådata!G506)=TRUE,\"\",(Rådata!F506*100)/Rådata!G506)","v":""},{"$f":"IF(ISBLANK(Rådata!K506),\"\",(SUM(Rådata!M506:P506)*100)/SUM(Rådata!H506:K506))","v":""},{"$f":"IF(ISBLANK(Rådata!H506),\"\",((SUM(Rådata!J506:L506)-SUM(Rådata!O506:P506))*100)/SUM(Rådata!H506:L506))","v":""},{"$f":"IF(ISBLANK(Rådata!R506),\"\",(Rådata!Q506*100)/Rådata!R506)","v":""}]
[{"$f":"IF(ISBLANK(Rådata!A507)=TRUE,\"\",Rådata!A507)","v":""},{"$f":"IF(ISBLANK(Rådata!A507)=TRUE,\"\",YEAR(A507))","v":""},{"$f":"IF(ISBLANK(Rådata!A507)=TRUE,\"\",VLOOKUP(MONTH(A507),Opsætning!$G$3:$H$14,2,FALSE))","v":""},{"$f":"IF(ISBLANK(Rådata!B507)=TRUE,\"\",(Rådata!C507*100)/Rådata!B507)","v":""},{"$f":"IF(ISBLANK(Rådata!D507)=TRUE,\"\",((Rådata!D507-Rådata!E507)*100)/Rådata!D507)","v":""},{"$f":"IF(ISBLANK(Rådata!G507)=TRUE,\"\",(Rådata!F507*100)/Rådata!G507)","v":""},{"$f":"IF(ISBLANK(Rådata!K507),\"\",(SUM(Rådata!M507:P507)*100)/SUM(Rådata!H507:K507))","v":""},{"$f":"IF(ISBLANK(Rådata!H507),\"\",((SUM(Rådata!J507:L507)-SUM(Rådata!O507:P507))*100)/SUM(Rådata!H507:L507))","v":""},{"$f":"IF(ISBLANK(Rådata!R507),\"\",(Rådata!Q507*100)/Rådata!R507)","v":""}]
[{"$f":"IF(ISBLANK(Rådata!A508)=TRUE,\"\",Rådata!A508)","v":""},{"$f":"IF(ISBLANK(Rådata!A508)=TRUE,\"\",YEAR(A508))","v":""},{"$f":"IF(ISBLANK(Rådata!A508)=TRUE,\"\",VLOOKUP(MONTH(A508),Opsætning!$G$3:$H$14,2,FALSE))","v":""},{"$f":"IF(ISBLANK(Rådata!B508)=TRUE,\"\",(Rådata!C508*100)/Rådata!B508)","v":""},{"$f":"IF(ISBLANK(Rådata!D508)=TRUE,\"\",((Rådata!D508-Rådata!E508)*100)/Rådata!D508)","v":""},{"$f":"IF(ISBLANK(Rådata!G508)=TRUE,\"\",(Rådata!F508*100)/Rådata!G508)","v":""},{"$f":"IF(ISBLANK(Rådata!K508),\"\",(SUM(Rådata!M508:P508)*100)/SUM(Rådata!H508:K508))","v":""},{"$f":"IF(ISBLANK(Rådata!H508),\"\",((SUM(Rådata!J508:L508)-SUM(Rådata!O508:P508))*100)/SUM(Rådata!H508:L508))","v":""},{"$f":"IF(ISBLANK(Rådata!R508),\"\",(Rådata!Q508*100)/Rådata!R508)","v":""}]
[{"$f":"IF(ISBLANK(Rådata!A509)=TRUE,\"\",Rådata!A509)","v":""},{"$f":"IF(ISBLANK(Rådata!A509)=TRUE,\"\",YEAR(A509))","v":""},{"$f":"IF(ISBLANK(Rådata!A509)=TRUE,\"\",VLOOKUP(MONTH(A509),Opsætning!$G$3:$H$14,2,FALSE))","v":""},{"$f":"IF(ISBLANK(Rådata!B509)=TRUE,\"\",(Rådata!C509*100)/Rådata!B509)","v":""},{"$f":"IF(ISBLANK(Rådata!D509)=TRUE,\"\",((Rådata!D509-Rådata!E509)*100)/Rådata!D509)","v":""},{"$f":"IF(ISBLANK(Rådata!G509)=TRUE,\"\",(Rådata!F509*100)/Rådata!G509)","v":""},{"$f":"IF(ISBLANK(Rådata!K509),\"\",(SUM(Rådata!M509:P509)*100)/SUM(Rådata!H509:K509))","v":""},{"$f":"IF(ISBLANK(Rådata!H509),\"\",((SUM(Rådata!J509:L509)-SUM(Rådata!O509:P509))*100)/SUM(Rådata!H509:L509))","v":""},{"$f":"IF(ISBLANK(Rådata!R509),\"\",(Rådata!Q509*100)/Rådata!R509)","v":""}]
[{"$f":"IF(ISBLANK(Rådata!A510)=TRUE,\"\",Rådata!A510)","v":""},{"$f":"IF(ISBLANK(Rådata!A510)=TRUE,\"\",YEAR(A510))","v":""},{"$f":"IF(ISBLANK(Rådata!A510)=TRUE,\"\",VLOOKUP(MONTH(A510),Opsætning!$G$3:$H$14,2,FALSE))","v":""},{"$f":"IF(ISBLANK(Rådata!B510)=TRUE,\"\",(Rådata!C510*100)/Rådata!B510)","v":""},{"$f":"IF(ISBLANK(Rådata!D510)=TRUE,\"\",((Rådata!D510-Rådata!E510)*100)/Rådata!D510)","v":""},{"$f":"IF(ISBLANK(Rådata!G510)=TRUE,\"\",(Rådata!F510*100)/Rådata!G510)","v":""},{"$f":"IF(ISBLANK(Rådata!K510),\"\",(SUM(Rådata!M510:P510)*100)/SUM(Rådata!H510:K510))","v":""},{"$f":"IF(ISBLANK(Rådata!H510),\"\",((SUM(Rådata!J510:L510)-SUM(Rådata!O510:P510))*100)/SUM(Rådata!H510:L510))","v":""},{"$f":"IF(ISBLANK(Rådata!R510),\"\",(Rådata!Q510*100)/Rådata!R510)","v":""}]
[{"$f":"IF(ISBLANK(Rådata!A511)=TRUE,\"\",Rådata!A511)","v":""},{"$f":"IF(ISBLANK(Rådata!A511)=TRUE,\"\",YEAR(A511))","v":""},{"$f":"IF(ISBLANK(Rådata!A511)=TRUE,\"\",VLOOKUP(MONTH(A511),Opsætning!$G$3:$H$14,2,FALSE))","v":""},{"$f":"IF(ISBLANK(Rådata!B511)=TRUE,\"\",(Rådata!C511*100)/Rådata!B511)","v":""},{"$f":"IF(ISBLANK(Rådata!D511)=TRUE,\"\",((Rådata!D511-Rådata!E511)*100)/Rådata!D511)","v":""},{"$f":"IF(ISBLANK(Rådata!G511)=TRUE,\"\",(Rådata!F511*100)/Rådata!G511)","v":""},{"$f":"IF(ISBLANK(Rådata!K511),\"\",(SUM(Rådata!M511:P511)*100)/SUM(Rådata!H511:K511))","v":""},{"$f":"IF(ISBLANK(Rådata!H511),\"\",((SUM(Rådata!J511:L511)-SUM(Rådata!O511:P511))*100)/SUM(Rådata!H511:L511))","v":""},{"$f":"IF(ISBLANK(Rådata!R511),\"\",(Rådata!Q511*100)/Rådata!R511)","v":""}]
[{"$f":"IF(ISBLANK(Rådata!A512)=TRUE,\"\",Rådata!A512)","v":""},{"$f":"IF(ISBLANK(Rådata!A512)=TRUE,\"\",YEAR(A512))","v":""},{"$f":"IF(ISBLANK(Rådata!A512)=TRUE,\"\",VLOOKUP(MONTH(A512),Opsætning!$G$3:$H$14,2,FALSE))","v":""},{"$f":"IF(ISBLANK(Rådata!B512)=TRUE,\"\",(Rådata!C512*100)/Rådata!B512)","v":""},{"$f":"IF(ISBLANK(Rådata!D512)=TRUE,\"\",((Rådata!D512-Rådata!E512)*100)/Rådata!D512)","v":""},{"$f":"IF(ISBLANK(Rådata!G512)=TRUE,\"\",(Rådata!F512*100)/Rådata!G512)","v":""},{"$f":"IF(ISBLANK(Rådata!K512),\"\",(SUM(Rådata!M512:P512)*100)/SUM(Rådata!H512:K512))","v":""},{"$f":"IF(ISBLANK(Rådata!H512),\"\",((SUM(Rådata!J512:L512)-SUM(Rådata!O512:P512))*100)/SUM(Rådata!H512:L512))","v":""},{"$f":"IF(ISBLANK(Rådata!R512),\"\",(Rådata!Q512*100)/Rådata!R512)","v":""}]
[{"$f":"IF(ISBLANK(Rådata!A513)=TRUE,\"\",Rådata!A513)","v":""},{"$f":"IF(ISBLANK(Rådata!A513)=TRUE,\"\",YEAR(A513))","v":""},{"$f":"IF(ISBLANK(Rådata!A513)=TRUE,\"\",VLOOKUP(MONTH(A513),Opsætning!$G$3:$H$14,2,FALSE))","v":""},{"$f":"IF(ISBLANK(Rådata!B513)=TRUE,\"\",(Rådata!C513*100)/Rådata!B513)","v":""},{"$f":"IF(ISBLANK(Rådata!D513)=TRUE,\"\",((Rådata!D513-Rådata!E513)*100)/Rådata!D513)","v":""},{"$f":"IF(ISBLANK(Rådata!G513)=TRUE,\"\",(Rådata!F513*100)/Rådata!G513)","v":""},{"$f":"IF(ISBLANK(Rådata!K513),\"\",(SUM(Rådata!M513:P513)*100)/SUM(Rådata!H513:K513))","v":""},{"$f":"IF(ISBLANK(Rådata!H513),\"\",((SUM(Rådata!J513:L513)-SUM(Rådata!O513:P513))*100)/SUM(Rådata!H513:L513))","v":""},{"$f":"IF(ISBLANK(Rådata!R513),\"\",(Rådata!Q513*100)/Rådata!R513)","v":""}]
[{"$f":"IF(ISBLANK(Rådata!A514)=TRUE,\"\",Rådata!A514)","v":""},{"$f":"IF(ISBLANK(Rådata!A514)=TRUE,\"\",YEAR(A514))","v":""},{"$f":"IF(ISBLANK(Rådata!A514)=TRUE,\"\",VLOOKUP(MONTH(A514),Opsætning!$G$3:$H$14,2,FALSE))","v":""},{"$f":"IF(ISBLANK(Rådata!B514)=TRUE,\"\",(Rådata!C514*100)/Rådata!B514)","v":""},{"$f":"IF(ISBLANK(Rådata!D514)=TRUE,\"\",((Rådata!D514-Rådata!E514)*100)/Rådata!D514)","v":""},{"$f":"IF(ISBLANK(Rådata!G514)=TRUE,\"\",(Rådata!F514*100)/Rådata!G514)","v":""},{"$f":"IF(ISBLANK(Rådata!K514),\"\",(SUM(Rådata!M514:P514)*100)/SUM(Rådata!H514:K514))","v":""},{"$f":"IF(ISBLANK(Rådata!H514),\"\",((SUM(Rådata!J514:L514)-SUM(Rådata!O514:P514))*100)/SUM(Rådata!H514:L514))","v":""},{"$f":"IF(ISBLANK(Rådata!R514),\"\",(Rådata!Q514*100)/Rådata!R514)","v":""}]
[{"$f":"IF(ISBLANK(Rådata!A515)=TRUE,\"\",Rådata!A515)","v":""},{"$f":"IF(ISBLANK(Rådata!A515)=TRUE,\"\",YEAR(A515))","v":""},{"$f":"IF(ISBLANK(Rådata!A515)=TRUE,\"\",VLOOKUP(MONTH(A515),Opsætning!$G$3:$H$14,2,FALSE))","v":""},{"$f":"IF(ISBLANK(Rådata!B515)=TRUE,\"\",(Rådata!C515*100)/Rådata!B515)","v":""},{"$f":"IF(ISBLANK(Rådata!D515)=TRUE,\"\",((Rådata!D515-Rådata!E515)*100)/Rådata!D515)","v":""},{"$f":"IF(ISBLANK(Rådata!G515)=TRUE,\"\",(Rådata!F515*100)/Rådata!G515)","v":""},{"$f":"IF(ISBLANK(Rådata!K515),\"\",(SUM(Rådata!M515:P515)*100)/SUM(Rådata!H515:K515))","v":""},{"$f":"IF(ISBLANK(Rådata!H515),\"\",((SUM(Rådata!J515:L515)-SUM(Rådata!O515:P515))*100)/SUM(Rådata!H515:L515))","v":""},{"$f":"IF(ISBLANK(Rådata!R515),\"\",(Rådata!Q515*100)/Rådata!R515)","v":""}]
[{"$f":"IF(ISBLANK(Rådata!A516)=TRUE,\"\",Rådata!A516)","v":""},{"$f":"IF(ISBLANK(Rådata!A516)=TRUE,\"\",YEAR(A516))","v":""},{"$f":"IF(ISBLANK(Rådata!A516)=TRUE,\"\",VLOOKUP(MONTH(A516),Opsætning!$G$3:$H$14,2,FALSE))","v":""},{"$f":"IF(ISBLANK(Rådata!B516)=TRUE,\"\",(Rådata!C516*100)/Rådata!B516)","v":""},{"$f":"IF(ISBLANK(Rådata!D516)=TRUE,\"\",((Rådata!D516-Rådata!E516)*100)/Rådata!D516)","v":""},{"$f":"IF(ISBLANK(Rådata!G516)=TRUE,\"\",(Rådata!F516*100)/Rådata!G516)","v":""},{"$f":"IF(ISBLANK(Rådata!K516),\"\",(SUM(Rådata!M516:P516)*100)/SUM(Rådata!H516:K516))","v":""},{"$f":"IF(ISBLANK(Rådata!H516),\"\",((SUM(Rådata!J516:L516)-SUM(Rådata!O516:P516))*100)/SUM(Rådata!H516:L516))","v":""},{"$f":"IF(ISBLANK(Rådata!R516),\"\",(Rådata!Q516*100)/Rådata!R516)","v":""}]
[{"$f":"IF(ISBLANK(Rådata!A517)=TRUE,\"\",Rådata!A517)","v":""},{"$f":"IF(ISBLANK(Rådata!A517)=TRUE,\"\",YEAR(A517))","v":""},{"$f":"IF(ISBLANK(Rådata!A517)=TRUE,\"\",VLOOKUP(MONTH(A517),Opsætning!$G$3:$H$14,2,FALSE))","v":""},{"$f":"IF(ISBLANK(Rådata!B517)=TRUE,\"\",(Rådata!C517*100)/Rådata!B517)","v":""},{"$f":"IF(ISBLANK(Rådata!D517)=TRUE,\"\",((Rådata!D517-Rådata!E517)*100)/Rådata!D517)","v":""},{"$f":"IF(ISBLANK(Rådata!G517)=TRUE,\"\",(Rådata!F517*100)/Rådata!G517)","v":""},{"$f":"IF(ISBLANK(Rådata!K517),\"\",(SUM(Rådata!M517:P517)*100)/SUM(Rådata!H517:K517))","v":""},{"$f":"IF(ISBLANK(Rådata!H517),\"\",((SUM(Rådata!J517:L517)-SUM(Rådata!O517:P517))*100)/SUM(Rådata!H517:L517))","v":""},{"$f":"IF(ISBLANK(Rådata!R517),\"\",(Rådata!Q517*100)/Rådata!R517)","v":""}]
[{"$f":"IF(ISBLANK(Rådata!A518)=TRUE,\"\",Rådata!A518)","v":""},{"$f":"IF(ISBLANK(Rådata!A518)=TRUE,\"\",YEAR(A518))","v":""},{"$f":"IF(ISBLANK(Rådata!A518)=TRUE,\"\",VLOOKUP(MONTH(A518),Opsætning!$G$3:$H$14,2,FALSE))","v":""},{"$f":"IF(ISBLANK(Rådata!B518)=TRUE,\"\",(Rådata!C518*100)/Rådata!B518)","v":""},{"$f":"IF(ISBLANK(Rådata!D518)=TRUE,\"\",((Rådata!D518-Rådata!E518)*100)/Rådata!D518)","v":""},{"$f":"IF(ISBLANK(Rådata!G518)=TRUE,\"\",(Rådata!F518*100)/Rådata!G518)","v":""},{"$f":"IF(ISBLANK(Rådata!K518),\"\",(SUM(Rådata!M518:P518)*100)/SUM(Rådata!H518:K518))","v":""},{"$f":"IF(ISBLANK(Rådata!H518),\"\",((SUM(Rådata!J518:L518)-SUM(Rådata!O518:P518))*100)/SUM(Rådata!H518:L518))","v":""},{"$f":"IF(ISBLANK(Rådata!R518),\"\",(Rådata!Q518*100)/Rådata!R518)","v":""}]
[{"$f":"IF(ISBLANK(Rådata!A519)=TRUE,\"\",Rådata!A519)","v":""},{"$f":"IF(ISBLANK(Rådata!A519)=TRUE,\"\",YEAR(A519))","v":""},{"$f":"IF(ISBLANK(Rådata!A519)=TRUE,\"\",VLOOKUP(MONTH(A519),Opsætning!$G$3:$H$14,2,FALSE))","v":""},{"$f":"IF(ISBLANK(Rådata!B519)=TRUE,\"\",(Rådata!C519*100)/Rådata!B519)","v":""},{"$f":"IF(ISBLANK(Rådata!D519)=TRUE,\"\",((Rådata!D519-Rådata!E519)*100)/Rådata!D519)","v":""},{"$f":"IF(ISBLANK(Rådata!G519)=TRUE,\"\",(Rådata!F519*100)/Rådata!G519)","v":""},{"$f":"IF(ISBLANK(Rådata!K519),\"\",(SUM(Rådata!M519:P519)*100)/SUM(Rådata!H519:K519))","v":""},{"$f":"IF(ISBLANK(Rådata!H519),\"\",((SUM(Rådata!J519:L519)-SUM(Rådata!O519:P519))*100)/SUM(Rådata!H519:L519))","v":""},{"$f":"IF(ISBLANK(Rådata!R519),\"\",(Rådata!Q519*100)/Rådata!R519)","v":""}]
[{"$f":"IF(ISBLANK(Rådata!A520)=TRUE,\"\",Rådata!A520)","v":""},{"$f":"IF(ISBLANK(Rådata!A520)=TRUE,\"\",YEAR(A520))","v":""},{"$f":"IF(ISBLANK(Rådata!A520)=TRUE,\"\",VLOOKUP(MONTH(A520),Opsætning!$G$3:$H$14,2,FALSE))","v":""},{"$f":"IF(ISBLANK(Rådata!B520)=TRUE,\"\",(Rådata!C520*100)/Rådata!B520)","v":""},{"$f":"IF(ISBLANK(Rådata!D520)=TRUE,\"\",((Rådata!D520-Rådata!E520)*100)/Rådata!D520)","v":""},{"$f":"IF(ISBLANK(Rådata!G520)=TRUE,\"\",(Rådata!F520*100)/Rådata!G520)","v":""},{"$f":"IF(ISBLANK(Rådata!K520),\"\",(SUM(Rådata!M520:P520)*100)/SUM(Rådata!H520:K520))","v":""},{"$f":"IF(ISBLANK(Rådata!H520),\"\",((SUM(Rådata!J520:L520)-SUM(Rådata!O520:P520))*100)/SUM(Rådata!H520:L520))","v":""},{"$f":"IF(ISBLANK(Rådata!R520),\"\",(Rådata!Q520*100)/Rådata!R520)","v":""}]
[{"$f":"IF(ISBLANK(Rådata!A521)=TRUE,\"\",Rådata!A521)","v":""},{"$f":"IF(ISBLANK(Rådata!A521)=TRUE,\"\",YEAR(A521))","v":""},{"$f":"IF(ISBLANK(Rådata!A521)=TRUE,\"\",VLOOKUP(MONTH(A521),Opsætning!$G$3:$H$14,2,FALSE))","v":""},{"$f":"IF(ISBLANK(Rådata!B521)=TRUE,\"\",(Rådata!C521*100)/Rådata!B521)","v":""},{"$f":"IF(ISBLANK(Rådata!D521)=TRUE,\"\",((Rådata!D521-Rådata!E521)*100)/Rådata!D521)","v":""},{"$f":"IF(ISBLANK(Rådata!G521)=TRUE,\"\",(Rådata!F521*100)/Rådata!G521)","v":""},{"$f":"IF(ISBLANK(Rådata!K521),\"\",(SUM(Rådata!M521:P521)*100)/SUM(Rådata!H521:K521))","v":""},{"$f":"IF(ISBLANK(Rådata!H521),\"\",((SUM(Rådata!J521:L521)-SUM(Rådata!O521:P521))*100)/SUM(Rådata!H521:L521))","v":""},{"$f":"IF(ISBLANK(Rådata!R521),\"\",(Rådata!Q521*100)/Rådata!R521)","v":""}]
[{"$f":"IF(ISBLANK(Rådata!A522)=TRUE,\"\",Rådata!A522)","v":""},{"$f":"IF(ISBLANK(Rådata!A522)=TRUE,\"\",YEAR(A522))","v":""},{"$f":"IF(ISBLANK(Rådata!A522)=TRUE,\"\",VLOOKUP(MONTH(A522),Opsætning!$G$3:$H$14,2,FALSE))","v":""},{"$f":"IF(ISBLANK(Rådata!B522)=TRUE,\"\",(Rådata!C522*100)/Rådata!B522)","v":""},{"$f":"IF(ISBLANK(Rådata!D522)=TRUE,\"\",((Rådata!D522-Rådata!E522)*100)/Rådata!D522)","v":""},{"$f":"IF(ISBLANK(Rådata!G522)=TRUE,\"\",(Rådata!F522*100)/Rådata!G522)","v":""},{"$f":"IF(ISBLANK(Rådata!K522),\"\",(SUM(Rådata!M522:P522)*100)/SUM(Rådata!H522:K522))","v":""},{"$f":"IF(ISBLANK(Rådata!H522),\"\",((SUM(Rådata!J522:L522)-SUM(Rådata!O522:P522))*100)/SUM(Rådata!H522:L522))","v":""},{"$f":"IF(ISBLANK(Rådata!R522),\"\",(Rådata!Q522*100)/Rådata!R522)","v":""}]
[{"$f":"IF(ISBLANK(Rådata!A523)=TRUE,\"\",Rådata!A523)","v":""},{"$f":"IF(ISBLANK(Rådata!A523)=TRUE,\"\",YEAR(A523))","v":""},{"$f":"IF(ISBLANK(Rådata!A523)=TRUE,\"\",VLOOKUP(MONTH(A523),Opsætning!$G$3:$H$14,2,FALSE))","v":""},{"$f":"IF(ISBLANK(Rådata!B523)=TRUE,\"\",(Rådata!C523*100)/Rådata!B523)","v":""},{"$f":"IF(ISBLANK(Rådata!D523)=TRUE,\"\",((Rådata!D523-Rådata!E523)*100)/Rådata!D523)","v":""},{"$f":"IF(ISBLANK(Rådata!G523)=TRUE,\"\",(Rådata!F523*100)/Rådata!G523)","v":""},{"$f":"IF(ISBLANK(Rådata!K523),\"\",(SUM(Rådata!M523:P523)*100)/SUM(Rådata!H523:K523))","v":""},{"$f":"IF(ISBLANK(Rådata!H523),\"\",((SUM(Rådata!J523:L523)-SUM(Rådata!O523:P523))*100)/SUM(Rådata!H523:L523))","v":""},{"$f":"IF(ISBLANK(Rådata!R523),\"\",(Rådata!Q523*100)/Rådata!R523)","v":""}]
[{"$f":"IF(ISBLANK(Rådata!A524)=TRUE,\"\",Rådata!A524)","v":""},{"$f":"IF(ISBLANK(Rådata!A524)=TRUE,\"\",YEAR(A524))","v":""},{"$f":"IF(ISBLANK(Rådata!A524)=TRUE,\"\",VLOOKUP(MONTH(A524),Opsætning!$G$3:$H$14,2,FALSE))","v":""},{"$f":"IF(ISBLANK(Rådata!B524)=TRUE,\"\",(Rådata!C524*100)/Rådata!B524)","v":""},{"$f":"IF(ISBLANK(Rådata!D524)=TRUE,\"\",((Rådata!D524-Rådata!E524)*100)/Rådata!D524)","v":""},{"$f":"IF(ISBLANK(Rådata!G524)=TRUE,\"\",(Rådata!F524*100)/Rådata!G524)","v":""},{"$f":"IF(ISBLANK(Rådata!K524),\"\",(SUM(Rådata!M524:P524)*100)/SUM(Rådata!H524:K524))","v":""},{"$f":"IF(ISBLANK(Rådata!H524),\"\",((SUM(Rådata!J524:L524)-SUM(Rådata!O524:P524))*100)/SUM(Rådata!H524:L524))","v":""},{"$f":"IF(ISBLANK(Rådata!R524),\"\",(Rådata!Q524*100)/Rådata!R524)","v":""}]
[{"$f":"IF(ISBLANK(Rådata!A525)=TRUE,\"\",Rådata!A525)","v":""},{"$f":"IF(ISBLANK(Rådata!A525)=TRUE,\"\",YEAR(A525))","v":""},{"$f":"IF(ISBLANK(Rådata!A525)=TRUE,\"\",VLOOKUP(MONTH(A525),Opsætning!$G$3:$H$14,2,FALSE))","v":""},{"$f":"IF(ISBLANK(Rådata!B525)=TRUE,\"\",(Rådata!C525*100)/Rådata!B525)","v":""},{"$f":"IF(ISBLANK(Rådata!D525)=TRUE,\"\",((Rådata!D525-Rådata!E525)*100)/Rådata!D525)","v":""},{"$f":"IF(ISBLANK(Rådata!G525)=TRUE,\"\",(Rådata!F525*100)/Rådata!G525)","v":""},{"$f":"IF(ISBLANK(Rådata!K525),\"\",(SUM(Rådata!M525:P525)*100)/SUM(Rådata!H525:K525))","v":""},{"$f":"IF(ISBLANK(Rådata!H525),\"\",((SUM(Rådata!J525:L525)-SUM(Rådata!O525:P525))*100)/SUM(Rådata!H525:L525))","v":""},{"$f":"IF(ISBLANK(Rådata!R525),\"\",(Rådata!Q525*100)/Rådata!R525)","v":""}]
[{"$f":"IF(ISBLANK(Rådata!A526)=TRUE,\"\",Rådata!A526)","v":""},{"$f":"IF(ISBLANK(Rådata!A526)=TRUE,\"\",YEAR(A526))","v":""},{"$f":"IF(ISBLANK(Rådata!A526)=TRUE,\"\",VLOOKUP(MONTH(A526),Opsætning!$G$3:$H$14,2,FALSE))","v":""},{"$f":"IF(ISBLANK(Rådata!B526)=TRUE,\"\",(Rådata!C526*100)/Rådata!B526)","v":""},{"$f":"IF(ISBLANK(Rådata!D526)=TRUE,\"\",((Rådata!D526-Rådata!E526)*100)/Rådata!D526)","v":""},{"$f":"IF(ISBLANK(Rådata!G526)=TRUE,\"\",(Rådata!F526*100)/Rådata!G526)","v":""},{"$f":"IF(ISBLANK(Rådata!K526),\"\",(SUM(Rådata!M526:P526)*100)/SUM(Rådata!H526:K526))","v":""},{"$f":"IF(ISBLANK(Rådata!H526),\"\",((SUM(Rådata!J526:L526)-SUM(Rådata!O526:P526))*100)/SUM(Rådata!H526:L526))","v":""},{"$f":"IF(ISBLANK(Rådata!R526),\"\",(Rådata!Q526*100)/Rådata!R526)","v":""}]
[{"$f":"IF(ISBLANK(Rådata!A527)=TRUE,\"\",Rådata!A527)","v":""},{"$f":"IF(ISBLANK(Rådata!A527)=TRUE,\"\",YEAR(A527))","v":""},{"$f":"IF(ISBLANK(Rådata!A527)=TRUE,\"\",VLOOKUP(MONTH(A527),Opsætning!$G$3:$H$14,2,FALSE))","v":""},{"$f":"IF(ISBLANK(Rådata!B527)=TRUE,\"\",(Rådata!C527*100)/Rådata!B527)","v":""},{"$f":"IF(ISBLANK(Rådata!D527)=TRUE,\"\",((Rådata!D527-Rådata!E527)*100)/Rådata!D527)","v":""},{"$f":"IF(ISBLANK(Rådata!G527)=TRUE,\"\",(Rådata!F527*100)/Rådata!G527)","v":""},{"$f":"IF(ISBLANK(Rådata!K527),\"\",(SUM(Rådata!M527:P527)*100)/SUM(Rådata!H527:K527))","v":""},{"$f":"IF(ISBLANK(Rådata!H527),\"\",((SUM(Rådata!J527:L527)-SUM(Rådata!O527:P527))*100)/SUM(Rådata!H527:L527))","v":""},{"$f":"IF(ISBLANK(Rådata!R527),\"\",(Rådata!Q527*100)/Rådata!R527)","v":""}]
[{"$f":"IF(ISBLANK(Rådata!A528)=TRUE,\"\",Rådata!A528)","v":""},{"$f":"IF(ISBLANK(Rådata!A528)=TRUE,\"\",YEAR(A528))","v":""},{"$f":"IF(ISBLANK(Rådata!A528)=TRUE,\"\",VLOOKUP(MONTH(A528),Opsætning!$G$3:$H$14,2,FALSE))","v":""},{"$f":"IF(ISBLANK(Rådata!B528)=TRUE,\"\",(Rådata!C528*100)/Rådata!B528)","v":""},{"$f":"IF(ISBLANK(Rådata!D528)=TRUE,\"\",((Rådata!D528-Rådata!E528)*100)/Rådata!D528)","v":""},{"$f":"IF(ISBLANK(Rådata!G528)=TRUE,\"\",(Rådata!F528*100)/Rådata!G528)","v":""},{"$f":"IF(ISBLANK(Rådata!K528),\"\",(SUM(Rådata!M528:P528)*100)/SUM(Rådata!H528:K528))","v":""},{"$f":"IF(ISBLANK(Rådata!H528),\"\",((SUM(Rådata!J528:L528)-SUM(Rådata!O528:P528))*100)/SUM(Rådata!H528:L528))","v":""},{"$f":"IF(ISBLANK(Rådata!R528),\"\",(Rådata!Q528*100)/Rådata!R528)","v":""}]
[{"$f":"IF(ISBLANK(Rådata!A529)=TRUE,\"\",Rådata!A529)","v":""},{"$f":"IF(ISBLANK(Rådata!A529)=TRUE,\"\",YEAR(A529))","v":""},{"$f":"IF(ISBLANK(Rådata!A529)=TRUE,\"\",VLOOKUP(MONTH(A529),Opsætning!$G$3:$H$14,2,FALSE))","v":""},{"$f":"IF(ISBLANK(Rådata!B529)=TRUE,\"\",(Rådata!C529*100)/Rådata!B529)","v":""},{"$f":"IF(ISBLANK(Rådata!D529)=TRUE,\"\",((Rådata!D529-Rådata!E529)*100)/Rådata!D529)","v":""},{"$f":"IF(ISBLANK(Rådata!G529)=TRUE,\"\",(Rådata!F529*100)/Rådata!G529)","v":""},{"$f":"IF(ISBLANK(Rådata!K529),\"\",(SUM(Rådata!M529:P529)*100)/SUM(Rådata!H529:K529))","v":""},{"$f":"IF(ISBLANK(Rådata!H529),\"\",((SUM(Rådata!J529:L529)-SUM(Rådata!O529:P529))*100)/SUM(Rådata!H529:L529))","v":""},{"$f":"IF(ISBLANK(Rådata!R529),\"\",(Rådata!Q529*100)/Rådata!R529)","v":""}]
[{"$f":"IF(ISBLANK(Rådata!A530)=TRUE,\"\",Rådata!A530)","v":""},{"$f":"IF(ISBLANK(Rådata!A530)=TRUE,\"\",YEAR(A530))","v":""},{"$f":"IF(ISBLANK(Rådata!A530)=TRUE,\"\",VLOOKUP(MONTH(A530),Opsætning!$G$3:$H$14,2,FALSE))","v":""},{"$f":"IF(ISBLANK(Rådata!B530)=TRUE,\"\",(Rådata!C530*100)/Rådata!B530)","v":""},{"$f":"IF(ISBLANK(Rådata!D530)=TRUE,\"\",((Rådata!D530-Rådata!E530)*100)/Rådata!D530)","v":""},{"$f":"IF(ISBLANK(Rådata!G530)=TRUE,\"\",(Rådata!F530*100)/Rådata!G530)","v":""},{"$f":"IF(ISBLANK(Rådata!K530),\"\",(SUM(Rådata!M530:P530)*100)/SUM(Rådata!H530:K530))","v":""},{"$f":"IF(ISBLANK(Rådata!H530),\"\",((SUM(Rådata!J530:L530)-SUM(Rådata!O530:P530))*100)/SUM(Rådata!H530:L530))","v":""},{"$f":"IF(ISBLANK(Rådata!R530),\"\",(Rådata!Q530*100)/Rådata!R530)","v":""}]
[{"$f":"IF(ISBLANK(Rådata!A531)=TRUE,\"\",Rådata!A531)","v":""},{"$f":"IF(ISBLANK(Rådata!A531)=TRUE,\"\",YEAR(A531))","v":""},{"$f":"IF(ISBLANK(Rådata!A531)=TRUE,\"\",VLOOKUP(MONTH(A531),Opsætning!$G$3:$H$14,2,FALSE))","v":""},{"$f":"IF(ISBLANK(Rådata!B531)=TRUE,\"\",(Rådata!C531*100)/Rådata!B531)","v":""},{"$f":"IF(ISBLANK(Rådata!D531)=TRUE,\"\",((Rådata!D531-Rådata!E531)*100)/Rådata!D531)","v":""},{"$f":"IF(ISBLANK(Rådata!G531)=TRUE,\"\",(Rådata!F531*100)/Rådata!G531)","v":""},{"$f":"IF(ISBLANK(Rådata!K531),\"\",(SUM(Rådata!M531:P531)*100)/SUM(Rådata!H531:K531))","v":""},{"$f":"IF(ISBLANK(Rådata!H531),\"\",((SUM(Rådata!J531:L531)-SUM(Rådata!O531:P531))*100)/SUM(Rådata!H531:L531))","v":""},{"$f":"IF(ISBLANK(Rådata!R531),\"\",(Rådata!Q531*100)/Rådata!R531)","v":""}]
[{"$f":"IF(ISBLANK(Rådata!A532)=TRUE,\"\",Rådata!A532)","v":""},{"$f":"IF(ISBLANK(Rådata!A532)=TRUE,\"\",YEAR(A532))","v":""},{"$f":"IF(ISBLANK(Rådata!A532)=TRUE,\"\",VLOOKUP(MONTH(A532),Opsætning!$G$3:$H$14,2,FALSE))","v":""},{"$f":"IF(ISBLANK(Rådata!B532)=TRUE,\"\",(Rådata!C532*100)/Rådata!B532)","v":""},{"$f":"IF(ISBLANK(Rådata!D532)=TRUE,\"\",((Rådata!D532-Rådata!E532)*100)/Rådata!D532)","v":""},{"$f":"IF(ISBLANK(Rådata!G532)=TRUE,\"\",(Rådata!F532*100)/Rådata!G532)","v":""},{"$f":"IF(ISBLANK(Rådata!K532),\"\",(SUM(Rådata!M532:P532)*100)/SUM(Rådata!H532:K532))","v":""},{"$f":"IF(ISBLANK(Rådata!H532),\"\",((SUM(Rådata!J532:L532)-SUM(Rådata!O532:P532))*100)/SUM(Rådata!H532:L532))","v":""},{"$f":"IF(ISBLANK(Rådata!R532),\"\",(Rådata!Q532*100)/Rådata!R532)","v":""}]
[{"$f":"IF(ISBLANK(Rådata!A533)=TRUE,\"\",Rådata!A533)","v":""},{"$f":"IF(ISBLANK(Rådata!A533)=TRUE,\"\",YEAR(A533))","v":""},{"$f":"IF(ISBLANK(Rådata!A533)=TRUE,\"\",VLOOKUP(MONTH(A533),Opsætning!$G$3:$H$14,2,FALSE))","v":""},{"$f":"IF(ISBLANK(Rådata!B533)=TRUE,\"\",(Rådata!C533*100)/Rådata!B533)","v":""},{"$f":"IF(ISBLANK(Rådata!D533)=TRUE,\"\",((Rådata!D533-Rådata!E533)*100)/Rådata!D533)","v":""},{"$f":"IF(ISBLANK(Rådata!G533)=TRUE,\"\",(Rådata!F533*100)/Rådata!G533)","v":""},{"$f":"IF(ISBLANK(Rådata!K533),\"\",(SUM(Rådata!M533:P533)*100)/SUM(Rådata!H533:K533))","v":""},{"$f":"IF(ISBLANK(Rådata!H533),\"\",((SUM(Rådata!J533:L533)-SUM(Rådata!O533:P533))*100)/SUM(Rådata!H533:L533))","v":""},{"$f":"IF(ISBLANK(Rådata!R533),\"\",(Rådata!Q533*100)/Rådata!R533)","v":""}]
[{"$f":"IF(ISBLANK(Rådata!A534)=TRUE,\"\",Rådata!A534)","v":""},{"$f":"IF(ISBLANK(Rådata!A534)=TRUE,\"\",YEAR(A534))","v":""},{"$f":"IF(ISBLANK(Rådata!A534)=TRUE,\"\",VLOOKUP(MONTH(A534),Opsætning!$G$3:$H$14,2,FALSE))","v":""},{"$f":"IF(ISBLANK(Rådata!B534)=TRUE,\"\",(Rådata!C534*100)/Rådata!B534)","v":""},{"$f":"IF(ISBLANK(Rådata!D534)=TRUE,\"\",((Rådata!D534-Rådata!E534)*100)/Rådata!D534)","v":""},{"$f":"IF(ISBLANK(Rådata!G534)=TRUE,\"\",(Rådata!F534*100)/Rådata!G534)","v":""},{"$f":"IF(ISBLANK(Rådata!K534),\"\",(SUM(Rådata!M534:P534)*100)/SUM(Rådata!H534:K534))","v":""},{"$f":"IF(ISBLANK(Rådata!H534),\"\",((SUM(Rådata!J534:L534)-SUM(Rådata!O534:P534))*100)/SUM(Rådata!H534:L534))","v":""},{"$f":"IF(ISBLANK(Rådata!R534),\"\",(Rådata!Q534*100)/Rådata!R534)","v":""}]
[{"$f":"IF(ISBLANK(Rådata!A535)=TRUE,\"\",Rådata!A535)","v":""},{"$f":"IF(ISBLANK(Rådata!A535)=TRUE,\"\",YEAR(A535))","v":""},{"$f":"IF(ISBLANK(Rådata!A535)=TRUE,\"\",VLOOKUP(MONTH(A535),Opsætning!$G$3:$H$14,2,FALSE))","v":""},{"$f":"IF(ISBLANK(Rådata!B535)=TRUE,\"\",(Rådata!C535*100)/Rådata!B535)","v":""},{"$f":"IF(ISBLANK(Rådata!D535)=TRUE,\"\",((Rådata!D535-Rådata!E535)*100)/Rådata!D535)","v":""},{"$f":"IF(ISBLANK(Rådata!G535)=TRUE,\"\",(Rådata!F535*100)/Rådata!G535)","v":""},{"$f":"IF(ISBLANK(Rådata!K535),\"\",(SUM(Rådata!M535:P535)*100)/SUM(Rådata!H535:K535))","v":""},{"$f":"IF(ISBLANK(Rådata!H535),\"\",((SUM(Rådata!J535:L535)-SUM(Rådata!O535:P535))*100)/SUM(Rådata!H535:L535))","v":""},{"$f":"IF(ISBLANK(Rådata!R535),\"\",(Rådata!Q535*100)/Rådata!R535)","v":""}]
[{"$f":"IF(ISBLANK(Rådata!A536)=TRUE,\"\",Rådata!A536)","v":""},{"$f":"IF(ISBLANK(Rådata!A536)=TRUE,\"\",YEAR(A536))","v":""},{"$f":"IF(ISBLANK(Rådata!A536)=TRUE,\"\",VLOOKUP(MONTH(A536),Opsætning!$G$3:$H$14,2,FALSE))","v":""},{"$f":"IF(ISBLANK(Rådata!B536)=TRUE,\"\",(Rådata!C536*100)/Rådata!B536)","v":""},{"$f":"IF(ISBLANK(Rådata!D536)=TRUE,\"\",((Rådata!D536-Rådata!E536)*100)/Rådata!D536)","v":""},{"$f":"IF(ISBLANK(Rådata!G536)=TRUE,\"\",(Rådata!F536*100)/Rådata!G536)","v":""},{"$f":"IF(ISBLANK(Rådata!K536),\"\",(SUM(Rådata!M536:P536)*100)/SUM(Rådata!H536:K536))","v":""},{"$f":"IF(ISBLANK(Rådata!H536),\"\",((SUM(Rådata!J536:L536)-SUM(Rådata!O536:P536))*100)/SUM(Rådata!H536:L536))","v":""},{"$f":"IF(ISBLANK(Rådata!R536),\"\",(Rådata!Q536*100)/Rådata!R536)","v":""}]
[{"$f":"IF(ISBLANK(Rådata!A537)=TRUE,\"\",Rådata!A537)","v":""},{"$f":"IF(ISBLANK(Rådata!A537)=TRUE,\"\",YEAR(A537))","v":""},{"$f":"IF(ISBLANK(Rådata!A537)=TRUE,\"\",VLOOKUP(MONTH(A537),Opsætning!$G$3:$H$14,2,FALSE))","v":""},{"$f":"IF(ISBLANK(Rådata!B537)=TRUE,\"\",(Rådata!C537*100)/Rådata!B537)","v":""},{"$f":"IF(ISBLANK(Rådata!D537)=TRUE,\"\",((Rådata!D537-Rådata!E537)*100)/Rådata!D537)","v":""},{"$f":"IF(ISBLANK(Rådata!G537)=TRUE,\"\",(Rådata!F537*100)/Rådata!G537)","v":""},{"$f":"IF(ISBLANK(Rådata!K537),\"\",(SUM(Rådata!M537:P537)*100)/SUM(Rådata!H537:K537))","v":""},{"$f":"IF(ISBLANK(Rådata!H537),\"\",((SUM(Rådata!J537:L537)-SUM(Rådata!O537:P537))*100)/SUM(Rådata!H537:L537))","v":""},{"$f":"IF(ISBLANK(Rådata!R537),\"\",(Rådata!Q537*100)/Rådata!R537)","v":""}]
[{"$f":"IF(ISBLANK(Rådata!A538)=TRUE,\"\",Rådata!A538)","v":""},{"$f":"IF(ISBLANK(Rådata!A538)=TRUE,\"\",YEAR(A538))","v":""},{"$f":"IF(ISBLANK(Rådata!A538)=TRUE,\"\",VLOOKUP(MONTH(A538),Opsætning!$G$3:$H$14,2,FALSE))","v":""},{"$f":"IF(ISBLANK(Rådata!B538)=TRUE,\"\",(Rådata!C538*100)/Rådata!B538)","v":""},{"$f":"IF(ISBLANK(Rådata!D538)=TRUE,\"\",((Rådata!D538-Rådata!E538)*100)/Rådata!D538)","v":""},{"$f":"IF(ISBLANK(Rådata!G538)=TRUE,\"\",(Rådata!F538*100)/Rådata!G538)","v":""},{"$f":"IF(ISBLANK(Rådata!K538),\"\",(SUM(Rådata!M538:P538)*100)/SUM(Rådata!H538:K538))","v":""},{"$f":"IF(ISBLANK(Rådata!H538),\"\",((SUM(Rådata!J538:L538)-SUM(Rådata!O538:P538))*100)/SUM(Rådata!H538:L538))","v":""},{"$f":"IF(ISBLANK(Rådata!R538),\"\",(Rådata!Q538*100)/Rådata!R538)","v":""}]
[{"$f":"IF(ISBLANK(Rådata!A539)=TRUE,\"\",Rådata!A539)","v":""},{"$f":"IF(ISBLANK(Rådata!A539)=TRUE,\"\",YEAR(A539))","v":""},{"$f":"IF(ISBLANK(Rådata!A539)=TRUE,\"\",VLOOKUP(MONTH(A539),Opsætning!$G$3:$H$14,2,FALSE))","v":""},{"$f":"IF(ISBLANK(Rådata!B539)=TRUE,\"\",(Rådata!C539*100)/Rådata!B539)","v":""},{"$f":"IF(ISBLANK(Rådata!D539)=TRUE,\"\",((Rådata!D539-Rådata!E539)*100)/Rådata!D539)","v":""},{"$f":"IF(ISBLANK(Rådata!G539)=TRUE,\"\",(Rådata!F539*100)/Rådata!G539)","v":""},{"$f":"IF(ISBLANK(Rådata!K539),\"\",(SUM(Rådata!M539:P539)*100)/SUM(Rådata!H539:K539))","v":""},{"$f":"IF(ISBLANK(Rådata!H539),\"\",((SUM(Rådata!J539:L539)-SUM(Rådata!O539:P539))*100)/SUM(Rådata!H539:L539))","v":""},{"$f":"IF(ISBLANK(Rådata!R539),\"\",(Rådata!Q539*100)/Rådata!R539)","v":""}]
[{"$f":"IF(ISBLANK(Rådata!A540)=TRUE,\"\",Rådata!A540)","v":""},{"$f":"IF(ISBLANK(Rådata!A540)=TRUE,\"\",YEAR(A540))","v":""},{"$f":"IF(ISBLANK(Rådata!A540)=TRUE,\"\",VLOOKUP(MONTH(A540),Opsætning!$G$3:$H$14,2,FALSE))","v":""},{"$f":"IF(ISBLANK(Rådata!B540)=TRUE,\"\",(Rådata!C540*100)/Rådata!B540)","v":""},{"$f":"IF(ISBLANK(Rådata!D540)=TRUE,\"\",((Rådata!D540-Rådata!E540)*100)/Rådata!D540)","v":""},{"$f":"IF(ISBLANK(Rådata!G540)=TRUE,\"\",(Rådata!F540*100)/Rådata!G540)","v":""},{"$f":"IF(ISBLANK(Rådata!K540),\"\",(SUM(Rådata!M540:P540)*100)/SUM(Rådata!H540:K540))","v":""},{"$f":"IF(ISBLANK(Rådata!H540),\"\",((SUM(Rådata!J540:L540)-SUM(Rådata!O540:P540))*100)/SUM(Rådata!H540:L540))","v":""},{"$f":"IF(ISBLANK(Rådata!R540),\"\",(Rådata!Q540*100)/Rådata!R540)","v":""}]
[{"$f":"IF(ISBLANK(Rådata!A541)=TRUE,\"\",Rådata!A541)","v":""},{"$f":"IF(ISBLANK(Rådata!A541)=TRUE,\"\",YEAR(A541))","v":""},{"$f":"IF(ISBLANK(Rådata!A541)=TRUE,\"\",VLOOKUP(MONTH(A541),Opsætning!$G$3:$H$14,2,FALSE))","v":""},{"$f":"IF(ISBLANK(Rådata!B541)=TRUE,\"\",(Rådata!C541*100)/Rådata!B541)","v":""},{"$f":"IF(ISBLANK(Rådata!D541)=TRUE,\"\",((Rådata!D541-Rådata!E541)*100)/Rådata!D541)","v":""},{"$f":"IF(ISBLANK(Rådata!G541)=TRUE,\"\",(Rådata!F541*100)/Rådata!G541)","v":""},{"$f":"IF(ISBLANK(Rådata!K541),\"\",(SUM(Rådata!M541:P541)*100)/SUM(Rådata!H541:K541))","v":""},{"$f":"IF(ISBLANK(Rådata!H541),\"\",((SUM(Rådata!J541:L541)-SUM(Rådata!O541:P541))*100)/SUM(Rådata!H541:L541))","v":""},{"$f":"IF(ISBLANK(Rådata!R541),\"\",(Rådata!Q541*100)/Rådata!R541)","v":""}]
[{"$f":"IF(ISBLANK(Rådata!A542)=TRUE,\"\",Rådata!A542)","v":""},{"$f":"IF(ISBLANK(Rådata!A542)=TRUE,\"\",YEAR(A542))","v":""},{"$f":"IF(ISBLANK(Rådata!A542)=TRUE,\"\",VLOOKUP(MONTH(A542),Opsætning!$G$3:$H$14,2,FALSE))","v":""},{"$f":"IF(ISBLANK(Rådata!B542)=TRUE,\"\",(Rådata!C542*100)/Rådata!B542)","v":""},{"$f":"IF(ISBLANK(Rådata!D542)=TRUE,\"\",((Rådata!D542-Rådata!E542)*100)/Rådata!D542)","v":""},{"$f":"IF(ISBLANK(Rådata!G542)=TRUE,\"\",(Rådata!F542*100)/Rådata!G542)","v":""},{"$f":"IF(ISBLANK(Rådata!K542),\"\",(SUM(Rådata!M542:P542)*100)/SUM(Rådata!H542:K542))","v":""},{"$f":"IF(ISBLANK(Rådata!H542),\"\",((SUM(Rådata!J542:L542)-SUM(Rådata!O542:P542))*100)/SUM(Rådata!H542:L542))","v":""},{"$f":"IF(ISBLANK(Rådata!R542),\"\",(Rådata!Q542*100)/Rådata!R542)","v":""}]
[{"$f":"IF(ISBLANK(Rådata!A543)=TRUE,\"\",Rådata!A543)","v":""},{"$f":"IF(ISBLANK(Rådata!A543)=TRUE,\"\",YEAR(A543))","v":""},{"$f":"IF(ISBLANK(Rådata!A543)=TRUE,\"\",VLOOKUP(MONTH(A543),Opsætning!$G$3:$H$14,2,FALSE))","v":""},{"$f":"IF(ISBLANK(Rådata!B543)=TRUE,\"\",(Rådata!C543*100)/Rådata!B543)","v":""},{"$f":"IF(ISBLANK(Rådata!D543)=TRUE,\"\",((Rådata!D543-Rådata!E543)*100)/Rådata!D543)","v":""},{"$f":"IF(ISBLANK(Rådata!G543)=TRUE,\"\",(Rådata!F543*100)/Rådata!G543)","v":""},{"$f":"IF(ISBLANK(Rådata!K543),\"\",(SUM(Rådata!M543:P543)*100)/SUM(Rådata!H543:K543))","v":""},{"$f":"IF(ISBLANK(Rådata!H543),\"\",((SUM(Rådata!J543:L543)-SUM(Rådata!O543:P543))*100)/SUM(Rådata!H543:L543))","v":""},{"$f":"IF(ISBLANK(Rådata!R543),\"\",(Rådata!Q543*100)/Rådata!R543)","v":""}]
[{"$f":"IF(ISBLANK(Rådata!A544)=TRUE,\"\",Rådata!A544)","v":""},{"$f":"IF(ISBLANK(Rådata!A544)=TRUE,\"\",YEAR(A544))","v":""},{"$f":"IF(ISBLANK(Rådata!A544)=TRUE,\"\",VLOOKUP(MONTH(A544),Opsætning!$G$3:$H$14,2,FALSE))","v":""},{"$f":"IF(ISBLANK(Rådata!B544)=TRUE,\"\",(Rådata!C544*100)/Rådata!B544)","v":""},{"$f":"IF(ISBLANK(Rådata!D544)=TRUE,\"\",((Rådata!D544-Rådata!E544)*100)/Rådata!D544)","v":""},{"$f":"IF(ISBLANK(Rådata!G544)=TRUE,\"\",(Rådata!F544*100)/Rådata!G544)","v":""},{"$f":"IF(ISBLANK(Rådata!K544),\"\",(SUM(Rådata!M544:P544)*100)/SUM(Rådata!H544:K544))","v":""},{"$f":"IF(ISBLANK(Rådata!H544),\"\",((SUM(Rådata!J544:L544)-SUM(Rådata!O544:P544))*100)/SUM(Rådata!H544:L544))","v":""},{"$f":"IF(ISBLANK(Rådata!R544),\"\",(Rådata!Q544*100)/Rådata!R544)","v":""}]
[{"$f":"IF(ISBLANK(Rådata!A545)=TRUE,\"\",Rådata!A545)","v":""},{"$f":"IF(ISBLANK(Rådata!A545)=TRUE,\"\",YEAR(A545))","v":""},{"$f":"IF(ISBLANK(Rådata!A545)=TRUE,\"\",VLOOKUP(MONTH(A545),Opsætning!$G$3:$H$14,2,FALSE))","v":""},{"$f":"IF(ISBLANK(Rådata!B545)=TRUE,\"\",(Rådata!C545*100)/Rådata!B545)","v":""},{"$f":"IF(ISBLANK(Rådata!D545)=TRUE,\"\",((Rådata!D545-Rådata!E545)*100)/Rådata!D545)","v":""},{"$f":"IF(ISBLANK(Rådata!G545)=TRUE,\"\",(Rådata!F545*100)/Rådata!G545)","v":""},{"$f":"IF(ISBLANK(Rådata!K545),\"\",(SUM(Rådata!M545:P545)*100)/SUM(Rådata!H545:K545))","v":""},{"$f":"IF(ISBLANK(Rådata!H545),\"\",((SUM(Rådata!J545:L545)-SUM(Rådata!O545:P545))*100)/SUM(Rådata!H545:L545))","v":""},{"$f":"IF(ISBLANK(Rådata!R545),\"\",(Rådata!Q545*100)/Rådata!R545)","v":""}]
[{"$f":"IF(ISBLANK(Rådata!A546)=TRUE,\"\",Rådata!A546)","v":""},{"$f":"IF(ISBLANK(Rådata!A546)=TRUE,\"\",YEAR(A546))","v":""},{"$f":"IF(ISBLANK(Rådata!A546)=TRUE,\"\",VLOOKUP(MONTH(A546),Opsætning!$G$3:$H$14,2,FALSE))","v":""},{"$f":"IF(ISBLANK(Rådata!B546)=TRUE,\"\",(Rådata!C546*100)/Rådata!B546)","v":""},{"$f":"IF(ISBLANK(Rådata!D546)=TRUE,\"\",((Rådata!D546-Rådata!E546)*100)/Rådata!D546)","v":""},{"$f":"IF(ISBLANK(Rådata!G546)=TRUE,\"\",(Rådata!F546*100)/Rådata!G546)","v":""},{"$f":"IF(ISBLANK(Rådata!K546),\"\",(SUM(Rådata!M546:P546)*100)/SUM(Rådata!H546:K546))","v":""},{"$f":"IF(ISBLANK(Rådata!H546),\"\",((SUM(Rådata!J546:L546)-SUM(Rådata!O546:P546))*100)/SUM(Rådata!H546:L546))","v":""},{"$f":"IF(ISBLANK(Rådata!R546),\"\",(Rådata!Q546*100)/Rådata!R546)","v":""}]
[{"$f":"IF(ISBLANK(Rådata!A547)=TRUE,\"\",Rådata!A547)","v":""},{"$f":"IF(ISBLANK(Rådata!A547)=TRUE,\"\",YEAR(A547))","v":""},{"$f":"IF(ISBLANK(Rådata!A547)=TRUE,\"\",VLOOKUP(MONTH(A547),Opsætning!$G$3:$H$14,2,FALSE))","v":""},{"$f":"IF(ISBLANK(Rådata!B547)=TRUE,\"\",(Rådata!C547*100)/Rådata!B547)","v":""},{"$f":"IF(ISBLANK(Rådata!D547)=TRUE,\"\",((Rådata!D547-Rådata!E547)*100)/Rådata!D547)","v":""},{"$f":"IF(ISBLANK(Rådata!G547)=TRUE,\"\",(Rådata!F547*100)/Rådata!G547)","v":""},{"$f":"IF(ISBLANK(Rådata!K547),\"\",(SUM(Rådata!M547:P547)*100)/SUM(Rådata!H547:K547))","v":""},{"$f":"IF(ISBLANK(Rådata!H547),\"\",((SUM(Rådata!J547:L547)-SUM(Rådata!O547:P547))*100)/SUM(Rådata!H547:L547))","v":""},{"$f":"IF(ISBLANK(Rådata!R547),\"\",(Rådata!Q547*100)/Rådata!R547)","v":""}]
[{"$f":"IF(ISBLANK(Rådata!A548)=TRUE,\"\",Rådata!A548)","v":""},{"$f":"IF(ISBLANK(Rådata!A548)=TRUE,\"\",YEAR(A548))","v":""},{"$f":"IF(ISBLANK(Rådata!A548)=TRUE,\"\",VLOOKUP(MONTH(A548),Opsætning!$G$3:$H$14,2,FALSE))","v":""},{"$f":"IF(ISBLANK(Rådata!B548)=TRUE,\"\",(Rådata!C548*100)/Rådata!B548)","v":""},{"$f":"IF(ISBLANK(Rådata!D548)=TRUE,\"\",((Rådata!D548-Rådata!E548)*100)/Rådata!D548)","v":""},{"$f":"IF(ISBLANK(Rådata!G548)=TRUE,\"\",(Rådata!F548*100)/Rådata!G548)","v":""},{"$f":"IF(ISBLANK(Rådata!K548),\"\",(SUM(Rådata!M548:P548)*100)/SUM(Rådata!H548:K548))","v":""},{"$f":"IF(ISBLANK(Rådata!H548),\"\",((SUM(Rådata!J548:L548)-SUM(Rådata!O548:P548))*100)/SUM(Rådata!H548:L548))","v":""},{"$f":"IF(ISBLANK(Rådata!R548),\"\",(Rådata!Q548*100)/Rådata!R548)","v":""}]
[{"$f":"IF(ISBLANK(Rådata!A549)=TRUE,\"\",Rådata!A549)","v":""},{"$f":"IF(ISBLANK(Rådata!A549)=TRUE,\"\",YEAR(A549))","v":""},{"$f":"IF(ISBLANK(Rådata!A549)=TRUE,\"\",VLOOKUP(MONTH(A549),Opsætning!$G$3:$H$14,2,FALSE))","v":""},{"$f":"IF(ISBLANK(Rådata!B549)=TRUE,\"\",(Rådata!C549*100)/Rådata!B549)","v":""},{"$f":"IF(ISBLANK(Rådata!D549)=TRUE,\"\",((Rådata!D549-Rådata!E549)*100)/Rådata!D549)","v":""},{"$f":"IF(ISBLANK(Rådata!G549)=TRUE,\"\",(Rådata!F549*100)/Rådata!G549)","v":""},{"$f":"IF(ISBLANK(Rådata!K549),\"\",(SUM(Rådata!M549:P549)*100)/SUM(Rådata!H549:K549))","v":""},{"$f":"IF(ISBLANK(Rådata!H549),\"\",((SUM(Rådata!J549:L549)-SUM(Rådata!O549:P549))*100)/SUM(Rådata!H549:L549))","v":""},{"$f":"IF(ISBLANK(Rådata!R549),\"\",(Rådata!Q549*100)/Rådata!R549)","v":""}]
[{"$f":"IF(ISBLANK(Rådata!A550)=TRUE,\"\",Rådata!A550)","v":""},{"$f":"IF(ISBLANK(Rådata!A550)=TRUE,\"\",YEAR(A550))","v":""},{"$f":"IF(ISBLANK(Rådata!A550)=TRUE,\"\",VLOOKUP(MONTH(A550),Opsætning!$G$3:$H$14,2,FALSE))","v":""},{"$f":"IF(ISBLANK(Rådata!B550)=TRUE,\"\",(Rådata!C550*100)/Rådata!B550)","v":""},{"$f":"IF(ISBLANK(Rådata!D550)=TRUE,\"\",((Rådata!D550-Rådata!E550)*100)/Rådata!D550)","v":""},{"$f":"IF(ISBLANK(Rådata!G550)=TRUE,\"\",(Rådata!F550*100)/Rådata!G550)","v":""},{"$f":"IF(ISBLANK(Rådata!K550),\"\",(SUM(Rådata!M550:P550)*100)/SUM(Rådata!H550:K550))","v":""},{"$f":"IF(ISBLANK(Rådata!H550),\"\",((SUM(Rådata!J550:L550)-SUM(Rådata!O550:P550))*100)/SUM(Rådata!H550:L550))","v":""},{"$f":"IF(ISBLANK(Rådata!R550),\"\",(Rådata!Q550*100)/Rådata!R550)","v":""}]
[{"$f":"IF(ISBLANK(Rådata!A551)=TRUE,\"\",Rådata!A551)","v":""},{"$f":"IF(ISBLANK(Rådata!A551)=TRUE,\"\",YEAR(A551))","v":""},{"$f":"IF(ISBLANK(Rådata!A551)=TRUE,\"\",VLOOKUP(MONTH(A551),Opsætning!$G$3:$H$14,2,FALSE))","v":""},{"$f":"IF(ISBLANK(Rådata!B551)=TRUE,\"\",(Rådata!C551*100)/Rådata!B551)","v":""},{"$f":"IF(ISBLANK(Rådata!D551)=TRUE,\"\",((Rådata!D551-Rådata!E551)*100)/Rådata!D551)","v":""},{"$f":"IF(ISBLANK(Rådata!G551)=TRUE,\"\",(Rådata!F551*100)/Rådata!G551)","v":""},{"$f":"IF(ISBLANK(Rådata!K551),\"\",(SUM(Rådata!M551:P551)*100)/SUM(Rådata!H551:K551))","v":""},{"$f":"IF(ISBLANK(Rådata!H551),\"\",((SUM(Rådata!J551:L551)-SUM(Rådata!O551:P551))*100)/SUM(Rådata!H551:L551))","v":""},{"$f":"IF(ISBLANK(Rådata!R551),\"\",(Rådata!Q551*100)/Rådata!R551)","v":""}]
[{"$f":"IF(ISBLANK(Rådata!A552)=TRUE,\"\",Rådata!A552)","v":""},{"$f":"IF(ISBLANK(Rådata!A552)=TRUE,\"\",YEAR(A552))","v":""},{"$f":"IF(ISBLANK(Rådata!A552)=TRUE,\"\",VLOOKUP(MONTH(A552),Opsætning!$G$3:$H$14,2,FALSE))","v":""},{"$f":"IF(ISBLANK(Rådata!B552)=TRUE,\"\",(Rådata!C552*100)/Rådata!B552)","v":""},{"$f":"IF(ISBLANK(Rådata!D552)=TRUE,\"\",((Rådata!D552-Rådata!E552)*100)/Rådata!D552)","v":""},{"$f":"IF(ISBLANK(Rådata!G552)=TRUE,\"\",(Rådata!F552*100)/Rådata!G552)","v":""},{"$f":"IF(ISBLANK(Rådata!K552),\"\",(SUM(Rådata!M552:P552)*100)/SUM(Rådata!H552:K552))","v":""},{"$f":"IF(ISBLANK(Rådata!H552),\"\",((SUM(Rådata!J552:L552)-SUM(Rådata!O552:P552))*100)/SUM(Rådata!H552:L552))","v":""},{"$f":"IF(ISBLANK(Rådata!R552),\"\",(Rådata!Q552*100)/Rådata!R552)","v":""}]
[{"$f":"IF(ISBLANK(Rådata!A553)=TRUE,\"\",Rådata!A553)","v":""},{"$f":"IF(ISBLANK(Rådata!A553)=TRUE,\"\",YEAR(A553))","v":""},{"$f":"IF(ISBLANK(Rådata!A553)=TRUE,\"\",VLOOKUP(MONTH(A553),Opsætning!$G$3:$H$14,2,FALSE))","v":""},{"$f":"IF(ISBLANK(Rådata!B553)=TRUE,\"\",(Rådata!C553*100)/Rådata!B553)","v":""},{"$f":"IF(ISBLANK(Rådata!D553)=TRUE,\"\",((Rådata!D553-Rådata!E553)*100)/Rådata!D553)","v":""},{"$f":"IF(ISBLANK(Rådata!G553)=TRUE,\"\",(Rådata!F553*100)/Rådata!G553)","v":""},{"$f":"IF(ISBLANK(Rådata!K553),\"\",(SUM(Rådata!M553:P553)*100)/SUM(Rådata!H553:K553))","v":""},{"$f":"IF(ISBLANK(Rådata!H553),\"\",((SUM(Rådata!J553:L553)-SUM(Rådata!O553:P553))*100)/SUM(Rådata!H553:L553))","v":""},{"$f":"IF(ISBLANK(Rådata!R553),\"\",(Rådata!Q553*100)/Rådata!R553)","v":""}]
[{"$f":"IF(ISBLANK(Rådata!A554)=TRUE,\"\",Rådata!A554)","v":""},{"$f":"IF(ISBLANK(Rådata!A554)=TRUE,\"\",YEAR(A554))","v":""},{"$f":"IF(ISBLANK(Rådata!A554)=TRUE,\"\",VLOOKUP(MONTH(A554),Opsætning!$G$3:$H$14,2,FALSE))","v":""},{"$f":"IF(ISBLANK(Rådata!B554)=TRUE,\"\",(Rådata!C554*100)/Rådata!B554)","v":""},{"$f":"IF(ISBLANK(Rådata!D554)=TRUE,\"\",((Rådata!D554-Rådata!E554)*100)/Rådata!D554)","v":""},{"$f":"IF(ISBLANK(Rådata!G554)=TRUE,\"\",(Rådata!F554*100)/Rådata!G554)","v":""},{"$f":"IF(ISBLANK(Rådata!K554),\"\",(SUM(Rådata!M554:P554)*100)/SUM(Rådata!H554:K554))","v":""},{"$f":"IF(ISBLANK(Rådata!H554),\"\",((SUM(Rådata!J554:L554)-SUM(Rådata!O554:P554))*100)/SUM(Rådata!H554:L554))","v":""},{"$f":"IF(ISBLANK(Rådata!R554),\"\",(Rådata!Q554*100)/Rådata!R554)","v":""}]
[{"$f":"IF(ISBLANK(Rådata!A555)=TRUE,\"\",Rådata!A555)","v":""},{"$f":"IF(ISBLANK(Rådata!A555)=TRUE,\"\",YEAR(A555))","v":""},{"$f":"IF(ISBLANK(Rådata!A555)=TRUE,\"\",VLOOKUP(MONTH(A555),Opsætning!$G$3:$H$14,2,FALSE))","v":""},{"$f":"IF(ISBLANK(Rådata!B555)=TRUE,\"\",(Rådata!C555*100)/Rådata!B555)","v":""},{"$f":"IF(ISBLANK(Rådata!D555)=TRUE,\"\",((Rådata!D555-Rådata!E555)*100)/Rådata!D555)","v":""},{"$f":"IF(ISBLANK(Rådata!G555)=TRUE,\"\",(Rådata!F555*100)/Rådata!G555)","v":""},{"$f":"IF(ISBLANK(Rådata!K555),\"\",(SUM(Rådata!M555:P555)*100)/SUM(Rådata!H555:K555))","v":""},{"$f":"IF(ISBLANK(Rådata!H555),\"\",((SUM(Rådata!J555:L555)-SUM(Rådata!O555:P555))*100)/SUM(Rådata!H555:L555))","v":""},{"$f":"IF(ISBLANK(Rådata!R555),\"\",(Rådata!Q555*100)/Rådata!R555)","v":""}]
[{"$f":"IF(ISBLANK(Rådata!A556)=TRUE,\"\",Rådata!A556)","v":""},{"$f":"IF(ISBLANK(Rådata!A556)=TRUE,\"\",YEAR(A556))","v":""},{"$f":"IF(ISBLANK(Rådata!A556)=TRUE,\"\",VLOOKUP(MONTH(A556),Opsætning!$G$3:$H$14,2,FALSE))","v":""},{"$f":"IF(ISBLANK(Rådata!B556)=TRUE,\"\",(Rådata!C556*100)/Rådata!B556)","v":""},{"$f":"IF(ISBLANK(Rådata!D556)=TRUE,\"\",((Rådata!D556-Rådata!E556)*100)/Rådata!D556)","v":""},{"$f":"IF(ISBLANK(Rådata!G556)=TRUE,\"\",(Rådata!F556*100)/Rådata!G556)","v":""},{"$f":"IF(ISBLANK(Rådata!K556),\"\",(SUM(Rådata!M556:P556)*100)/SUM(Rådata!H556:K556))","v":""},{"$f":"IF(ISBLANK(Rådata!H556),\"\",((SUM(Rådata!J556:L556)-SUM(Rådata!O556:P556))*100)/SUM(Rådata!H556:L556))","v":""},{"$f":"IF(ISBLANK(Rådata!R556),\"\",(Rådata!Q556*100)/Rådata!R556)","v":""}]
[{"$f":"IF(ISBLANK(Rådata!A557)=TRUE,\"\",Rådata!A557)","v":""},{"$f":"IF(ISBLANK(Rådata!A557)=TRUE,\"\",YEAR(A557))","v":""},{"$f":"IF(ISBLANK(Rådata!A557)=TRUE,\"\",VLOOKUP(MONTH(A557),Opsætning!$G$3:$H$14,2,FALSE))","v":""},{"$f":"IF(ISBLANK(Rådata!B557)=TRUE,\"\",(Rådata!C557*100)/Rådata!B557)","v":""},{"$f":"IF(ISBLANK(Rådata!D557)=TRUE,\"\",((Rådata!D557-Rådata!E557)*100)/Rådata!D557)","v":""},{"$f":"IF(ISBLANK(Rådata!G557)=TRUE,\"\",(Rådata!F557*100)/Rådata!G557)","v":""},{"$f":"IF(ISBLANK(Rådata!K557),\"\",(SUM(Rådata!M557:P557)*100)/SUM(Rådata!H557:K557))","v":""},{"$f":"IF(ISBLANK(Rådata!H557),\"\",((SUM(Rådata!J557:L557)-SUM(Rådata!O557:P557))*100)/SUM(Rådata!H557:L557))","v":""},{"$f":"IF(ISBLANK(Rådata!R557),\"\",(Rådata!Q557*100)/Rådata!R557)","v":""}]
[{"$f":"IF(ISBLANK(Rådata!A558)=TRUE,\"\",Rådata!A558)","v":""},{"$f":"IF(ISBLANK(Rådata!A558)=TRUE,\"\",YEAR(A558))","v":""},{"$f":"IF(ISBLANK(Rådata!A558)=TRUE,\"\",VLOOKUP(MONTH(A558),Opsætning!$G$3:$H$14,2,FALSE))","v":""},{"$f":"IF(ISBLANK(Rådata!B558)=TRUE,\"\",(Rådata!C558*100)/Rådata!B558)","v":""},{"$f":"IF(ISBLANK(Rådata!D558)=TRUE,\"\",((Rådata!D558-Rådata!E558)*100)/Rådata!D558)","v":""},{"$f":"IF(ISBLANK(Rådata!G558)=TRUE,\"\",(Rådata!F558*100)/Rådata!G558)","v":""},{"$f":"IF(ISBLANK(Rådata!K558),\"\",(SUM(Rådata!M558:P558)*100)/SUM(Rådata!H558:K558))","v":""},{"$f":"IF(ISBLANK(Rådata!H558),\"\",((SUM(Rådata!J558:L558)-SUM(Rådata!O558:P558))*100)/SUM(Rådata!H558:L558))","v":""},{"$f":"IF(ISBLANK(Rådata!R558),\"\",(Rådata!Q558*100)/Rådata!R558)","v":""}]
[{"$f":"IF(ISBLANK(Rådata!A559)=TRUE,\"\",Rådata!A559)","v":""},{"$f":"IF(ISBLANK(Rådata!A559)=TRUE,\"\",YEAR(A559))","v":""},{"$f":"IF(ISBLANK(Rådata!A559)=TRUE,\"\",VLOOKUP(MONTH(A559),Opsætning!$G$3:$H$14,2,FALSE))","v":""},{"$f":"IF(ISBLANK(Rådata!B559)=TRUE,\"\",(Rådata!C559*100)/Rådata!B559)","v":""},{"$f":"IF(ISBLANK(Rådata!D559)=TRUE,\"\",((Rådata!D559-Rådata!E559)*100)/Rådata!D559)","v":""},{"$f":"IF(ISBLANK(Rådata!G559)=TRUE,\"\",(Rådata!F559*100)/Rådata!G559)","v":""},{"$f":"IF(ISBLANK(Rådata!K559),\"\",(SUM(Rådata!M559:P559)*100)/SUM(Rådata!H559:K559))","v":""},{"$f":"IF(ISBLANK(Rådata!H559),\"\",((SUM(Rådata!J559:L559)-SUM(Rådata!O559:P559))*100)/SUM(Rådata!H559:L559))","v":""},{"$f":"IF(ISBLANK(Rådata!R559),\"\",(Rådata!Q559*100)/Rådata!R559)","v":""}]
[{"$f":"IF(ISBLANK(Rådata!A560)=TRUE,\"\",Rådata!A560)","v":""},{"$f":"IF(ISBLANK(Rådata!A560)=TRUE,\"\",YEAR(A560))","v":""},{"$f":"IF(ISBLANK(Rådata!A560)=TRUE,\"\",VLOOKUP(MONTH(A560),Opsætning!$G$3:$H$14,2,FALSE))","v":""},{"$f":"IF(ISBLANK(Rådata!B560)=TRUE,\"\",(Rådata!C560*100)/Rådata!B560)","v":""},{"$f":"IF(ISBLANK(Rådata!D560)=TRUE,\"\",((Rådata!D560-Rådata!E560)*100)/Rådata!D560)","v":""},{"$f":"IF(ISBLANK(Rådata!G560)=TRUE,\"\",(Rådata!F560*100)/Rådata!G560)","v":""},{"$f":"IF(ISBLANK(Rådata!K560),\"\",(SUM(Rådata!M560:P560)*100)/SUM(Rådata!H560:K560))","v":""},{"$f":"IF(ISBLANK(Rådata!H560),\"\",((SUM(Rådata!J560:L560)-SUM(Rådata!O560:P560))*100)/SUM(Rådata!H560:L560))","v":""},{"$f":"IF(ISBLANK(Rådata!R560),\"\",(Rådata!Q560*100)/Rådata!R560)","v":""}]
[{"$f":"IF(ISBLANK(Rådata!A561)=TRUE,\"\",Rådata!A561)","v":""},{"$f":"IF(ISBLANK(Rådata!A561)=TRUE,\"\",YEAR(A561))","v":""},{"$f":"IF(ISBLANK(Rådata!A561)=TRUE,\"\",VLOOKUP(MONTH(A561),Opsætning!$G$3:$H$14,2,FALSE))","v":""},{"$f":"IF(ISBLANK(Rådata!B561)=TRUE,\"\",(Rådata!C561*100)/Rådata!B561)","v":""},{"$f":"IF(ISBLANK(Rådata!D561)=TRUE,\"\",((Rådata!D561-Rådata!E561)*100)/Rådata!D561)","v":""},{"$f":"IF(ISBLANK(Rådata!G561)=TRUE,\"\",(Rådata!F561*100)/Rådata!G561)","v":""},{"$f":"IF(ISBLANK(Rådata!K561),\"\",(SUM(Rådata!M561:P561)*100)/SUM(Rådata!H561:K561))","v":""},{"$f":"IF(ISBLANK(Rådata!H561),\"\",((SUM(Rådata!J561:L561)-SUM(Rådata!O561:P561))*100)/SUM(Rådata!H561:L561))","v":""},{"$f":"IF(ISBLANK(Rådata!R561),\"\",(Rådata!Q561*100)/Rådata!R561)","v":""}]
[{"$f":"IF(ISBLANK(Rådata!A562)=TRUE,\"\",Rådata!A562)","v":""},{"$f":"IF(ISBLANK(Rådata!A562)=TRUE,\"\",YEAR(A562))","v":""},{"$f":"IF(ISBLANK(Rådata!A562)=TRUE,\"\",VLOOKUP(MONTH(A562),Opsætning!$G$3:$H$14,2,FALSE))","v":""},{"$f":"IF(ISBLANK(Rådata!B562)=TRUE,\"\",(Rådata!C562*100)/Rådata!B562)","v":""},{"$f":"IF(ISBLANK(Rådata!D562)=TRUE,\"\",((Rådata!D562-Rådata!E562)*100)/Rådata!D562)","v":""},{"$f":"IF(ISBLANK(Rådata!G562)=TRUE,\"\",(Rådata!F562*100)/Rådata!G562)","v":""},{"$f":"IF(ISBLANK(Rådata!K562),\"\",(SUM(Rådata!M562:P562)*100)/SUM(Rådata!H562:K562))","v":""},{"$f":"IF(ISBLANK(Rådata!H562),\"\",((SUM(Rådata!J562:L562)-SUM(Rådata!O562:P562))*100)/SUM(Rådata!H562:L562))","v":""},{"$f":"IF(ISBLANK(Rådata!R562),\"\",(Rådata!Q562*100)/Rådata!R562)","v":""}]
[{"$f":"IF(ISBLANK(Rådata!A563)=TRUE,\"\",Rådata!A563)","v":""},{"$f":"IF(ISBLANK(Rådata!A563)=TRUE,\"\",YEAR(A563))","v":""},{"$f":"IF(ISBLANK(Rådata!A563)=TRUE,\"\",VLOOKUP(MONTH(A563),Opsætning!$G$3:$H$14,2,FALSE))","v":""},{"$f":"IF(ISBLANK(Rådata!B563)=TRUE,\"\",(Rådata!C563*100)/Rådata!B563)","v":""},{"$f":"IF(ISBLANK(Rådata!D563)=TRUE,\"\",((Rådata!D563-Rådata!E563)*100)/Rådata!D563)","v":""},{"$f":"IF(ISBLANK(Rådata!G563)=TRUE,\"\",(Rådata!F563*100)/Rådata!G563)","v":""},{"$f":"IF(ISBLANK(Rådata!K563),\"\",(SUM(Rådata!M563:P563)*100)/SUM(Rådata!H563:K563))","v":""},{"$f":"IF(ISBLANK(Rådata!H563),\"\",((SUM(Rådata!J563:L563)-SUM(Rådata!O563:P563))*100)/SUM(Rådata!H563:L563))","v":""},{"$f":"IF(ISBLANK(Rådata!R563),\"\",(Rådata!Q563*100)/Rådata!R563)","v":""}]
[{"$f":"IF(ISBLANK(Rådata!A564)=TRUE,\"\",Rådata!A564)","v":""},{"$f":"IF(ISBLANK(Rådata!A564)=TRUE,\"\",YEAR(A564))","v":""},{"$f":"IF(ISBLANK(Rådata!A564)=TRUE,\"\",VLOOKUP(MONTH(A564),Opsætning!$G$3:$H$14,2,FALSE))","v":""},{"$f":"IF(ISBLANK(Rådata!B564)=TRUE,\"\",(Rådata!C564*100)/Rådata!B564)","v":""},{"$f":"IF(ISBLANK(Rådata!D564)=TRUE,\"\",((Rådata!D564-Rådata!E564)*100)/Rådata!D564)","v":""},{"$f":"IF(ISBLANK(Rådata!G564)=TRUE,\"\",(Rådata!F564*100)/Rådata!G564)","v":""},{"$f":"IF(ISBLANK(Rådata!K564),\"\",(SUM(Rådata!M564:P564)*100)/SUM(Rådata!H564:K564))","v":""},{"$f":"IF(ISBLANK(Rådata!H564),\"\",((SUM(Rådata!J564:L564)-SUM(Rådata!O564:P564))*100)/SUM(Rådata!H564:L564))","v":""},{"$f":"IF(ISBLANK(Rådata!R564),\"\",(Rådata!Q564*100)/Rådata!R564)","v":""}]
[{"$f":"IF(ISBLANK(Rådata!A565)=TRUE,\"\",Rådata!A565)","v":""},{"$f":"IF(ISBLANK(Rådata!A565)=TRUE,\"\",YEAR(A565))","v":""},{"$f":"IF(ISBLANK(Rådata!A565)=TRUE,\"\",VLOOKUP(MONTH(A565),Opsætning!$G$3:$H$14,2,FALSE))","v":""},{"$f":"IF(ISBLANK(Rådata!B565)=TRUE,\"\",(Rådata!C565*100)/Rådata!B565)","v":""},{"$f":"IF(ISBLANK(Rådata!D565)=TRUE,\"\",((Rådata!D565-Rådata!E565)*100)/Rådata!D565)","v":""},{"$f":"IF(ISBLANK(Rådata!G565)=TRUE,\"\",(Rådata!F565*100)/Rådata!G565)","v":""},{"$f":"IF(ISBLANK(Rådata!K565),\"\",(SUM(Rådata!M565:P565)*100)/SUM(Rådata!H565:K565))","v":""},{"$f":"IF(ISBLANK(Rådata!H565),\"\",((SUM(Rådata!J565:L565)-SUM(Rådata!O565:P565))*100)/SUM(Rådata!H565:L565))","v":""},{"$f":"IF(ISBLANK(Rådata!R565),\"\",(Rådata!Q565*100)/Rådata!R565)","v":""}]
[{"$f":"IF(ISBLANK(Rådata!A566)=TRUE,\"\",Rådata!A566)","v":""},{"$f":"IF(ISBLANK(Rådata!A566)=TRUE,\"\",YEAR(A566))","v":""},{"$f":"IF(ISBLANK(Rådata!A566)=TRUE,\"\",VLOOKUP(MONTH(A566),Opsætning!$G$3:$H$14,2,FALSE))","v":""},{"$f":"IF(ISBLANK(Rådata!B566)=TRUE,\"\",(Rådata!C566*100)/Rådata!B566)","v":""},{"$f":"IF(ISBLANK(Rådata!D566)=TRUE,\"\",((Rådata!D566-Rådata!E566)*100)/Rådata!D566)","v":""},{"$f":"IF(ISBLANK(Rådata!G566)=TRUE,\"\",(Rådata!F566*100)/Rådata!G566)","v":""},{"$f":"IF(ISBLANK(Rådata!K566),\"\",(SUM(Rådata!M566:P566)*100)/SUM(Rådata!H566:K566))","v":""},{"$f":"IF(ISBLANK(Rådata!H566),\"\",((SUM(Rådata!J566:L566)-SUM(Rådata!O566:P566))*100)/SUM(Rådata!H566:L566))","v":""},{"$f":"IF(ISBLANK(Rådata!R566),\"\",(Rådata!Q566*100)/Rådata!R566)","v":""}]
[{"$f":"IF(ISBLANK(Rådata!A567)=TRUE,\"\",Rådata!A567)","v":""},{"$f":"IF(ISBLANK(Rådata!A567)=TRUE,\"\",YEAR(A567))","v":""},{"$f":"IF(ISBLANK(Rådata!A567)=TRUE,\"\",VLOOKUP(MONTH(A567),Opsætning!$G$3:$H$14,2,FALSE))","v":""},{"$f":"IF(ISBLANK(Rådata!B567)=TRUE,\"\",(Rådata!C567*100)/Rådata!B567)","v":""},{"$f":"IF(ISBLANK(Rådata!D567)=TRUE,\"\",((Rådata!D567-Rådata!E567)*100)/Rådata!D567)","v":""},{"$f":"IF(ISBLANK(Rådata!G567)=TRUE,\"\",(Rådata!F567*100)/Rådata!G567)","v":""},{"$f":"IF(ISBLANK(Rådata!K567),\"\",(SUM(Rådata!M567:P567)*100)/SUM(Rådata!H567:K567))","v":""},{"$f":"IF(ISBLANK(Rådata!H567),\"\",((SUM(Rådata!J567:L567)-SUM(Rådata!O567:P567))*100)/SUM(Rådata!H567:L567))","v":""},{"$f":"IF(ISBLANK(Rådata!R567),\"\",(Rådata!Q567*100)/Rådata!R567)","v":""}]
[{"$f":"IF(ISBLANK(Rådata!A568)=TRUE,\"\",Rådata!A568)","v":""},{"$f":"IF(ISBLANK(Rådata!A568)=TRUE,\"\",YEAR(A568))","v":""},{"$f":"IF(ISBLANK(Rådata!A568)=TRUE,\"\",VLOOKUP(MONTH(A568),Opsætning!$G$3:$H$14,2,FALSE))","v":""},{"$f":"IF(ISBLANK(Rådata!B568)=TRUE,\"\",(Rådata!C568*100)/Rådata!B568)","v":""},{"$f":"IF(ISBLANK(Rådata!D568)=TRUE,\"\",((Rådata!D568-Rådata!E568)*100)/Rådata!D568)","v":""},{"$f":"IF(ISBLANK(Rådata!G568)=TRUE,\"\",(Rådata!F568*100)/Rådata!G568)","v":""},{"$f":"IF(ISBLANK(Rådata!K568),\"\",(SUM(Rådata!M568:P568)*100)/SUM(Rådata!H568:K568))","v":""},{"$f":"IF(ISBLANK(Rådata!H568),\"\",((SUM(Rådata!J568:L568)-SUM(Rådata!O568:P568))*100)/SUM(Rådata!H568:L568))","v":""},{"$f":"IF(ISBLANK(Rådata!R568),\"\",(Rådata!Q568*100)/Rådata!R568)","v":""}]
[{"$f":"IF(ISBLANK(Rådata!A569)=TRUE,\"\",Rådata!A569)","v":""},{"$f":"IF(ISBLANK(Rådata!A569)=TRUE,\"\",YEAR(A569))","v":""},{"$f":"IF(ISBLANK(Rådata!A569)=TRUE,\"\",VLOOKUP(MONTH(A569),Opsætning!$G$3:$H$14,2,FALSE))","v":""},{"$f":"IF(ISBLANK(Rådata!B569)=TRUE,\"\",(Rådata!C569*100)/Rådata!B569)","v":""},{"$f":"IF(ISBLANK(Rådata!D569)=TRUE,\"\",((Rådata!D569-Rådata!E569)*100)/Rådata!D569)","v":""},{"$f":"IF(ISBLANK(Rådata!G569)=TRUE,\"\",(Rådata!F569*100)/Rådata!G569)","v":""},{"$f":"IF(ISBLANK(Rådata!K569),\"\",(SUM(Rådata!M569:P569)*100)/SUM(Rådata!H569:K569))","v":""},{"$f":"IF(ISBLANK(Rådata!H569),\"\",((SUM(Rådata!J569:L569)-SUM(Rådata!O569:P569))*100)/SUM(Rådata!H569:L569))","v":""},{"$f":"IF(ISBLANK(Rådata!R569),\"\",(Rådata!Q569*100)/Rådata!R569)","v":""}]
[{"$f":"IF(ISBLANK(Rådata!A570)=TRUE,\"\",Rådata!A570)","v":""},{"$f":"IF(ISBLANK(Rådata!A570)=TRUE,\"\",YEAR(A570))","v":""},{"$f":"IF(ISBLANK(Rådata!A570)=TRUE,\"\",VLOOKUP(MONTH(A570),Opsætning!$G$3:$H$14,2,FALSE))","v":""},{"$f":"IF(ISBLANK(Rådata!B570)=TRUE,\"\",(Rådata!C570*100)/Rådata!B570)","v":""},{"$f":"IF(ISBLANK(Rådata!D570)=TRUE,\"\",((Rådata!D570-Rådata!E570)*100)/Rådata!D570)","v":""},{"$f":"IF(ISBLANK(Rådata!G570)=TRUE,\"\",(Rådata!F570*100)/Rådata!G570)","v":""},{"$f":"IF(ISBLANK(Rådata!K570),\"\",(SUM(Rådata!M570:P570)*100)/SUM(Rådata!H570:K570))","v":""},{"$f":"IF(ISBLANK(Rådata!H570),\"\",((SUM(Rådata!J570:L570)-SUM(Rådata!O570:P570))*100)/SUM(Rådata!H570:L570))","v":""},{"$f":"IF(ISBLANK(Rådata!R570),\"\",(Rådata!Q570*100)/Rådata!R570)","v":""}]
[{"$f":"IF(ISBLANK(Rådata!A571)=TRUE,\"\",Rådata!A571)","v":""},{"$f":"IF(ISBLANK(Rådata!A571)=TRUE,\"\",YEAR(A571))","v":""},{"$f":"IF(ISBLANK(Rådata!A571)=TRUE,\"\",VLOOKUP(MONTH(A571),Opsætning!$G$3:$H$14,2,FALSE))","v":""},{"$f":"IF(ISBLANK(Rådata!B571)=TRUE,\"\",(Rådata!C571*100)/Rådata!B571)","v":""},{"$f":"IF(ISBLANK(Rådata!D571)=TRUE,\"\",((Rådata!D571-Rådata!E571)*100)/Rådata!D571)","v":""},{"$f":"IF(ISBLANK(Rådata!G571)=TRUE,\"\",(Rådata!F571*100)/Rådata!G571)","v":""},{"$f":"IF(ISBLANK(Rådata!K571),\"\",(SUM(Rådata!M571:P571)*100)/SUM(Rådata!H571:K571))","v":""},{"$f":"IF(ISBLANK(Rådata!H571),\"\",((SUM(Rådata!J571:L571)-SUM(Rådata!O571:P571))*100)/SUM(Rådata!H571:L571))","v":""},{"$f":"IF(ISBLANK(Rådata!R571),\"\",(Rådata!Q571*100)/Rådata!R571)","v":""}]
[{"$f":"IF(ISBLANK(Rådata!A572)=TRUE,\"\",Rådata!A572)","v":""},{"$f":"IF(ISBLANK(Rådata!A572)=TRUE,\"\",YEAR(A572))","v":""},{"$f":"IF(ISBLANK(Rådata!A572)=TRUE,\"\",VLOOKUP(MONTH(A572),Opsætning!$G$3:$H$14,2,FALSE))","v":""},{"$f":"IF(ISBLANK(Rådata!B572)=TRUE,\"\",(Rådata!C572*100)/Rådata!B572)","v":""},{"$f":"IF(ISBLANK(Rådata!D572)=TRUE,\"\",((Rådata!D572-Rådata!E572)*100)/Rådata!D572)","v":""},{"$f":"IF(ISBLANK(Rådata!G572)=TRUE,\"\",(Rådata!F572*100)/Rådata!G572)","v":""},{"$f":"IF(ISBLANK(Rådata!K572),\"\",(SUM(Rådata!M572:P572)*100)/SUM(Rådata!H572:K572))","v":""},{"$f":"IF(ISBLANK(Rådata!H572),\"\",((SUM(Rådata!J572:L572)-SUM(Rådata!O572:P572))*100)/SUM(Rådata!H572:L572))","v":""},{"$f":"IF(ISBLANK(Rådata!R572),\"\",(Rådata!Q572*100)/Rådata!R572)","v":""}]
[{"$f":"IF(ISBLANK(Rådata!A573)=TRUE,\"\",Rådata!A573)","v":""},{"$f":"IF(ISBLANK(Rådata!A573)=TRUE,\"\",YEAR(A573))","v":""},{"$f":"IF(ISBLANK(Rådata!A573)=TRUE,\"\",VLOOKUP(MONTH(A573),Opsætning!$G$3:$H$14,2,FALSE))","v":""},{"$f":"IF(ISBLANK(Rådata!B573)=TRUE,\"\",(Rådata!C573*100)/Rådata!B573)","v":""},{"$f":"IF(ISBLANK(Rådata!D573)=TRUE,\"\",((Rådata!D573-Rådata!E573)*100)/Rådata!D573)","v":""},{"$f":"IF(ISBLANK(Rådata!G573)=TRUE,\"\",(Rådata!F573*100)/Rådata!G573)","v":""},{"$f":"IF(ISBLANK(Rådata!K573),\"\",(SUM(Rådata!M573:P573)*100)/SUM(Rådata!H573:K573))","v":""},{"$f":"IF(ISBLANK(Rådata!H573),\"\",((SUM(Rådata!J573:L573)-SUM(Rådata!O573:P573))*100)/SUM(Rådata!H573:L573))","v":""},{"$f":"IF(ISBLANK(Rådata!R573),\"\",(Rådata!Q573*100)/Rådata!R573)","v":""}]
[{"$f":"IF(ISBLANK(Rådata!A574)=TRUE,\"\",Rådata!A574)","v":""},{"$f":"IF(ISBLANK(Rådata!A574)=TRUE,\"\",YEAR(A574))","v":""},{"$f":"IF(ISBLANK(Rådata!A574)=TRUE,\"\",VLOOKUP(MONTH(A574),Opsætning!$G$3:$H$14,2,FALSE))","v":""},{"$f":"IF(ISBLANK(Rådata!B574)=TRUE,\"\",(Rådata!C574*100)/Rådata!B574)","v":""},{"$f":"IF(ISBLANK(Rådata!D574)=TRUE,\"\",((Rådata!D574-Rådata!E574)*100)/Rådata!D574)","v":""},{"$f":"IF(ISBLANK(Rådata!G574)=TRUE,\"\",(Rådata!F574*100)/Rådata!G574)","v":""},{"$f":"IF(ISBLANK(Rådata!K574),\"\",(SUM(Rådata!M574:P574)*100)/SUM(Rådata!H574:K574))","v":""},{"$f":"IF(ISBLANK(Rådata!H574),\"\",((SUM(Rådata!J574:L574)-SUM(Rådata!O574:P574))*100)/SUM(Rådata!H574:L574))","v":""},{"$f":"IF(ISBLANK(Rådata!R574),\"\",(Rådata!Q574*100)/Rådata!R574)","v":""}]
[{"$f":"IF(ISBLANK(Rådata!A575)=TRUE,\"\",Rådata!A575)","v":""},{"$f":"IF(ISBLANK(Rådata!A575)=TRUE,\"\",YEAR(A575))","v":""},{"$f":"IF(ISBLANK(Rådata!A575)=TRUE,\"\",VLOOKUP(MONTH(A575),Opsætning!$G$3:$H$14,2,FALSE))","v":""},{"$f":"IF(ISBLANK(Rådata!B575)=TRUE,\"\",(Rådata!C575*100)/Rådata!B575)","v":""},{"$f":"IF(ISBLANK(Rådata!D575)=TRUE,\"\",((Rådata!D575-Rådata!E575)*100)/Rådata!D575)","v":""},{"$f":"IF(ISBLANK(Rådata!G575)=TRUE,\"\",(Rådata!F575*100)/Rådata!G575)","v":""},{"$f":"IF(ISBLANK(Rådata!K575),\"\",(SUM(Rådata!M575:P575)*100)/SUM(Rådata!H575:K575))","v":""},{"$f":"IF(ISBLANK(Rådata!H575),\"\",((SUM(Rådata!J575:L575)-SUM(Rådata!O575:P575))*100)/SUM(Rådata!H575:L575))","v":""},{"$f":"IF(ISBLANK(Rådata!R575),\"\",(Rådata!Q575*100)/Rådata!R575)","v":""}]
[{"$f":"IF(ISBLANK(Rådata!A576)=TRUE,\"\",Rådata!A576)","v":""},{"$f":"IF(ISBLANK(Rådata!A576)=TRUE,\"\",YEAR(A576))","v":""},{"$f":"IF(ISBLANK(Rådata!A576)=TRUE,\"\",VLOOKUP(MONTH(A576),Opsætning!$G$3:$H$14,2,FALSE))","v":""},{"$f":"IF(ISBLANK(Rådata!B576)=TRUE,\"\",(Rådata!C576*100)/Rådata!B576)","v":""},{"$f":"IF(ISBLANK(Rådata!D576)=TRUE,\"\",((Rådata!D576-Rådata!E576)*100)/Rådata!D576)","v":""},{"$f":"IF(ISBLANK(Rådata!G576)=TRUE,\"\",(Rådata!F576*100)/Rådata!G576)","v":""},{"$f":"IF(ISBLANK(Rådata!K576),\"\",(SUM(Rådata!M576:P576)*100)/SUM(Rådata!H576:K576))","v":""},{"$f":"IF(ISBLANK(Rådata!H576),\"\",((SUM(Rådata!J576:L576)-SUM(Rådata!O576:P576))*100)/SUM(Rådata!H576:L576))","v":""},{"$f":"IF(ISBLANK(Rådata!R576),\"\",(Rådata!Q576*100)/Rådata!R576)","v":""}]
[{"$f":"IF(ISBLANK(Rådata!A577)=TRUE,\"\",Rådata!A577)","v":""},{"$f":"IF(ISBLANK(Rådata!A577)=TRUE,\"\",YEAR(A577))","v":""},{"$f":"IF(ISBLANK(Rådata!A577)=TRUE,\"\",VLOOKUP(MONTH(A577),Opsætning!$G$3:$H$14,2,FALSE))","v":""},{"$f":"IF(ISBLANK(Rådata!B577)=TRUE,\"\",(Rådata!C577*100)/Rådata!B577)","v":""},{"$f":"IF(ISBLANK(Rådata!D577)=TRUE,\"\",((Rådata!D577-Rådata!E577)*100)/Rådata!D577)","v":""},{"$f":"IF(ISBLANK(Rådata!G577)=TRUE,\"\",(Rådata!F577*100)/Rådata!G577)","v":""},{"$f":"IF(ISBLANK(Rådata!K577),\"\",(SUM(Rådata!M577:P577)*100)/SUM(Rådata!H577:K577))","v":""},{"$f":"IF(ISBLANK(Rådata!H577),\"\",((SUM(Rådata!J577:L577)-SUM(Rådata!O577:P577))*100)/SUM(Rådata!H577:L577))","v":""},{"$f":"IF(ISBLANK(Rådata!R577),\"\",(Rådata!Q577*100)/Rådata!R577)","v":""}]
[{"$f":"IF(ISBLANK(Rådata!A578)=TRUE,\"\",Rådata!A578)","v":""},{"$f":"IF(ISBLANK(Rådata!A578)=TRUE,\"\",YEAR(A578))","v":""},{"$f":"IF(ISBLANK(Rådata!A578)=TRUE,\"\",VLOOKUP(MONTH(A578),Opsætning!$G$3:$H$14,2,FALSE))","v":""},{"$f":"IF(ISBLANK(Rådata!B578)=TRUE,\"\",(Rådata!C578*100)/Rådata!B578)","v":""},{"$f":"IF(ISBLANK(Rådata!D578)=TRUE,\"\",((Rådata!D578-Rådata!E578)*100)/Rådata!D578)","v":""},{"$f":"IF(ISBLANK(Rådata!G578)=TRUE,\"\",(Rådata!F578*100)/Rådata!G578)","v":""},{"$f":"IF(ISBLANK(Rådata!K578),\"\",(SUM(Rådata!M578:P578)*100)/SUM(Rådata!H578:K578))","v":""},{"$f":"IF(ISBLANK(Rådata!H578),\"\",((SUM(Rådata!J578:L578)-SUM(Rådata!O578:P578))*100)/SUM(Rådata!H578:L578))","v":""},{"$f":"IF(ISBLANK(Rådata!R578),\"\",(Rådata!Q578*100)/Rådata!R578)","v":""}]
[{"$f":"IF(ISBLANK(Rådata!A579)=TRUE,\"\",Rådata!A579)","v":""},{"$f":"IF(ISBLANK(Rådata!A579)=TRUE,\"\",YEAR(A579))","v":""},{"$f":"IF(ISBLANK(Rådata!A579)=TRUE,\"\",VLOOKUP(MONTH(A579),Opsætning!$G$3:$H$14,2,FALSE))","v":""},{"$f":"IF(ISBLANK(Rådata!B579)=TRUE,\"\",(Rådata!C579*100)/Rådata!B579)","v":""},{"$f":"IF(ISBLANK(Rådata!D579)=TRUE,\"\",((Rådata!D579-Rådata!E579)*100)/Rådata!D579)","v":""},{"$f":"IF(ISBLANK(Rådata!G579)=TRUE,\"\",(Rådata!F579*100)/Rådata!G579)","v":""},{"$f":"IF(ISBLANK(Rådata!K579),\"\",(SUM(Rådata!M579:P579)*100)/SUM(Rådata!H579:K579))","v":""},{"$f":"IF(ISBLANK(Rådata!H579),\"\",((SUM(Rådata!J579:L579)-SUM(Rådata!O579:P579))*100)/SUM(Rådata!H579:L579))","v":""},{"$f":"IF(ISBLANK(Rådata!R579),\"\",(Rådata!Q579*100)/Rådata!R579)","v":""}]
[{"$f":"IF(ISBLANK(Rådata!A580)=TRUE,\"\",Rådata!A580)","v":""},{"$f":"IF(ISBLANK(Rådata!A580)=TRUE,\"\",YEAR(A580))","v":""},{"$f":"IF(ISBLANK(Rådata!A580)=TRUE,\"\",VLOOKUP(MONTH(A580),Opsætning!$G$3:$H$14,2,FALSE))","v":""},{"$f":"IF(ISBLANK(Rådata!B580)=TRUE,\"\",(Rådata!C580*100)/Rådata!B580)","v":""},{"$f":"IF(ISBLANK(Rådata!D580)=TRUE,\"\",((Rådata!D580-Rådata!E580)*100)/Rådata!D580)","v":""},{"$f":"IF(ISBLANK(Rådata!G580)=TRUE,\"\",(Rådata!F580*100)/Rådata!G580)","v":""},{"$f":"IF(ISBLANK(Rådata!K580),\"\",(SUM(Rådata!M580:P580)*100)/SUM(Rådata!H580:K580))","v":""},{"$f":"IF(ISBLANK(Rådata!H580),\"\",((SUM(Rådata!J580:L580)-SUM(Rådata!O580:P580))*100)/SUM(Rådata!H580:L580))","v":""},{"$f":"IF(ISBLANK(Rådata!R580),\"\",(Rådata!Q580*100)/Rådata!R580)","v":""}]
[{"$f":"IF(ISBLANK(Rådata!A581)=TRUE,\"\",Rådata!A581)","v":""},{"$f":"IF(ISBLANK(Rådata!A581)=TRUE,\"\",YEAR(A581))","v":""},{"$f":"IF(ISBLANK(Rådata!A581)=TRUE,\"\",VLOOKUP(MONTH(A581),Opsætning!$G$3:$H$14,2,FALSE))","v":""},{"$f":"IF(ISBLANK(Rådata!B581)=TRUE,\"\",(Rådata!C581*100)/Rådata!B581)","v":""},{"$f":"IF(ISBLANK(Rådata!D581)=TRUE,\"\",((Rådata!D581-Rådata!E581)*100)/Rådata!D581)","v":""},{"$f":"IF(ISBLANK(Rådata!G581)=TRUE,\"\",(Rådata!F581*100)/Rådata!G581)","v":""},{"$f":"IF(ISBLANK(Rådata!K581),\"\",(SUM(Rådata!M581:P581)*100)/SUM(Rådata!H581:K581))","v":""},{"$f":"IF(ISBLANK(Rådata!H581),\"\",((SUM(Rådata!J581:L581)-SUM(Rådata!O581:P581))*100)/SUM(Rådata!H581:L581))","v":""},{"$f":"IF(ISBLANK(Rådata!R581),\"\",(Rådata!Q581*100)/Rådata!R581)","v":""}]
[{"$f":"IF(ISBLANK(Rådata!A582)=TRUE,\"\",Rådata!A582)","v":""},{"$f":"IF(ISBLANK(Rådata!A582)=TRUE,\"\",YEAR(A582))","v":""},{"$f":"IF(ISBLANK(Rådata!A582)=TRUE,\"\",VLOOKUP(MONTH(A582),Opsætning!$G$3:$H$14,2,FALSE))","v":""},{"$f":"IF(ISBLANK(Rådata!B582)=TRUE,\"\",(Rådata!C582*100)/Rådata!B582)","v":""},{"$f":"IF(ISBLANK(Rådata!D582)=TRUE,\"\",((Rådata!D582-Rådata!E582)*100)/Rådata!D582)","v":""},{"$f":"IF(ISBLANK(Rådata!G582)=TRUE,\"\",(Rådata!F582*100)/Rådata!G582)","v":""},{"$f":"IF(ISBLANK(Rådata!K582),\"\",(SUM(Rådata!M582:P582)*100)/SUM(Rådata!H582:K582))","v":""},{"$f":"IF(ISBLANK(Rådata!H582),\"\",((SUM(Rådata!J582:L582)-SUM(Rådata!O582:P582))*100)/SUM(Rådata!H582:L582))","v":""},{"$f":"IF(ISBLANK(Rådata!R582),\"\",(Rådata!Q582*100)/Rådata!R582)","v":""}]
[{"$f":"IF(ISBLANK(Rådata!A583)=TRUE,\"\",Rådata!A583)","v":""},{"$f":"IF(ISBLANK(Rådata!A583)=TRUE,\"\",YEAR(A583))","v":""},{"$f":"IF(ISBLANK(Rådata!A583)=TRUE,\"\",VLOOKUP(MONTH(A583),Opsætning!$G$3:$H$14,2,FALSE))","v":""},{"$f":"IF(ISBLANK(Rådata!B583)=TRUE,\"\",(Rådata!C583*100)/Rådata!B583)","v":""},{"$f":"IF(ISBLANK(Rådata!D583)=TRUE,\"\",((Rådata!D583-Rådata!E583)*100)/Rådata!D583)","v":""},{"$f":"IF(ISBLANK(Rådata!G583)=TRUE,\"\",(Rådata!F583*100)/Rådata!G583)","v":""},{"$f":"IF(ISBLANK(Rådata!K583),\"\",(SUM(Rådata!M583:P583)*100)/SUM(Rådata!H583:K583))","v":""},{"$f":"IF(ISBLANK(Rådata!H583),\"\",((SUM(Rådata!J583:L583)-SUM(Rådata!O583:P583))*100)/SUM(Rådata!H583:L583))","v":""},{"$f":"IF(ISBLANK(Rådata!R583),\"\",(Rådata!Q583*100)/Rådata!R583)","v":""}]
[{"$f":"IF(ISBLANK(Rådata!A584)=TRUE,\"\",Rådata!A584)","v":""},{"$f":"IF(ISBLANK(Rådata!A584)=TRUE,\"\",YEAR(A584))","v":""},{"$f":"IF(ISBLANK(Rådata!A584)=TRUE,\"\",VLOOKUP(MONTH(A584),Opsætning!$G$3:$H$14,2,FALSE))","v":""},{"$f":"IF(ISBLANK(Rådata!B584)=TRUE,\"\",(Rådata!C584*100)/Rådata!B584)","v":""},{"$f":"IF(ISBLANK(Rådata!D584)=TRUE,\"\",((Rådata!D584-Rådata!E584)*100)/Rådata!D584)","v":""},{"$f":"IF(ISBLANK(Rådata!G584)=TRUE,\"\",(Rådata!F584*100)/Rådata!G584)","v":""},{"$f":"IF(ISBLANK(Rådata!K584),\"\",(SUM(Rådata!M584:P584)*100)/SUM(Rådata!H584:K584))","v":""},{"$f":"IF(ISBLANK(Rådata!H584),\"\",((SUM(Rådata!J584:L584)-SUM(Rådata!O584:P584))*100)/SUM(Rådata!H584:L584))","v":""},{"$f":"IF(ISBLANK(Rådata!R584),\"\",(Rådata!Q584*100)/Rådata!R584)","v":""}]
[{"$f":"IF(ISBLANK(Rådata!A585)=TRUE,\"\",Rådata!A585)","v":""},{"$f":"IF(ISBLANK(Rådata!A585)=TRUE,\"\",YEAR(A585))","v":""},{"$f":"IF(ISBLANK(Rådata!A585)=TRUE,\"\",VLOOKUP(MONTH(A585),Opsætning!$G$3:$H$14,2,FALSE))","v":""},{"$f":"IF(ISBLANK(Rådata!B585)=TRUE,\"\",(Rådata!C585*100)/Rådata!B585)","v":""},{"$f":"IF(ISBLANK(Rådata!D585)=TRUE,\"\",((Rådata!D585-Rådata!E585)*100)/Rådata!D585)","v":""},{"$f":"IF(ISBLANK(Rådata!G585)=TRUE,\"\",(Rådata!F585*100)/Rådata!G585)","v":""},{"$f":"IF(ISBLANK(Rådata!K585),\"\",(SUM(Rådata!M585:P585)*100)/SUM(Rådata!H585:K585))","v":""},{"$f":"IF(ISBLANK(Rådata!H585),\"\",((SUM(Rådata!J585:L585)-SUM(Rådata!O585:P585))*100)/SUM(Rådata!H585:L585))","v":""},{"$f":"IF(ISBLANK(Rådata!R585),\"\",(Rådata!Q585*100)/Rådata!R585)","v":""}]
[{"$f":"IF(ISBLANK(Rådata!A586)=TRUE,\"\",Rådata!A586)","v":""},{"$f":"IF(ISBLANK(Rådata!A586)=TRUE,\"\",YEAR(A586))","v":""},{"$f":"IF(ISBLANK(Rådata!A586)=TRUE,\"\",VLOOKUP(MONTH(A586),Opsætning!$G$3:$H$14,2,FALSE))","v":""},{"$f":"IF(ISBLANK(Rådata!B586)=TRUE,\"\",(Rådata!C586*100)/Rådata!B586)","v":""},{"$f":"IF(ISBLANK(Rådata!D586)=TRUE,\"\",((Rådata!D586-Rådata!E586)*100)/Rådata!D586)","v":""},{"$f":"IF(ISBLANK(Rådata!G586)=TRUE,\"\",(Rådata!F586*100)/Rådata!G586)","v":""},{"$f":"IF(ISBLANK(Rådata!K586),\"\",(SUM(Rådata!M586:P586)*100)/SUM(Rådata!H586:K586))","v":""},{"$f":"IF(ISBLANK(Rådata!H586),\"\",((SUM(Rådata!J586:L586)-SUM(Rådata!O586:P586))*100)/SUM(Rådata!H586:L586))","v":""},{"$f":"IF(ISBLANK(Rådata!R586),\"\",(Rådata!Q586*100)/Rådata!R586)","v":""}]
[{"$f":"IF(ISBLANK(Rådata!A587)=TRUE,\"\",Rådata!A587)","v":""},{"$f":"IF(ISBLANK(Rådata!A587)=TRUE,\"\",YEAR(A587))","v":""},{"$f":"IF(ISBLANK(Rådata!A587)=TRUE,\"\",VLOOKUP(MONTH(A587),Opsætning!$G$3:$H$14,2,FALSE))","v":""},{"$f":"IF(ISBLANK(Rådata!B587)=TRUE,\"\",(Rådata!C587*100)/Rådata!B587)","v":""},{"$f":"IF(ISBLANK(Rådata!D587)=TRUE,\"\",((Rådata!D587-Rådata!E587)*100)/Rådata!D587)","v":""},{"$f":"IF(ISBLANK(Rådata!G587)=TRUE,\"\",(Rådata!F587*100)/Rådata!G587)","v":""},{"$f":"IF(ISBLANK(Rådata!K587),\"\",(SUM(Rådata!M587:P587)*100)/SUM(Rådata!H587:K587))","v":""},{"$f":"IF(ISBLANK(Rådata!H587),\"\",((SUM(Rådata!J587:L587)-SUM(Rådata!O587:P587))*100)/SUM(Rådata!H587:L587))","v":""},{"$f":"IF(ISBLANK(Rådata!R587),\"\",(Rådata!Q587*100)/Rådata!R587)","v":""}]
[{"$f":"IF(ISBLANK(Rådata!A588)=TRUE,\"\",Rådata!A588)","v":""},{"$f":"IF(ISBLANK(Rådata!A588)=TRUE,\"\",YEAR(A588))","v":""},{"$f":"IF(ISBLANK(Rådata!A588)=TRUE,\"\",VLOOKUP(MONTH(A588),Opsætning!$G$3:$H$14,2,FALSE))","v":""},{"$f":"IF(ISBLANK(Rådata!B588)=TRUE,\"\",(Rådata!C588*100)/Rådata!B588)","v":""},{"$f":"IF(ISBLANK(Rådata!D588)=TRUE,\"\",((Rådata!D588-Rådata!E588)*100)/Rådata!D588)","v":""},{"$f":"IF(ISBLANK(Rådata!G588)=TRUE,\"\",(Rådata!F588*100)/Rådata!G588)","v":""},{"$f":"IF(ISBLANK(Rådata!K588),\"\",(SUM(Rådata!M588:P588)*100)/SUM(Rådata!H588:K588))","v":""},{"$f":"IF(ISBLANK(Rådata!H588),\"\",((SUM(Rådata!J588:L588)-SUM(Rådata!O588:P588))*100)/SUM(Rådata!H588:L588))","v":""},{"$f":"IF(ISBLANK(Rådata!R588),\"\",(Rådata!Q588*100)/Rådata!R588)","v":""}]
[{"$f":"IF(ISBLANK(Rådata!A589)=TRUE,\"\",Rådata!A589)","v":""},{"$f":"IF(ISBLANK(Rådata!A589)=TRUE,\"\",YEAR(A589))","v":""},{"$f":"IF(ISBLANK(Rådata!A589)=TRUE,\"\",VLOOKUP(MONTH(A589),Opsætning!$G$3:$H$14,2,FALSE))","v":""},{"$f":"IF(ISBLANK(Rådata!B589)=TRUE,\"\",(Rådata!C589*100)/Rådata!B589)","v":""},{"$f":"IF(ISBLANK(Rådata!D589)=TRUE,\"\",((Rådata!D589-Rådata!E589)*100)/Rådata!D589)","v":""},{"$f":"IF(ISBLANK(Rådata!G589)=TRUE,\"\",(Rådata!F589*100)/Rådata!G589)","v":""},{"$f":"IF(ISBLANK(Rådata!K589),\"\",(SUM(Rådata!M589:P589)*100)/SUM(Rådata!H589:K589))","v":""},{"$f":"IF(ISBLANK(Rådata!H589),\"\",((SUM(Rådata!J589:L589)-SUM(Rådata!O589:P589))*100)/SUM(Rådata!H589:L589))","v":""},{"$f":"IF(ISBLANK(Rådata!R589),\"\",(Rådata!Q589*100)/Rådata!R589)","v":""}]
[{"$f":"IF(ISBLANK(Rådata!A590)=TRUE,\"\",Rådata!A590)","v":""},{"$f":"IF(ISBLANK(Rådata!A590)=TRUE,\"\",YEAR(A590))","v":""},{"$f":"IF(ISBLANK(Rådata!A590)=TRUE,\"\",VLOOKUP(MONTH(A590),Opsætning!$G$3:$H$14,2,FALSE))","v":""},{"$f":"IF(ISBLANK(Rådata!B590)=TRUE,\"\",(Rådata!C590*100)/Rådata!B590)","v":""},{"$f":"IF(ISBLANK(Rådata!D590)=TRUE,\"\",((Rådata!D590-Rådata!E590)*100)/Rådata!D590)","v":""},{"$f":"IF(ISBLANK(Rådata!G590)=TRUE,\"\",(Rådata!F590*100)/Rådata!G590)","v":""},{"$f":"IF(ISBLANK(Rådata!K590),\"\",(SUM(Rådata!M590:P590)*100)/SUM(Rådata!H590:K590))","v":""},{"$f":"IF(ISBLANK(Rådata!H590),\"\",((SUM(Rådata!J590:L590)-SUM(Rådata!O590:P590))*100)/SUM(Rådata!H590:L590))","v":""},{"$f":"IF(ISBLANK(Rådata!R590),\"\",(Rådata!Q590*100)/Rådata!R590)","v":""}]
[{"$f":"IF(ISBLANK(Rådata!A591)=TRUE,\"\",Rådata!A591)","v":""},{"$f":"IF(ISBLANK(Rådata!A591)=TRUE,\"\",YEAR(A591))","v":""},{"$f":"IF(ISBLANK(Rådata!A591)=TRUE,\"\",VLOOKUP(MONTH(A591),Opsætning!$G$3:$H$14,2,FALSE))","v":""},{"$f":"IF(ISBLANK(Rådata!B591)=TRUE,\"\",(Rådata!C591*100)/Rådata!B591)","v":""},{"$f":"IF(ISBLANK(Rådata!D591)=TRUE,\"\",((Rådata!D591-Rådata!E591)*100)/Rådata!D591)","v":""},{"$f":"IF(ISBLANK(Rådata!G591)=TRUE,\"\",(Rådata!F591*100)/Rådata!G591)","v":""},{"$f":"IF(ISBLANK(Rådata!K591),\"\",(SUM(Rådata!M591:P591)*100)/SUM(Rådata!H591:K591))","v":""},{"$f":"IF(ISBLANK(Rådata!H591),\"\",((SUM(Rådata!J591:L591)-SUM(Rådata!O591:P591))*100)/SUM(Rådata!H591:L591))","v":""},{"$f":"IF(ISBLANK(Rådata!R591),\"\",(Rådata!Q591*100)/Rådata!R591)","v":""}]
[{"$f":"IF(ISBLANK(Rådata!A592)=TRUE,\"\",Rådata!A592)","v":""},{"$f":"IF(ISBLANK(Rådata!A592)=TRUE,\"\",YEAR(A592))","v":""},{"$f":"IF(ISBLANK(Rådata!A592)=TRUE,\"\",VLOOKUP(MONTH(A592),Opsætning!$G$3:$H$14,2,FALSE))","v":""},{"$f":"IF(ISBLANK(Rådata!B592)=TRUE,\"\",(Rådata!C592*100)/Rådata!B592)","v":""},{"$f":"IF(ISBLANK(Rådata!D592)=TRUE,\"\",((Rådata!D592-Rådata!E592)*100)/Rådata!D592)","v":""},{"$f":"IF(ISBLANK(Rådata!G592)=TRUE,\"\",(Rådata!F592*100)/Rådata!G592)","v":""},{"$f":"IF(ISBLANK(Rådata!K592),\"\",(SUM(Rådata!M592:P592)*100)/SUM(Rådata!H592:K592))","v":""},{"$f":"IF(ISBLANK(Rådata!H592),\"\",((SUM(Rådata!J592:L592)-SUM(Rådata!O592:P592))*100)/SUM(Rådata!H592:L592))","v":""},{"$f":"IF(ISBLANK(Rådata!R592),\"\",(Rådata!Q592*100)/Rådata!R592)","v":""}]
[{"$f":"IF(ISBLANK(Rådata!A593)=TRUE,\"\",Rådata!A593)","v":""},{"$f":"IF(ISBLANK(Rådata!A593)=TRUE,\"\",YEAR(A593))","v":""},{"$f":"IF(ISBLANK(Rådata!A593)=TRUE,\"\",VLOOKUP(MONTH(A593),Opsætning!$G$3:$H$14,2,FALSE))","v":""},{"$f":"IF(ISBLANK(Rådata!B593)=TRUE,\"\",(Rådata!C593*100)/Rådata!B593)","v":""},{"$f":"IF(ISBLANK(Rådata!D593)=TRUE,\"\",((Rådata!D593-Rådata!E593)*100)/Rådata!D593)","v":""},{"$f":"IF(ISBLANK(Rådata!G593)=TRUE,\"\",(Rådata!F593*100)/Rådata!G593)","v":""},{"$f":"IF(ISBLANK(Rådata!K593),\"\",(SUM(Rådata!M593:P593)*100)/SUM(Rådata!H593:K593))","v":""},{"$f":"IF(ISBLANK(Rådata!H593),\"\",((SUM(Rådata!J593:L593)-SUM(Rådata!O593:P593))*100)/SUM(Rådata!H593:L593))","v":""},{"$f":"IF(ISBLANK(Rådata!R593),\"\",(Rådata!Q593*100)/Rådata!R593)","v":""}]
[{"$f":"IF(ISBLANK(Rådata!A594)=TRUE,\"\",Rådata!A594)","v":""},{"$f":"IF(ISBLANK(Rådata!A594)=TRUE,\"\",YEAR(A594))","v":""},{"$f":"IF(ISBLANK(Rådata!A594)=TRUE,\"\",VLOOKUP(MONTH(A594),Opsætning!$G$3:$H$14,2,FALSE))","v":""},{"$f":"IF(ISBLANK(Rådata!B594)=TRUE,\"\",(Rådata!C594*100)/Rådata!B594)","v":""},{"$f":"IF(ISBLANK(Rådata!D594)=TRUE,\"\",((Rådata!D594-Rådata!E594)*100)/Rådata!D594)","v":""},{"$f":"IF(ISBLANK(Rådata!G594)=TRUE,\"\",(Rådata!F594*100)/Rådata!G594)","v":""},{"$f":"IF(ISBLANK(Rådata!K594),\"\",(SUM(Rådata!M594:P594)*100)/SUM(Rådata!H594:K594))","v":""},{"$f":"IF(ISBLANK(Rådata!H594),\"\",((SUM(Rådata!J594:L594)-SUM(Rådata!O594:P594))*100)/SUM(Rådata!H594:L594))","v":""},{"$f":"IF(ISBLANK(Rådata!R594),\"\",(Rådata!Q594*100)/Rådata!R594)","v":""}]
[{"$f":"IF(ISBLANK(Rådata!A595)=TRUE,\"\",Rådata!A595)","v":""},{"$f":"IF(ISBLANK(Rådata!A595)=TRUE,\"\",YEAR(A595))","v":""},{"$f":"IF(ISBLANK(Rådata!A595)=TRUE,\"\",VLOOKUP(MONTH(A595),Opsætning!$G$3:$H$14,2,FALSE))","v":""},{"$f":"IF(ISBLANK(Rådata!B595)=TRUE,\"\",(Rådata!C595*100)/Rådata!B595)","v":""},{"$f":"IF(ISBLANK(Rådata!D595)=TRUE,\"\",((Rådata!D595-Rådata!E595)*100)/Rådata!D595)","v":""},{"$f":"IF(ISBLANK(Rådata!G595)=TRUE,\"\",(Rådata!F595*100)/Rådata!G595)","v":""},{"$f":"IF(ISBLANK(Rådata!K595),\"\",(SUM(Rådata!M595:P595)*100)/SUM(Rådata!H595:K595))","v":""},{"$f":"IF(ISBLANK(Rådata!H595),\"\",((SUM(Rådata!J595:L595)-SUM(Rådata!O595:P595))*100)/SUM(Rådata!H595:L595))","v":""},{"$f":"IF(ISBLANK(Rådata!R595),\"\",(Rådata!Q595*100)/Rådata!R595)","v":""}]
[{"$f":"IF(ISBLANK(Rådata!A596)=TRUE,\"\",Rådata!A596)","v":""},{"$f":"IF(ISBLANK(Rådata!A596)=TRUE,\"\",YEAR(A596))","v":""},{"$f":"IF(ISBLANK(Rådata!A596)=TRUE,\"\",VLOOKUP(MONTH(A596),Opsætning!$G$3:$H$14,2,FALSE))","v":""},{"$f":"IF(ISBLANK(Rådata!B596)=TRUE,\"\",(Rådata!C596*100)/Rådata!B596)","v":""},{"$f":"IF(ISBLANK(Rådata!D596)=TRUE,\"\",((Rådata!D596-Rådata!E596)*100)/Rådata!D596)","v":""},{"$f":"IF(ISBLANK(Rådata!G596)=TRUE,\"\",(Rådata!F596*100)/Rådata!G596)","v":""},{"$f":"IF(ISBLANK(Rådata!K596),\"\",(SUM(Rådata!M596:P596)*100)/SUM(Rådata!H596:K596))","v":""},{"$f":"IF(ISBLANK(Rådata!H596),\"\",((SUM(Rådata!J596:L596)-SUM(Rådata!O596:P596))*100)/SUM(Rådata!H596:L596))","v":""},{"$f":"IF(ISBLANK(Rådata!R596),\"\",(Rådata!Q596*100)/Rådata!R596)","v":""}]
[{"$f":"IF(ISBLANK(Rådata!A597)=TRUE,\"\",Rådata!A597)","v":""},{"$f":"IF(ISBLANK(Rådata!A597)=TRUE,\"\",YEAR(A597))","v":""},{"$f":"IF(ISBLANK(Rådata!A597)=TRUE,\"\",VLOOKUP(MONTH(A597),Opsætning!$G$3:$H$14,2,FALSE))","v":""},{"$f":"IF(ISBLANK(Rådata!B597)=TRUE,\"\",(Rådata!C597*100)/Rådata!B597)","v":""},{"$f":"IF(ISBLANK(Rådata!D597)=TRUE,\"\",((Rådata!D597-Rådata!E597)*100)/Rådata!D597)","v":""},{"$f":"IF(ISBLANK(Rådata!G597)=TRUE,\"\",(Rådata!F597*100)/Rådata!G597)","v":""},{"$f":"IF(ISBLANK(Rådata!K597),\"\",(SUM(Rådata!M597:P597)*100)/SUM(Rådata!H597:K597))","v":""},{"$f":"IF(ISBLANK(Rådata!H597),\"\",((SUM(Rådata!J597:L597)-SUM(Rådata!O597:P597))*100)/SUM(Rådata!H597:L597))","v":""},{"$f":"IF(ISBLANK(Rådata!R597),\"\",(Rådata!Q597*100)/Rådata!R597)","v":""}]
[{"$f":"IF(ISBLANK(Rådata!A598)=TRUE,\"\",Rådata!A598)","v":""},{"$f":"IF(ISBLANK(Rådata!A598)=TRUE,\"\",YEAR(A598))","v":""},{"$f":"IF(ISBLANK(Rådata!A598)=TRUE,\"\",VLOOKUP(MONTH(A598),Opsætning!$G$3:$H$14,2,FALSE))","v":""},{"$f":"IF(ISBLANK(Rådata!B598)=TRUE,\"\",(Rådata!C598*100)/Rådata!B598)","v":""},{"$f":"IF(ISBLANK(Rådata!D598)=TRUE,\"\",((Rådata!D598-Rådata!E598)*100)/Rådata!D598)","v":""},{"$f":"IF(ISBLANK(Rådata!G598)=TRUE,\"\",(Rådata!F598*100)/Rådata!G598)","v":""},{"$f":"IF(ISBLANK(Rådata!K598),\"\",(SUM(Rådata!M598:P598)*100)/SUM(Rådata!H598:K598))","v":""},{"$f":"IF(ISBLANK(Rådata!H598),\"\",((SUM(Rådata!J598:L598)-SUM(Rådata!O598:P598))*100)/SUM(Rådata!H598:L598))","v":""},{"$f":"IF(ISBLANK(Rådata!R598),\"\",(Rådata!Q598*100)/Rådata!R598)","v":""}]
[{"$f":"IF(ISBLANK(Rådata!A599)=TRUE,\"\",Rådata!A599)","v":""},{"$f":"IF(ISBLANK(Rådata!A599)=TRUE,\"\",YEAR(A599))","v":""},{"$f":"IF(ISBLANK(Rådata!A599)=TRUE,\"\",VLOOKUP(MONTH(A599),Opsætning!$G$3:$H$14,2,FALSE))","v":""},{"$f":"IF(ISBLANK(Rådata!B599)=TRUE,\"\",(Rådata!C599*100)/Rådata!B599)","v":""},{"$f":"IF(ISBLANK(Rådata!D599)=TRUE,\"\",((Rådata!D599-Rådata!E599)*100)/Rådata!D599)","v":""},{"$f":"IF(ISBLANK(Rådata!G599)=TRUE,\"\",(Rådata!F599*100)/Rådata!G599)","v":""},{"$f":"IF(ISBLANK(Rådata!K599),\"\",(SUM(Rådata!M599:P599)*100)/SUM(Rådata!H599:K599))","v":""},{"$f":"IF(ISBLANK(Rådata!H599),\"\",((SUM(Rådata!J599:L599)-SUM(Rådata!O599:P599))*100)/SUM(Rådata!H599:L599))","v":""},{"$f":"IF(ISBLANK(Rådata!R599),\"\",(Rådata!Q599*100)/Rådata!R599)","v":""}]
[{"$f":"IF(ISBLANK(Rådata!A600)=TRUE,\"\",Rådata!A600)","v":""},{"$f":"IF(ISBLANK(Rådata!A600)=TRUE,\"\",YEAR(A600))","v":""},{"$f":"IF(ISBLANK(Rådata!A600)=TRUE,\"\",VLOOKUP(MONTH(A600),Opsætning!$G$3:$H$14,2,FALSE))","v":""},{"$f":"IF(ISBLANK(Rådata!B600)=TRUE,\"\",(Rådata!C600*100)/Rådata!B600)","v":""},{"$f":"IF(ISBLANK(Rådata!D600)=TRUE,\"\",((Rådata!D600-Rådata!E600)*100)/Rådata!D600)","v":""},{"$f":"IF(ISBLANK(Rådata!G600)=TRUE,\"\",(Rådata!F600*100)/Rådata!G600)","v":""},{"$f":"IF(ISBLANK(Rådata!K600),\"\",(SUM(Rådata!M600:P600)*100)/SUM(Rådata!H600:K600))","v":""},{"$f":"IF(ISBLANK(Rådata!H600),\"\",((SUM(Rådata!J600:L600)-SUM(Rådata!O600:P600))*100)/SUM(Rådata!H600:L600))","v":""},{"$f":"IF(ISBLANK(Rådata!R600),\"\",(Rådata!Q600*100)/Rådata!R600)","v":""}]
[{"$f":"IF(ISBLANK(Rådata!A601)=TRUE,\"\",Rådata!A601)","v":""},{"$f":"IF(ISBLANK(Rådata!A601)=TRUE,\"\",YEAR(A601))","v":""},{"$f":"IF(ISBLANK(Rådata!A601)=TRUE,\"\",VLOOKUP(MONTH(A601),Opsætning!$G$3:$H$14,2,FALSE))","v":""},{"$f":"IF(ISBLANK(Rådata!B601)=TRUE,\"\",(Rådata!C601*100)/Rådata!B601)","v":""},{"$f":"IF(ISBLANK(Rådata!D601)=TRUE,\"\",((Rådata!D601-Rådata!E601)*100)/Rådata!D601)","v":""},{"$f":"IF(ISBLANK(Rådata!G601)=TRUE,\"\",(Rådata!F601*100)/Rådata!G601)","v":""},{"$f":"IF(ISBLANK(Rådata!K601),\"\",(SUM(Rådata!M601:P601)*100)/SUM(Rådata!H601:K601))","v":""},{"$f":"IF(ISBLANK(Rådata!H601),\"\",((SUM(Rådata!J601:L601)-SUM(Rådata!O601:P601))*100)/SUM(Rådata!H601:L601))","v":""},{"$f":"IF(ISBLANK(Rådata!R601),\"\",(Rådata!Q601*100)/Rådata!R601)","v":""}]
[{"$f":"IF(ISBLANK(Rådata!A602)=TRUE,\"\",Rådata!A602)","v":""},{"$f":"IF(ISBLANK(Rådata!A602)=TRUE,\"\",YEAR(A602))","v":""},{"$f":"IF(ISBLANK(Rådata!A602)=TRUE,\"\",VLOOKUP(MONTH(A602),Opsætning!$G$3:$H$14,2,FALSE))","v":""},{"$f":"IF(ISBLANK(Rådata!B602)=TRUE,\"\",(Rådata!C602*100)/Rådata!B602)","v":""},{"$f":"IF(ISBLANK(Rådata!D602)=TRUE,\"\",((Rådata!D602-Rådata!E602)*100)/Rådata!D602)","v":""},{"$f":"IF(ISBLANK(Rådata!G602)=TRUE,\"\",(Rådata!F602*100)/Rådata!G602)","v":""},{"$f":"IF(ISBLANK(Rådata!K602),\"\",(SUM(Rådata!M602:P602)*100)/SUM(Rådata!H602:K602))","v":""},{"$f":"IF(ISBLANK(Rådata!H602),\"\",((SUM(Rådata!J602:L602)-SUM(Rådata!O602:P602))*100)/SUM(Rådata!H602:L602))","v":""},{"$f":"IF(ISBLANK(Rådata!R602),\"\",(Rådata!Q602*100)/Rådata!R602)","v":""}]
[{"$f":"IF(ISBLANK(Rådata!A603)=TRUE,\"\",Rådata!A603)","v":""},{"$f":"IF(ISBLANK(Rådata!A603)=TRUE,\"\",YEAR(A603))","v":""},{"$f":"IF(ISBLANK(Rådata!A603)=TRUE,\"\",VLOOKUP(MONTH(A603),Opsætning!$G$3:$H$14,2,FALSE))","v":""},{"$f":"IF(ISBLANK(Rådata!B603)=TRUE,\"\",(Rådata!C603*100)/Rådata!B603)","v":""},{"$f":"IF(ISBLANK(Rådata!D603)=TRUE,\"\",((Rådata!D603-Rådata!E603)*100)/Rådata!D603)","v":""},{"$f":"IF(ISBLANK(Rådata!G603)=TRUE,\"\",(Rådata!F603*100)/Rådata!G603)","v":""},{"$f":"IF(ISBLANK(Rådata!K603),\"\",(SUM(Rådata!M603:P603)*100)/SUM(Rådata!H603:K603))","v":""},{"$f":"IF(ISBLANK(Rådata!H603),\"\",((SUM(Rådata!J603:L603)-SUM(Rådata!O603:P603))*100)/SUM(Rådata!H603:L603))","v":""},{"$f":"IF(ISBLANK(Rådata!R603),\"\",(Rådata!Q603*100)/Rådata!R603)","v":""}]
[{"$f":"IF(ISBLANK(Rådata!A604)=TRUE,\"\",Rådata!A604)","v":""},{"$f":"IF(ISBLANK(Rådata!A604)=TRUE,\"\",YEAR(A604))","v":""},{"$f":"IF(ISBLANK(Rådata!A604)=TRUE,\"\",VLOOKUP(MONTH(A604),Opsætning!$G$3:$H$14,2,FALSE))","v":""},{"$f":"IF(ISBLANK(Rådata!B604)=TRUE,\"\",(Rådata!C604*100)/Rådata!B604)","v":""},{"$f":"IF(ISBLANK(Rådata!D604)=TRUE,\"\",((Rådata!D604-Rådata!E604)*100)/Rådata!D604)","v":""},{"$f":"IF(ISBLANK(Rådata!G604)=TRUE,\"\",(Rådata!F604*100)/Rådata!G604)","v":""},{"$f":"IF(ISBLANK(Rådata!K604),\"\",(SUM(Rådata!M604:P604)*100)/SUM(Rådata!H604:K604))","v":""},{"$f":"IF(ISBLANK(Rådata!H604),\"\",((SUM(Rådata!J604:L604)-SUM(Rådata!O604:P604))*100)/SUM(Rådata!H604:L604))","v":""},{"$f":"IF(ISBLANK(Rådata!R604),\"\",(Rådata!Q604*100)/Rådata!R604)","v":""}]
[{"$f":"IF(ISBLANK(Rådata!A605)=TRUE,\"\",Rådata!A605)","v":""},{"$f":"IF(ISBLANK(Rådata!A605)=TRUE,\"\",YEAR(A605))","v":""},{"$f":"IF(ISBLANK(Rådata!A605)=TRUE,\"\",VLOOKUP(MONTH(A605),Opsætning!$G$3:$H$14,2,FALSE))","v":""},{"$f":"IF(ISBLANK(Rådata!B605)=TRUE,\"\",(Rådata!C605*100)/Rådata!B605)","v":""},{"$f":"IF(ISBLANK(Rådata!D605)=TRUE,\"\",((Rådata!D605-Rådata!E605)*100)/Rådata!D605)","v":""},{"$f":"IF(ISBLANK(Rådata!G605)=TRUE,\"\",(Rådata!F605*100)/Rådata!G605)","v":""},{"$f":"IF(ISBLANK(Rådata!K605),\"\",(SUM(Rådata!M605:P605)*100)/SUM(Rådata!H605:K605))","v":""},{"$f":"IF(ISBLANK(Rådata!H605),\"\",((SUM(Rådata!J605:L605)-SUM(Rådata!O605:P605))*100)/SUM(Rådata!H605:L605))","v":""},{"$f":"IF(ISBLANK(Rådata!R605),\"\",(Rådata!Q605*100)/Rådata!R605)","v":""}]
[{"$f":"IF(ISBLANK(Rådata!A606)=TRUE,\"\",Rådata!A606)","v":""},{"$f":"IF(ISBLANK(Rådata!A606)=TRUE,\"\",YEAR(A606))","v":""},{"$f":"IF(ISBLANK(Rådata!A606)=TRUE,\"\",VLOOKUP(MONTH(A606),Opsætning!$G$3:$H$14,2,FALSE))","v":""},{"$f":"IF(ISBLANK(Rådata!B606)=TRUE,\"\",(Rådata!C606*100)/Rådata!B606)","v":""},{"$f":"IF(ISBLANK(Rådata!D606)=TRUE,\"\",((Rådata!D606-Rådata!E606)*100)/Rådata!D606)","v":""},{"$f":"IF(ISBLANK(Rådata!G606)=TRUE,\"\",(Rådata!F606*100)/Rådata!G606)","v":""},{"$f":"IF(ISBLANK(Rådata!K606),\"\",(SUM(Rådata!M606:P606)*100)/SUM(Rådata!H606:K606))","v":""},{"$f":"IF(ISBLANK(Rådata!H606),\"\",((SUM(Rådata!J606:L606)-SUM(Rådata!O606:P606))*100)/SUM(Rådata!H606:L606))","v":""},{"$f":"IF(ISBLANK(Rådata!R606),\"\",(Rådata!Q606*100)/Rådata!R606)","v":""}]
[{"$f":"IF(ISBLANK(Rådata!A607)=TRUE,\"\",Rådata!A607)","v":""},{"$f":"IF(ISBLANK(Rådata!A607)=TRUE,\"\",YEAR(A607))","v":""},{"$f":"IF(ISBLANK(Rådata!A607)=TRUE,\"\",VLOOKUP(MONTH(A607),Opsætning!$G$3:$H$14,2,FALSE))","v":""},{"$f":"IF(ISBLANK(Rådata!B607)=TRUE,\"\",(Rådata!C607*100)/Rådata!B607)","v":""},{"$f":"IF(ISBLANK(Rådata!D607)=TRUE,\"\",((Rådata!D607-Rådata!E607)*100)/Rådata!D607)","v":""},{"$f":"IF(ISBLANK(Rådata!G607)=TRUE,\"\",(Rådata!F607*100)/Rådata!G607)","v":""},{"$f":"IF(ISBLANK(Rådata!K607),\"\",(SUM(Rådata!M607:P607)*100)/SUM(Rådata!H607:K607))","v":""},{"$f":"IF(ISBLANK(Rådata!H607),\"\",((SUM(Rådata!J607:L607)-SUM(Rådata!O607:P607))*100)/SUM(Rådata!H607:L607))","v":""},{"$f":"IF(ISBLANK(Rådata!R607),\"\",(Rådata!Q607*100)/Rådata!R607)","v":""}]
[{"$f":"IF(ISBLANK(Rådata!A608)=TRUE,\"\",Rådata!A608)","v":""},{"$f":"IF(ISBLANK(Rådata!A608)=TRUE,\"\",YEAR(A608))","v":""},{"$f":"IF(ISBLANK(Rådata!A608)=TRUE,\"\",VLOOKUP(MONTH(A608),Opsætning!$G$3:$H$14,2,FALSE))","v":""},{"$f":"IF(ISBLANK(Rådata!B608)=TRUE,\"\",(Rådata!C608*100)/Rådata!B608)","v":""},{"$f":"IF(ISBLANK(Rådata!D608)=TRUE,\"\",((Rådata!D608-Rådata!E608)*100)/Rådata!D608)","v":""},{"$f":"IF(ISBLANK(Rådata!G608)=TRUE,\"\",(Rådata!F608*100)/Rådata!G608)","v":""},{"$f":"IF(ISBLANK(Rådata!K608),\"\",(SUM(Rådata!M608:P608)*100)/SUM(Rådata!H608:K608))","v":""},{"$f":"IF(ISBLANK(Rådata!H608),\"\",((SUM(Rådata!J608:L608)-SUM(Rådata!O608:P608))*100)/SUM(Rådata!H608:L608))","v":""},{"$f":"IF(ISBLANK(Rådata!R608),\"\",(Rådata!Q608*100)/Rådata!R608)","v":""}]
[{"$f":"IF(ISBLANK(Rådata!A609)=TRUE,\"\",Rådata!A609)","v":""},{"$f":"IF(ISBLANK(Rådata!A609)=TRUE,\"\",YEAR(A609))","v":""},{"$f":"IF(ISBLANK(Rådata!A609)=TRUE,\"\",VLOOKUP(MONTH(A609),Opsætning!$G$3:$H$14,2,FALSE))","v":""},{"$f":"IF(ISBLANK(Rådata!B609)=TRUE,\"\",(Rådata!C609*100)/Rådata!B609)","v":""},{"$f":"IF(ISBLANK(Rådata!D609)=TRUE,\"\",((Rådata!D609-Rådata!E609)*100)/Rådata!D609)","v":""},{"$f":"IF(ISBLANK(Rådata!G609)=TRUE,\"\",(Rådata!F609*100)/Rådata!G609)","v":""},{"$f":"IF(ISBLANK(Rådata!K609),\"\",(SUM(Rådata!M609:P609)*100)/SUM(Rådata!H609:K609))","v":""},{"$f":"IF(ISBLANK(Rådata!H609),\"\",((SUM(Rådata!J609:L609)-SUM(Rådata!O609:P609))*100)/SUM(Rådata!H609:L609))","v":""},{"$f":"IF(ISBLANK(Rådata!R609),\"\",(Rådata!Q609*100)/Rådata!R609)","v":""}]
[{"$f":"IF(ISBLANK(Rådata!A610)=TRUE,\"\",Rådata!A610)","v":""},{"$f":"IF(ISBLANK(Rådata!A610)=TRUE,\"\",YEAR(A610))","v":""},{"$f":"IF(ISBLANK(Rådata!A610)=TRUE,\"\",VLOOKUP(MONTH(A610),Opsætning!$G$3:$H$14,2,FALSE))","v":""},{"$f":"IF(ISBLANK(Rådata!B610)=TRUE,\"\",(Rådata!C610*100)/Rådata!B610)","v":""},{"$f":"IF(ISBLANK(Rådata!D610)=TRUE,\"\",((Rådata!D610-Rådata!E610)*100)/Rådata!D610)","v":""},{"$f":"IF(ISBLANK(Rådata!G610)=TRUE,\"\",(Rådata!F610*100)/Rådata!G610)","v":""},{"$f":"IF(ISBLANK(Rådata!K610),\"\",(SUM(Rådata!M610:P610)*100)/SUM(Rådata!H610:K610))","v":""},{"$f":"IF(ISBLANK(Rådata!H610),\"\",((SUM(Rådata!J610:L610)-SUM(Rådata!O610:P610))*100)/SUM(Rådata!H610:L610))","v":""},{"$f":"IF(ISBLANK(Rådata!R610),\"\",(Rådata!Q610*100)/Rådata!R610)","v":""}]
[{"$f":"IF(ISBLANK(Rådata!A611)=TRUE,\"\",Rådata!A611)","v":""},{"$f":"IF(ISBLANK(Rådata!A611)=TRUE,\"\",YEAR(A611))","v":""},{"$f":"IF(ISBLANK(Rådata!A611)=TRUE,\"\",VLOOKUP(MONTH(A611),Opsætning!$G$3:$H$14,2,FALSE))","v":""},{"$f":"IF(ISBLANK(Rådata!B611)=TRUE,\"\",(Rådata!C611*100)/Rådata!B611)","v":""},{"$f":"IF(ISBLANK(Rådata!D611)=TRUE,\"\",((Rådata!D611-Rådata!E611)*100)/Rådata!D611)","v":""},{"$f":"IF(ISBLANK(Rådata!G611)=TRUE,\"\",(Rådata!F611*100)/Rådata!G611)","v":""},{"$f":"IF(ISBLANK(Rådata!K611),\"\",(SUM(Rådata!M611:P611)*100)/SUM(Rådata!H611:K611))","v":""},{"$f":"IF(ISBLANK(Rådata!H611),\"\",((SUM(Rådata!J611:L611)-SUM(Rådata!O611:P611))*100)/SUM(Rådata!H611:L611))","v":""},{"$f":"IF(ISBLANK(Rådata!R611),\"\",(Rådata!Q611*100)/Rådata!R611)","v":""}]
[{"$f":"IF(ISBLANK(Rådata!A612)=TRUE,\"\",Rådata!A612)","v":""},{"$f":"IF(ISBLANK(Rådata!A612)=TRUE,\"\",YEAR(A612))","v":""},{"$f":"IF(ISBLANK(Rådata!A612)=TRUE,\"\",VLOOKUP(MONTH(A612),Opsætning!$G$3:$H$14,2,FALSE))","v":""},{"$f":"IF(ISBLANK(Rådata!B612)=TRUE,\"\",(Rådata!C612*100)/Rådata!B612)","v":""},{"$f":"IF(ISBLANK(Rådata!D612)=TRUE,\"\",((Rådata!D612-Rådata!E612)*100)/Rådata!D612)","v":""},{"$f":"IF(ISBLANK(Rådata!G612)=TRUE,\"\",(Rådata!F612*100)/Rådata!G612)","v":""},{"$f":"IF(ISBLANK(Rådata!K612),\"\",(SUM(Rådata!M612:P612)*100)/SUM(Rådata!H612:K612))","v":""},{"$f":"IF(ISBLANK(Rådata!H612),\"\",((SUM(Rådata!J612:L612)-SUM(Rådata!O612:P612))*100)/SUM(Rådata!H612:L612))","v":""},{"$f":"IF(ISBLANK(Rådata!R612),\"\",(Rådata!Q612*100)/Rådata!R612)","v":""}]
[{"$f":"IF(ISBLANK(Rådata!A613)=TRUE,\"\",Rådata!A613)","v":""},{"$f":"IF(ISBLANK(Rådata!A613)=TRUE,\"\",YEAR(A613))","v":""},{"$f":"IF(ISBLANK(Rådata!A613)=TRUE,\"\",VLOOKUP(MONTH(A613),Opsætning!$G$3:$H$14,2,FALSE))","v":""},{"$f":"IF(ISBLANK(Rådata!B613)=TRUE,\"\",(Rådata!C613*100)/Rådata!B613)","v":""},{"$f":"IF(ISBLANK(Rådata!D613)=TRUE,\"\",((Rådata!D613-Rådata!E613)*100)/Rådata!D613)","v":""},{"$f":"IF(ISBLANK(Rådata!G613)=TRUE,\"\",(Rådata!F613*100)/Rådata!G613)","v":""},{"$f":"IF(ISBLANK(Rådata!K613),\"\",(SUM(Rådata!M613:P613)*100)/SUM(Rådata!H613:K613))","v":""},{"$f":"IF(ISBLANK(Rådata!H613),\"\",((SUM(Rådata!J613:L613)-SUM(Rådata!O613:P613))*100)/SUM(Rådata!H613:L613))","v":""},{"$f":"IF(ISBLANK(Rådata!R613),\"\",(Rådata!Q613*100)/Rådata!R613)","v":""}]
[{"$f":"IF(ISBLANK(Rådata!A614)=TRUE,\"\",Rådata!A614)","v":""},{"$f":"IF(ISBLANK(Rådata!A614)=TRUE,\"\",YEAR(A614))","v":""},{"$f":"IF(ISBLANK(Rådata!A614)=TRUE,\"\",VLOOKUP(MONTH(A614),Opsætning!$G$3:$H$14,2,FALSE))","v":""},{"$f":"IF(ISBLANK(Rådata!B614)=TRUE,\"\",(Rådata!C614*100)/Rådata!B614)","v":""},{"$f":"IF(ISBLANK(Rådata!D614)=TRUE,\"\",((Rådata!D614-Rådata!E614)*100)/Rådata!D614)","v":""},{"$f":"IF(ISBLANK(Rådata!G614)=TRUE,\"\",(Rådata!F614*100)/Rådata!G614)","v":""},{"$f":"IF(ISBLANK(Rådata!K614),\"\",(SUM(Rådata!M614:P614)*100)/SUM(Rådata!H614:K614))","v":""},{"$f":"IF(ISBLANK(Rådata!H614),\"\",((SUM(Rådata!J614:L614)-SUM(Rådata!O614:P614))*100)/SUM(Rådata!H614:L614))","v":""},{"$f":"IF(ISBLANK(Rådata!R614),\"\",(Rådata!Q614*100)/Rådata!R614)","v":""}]
[{"$f":"IF(ISBLANK(Rådata!A615)=TRUE,\"\",Rådata!A615)","v":""},{"$f":"IF(ISBLANK(Rådata!A615)=TRUE,\"\",YEAR(A615))","v":""},{"$f":"IF(ISBLANK(Rådata!A615)=TRUE,\"\",VLOOKUP(MONTH(A615),Opsætning!$G$3:$H$14,2,FALSE))","v":""},{"$f":"IF(ISBLANK(Rådata!B615)=TRUE,\"\",(Rådata!C615*100)/Rådata!B615)","v":""},{"$f":"IF(ISBLANK(Rådata!D615)=TRUE,\"\",((Rådata!D615-Rådata!E615)*100)/Rådata!D615)","v":""},{"$f":"IF(ISBLANK(Rådata!G615)=TRUE,\"\",(Rådata!F615*100)/Rådata!G615)","v":""},{"$f":"IF(ISBLANK(Rådata!K615),\"\",(SUM(Rådata!M615:P615)*100)/SUM(Rådata!H615:K615))","v":""},{"$f":"IF(ISBLANK(Rådata!H615),\"\",((SUM(Rådata!J615:L615)-SUM(Rådata!O615:P615))*100)/SUM(Rådata!H615:L615))","v":""},{"$f":"IF(ISBLANK(Rådata!R615),\"\",(Rådata!Q615*100)/Rådata!R615)","v":""}]
[{"$f":"IF(ISBLANK(Rådata!A616)=TRUE,\"\",Rådata!A616)","v":""},{"$f":"IF(ISBLANK(Rådata!A616)=TRUE,\"\",YEAR(A616))","v":""},{"$f":"IF(ISBLANK(Rådata!A616)=TRUE,\"\",VLOOKUP(MONTH(A616),Opsætning!$G$3:$H$14,2,FALSE))","v":""},{"$f":"IF(ISBLANK(Rådata!B616)=TRUE,\"\",(Rådata!C616*100)/Rådata!B616)","v":""},{"$f":"IF(ISBLANK(Rådata!D616)=TRUE,\"\",((Rådata!D616-Rådata!E616)*100)/Rådata!D616)","v":""},{"$f":"IF(ISBLANK(Rådata!G616)=TRUE,\"\",(Rådata!F616*100)/Rådata!G616)","v":""},{"$f":"IF(ISBLANK(Rådata!K616),\"\",(SUM(Rådata!M616:P616)*100)/SUM(Rådata!H616:K616))","v":""},{"$f":"IF(ISBLANK(Rådata!H616),\"\",((SUM(Rådata!J616:L616)-SUM(Rådata!O616:P616))*100)/SUM(Rådata!H616:L616))","v":""},{"$f":"IF(ISBLANK(Rådata!R616),\"\",(Rådata!Q616*100)/Rådata!R616)","v":""}]
[{"$f":"IF(ISBLANK(Rådata!A617)=TRUE,\"\",Rådata!A617)","v":""},{"$f":"IF(ISBLANK(Rådata!A617)=TRUE,\"\",YEAR(A617))","v":""},{"$f":"IF(ISBLANK(Rådata!A617)=TRUE,\"\",VLOOKUP(MONTH(A617),Opsætning!$G$3:$H$14,2,FALSE))","v":""},{"$f":"IF(ISBLANK(Rådata!B617)=TRUE,\"\",(Rådata!C617*100)/Rådata!B617)","v":""},{"$f":"IF(ISBLANK(Rådata!D617)=TRUE,\"\",((Rådata!D617-Rådata!E617)*100)/Rådata!D617)","v":""},{"$f":"IF(ISBLANK(Rådata!G617)=TRUE,\"\",(Rådata!F617*100)/Rådata!G617)","v":""},{"$f":"IF(ISBLANK(Rådata!K617),\"\",(SUM(Rådata!M617:P617)*100)/SUM(Rådata!H617:K617))","v":""},{"$f":"IF(ISBLANK(Rådata!H617),\"\",((SUM(Rådata!J617:L617)-SUM(Rådata!O617:P617))*100)/SUM(Rådata!H617:L617))","v":""},{"$f":"IF(ISBLANK(Rådata!R617),\"\",(Rådata!Q617*100)/Rådata!R617)","v":""}]
[{"$f":"IF(ISBLANK(Rådata!A618)=TRUE,\"\",Rådata!A618)","v":""},{"$f":"IF(ISBLANK(Rådata!A618)=TRUE,\"\",YEAR(A618))","v":""},{"$f":"IF(ISBLANK(Rådata!A618)=TRUE,\"\",VLOOKUP(MONTH(A618),Opsætning!$G$3:$H$14,2,FALSE))","v":""},{"$f":"IF(ISBLANK(Rådata!B618)=TRUE,\"\",(Rådata!C618*100)/Rådata!B618)","v":""},{"$f":"IF(ISBLANK(Rådata!D618)=TRUE,\"\",((Rådata!D618-Rådata!E618)*100)/Rådata!D618)","v":""},{"$f":"IF(ISBLANK(Rådata!G618)=TRUE,\"\",(Rådata!F618*100)/Rådata!G618)","v":""},{"$f":"IF(ISBLANK(Rådata!K618),\"\",(SUM(Rådata!M618:P618)*100)/SUM(Rådata!H618:K618))","v":""},{"$f":"IF(ISBLANK(Rådata!H618),\"\",((SUM(Rådata!J618:L618)-SUM(Rådata!O618:P618))*100)/SUM(Rådata!H618:L618))","v":""},{"$f":"IF(ISBLANK(Rådata!R618),\"\",(Rådata!Q618*100)/Rådata!R618)","v":""}]
[{"$f":"IF(ISBLANK(Rådata!A619)=TRUE,\"\",Rådata!A619)","v":""},{"$f":"IF(ISBLANK(Rådata!A619)=TRUE,\"\",YEAR(A619))","v":""},{"$f":"IF(ISBLANK(Rådata!A619)=TRUE,\"\",VLOOKUP(MONTH(A619),Opsætning!$G$3:$H$14,2,FALSE))","v":""},{"$f":"IF(ISBLANK(Rådata!B619)=TRUE,\"\",(Rådata!C619*100)/Rådata!B619)","v":""},{"$f":"IF(ISBLANK(Rådata!D619)=TRUE,\"\",((Rådata!D619-Rådata!E619)*100)/Rådata!D619)","v":""},{"$f":"IF(ISBLANK(Rådata!G619)=TRUE,\"\",(Rådata!F619*100)/Rådata!G619)","v":""},{"$f":"IF(ISBLANK(Rådata!K619),\"\",(SUM(Rådata!M619:P619)*100)/SUM(Rådata!H619:K619))","v":""},{"$f":"IF(ISBLANK(Rådata!H619),\"\",((SUM(Rådata!J619:L619)-SUM(Rådata!O619:P619))*100)/SUM(Rådata!H619:L619))","v":""},{"$f":"IF(ISBLANK(Rådata!R619),\"\",(Rådata!Q619*100)/Rådata!R619)","v":""}]
[{"$f":"IF(ISBLANK(Rådata!A620)=TRUE,\"\",Rådata!A620)","v":""},{"$f":"IF(ISBLANK(Rådata!A620)=TRUE,\"\",YEAR(A620))","v":""},{"$f":"IF(ISBLANK(Rådata!A620)=TRUE,\"\",VLOOKUP(MONTH(A620),Opsætning!$G$3:$H$14,2,FALSE))","v":""},{"$f":"IF(ISBLANK(Rådata!B620)=TRUE,\"\",(Rådata!C620*100)/Rådata!B620)","v":""},{"$f":"IF(ISBLANK(Rådata!D620)=TRUE,\"\",((Rådata!D620-Rådata!E620)*100)/Rådata!D620)","v":""},{"$f":"IF(ISBLANK(Rådata!G620)=TRUE,\"\",(Rådata!F620*100)/Rådata!G620)","v":""},{"$f":"IF(ISBLANK(Rådata!K620),\"\",(SUM(Rådata!M620:P620)*100)/SUM(Rådata!H620:K620))","v":""},{"$f":"IF(ISBLANK(Rådata!H620),\"\",((SUM(Rådata!J620:L620)-SUM(Rådata!O620:P620))*100)/SUM(Rådata!H620:L620))","v":""},{"$f":"IF(ISBLANK(Rådata!R620),\"\",(Rådata!Q620*100)/Rådata!R620)","v":""}]
[{"$f":"IF(ISBLANK(Rådata!A621)=TRUE,\"\",Rådata!A621)","v":""},{"$f":"IF(ISBLANK(Rådata!A621)=TRUE,\"\",YEAR(A621))","v":""},{"$f":"IF(ISBLANK(Rådata!A621)=TRUE,\"\",VLOOKUP(MONTH(A621),Opsætning!$G$3:$H$14,2,FALSE))","v":""},{"$f":"IF(ISBLANK(Rådata!B621)=TRUE,\"\",(Rådata!C621*100)/Rådata!B621)","v":""},{"$f":"IF(ISBLANK(Rådata!D621)=TRUE,\"\",((Rådata!D621-Rådata!E621)*100)/Rådata!D621)","v":""},{"$f":"IF(ISBLANK(Rådata!G621)=TRUE,\"\",(Rådata!F621*100)/Rådata!G621)","v":""},{"$f":"IF(ISBLANK(Rådata!K621),\"\",(SUM(Rådata!M621:P621)*100)/SUM(Rådata!H621:K621))","v":""},{"$f":"IF(ISBLANK(Rådata!H621),\"\",((SUM(Rådata!J621:L621)-SUM(Rådata!O621:P621))*100)/SUM(Rådata!H621:L621))","v":""},{"$f":"IF(ISBLANK(Rådata!R621),\"\",(Rådata!Q621*100)/Rådata!R621)","v":""}]
[{"$f":"IF(ISBLANK(Rådata!A622)=TRUE,\"\",Rådata!A622)","v":""},{"$f":"IF(ISBLANK(Rådata!A622)=TRUE,\"\",YEAR(A622))","v":""},{"$f":"IF(ISBLANK(Rådata!A622)=TRUE,\"\",VLOOKUP(MONTH(A622),Opsætning!$G$3:$H$14,2,FALSE))","v":""},{"$f":"IF(ISBLANK(Rådata!B622)=TRUE,\"\",(Rådata!C622*100)/Rådata!B622)","v":""},{"$f":"IF(ISBLANK(Rådata!D622)=TRUE,\"\",((Rådata!D622-Rådata!E622)*100)/Rådata!D622)","v":""},{"$f":"IF(ISBLANK(Rådata!G622)=TRUE,\"\",(Rådata!F622*100)/Rådata!G622)","v":""},{"$f":"IF(ISBLANK(Rådata!K622),\"\",(SUM(Rådata!M622:P622)*100)/SUM(Rådata!H622:K622))","v":""},{"$f":"IF(ISBLANK(Rådata!H622),\"\",((SUM(Rådata!J622:L622)-SUM(Rådata!O622:P622))*100)/SUM(Rådata!H622:L622))","v":""},{"$f":"IF(ISBLANK(Rådata!R622),\"\",(Rådata!Q622*100)/Rådata!R622)","v":""}]
[{"$f":"IF(ISBLANK(Rådata!A623)=TRUE,\"\",Rådata!A623)","v":""},{"$f":"IF(ISBLANK(Rådata!A623)=TRUE,\"\",YEAR(A623))","v":""},{"$f":"IF(ISBLANK(Rådata!A623)=TRUE,\"\",VLOOKUP(MONTH(A623),Opsætning!$G$3:$H$14,2,FALSE))","v":""},{"$f":"IF(ISBLANK(Rådata!B623)=TRUE,\"\",(Rådata!C623*100)/Rådata!B623)","v":""},{"$f":"IF(ISBLANK(Rådata!D623)=TRUE,\"\",((Rådata!D623-Rådata!E623)*100)/Rådata!D623)","v":""},{"$f":"IF(ISBLANK(Rådata!G623)=TRUE,\"\",(Rådata!F623*100)/Rådata!G623)","v":""},{"$f":"IF(ISBLANK(Rådata!K623),\"\",(SUM(Rådata!M623:P623)*100)/SUM(Rådata!H623:K623))","v":""},{"$f":"IF(ISBLANK(Rådata!H623),\"\",((SUM(Rådata!J623:L623)-SUM(Rådata!O623:P623))*100)/SUM(Rådata!H623:L623))","v":""},{"$f":"IF(ISBLANK(Rådata!R623),\"\",(Rådata!Q623*100)/Rådata!R623)","v":""}]
[{"$f":"IF(ISBLANK(Rådata!A624)=TRUE,\"\",Rådata!A624)","v":""},{"$f":"IF(ISBLANK(Rådata!A624)=TRUE,\"\",YEAR(A624))","v":""},{"$f":"IF(ISBLANK(Rådata!A624)=TRUE,\"\",VLOOKUP(MONTH(A624),Opsætning!$G$3:$H$14,2,FALSE))","v":""},{"$f":"IF(ISBLANK(Rådata!B624)=TRUE,\"\",(Rådata!C624*100)/Rådata!B624)","v":""},{"$f":"IF(ISBLANK(Rådata!D624)=TRUE,\"\",((Rådata!D624-Rådata!E624)*100)/Rådata!D624)","v":""},{"$f":"IF(ISBLANK(Rådata!G624)=TRUE,\"\",(Rådata!F624*100)/Rådata!G624)","v":""},{"$f":"IF(ISBLANK(Rådata!K624),\"\",(SUM(Rådata!M624:P624)*100)/SUM(Rådata!H624:K624))","v":""},{"$f":"IF(ISBLANK(Rådata!H624),\"\",((SUM(Rådata!J624:L624)-SUM(Rådata!O624:P624))*100)/SUM(Rådata!H624:L624))","v":""},{"$f":"IF(ISBLANK(Rådata!R624),\"\",(Rådata!Q624*100)/Rådata!R624)","v":""}]
[{"$f":"IF(ISBLANK(Rådata!A625)=TRUE,\"\",Rådata!A625)","v":""},{"$f":"IF(ISBLANK(Rådata!A625)=TRUE,\"\",YEAR(A625))","v":""},{"$f":"IF(ISBLANK(Rådata!A625)=TRUE,\"\",VLOOKUP(MONTH(A625),Opsætning!$G$3:$H$14,2,FALSE))","v":""},{"$f":"IF(ISBLANK(Rådata!B625)=TRUE,\"\",(Rådata!C625*100)/Rådata!B625)","v":""},{"$f":"IF(ISBLANK(Rådata!D625)=TRUE,\"\",((Rådata!D625-Rådata!E625)*100)/Rådata!D625)","v":""},{"$f":"IF(ISBLANK(Rådata!G625)=TRUE,\"\",(Rådata!F625*100)/Rådata!G625)","v":""},{"$f":"IF(ISBLANK(Rådata!K625),\"\",(SUM(Rådata!M625:P625)*100)/SUM(Rådata!H625:K625))","v":""},{"$f":"IF(ISBLANK(Rådata!H625),\"\",((SUM(Rådata!J625:L625)-SUM(Rådata!O625:P625))*100)/SUM(Rådata!H625:L625))","v":""},{"$f":"IF(ISBLANK(Rådata!R625),\"\",(Rådata!Q625*100)/Rådata!R625)","v":""}]
[{"$f":"IF(ISBLANK(Rådata!A626)=TRUE,\"\",Rådata!A626)","v":""},{"$f":"IF(ISBLANK(Rådata!A626)=TRUE,\"\",YEAR(A626))","v":""},{"$f":"IF(ISBLANK(Rådata!A626)=TRUE,\"\",VLOOKUP(MONTH(A626),Opsætning!$G$3:$H$14,2,FALSE))","v":""},{"$f":"IF(ISBLANK(Rådata!B626)=TRUE,\"\",(Rådata!C626*100)/Rådata!B626)","v":""},{"$f":"IF(ISBLANK(Rådata!D626)=TRUE,\"\",((Rådata!D626-Rådata!E626)*100)/Rådata!D626)","v":""},{"$f":"IF(ISBLANK(Rådata!G626)=TRUE,\"\",(Rådata!F626*100)/Rådata!G626)","v":""},{"$f":"IF(ISBLANK(Rådata!K626),\"\",(SUM(Rådata!M626:P626)*100)/SUM(Rådata!H626:K626))","v":""},{"$f":"IF(ISBLANK(Rådata!H626),\"\",((SUM(Rådata!J626:L626)-SUM(Rådata!O626:P626))*100)/SUM(Rådata!H626:L626))","v":""},{"$f":"IF(ISBLANK(Rådata!R626),\"\",(Rådata!Q626*100)/Rådata!R626)","v":""}]
[{"$f":"IF(ISBLANK(Rådata!A627)=TRUE,\"\",Rådata!A627)","v":""},{"$f":"IF(ISBLANK(Rådata!A627)=TRUE,\"\",YEAR(A627))","v":""},{"$f":"IF(ISBLANK(Rådata!A627)=TRUE,\"\",VLOOKUP(MONTH(A627),Opsætning!$G$3:$H$14,2,FALSE))","v":""},{"$f":"IF(ISBLANK(Rådata!B627)=TRUE,\"\",(Rådata!C627*100)/Rådata!B627)","v":""},{"$f":"IF(ISBLANK(Rådata!D627)=TRUE,\"\",((Rådata!D627-Rådata!E627)*100)/Rådata!D627)","v":""},{"$f":"IF(ISBLANK(Rådata!G627)=TRUE,\"\",(Rådata!F627*100)/Rådata!G627)","v":""},{"$f":"IF(ISBLANK(Rådata!K627),\"\",(SUM(Rådata!M627:P627)*100)/SUM(Rådata!H627:K627))","v":""},{"$f":"IF(ISBLANK(Rådata!H627),\"\",((SUM(Rådata!J627:L627)-SUM(Rådata!O627:P627))*100)/SUM(Rådata!H627:L627))","v":""},{"$f":"IF(ISBLANK(Rådata!R627),\"\",(Rådata!Q627*100)/Rådata!R627)","v":""}]
[{"$f":"IF(ISBLANK(Rådata!A628)=TRUE,\"\",Rådata!A628)","v":""},{"$f":"IF(ISBLANK(Rådata!A628)=TRUE,\"\",YEAR(A628))","v":""},{"$f":"IF(ISBLANK(Rådata!A628)=TRUE,\"\",VLOOKUP(MONTH(A628),Opsætning!$G$3:$H$14,2,FALSE))","v":""},{"$f":"IF(ISBLANK(Rådata!B628)=TRUE,\"\",(Rådata!C628*100)/Rådata!B628)","v":""},{"$f":"IF(ISBLANK(Rådata!D628)=TRUE,\"\",((Rådata!D628-Rådata!E628)*100)/Rådata!D628)","v":""},{"$f":"IF(ISBLANK(Rådata!G628)=TRUE,\"\",(Rådata!F628*100)/Rådata!G628)","v":""},{"$f":"IF(ISBLANK(Rådata!K628),\"\",(SUM(Rådata!M628:P628)*100)/SUM(Rådata!H628:K628))","v":""},{"$f":"IF(ISBLANK(Rådata!H628),\"\",((SUM(Rådata!J628:L628)-SUM(Rådata!O628:P628))*100)/SUM(Rådata!H628:L628))","v":""},{"$f":"IF(ISBLANK(Rådata!R628),\"\",(Rådata!Q628*100)/Rådata!R628)","v":""}]
[{"$f":"IF(ISBLANK(Rådata!A629)=TRUE,\"\",Rådata!A629)","v":""},{"$f":"IF(ISBLANK(Rådata!A629)=TRUE,\"\",YEAR(A629))","v":""},{"$f":"IF(ISBLANK(Rådata!A629)=TRUE,\"\",VLOOKUP(MONTH(A629),Opsætning!$G$3:$H$14,2,FALSE))","v":""},{"$f":"IF(ISBLANK(Rådata!B629)=TRUE,\"\",(Rådata!C629*100)/Rådata!B629)","v":""},{"$f":"IF(ISBLANK(Rådata!D629)=TRUE,\"\",((Rådata!D629-Rådata!E629)*100)/Rådata!D629)","v":""},{"$f":"IF(ISBLANK(Rådata!G629)=TRUE,\"\",(Rådata!F629*100)/Rådata!G629)","v":""},{"$f":"IF(ISBLANK(Rådata!K629),\"\",(SUM(Rådata!M629:P629)*100)/SUM(Rådata!H629:K629))","v":""},{"$f":"IF(ISBLANK(Rådata!H629),\"\",((SUM(Rådata!J629:L629)-SUM(Rådata!O629:P629))*100)/SUM(Rådata!H629:L629))","v":""},{"$f":"IF(ISBLANK(Rådata!R629),\"\",(Rådata!Q629*100)/Rådata!R629)","v":""}]
[{"$f":"IF(ISBLANK(Rådata!A630)=TRUE,\"\",Rådata!A630)","v":""},{"$f":"IF(ISBLANK(Rådata!A630)=TRUE,\"\",YEAR(A630))","v":""},{"$f":"IF(ISBLANK(Rådata!A630)=TRUE,\"\",VLOOKUP(MONTH(A630),Opsætning!$G$3:$H$14,2,FALSE))","v":""},{"$f":"IF(ISBLANK(Rådata!B630)=TRUE,\"\",(Rådata!C630*100)/Rådata!B630)","v":""},{"$f":"IF(ISBLANK(Rådata!D630)=TRUE,\"\",((Rådata!D630-Rådata!E630)*100)/Rådata!D630)","v":""},{"$f":"IF(ISBLANK(Rådata!G630)=TRUE,\"\",(Rådata!F630*100)/Rådata!G630)","v":""},{"$f":"IF(ISBLANK(Rådata!K630),\"\",(SUM(Rådata!M630:P630)*100)/SUM(Rådata!H630:K630))","v":""},{"$f":"IF(ISBLANK(Rådata!H630),\"\",((SUM(Rådata!J630:L630)-SUM(Rådata!O630:P630))*100)/SUM(Rådata!H630:L630))","v":""},{"$f":"IF(ISBLANK(Rådata!R630),\"\",(Rådata!Q630*100)/Rådata!R630)","v":""}]
[{"$f":"IF(ISBLANK(Rådata!A631)=TRUE,\"\",Rådata!A631)","v":""},{"$f":"IF(ISBLANK(Rådata!A631)=TRUE,\"\",YEAR(A631))","v":""},{"$f":"IF(ISBLANK(Rådata!A631)=TRUE,\"\",VLOOKUP(MONTH(A631),Opsætning!$G$3:$H$14,2,FALSE))","v":""},{"$f":"IF(ISBLANK(Rådata!B631)=TRUE,\"\",(Rådata!C631*100)/Rådata!B631)","v":""},{"$f":"IF(ISBLANK(Rådata!D631)=TRUE,\"\",((Rådata!D631-Rådata!E631)*100)/Rådata!D631)","v":""},{"$f":"IF(ISBLANK(Rådata!G631)=TRUE,\"\",(Rådata!F631*100)/Rådata!G631)","v":""},{"$f":"IF(ISBLANK(Rådata!K631),\"\",(SUM(Rådata!M631:P631)*100)/SUM(Rådata!H631:K631))","v":""},{"$f":"IF(ISBLANK(Rådata!H631),\"\",((SUM(Rådata!J631:L631)-SUM(Rådata!O631:P631))*100)/SUM(Rådata!H631:L631))","v":""},{"$f":"IF(ISBLANK(Rådata!R631),\"\",(Rådata!Q631*100)/Rådata!R631)","v":""}]
[{"$f":"IF(ISBLANK(Rådata!A632)=TRUE,\"\",Rådata!A632)","v":""},{"$f":"IF(ISBLANK(Rådata!A632)=TRUE,\"\",YEAR(A632))","v":""},{"$f":"IF(ISBLANK(Rådata!A632)=TRUE,\"\",VLOOKUP(MONTH(A632),Opsætning!$G$3:$H$14,2,FALSE))","v":""},{"$f":"IF(ISBLANK(Rådata!B632)=TRUE,\"\",(Rådata!C632*100)/Rådata!B632)","v":""},{"$f":"IF(ISBLANK(Rådata!D632)=TRUE,\"\",((Rådata!D632-Rådata!E632)*100)/Rådata!D632)","v":""},{"$f":"IF(ISBLANK(Rådata!G632)=TRUE,\"\",(Rådata!F632*100)/Rådata!G632)","v":""},{"$f":"IF(ISBLANK(Rådata!K632),\"\",(SUM(Rådata!M632:P632)*100)/SUM(Rådata!H632:K632))","v":""},{"$f":"IF(ISBLANK(Rådata!H632),\"\",((SUM(Rådata!J632:L632)-SUM(Rådata!O632:P632))*100)/SUM(Rådata!H632:L632))","v":""},{"$f":"IF(ISBLANK(Rådata!R632),\"\",(Rådata!Q632*100)/Rådata!R632)","v":""}]
[{"$f":"IF(ISBLANK(Rådata!A633)=TRUE,\"\",Rådata!A633)","v":""},{"$f":"IF(ISBLANK(Rådata!A633)=TRUE,\"\",YEAR(A633))","v":""},{"$f":"IF(ISBLANK(Rådata!A633)=TRUE,\"\",VLOOKUP(MONTH(A633),Opsætning!$G$3:$H$14,2,FALSE))","v":""},{"$f":"IF(ISBLANK(Rådata!B633)=TRUE,\"\",(Rådata!C633*100)/Rådata!B633)","v":""},{"$f":"IF(ISBLANK(Rådata!D633)=TRUE,\"\",((Rådata!D633-Rådata!E633)*100)/Rådata!D633)","v":""},{"$f":"IF(ISBLANK(Rådata!G633)=TRUE,\"\",(Rådata!F633*100)/Rådata!G633)","v":""},{"$f":"IF(ISBLANK(Rådata!K633),\"\",(SUM(Rådata!M633:P633)*100)/SUM(Rådata!H633:K633))","v":""},{"$f":"IF(ISBLANK(Rådata!H633),\"\",((SUM(Rådata!J633:L633)-SUM(Rådata!O633:P633))*100)/SUM(Rådata!H633:L633))","v":""},{"$f":"IF(ISBLANK(Rådata!R633),\"\",(Rådata!Q633*100)/Rådata!R633)","v":""}]
[{"$f":"IF(ISBLANK(Rådata!A634)=TRUE,\"\",Rådata!A634)","v":""},{"$f":"IF(ISBLANK(Rådata!A634)=TRUE,\"\",YEAR(A634))","v":""},{"$f":"IF(ISBLANK(Rådata!A634)=TRUE,\"\",VLOOKUP(MONTH(A634),Opsætning!$G$3:$H$14,2,FALSE))","v":""},{"$f":"IF(ISBLANK(Rådata!B634)=TRUE,\"\",(Rådata!C634*100)/Rådata!B634)","v":""},{"$f":"IF(ISBLANK(Rådata!D634)=TRUE,\"\",((Rådata!D634-Rådata!E634)*100)/Rådata!D634)","v":""},{"$f":"IF(ISBLANK(Rådata!G634)=TRUE,\"\",(Rådata!F634*100)/Rådata!G634)","v":""},{"$f":"IF(ISBLANK(Rådata!K634),\"\",(SUM(Rådata!M634:P634)*100)/SUM(Rådata!H634:K634))","v":""},{"$f":"IF(ISBLANK(Rådata!H634),\"\",((SUM(Rådata!J634:L634)-SUM(Rådata!O634:P634))*100)/SUM(Rådata!H634:L634))","v":""},{"$f":"IF(ISBLANK(Rådata!R634),\"\",(Rådata!Q634*100)/Rådata!R634)","v":""}]
[{"$f":"IF(ISBLANK(Rådata!A635)=TRUE,\"\",Rådata!A635)","v":""},{"$f":"IF(ISBLANK(Rådata!A635)=TRUE,\"\",YEAR(A635))","v":""},{"$f":"IF(ISBLANK(Rådata!A635)=TRUE,\"\",VLOOKUP(MONTH(A635),Opsætning!$G$3:$H$14,2,FALSE))","v":""},{"$f":"IF(ISBLANK(Rådata!B635)=TRUE,\"\",(Rådata!C635*100)/Rådata!B635)","v":""},{"$f":"IF(ISBLANK(Rådata!D635)=TRUE,\"\",((Rådata!D635-Rådata!E635)*100)/Rådata!D635)","v":""},{"$f":"IF(ISBLANK(Rådata!G635)=TRUE,\"\",(Rådata!F635*100)/Rådata!G635)","v":""},{"$f":"IF(ISBLANK(Rådata!K635),\"\",(SUM(Rådata!M635:P635)*100)/SUM(Rådata!H635:K635))","v":""},{"$f":"IF(ISBLANK(Rådata!H635),\"\",((SUM(Rådata!J635:L635)-SUM(Rådata!O635:P635))*100)/SUM(Rådata!H635:L635))","v":""},{"$f":"IF(ISBLANK(Rådata!R635),\"\",(Rådata!Q635*100)/Rådata!R635)","v":""}]
[{"$f":"IF(ISBLANK(Rådata!A636)=TRUE,\"\",Rådata!A636)","v":""},{"$f":"IF(ISBLANK(Rådata!A636)=TRUE,\"\",YEAR(A636))","v":""},{"$f":"IF(ISBLANK(Rådata!A636)=TRUE,\"\",VLOOKUP(MONTH(A636),Opsætning!$G$3:$H$14,2,FALSE))","v":""},{"$f":"IF(ISBLANK(Rådata!B636)=TRUE,\"\",(Rådata!C636*100)/Rådata!B636)","v":""},{"$f":"IF(ISBLANK(Rådata!D636)=TRUE,\"\",((Rådata!D636-Rådata!E636)*100)/Rådata!D636)","v":""},{"$f":"IF(ISBLANK(Rådata!G636)=TRUE,\"\",(Rådata!F636*100)/Rådata!G636)","v":""},{"$f":"IF(ISBLANK(Rådata!K636),\"\",(SUM(Rådata!M636:P636)*100)/SUM(Rådata!H636:K636))","v":""},{"$f":"IF(ISBLANK(Rådata!H636),\"\",((SUM(Rådata!J636:L636)-SUM(Rådata!O636:P636))*100)/SUM(Rådata!H636:L636))","v":""},{"$f":"IF(ISBLANK(Rådata!R636),\"\",(Rådata!Q636*100)/Rådata!R636)","v":""}]
[{"$f":"IF(ISBLANK(Rådata!A637)=TRUE,\"\",Rådata!A637)","v":""},{"$f":"IF(ISBLANK(Rådata!A637)=TRUE,\"\",YEAR(A637))","v":""},{"$f":"IF(ISBLANK(Rådata!A637)=TRUE,\"\",VLOOKUP(MONTH(A637),Opsætning!$G$3:$H$14,2,FALSE))","v":""},{"$f":"IF(ISBLANK(Rådata!B637)=TRUE,\"\",(Rådata!C637*100)/Rådata!B637)","v":""},{"$f":"IF(ISBLANK(Rådata!D637)=TRUE,\"\",((Rådata!D637-Rådata!E637)*100)/Rådata!D637)","v":""},{"$f":"IF(ISBLANK(Rådata!G637)=TRUE,\"\",(Rådata!F637*100)/Rådata!G637)","v":""},{"$f":"IF(ISBLANK(Rådata!K637),\"\",(SUM(Rådata!M637:P637)*100)/SUM(Rådata!H637:K637))","v":""},{"$f":"IF(ISBLANK(Rådata!H637),\"\",((SUM(Rådata!J637:L637)-SUM(Rådata!O637:P637))*100)/SUM(Rådata!H637:L637))","v":""},{"$f":"IF(ISBLANK(Rådata!R637),\"\",(Rådata!Q637*100)/Rådata!R637)","v":""}]
[{"$f":"IF(ISBLANK(Rådata!A638)=TRUE,\"\",Rådata!A638)","v":""},{"$f":"IF(ISBLANK(Rådata!A638)=TRUE,\"\",YEAR(A638))","v":""},{"$f":"IF(ISBLANK(Rådata!A638)=TRUE,\"\",VLOOKUP(MONTH(A638),Opsætning!$G$3:$H$14,2,FALSE))","v":""},{"$f":"IF(ISBLANK(Rådata!B638)=TRUE,\"\",(Rådata!C638*100)/Rådata!B638)","v":""},{"$f":"IF(ISBLANK(Rådata!D638)=TRUE,\"\",((Rådata!D638-Rådata!E638)*100)/Rådata!D638)","v":""},{"$f":"IF(ISBLANK(Rådata!G638)=TRUE,\"\",(Rådata!F638*100)/Rådata!G638)","v":""},{"$f":"IF(ISBLANK(Rådata!K638),\"\",(SUM(Rådata!M638:P638)*100)/SUM(Rådata!H638:K638))","v":""},{"$f":"IF(ISBLANK(Rådata!H638),\"\",((SUM(Rådata!J638:L638)-SUM(Rådata!O638:P638))*100)/SUM(Rådata!H638:L638))","v":""},{"$f":"IF(ISBLANK(Rådata!R638),\"\",(Rådata!Q638*100)/Rådata!R638)","v":""}]
[{"$f":"IF(ISBLANK(Rådata!A639)=TRUE,\"\",Rådata!A639)","v":""},{"$f":"IF(ISBLANK(Rådata!A639)=TRUE,\"\",YEAR(A639))","v":""},{"$f":"IF(ISBLANK(Rådata!A639)=TRUE,\"\",VLOOKUP(MONTH(A639),Opsætning!$G$3:$H$14,2,FALSE))","v":""},{"$f":"IF(ISBLANK(Rådata!B639)=TRUE,\"\",(Rådata!C639*100)/Rådata!B639)","v":""},{"$f":"IF(ISBLANK(Rådata!D639)=TRUE,\"\",((Rådata!D639-Rådata!E639)*100)/Rådata!D639)","v":""},{"$f":"IF(ISBLANK(Rådata!G639)=TRUE,\"\",(Rådata!F639*100)/Rådata!G639)","v":""},{"$f":"IF(ISBLANK(Rådata!K639),\"\",(SUM(Rådata!M639:P639)*100)/SUM(Rådata!H639:K639))","v":""},{"$f":"IF(ISBLANK(Rådata!H639),\"\",((SUM(Rådata!J639:L639)-SUM(Rådata!O639:P639))*100)/SUM(Rådata!H639:L639))","v":""},{"$f":"IF(ISBLANK(Rådata!R639),\"\",(Rådata!Q639*100)/Rådata!R639)","v":""}]
[{"$f":"IF(ISBLANK(Rådata!A640)=TRUE,\"\",Rådata!A640)","v":""},{"$f":"IF(ISBLANK(Rådata!A640)=TRUE,\"\",YEAR(A640))","v":""},{"$f":"IF(ISBLANK(Rådata!A640)=TRUE,\"\",VLOOKUP(MONTH(A640),Opsætning!$G$3:$H$14,2,FALSE))","v":""},{"$f":"IF(ISBLANK(Rådata!B640)=TRUE,\"\",(Rådata!C640*100)/Rådata!B640)","v":""},{"$f":"IF(ISBLANK(Rådata!D640)=TRUE,\"\",((Rådata!D640-Rådata!E640)*100)/Rådata!D640)","v":""},{"$f":"IF(ISBLANK(Rådata!G640)=TRUE,\"\",(Rådata!F640*100)/Rådata!G640)","v":""},{"$f":"IF(ISBLANK(Rådata!K640),\"\",(SUM(Rådata!M640:P640)*100)/SUM(Rådata!H640:K640))","v":""},{"$f":"IF(ISBLANK(Rådata!H640),\"\",((SUM(Rådata!J640:L640)-SUM(Rådata!O640:P640))*100)/SUM(Rådata!H640:L640))","v":""},{"$f":"IF(ISBLANK(Rådata!R640),\"\",(Rådata!Q640*100)/Rådata!R640)","v":""}]
[{"$f":"IF(ISBLANK(Rådata!A641)=TRUE,\"\",Rådata!A641)","v":""},{"$f":"IF(ISBLANK(Rådata!A641)=TRUE,\"\",YEAR(A641))","v":""},{"$f":"IF(ISBLANK(Rådata!A641)=TRUE,\"\",VLOOKUP(MONTH(A641),Opsætning!$G$3:$H$14,2,FALSE))","v":""},{"$f":"IF(ISBLANK(Rådata!B641)=TRUE,\"\",(Rådata!C641*100)/Rådata!B641)","v":""},{"$f":"IF(ISBLANK(Rådata!D641)=TRUE,\"\",((Rådata!D641-Rådata!E641)*100)/Rådata!D641)","v":""},{"$f":"IF(ISBLANK(Rådata!G641)=TRUE,\"\",(Rådata!F641*100)/Rådata!G641)","v":""},{"$f":"IF(ISBLANK(Rådata!K641),\"\",(SUM(Rådata!M641:P641)*100)/SUM(Rådata!H641:K641))","v":""},{"$f":"IF(ISBLANK(Rådata!H641),\"\",((SUM(Rådata!J641:L641)-SUM(Rådata!O641:P641))*100)/SUM(Rådata!H641:L641))","v":""},{"$f":"IF(ISBLANK(Rådata!R641),\"\",(Rådata!Q641*100)/Rådata!R641)","v":""}]
[{"$f":"IF(ISBLANK(Rådata!A642)=TRUE,\"\",Rådata!A642)","v":""},{"$f":"IF(ISBLANK(Rådata!A642)=TRUE,\"\",YEAR(A642))","v":""},{"$f":"IF(ISBLANK(Rådata!A642)=TRUE,\"\",VLOOKUP(MONTH(A642),Opsætning!$G$3:$H$14,2,FALSE))","v":""},{"$f":"IF(ISBLANK(Rådata!B642)=TRUE,\"\",(Rådata!C642*100)/Rådata!B642)","v":""},{"$f":"IF(ISBLANK(Rådata!D642)=TRUE,\"\",((Rådata!D642-Rådata!E642)*100)/Rådata!D642)","v":""},{"$f":"IF(ISBLANK(Rådata!G642)=TRUE,\"\",(Rådata!F642*100)/Rådata!G642)","v":""},{"$f":"IF(ISBLANK(Rådata!K642),\"\",(SUM(Rådata!M642:P642)*100)/SUM(Rådata!H642:K642))","v":""},{"$f":"IF(ISBLANK(Rådata!H642),\"\",((SUM(Rådata!J642:L642)-SUM(Rådata!O642:P642))*100)/SUM(Rådata!H642:L642))","v":""},{"$f":"IF(ISBLANK(Rådata!R642),\"\",(Rådata!Q642*100)/Rådata!R642)","v":""}]
[{"$f":"IF(ISBLANK(Rådata!A643)=TRUE,\"\",Rådata!A643)","v":""},{"$f":"IF(ISBLANK(Rådata!A643)=TRUE,\"\",YEAR(A643))","v":""},{"$f":"IF(ISBLANK(Rådata!A643)=TRUE,\"\",VLOOKUP(MONTH(A643),Opsætning!$G$3:$H$14,2,FALSE))","v":""},{"$f":"IF(ISBLANK(Rådata!B643)=TRUE,\"\",(Rådata!C643*100)/Rådata!B643)","v":""},{"$f":"IF(ISBLANK(Rådata!D643)=TRUE,\"\",((Rådata!D643-Rådata!E643)*100)/Rådata!D643)","v":""},{"$f":"IF(ISBLANK(Rådata!G643)=TRUE,\"\",(Rådata!F643*100)/Rådata!G643)","v":""},{"$f":"IF(ISBLANK(Rådata!K643),\"\",(SUM(Rådata!M643:P643)*100)/SUM(Rådata!H643:K643))","v":""},{"$f":"IF(ISBLANK(Rådata!H643),\"\",((SUM(Rådata!J643:L643)-SUM(Rådata!O643:P643))*100)/SUM(Rådata!H643:L643))","v":""},{"$f":"IF(ISBLANK(Rådata!R643),\"\",(Rådata!Q643*100)/Rådata!R643)","v":""}]
[{"$f":"IF(ISBLANK(Rådata!A644)=TRUE,\"\",Rådata!A644)","v":""},{"$f":"IF(ISBLANK(Rådata!A644)=TRUE,\"\",YEAR(A644))","v":""},{"$f":"IF(ISBLANK(Rådata!A644)=TRUE,\"\",VLOOKUP(MONTH(A644),Opsætning!$G$3:$H$14,2,FALSE))","v":""},{"$f":"IF(ISBLANK(Rådata!B644)=TRUE,\"\",(Rådata!C644*100)/Rådata!B644)","v":""},{"$f":"IF(ISBLANK(Rådata!D644)=TRUE,\"\",((Rådata!D644-Rådata!E644)*100)/Rådata!D644)","v":""},{"$f":"IF(ISBLANK(Rådata!G644)=TRUE,\"\",(Rådata!F644*100)/Rådata!G644)","v":""},{"$f":"IF(ISBLANK(Rådata!K644),\"\",(SUM(Rådata!M644:P644)*100)/SUM(Rådata!H644:K644))","v":""},{"$f":"IF(ISBLANK(Rådata!H644),\"\",((SUM(Rådata!J644:L644)-SUM(Rådata!O644:P644))*100)/SUM(Rådata!H644:L644))","v":""},{"$f":"IF(ISBLANK(Rådata!R644),\"\",(Rådata!Q644*100)/Rådata!R644)","v":""}]
[{"$f":"IF(ISBLANK(Rådata!A645)=TRUE,\"\",Rådata!A645)","v":""},{"$f":"IF(ISBLANK(Rådata!A645)=TRUE,\"\",YEAR(A645))","v":""},{"$f":"IF(ISBLANK(Rådata!A645)=TRUE,\"\",VLOOKUP(MONTH(A645),Opsætning!$G$3:$H$14,2,FALSE))","v":""},{"$f":"IF(ISBLANK(Rådata!B645)=TRUE,\"\",(Rådata!C645*100)/Rådata!B645)","v":""},{"$f":"IF(ISBLANK(Rådata!D645)=TRUE,\"\",((Rådata!D645-Rådata!E645)*100)/Rådata!D645)","v":""},{"$f":"IF(ISBLANK(Rådata!G645)=TRUE,\"\",(Rådata!F645*100)/Rådata!G645)","v":""},{"$f":"IF(ISBLANK(Rådata!K645),\"\",(SUM(Rådata!M645:P645)*100)/SUM(Rådata!H645:K645))","v":""},{"$f":"IF(ISBLANK(Rådata!H645),\"\",((SUM(Rådata!J645:L645)-SUM(Rådata!O645:P645))*100)/SUM(Rådata!H645:L645))","v":""},{"$f":"IF(ISBLANK(Rådata!R645),\"\",(Rådata!Q645*100)/Rådata!R645)","v":""}]
[{"$f":"IF(ISBLANK(Rådata!A646)=TRUE,\"\",Rådata!A646)","v":""},{"$f":"IF(ISBLANK(Rådata!A646)=TRUE,\"\",YEAR(A646))","v":""},{"$f":"IF(ISBLANK(Rådata!A646)=TRUE,\"\",VLOOKUP(MONTH(A646),Opsætning!$G$3:$H$14,2,FALSE))","v":""},{"$f":"IF(ISBLANK(Rådata!B646)=TRUE,\"\",(Rådata!C646*100)/Rådata!B646)","v":""},{"$f":"IF(ISBLANK(Rådata!D646)=TRUE,\"\",((Rådata!D646-Rådata!E646)*100)/Rådata!D646)","v":""},{"$f":"IF(ISBLANK(Rådata!G646)=TRUE,\"\",(Rådata!F646*100)/Rådata!G646)","v":""},{"$f":"IF(ISBLANK(Rådata!K646),\"\",(SUM(Rådata!M646:P646)*100)/SUM(Rådata!H646:K646))","v":""},{"$f":"IF(ISBLANK(Rådata!H646),\"\",((SUM(Rådata!J646:L646)-SUM(Rådata!O646:P646))*100)/SUM(Rådata!H646:L646))","v":""},{"$f":"IF(ISBLANK(Rådata!R646),\"\",(Rådata!Q646*100)/Rådata!R646)","v":""}]
[{"$f":"IF(ISBLANK(Rådata!A647)=TRUE,\"\",Rådata!A647)","v":""},{"$f":"IF(ISBLANK(Rådata!A647)=TRUE,\"\",YEAR(A647))","v":""},{"$f":"IF(ISBLANK(Rådata!A647)=TRUE,\"\",VLOOKUP(MONTH(A647),Opsætning!$G$3:$H$14,2,FALSE))","v":""},{"$f":"IF(ISBLANK(Rådata!B647)=TRUE,\"\",(Rådata!C647*100)/Rådata!B647)","v":""},{"$f":"IF(ISBLANK(Rådata!D647)=TRUE,\"\",((Rådata!D647-Rådata!E647)*100)/Rådata!D647)","v":""},{"$f":"IF(ISBLANK(Rådata!G647)=TRUE,\"\",(Rådata!F647*100)/Rådata!G647)","v":""},{"$f":"IF(ISBLANK(Rådata!K647),\"\",(SUM(Rådata!M647:P647)*100)/SUM(Rådata!H647:K647))","v":""},{"$f":"IF(ISBLANK(Rådata!H647),\"\",((SUM(Rådata!J647:L647)-SUM(Rådata!O647:P647))*100)/SUM(Rådata!H647:L647))","v":""},{"$f":"IF(ISBLANK(Rådata!R647),\"\",(Rådata!Q647*100)/Rådata!R647)","v":""}]
[{"$f":"IF(ISBLANK(Rådata!A648)=TRUE,\"\",Rådata!A648)","v":""},{"$f":"IF(ISBLANK(Rådata!A648)=TRUE,\"\",YEAR(A648))","v":""},{"$f":"IF(ISBLANK(Rådata!A648)=TRUE,\"\",VLOOKUP(MONTH(A648),Opsætning!$G$3:$H$14,2,FALSE))","v":""},{"$f":"IF(ISBLANK(Rådata!B648)=TRUE,\"\",(Rådata!C648*100)/Rådata!B648)","v":""},{"$f":"IF(ISBLANK(Rådata!D648)=TRUE,\"\",((Rådata!D648-Rådata!E648)*100)/Rådata!D648)","v":""},{"$f":"IF(ISBLANK(Rådata!G648)=TRUE,\"\",(Rådata!F648*100)/Rådata!G648)","v":""},{"$f":"IF(ISBLANK(Rådata!K648),\"\",(SUM(Rådata!M648:P648)*100)/SUM(Rådata!H648:K648))","v":""},{"$f":"IF(ISBLANK(Rådata!H648),\"\",((SUM(Rådata!J648:L648)-SUM(Rådata!O648:P648))*100)/SUM(Rådata!H648:L648))","v":""},{"$f":"IF(ISBLANK(Rådata!R648),\"\",(Rådata!Q648*100)/Rådata!R648)","v":""}]
[{"$f":"IF(ISBLANK(Rådata!A649)=TRUE,\"\",Rådata!A649)","v":""},{"$f":"IF(ISBLANK(Rådata!A649)=TRUE,\"\",YEAR(A649))","v":""},{"$f":"IF(ISBLANK(Rådata!A649)=TRUE,\"\",VLOOKUP(MONTH(A649),Opsætning!$G$3:$H$14,2,FALSE))","v":""},{"$f":"IF(ISBLANK(Rådata!B649)=TRUE,\"\",(Rådata!C649*100)/Rådata!B649)","v":""},{"$f":"IF(ISBLANK(Rådata!D649)=TRUE,\"\",((Rådata!D649-Rådata!E649)*100)/Rådata!D649)","v":""},{"$f":"IF(ISBLANK(Rådata!G649)=TRUE,\"\",(Rådata!F649*100)/Rådata!G649)","v":""},{"$f":"IF(ISBLANK(Rådata!K649),\"\",(SUM(Rådata!M649:P649)*100)/SUM(Rådata!H649:K649))","v":""},{"$f":"IF(ISBLANK(Rådata!H649),\"\",((SUM(Rådata!J649:L649)-SUM(Rådata!O649:P649))*100)/SUM(Rådata!H649:L649))","v":""},{"$f":"IF(ISBLANK(Rådata!R649),\"\",(Rådata!Q649*100)/Rådata!R649)","v":""}]
[{"$f":"IF(ISBLANK(Rådata!A650)=TRUE,\"\",Rådata!A650)","v":""},{"$f":"IF(ISBLANK(Rådata!A650)=TRUE,\"\",YEAR(A650))","v":""},{"$f":"IF(ISBLANK(Rådata!A650)=TRUE,\"\",VLOOKUP(MONTH(A650),Opsætning!$G$3:$H$14,2,FALSE))","v":""},{"$f":"IF(ISBLANK(Rådata!B650)=TRUE,\"\",(Rådata!C650*100)/Rådata!B650)","v":""},{"$f":"IF(ISBLANK(Rådata!D650)=TRUE,\"\",((Rådata!D650-Rådata!E650)*100)/Rådata!D650)","v":""},{"$f":"IF(ISBLANK(Rådata!G650)=TRUE,\"\",(Rådata!F650*100)/Rådata!G650)","v":""},{"$f":"IF(ISBLANK(Rådata!K650),\"\",(SUM(Rådata!M650:P650)*100)/SUM(Rådata!H650:K650))","v":""},{"$f":"IF(ISBLANK(Rådata!H650),\"\",((SUM(Rådata!J650:L650)-SUM(Rådata!O650:P650))*100)/SUM(Rådata!H650:L650))","v":""},{"$f":"IF(ISBLANK(Rådata!R650),\"\",(Rådata!Q650*100)/Rådata!R650)","v":""}]
[{"$f":"IF(ISBLANK(Rådata!A651)=TRUE,\"\",Rådata!A651)","v":""},{"$f":"IF(ISBLANK(Rådata!A651)=TRUE,\"\",YEAR(A651))","v":""},{"$f":"IF(ISBLANK(Rådata!A651)=TRUE,\"\",VLOOKUP(MONTH(A651),Opsætning!$G$3:$H$14,2,FALSE))","v":""},{"$f":"IF(ISBLANK(Rådata!B651)=TRUE,\"\",(Rådata!C651*100)/Rådata!B651)","v":""},{"$f":"IF(ISBLANK(Rådata!D651)=TRUE,\"\",((Rådata!D651-Rådata!E651)*100)/Rådata!D651)","v":""},{"$f":"IF(ISBLANK(Rådata!G651)=TRUE,\"\",(Rådata!F651*100)/Rådata!G651)","v":""},{"$f":"IF(ISBLANK(Rådata!K651),\"\",(SUM(Rådata!M651:P651)*100)/SUM(Rådata!H651:K651))","v":""},{"$f":"IF(ISBLANK(Rådata!H651),\"\",((SUM(Rådata!J651:L651)-SUM(Rådata!O651:P651))*100)/SUM(Rådata!H651:L651))","v":""},{"$f":"IF(ISBLANK(Rådata!R651),\"\",(Rådata!Q651*100)/Rådata!R651)","v":""}]
[{"$f":"IF(ISBLANK(Rådata!A652)=TRUE,\"\",Rådata!A652)","v":""},{"$f":"IF(ISBLANK(Rådata!A652)=TRUE,\"\",YEAR(A652))","v":""},{"$f":"IF(ISBLANK(Rådata!A652)=TRUE,\"\",VLOOKUP(MONTH(A652),Opsætning!$G$3:$H$14,2,FALSE))","v":""},{"$f":"IF(ISBLANK(Rådata!B652)=TRUE,\"\",(Rådata!C652*100)/Rådata!B652)","v":""},{"$f":"IF(ISBLANK(Rådata!D652)=TRUE,\"\",((Rådata!D652-Rådata!E652)*100)/Rådata!D652)","v":""},{"$f":"IF(ISBLANK(Rådata!G652)=TRUE,\"\",(Rådata!F652*100)/Rådata!G652)","v":""},{"$f":"IF(ISBLANK(Rådata!K652),\"\",(SUM(Rådata!M652:P652)*100)/SUM(Rådata!H652:K652))","v":""},{"$f":"IF(ISBLANK(Rådata!H652),\"\",((SUM(Rådata!J652:L652)-SUM(Rådata!O652:P652))*100)/SUM(Rådata!H652:L652))","v":""},{"$f":"IF(ISBLANK(Rådata!R652),\"\",(Rådata!Q652*100)/Rådata!R652)","v":""}]
[{"$f":"IF(ISBLANK(Rådata!A653)=TRUE,\"\",Rådata!A653)","v":""},{"$f":"IF(ISBLANK(Rådata!A653)=TRUE,\"\",YEAR(A653))","v":""},{"$f":"IF(ISBLANK(Rådata!A653)=TRUE,\"\",VLOOKUP(MONTH(A653),Opsætning!$G$3:$H$14,2,FALSE))","v":""},{"$f":"IF(ISBLANK(Rådata!B653)=TRUE,\"\",(Rådata!C653*100)/Rådata!B653)","v":""},{"$f":"IF(ISBLANK(Rådata!D653)=TRUE,\"\",((Rådata!D653-Rådata!E653)*100)/Rådata!D653)","v":""},{"$f":"IF(ISBLANK(Rådata!G653)=TRUE,\"\",(Rådata!F653*100)/Rådata!G653)","v":""},{"$f":"IF(ISBLANK(Rådata!K653),\"\",(SUM(Rådata!M653:P653)*100)/SUM(Rådata!H653:K653))","v":""},{"$f":"IF(ISBLANK(Rådata!H653),\"\",((SUM(Rådata!J653:L653)-SUM(Rådata!O653:P653))*100)/SUM(Rådata!H653:L653))","v":""},{"$f":"IF(ISBLANK(Rådata!R653),\"\",(Rådata!Q653*100)/Rådata!R653)","v":""}]
[{"$f":"IF(ISBLANK(Rådata!A654)=TRUE,\"\",Rådata!A654)","v":""},{"$f":"IF(ISBLANK(Rådata!A654)=TRUE,\"\",YEAR(A654))","v":""},{"$f":"IF(ISBLANK(Rådata!A654)=TRUE,\"\",VLOOKUP(MONTH(A654),Opsætning!$G$3:$H$14,2,FALSE))","v":""},{"$f":"IF(ISBLANK(Rådata!B654)=TRUE,\"\",(Rådata!C654*100)/Rådata!B654)","v":""},{"$f":"IF(ISBLANK(Rådata!D654)=TRUE,\"\",((Rådata!D654-Rådata!E654)*100)/Rådata!D654)","v":""},{"$f":"IF(ISBLANK(Rådata!G654)=TRUE,\"\",(Rådata!F654*100)/Rådata!G654)","v":""},{"$f":"IF(ISBLANK(Rådata!K654),\"\",(SUM(Rådata!M654:P654)*100)/SUM(Rådata!H654:K654))","v":""},{"$f":"IF(ISBLANK(Rådata!H654),\"\",((SUM(Rådata!J654:L654)-SUM(Rådata!O654:P654))*100)/SUM(Rådata!H654:L654))","v":""},{"$f":"IF(ISBLANK(Rådata!R654),\"\",(Rådata!Q654*100)/Rådata!R654)","v":""}]
[{"$f":"IF(ISBLANK(Rådata!A655)=TRUE,\"\",Rådata!A655)","v":""},{"$f":"IF(ISBLANK(Rådata!A655)=TRUE,\"\",YEAR(A655))","v":""},{"$f":"IF(ISBLANK(Rådata!A655)=TRUE,\"\",VLOOKUP(MONTH(A655),Opsætning!$G$3:$H$14,2,FALSE))","v":""},{"$f":"IF(ISBLANK(Rådata!B655)=TRUE,\"\",(Rådata!C655*100)/Rådata!B655)","v":""},{"$f":"IF(ISBLANK(Rådata!D655)=TRUE,\"\",((Rådata!D655-Rådata!E655)*100)/Rådata!D655)","v":""},{"$f":"IF(ISBLANK(Rådata!G655)=TRUE,\"\",(Rådata!F655*100)/Rådata!G655)","v":""},{"$f":"IF(ISBLANK(Rådata!K655),\"\",(SUM(Rådata!M655:P655)*100)/SUM(Rådata!H655:K655))","v":""},{"$f":"IF(ISBLANK(Rådata!H655),\"\",((SUM(Rådata!J655:L655)-SUM(Rådata!O655:P655))*100)/SUM(Rådata!H655:L655))","v":""},{"$f":"IF(ISBLANK(Rådata!R655),\"\",(Rådata!Q655*100)/Rådata!R655)","v":""}]
[{"$f":"IF(ISBLANK(Rådata!A656)=TRUE,\"\",Rådata!A656)","v":""},{"$f":"IF(ISBLANK(Rådata!A656)=TRUE,\"\",YEAR(A656))","v":""},{"$f":"IF(ISBLANK(Rådata!A656)=TRUE,\"\",VLOOKUP(MONTH(A656),Opsætning!$G$3:$H$14,2,FALSE))","v":""},{"$f":"IF(ISBLANK(Rådata!B656)=TRUE,\"\",(Rådata!C656*100)/Rådata!B656)","v":""},{"$f":"IF(ISBLANK(Rådata!D656)=TRUE,\"\",((Rådata!D656-Rådata!E656)*100)/Rådata!D656)","v":""},{"$f":"IF(ISBLANK(Rådata!G656)=TRUE,\"\",(Rådata!F656*100)/Rådata!G656)","v":""},{"$f":"IF(ISBLANK(Rådata!K656),\"\",(SUM(Rådata!M656:P656)*100)/SUM(Rådata!H656:K656))","v":""},{"$f":"IF(ISBLANK(Rådata!H656),\"\",((SUM(Rådata!J656:L656)-SUM(Rådata!O656:P656))*100)/SUM(Rådata!H656:L656))","v":""},{"$f":"IF(ISBLANK(Rådata!R656),\"\",(Rådata!Q656*100)/Rådata!R656)","v":""}]
[{"$f":"IF(ISBLANK(Rådata!A657)=TRUE,\"\",Rådata!A657)","v":""},{"$f":"IF(ISBLANK(Rådata!A657)=TRUE,\"\",YEAR(A657))","v":""},{"$f":"IF(ISBLANK(Rådata!A657)=TRUE,\"\",VLOOKUP(MONTH(A657),Opsætning!$G$3:$H$14,2,FALSE))","v":""},{"$f":"IF(ISBLANK(Rådata!B657)=TRUE,\"\",(Rådata!C657*100)/Rådata!B657)","v":""},{"$f":"IF(ISBLANK(Rådata!D657)=TRUE,\"\",((Rådata!D657-Rådata!E657)*100)/Rådata!D657)","v":""},{"$f":"IF(ISBLANK(Rådata!G657)=TRUE,\"\",(Rådata!F657*100)/Rådata!G657)","v":""},{"$f":"IF(ISBLANK(Rådata!K657),\"\",(SUM(Rådata!M657:P657)*100)/SUM(Rådata!H657:K657))","v":""},{"$f":"IF(ISBLANK(Rådata!H657),\"\",((SUM(Rådata!J657:L657)-SUM(Rådata!O657:P657))*100)/SUM(Rådata!H657:L657))","v":""},{"$f":"IF(ISBLANK(Rådata!R657),\"\",(Rådata!Q657*100)/Rådata!R657)","v":""}]
[{"$f":"IF(ISBLANK(Rådata!A658)=TRUE,\"\",Rådata!A658)","v":""},{"$f":"IF(ISBLANK(Rådata!A658)=TRUE,\"\",YEAR(A658))","v":""},{"$f":"IF(ISBLANK(Rådata!A658)=TRUE,\"\",VLOOKUP(MONTH(A658),Opsætning!$G$3:$H$14,2,FALSE))","v":""},{"$f":"IF(ISBLANK(Rådata!B658)=TRUE,\"\",(Rådata!C658*100)/Rådata!B658)","v":""},{"$f":"IF(ISBLANK(Rådata!D658)=TRUE,\"\",((Rådata!D658-Rådata!E658)*100)/Rådata!D658)","v":""},{"$f":"IF(ISBLANK(Rådata!G658)=TRUE,\"\",(Rådata!F658*100)/Rådata!G658)","v":""},{"$f":"IF(ISBLANK(Rådata!K658),\"\",(SUM(Rådata!M658:P658)*100)/SUM(Rådata!H658:K658))","v":""},{"$f":"IF(ISBLANK(Rådata!H658),\"\",((SUM(Rådata!J658:L658)-SUM(Rådata!O658:P658))*100)/SUM(Rådata!H658:L658))","v":""},{"$f":"IF(ISBLANK(Rådata!R658),\"\",(Rådata!Q658*100)/Rådata!R658)","v":""}]
[{"$f":"IF(ISBLANK(Rådata!A659)=TRUE,\"\",Rådata!A659)","v":""},{"$f":"IF(ISBLANK(Rådata!A659)=TRUE,\"\",YEAR(A659))","v":""},{"$f":"IF(ISBLANK(Rådata!A659)=TRUE,\"\",VLOOKUP(MONTH(A659),Opsætning!$G$3:$H$14,2,FALSE))","v":""},{"$f":"IF(ISBLANK(Rådata!B659)=TRUE,\"\",(Rådata!C659*100)/Rådata!B659)","v":""},{"$f":"IF(ISBLANK(Rådata!D659)=TRUE,\"\",((Rådata!D659-Rådata!E659)*100)/Rådata!D659)","v":""},{"$f":"IF(ISBLANK(Rådata!G659)=TRUE,\"\",(Rådata!F659*100)/Rådata!G659)","v":""},{"$f":"IF(ISBLANK(Rådata!K659),\"\",(SUM(Rådata!M659:P659)*100)/SUM(Rådata!H659:K659))","v":""},{"$f":"IF(ISBLANK(Rådata!H659),\"\",((SUM(Rådata!J659:L659)-SUM(Rådata!O659:P659))*100)/SUM(Rådata!H659:L659))","v":""},{"$f":"IF(ISBLANK(Rådata!R659),\"\",(Rådata!Q659*100)/Rådata!R659)","v":""}]
[{"$f":"IF(ISBLANK(Rådata!A660)=TRUE,\"\",Rådata!A660)","v":""},{"$f":"IF(ISBLANK(Rådata!A660)=TRUE,\"\",YEAR(A660))","v":""},{"$f":"IF(ISBLANK(Rådata!A660)=TRUE,\"\",VLOOKUP(MONTH(A660),Opsætning!$G$3:$H$14,2,FALSE))","v":""},{"$f":"IF(ISBLANK(Rådata!B660)=TRUE,\"\",(Rådata!C660*100)/Rådata!B660)","v":""},{"$f":"IF(ISBLANK(Rådata!D660)=TRUE,\"\",((Rådata!D660-Rådata!E660)*100)/Rådata!D660)","v":""},{"$f":"IF(ISBLANK(Rådata!G660)=TRUE,\"\",(Rådata!F660*100)/Rådata!G660)","v":""},{"$f":"IF(ISBLANK(Rådata!K660),\"\",(SUM(Rådata!M660:P660)*100)/SUM(Rådata!H660:K660))","v":""},{"$f":"IF(ISBLANK(Rådata!H660),\"\",((SUM(Rådata!J660:L660)-SUM(Rådata!O660:P660))*100)/SUM(Rådata!H660:L660))","v":""},{"$f":"IF(ISBLANK(Rådata!R660),\"\",(Rådata!Q660*100)/Rådata!R660)","v":""}]
[{"$f":"IF(ISBLANK(Rådata!A661)=TRUE,\"\",Rådata!A661)","v":""},{"$f":"IF(ISBLANK(Rådata!A661)=TRUE,\"\",YEAR(A661))","v":""},{"$f":"IF(ISBLANK(Rådata!A661)=TRUE,\"\",VLOOKUP(MONTH(A661),Opsætning!$G$3:$H$14,2,FALSE))","v":""},{"$f":"IF(ISBLANK(Rådata!B661)=TRUE,\"\",(Rådata!C661*100)/Rådata!B661)","v":""},{"$f":"IF(ISBLANK(Rådata!D661)=TRUE,\"\",((Rådata!D661-Rådata!E661)*100)/Rådata!D661)","v":""},{"$f":"IF(ISBLANK(Rådata!G661)=TRUE,\"\",(Rådata!F661*100)/Rådata!G661)","v":""},{"$f":"IF(ISBLANK(Rådata!K661),\"\",(SUM(Rådata!M661:P661)*100)/SUM(Rådata!H661:K661))","v":""},{"$f":"IF(ISBLANK(Rådata!H661),\"\",((SUM(Rådata!J661:L661)-SUM(Rådata!O661:P661))*100)/SUM(Rådata!H661:L661))","v":""},{"$f":"IF(ISBLANK(Rådata!R661),\"\",(Rådata!Q661*100)/Rådata!R661)","v":""}]
[{"$f":"IF(ISBLANK(Rådata!A662)=TRUE,\"\",Rådata!A662)","v":""},{"$f":"IF(ISBLANK(Rådata!A662)=TRUE,\"\",YEAR(A662))","v":""},{"$f":"IF(ISBLANK(Rådata!A662)=TRUE,\"\",VLOOKUP(MONTH(A662),Opsætning!$G$3:$H$14,2,FALSE))","v":""},{"$f":"IF(ISBLANK(Rådata!B662)=TRUE,\"\",(Rådata!C662*100)/Rådata!B662)","v":""},{"$f":"IF(ISBLANK(Rådata!D662)=TRUE,\"\",((Rådata!D662-Rådata!E662)*100)/Rådata!D662)","v":""},{"$f":"IF(ISBLANK(Rådata!G662)=TRUE,\"\",(Rådata!F662*100)/Rådata!G662)","v":""},{"$f":"IF(ISBLANK(Rådata!K662),\"\",(SUM(Rådata!M662:P662)*100)/SUM(Rådata!H662:K662))","v":""},{"$f":"IF(ISBLANK(Rådata!H662),\"\",((SUM(Rådata!J662:L662)-SUM(Rådata!O662:P662))*100)/SUM(Rådata!H662:L662))","v":""},{"$f":"IF(ISBLANK(Rådata!R662),\"\",(Rådata!Q662*100)/Rådata!R662)","v":""}]
[{"$f":"IF(ISBLANK(Rådata!A663)=TRUE,\"\",Rådata!A663)","v":""},{"$f":"IF(ISBLANK(Rådata!A663)=TRUE,\"\",YEAR(A663))","v":""},{"$f":"IF(ISBLANK(Rådata!A663)=TRUE,\"\",VLOOKUP(MONTH(A663),Opsætning!$G$3:$H$14,2,FALSE))","v":""},{"$f":"IF(ISBLANK(Rådata!B663)=TRUE,\"\",(Rådata!C663*100)/Rådata!B663)","v":""},{"$f":"IF(ISBLANK(Rådata!D663)=TRUE,\"\",((Rådata!D663-Rådata!E663)*100)/Rådata!D663)","v":""},{"$f":"IF(ISBLANK(Rådata!G663)=TRUE,\"\",(Rådata!F663*100)/Rådata!G663)","v":""},{"$f":"IF(ISBLANK(Rådata!K663),\"\",(SUM(Rådata!M663:P663)*100)/SUM(Rådata!H663:K663))","v":""},{"$f":"IF(ISBLANK(Rådata!H663),\"\",((SUM(Rådata!J663:L663)-SUM(Rådata!O663:P663))*100)/SUM(Rådata!H663:L663))","v":""},{"$f":"IF(ISBLANK(Rådata!R663),\"\",(Rådata!Q663*100)/Rådata!R663)","v":""}]
[{"$f":"IF(ISBLANK(Rådata!A664)=TRUE,\"\",Rådata!A664)","v":""},{"$f":"IF(ISBLANK(Rådata!A664)=TRUE,\"\",YEAR(A664))","v":""},{"$f":"IF(ISBLANK(Rådata!A664)=TRUE,\"\",VLOOKUP(MONTH(A664),Opsætning!$G$3:$H$14,2,FALSE))","v":""},{"$f":"IF(ISBLANK(Rådata!B664)=TRUE,\"\",(Rådata!C664*100)/Rådata!B664)","v":""},{"$f":"IF(ISBLANK(Rådata!D664)=TRUE,\"\",((Rådata!D664-Rådata!E664)*100)/Rådata!D664)","v":""},{"$f":"IF(ISBLANK(Rådata!G664)=TRUE,\"\",(Rådata!F664*100)/Rådata!G664)","v":""},{"$f":"IF(ISBLANK(Rådata!K664),\"\",(SUM(Rådata!M664:P664)*100)/SUM(Rådata!H664:K664))","v":""},{"$f":"IF(ISBLANK(Rådata!H664),\"\",((SUM(Rådata!J664:L664)-SUM(Rådata!O664:P664))*100)/SUM(Rådata!H664:L664))","v":""},{"$f":"IF(ISBLANK(Rådata!R664),\"\",(Rådata!Q664*100)/Rådata!R664)","v":""}]
[{"$f":"IF(ISBLANK(Rådata!A665)=TRUE,\"\",Rådata!A665)","v":""},{"$f":"IF(ISBLANK(Rådata!A665)=TRUE,\"\",YEAR(A665))","v":""},{"$f":"IF(ISBLANK(Rådata!A665)=TRUE,\"\",VLOOKUP(MONTH(A665),Opsætning!$G$3:$H$14,2,FALSE))","v":""},{"$f":"IF(ISBLANK(Rådata!B665)=TRUE,\"\",(Rådata!C665*100)/Rådata!B665)","v":""},{"$f":"IF(ISBLANK(Rådata!D665)=TRUE,\"\",((Rådata!D665-Rådata!E665)*100)/Rådata!D665)","v":""},{"$f":"IF(ISBLANK(Rådata!G665)=TRUE,\"\",(Rådata!F665*100)/Rådata!G665)","v":""},{"$f":"IF(ISBLANK(Rådata!K665),\"\",(SUM(Rådata!M665:P665)*100)/SUM(Rådata!H665:K665))","v":""},{"$f":"IF(ISBLANK(Rådata!H665),\"\",((SUM(Rådata!J665:L665)-SUM(Rådata!O665:P665))*100)/SUM(Rådata!H665:L665))","v":""},{"$f":"IF(ISBLANK(Rådata!R665),\"\",(Rådata!Q665*100)/Rådata!R665)","v":""}]
[{"$f":"IF(ISBLANK(Rådata!A666)=TRUE,\"\",Rådata!A666)","v":""},{"$f":"IF(ISBLANK(Rådata!A666)=TRUE,\"\",YEAR(A666))","v":""},{"$f":"IF(ISBLANK(Rådata!A666)=TRUE,\"\",VLOOKUP(MONTH(A666),Opsætning!$G$3:$H$14,2,FALSE))","v":""},{"$f":"IF(ISBLANK(Rådata!B666)=TRUE,\"\",(Rådata!C666*100)/Rådata!B666)","v":""},{"$f":"IF(ISBLANK(Rådata!D666)=TRUE,\"\",((Rådata!D666-Rådata!E666)*100)/Rådata!D666)","v":""},{"$f":"IF(ISBLANK(Rådata!G666)=TRUE,\"\",(Rådata!F666*100)/Rådata!G666)","v":""},{"$f":"IF(ISBLANK(Rådata!K666),\"\",(SUM(Rådata!M666:P666)*100)/SUM(Rådata!H666:K666))","v":""},{"$f":"IF(ISBLANK(Rådata!H666),\"\",((SUM(Rådata!J666:L666)-SUM(Rådata!O666:P666))*100)/SUM(Rådata!H666:L666))","v":""},{"$f":"IF(ISBLANK(Rådata!R666),\"\",(Rådata!Q666*100)/Rådata!R666)","v":""}]
[{"$f":"IF(ISBLANK(Rådata!A667)=TRUE,\"\",Rådata!A667)","v":""},{"$f":"IF(ISBLANK(Rådata!A667)=TRUE,\"\",YEAR(A667))","v":""},{"$f":"IF(ISBLANK(Rådata!A667)=TRUE,\"\",VLOOKUP(MONTH(A667),Opsætning!$G$3:$H$14,2,FALSE))","v":""},{"$f":"IF(ISBLANK(Rådata!B667)=TRUE,\"\",(Rådata!C667*100)/Rådata!B667)","v":""},{"$f":"IF(ISBLANK(Rådata!D667)=TRUE,\"\",((Rådata!D667-Rådata!E667)*100)/Rådata!D667)","v":""},{"$f":"IF(ISBLANK(Rådata!G667)=TRUE,\"\",(Rådata!F667*100)/Rådata!G667)","v":""},{"$f":"IF(ISBLANK(Rådata!K667),\"\",(SUM(Rådata!M667:P667)*100)/SUM(Rådata!H667:K667))","v":""},{"$f":"IF(ISBLANK(Rådata!H667),\"\",((SUM(Rådata!J667:L667)-SUM(Rådata!O667:P667))*100)/SUM(Rådata!H667:L667))","v":""},{"$f":"IF(ISBLANK(Rådata!R667),\"\",(Rådata!Q667*100)/Rådata!R667)","v":""}]
[{"$f":"IF(ISBLANK(Rådata!A668)=TRUE,\"\",Rådata!A668)","v":""},{"$f":"IF(ISBLANK(Rådata!A668)=TRUE,\"\",YEAR(A668))","v":""},{"$f":"IF(ISBLANK(Rådata!A668)=TRUE,\"\",VLOOKUP(MONTH(A668),Opsætning!$G$3:$H$14,2,FALSE))","v":""},{"$f":"IF(ISBLANK(Rådata!B668)=TRUE,\"\",(Rådata!C668*100)/Rådata!B668)","v":""},{"$f":"IF(ISBLANK(Rådata!D668)=TRUE,\"\",((Rådata!D668-Rådata!E668)*100)/Rådata!D668)","v":""},{"$f":"IF(ISBLANK(Rådata!G668)=TRUE,\"\",(Rådata!F668*100)/Rådata!G668)","v":""},{"$f":"IF(ISBLANK(Rådata!K668),\"\",(SUM(Rådata!M668:P668)*100)/SUM(Rådata!H668:K668))","v":""},{"$f":"IF(ISBLANK(Rådata!H668),\"\",((SUM(Rådata!J668:L668)-SUM(Rådata!O668:P668))*100)/SUM(Rådata!H668:L668))","v":""},{"$f":"IF(ISBLANK(Rådata!R668),\"\",(Rådata!Q668*100)/Rådata!R668)","v":""}]
[{"$f":"IF(ISBLANK(Rådata!A669)=TRUE,\"\",Rådata!A669)","v":""},{"$f":"IF(ISBLANK(Rådata!A669)=TRUE,\"\",YEAR(A669))","v":""},{"$f":"IF(ISBLANK(Rådata!A669)=TRUE,\"\",VLOOKUP(MONTH(A669),Opsætning!$G$3:$H$14,2,FALSE))","v":""},{"$f":"IF(ISBLANK(Rådata!B669)=TRUE,\"\",(Rådata!C669*100)/Rådata!B669)","v":""},{"$f":"IF(ISBLANK(Rådata!D669)=TRUE,\"\",((Rådata!D669-Rådata!E669)*100)/Rådata!D669)","v":""},{"$f":"IF(ISBLANK(Rådata!G669)=TRUE,\"\",(Rådata!F669*100)/Rådata!G669)","v":""},{"$f":"IF(ISBLANK(Rådata!K669),\"\",(SUM(Rådata!M669:P669)*100)/SUM(Rådata!H669:K669))","v":""},{"$f":"IF(ISBLANK(Rådata!H669),\"\",((SUM(Rådata!J669:L669)-SUM(Rådata!O669:P669))*100)/SUM(Rådata!H669:L669))","v":""},{"$f":"IF(ISBLANK(Rådata!R669),\"\",(Rådata!Q669*100)/Rådata!R669)","v":""}]
[{"$f":"IF(ISBLANK(Rådata!A670)=TRUE,\"\",Rådata!A670)","v":""},{"$f":"IF(ISBLANK(Rådata!A670)=TRUE,\"\",YEAR(A670))","v":""},{"$f":"IF(ISBLANK(Rådata!A670)=TRUE,\"\",VLOOKUP(MONTH(A670),Opsætning!$G$3:$H$14,2,FALSE))","v":""},{"$f":"IF(ISBLANK(Rådata!B670)=TRUE,\"\",(Rådata!C670*100)/Rådata!B670)","v":""},{"$f":"IF(ISBLANK(Rådata!D670)=TRUE,\"\",((Rådata!D670-Rådata!E670)*100)/Rådata!D670)","v":""},{"$f":"IF(ISBLANK(Rådata!G670)=TRUE,\"\",(Rådata!F670*100)/Rådata!G670)","v":""},{"$f":"IF(ISBLANK(Rådata!K670),\"\",(SUM(Rådata!M670:P670)*100)/SUM(Rådata!H670:K670))","v":""},{"$f":"IF(ISBLANK(Rådata!H670),\"\",((SUM(Rådata!J670:L670)-SUM(Rådata!O670:P670))*100)/SUM(Rådata!H670:L670))","v":""},{"$f":"IF(ISBLANK(Rådata!R670),\"\",(Rådata!Q670*100)/Rådata!R670)","v":""}]
[{"$f":"IF(ISBLANK(Rådata!A671)=TRUE,\"\",Rådata!A671)","v":""},{"$f":"IF(ISBLANK(Rådata!A671)=TRUE,\"\",YEAR(A671))","v":""},{"$f":"IF(ISBLANK(Rådata!A671)=TRUE,\"\",VLOOKUP(MONTH(A671),Opsætning!$G$3:$H$14,2,FALSE))","v":""},{"$f":"IF(ISBLANK(Rådata!B671)=TRUE,\"\",(Rådata!C671*100)/Rådata!B671)","v":""},{"$f":"IF(ISBLANK(Rådata!D671)=TRUE,\"\",((Rådata!D671-Rådata!E671)*100)/Rådata!D671)","v":""},{"$f":"IF(ISBLANK(Rådata!G671)=TRUE,\"\",(Rådata!F671*100)/Rådata!G671)","v":""},{"$f":"IF(ISBLANK(Rådata!K671),\"\",(SUM(Rådata!M671:P671)*100)/SUM(Rådata!H671:K671))","v":""},{"$f":"IF(ISBLANK(Rådata!H671),\"\",((SUM(Rådata!J671:L671)-SUM(Rådata!O671:P671))*100)/SUM(Rådata!H671:L671))","v":""},{"$f":"IF(ISBLANK(Rådata!R671),\"\",(Rådata!Q671*100)/Rådata!R671)","v":""}]
[{"$f":"IF(ISBLANK(Rådata!A672)=TRUE,\"\",Rådata!A672)","v":""},{"$f":"IF(ISBLANK(Rådata!A672)=TRUE,\"\",YEAR(A672))","v":""},{"$f":"IF(ISBLANK(Rådata!A672)=TRUE,\"\",VLOOKUP(MONTH(A672),Opsætning!$G$3:$H$14,2,FALSE))","v":""},{"$f":"IF(ISBLANK(Rådata!B672)=TRUE,\"\",(Rådata!C672*100)/Rådata!B672)","v":""},{"$f":"IF(ISBLANK(Rådata!D672)=TRUE,\"\",((Rådata!D672-Rådata!E672)*100)/Rådata!D672)","v":""},{"$f":"IF(ISBLANK(Rådata!G672)=TRUE,\"\",(Rådata!F672*100)/Rådata!G672)","v":""},{"$f":"IF(ISBLANK(Rådata!K672),\"\",(SUM(Rådata!M672:P672)*100)/SUM(Rådata!H672:K672))","v":""},{"$f":"IF(ISBLANK(Rådata!H672),\"\",((SUM(Rådata!J672:L672)-SUM(Rådata!O672:P672))*100)/SUM(Rådata!H672:L672))","v":""},{"$f":"IF(ISBLANK(Rådata!R672),\"\",(Rådata!Q672*100)/Rådata!R672)","v":""}]
[{"$f":"IF(ISBLANK(Rådata!A673)=TRUE,\"\",Rådata!A673)","v":""},{"$f":"IF(ISBLANK(Rådata!A673)=TRUE,\"\",YEAR(A673))","v":""},{"$f":"IF(ISBLANK(Rådata!A673)=TRUE,\"\",VLOOKUP(MONTH(A673),Opsætning!$G$3:$H$14,2,FALSE))","v":""},{"$f":"IF(ISBLANK(Rådata!B673)=TRUE,\"\",(Rådata!C673*100)/Rådata!B673)","v":""},{"$f":"IF(ISBLANK(Rådata!D673)=TRUE,\"\",((Rådata!D673-Rådata!E673)*100)/Rådata!D673)","v":""},{"$f":"IF(ISBLANK(Rådata!G673)=TRUE,\"\",(Rådata!F673*100)/Rådata!G673)","v":""},{"$f":"IF(ISBLANK(Rådata!K673),\"\",(SUM(Rådata!M673:P673)*100)/SUM(Rådata!H673:K673))","v":""},{"$f":"IF(ISBLANK(Rådata!H673),\"\",((SUM(Rådata!J673:L673)-SUM(Rådata!O673:P673))*100)/SUM(Rådata!H673:L673))","v":""},{"$f":"IF(ISBLANK(Rådata!R673),\"\",(Rådata!Q673*100)/Rådata!R673)","v":""}]
[{"$f":"IF(ISBLANK(Rådata!A674)=TRUE,\"\",Rådata!A674)","v":""},{"$f":"IF(ISBLANK(Rådata!A674)=TRUE,\"\",YEAR(A674))","v":""},{"$f":"IF(ISBLANK(Rådata!A674)=TRUE,\"\",VLOOKUP(MONTH(A674),Opsætning!$G$3:$H$14,2,FALSE))","v":""},{"$f":"IF(ISBLANK(Rådata!B674)=TRUE,\"\",(Rådata!C674*100)/Rådata!B674)","v":""},{"$f":"IF(ISBLANK(Rådata!D674)=TRUE,\"\",((Rådata!D674-Rådata!E674)*100)/Rådata!D674)","v":""},{"$f":"IF(ISBLANK(Rådata!G674)=TRUE,\"\",(Rådata!F674*100)/Rådata!G674)","v":""},{"$f":"IF(ISBLANK(Rådata!K674),\"\",(SUM(Rådata!M674:P674)*100)/SUM(Rådata!H674:K674))","v":""},{"$f":"IF(ISBLANK(Rådata!H674),\"\",((SUM(Rådata!J674:L674)-SUM(Rådata!O674:P674))*100)/SUM(Rådata!H674:L674))","v":""},{"$f":"IF(ISBLANK(Rådata!R674),\"\",(Rådata!Q674*100)/Rådata!R674)","v":""}]
[{"$f":"IF(ISBLANK(Rådata!A675)=TRUE,\"\",Rådata!A675)","v":""},{"$f":"IF(ISBLANK(Rådata!A675)=TRUE,\"\",YEAR(A675))","v":""},{"$f":"IF(ISBLANK(Rådata!A675)=TRUE,\"\",VLOOKUP(MONTH(A675),Opsætning!$G$3:$H$14,2,FALSE))","v":""},{"$f":"IF(ISBLANK(Rådata!B675)=TRUE,\"\",(Rådata!C675*100)/Rådata!B675)","v":""},{"$f":"IF(ISBLANK(Rådata!D675)=TRUE,\"\",((Rådata!D675-Rådata!E675)*100)/Rådata!D675)","v":""},{"$f":"IF(ISBLANK(Rådata!G675)=TRUE,\"\",(Rådata!F675*100)/Rådata!G675)","v":""},{"$f":"IF(ISBLANK(Rådata!K675),\"\",(SUM(Rådata!M675:P675)*100)/SUM(Rådata!H675:K675))","v":""},{"$f":"IF(ISBLANK(Rådata!H675),\"\",((SUM(Rådata!J675:L675)-SUM(Rådata!O675:P675))*100)/SUM(Rådata!H675:L675))","v":""},{"$f":"IF(ISBLANK(Rådata!R675),\"\",(Rådata!Q675*100)/Rådata!R675)","v":""}]
[{"$f":"IF(ISBLANK(Rådata!A676)=TRUE,\"\",Rådata!A676)","v":""},{"$f":"IF(ISBLANK(Rådata!A676)=TRUE,\"\",YEAR(A676))","v":""},{"$f":"IF(ISBLANK(Rådata!A676)=TRUE,\"\",VLOOKUP(MONTH(A676),Opsætning!$G$3:$H$14,2,FALSE))","v":""},{"$f":"IF(ISBLANK(Rådata!B676)=TRUE,\"\",(Rådata!C676*100)/Rådata!B676)","v":""},{"$f":"IF(ISBLANK(Rådata!D676)=TRUE,\"\",((Rådata!D676-Rådata!E676)*100)/Rådata!D676)","v":""},{"$f":"IF(ISBLANK(Rådata!G676)=TRUE,\"\",(Rådata!F676*100)/Rådata!G676)","v":""},{"$f":"IF(ISBLANK(Rådata!K676),\"\",(SUM(Rådata!M676:P676)*100)/SUM(Rådata!H676:K676))","v":""},{"$f":"IF(ISBLANK(Rådata!H676),\"\",((SUM(Rådata!J676:L676)-SUM(Rådata!O676:P676))*100)/SUM(Rådata!H676:L676))","v":""},{"$f":"IF(ISBLANK(Rådata!R676),\"\",(Rådata!Q676*100)/Rådata!R676)","v":""}]
[{"$f":"IF(ISBLANK(Rådata!A677)=TRUE,\"\",Rådata!A677)","v":""},{"$f":"IF(ISBLANK(Rådata!A677)=TRUE,\"\",YEAR(A677))","v":""},{"$f":"IF(ISBLANK(Rådata!A677)=TRUE,\"\",VLOOKUP(MONTH(A677),Opsætning!$G$3:$H$14,2,FALSE))","v":""},{"$f":"IF(ISBLANK(Rådata!B677)=TRUE,\"\",(Rådata!C677*100)/Rådata!B677)","v":""},{"$f":"IF(ISBLANK(Rådata!D677)=TRUE,\"\",((Rådata!D677-Rådata!E677)*100)/Rådata!D677)","v":""},{"$f":"IF(ISBLANK(Rådata!G677)=TRUE,\"\",(Rådata!F677*100)/Rådata!G677)","v":""},{"$f":"IF(ISBLANK(Rådata!K677),\"\",(SUM(Rådata!M677:P677)*100)/SUM(Rådata!H677:K677))","v":""},{"$f":"IF(ISBLANK(Rådata!H677),\"\",((SUM(Rådata!J677:L677)-SUM(Rådata!O677:P677))*100)/SUM(Rådata!H677:L677))","v":""},{"$f":"IF(ISBLANK(Rådata!R677),\"\",(Rådata!Q677*100)/Rådata!R677)","v":""}]
[{"$f":"IF(ISBLANK(Rådata!A678)=TRUE,\"\",Rådata!A678)","v":""},{"$f":"IF(ISBLANK(Rådata!A678)=TRUE,\"\",YEAR(A678))","v":""},{"$f":"IF(ISBLANK(Rådata!A678)=TRUE,\"\",VLOOKUP(MONTH(A678),Opsætning!$G$3:$H$14,2,FALSE))","v":""},{"$f":"IF(ISBLANK(Rådata!B678)=TRUE,\"\",(Rådata!C678*100)/Rådata!B678)","v":""},{"$f":"IF(ISBLANK(Rådata!D678)=TRUE,\"\",((Rådata!D678-Rådata!E678)*100)/Rådata!D678)","v":""},{"$f":"IF(ISBLANK(Rådata!G678)=TRUE,\"\",(Rådata!F678*100)/Rådata!G678)","v":""},{"$f":"IF(ISBLANK(Rådata!K678),\"\",(SUM(Rådata!M678:P678)*100)/SUM(Rådata!H678:K678))","v":""},{"$f":"IF(ISBLANK(Rådata!H678),\"\",((SUM(Rådata!J678:L678)-SUM(Rådata!O678:P678))*100)/SUM(Rådata!H678:L678))","v":""},{"$f":"IF(ISBLANK(Rådata!R678),\"\",(Rådata!Q678*100)/Rådata!R678)","v":""}]
[{"$f":"IF(ISBLANK(Rådata!A679)=TRUE,\"\",Rådata!A679)","v":""},{"$f":"IF(ISBLANK(Rådata!A679)=TRUE,\"\",YEAR(A679))","v":""},{"$f":"IF(ISBLANK(Rådata!A679)=TRUE,\"\",VLOOKUP(MONTH(A679),Opsætning!$G$3:$H$14,2,FALSE))","v":""},{"$f":"IF(ISBLANK(Rådata!B679)=TRUE,\"\",(Rådata!C679*100)/Rådata!B679)","v":""},{"$f":"IF(ISBLANK(Rådata!D679)=TRUE,\"\",((Rådata!D679-Rådata!E679)*100)/Rådata!D679)","v":""},{"$f":"IF(ISBLANK(Rådata!G679)=TRUE,\"\",(Rådata!F679*100)/Rådata!G679)","v":""},{"$f":"IF(ISBLANK(Rådata!K679),\"\",(SUM(Rådata!M679:P679)*100)/SUM(Rådata!H679:K679))","v":""},{"$f":"IF(ISBLANK(Rådata!H679),\"\",((SUM(Rådata!J679:L679)-SUM(Rådata!O679:P679))*100)/SUM(Rådata!H679:L679))","v":""},{"$f":"IF(ISBLANK(Rådata!R679),\"\",(Rådata!Q679*100)/Rådata!R679)","v":""}]
[{"$f":"IF(ISBLANK(Rådata!A680)=TRUE,\"\",Rådata!A680)","v":""},{"$f":"IF(ISBLANK(Rådata!A680)=TRUE,\"\",YEAR(A680))","v":""},{"$f":"IF(ISBLANK(Rådata!A680)=TRUE,\"\",VLOOKUP(MONTH(A680),Opsætning!$G$3:$H$14,2,FALSE))","v":""},{"$f":"IF(ISBLANK(Rådata!B680)=TRUE,\"\",(Rådata!C680*100)/Rådata!B680)","v":""},{"$f":"IF(ISBLANK(Rådata!D680)=TRUE,\"\",((Rådata!D680-Rådata!E680)*100)/Rådata!D680)","v":""},{"$f":"IF(ISBLANK(Rådata!G680)=TRUE,\"\",(Rådata!F680*100)/Rådata!G680)","v":""},{"$f":"IF(ISBLANK(Rådata!K680),\"\",(SUM(Rådata!M680:P680)*100)/SUM(Rådata!H680:K680))","v":""},{"$f":"IF(ISBLANK(Rådata!H680),\"\",((SUM(Rådata!J680:L680)-SUM(Rådata!O680:P680))*100)/SUM(Rådata!H680:L680))","v":""},{"$f":"IF(ISBLANK(Rådata!R680),\"\",(Rådata!Q680*100)/Rådata!R680)","v":""}]
[{"$f":"IF(ISBLANK(Rådata!A681)=TRUE,\"\",Rådata!A681)","v":""},{"$f":"IF(ISBLANK(Rådata!A681)=TRUE,\"\",YEAR(A681))","v":""},{"$f":"IF(ISBLANK(Rådata!A681)=TRUE,\"\",VLOOKUP(MONTH(A681),Opsætning!$G$3:$H$14,2,FALSE))","v":""},{"$f":"IF(ISBLANK(Rådata!B681)=TRUE,\"\",(Rådata!C681*100)/Rådata!B681)","v":""},{"$f":"IF(ISBLANK(Rådata!D681)=TRUE,\"\",((Rådata!D681-Rådata!E681)*100)/Rådata!D681)","v":""},{"$f":"IF(ISBLANK(Rådata!G681)=TRUE,\"\",(Rådata!F681*100)/Rådata!G681)","v":""},{"$f":"IF(ISBLANK(Rådata!K681),\"\",(SUM(Rådata!M681:P681)*100)/SUM(Rådata!H681:K681))","v":""},{"$f":"IF(ISBLANK(Rådata!H681),\"\",((SUM(Rådata!J681:L681)-SUM(Rådata!O681:P681))*100)/SUM(Rådata!H681:L681))","v":""},{"$f":"IF(ISBLANK(Rådata!R681),\"\",(Rådata!Q681*100)/Rådata!R681)","v":""}]
[{"$f":"IF(ISBLANK(Rådata!A682)=TRUE,\"\",Rådata!A682)","v":""},{"$f":"IF(ISBLANK(Rådata!A682)=TRUE,\"\",YEAR(A682))","v":""},{"$f":"IF(ISBLANK(Rådata!A682)=TRUE,\"\",VLOOKUP(MONTH(A682),Opsætning!$G$3:$H$14,2,FALSE))","v":""},{"$f":"IF(ISBLANK(Rådata!B682)=TRUE,\"\",(Rådata!C682*100)/Rådata!B682)","v":""},{"$f":"IF(ISBLANK(Rådata!D682)=TRUE,\"\",((Rådata!D682-Rådata!E682)*100)/Rådata!D682)","v":""},{"$f":"IF(ISBLANK(Rådata!G682)=TRUE,\"\",(Rådata!F682*100)/Rådata!G682)","v":""},{"$f":"IF(ISBLANK(Rådata!K682),\"\",(SUM(Rådata!M682:P682)*100)/SUM(Rådata!H682:K682))","v":""},{"$f":"IF(ISBLANK(Rådata!H682),\"\",((SUM(Rådata!J682:L682)-SUM(Rådata!O682:P682))*100)/SUM(Rådata!H682:L682))","v":""},{"$f":"IF(ISBLANK(Rådata!R682),\"\",(Rådata!Q682*100)/Rådata!R682)","v":""}]
[{"$f":"IF(ISBLANK(Rådata!A683)=TRUE,\"\",Rådata!A683)","v":""},{"$f":"IF(ISBLANK(Rådata!A683)=TRUE,\"\",YEAR(A683))","v":""},{"$f":"IF(ISBLANK(Rådata!A683)=TRUE,\"\",VLOOKUP(MONTH(A683),Opsætning!$G$3:$H$14,2,FALSE))","v":""},{"$f":"IF(ISBLANK(Rådata!B683)=TRUE,\"\",(Rådata!C683*100)/Rådata!B683)","v":""},{"$f":"IF(ISBLANK(Rådata!D683)=TRUE,\"\",((Rådata!D683-Rådata!E683)*100)/Rådata!D683)","v":""},{"$f":"IF(ISBLANK(Rådata!G683)=TRUE,\"\",(Rådata!F683*100)/Rådata!G683)","v":""},{"$f":"IF(ISBLANK(Rådata!K683),\"\",(SUM(Rådata!M683:P683)*100)/SUM(Rådata!H683:K683))","v":""},{"$f":"IF(ISBLANK(Rådata!H683),\"\",((SUM(Rådata!J683:L683)-SUM(Rådata!O683:P683))*100)/SUM(Rådata!H683:L683))","v":""},{"$f":"IF(ISBLANK(Rådata!R683),\"\",(Rådata!Q683*100)/Rådata!R683)","v":""}]
[{"$f":"IF(ISBLANK(Rådata!A684)=TRUE,\"\",Rådata!A684)","v":""},{"$f":"IF(ISBLANK(Rådata!A684)=TRUE,\"\",YEAR(A684))","v":""},{"$f":"IF(ISBLANK(Rådata!A684)=TRUE,\"\",VLOOKUP(MONTH(A684),Opsætning!$G$3:$H$14,2,FALSE))","v":""},{"$f":"IF(ISBLANK(Rådata!B684)=TRUE,\"\",(Rådata!C684*100)/Rådata!B684)","v":""},{"$f":"IF(ISBLANK(Rådata!D684)=TRUE,\"\",((Rådata!D684-Rådata!E684)*100)/Rådata!D684)","v":""},{"$f":"IF(ISBLANK(Rådata!G684)=TRUE,\"\",(Rådata!F684*100)/Rådata!G684)","v":""},{"$f":"IF(ISBLANK(Rådata!K684),\"\",(SUM(Rådata!M684:P684)*100)/SUM(Rådata!H684:K684))","v":""},{"$f":"IF(ISBLANK(Rådata!H684),\"\",((SUM(Rådata!J684:L684)-SUM(Rådata!O684:P684))*100)/SUM(Rådata!H684:L684))","v":""},{"$f":"IF(ISBLANK(Rådata!R684),\"\",(Rådata!Q684*100)/Rådata!R684)","v":""}]
[{"$f":"IF(ISBLANK(Rådata!A685)=TRUE,\"\",Rådata!A685)","v":""},{"$f":"IF(ISBLANK(Rådata!A685)=TRUE,\"\",YEAR(A685))","v":""},{"$f":"IF(ISBLANK(Rådata!A685)=TRUE,\"\",VLOOKUP(MONTH(A685),Opsætning!$G$3:$H$14,2,FALSE))","v":""},{"$f":"IF(ISBLANK(Rådata!B685)=TRUE,\"\",(Rådata!C685*100)/Rådata!B685)","v":""},{"$f":"IF(ISBLANK(Rådata!D685)=TRUE,\"\",((Rådata!D685-Rådata!E685)*100)/Rådata!D685)","v":""},{"$f":"IF(ISBLANK(Rådata!G685)=TRUE,\"\",(Rådata!F685*100)/Rådata!G685)","v":""},{"$f":"IF(ISBLANK(Rådata!K685),\"\",(SUM(Rådata!M685:P685)*100)/SUM(Rådata!H685:K685))","v":""},{"$f":"IF(ISBLANK(Rådata!H685),\"\",((SUM(Rådata!J685:L685)-SUM(Rådata!O685:P685))*100)/SUM(Rådata!H685:L685))","v":""},{"$f":"IF(ISBLANK(Rådata!R685),\"\",(Rådata!Q685*100)/Rådata!R685)","v":""}]
[{"$f":"IF(ISBLANK(Rådata!A686)=TRUE,\"\",Rådata!A686)","v":""},{"$f":"IF(ISBLANK(Rådata!A686)=TRUE,\"\",YEAR(A686))","v":""},{"$f":"IF(ISBLANK(Rådata!A686)=TRUE,\"\",VLOOKUP(MONTH(A686),Opsætning!$G$3:$H$14,2,FALSE))","v":""},{"$f":"IF(ISBLANK(Rådata!B686)=TRUE,\"\",(Rådata!C686*100)/Rådata!B686)","v":""},{"$f":"IF(ISBLANK(Rådata!D686)=TRUE,\"\",((Rådata!D686-Rådata!E686)*100)/Rådata!D686)","v":""},{"$f":"IF(ISBLANK(Rådata!G686)=TRUE,\"\",(Rådata!F686*100)/Rådata!G686)","v":""},{"$f":"IF(ISBLANK(Rådata!K686),\"\",(SUM(Rådata!M686:P686)*100)/SUM(Rådata!H686:K686))","v":""},{"$f":"IF(ISBLANK(Rådata!H686),\"\",((SUM(Rådata!J686:L686)-SUM(Rådata!O686:P686))*100)/SUM(Rådata!H686:L686))","v":""},{"$f":"IF(ISBLANK(Rådata!R686),\"\",(Rådata!Q686*100)/Rådata!R686)","v":""}]
[{"$f":"IF(ISBLANK(Rådata!A687)=TRUE,\"\",Rådata!A687)","v":""},{"$f":"IF(ISBLANK(Rådata!A687)=TRUE,\"\",YEAR(A687))","v":""},{"$f":"IF(ISBLANK(Rådata!A687)=TRUE,\"\",VLOOKUP(MONTH(A687),Opsætning!$G$3:$H$14,2,FALSE))","v":""},{"$f":"IF(ISBLANK(Rådata!B687)=TRUE,\"\",(Rådata!C687*100)/Rådata!B687)","v":""},{"$f":"IF(ISBLANK(Rådata!D687)=TRUE,\"\",((Rådata!D687-Rådata!E687)*100)/Rådata!D687)","v":""},{"$f":"IF(ISBLANK(Rådata!G687)=TRUE,\"\",(Rådata!F687*100)/Rådata!G687)","v":""},{"$f":"IF(ISBLANK(Rådata!K687),\"\",(SUM(Rådata!M687:P687)*100)/SUM(Rådata!H687:K687))","v":""},{"$f":"IF(ISBLANK(Rådata!H687),\"\",((SUM(Rådata!J687:L687)-SUM(Rådata!O687:P687))*100)/SUM(Rådata!H687:L687))","v":""},{"$f":"IF(ISBLANK(Rådata!R687),\"\",(Rådata!Q687*100)/Rådata!R687)","v":""}]
[{"$f":"IF(ISBLANK(Rådata!A688)=TRUE,\"\",Rådata!A688)","v":""},{"$f":"IF(ISBLANK(Rådata!A688)=TRUE,\"\",YEAR(A688))","v":""},{"$f":"IF(ISBLANK(Rådata!A688)=TRUE,\"\",VLOOKUP(MONTH(A688),Opsætning!$G$3:$H$14,2,FALSE))","v":""},{"$f":"IF(ISBLANK(Rådata!B688)=TRUE,\"\",(Rådata!C688*100)/Rådata!B688)","v":""},{"$f":"IF(ISBLANK(Rådata!D688)=TRUE,\"\",((Rådata!D688-Rådata!E688)*100)/Rådata!D688)","v":""},{"$f":"IF(ISBLANK(Rådata!G688)=TRUE,\"\",(Rådata!F688*100)/Rådata!G688)","v":""},{"$f":"IF(ISBLANK(Rådata!K688),\"\",(SUM(Rådata!M688:P688)*100)/SUM(Rådata!H688:K688))","v":""},{"$f":"IF(ISBLANK(Rådata!H688),\"\",((SUM(Rådata!J688:L688)-SUM(Rådata!O688:P688))*100)/SUM(Rådata!H688:L688))","v":""},{"$f":"IF(ISBLANK(Rådata!R688),\"\",(Rådata!Q688*100)/Rådata!R688)","v":""}]
[{"$f":"IF(ISBLANK(Rådata!A689)=TRUE,\"\",Rådata!A689)","v":""},{"$f":"IF(ISBLANK(Rådata!A689)=TRUE,\"\",YEAR(A689))","v":""},{"$f":"IF(ISBLANK(Rådata!A689)=TRUE,\"\",VLOOKUP(MONTH(A689),Opsætning!$G$3:$H$14,2,FALSE))","v":""},{"$f":"IF(ISBLANK(Rådata!B689)=TRUE,\"\",(Rådata!C689*100)/Rådata!B689)","v":""},{"$f":"IF(ISBLANK(Rådata!D689)=TRUE,\"\",((Rådata!D689-Rådata!E689)*100)/Rådata!D689)","v":""},{"$f":"IF(ISBLANK(Rådata!G689)=TRUE,\"\",(Rådata!F689*100)/Rådata!G689)","v":""},{"$f":"IF(ISBLANK(Rådata!K689),\"\",(SUM(Rådata!M689:P689)*100)/SUM(Rådata!H689:K689))","v":""},{"$f":"IF(ISBLANK(Rådata!H689),\"\",((SUM(Rådata!J689:L689)-SUM(Rådata!O689:P689))*100)/SUM(Rådata!H689:L689))","v":""},{"$f":"IF(ISBLANK(Rådata!R689),\"\",(Rådata!Q689*100)/Rådata!R689)","v":""}]
[{"$f":"IF(ISBLANK(Rådata!A690)=TRUE,\"\",Rådata!A690)","v":""},{"$f":"IF(ISBLANK(Rådata!A690)=TRUE,\"\",YEAR(A690))","v":""},{"$f":"IF(ISBLANK(Rådata!A690)=TRUE,\"\",VLOOKUP(MONTH(A690),Opsætning!$G$3:$H$14,2,FALSE))","v":""},{"$f":"IF(ISBLANK(Rådata!B690)=TRUE,\"\",(Rådata!C690*100)/Rådata!B690)","v":""},{"$f":"IF(ISBLANK(Rådata!D690)=TRUE,\"\",((Rådata!D690-Rådata!E690)*100)/Rådata!D690)","v":""},{"$f":"IF(ISBLANK(Rådata!G690)=TRUE,\"\",(Rådata!F690*100)/Rådata!G690)","v":""},{"$f":"IF(ISBLANK(Rådata!K690),\"\",(SUM(Rådata!M690:P690)*100)/SUM(Rådata!H690:K690))","v":""},{"$f":"IF(ISBLANK(Rådata!H690),\"\",((SUM(Rådata!J690:L690)-SUM(Rådata!O690:P690))*100)/SUM(Rådata!H690:L690))","v":""},{"$f":"IF(ISBLANK(Rådata!R690),\"\",(Rådata!Q690*100)/Rådata!R690)","v":""}]
[{"$f":"IF(ISBLANK(Rådata!A691)=TRUE,\"\",Rådata!A691)","v":""},{"$f":"IF(ISBLANK(Rådata!A691)=TRUE,\"\",YEAR(A691))","v":""},{"$f":"IF(ISBLANK(Rådata!A691)=TRUE,\"\",VLOOKUP(MONTH(A691),Opsætning!$G$3:$H$14,2,FALSE))","v":""},{"$f":"IF(ISBLANK(Rådata!B691)=TRUE,\"\",(Rådata!C691*100)/Rådata!B691)","v":""},{"$f":"IF(ISBLANK(Rådata!D691)=TRUE,\"\",((Rådata!D691-Rådata!E691)*100)/Rådata!D691)","v":""},{"$f":"IF(ISBLANK(Rådata!G691)=TRUE,\"\",(Rådata!F691*100)/Rådata!G691)","v":""},{"$f":"IF(ISBLANK(Rådata!K691),\"\",(SUM(Rådata!M691:P691)*100)/SUM(Rådata!H691:K691))","v":""},{"$f":"IF(ISBLANK(Rådata!H691),\"\",((SUM(Rådata!J691:L691)-SUM(Rådata!O691:P691))*100)/SUM(Rådata!H691:L691))","v":""},{"$f":"IF(ISBLANK(Rådata!R691),\"\",(Rådata!Q691*100)/Rådata!R691)","v":""}]
[{"$f":"IF(ISBLANK(Rådata!A692)=TRUE,\"\",Rådata!A692)","v":""},{"$f":"IF(ISBLANK(Rådata!A692)=TRUE,\"\",YEAR(A692))","v":""},{"$f":"IF(ISBLANK(Rådata!A692)=TRUE,\"\",VLOOKUP(MONTH(A692),Opsætning!$G$3:$H$14,2,FALSE))","v":""},{"$f":"IF(ISBLANK(Rådata!B692)=TRUE,\"\",(Rådata!C692*100)/Rådata!B692)","v":""},{"$f":"IF(ISBLANK(Rådata!D692)=TRUE,\"\",((Rådata!D692-Rådata!E692)*100)/Rådata!D692)","v":""},{"$f":"IF(ISBLANK(Rådata!G692)=TRUE,\"\",(Rådata!F692*100)/Rådata!G692)","v":""},{"$f":"IF(ISBLANK(Rådata!K692),\"\",(SUM(Rådata!M692:P692)*100)/SUM(Rådata!H692:K692))","v":""},{"$f":"IF(ISBLANK(Rådata!H692),\"\",((SUM(Rådata!J692:L692)-SUM(Rådata!O692:P692))*100)/SUM(Rådata!H692:L692))","v":""},{"$f":"IF(ISBLANK(Rådata!R692),\"\",(Rådata!Q692*100)/Rådata!R692)","v":""}]
[{"$f":"IF(ISBLANK(Rådata!A693)=TRUE,\"\",Rådata!A693)","v":""},{"$f":"IF(ISBLANK(Rådata!A693)=TRUE,\"\",YEAR(A693))","v":""},{"$f":"IF(ISBLANK(Rådata!A693)=TRUE,\"\",VLOOKUP(MONTH(A693),Opsætning!$G$3:$H$14,2,FALSE))","v":""},{"$f":"IF(ISBLANK(Rådata!B693)=TRUE,\"\",(Rådata!C693*100)/Rådata!B693)","v":""},{"$f":"IF(ISBLANK(Rådata!D693)=TRUE,\"\",((Rådata!D693-Rådata!E693)*100)/Rådata!D693)","v":""},{"$f":"IF(ISBLANK(Rådata!G693)=TRUE,\"\",(Rådata!F693*100)/Rådata!G693)","v":""},{"$f":"IF(ISBLANK(Rådata!K693),\"\",(SUM(Rådata!M693:P693)*100)/SUM(Rådata!H693:K693))","v":""},{"$f":"IF(ISBLANK(Rådata!H693),\"\",((SUM(Rådata!J693:L693)-SUM(Rådata!O693:P693))*100)/SUM(Rådata!H693:L693))","v":""},{"$f":"IF(ISBLANK(Rådata!R693),\"\",(Rådata!Q693*100)/Rådata!R693)","v":""}]
[{"$f":"IF(ISBLANK(Rådata!A694)=TRUE,\"\",Rådata!A694)","v":""},{"$f":"IF(ISBLANK(Rådata!A694)=TRUE,\"\",YEAR(A694))","v":""},{"$f":"IF(ISBLANK(Rådata!A694)=TRUE,\"\",VLOOKUP(MONTH(A694),Opsætning!$G$3:$H$14,2,FALSE))","v":""},{"$f":"IF(ISBLANK(Rådata!B694)=TRUE,\"\",(Rådata!C694*100)/Rådata!B694)","v":""},{"$f":"IF(ISBLANK(Rådata!D694)=TRUE,\"\",((Rådata!D694-Rådata!E694)*100)/Rådata!D694)","v":""},{"$f":"IF(ISBLANK(Rådata!G694)=TRUE,\"\",(Rådata!F694*100)/Rådata!G694)","v":""},{"$f":"IF(ISBLANK(Rådata!K694),\"\",(SUM(Rådata!M694:P694)*100)/SUM(Rådata!H694:K694))","v":""},{"$f":"IF(ISBLANK(Rådata!H694),\"\",((SUM(Rådata!J694:L694)-SUM(Rådata!O694:P694))*100)/SUM(Rådata!H694:L694))","v":""},{"$f":"IF(ISBLANK(Rådata!R694),\"\",(Rådata!Q694*100)/Rådata!R694)","v":""}]
[{"$f":"IF(ISBLANK(Rådata!A695)=TRUE,\"\",Rådata!A695)","v":""},{"$f":"IF(ISBLANK(Rådata!A695)=TRUE,\"\",YEAR(A695))","v":""},{"$f":"IF(ISBLANK(Rådata!A695)=TRUE,\"\",VLOOKUP(MONTH(A695),Opsætning!$G$3:$H$14,2,FALSE))","v":""},{"$f":"IF(ISBLANK(Rådata!B695)=TRUE,\"\",(Rådata!C695*100)/Rådata!B695)","v":""},{"$f":"IF(ISBLANK(Rådata!D695)=TRUE,\"\",((Rådata!D695-Rådata!E695)*100)/Rådata!D695)","v":""},{"$f":"IF(ISBLANK(Rådata!G695)=TRUE,\"\",(Rådata!F695*100)/Rådata!G695)","v":""},{"$f":"IF(ISBLANK(Rådata!K695),\"\",(SUM(Rådata!M695:P695)*100)/SUM(Rådata!H695:K695))","v":""},{"$f":"IF(ISBLANK(Rådata!H695),\"\",((SUM(Rådata!J695:L695)-SUM(Rådata!O695:P695))*100)/SUM(Rådata!H695:L695))","v":""},{"$f":"IF(ISBLANK(Rådata!R695),\"\",(Rådata!Q695*100)/Rådata!R695)","v":""}]
[{"$f":"IF(ISBLANK(Rådata!A696)=TRUE,\"\",Rådata!A696)","v":""},{"$f":"IF(ISBLANK(Rådata!A696)=TRUE,\"\",YEAR(A696))","v":""},{"$f":"IF(ISBLANK(Rådata!A696)=TRUE,\"\",VLOOKUP(MONTH(A696),Opsætning!$G$3:$H$14,2,FALSE))","v":""},{"$f":"IF(ISBLANK(Rådata!B696)=TRUE,\"\",(Rådata!C696*100)/Rådata!B696)","v":""},{"$f":"IF(ISBLANK(Rådata!D696)=TRUE,\"\",((Rådata!D696-Rådata!E696)*100)/Rådata!D696)","v":""},{"$f":"IF(ISBLANK(Rådata!G696)=TRUE,\"\",(Rådata!F696*100)/Rådata!G696)","v":""},{"$f":"IF(ISBLANK(Rådata!K696),\"\",(SUM(Rådata!M696:P696)*100)/SUM(Rådata!H696:K696))","v":""},{"$f":"IF(ISBLANK(Rådata!H696),\"\",((SUM(Rådata!J696:L696)-SUM(Rådata!O696:P696))*100)/SUM(Rådata!H696:L696))","v":""},{"$f":"IF(ISBLANK(Rådata!R696),\"\",(Rådata!Q696*100)/Rådata!R696)","v":""}]
[{"$f":"IF(ISBLANK(Rådata!A697)=TRUE,\"\",Rådata!A697)","v":""},{"$f":"IF(ISBLANK(Rådata!A697)=TRUE,\"\",YEAR(A697))","v":""},{"$f":"IF(ISBLANK(Rådata!A697)=TRUE,\"\",VLOOKUP(MONTH(A697),Opsætning!$G$3:$H$14,2,FALSE))","v":""},{"$f":"IF(ISBLANK(Rådata!B697)=TRUE,\"\",(Rådata!C697*100)/Rådata!B697)","v":""},{"$f":"IF(ISBLANK(Rådata!D697)=TRUE,\"\",((Rådata!D697-Rådata!E697)*100)/Rådata!D697)","v":""},{"$f":"IF(ISBLANK(Rådata!G697)=TRUE,\"\",(Rådata!F697*100)/Rådata!G697)","v":""},{"$f":"IF(ISBLANK(Rådata!K697),\"\",(SUM(Rådata!M697:P697)*100)/SUM(Rådata!H697:K697))","v":""},{"$f":"IF(ISBLANK(Rådata!H697),\"\",((SUM(Rådata!J697:L697)-SUM(Rådata!O697:P697))*100)/SUM(Rådata!H697:L697))","v":""},{"$f":"IF(ISBLANK(Rådata!R697),\"\",(Rådata!Q697*100)/Rådata!R697)","v":""}]
[{"$f":"IF(ISBLANK(Rådata!A698)=TRUE,\"\",Rådata!A698)","v":""},{"$f":"IF(ISBLANK(Rådata!A698)=TRUE,\"\",YEAR(A698))","v":""},{"$f":"IF(ISBLANK(Rådata!A698)=TRUE,\"\",VLOOKUP(MONTH(A698),Opsætning!$G$3:$H$14,2,FALSE))","v":""},{"$f":"IF(ISBLANK(Rådata!B698)=TRUE,\"\",(Rådata!C698*100)/Rådata!B698)","v":""},{"$f":"IF(ISBLANK(Rådata!D698)=TRUE,\"\",((Rådata!D698-Rådata!E698)*100)/Rådata!D698)","v":""},{"$f":"IF(ISBLANK(Rådata!G698)=TRUE,\"\",(Rådata!F698*100)/Rådata!G698)","v":""},{"$f":"IF(ISBLANK(Rådata!K698),\"\",(SUM(Rådata!M698:P698)*100)/SUM(Rådata!H698:K698))","v":""},{"$f":"IF(ISBLANK(Rådata!H698),\"\",((SUM(Rådata!J698:L698)-SUM(Rådata!O698:P698))*100)/SUM(Rådata!H698:L698))","v":""},{"$f":"IF(ISBLANK(Rådata!R698),\"\",(Rådata!Q698*100)/Rådata!R698)","v":""}]
[{"$f":"IF(ISBLANK(Rådata!A699)=TRUE,\"\",Rådata!A699)","v":""},{"$f":"IF(ISBLANK(Rådata!A699)=TRUE,\"\",YEAR(A699))","v":""},{"$f":"IF(ISBLANK(Rådata!A699)=TRUE,\"\",VLOOKUP(MONTH(A699),Opsætning!$G$3:$H$14,2,FALSE))","v":""},{"$f":"IF(ISBLANK(Rådata!B699)=TRUE,\"\",(Rådata!C699*100)/Rådata!B699)","v":""},{"$f":"IF(ISBLANK(Rådata!D699)=TRUE,\"\",((Rådata!D699-Rådata!E699)*100)/Rådata!D699)","v":""},{"$f":"IF(ISBLANK(Rådata!G699)=TRUE,\"\",(Rådata!F699*100)/Rådata!G699)","v":""},{"$f":"IF(ISBLANK(Rådata!K699),\"\",(SUM(Rådata!M699:P699)*100)/SUM(Rådata!H699:K699))","v":""},{"$f":"IF(ISBLANK(Rådata!H699),\"\",((SUM(Rådata!J699:L699)-SUM(Rådata!O699:P699))*100)/SUM(Rådata!H699:L699))","v":""},{"$f":"IF(ISBLANK(Rådata!R699),\"\",(Rådata!Q699*100)/Rådata!R699)","v":""}]
[{"$f":"IF(ISBLANK(Rådata!A700)=TRUE,\"\",Rådata!A700)","v":""},{"$f":"IF(ISBLANK(Rådata!A700)=TRUE,\"\",YEAR(A700))","v":""},{"$f":"IF(ISBLANK(Rådata!A700)=TRUE,\"\",VLOOKUP(MONTH(A700),Opsætning!$G$3:$H$14,2,FALSE))","v":""},{"$f":"IF(ISBLANK(Rådata!B700)=TRUE,\"\",(Rådata!C700*100)/Rådata!B700)","v":""},{"$f":"IF(ISBLANK(Rådata!D700)=TRUE,\"\",((Rådata!D700-Rådata!E700)*100)/Rådata!D700)","v":""},{"$f":"IF(ISBLANK(Rådata!G700)=TRUE,\"\",(Rådata!F700*100)/Rådata!G700)","v":""},{"$f":"IF(ISBLANK(Rådata!K700),\"\",(SUM(Rådata!M700:P700)*100)/SUM(Rådata!H700:K700))","v":""},{"$f":"IF(ISBLANK(Rådata!H700),\"\",((SUM(Rådata!J700:L700)-SUM(Rådata!O700:P700))*100)/SUM(Rådata!H700:L700))","v":""},{"$f":"IF(ISBLANK(Rådata!R700),\"\",(Rådata!Q700*100)/Rådata!R700)","v":""}]
[{"$f":"IF(ISBLANK(Rådata!A701)=TRUE,\"\",Rådata!A701)","v":""},{"$f":"IF(ISBLANK(Rådata!A701)=TRUE,\"\",YEAR(A701))","v":""},{"$f":"IF(ISBLANK(Rådata!A701)=TRUE,\"\",VLOOKUP(MONTH(A701),Opsætning!$G$3:$H$14,2,FALSE))","v":""},{"$f":"IF(ISBLANK(Rådata!B701)=TRUE,\"\",(Rådata!C701*100)/Rådata!B701)","v":""},{"$f":"IF(ISBLANK(Rådata!D701)=TRUE,\"\",((Rådata!D701-Rådata!E701)*100)/Rådata!D701)","v":""},{"$f":"IF(ISBLANK(Rådata!G701)=TRUE,\"\",(Rådata!F701*100)/Rådata!G701)","v":""},{"$f":"IF(ISBLANK(Rådata!K701),\"\",(SUM(Rådata!M701:P701)*100)/SUM(Rådata!H701:K701))","v":""},{"$f":"IF(ISBLANK(Rådata!H701),\"\",((SUM(Rådata!J701:L701)-SUM(Rådata!O701:P701))*100)/SUM(Rådata!H701:L701))","v":""},{"$f":"IF(ISBLANK(Rådata!R701),\"\",(Rådata!Q701*100)/Rådata!R701)","v":""}]
[{"$f":"IF(ISBLANK(Rådata!A702)=TRUE,\"\",Rådata!A702)","v":""},{"$f":"IF(ISBLANK(Rådata!A702)=TRUE,\"\",YEAR(A702))","v":""},{"$f":"IF(ISBLANK(Rådata!A702)=TRUE,\"\",VLOOKUP(MONTH(A702),Opsætning!$G$3:$H$14,2,FALSE))","v":""},{"$f":"IF(ISBLANK(Rådata!B702)=TRUE,\"\",(Rådata!C702*100)/Rådata!B702)","v":""},{"$f":"IF(ISBLANK(Rådata!D702)=TRUE,\"\",((Rådata!D702-Rådata!E702)*100)/Rådata!D702)","v":""},{"$f":"IF(ISBLANK(Rådata!G702)=TRUE,\"\",(Rådata!F702*100)/Rådata!G702)","v":""},{"$f":"IF(ISBLANK(Rådata!K702),\"\",(SUM(Rådata!M702:P702)*100)/SUM(Rådata!H702:K702))","v":""},{"$f":"IF(ISBLANK(Rådata!H702),\"\",((SUM(Rådata!J702:L702)-SUM(Rådata!O702:P702))*100)/SUM(Rådata!H702:L702))","v":""},{"$f":"IF(ISBLANK(Rådata!R702),\"\",(Rådata!Q702*100)/Rådata!R702)","v":""}]
[{"$f":"IF(ISBLANK(Rådata!A703)=TRUE,\"\",Rådata!A703)","v":""},{"$f":"IF(ISBLANK(Rådata!A703)=TRUE,\"\",YEAR(A703))","v":""},{"$f":"IF(ISBLANK(Rådata!A703)=TRUE,\"\",VLOOKUP(MONTH(A703),Opsætning!$G$3:$H$14,2,FALSE))","v":""},{"$f":"IF(ISBLANK(Rådata!B703)=TRUE,\"\",(Rådata!C703*100)/Rådata!B703)","v":""},{"$f":"IF(ISBLANK(Rådata!D703)=TRUE,\"\",((Rådata!D703-Rådata!E703)*100)/Rådata!D703)","v":""},{"$f":"IF(ISBLANK(Rådata!G703)=TRUE,\"\",(Rådata!F703*100)/Rådata!G703)","v":""},{"$f":"IF(ISBLANK(Rådata!K703),\"\",(SUM(Rådata!M703:P703)*100)/SUM(Rådata!H703:K703))","v":""},{"$f":"IF(ISBLANK(Rådata!H703),\"\",((SUM(Rådata!J703:L703)-SUM(Rådata!O703:P703))*100)/SUM(Rådata!H703:L703))","v":""},{"$f":"IF(ISBLANK(Rådata!R703),\"\",(Rådata!Q703*100)/Rådata!R703)","v":""}]
[{"$f":"IF(ISBLANK(Rådata!A704)=TRUE,\"\",Rådata!A704)","v":""},{"$f":"IF(ISBLANK(Rådata!A704)=TRUE,\"\",YEAR(A704))","v":""},{"$f":"IF(ISBLANK(Rådata!A704)=TRUE,\"\",VLOOKUP(MONTH(A704),Opsætning!$G$3:$H$14,2,FALSE))","v":""},{"$f":"IF(ISBLANK(Rådata!B704)=TRUE,\"\",(Rådata!C704*100)/Rådata!B704)","v":""},{"$f":"IF(ISBLANK(Rådata!D704)=TRUE,\"\",((Rådata!D704-Rådata!E704)*100)/Rådata!D704)","v":""},{"$f":"IF(ISBLANK(Rådata!G704)=TRUE,\"\",(Rådata!F704*100)/Rådata!G704)","v":""},{"$f":"IF(ISBLANK(Rådata!K704),\"\",(SUM(Rådata!M704:P704)*100)/SUM(Rådata!H704:K704))","v":""},{"$f":"IF(ISBLANK(Rådata!H704),\"\",((SUM(Rådata!J704:L704)-SUM(Rådata!O704:P704))*100)/SUM(Rådata!H704:L704))","v":""},{"$f":"IF(ISBLANK(Rådata!R704),\"\",(Rådata!Q704*100)/Rådata!R704)","v":""}]
[{"$f":"IF(ISBLANK(Rådata!A705)=TRUE,\"\",Rådata!A705)","v":""},{"$f":"IF(ISBLANK(Rådata!A705)=TRUE,\"\",YEAR(A705))","v":""},{"$f":"IF(ISBLANK(Rådata!A705)=TRUE,\"\",VLOOKUP(MONTH(A705),Opsætning!$G$3:$H$14,2,FALSE))","v":""},{"$f":"IF(ISBLANK(Rådata!B705)=TRUE,\"\",(Rådata!C705*100)/Rådata!B705)","v":""},{"$f":"IF(ISBLANK(Rådata!D705)=TRUE,\"\",((Rådata!D705-Rådata!E705)*100)/Rådata!D705)","v":""},{"$f":"IF(ISBLANK(Rådata!G705)=TRUE,\"\",(Rådata!F705*100)/Rådata!G705)","v":""},{"$f":"IF(ISBLANK(Rådata!K705),\"\",(SUM(Rådata!M705:P705)*100)/SUM(Rådata!H705:K705))","v":""},{"$f":"IF(ISBLANK(Rådata!H705),\"\",((SUM(Rådata!J705:L705)-SUM(Rådata!O705:P705))*100)/SUM(Rådata!H705:L705))","v":""},{"$f":"IF(ISBLANK(Rådata!R705),\"\",(Rådata!Q705*100)/Rådata!R705)","v":""}]
[{"$f":"IF(ISBLANK(Rådata!A706)=TRUE,\"\",Rådata!A706)","v":""},{"$f":"IF(ISBLANK(Rådata!A706)=TRUE,\"\",YEAR(A706))","v":""},{"$f":"IF(ISBLANK(Rådata!A706)=TRUE,\"\",VLOOKUP(MONTH(A706),Opsætning!$G$3:$H$14,2,FALSE))","v":""},{"$f":"IF(ISBLANK(Rådata!B706)=TRUE,\"\",(Rådata!C706*100)/Rådata!B706)","v":""},{"$f":"IF(ISBLANK(Rådata!D706)=TRUE,\"\",((Rådata!D706-Rådata!E706)*100)/Rådata!D706)","v":""},{"$f":"IF(ISBLANK(Rådata!G706)=TRUE,\"\",(Rådata!F706*100)/Rådata!G706)","v":""},{"$f":"IF(ISBLANK(Rådata!K706),\"\",(SUM(Rådata!M706:P706)*100)/SUM(Rådata!H706:K706))","v":""},{"$f":"IF(ISBLANK(Rådata!H706),\"\",((SUM(Rådata!J706:L706)-SUM(Rådata!O706:P706))*100)/SUM(Rådata!H706:L706))","v":""},{"$f":"IF(ISBLANK(Rådata!R706),\"\",(Rådata!Q706*100)/Rådata!R706)","v":""}]
[{"$f":"IF(ISBLANK(Rådata!A707)=TRUE,\"\",Rådata!A707)","v":""},{"$f":"IF(ISBLANK(Rådata!A707)=TRUE,\"\",YEAR(A707))","v":""},{"$f":"IF(ISBLANK(Rådata!A707)=TRUE,\"\",VLOOKUP(MONTH(A707),Opsætning!$G$3:$H$14,2,FALSE))","v":""},{"$f":"IF(ISBLANK(Rådata!B707)=TRUE,\"\",(Rådata!C707*100)/Rådata!B707)","v":""},{"$f":"IF(ISBLANK(Rådata!D707)=TRUE,\"\",((Rådata!D707-Rådata!E707)*100)/Rådata!D707)","v":""},{"$f":"IF(ISBLANK(Rådata!G707)=TRUE,\"\",(Rådata!F707*100)/Rådata!G707)","v":""},{"$f":"IF(ISBLANK(Rådata!K707),\"\",(SUM(Rådata!M707:P707)*100)/SUM(Rådata!H707:K707))","v":""},{"$f":"IF(ISBLANK(Rådata!H707),\"\",((SUM(Rådata!J707:L707)-SUM(Rådata!O707:P707))*100)/SUM(Rådata!H707:L707))","v":""},{"$f":"IF(ISBLANK(Rådata!R707),\"\",(Rådata!Q707*100)/Rådata!R707)","v":""}]
[{"$f":"IF(ISBLANK(Rådata!A708)=TRUE,\"\",Rådata!A708)","v":""},{"$f":"IF(ISBLANK(Rådata!A708)=TRUE,\"\",YEAR(A708))","v":""},{"$f":"IF(ISBLANK(Rådata!A708)=TRUE,\"\",VLOOKUP(MONTH(A708),Opsætning!$G$3:$H$14,2,FALSE))","v":""},{"$f":"IF(ISBLANK(Rådata!B708)=TRUE,\"\",(Rådata!C708*100)/Rådata!B708)","v":""},{"$f":"IF(ISBLANK(Rådata!D708)=TRUE,\"\",((Rådata!D708-Rådata!E708)*100)/Rådata!D708)","v":""},{"$f":"IF(ISBLANK(Rådata!G708)=TRUE,\"\",(Rådata!F708*100)/Rådata!G708)","v":""},{"$f":"IF(ISBLANK(Rådata!K708),\"\",(SUM(Rådata!M708:P708)*100)/SUM(Rådata!H708:K708))","v":""},{"$f":"IF(ISBLANK(Rådata!H708),\"\",((SUM(Rådata!J708:L708)-SUM(Rådata!O708:P708))*100)/SUM(Rådata!H708:L708))","v":""},{"$f":"IF(ISBLANK(Rådata!R708),\"\",(Rådata!Q708*100)/Rådata!R708)","v":""}]
[{"$f":"IF(ISBLANK(Rådata!A709)=TRUE,\"\",Rådata!A709)","v":""},{"$f":"IF(ISBLANK(Rådata!A709)=TRUE,\"\",YEAR(A709))","v":""},{"$f":"IF(ISBLANK(Rådata!A709)=TRUE,\"\",VLOOKUP(MONTH(A709),Opsætning!$G$3:$H$14,2,FALSE))","v":""},{"$f":"IF(ISBLANK(Rådata!B709)=TRUE,\"\",(Rådata!C709*100)/Rådata!B709)","v":""},{"$f":"IF(ISBLANK(Rådata!D709)=TRUE,\"\",((Rådata!D709-Rådata!E709)*100)/Rådata!D709)","v":""},{"$f":"IF(ISBLANK(Rådata!G709)=TRUE,\"\",(Rådata!F709*100)/Rådata!G709)","v":""},{"$f":"IF(ISBLANK(Rådata!K709),\"\",(SUM(Rådata!M709:P709)*100)/SUM(Rådata!H709:K709))","v":""},{"$f":"IF(ISBLANK(Rådata!H709),\"\",((SUM(Rådata!J709:L709)-SUM(Rådata!O709:P709))*100)/SUM(Rådata!H709:L709))","v":""},{"$f":"IF(ISBLANK(Rådata!R709),\"\",(Rådata!Q709*100)/Rådata!R709)","v":""}]
[{"$f":"IF(ISBLANK(Rådata!A710)=TRUE,\"\",Rådata!A710)","v":""},{"$f":"IF(ISBLANK(Rådata!A710)=TRUE,\"\",YEAR(A710))","v":""},{"$f":"IF(ISBLANK(Rådata!A710)=TRUE,\"\",VLOOKUP(MONTH(A710),Opsætning!$G$3:$H$14,2,FALSE))","v":""},{"$f":"IF(ISBLANK(Rådata!B710)=TRUE,\"\",(Rådata!C710*100)/Rådata!B710)","v":""},{"$f":"IF(ISBLANK(Rådata!D710)=TRUE,\"\",((Rådata!D710-Rådata!E710)*100)/Rådata!D710)","v":""},{"$f":"IF(ISBLANK(Rådata!G710)=TRUE,\"\",(Rådata!F710*100)/Rådata!G710)","v":""},{"$f":"IF(ISBLANK(Rådata!K710),\"\",(SUM(Rådata!M710:P710)*100)/SUM(Rådata!H710:K710))","v":""},{"$f":"IF(ISBLANK(Rådata!H710),\"\",((SUM(Rådata!J710:L710)-SUM(Rådata!O710:P710))*100)/SUM(Rådata!H710:L710))","v":""},{"$f":"IF(ISBLANK(Rådata!R710),\"\",(Rådata!Q710*100)/Rådata!R710)","v":""}]
[{"$f":"IF(ISBLANK(Rådata!A711)=TRUE,\"\",Rådata!A711)","v":""},{"$f":"IF(ISBLANK(Rådata!A711)=TRUE,\"\",YEAR(A711))","v":""},{"$f":"IF(ISBLANK(Rådata!A711)=TRUE,\"\",VLOOKUP(MONTH(A711),Opsætning!$G$3:$H$14,2,FALSE))","v":""},{"$f":"IF(ISBLANK(Rådata!B711)=TRUE,\"\",(Rådata!C711*100)/Rådata!B711)","v":""},{"$f":"IF(ISBLANK(Rådata!D711)=TRUE,\"\",((Rådata!D711-Rådata!E711)*100)/Rådata!D711)","v":""},{"$f":"IF(ISBLANK(Rådata!G711)=TRUE,\"\",(Rådata!F711*100)/Rådata!G711)","v":""},{"$f":"IF(ISBLANK(Rådata!K711),\"\",(SUM(Rådata!M711:P711)*100)/SUM(Rådata!H711:K711))","v":""},{"$f":"IF(ISBLANK(Rådata!H711),\"\",((SUM(Rådata!J711:L711)-SUM(Rådata!O711:P711))*100)/SUM(Rådata!H711:L711))","v":""},{"$f":"IF(ISBLANK(Rådata!R711),\"\",(Rådata!Q711*100)/Rådata!R711)","v":""}]
[{"$f":"IF(ISBLANK(Rådata!A712)=TRUE,\"\",Rådata!A712)","v":""},{"$f":"IF(ISBLANK(Rådata!A712)=TRUE,\"\",YEAR(A712))","v":""},{"$f":"IF(ISBLANK(Rådata!A712)=TRUE,\"\",VLOOKUP(MONTH(A712),Opsætning!$G$3:$H$14,2,FALSE))","v":""},{"$f":"IF(ISBLANK(Rådata!B712)=TRUE,\"\",(Rådata!C712*100)/Rådata!B712)","v":""},{"$f":"IF(ISBLANK(Rådata!D712)=TRUE,\"\",((Rådata!D712-Rådata!E712)*100)/Rådata!D712)","v":""},{"$f":"IF(ISBLANK(Rådata!G712)=TRUE,\"\",(Rådata!F712*100)/Rådata!G712)","v":""},{"$f":"IF(ISBLANK(Rådata!K712),\"\",(SUM(Rådata!M712:P712)*100)/SUM(Rådata!H712:K712))","v":""},{"$f":"IF(ISBLANK(Rådata!H712),\"\",((SUM(Rådata!J712:L712)-SUM(Rådata!O712:P712))*100)/SUM(Rådata!H712:L712))","v":""},{"$f":"IF(ISBLANK(Rådata!R712),\"\",(Rådata!Q712*100)/Rådata!R712)","v":""}]
[{"$f":"IF(ISBLANK(Rådata!A713)=TRUE,\"\",Rådata!A713)","v":""},{"$f":"IF(ISBLANK(Rådata!A713)=TRUE,\"\",YEAR(A713))","v":""},{"$f":"IF(ISBLANK(Rådata!A713)=TRUE,\"\",VLOOKUP(MONTH(A713),Opsætning!$G$3:$H$14,2,FALSE))","v":""},{"$f":"IF(ISBLANK(Rådata!B713)=TRUE,\"\",(Rådata!C713*100)/Rådata!B713)","v":""},{"$f":"IF(ISBLANK(Rådata!D713)=TRUE,\"\",((Rådata!D713-Rådata!E713)*100)/Rådata!D713)","v":""},{"$f":"IF(ISBLANK(Rådata!G713)=TRUE,\"\",(Rådata!F713*100)/Rådata!G713)","v":""},{"$f":"IF(ISBLANK(Rådata!K713),\"\",(SUM(Rådata!M713:P713)*100)/SUM(Rådata!H713:K713))","v":""},{"$f":"IF(ISBLANK(Rådata!H713),\"\",((SUM(Rådata!J713:L713)-SUM(Rådata!O713:P713))*100)/SUM(Rådata!H713:L713))","v":""},{"$f":"IF(ISBLANK(Rådata!R713),\"\",(Rådata!Q713*100)/Rådata!R713)","v":""}]
[{"$f":"IF(ISBLANK(Rådata!A714)=TRUE,\"\",Rådata!A714)","v":""},{"$f":"IF(ISBLANK(Rådata!A714)=TRUE,\"\",YEAR(A714))","v":""},{"$f":"IF(ISBLANK(Rådata!A714)=TRUE,\"\",VLOOKUP(MONTH(A714),Opsætning!$G$3:$H$14,2,FALSE))","v":""},{"$f":"IF(ISBLANK(Rådata!B714)=TRUE,\"\",(Rådata!C714*100)/Rådata!B714)","v":""},{"$f":"IF(ISBLANK(Rådata!D714)=TRUE,\"\",((Rådata!D714-Rådata!E714)*100)/Rådata!D714)","v":""},{"$f":"IF(ISBLANK(Rådata!G714)=TRUE,\"\",(Rådata!F714*100)/Rådata!G714)","v":""},{"$f":"IF(ISBLANK(Rådata!K714),\"\",(SUM(Rådata!M714:P714)*100)/SUM(Rådata!H714:K714))","v":""},{"$f":"IF(ISBLANK(Rådata!H714),\"\",((SUM(Rådata!J714:L714)-SUM(Rådata!O714:P714))*100)/SUM(Rådata!H714:L714))","v":""},{"$f":"IF(ISBLANK(Rådata!R714),\"\",(Rådata!Q714*100)/Rådata!R714)","v":""}]
[{"$f":"IF(ISBLANK(Rådata!A715)=TRUE,\"\",Rådata!A715)","v":""},{"$f":"IF(ISBLANK(Rådata!A715)=TRUE,\"\",YEAR(A715))","v":""},{"$f":"IF(ISBLANK(Rådata!A715)=TRUE,\"\",VLOOKUP(MONTH(A715),Opsætning!$G$3:$H$14,2,FALSE))","v":""},{"$f":"IF(ISBLANK(Rådata!B715)=TRUE,\"\",(Rådata!C715*100)/Rådata!B715)","v":""},{"$f":"IF(ISBLANK(Rådata!D715)=TRUE,\"\",((Rådata!D715-Rådata!E715)*100)/Rådata!D715)","v":""},{"$f":"IF(ISBLANK(Rådata!G715)=TRUE,\"\",(Rådata!F715*100)/Rådata!G715)","v":""},{"$f":"IF(ISBLANK(Rådata!K715),\"\",(SUM(Rådata!M715:P715)*100)/SUM(Rådata!H715:K715))","v":""},{"$f":"IF(ISBLANK(Rådata!H715),\"\",((SUM(Rådata!J715:L715)-SUM(Rådata!O715:P715))*100)/SUM(Rådata!H715:L715))","v":""},{"$f":"IF(ISBLANK(Rådata!R715),\"\",(Rådata!Q715*100)/Rådata!R715)","v":""}]
[{"$f":"IF(ISBLANK(Rådata!A716)=TRUE,\"\",Rådata!A716)","v":""},{"$f":"IF(ISBLANK(Rådata!A716)=TRUE,\"\",YEAR(A716))","v":""},{"$f":"IF(ISBLANK(Rådata!A716)=TRUE,\"\",VLOOKUP(MONTH(A716),Opsætning!$G$3:$H$14,2,FALSE))","v":""},{"$f":"IF(ISBLANK(Rådata!B716)=TRUE,\"\",(Rådata!C716*100)/Rådata!B716)","v":""},{"$f":"IF(ISBLANK(Rådata!D716)=TRUE,\"\",((Rådata!D716-Rådata!E716)*100)/Rådata!D716)","v":""},{"$f":"IF(ISBLANK(Rådata!G716)=TRUE,\"\",(Rådata!F716*100)/Rådata!G716)","v":""},{"$f":"IF(ISBLANK(Rådata!K716),\"\",(SUM(Rådata!M716:P716)*100)/SUM(Rådata!H716:K716))","v":""},{"$f":"IF(ISBLANK(Rådata!H716),\"\",((SUM(Rådata!J716:L716)-SUM(Rådata!O716:P716))*100)/SUM(Rådata!H716:L716))","v":""},{"$f":"IF(ISBLANK(Rådata!R716),\"\",(Rådata!Q716*100)/Rådata!R716)","v":""}]
[{"$f":"IF(ISBLANK(Rådata!A717)=TRUE,\"\",Rådata!A717)","v":""},{"$f":"IF(ISBLANK(Rådata!A717)=TRUE,\"\",YEAR(A717))","v":""},{"$f":"IF(ISBLANK(Rådata!A717)=TRUE,\"\",VLOOKUP(MONTH(A717),Opsætning!$G$3:$H$14,2,FALSE))","v":""},{"$f":"IF(ISBLANK(Rådata!B717)=TRUE,\"\",(Rådata!C717*100)/Rådata!B717)","v":""},{"$f":"IF(ISBLANK(Rådata!D717)=TRUE,\"\",((Rådata!D717-Rådata!E717)*100)/Rådata!D717)","v":""},{"$f":"IF(ISBLANK(Rådata!G717)=TRUE,\"\",(Rådata!F717*100)/Rådata!G717)","v":""},{"$f":"IF(ISBLANK(Rådata!K717),\"\",(SUM(Rådata!M717:P717)*100)/SUM(Rådata!H717:K717))","v":""},{"$f":"IF(ISBLANK(Rådata!H717),\"\",((SUM(Rådata!J717:L717)-SUM(Rådata!O717:P717))*100)/SUM(Rådata!H717:L717))","v":""},{"$f":"IF(ISBLANK(Rådata!R717),\"\",(Rådata!Q717*100)/Rådata!R717)","v":""}]
[{"$f":"IF(ISBLANK(Rådata!A718)=TRUE,\"\",Rådata!A718)","v":""},{"$f":"IF(ISBLANK(Rådata!A718)=TRUE,\"\",YEAR(A718))","v":""},{"$f":"IF(ISBLANK(Rådata!A718)=TRUE,\"\",VLOOKUP(MONTH(A718),Opsætning!$G$3:$H$14,2,FALSE))","v":""},{"$f":"IF(ISBLANK(Rådata!B718)=TRUE,\"\",(Rådata!C718*100)/Rådata!B718)","v":""},{"$f":"IF(ISBLANK(Rådata!D718)=TRUE,\"\",((Rådata!D718-Rådata!E718)*100)/Rådata!D718)","v":""},{"$f":"IF(ISBLANK(Rådata!G718)=TRUE,\"\",(Rådata!F718*100)/Rådata!G718)","v":""},{"$f":"IF(ISBLANK(Rådata!K718),\"\",(SUM(Rådata!M718:P718)*100)/SUM(Rådata!H718:K718))","v":""},{"$f":"IF(ISBLANK(Rådata!H718),\"\",((SUM(Rådata!J718:L718)-SUM(Rådata!O718:P718))*100)/SUM(Rådata!H718:L718))","v":""},{"$f":"IF(ISBLANK(Rådata!R718),\"\",(Rådata!Q718*100)/Rådata!R718)","v":""}]
[{"$f":"IF(ISBLANK(Rådata!A719)=TRUE,\"\",Rådata!A719)","v":""},{"$f":"IF(ISBLANK(Rådata!A719)=TRUE,\"\",YEAR(A719))","v":""},{"$f":"IF(ISBLANK(Rådata!A719)=TRUE,\"\",VLOOKUP(MONTH(A719),Opsætning!$G$3:$H$14,2,FALSE))","v":""},{"$f":"IF(ISBLANK(Rådata!B719)=TRUE,\"\",(Rådata!C719*100)/Rådata!B719)","v":""},{"$f":"IF(ISBLANK(Rådata!D719)=TRUE,\"\",((Rådata!D719-Rådata!E719)*100)/Rådata!D719)","v":""},{"$f":"IF(ISBLANK(Rådata!G719)=TRUE,\"\",(Rådata!F719*100)/Rådata!G719)","v":""},{"$f":"IF(ISBLANK(Rådata!K719),\"\",(SUM(Rådata!M719:P719)*100)/SUM(Rådata!H719:K719))","v":""},{"$f":"IF(ISBLANK(Rådata!H719),\"\",((SUM(Rådata!J719:L719)-SUM(Rådata!O719:P719))*100)/SUM(Rådata!H719:L719))","v":""},{"$f":"IF(ISBLANK(Rådata!R719),\"\",(Rådata!Q719*100)/Rådata!R719)","v":""}]
[{"$f":"IF(ISBLANK(Rådata!A720)=TRUE,\"\",Rådata!A720)","v":""},{"$f":"IF(ISBLANK(Rådata!A720)=TRUE,\"\",YEAR(A720))","v":""},{"$f":"IF(ISBLANK(Rådata!A720)=TRUE,\"\",VLOOKUP(MONTH(A720),Opsætning!$G$3:$H$14,2,FALSE))","v":""},{"$f":"IF(ISBLANK(Rådata!B720)=TRUE,\"\",(Rådata!C720*100)/Rådata!B720)","v":""},{"$f":"IF(ISBLANK(Rådata!D720)=TRUE,\"\",((Rådata!D720-Rådata!E720)*100)/Rådata!D720)","v":""},{"$f":"IF(ISBLANK(Rådata!G720)=TRUE,\"\",(Rådata!F720*100)/Rådata!G720)","v":""},{"$f":"IF(ISBLANK(Rådata!K720),\"\",(SUM(Rådata!M720:P720)*100)/SUM(Rådata!H720:K720))","v":""},{"$f":"IF(ISBLANK(Rådata!H720),\"\",((SUM(Rådata!J720:L720)-SUM(Rådata!O720:P720))*100)/SUM(Rådata!H720:L720))","v":""},{"$f":"IF(ISBLANK(Rådata!R720),\"\",(Rådata!Q720*100)/Rådata!R720)","v":""}]
[{"$f":"IF(ISBLANK(Rådata!A721)=TRUE,\"\",Rådata!A721)","v":""},{"$f":"IF(ISBLANK(Rådata!A721)=TRUE,\"\",YEAR(A721))","v":""},{"$f":"IF(ISBLANK(Rådata!A721)=TRUE,\"\",VLOOKUP(MONTH(A721),Opsætning!$G$3:$H$14,2,FALSE))","v":""},{"$f":"IF(ISBLANK(Rådata!B721)=TRUE,\"\",(Rådata!C721*100)/Rådata!B721)","v":""},{"$f":"IF(ISBLANK(Rådata!D721)=TRUE,\"\",((Rådata!D721-Rådata!E721)*100)/Rådata!D721)","v":""},{"$f":"IF(ISBLANK(Rådata!G721)=TRUE,\"\",(Rådata!F721*100)/Rådata!G721)","v":""},{"$f":"IF(ISBLANK(Rådata!K721),\"\",(SUM(Rådata!M721:P721)*100)/SUM(Rådata!H721:K721))","v":""},{"$f":"IF(ISBLANK(Rådata!H721),\"\",((SUM(Rådata!J721:L721)-SUM(Rådata!O721:P721))*100)/SUM(Rådata!H721:L721))","v":""},{"$f":"IF(ISBLANK(Rådata!R721),\"\",(Rådata!Q721*100)/Rådata!R721)","v":""}]
[{"$f":"IF(ISBLANK(Rådata!A722)=TRUE,\"\",Rådata!A722)","v":""},{"$f":"IF(ISBLANK(Rådata!A722)=TRUE,\"\",YEAR(A722))","v":""},{"$f":"IF(ISBLANK(Rådata!A722)=TRUE,\"\",VLOOKUP(MONTH(A722),Opsætning!$G$3:$H$14,2,FALSE))","v":""},{"$f":"IF(ISBLANK(Rådata!B722)=TRUE,\"\",(Rådata!C722*100)/Rådata!B722)","v":""},{"$f":"IF(ISBLANK(Rådata!D722)=TRUE,\"\",((Rådata!D722-Rådata!E722)*100)/Rådata!D722)","v":""},{"$f":"IF(ISBLANK(Rådata!G722)=TRUE,\"\",(Rådata!F722*100)/Rådata!G722)","v":""},{"$f":"IF(ISBLANK(Rådata!K722),\"\",(SUM(Rådata!M722:P722)*100)/SUM(Rådata!H722:K722))","v":""},{"$f":"IF(ISBLANK(Rådata!H722),\"\",((SUM(Rådata!J722:L722)-SUM(Rådata!O722:P722))*100)/SUM(Rådata!H722:L722))","v":""},{"$f":"IF(ISBLANK(Rådata!R722),\"\",(Rådata!Q722*100)/Rådata!R722)","v":""}]
[{"$f":"IF(ISBLANK(Rådata!A723)=TRUE,\"\",Rådata!A723)","v":""},{"$f":"IF(ISBLANK(Rådata!A723)=TRUE,\"\",YEAR(A723))","v":""},{"$f":"IF(ISBLANK(Rådata!A723)=TRUE,\"\",VLOOKUP(MONTH(A723),Opsætning!$G$3:$H$14,2,FALSE))","v":""},{"$f":"IF(ISBLANK(Rådata!B723)=TRUE,\"\",(Rådata!C723*100)/Rådata!B723)","v":""},{"$f":"IF(ISBLANK(Rådata!D723)=TRUE,\"\",((Rådata!D723-Rådata!E723)*100)/Rådata!D723)","v":""},{"$f":"IF(ISBLANK(Rådata!G723)=TRUE,\"\",(Rådata!F723*100)/Rådata!G723)","v":""},{"$f":"IF(ISBLANK(Rådata!K723),\"\",(SUM(Rådata!M723:P723)*100)/SUM(Rådata!H723:K723))","v":""},{"$f":"IF(ISBLANK(Rådata!H723),\"\",((SUM(Rådata!J723:L723)-SUM(Rådata!O723:P723))*100)/SUM(Rådata!H723:L723))","v":""},{"$f":"IF(ISBLANK(Rådata!R723),\"\",(Rådata!Q723*100)/Rådata!R723)","v":""}]
[{"$f":"IF(ISBLANK(Rådata!A724)=TRUE,\"\",Rådata!A724)","v":""},{"$f":"IF(ISBLANK(Rådata!A724)=TRUE,\"\",YEAR(A724))","v":""},{"$f":"IF(ISBLANK(Rådata!A724)=TRUE,\"\",VLOOKUP(MONTH(A724),Opsætning!$G$3:$H$14,2,FALSE))","v":""},{"$f":"IF(ISBLANK(Rådata!B724)=TRUE,\"\",(Rådata!C724*100)/Rådata!B724)","v":""},{"$f":"IF(ISBLANK(Rådata!D724)=TRUE,\"\",((Rådata!D724-Rådata!E724)*100)/Rådata!D724)","v":""},{"$f":"IF(ISBLANK(Rådata!G724)=TRUE,\"\",(Rådata!F724*100)/Rådata!G724)","v":""},{"$f":"IF(ISBLANK(Rådata!K724),\"\",(SUM(Rådata!M724:P724)*100)/SUM(Rådata!H724:K724))","v":""},{"$f":"IF(ISBLANK(Rådata!H724),\"\",((SUM(Rådata!J724:L724)-SUM(Rådata!O724:P724))*100)/SUM(Rådata!H724:L724))","v":""},{"$f":"IF(ISBLANK(Rådata!R724),\"\",(Rådata!Q724*100)/Rådata!R724)","v":""}]
[{"$f":"IF(ISBLANK(Rådata!A725)=TRUE,\"\",Rådata!A725)","v":""},{"$f":"IF(ISBLANK(Rådata!A725)=TRUE,\"\",YEAR(A725))","v":""},{"$f":"IF(ISBLANK(Rådata!A725)=TRUE,\"\",VLOOKUP(MONTH(A725),Opsætning!$G$3:$H$14,2,FALSE))","v":""},{"$f":"IF(ISBLANK(Rådata!B725)=TRUE,\"\",(Rådata!C725*100)/Rådata!B725)","v":""},{"$f":"IF(ISBLANK(Rådata!D725)=TRUE,\"\",((Rådata!D725-Rådata!E725)*100)/Rådata!D725)","v":""},{"$f":"IF(ISBLANK(Rådata!G725)=TRUE,\"\",(Rådata!F725*100)/Rådata!G725)","v":""},{"$f":"IF(ISBLANK(Rådata!K725),\"\",(SUM(Rådata!M725:P725)*100)/SUM(Rådata!H725:K725))","v":""},{"$f":"IF(ISBLANK(Rådata!H725),\"\",((SUM(Rådata!J725:L725)-SUM(Rådata!O725:P725))*100)/SUM(Rådata!H725:L725))","v":""},{"$f":"IF(ISBLANK(Rådata!R725),\"\",(Rådata!Q725*100)/Rådata!R725)","v":""}]
[{"$f":"IF(ISBLANK(Rådata!A726)=TRUE,\"\",Rådata!A726)","v":""},{"$f":"IF(ISBLANK(Rådata!A726)=TRUE,\"\",YEAR(A726))","v":""},{"$f":"IF(ISBLANK(Rådata!A726)=TRUE,\"\",VLOOKUP(MONTH(A726),Opsætning!$G$3:$H$14,2,FALSE))","v":""},{"$f":"IF(ISBLANK(Rådata!B726)=TRUE,\"\",(Rådata!C726*100)/Rådata!B726)","v":""},{"$f":"IF(ISBLANK(Rådata!D726)=TRUE,\"\",((Rådata!D726-Rådata!E726)*100)/Rådata!D726)","v":""},{"$f":"IF(ISBLANK(Rådata!G726)=TRUE,\"\",(Rådata!F726*100)/Rådata!G726)","v":""},{"$f":"IF(ISBLANK(Rådata!K726),\"\",(SUM(Rådata!M726:P726)*100)/SUM(Rådata!H726:K726))","v":""},{"$f":"IF(ISBLANK(Rådata!H726),\"\",((SUM(Rådata!J726:L726)-SUM(Rådata!O726:P726))*100)/SUM(Rådata!H726:L726))","v":""},{"$f":"IF(ISBLANK(Rådata!R726),\"\",(Rådata!Q726*100)/Rådata!R726)","v":""}]
[{"$f":"IF(ISBLANK(Rådata!A727)=TRUE,\"\",Rådata!A727)","v":""},{"$f":"IF(ISBLANK(Rådata!A727)=TRUE,\"\",YEAR(A727))","v":""},{"$f":"IF(ISBLANK(Rådata!A727)=TRUE,\"\",VLOOKUP(MONTH(A727),Opsætning!$G$3:$H$14,2,FALSE))","v":""},{"$f":"IF(ISBLANK(Rådata!B727)=TRUE,\"\",(Rådata!C727*100)/Rådata!B727)","v":""},{"$f":"IF(ISBLANK(Rådata!D727)=TRUE,\"\",((Rådata!D727-Rådata!E727)*100)/Rådata!D727)","v":""},{"$f":"IF(ISBLANK(Rådata!G727)=TRUE,\"\",(Rådata!F727*100)/Rådata!G727)","v":""},{"$f":"IF(ISBLANK(Rådata!K727),\"\",(SUM(Rådata!M727:P727)*100)/SUM(Rådata!H727:K727))","v":""},{"$f":"IF(ISBLANK(Rådata!H727),\"\",((SUM(Rådata!J727:L727)-SUM(Rådata!O727:P727))*100)/SUM(Rådata!H727:L727))","v":""},{"$f":"IF(ISBLANK(Rådata!R727),\"\",(Rådata!Q727*100)/Rådata!R727)","v":""}]
[{"$f":"IF(ISBLANK(Rådata!A728)=TRUE,\"\",Rådata!A728)","v":""},{"$f":"IF(ISBLANK(Rådata!A728)=TRUE,\"\",YEAR(A728))","v":""},{"$f":"IF(ISBLANK(Rådata!A728)=TRUE,\"\",VLOOKUP(MONTH(A728),Opsætning!$G$3:$H$14,2,FALSE))","v":""},{"$f":"IF(ISBLANK(Rådata!B728)=TRUE,\"\",(Rådata!C728*100)/Rådata!B728)","v":""},{"$f":"IF(ISBLANK(Rådata!D728)=TRUE,\"\",((Rådata!D728-Rådata!E728)*100)/Rådata!D728)","v":""},{"$f":"IF(ISBLANK(Rådata!G728)=TRUE,\"\",(Rådata!F728*100)/Rådata!G728)","v":""},{"$f":"IF(ISBLANK(Rådata!K728),\"\",(SUM(Rådata!M728:P728)*100)/SUM(Rådata!H728:K728))","v":""},{"$f":"IF(ISBLANK(Rådata!H728),\"\",((SUM(Rådata!J728:L728)-SUM(Rådata!O728:P728))*100)/SUM(Rådata!H728:L728))","v":""},{"$f":"IF(ISBLANK(Rådata!R728),\"\",(Rådata!Q728*100)/Rådata!R728)","v":""}]
[{"$f":"IF(ISBLANK(Rådata!A729)=TRUE,\"\",Rådata!A729)","v":""},{"$f":"IF(ISBLANK(Rådata!A729)=TRUE,\"\",YEAR(A729))","v":""},{"$f":"IF(ISBLANK(Rådata!A729)=TRUE,\"\",VLOOKUP(MONTH(A729),Opsætning!$G$3:$H$14,2,FALSE))","v":""},{"$f":"IF(ISBLANK(Rådata!B729)=TRUE,\"\",(Rådata!C729*100)/Rådata!B729)","v":""},{"$f":"IF(ISBLANK(Rådata!D729)=TRUE,\"\",((Rådata!D729-Rådata!E729)*100)/Rådata!D729)","v":""},{"$f":"IF(ISBLANK(Rådata!G729)=TRUE,\"\",(Rådata!F729*100)/Rådata!G729)","v":""},{"$f":"IF(ISBLANK(Rådata!K729),\"\",(SUM(Rådata!M729:P729)*100)/SUM(Rådata!H729:K729))","v":""},{"$f":"IF(ISBLANK(Rådata!H729),\"\",((SUM(Rådata!J729:L729)-SUM(Rådata!O729:P729))*100)/SUM(Rådata!H729:L729))","v":""},{"$f":"IF(ISBLANK(Rådata!R729),\"\",(Rådata!Q729*100)/Rådata!R729)","v":""}]
[{"$f":"IF(ISBLANK(Rådata!A730)=TRUE,\"\",Rådata!A730)","v":""},{"$f":"IF(ISBLANK(Rådata!A730)=TRUE,\"\",YEAR(A730))","v":""},{"$f":"IF(ISBLANK(Rådata!A730)=TRUE,\"\",VLOOKUP(MONTH(A730),Opsætning!$G$3:$H$14,2,FALSE))","v":""},{"$f":"IF(ISBLANK(Rådata!B730)=TRUE,\"\",(Rådata!C730*100)/Rådata!B730)","v":""},{"$f":"IF(ISBLANK(Rådata!D730)=TRUE,\"\",((Rådata!D730-Rådata!E730)*100)/Rådata!D730)","v":""},{"$f":"IF(ISBLANK(Rådata!G730)=TRUE,\"\",(Rådata!F730*100)/Rådata!G730)","v":""},{"$f":"IF(ISBLANK(Rådata!K730),\"\",(SUM(Rådata!M730:P730)*100)/SUM(Rådata!H730:K730))","v":""},{"$f":"IF(ISBLANK(Rådata!H730),\"\",((SUM(Rådata!J730:L730)-SUM(Rådata!O730:P730))*100)/SUM(Rådata!H730:L730))","v":""},{"$f":"IF(ISBLANK(Rådata!R730),\"\",(Rådata!Q730*100)/Rådata!R730)","v":""}]
[{"$f":"IF(ISBLANK(Rådata!A731)=TRUE,\"\",Rådata!A731)","v":""},{"$f":"IF(ISBLANK(Rådata!A731)=TRUE,\"\",YEAR(A731))","v":""},{"$f":"IF(ISBLANK(Rådata!A731)=TRUE,\"\",VLOOKUP(MONTH(A731),Opsætning!$G$3:$H$14,2,FALSE))","v":""},{"$f":"IF(ISBLANK(Rådata!B731)=TRUE,\"\",(Rådata!C731*100)/Rådata!B731)","v":""},{"$f":"IF(ISBLANK(Rådata!D731)=TRUE,\"\",((Rådata!D731-Rådata!E731)*100)/Rådata!D731)","v":""},{"$f":"IF(ISBLANK(Rådata!G731)=TRUE,\"\",(Rådata!F731*100)/Rådata!G731)","v":""},{"$f":"IF(ISBLANK(Rådata!K731),\"\",(SUM(Rådata!M731:P731)*100)/SUM(Rådata!H731:K731))","v":""},{"$f":"IF(ISBLANK(Rådata!H731),\"\",((SUM(Rådata!J731:L731)-SUM(Rådata!O731:P731))*100)/SUM(Rådata!H731:L731))","v":""},{"$f":"IF(ISBLANK(Rådata!R731),\"\",(Rådata!Q731*100)/Rådata!R731)","v":""}]
[{"$f":"IF(ISBLANK(Rådata!A732)=TRUE,\"\",Rådata!A732)","v":""},{"$f":"IF(ISBLANK(Rådata!A732)=TRUE,\"\",YEAR(A732))","v":""},{"$f":"IF(ISBLANK(Rådata!A732)=TRUE,\"\",VLOOKUP(MONTH(A732),Opsætning!$G$3:$H$14,2,FALSE))","v":""},{"$f":"IF(ISBLANK(Rådata!B732)=TRUE,\"\",(Rådata!C732*100)/Rådata!B732)","v":""},{"$f":"IF(ISBLANK(Rådata!D732)=TRUE,\"\",((Rådata!D732-Rådata!E732)*100)/Rådata!D732)","v":""},{"$f":"IF(ISBLANK(Rådata!G732)=TRUE,\"\",(Rådata!F732*100)/Rådata!G732)","v":""},{"$f":"IF(ISBLANK(Rådata!K732),\"\",(SUM(Rådata!M732:P732)*100)/SUM(Rådata!H732:K732))","v":""},{"$f":"IF(ISBLANK(Rådata!H732),\"\",((SUM(Rådata!J732:L732)-SUM(Rådata!O732:P732))*100)/SUM(Rådata!H732:L732))","v":""},{"$f":"IF(ISBLANK(Rådata!R732),\"\",(Rådata!Q732*100)/Rådata!R732)","v":""}]
[{"$f":"IF(ISBLANK(Rådata!A733)=TRUE,\"\",Rådata!A733)","v":""},{"$f":"IF(ISBLANK(Rådata!A733)=TRUE,\"\",YEAR(A733))","v":""},{"$f":"IF(ISBLANK(Rådata!A733)=TRUE,\"\",VLOOKUP(MONTH(A733),Opsætning!$G$3:$H$14,2,FALSE))","v":""},{"$f":"IF(ISBLANK(Rådata!B733)=TRUE,\"\",(Rådata!C733*100)/Rådata!B733)","v":""},{"$f":"IF(ISBLANK(Rådata!D733)=TRUE,\"\",((Rådata!D733-Rådata!E733)*100)/Rådata!D733)","v":""},{"$f":"IF(ISBLANK(Rådata!G733)=TRUE,\"\",(Rådata!F733*100)/Rådata!G733)","v":""},{"$f":"IF(ISBLANK(Rådata!K733),\"\",(SUM(Rådata!M733:P733)*100)/SUM(Rådata!H733:K733))","v":""},{"$f":"IF(ISBLANK(Rådata!H733),\"\",((SUM(Rådata!J733:L733)-SUM(Rådata!O733:P733))*100)/SUM(Rådata!H733:L733))","v":""},{"$f":"IF(ISBLANK(Rådata!R733),\"\",(Rådata!Q733*100)/Rådata!R733)","v":""}]
[{"$f":"IF(ISBLANK(Rådata!A734)=TRUE,\"\",Rådata!A734)","v":""},{"$f":"IF(ISBLANK(Rådata!A734)=TRUE,\"\",YEAR(A734))","v":""},{"$f":"IF(ISBLANK(Rådata!A734)=TRUE,\"\",VLOOKUP(MONTH(A734),Opsætning!$G$3:$H$14,2,FALSE))","v":""},{"$f":"IF(ISBLANK(Rådata!B734)=TRUE,\"\",(Rådata!C734*100)/Rådata!B734)","v":""},{"$f":"IF(ISBLANK(Rådata!D734)=TRUE,\"\",((Rådata!D734-Rådata!E734)*100)/Rådata!D734)","v":""},{"$f":"IF(ISBLANK(Rådata!G734)=TRUE,\"\",(Rådata!F734*100)/Rådata!G734)","v":""},{"$f":"IF(ISBLANK(Rådata!K734),\"\",(SUM(Rådata!M734:P734)*100)/SUM(Rådata!H734:K734))","v":""},{"$f":"IF(ISBLANK(Rådata!H734),\"\",((SUM(Rådata!J734:L734)-SUM(Rådata!O734:P734))*100)/SUM(Rådata!H734:L734))","v":""},{"$f":"IF(ISBLANK(Rådata!R734),\"\",(Rådata!Q734*100)/Rådata!R734)","v":""}]
[{"$f":"IF(ISBLANK(Rådata!A735)=TRUE,\"\",Rådata!A735)","v":""},{"$f":"IF(ISBLANK(Rådata!A735)=TRUE,\"\",YEAR(A735))","v":""},{"$f":"IF(ISBLANK(Rådata!A735)=TRUE,\"\",VLOOKUP(MONTH(A735),Opsætning!$G$3:$H$14,2,FALSE))","v":""},{"$f":"IF(ISBLANK(Rådata!B735)=TRUE,\"\",(Rådata!C735*100)/Rådata!B735)","v":""},{"$f":"IF(ISBLANK(Rådata!D735)=TRUE,\"\",((Rådata!D735-Rådata!E735)*100)/Rådata!D735)","v":""},{"$f":"IF(ISBLANK(Rådata!G735)=TRUE,\"\",(Rådata!F735*100)/Rådata!G735)","v":""},{"$f":"IF(ISBLANK(Rådata!K735),\"\",(SUM(Rådata!M735:P735)*100)/SUM(Rådata!H735:K735))","v":""},{"$f":"IF(ISBLANK(Rådata!H735),\"\",((SUM(Rådata!J735:L735)-SUM(Rådata!O735:P735))*100)/SUM(Rådata!H735:L735))","v":""},{"$f":"IF(ISBLANK(Rådata!R735),\"\",(Rådata!Q735*100)/Rådata!R735)","v":""}]
[{"$f":"IF(ISBLANK(Rådata!A736)=TRUE,\"\",Rådata!A736)","v":""},{"$f":"IF(ISBLANK(Rådata!A736)=TRUE,\"\",YEAR(A736))","v":""},{"$f":"IF(ISBLANK(Rådata!A736)=TRUE,\"\",VLOOKUP(MONTH(A736),Opsætning!$G$3:$H$14,2,FALSE))","v":""},{"$f":"IF(ISBLANK(Rådata!B736)=TRUE,\"\",(Rådata!C736*100)/Rådata!B736)","v":""},{"$f":"IF(ISBLANK(Rådata!D736)=TRUE,\"\",((Rådata!D736-Rådata!E736)*100)/Rådata!D736)","v":""},{"$f":"IF(ISBLANK(Rådata!G736)=TRUE,\"\",(Rådata!F736*100)/Rådata!G736)","v":""},{"$f":"IF(ISBLANK(Rådata!K736),\"\",(SUM(Rådata!M736:P736)*100)/SUM(Rådata!H736:K736))","v":""},{"$f":"IF(ISBLANK(Rådata!H736),\"\",((SUM(Rådata!J736:L736)-SUM(Rådata!O736:P736))*100)/SUM(Rådata!H736:L736))","v":""},{"$f":"IF(ISBLANK(Rådata!R736),\"\",(Rådata!Q736*100)/Rådata!R736)","v":""}]
[{"$f":"IF(ISBLANK(Rådata!A737)=TRUE,\"\",Rådata!A737)","v":""},{"$f":"IF(ISBLANK(Rådata!A737)=TRUE,\"\",YEAR(A737))","v":""},{"$f":"IF(ISBLANK(Rådata!A737)=TRUE,\"\",VLOOKUP(MONTH(A737),Opsætning!$G$3:$H$14,2,FALSE))","v":""},{"$f":"IF(ISBLANK(Rådata!B737)=TRUE,\"\",(Rådata!C737*100)/Rådata!B737)","v":""},{"$f":"IF(ISBLANK(Rådata!D737)=TRUE,\"\",((Rådata!D737-Rådata!E737)*100)/Rådata!D737)","v":""},{"$f":"IF(ISBLANK(Rådata!G737)=TRUE,\"\",(Rådata!F737*100)/Rådata!G737)","v":""},{"$f":"IF(ISBLANK(Rådata!K737),\"\",(SUM(Rådata!M737:P737)*100)/SUM(Rådata!H737:K737))","v":""},{"$f":"IF(ISBLANK(Rådata!H737),\"\",((SUM(Rådata!J737:L737)-SUM(Rådata!O737:P737))*100)/SUM(Rådata!H737:L737))","v":""},{"$f":"IF(ISBLANK(Rådata!R737),\"\",(Rådata!Q737*100)/Rådata!R737)","v":""}]
[{"$f":"IF(ISBLANK(Rådata!A738)=TRUE,\"\",Rådata!A738)","v":""},{"$f":"IF(ISBLANK(Rådata!A738)=TRUE,\"\",YEAR(A738))","v":""},{"$f":"IF(ISBLANK(Rådata!A738)=TRUE,\"\",VLOOKUP(MONTH(A738),Opsætning!$G$3:$H$14,2,FALSE))","v":""},{"$f":"IF(ISBLANK(Rådata!B738)=TRUE,\"\",(Rådata!C738*100)/Rådata!B738)","v":""},{"$f":"IF(ISBLANK(Rådata!D738)=TRUE,\"\",((Rådata!D738-Rådata!E738)*100)/Rådata!D738)","v":""},{"$f":"IF(ISBLANK(Rådata!G738)=TRUE,\"\",(Rådata!F738*100)/Rådata!G738)","v":""},{"$f":"IF(ISBLANK(Rådata!K738),\"\",(SUM(Rådata!M738:P738)*100)/SUM(Rådata!H738:K738))","v":""},{"$f":"IF(ISBLANK(Rådata!H738),\"\",((SUM(Rådata!J738:L738)-SUM(Rådata!O738:P738))*100)/SUM(Rådata!H738:L738))","v":""},{"$f":"IF(ISBLANK(Rådata!R738),\"\",(Rådata!Q738*100)/Rådata!R738)","v":""}]
[{"$f":"IF(ISBLANK(Rådata!A739)=TRUE,\"\",Rådata!A739)","v":""},{"$f":"IF(ISBLANK(Rådata!A739)=TRUE,\"\",YEAR(A739))","v":""},{"$f":"IF(ISBLANK(Rådata!A739)=TRUE,\"\",VLOOKUP(MONTH(A739),Opsætning!$G$3:$H$14,2,FALSE))","v":""},{"$f":"IF(ISBLANK(Rådata!B739)=TRUE,\"\",(Rådata!C739*100)/Rådata!B739)","v":""},{"$f":"IF(ISBLANK(Rådata!D739)=TRUE,\"\",((Rådata!D739-Rådata!E739)*100)/Rådata!D739)","v":""},{"$f":"IF(ISBLANK(Rådata!G739)=TRUE,\"\",(Rådata!F739*100)/Rådata!G739)","v":""},{"$f":"IF(ISBLANK(Rådata!K739),\"\",(SUM(Rådata!M739:P739)*100)/SUM(Rådata!H739:K739))","v":""},{"$f":"IF(ISBLANK(Rådata!H739),\"\",((SUM(Rådata!J739:L739)-SUM(Rådata!O739:P739))*100)/SUM(Rådata!H739:L739))","v":""},{"$f":"IF(ISBLANK(Rådata!R739),\"\",(Rådata!Q739*100)/Rådata!R739)","v":""}]
[{"$f":"IF(ISBLANK(Rådata!A740)=TRUE,\"\",Rådata!A740)","v":""},{"$f":"IF(ISBLANK(Rådata!A740)=TRUE,\"\",YEAR(A740))","v":""},{"$f":"IF(ISBLANK(Rådata!A740)=TRUE,\"\",VLOOKUP(MONTH(A740),Opsætning!$G$3:$H$14,2,FALSE))","v":""},{"$f":"IF(ISBLANK(Rådata!B740)=TRUE,\"\",(Rådata!C740*100)/Rådata!B740)","v":""},{"$f":"IF(ISBLANK(Rådata!D740)=TRUE,\"\",((Rådata!D740-Rådata!E740)*100)/Rådata!D740)","v":""},{"$f":"IF(ISBLANK(Rådata!G740)=TRUE,\"\",(Rådata!F740*100)/Rådata!G740)","v":""},{"$f":"IF(ISBLANK(Rådata!K740),\"\",(SUM(Rådata!M740:P740)*100)/SUM(Rådata!H740:K740))","v":""},{"$f":"IF(ISBLANK(Rådata!H740),\"\",((SUM(Rådata!J740:L740)-SUM(Rådata!O740:P740))*100)/SUM(Rådata!H740:L740))","v":""},{"$f":"IF(ISBLANK(Rådata!R740),\"\",(Rådata!Q740*100)/Rådata!R740)","v":""}]
[{"$f":"IF(ISBLANK(Rådata!A741)=TRUE,\"\",Rådata!A741)","v":""},{"$f":"IF(ISBLANK(Rådata!A741)=TRUE,\"\",YEAR(A741))","v":""},{"$f":"IF(ISBLANK(Rådata!A741)=TRUE,\"\",VLOOKUP(MONTH(A741),Opsætning!$G$3:$H$14,2,FALSE))","v":""},{"$f":"IF(ISBLANK(Rådata!B741)=TRUE,\"\",(Rådata!C741*100)/Rådata!B741)","v":""},{"$f":"IF(ISBLANK(Rådata!D741)=TRUE,\"\",((Rådata!D741-Rådata!E741)*100)/Rådata!D741)","v":""},{"$f":"IF(ISBLANK(Rådata!G741)=TRUE,\"\",(Rådata!F741*100)/Rådata!G741)","v":""},{"$f":"IF(ISBLANK(Rådata!K741),\"\",(SUM(Rådata!M741:P741)*100)/SUM(Rådata!H741:K741))","v":""},{"$f":"IF(ISBLANK(Rådata!H741),\"\",((SUM(Rådata!J741:L741)-SUM(Rådata!O741:P741))*100)/SUM(Rådata!H741:L741))","v":""},{"$f":"IF(ISBLANK(Rådata!R741),\"\",(Rådata!Q741*100)/Rådata!R741)","v":""}]
[{"$f":"IF(ISBLANK(Rådata!A742)=TRUE,\"\",Rådata!A742)","v":""},{"$f":"IF(ISBLANK(Rådata!A742)=TRUE,\"\",YEAR(A742))","v":""},{"$f":"IF(ISBLANK(Rådata!A742)=TRUE,\"\",VLOOKUP(MONTH(A742),Opsætning!$G$3:$H$14,2,FALSE))","v":""},{"$f":"IF(ISBLANK(Rådata!B742)=TRUE,\"\",(Rådata!C742*100)/Rådata!B742)","v":""},{"$f":"IF(ISBLANK(Rådata!D742)=TRUE,\"\",((Rådata!D742-Rådata!E742)*100)/Rådata!D742)","v":""},{"$f":"IF(ISBLANK(Rådata!G742)=TRUE,\"\",(Rådata!F742*100)/Rådata!G742)","v":""},{"$f":"IF(ISBLANK(Rådata!K742),\"\",(SUM(Rådata!M742:P742)*100)/SUM(Rådata!H742:K742))","v":""},{"$f":"IF(ISBLANK(Rådata!H742),\"\",((SUM(Rådata!J742:L742)-SUM(Rådata!O742:P742))*100)/SUM(Rådata!H742:L742))","v":""},{"$f":"IF(ISBLANK(Rådata!R742),\"\",(Rådata!Q742*100)/Rådata!R742)","v":""}]
[{"$f":"IF(ISBLANK(Rådata!A743)=TRUE,\"\",Rådata!A743)","v":""},{"$f":"IF(ISBLANK(Rådata!A743)=TRUE,\"\",YEAR(A743))","v":""},{"$f":"IF(ISBLANK(Rådata!A743)=TRUE,\"\",VLOOKUP(MONTH(A743),Opsætning!$G$3:$H$14,2,FALSE))","v":""},{"$f":"IF(ISBLANK(Rådata!B743)=TRUE,\"\",(Rådata!C743*100)/Rådata!B743)","v":""},{"$f":"IF(ISBLANK(Rådata!D743)=TRUE,\"\",((Rådata!D743-Rådata!E743)*100)/Rådata!D743)","v":""},{"$f":"IF(ISBLANK(Rådata!G743)=TRUE,\"\",(Rådata!F743*100)/Rådata!G743)","v":""},{"$f":"IF(ISBLANK(Rådata!K743),\"\",(SUM(Rådata!M743:P743)*100)/SUM(Rådata!H743:K743))","v":""},{"$f":"IF(ISBLANK(Rådata!H743),\"\",((SUM(Rådata!J743:L743)-SUM(Rådata!O743:P743))*100)/SUM(Rådata!H743:L743))","v":""},{"$f":"IF(ISBLANK(Rådata!R743),\"\",(Rådata!Q743*100)/Rådata!R743)","v":""}]
[{"$f":"IF(ISBLANK(Rådata!A744)=TRUE,\"\",Rådata!A744)","v":""},{"$f":"IF(ISBLANK(Rådata!A744)=TRUE,\"\",YEAR(A744))","v":""},{"$f":"IF(ISBLANK(Rådata!A744)=TRUE,\"\",VLOOKUP(MONTH(A744),Opsætning!$G$3:$H$14,2,FALSE))","v":""},{"$f":"IF(ISBLANK(Rådata!B744)=TRUE,\"\",(Rådata!C744*100)/Rådata!B744)","v":""},{"$f":"IF(ISBLANK(Rådata!D744)=TRUE,\"\",((Rådata!D744-Rådata!E744)*100)/Rådata!D744)","v":""},{"$f":"IF(ISBLANK(Rådata!G744)=TRUE,\"\",(Rådata!F744*100)/Rådata!G744)","v":""},{"$f":"IF(ISBLANK(Rådata!K744),\"\",(SUM(Rådata!M744:P744)*100)/SUM(Rådata!H744:K744))","v":""},{"$f":"IF(ISBLANK(Rådata!H744),\"\",((SUM(Rådata!J744:L744)-SUM(Rådata!O744:P744))*100)/SUM(Rådata!H744:L744))","v":""},{"$f":"IF(ISBLANK(Rådata!R744),\"\",(Rådata!Q744*100)/Rådata!R744)","v":""}]
[{"$f":"IF(ISBLANK(Rådata!A745)=TRUE,\"\",Rådata!A745)","v":""},{"$f":"IF(ISBLANK(Rådata!A745)=TRUE,\"\",YEAR(A745))","v":""},{"$f":"IF(ISBLANK(Rådata!A745)=TRUE,\"\",VLOOKUP(MONTH(A745),Opsætning!$G$3:$H$14,2,FALSE))","v":""},{"$f":"IF(ISBLANK(Rådata!B745)=TRUE,\"\",(Rådata!C745*100)/Rådata!B745)","v":""},{"$f":"IF(ISBLANK(Rådata!D745)=TRUE,\"\",((Rådata!D745-Rådata!E745)*100)/Rådata!D745)","v":""},{"$f":"IF(ISBLANK(Rådata!G745)=TRUE,\"\",(Rådata!F745*100)/Rådata!G745)","v":""},{"$f":"IF(ISBLANK(Rådata!K745),\"\",(SUM(Rådata!M745:P745)*100)/SUM(Rådata!H745:K745))","v":""},{"$f":"IF(ISBLANK(Rådata!H745),\"\",((SUM(Rådata!J745:L745)-SUM(Rådata!O745:P745))*100)/SUM(Rådata!H745:L745))","v":""},{"$f":"IF(ISBLANK(Rådata!R745),\"\",(Rådata!Q745*100)/Rådata!R745)","v":""}]
[{"$f":"IF(ISBLANK(Rådata!A746)=TRUE,\"\",Rådata!A746)","v":""},{"$f":"IF(ISBLANK(Rådata!A746)=TRUE,\"\",YEAR(A746))","v":""},{"$f":"IF(ISBLANK(Rådata!A746)=TRUE,\"\",VLOOKUP(MONTH(A746),Opsætning!$G$3:$H$14,2,FALSE))","v":""},{"$f":"IF(ISBLANK(Rådata!B746)=TRUE,\"\",(Rådata!C746*100)/Rådata!B746)","v":""},{"$f":"IF(ISBLANK(Rådata!D746)=TRUE,\"\",((Rådata!D746-Rådata!E746)*100)/Rådata!D746)","v":""},{"$f":"IF(ISBLANK(Rådata!G746)=TRUE,\"\",(Rådata!F746*100)/Rådata!G746)","v":""},{"$f":"IF(ISBLANK(Rådata!K746),\"\",(SUM(Rådata!M746:P746)*100)/SUM(Rådata!H746:K746))","v":""},{"$f":"IF(ISBLANK(Rådata!H746),\"\",((SUM(Rådata!J746:L746)-SUM(Rådata!O746:P746))*100)/SUM(Rådata!H746:L746))","v":""},{"$f":"IF(ISBLANK(Rådata!R746),\"\",(Rådata!Q746*100)/Rådata!R746)","v":""}]
[{"$f":"IF(ISBLANK(Rådata!A747)=TRUE,\"\",Rådata!A747)","v":""},{"$f":"IF(ISBLANK(Rådata!A747)=TRUE,\"\",YEAR(A747))","v":""},{"$f":"IF(ISBLANK(Rådata!A747)=TRUE,\"\",VLOOKUP(MONTH(A747),Opsætning!$G$3:$H$14,2,FALSE))","v":""},{"$f":"IF(ISBLANK(Rådata!B747)=TRUE,\"\",(Rådata!C747*100)/Rådata!B747)","v":""},{"$f":"IF(ISBLANK(Rådata!D747)=TRUE,\"\",((Rådata!D747-Rådata!E747)*100)/Rådata!D747)","v":""},{"$f":"IF(ISBLANK(Rådata!G747)=TRUE,\"\",(Rådata!F747*100)/Rådata!G747)","v":""},{"$f":"IF(ISBLANK(Rådata!K747),\"\",(SUM(Rådata!M747:P747)*100)/SUM(Rådata!H747:K747))","v":""},{"$f":"IF(ISBLANK(Rådata!H747),\"\",((SUM(Rådata!J747:L747)-SUM(Rådata!O747:P747))*100)/SUM(Rådata!H747:L747))","v":""},{"$f":"IF(ISBLANK(Rådata!R747),\"\",(Rådata!Q747*100)/Rådata!R747)","v":""}]
[{"$f":"IF(ISBLANK(Rådata!A748)=TRUE,\"\",Rådata!A748)","v":""},{"$f":"IF(ISBLANK(Rådata!A748)=TRUE,\"\",YEAR(A748))","v":""},{"$f":"IF(ISBLANK(Rådata!A748)=TRUE,\"\",VLOOKUP(MONTH(A748),Opsætning!$G$3:$H$14,2,FALSE))","v":""},{"$f":"IF(ISBLANK(Rådata!B748)=TRUE,\"\",(Rådata!C748*100)/Rådata!B748)","v":""},{"$f":"IF(ISBLANK(Rådata!D748)=TRUE,\"\",((Rådata!D748-Rådata!E748)*100)/Rådata!D748)","v":""},{"$f":"IF(ISBLANK(Rådata!G748)=TRUE,\"\",(Rådata!F748*100)/Rådata!G748)","v":""},{"$f":"IF(ISBLANK(Rådata!K748),\"\",(SUM(Rådata!M748:P748)*100)/SUM(Rådata!H748:K748))","v":""},{"$f":"IF(ISBLANK(Rådata!H748),\"\",((SUM(Rådata!J748:L748)-SUM(Rådata!O748:P748))*100)/SUM(Rådata!H748:L748))","v":""},{"$f":"IF(ISBLANK(Rådata!R748),\"\",(Rådata!Q748*100)/Rådata!R748)","v":""}]
[{"$f":"IF(ISBLANK(Rådata!A749)=TRUE,\"\",Rådata!A749)","v":""},{"$f":"IF(ISBLANK(Rådata!A749)=TRUE,\"\",YEAR(A749))","v":""},{"$f":"IF(ISBLANK(Rådata!A749)=TRUE,\"\",VLOOKUP(MONTH(A749),Opsætning!$G$3:$H$14,2,FALSE))","v":""},{"$f":"IF(ISBLANK(Rådata!B749)=TRUE,\"\",(Rådata!C749*100)/Rådata!B749)","v":""},{"$f":"IF(ISBLANK(Rådata!D749)=TRUE,\"\",((Rådata!D749-Rådata!E749)*100)/Rådata!D749)","v":""},{"$f":"IF(ISBLANK(Rådata!G749)=TRUE,\"\",(Rådata!F749*100)/Rådata!G749)","v":""},{"$f":"IF(ISBLANK(Rådata!K749),\"\",(SUM(Rådata!M749:P749)*100)/SUM(Rådata!H749:K749))","v":""},{"$f":"IF(ISBLANK(Rådata!H749),\"\",((SUM(Rådata!J749:L749)-SUM(Rådata!O749:P749))*100)/SUM(Rådata!H749:L749))","v":""},{"$f":"IF(ISBLANK(Rådata!R749),\"\",(Rådata!Q749*100)/Rådata!R749)","v":""}]
[{"$f":"IF(ISBLANK(Rådata!A750)=TRUE,\"\",Rådata!A750)","v":""},{"$f":"IF(ISBLANK(Rådata!A750)=TRUE,\"\",YEAR(A750))","v":""},{"$f":"IF(ISBLANK(Rådata!A750)=TRUE,\"\",VLOOKUP(MONTH(A750),Opsætning!$G$3:$H$14,2,FALSE))","v":""},{"$f":"IF(ISBLANK(Rådata!B750)=TRUE,\"\",(Rådata!C750*100)/Rådata!B750)","v":""},{"$f":"IF(ISBLANK(Rådata!D750)=TRUE,\"\",((Rådata!D750-Rådata!E750)*100)/Rådata!D750)","v":""},{"$f":"IF(ISBLANK(Rådata!G750)=TRUE,\"\",(Rådata!F750*100)/Rådata!G750)","v":""},{"$f":"IF(ISBLANK(Rådata!K750),\"\",(SUM(Rådata!M750:P750)*100)/SUM(Rådata!H750:K750))","v":""},{"$f":"IF(ISBLANK(Rådata!H750),\"\",((SUM(Rådata!J750:L750)-SUM(Rådata!O750:P750))*100)/SUM(Rådata!H750:L750))","v":""},{"$f":"IF(ISBLANK(Rådata!R750),\"\",(Rådata!Q750*100)/Rådata!R750)","v":""}]
[{"$f":"IF(ISBLANK(Rådata!A751)=TRUE,\"\",Rådata!A751)","v":""},{"$f":"IF(ISBLANK(Rådata!A751)=TRUE,\"\",YEAR(A751))","v":""},{"$f":"IF(ISBLANK(Rådata!A751)=TRUE,\"\",VLOOKUP(MONTH(A751),Opsætning!$G$3:$H$14,2,FALSE))","v":""},{"$f":"IF(ISBLANK(Rådata!B751)=TRUE,\"\",(Rådata!C751*100)/Rådata!B751)","v":""},{"$f":"IF(ISBLANK(Rådata!D751)=TRUE,\"\",((Rådata!D751-Rådata!E751)*100)/Rådata!D751)","v":""},{"$f":"IF(ISBLANK(Rådata!G751)=TRUE,\"\",(Rådata!F751*100)/Rådata!G751)","v":""},{"$f":"IF(ISBLANK(Rådata!K751),\"\",(SUM(Rådata!M751:P751)*100)/SUM(Rådata!H751:K751))","v":""},{"$f":"IF(ISBLANK(Rådata!H751),\"\",((SUM(Rådata!J751:L751)-SUM(Rådata!O751:P751))*100)/SUM(Rådata!H751:L751))","v":""},{"$f":"IF(ISBLANK(Rådata!R751),\"\",(Rådata!Q751*100)/Rådata!R751)","v":""}]
[{"$f":"IF(ISBLANK(Rådata!A752)=TRUE,\"\",Rådata!A752)","v":""},{"$f":"IF(ISBLANK(Rådata!A752)=TRUE,\"\",YEAR(A752))","v":""},{"$f":"IF(ISBLANK(Rådata!A752)=TRUE,\"\",VLOOKUP(MONTH(A752),Opsætning!$G$3:$H$14,2,FALSE))","v":""},{"$f":"IF(ISBLANK(Rådata!B752)=TRUE,\"\",(Rådata!C752*100)/Rådata!B752)","v":""},{"$f":"IF(ISBLANK(Rådata!D752)=TRUE,\"\",((Rådata!D752-Rådata!E752)*100)/Rådata!D752)","v":""},{"$f":"IF(ISBLANK(Rådata!G752)=TRUE,\"\",(Rådata!F752*100)/Rådata!G752)","v":""},{"$f":"IF(ISBLANK(Rådata!K752),\"\",(SUM(Rådata!M752:P752)*100)/SUM(Rådata!H752:K752))","v":""},{"$f":"IF(ISBLANK(Rådata!H752),\"\",((SUM(Rådata!J752:L752)-SUM(Rådata!O752:P752))*100)/SUM(Rådata!H752:L752))","v":""},{"$f":"IF(ISBLANK(Rådata!R752),\"\",(Rådata!Q752*100)/Rådata!R752)","v":""}]
[{"$f":"IF(ISBLANK(Rådata!A753)=TRUE,\"\",Rådata!A753)","v":""},{"$f":"IF(ISBLANK(Rådata!A753)=TRUE,\"\",YEAR(A753))","v":""},{"$f":"IF(ISBLANK(Rådata!A753)=TRUE,\"\",VLOOKUP(MONTH(A753),Opsætning!$G$3:$H$14,2,FALSE))","v":""},{"$f":"IF(ISBLANK(Rådata!B753)=TRUE,\"\",(Rådata!C753*100)/Rådata!B753)","v":""},{"$f":"IF(ISBLANK(Rådata!D753)=TRUE,\"\",((Rådata!D753-Rådata!E753)*100)/Rådata!D753)","v":""},{"$f":"IF(ISBLANK(Rådata!G753)=TRUE,\"\",(Rådata!F753*100)/Rådata!G753)","v":""},{"$f":"IF(ISBLANK(Rådata!K753),\"\",(SUM(Rådata!M753:P753)*100)/SUM(Rådata!H753:K753))","v":""},{"$f":"IF(ISBLANK(Rådata!H753),\"\",((SUM(Rådata!J753:L753)-SUM(Rådata!O753:P753))*100)/SUM(Rådata!H753:L753))","v":""},{"$f":"IF(ISBLANK(Rådata!R753),\"\",(Rådata!Q753*100)/Rådata!R753)","v":""}]
[{"$f":"IF(ISBLANK(Rådata!A754)=TRUE,\"\",Rådata!A754)","v":""},{"$f":"IF(ISBLANK(Rådata!A754)=TRUE,\"\",YEAR(A754))","v":""},{"$f":"IF(ISBLANK(Rådata!A754)=TRUE,\"\",VLOOKUP(MONTH(A754),Opsætning!$G$3:$H$14,2,FALSE))","v":""},{"$f":"IF(ISBLANK(Rådata!B754)=TRUE,\"\",(Rådata!C754*100)/Rådata!B754)","v":""},{"$f":"IF(ISBLANK(Rådata!D754)=TRUE,\"\",((Rådata!D754-Rådata!E754)*100)/Rådata!D754)","v":""},{"$f":"IF(ISBLANK(Rådata!G754)=TRUE,\"\",(Rådata!F754*100)/Rådata!G754)","v":""},{"$f":"IF(ISBLANK(Rådata!K754),\"\",(SUM(Rådata!M754:P754)*100)/SUM(Rådata!H754:K754))","v":""},{"$f":"IF(ISBLANK(Rådata!H754),\"\",((SUM(Rådata!J754:L754)-SUM(Rådata!O754:P754))*100)/SUM(Rådata!H754:L754))","v":""},{"$f":"IF(ISBLANK(Rådata!R754),\"\",(Rådata!Q754*100)/Rådata!R754)","v":""}]
[{"$f":"IF(ISBLANK(Rådata!A755)=TRUE,\"\",Rådata!A755)","v":""},{"$f":"IF(ISBLANK(Rådata!A755)=TRUE,\"\",YEAR(A755))","v":""},{"$f":"IF(ISBLANK(Rådata!A755)=TRUE,\"\",VLOOKUP(MONTH(A755),Opsætning!$G$3:$H$14,2,FALSE))","v":""},{"$f":"IF(ISBLANK(Rådata!B755)=TRUE,\"\",(Rådata!C755*100)/Rådata!B755)","v":""},{"$f":"IF(ISBLANK(Rådata!D755)=TRUE,\"\",((Rådata!D755-Rådata!E755)*100)/Rådata!D755)","v":""},{"$f":"IF(ISBLANK(Rådata!G755)=TRUE,\"\",(Rådata!F755*100)/Rådata!G755)","v":""},{"$f":"IF(ISBLANK(Rådata!K755),\"\",(SUM(Rådata!M755:P755)*100)/SUM(Rådata!H755:K755))","v":""},{"$f":"IF(ISBLANK(Rådata!H755),\"\",((SUM(Rådata!J755:L755)-SUM(Rådata!O755:P755))*100)/SUM(Rådata!H755:L755))","v":""},{"$f":"IF(ISBLANK(Rådata!R755),\"\",(Rådata!Q755*100)/Rådata!R755)","v":""}]
[{"$f":"IF(ISBLANK(Rådata!A756)=TRUE,\"\",Rådata!A756)","v":""},{"$f":"IF(ISBLANK(Rådata!A756)=TRUE,\"\",YEAR(A756))","v":""},{"$f":"IF(ISBLANK(Rådata!A756)=TRUE,\"\",VLOOKUP(MONTH(A756),Opsætning!$G$3:$H$14,2,FALSE))","v":""},{"$f":"IF(ISBLANK(Rådata!B756)=TRUE,\"\",(Rådata!C756*100)/Rådata!B756)","v":""},{"$f":"IF(ISBLANK(Rådata!D756)=TRUE,\"\",((Rådata!D756-Rådata!E756)*100)/Rådata!D756)","v":""},{"$f":"IF(ISBLANK(Rådata!G756)=TRUE,\"\",(Rådata!F756*100)/Rådata!G756)","v":""},{"$f":"IF(ISBLANK(Rådata!K756),\"\",(SUM(Rådata!M756:P756)*100)/SUM(Rådata!H756:K756))","v":""},{"$f":"IF(ISBLANK(Rådata!H756),\"\",((SUM(Rådata!J756:L756)-SUM(Rådata!O756:P756))*100)/SUM(Rådata!H756:L756))","v":""},{"$f":"IF(ISBLANK(Rådata!R756),\"\",(Rådata!Q756*100)/Rådata!R756)","v":""}]
[{"$f":"IF(ISBLANK(Rådata!A757)=TRUE,\"\",Rådata!A757)","v":""},{"$f":"IF(ISBLANK(Rådata!A757)=TRUE,\"\",YEAR(A757))","v":""},{"$f":"IF(ISBLANK(Rådata!A757)=TRUE,\"\",VLOOKUP(MONTH(A757),Opsætning!$G$3:$H$14,2,FALSE))","v":""},{"$f":"IF(ISBLANK(Rådata!B757)=TRUE,\"\",(Rådata!C757*100)/Rådata!B757)","v":""},{"$f":"IF(ISBLANK(Rådata!D757)=TRUE,\"\",((Rådata!D757-Rådata!E757)*100)/Rådata!D757)","v":""},{"$f":"IF(ISBLANK(Rådata!G757)=TRUE,\"\",(Rådata!F757*100)/Rådata!G757)","v":""},{"$f":"IF(ISBLANK(Rådata!K757),\"\",(SUM(Rådata!M757:P757)*100)/SUM(Rådata!H757:K757))","v":""},{"$f":"IF(ISBLANK(Rådata!H757),\"\",((SUM(Rådata!J757:L757)-SUM(Rådata!O757:P757))*100)/SUM(Rådata!H757:L757))","v":""},{"$f":"IF(ISBLANK(Rådata!R757),\"\",(Rådata!Q757*100)/Rådata!R757)","v":""}]
[{"$f":"IF(ISBLANK(Rådata!A758)=TRUE,\"\",Rådata!A758)","v":""},{"$f":"IF(ISBLANK(Rådata!A758)=TRUE,\"\",YEAR(A758))","v":""},{"$f":"IF(ISBLANK(Rådata!A758)=TRUE,\"\",VLOOKUP(MONTH(A758),Opsætning!$G$3:$H$14,2,FALSE))","v":""},{"$f":"IF(ISBLANK(Rådata!B758)=TRUE,\"\",(Rådata!C758*100)/Rådata!B758)","v":""},{"$f":"IF(ISBLANK(Rådata!D758)=TRUE,\"\",((Rådata!D758-Rådata!E758)*100)/Rådata!D758)","v":""},{"$f":"IF(ISBLANK(Rådata!G758)=TRUE,\"\",(Rådata!F758*100)/Rådata!G758)","v":""},{"$f":"IF(ISBLANK(Rådata!K758),\"\",(SUM(Rådata!M758:P758)*100)/SUM(Rådata!H758:K758))","v":""},{"$f":"IF(ISBLANK(Rådata!H758),\"\",((SUM(Rådata!J758:L758)-SUM(Rådata!O758:P758))*100)/SUM(Rådata!H758:L758))","v":""},{"$f":"IF(ISBLANK(Rådata!R758),\"\",(Rådata!Q758*100)/Rådata!R758)","v":""}]
[{"$f":"IF(ISBLANK(Rådata!A759)=TRUE,\"\",Rådata!A759)","v":""},{"$f":"IF(ISBLANK(Rådata!A759)=TRUE,\"\",YEAR(A759))","v":""},{"$f":"IF(ISBLANK(Rådata!A759)=TRUE,\"\",VLOOKUP(MONTH(A759),Opsætning!$G$3:$H$14,2,FALSE))","v":""},{"$f":"IF(ISBLANK(Rådata!B759)=TRUE,\"\",(Rådata!C759*100)/Rådata!B759)","v":""},{"$f":"IF(ISBLANK(Rådata!D759)=TRUE,\"\",((Rådata!D759-Rådata!E759)*100)/Rådata!D759)","v":""},{"$f":"IF(ISBLANK(Rådata!G759)=TRUE,\"\",(Rådata!F759*100)/Rådata!G759)","v":""},{"$f":"IF(ISBLANK(Rådata!K759),\"\",(SUM(Rådata!M759:P759)*100)/SUM(Rådata!H759:K759))","v":""},{"$f":"IF(ISBLANK(Rådata!H759),\"\",((SUM(Rådata!J759:L759)-SUM(Rådata!O759:P759))*100)/SUM(Rådata!H759:L759))","v":""},{"$f":"IF(ISBLANK(Rådata!R759),\"\",(Rådata!Q759*100)/Rådata!R759)","v":""}]
[{"$f":"IF(ISBLANK(Rådata!A760)=TRUE,\"\",Rådata!A760)","v":""},{"$f":"IF(ISBLANK(Rådata!A760)=TRUE,\"\",YEAR(A760))","v":""},{"$f":"IF(ISBLANK(Rådata!A760)=TRUE,\"\",VLOOKUP(MONTH(A760),Opsætning!$G$3:$H$14,2,FALSE))","v":""},{"$f":"IF(ISBLANK(Rådata!B760)=TRUE,\"\",(Rådata!C760*100)/Rådata!B760)","v":""},{"$f":"IF(ISBLANK(Rådata!D760)=TRUE,\"\",((Rådata!D760-Rådata!E760)*100)/Rådata!D760)","v":""},{"$f":"IF(ISBLANK(Rådata!G760)=TRUE,\"\",(Rådata!F760*100)/Rådata!G760)","v":""},{"$f":"IF(ISBLANK(Rådata!K760),\"\",(SUM(Rådata!M760:P760)*100)/SUM(Rådata!H760:K760))","v":""},{"$f":"IF(ISBLANK(Rådata!H760),\"\",((SUM(Rådata!J760:L760)-SUM(Rådata!O760:P760))*100)/SUM(Rådata!H760:L760))","v":""},{"$f":"IF(ISBLANK(Rådata!R760),\"\",(Rådata!Q760*100)/Rådata!R760)","v":""}]
[{"$f":"IF(ISBLANK(Rådata!A761)=TRUE,\"\",Rådata!A761)","v":""},{"$f":"IF(ISBLANK(Rådata!A761)=TRUE,\"\",YEAR(A761))","v":""},{"$f":"IF(ISBLANK(Rådata!A761)=TRUE,\"\",VLOOKUP(MONTH(A761),Opsætning!$G$3:$H$14,2,FALSE))","v":""},{"$f":"IF(ISBLANK(Rådata!B761)=TRUE,\"\",(Rådata!C761*100)/Rådata!B761)","v":""},{"$f":"IF(ISBLANK(Rådata!D761)=TRUE,\"\",((Rådata!D761-Rådata!E761)*100)/Rådata!D761)","v":""},{"$f":"IF(ISBLANK(Rådata!G761)=TRUE,\"\",(Rådata!F761*100)/Rådata!G761)","v":""},{"$f":"IF(ISBLANK(Rådata!K761),\"\",(SUM(Rådata!M761:P761)*100)/SUM(Rådata!H761:K761))","v":""},{"$f":"IF(ISBLANK(Rådata!H761),\"\",((SUM(Rådata!J761:L761)-SUM(Rådata!O761:P761))*100)/SUM(Rådata!H761:L761))","v":""},{"$f":"IF(ISBLANK(Rådata!R761),\"\",(Rådata!Q761*100)/Rådata!R761)","v":""}]
[{"$f":"IF(ISBLANK(Rådata!A762)=TRUE,\"\",Rådata!A762)","v":""},{"$f":"IF(ISBLANK(Rådata!A762)=TRUE,\"\",YEAR(A762))","v":""},{"$f":"IF(ISBLANK(Rådata!A762)=TRUE,\"\",VLOOKUP(MONTH(A762),Opsætning!$G$3:$H$14,2,FALSE))","v":""},{"$f":"IF(ISBLANK(Rådata!B762)=TRUE,\"\",(Rådata!C762*100)/Rådata!B762)","v":""},{"$f":"IF(ISBLANK(Rådata!D762)=TRUE,\"\",((Rådata!D762-Rådata!E762)*100)/Rådata!D762)","v":""},{"$f":"IF(ISBLANK(Rådata!G762)=TRUE,\"\",(Rådata!F762*100)/Rådata!G762)","v":""},{"$f":"IF(ISBLANK(Rådata!K762),\"\",(SUM(Rådata!M762:P762)*100)/SUM(Rådata!H762:K762))","v":""},{"$f":"IF(ISBLANK(Rådata!H762),\"\",((SUM(Rådata!J762:L762)-SUM(Rådata!O762:P762))*100)/SUM(Rådata!H762:L762))","v":""},{"$f":"IF(ISBLANK(Rådata!R762),\"\",(Rådata!Q762*100)/Rådata!R762)","v":""}]
[{"$f":"IF(ISBLANK(Rådata!A763)=TRUE,\"\",Rådata!A763)","v":""},{"$f":"IF(ISBLANK(Rådata!A763)=TRUE,\"\",YEAR(A763))","v":""},{"$f":"IF(ISBLANK(Rådata!A763)=TRUE,\"\",VLOOKUP(MONTH(A763),Opsætning!$G$3:$H$14,2,FALSE))","v":""},{"$f":"IF(ISBLANK(Rådata!B763)=TRUE,\"\",(Rådata!C763*100)/Rådata!B763)","v":""},{"$f":"IF(ISBLANK(Rådata!D763)=TRUE,\"\",((Rådata!D763-Rådata!E763)*100)/Rådata!D763)","v":""},{"$f":"IF(ISBLANK(Rådata!G763)=TRUE,\"\",(Rådata!F763*100)/Rådata!G763)","v":""},{"$f":"IF(ISBLANK(Rådata!K763),\"\",(SUM(Rådata!M763:P763)*100)/SUM(Rådata!H763:K763))","v":""},{"$f":"IF(ISBLANK(Rådata!H763),\"\",((SUM(Rådata!J763:L763)-SUM(Rådata!O763:P763))*100)/SUM(Rådata!H763:L763))","v":""},{"$f":"IF(ISBLANK(Rådata!R763),\"\",(Rådata!Q763*100)/Rådata!R763)","v":""}]
[{"$f":"IF(ISBLANK(Rådata!A764)=TRUE,\"\",Rådata!A764)","v":""},{"$f":"IF(ISBLANK(Rådata!A764)=TRUE,\"\",YEAR(A764))","v":""},{"$f":"IF(ISBLANK(Rådata!A764)=TRUE,\"\",VLOOKUP(MONTH(A764),Opsætning!$G$3:$H$14,2,FALSE))","v":""},{"$f":"IF(ISBLANK(Rådata!B764)=TRUE,\"\",(Rådata!C764*100)/Rådata!B764)","v":""},{"$f":"IF(ISBLANK(Rådata!D764)=TRUE,\"\",((Rådata!D764-Rådata!E764)*100)/Rådata!D764)","v":""},{"$f":"IF(ISBLANK(Rådata!G764)=TRUE,\"\",(Rådata!F764*100)/Rådata!G764)","v":""},{"$f":"IF(ISBLANK(Rådata!K764),\"\",(SUM(Rådata!M764:P764)*100)/SUM(Rådata!H764:K764))","v":""},{"$f":"IF(ISBLANK(Rådata!H764),\"\",((SUM(Rådata!J764:L764)-SUM(Rådata!O764:P764))*100)/SUM(Rådata!H764:L764))","v":""},{"$f":"IF(ISBLANK(Rådata!R764),\"\",(Rådata!Q764*100)/Rådata!R764)","v":""}]
[{"$f":"IF(ISBLANK(Rådata!A765)=TRUE,\"\",Rådata!A765)","v":""},{"$f":"IF(ISBLANK(Rådata!A765)=TRUE,\"\",YEAR(A765))","v":""},{"$f":"IF(ISBLANK(Rådata!A765)=TRUE,\"\",VLOOKUP(MONTH(A765),Opsætning!$G$3:$H$14,2,FALSE))","v":""},{"$f":"IF(ISBLANK(Rådata!B765)=TRUE,\"\",(Rådata!C765*100)/Rådata!B765)","v":""},{"$f":"IF(ISBLANK(Rådata!D765)=TRUE,\"\",((Rådata!D765-Rådata!E765)*100)/Rådata!D765)","v":""},{"$f":"IF(ISBLANK(Rådata!G765)=TRUE,\"\",(Rådata!F765*100)/Rådata!G765)","v":""},{"$f":"IF(ISBLANK(Rådata!K765),\"\",(SUM(Rådata!M765:P765)*100)/SUM(Rådata!H765:K765))","v":""},{"$f":"IF(ISBLANK(Rådata!H765),\"\",((SUM(Rådata!J765:L765)-SUM(Rådata!O765:P765))*100)/SUM(Rådata!H765:L765))","v":""},{"$f":"IF(ISBLANK(Rådata!R765),\"\",(Rådata!Q765*100)/Rådata!R765)","v":""}]
[{"$f":"IF(ISBLANK(Rådata!A766)=TRUE,\"\",Rådata!A766)","v":""},{"$f":"IF(ISBLANK(Rådata!A766)=TRUE,\"\",YEAR(A766))","v":""},{"$f":"IF(ISBLANK(Rådata!A766)=TRUE,\"\",VLOOKUP(MONTH(A766),Opsætning!$G$3:$H$14,2,FALSE))","v":""},{"$f":"IF(ISBLANK(Rådata!B766)=TRUE,\"\",(Rådata!C766*100)/Rådata!B766)","v":""},{"$f":"IF(ISBLANK(Rådata!D766)=TRUE,\"\",((Rådata!D766-Rådata!E766)*100)/Rådata!D766)","v":""},{"$f":"IF(ISBLANK(Rådata!G766)=TRUE,\"\",(Rådata!F766*100)/Rådata!G766)","v":""},{"$f":"IF(ISBLANK(Rådata!K766),\"\",(SUM(Rådata!M766:P766)*100)/SUM(Rådata!H766:K766))","v":""},{"$f":"IF(ISBLANK(Rådata!H766),\"\",((SUM(Rådata!J766:L766)-SUM(Rådata!O766:P766))*100)/SUM(Rådata!H766:L766))","v":""},{"$f":"IF(ISBLANK(Rådata!R766),\"\",(Rådata!Q766*100)/Rådata!R766)","v":""}]
[{"$f":"IF(ISBLANK(Rådata!A767)=TRUE,\"\",Rådata!A767)","v":""},{"$f":"IF(ISBLANK(Rådata!A767)=TRUE,\"\",YEAR(A767))","v":""},{"$f":"IF(ISBLANK(Rådata!A767)=TRUE,\"\",VLOOKUP(MONTH(A767),Opsætning!$G$3:$H$14,2,FALSE))","v":""},{"$f":"IF(ISBLANK(Rådata!B767)=TRUE,\"\",(Rådata!C767*100)/Rådata!B767)","v":""},{"$f":"IF(ISBLANK(Rådata!D767)=TRUE,\"\",((Rådata!D767-Rådata!E767)*100)/Rådata!D767)","v":""},{"$f":"IF(ISBLANK(Rådata!G767)=TRUE,\"\",(Rådata!F767*100)/Rådata!G767)","v":""},{"$f":"IF(ISBLANK(Rådata!K767),\"\",(SUM(Rådata!M767:P767)*100)/SUM(Rådata!H767:K767))","v":""},{"$f":"IF(ISBLANK(Rådata!H767),\"\",((SUM(Rådata!J767:L767)-SUM(Rådata!O767:P767))*100)/SUM(Rådata!H767:L767))","v":""},{"$f":"IF(ISBLANK(Rådata!R767),\"\",(Rådata!Q767*100)/Rådata!R767)","v":""}]
[{"$f":"IF(ISBLANK(Rådata!A768)=TRUE,\"\",Rådata!A768)","v":""},{"$f":"IF(ISBLANK(Rådata!A768)=TRUE,\"\",YEAR(A768))","v":""},{"$f":"IF(ISBLANK(Rådata!A768)=TRUE,\"\",VLOOKUP(MONTH(A768),Opsætning!$G$3:$H$14,2,FALSE))","v":""},{"$f":"IF(ISBLANK(Rådata!B768)=TRUE,\"\",(Rådata!C768*100)/Rådata!B768)","v":""},{"$f":"IF(ISBLANK(Rådata!D768)=TRUE,\"\",((Rådata!D768-Rådata!E768)*100)/Rådata!D768)","v":""},{"$f":"IF(ISBLANK(Rådata!G768)=TRUE,\"\",(Rådata!F768*100)/Rådata!G768)","v":""},{"$f":"IF(ISBLANK(Rådata!K768),\"\",(SUM(Rådata!M768:P768)*100)/SUM(Rådata!H768:K768))","v":""},{"$f":"IF(ISBLANK(Rådata!H768),\"\",((SUM(Rådata!J768:L768)-SUM(Rådata!O768:P768))*100)/SUM(Rådata!H768:L768))","v":""},{"$f":"IF(ISBLANK(Rådata!R768),\"\",(Rådata!Q768*100)/Rådata!R768)","v":""}]
[{"$f":"IF(ISBLANK(Rådata!A769)=TRUE,\"\",Rådata!A769)","v":""},{"$f":"IF(ISBLANK(Rådata!A769)=TRUE,\"\",YEAR(A769))","v":""},{"$f":"IF(ISBLANK(Rådata!A769)=TRUE,\"\",VLOOKUP(MONTH(A769),Opsætning!$G$3:$H$14,2,FALSE))","v":""},{"$f":"IF(ISBLANK(Rådata!B769)=TRUE,\"\",(Rådata!C769*100)/Rådata!B769)","v":""},{"$f":"IF(ISBLANK(Rådata!D769)=TRUE,\"\",((Rådata!D769-Rådata!E769)*100)/Rådata!D769)","v":""},{"$f":"IF(ISBLANK(Rådata!G769)=TRUE,\"\",(Rådata!F769*100)/Rådata!G769)","v":""},{"$f":"IF(ISBLANK(Rådata!K769),\"\",(SUM(Rådata!M769:P769)*100)/SUM(Rådata!H769:K769))","v":""},{"$f":"IF(ISBLANK(Rådata!H769),\"\",((SUM(Rådata!J769:L769)-SUM(Rådata!O769:P769))*100)/SUM(Rådata!H769:L769))","v":""},{"$f":"IF(ISBLANK(Rådata!R769),\"\",(Rådata!Q769*100)/Rådata!R769)","v":""}]
[{"$f":"IF(ISBLANK(Rådata!A770)=TRUE,\"\",Rådata!A770)","v":""},{"$f":"IF(ISBLANK(Rådata!A770)=TRUE,\"\",YEAR(A770))","v":""},{"$f":"IF(ISBLANK(Rådata!A770)=TRUE,\"\",VLOOKUP(MONTH(A770),Opsætning!$G$3:$H$14,2,FALSE))","v":""},{"$f":"IF(ISBLANK(Rådata!B770)=TRUE,\"\",(Rådata!C770*100)/Rådata!B770)","v":""},{"$f":"IF(ISBLANK(Rådata!D770)=TRUE,\"\",((Rådata!D770-Rådata!E770)*100)/Rådata!D770)","v":""},{"$f":"IF(ISBLANK(Rådata!G770)=TRUE,\"\",(Rådata!F770*100)/Rådata!G770)","v":""},{"$f":"IF(ISBLANK(Rådata!K770),\"\",(SUM(Rådata!M770:P770)*100)/SUM(Rådata!H770:K770))","v":""},{"$f":"IF(ISBLANK(Rådata!H770),\"\",((SUM(Rådata!J770:L770)-SUM(Rådata!O770:P770))*100)/SUM(Rådata!H770:L770))","v":""},{"$f":"IF(ISBLANK(Rådata!R770),\"\",(Rådata!Q770*100)/Rådata!R770)","v":""}]
[{"$f":"IF(ISBLANK(Rådata!A771)=TRUE,\"\",Rådata!A771)","v":""},{"$f":"IF(ISBLANK(Rådata!A771)=TRUE,\"\",YEAR(A771))","v":""},{"$f":"IF(ISBLANK(Rådata!A771)=TRUE,\"\",VLOOKUP(MONTH(A771),Opsætning!$G$3:$H$14,2,FALSE))","v":""},{"$f":"IF(ISBLANK(Rådata!B771)=TRUE,\"\",(Rådata!C771*100)/Rådata!B771)","v":""},{"$f":"IF(ISBLANK(Rådata!D771)=TRUE,\"\",((Rådata!D771-Rådata!E771)*100)/Rådata!D771)","v":""},{"$f":"IF(ISBLANK(Rådata!G771)=TRUE,\"\",(Rådata!F771*100)/Rådata!G771)","v":""},{"$f":"IF(ISBLANK(Rådata!K771),\"\",(SUM(Rådata!M771:P771)*100)/SUM(Rådata!H771:K771))","v":""},{"$f":"IF(ISBLANK(Rådata!H771),\"\",((SUM(Rådata!J771:L771)-SUM(Rådata!O771:P771))*100)/SUM(Rådata!H771:L771))","v":""},{"$f":"IF(ISBLANK(Rådata!R771),\"\",(Rådata!Q771*100)/Rådata!R771)","v":""}]
[{"$f":"IF(ISBLANK(Rådata!A772)=TRUE,\"\",Rådata!A772)","v":""},{"$f":"IF(ISBLANK(Rådata!A772)=TRUE,\"\",YEAR(A772))","v":""},{"$f":"IF(ISBLANK(Rådata!A772)=TRUE,\"\",VLOOKUP(MONTH(A772),Opsætning!$G$3:$H$14,2,FALSE))","v":""},{"$f":"IF(ISBLANK(Rådata!B772)=TRUE,\"\",(Rådata!C772*100)/Rådata!B772)","v":""},{"$f":"IF(ISBLANK(Rådata!D772)=TRUE,\"\",((Rådata!D772-Rådata!E772)*100)/Rådata!D772)","v":""},{"$f":"IF(ISBLANK(Rådata!G772)=TRUE,\"\",(Rådata!F772*100)/Rådata!G772)","v":""},{"$f":"IF(ISBLANK(Rådata!K772),\"\",(SUM(Rådata!M772:P772)*100)/SUM(Rådata!H772:K772))","v":""},{"$f":"IF(ISBLANK(Rådata!H772),\"\",((SUM(Rådata!J772:L772)-SUM(Rådata!O772:P772))*100)/SUM(Rådata!H772:L772))","v":""},{"$f":"IF(ISBLANK(Rådata!R772),\"\",(Rådata!Q772*100)/Rådata!R772)","v":""}]
[{"$f":"IF(ISBLANK(Rådata!A773)=TRUE,\"\",Rådata!A773)","v":""},{"$f":"IF(ISBLANK(Rådata!A773)=TRUE,\"\",YEAR(A773))","v":""},{"$f":"IF(ISBLANK(Rådata!A773)=TRUE,\"\",VLOOKUP(MONTH(A773),Opsætning!$G$3:$H$14,2,FALSE))","v":""},{"$f":"IF(ISBLANK(Rådata!B773)=TRUE,\"\",(Rådata!C773*100)/Rådata!B773)","v":""},{"$f":"IF(ISBLANK(Rådata!D773)=TRUE,\"\",((Rådata!D773-Rådata!E773)*100)/Rådata!D773)","v":""},{"$f":"IF(ISBLANK(Rådata!G773)=TRUE,\"\",(Rådata!F773*100)/Rådata!G773)","v":""},{"$f":"IF(ISBLANK(Rådata!K773),\"\",(SUM(Rådata!M773:P773)*100)/SUM(Rådata!H773:K773))","v":""},{"$f":"IF(ISBLANK(Rådata!H773),\"\",((SUM(Rådata!J773:L773)-SUM(Rådata!O773:P773))*100)/SUM(Rådata!H773:L773))","v":""},{"$f":"IF(ISBLANK(Rådata!R773),\"\",(Rådata!Q773*100)/Rådata!R773)","v":""}]
[{"$f":"IF(ISBLANK(Rådata!A774)=TRUE,\"\",Rådata!A774)","v":""},{"$f":"IF(ISBLANK(Rådata!A774)=TRUE,\"\",YEAR(A774))","v":""},{"$f":"IF(ISBLANK(Rådata!A774)=TRUE,\"\",VLOOKUP(MONTH(A774),Opsætning!$G$3:$H$14,2,FALSE))","v":""},{"$f":"IF(ISBLANK(Rådata!B774)=TRUE,\"\",(Rådata!C774*100)/Rådata!B774)","v":""},{"$f":"IF(ISBLANK(Rådata!D774)=TRUE,\"\",((Rådata!D774-Rådata!E774)*100)/Rådata!D774)","v":""},{"$f":"IF(ISBLANK(Rådata!G774)=TRUE,\"\",(Rådata!F774*100)/Rådata!G774)","v":""},{"$f":"IF(ISBLANK(Rådata!K774),\"\",(SUM(Rådata!M774:P774)*100)/SUM(Rådata!H774:K774))","v":""},{"$f":"IF(ISBLANK(Rådata!H774),\"\",((SUM(Rådata!J774:L774)-SUM(Rådata!O774:P774))*100)/SUM(Rådata!H774:L774))","v":""},{"$f":"IF(ISBLANK(Rådata!R774),\"\",(Rådata!Q774*100)/Rådata!R774)","v":""}]
[{"$f":"IF(ISBLANK(Rådata!A775)=TRUE,\"\",Rådata!A775)","v":""},{"$f":"IF(ISBLANK(Rådata!A775)=TRUE,\"\",YEAR(A775))","v":""},{"$f":"IF(ISBLANK(Rådata!A775)=TRUE,\"\",VLOOKUP(MONTH(A775),Opsætning!$G$3:$H$14,2,FALSE))","v":""},{"$f":"IF(ISBLANK(Rådata!B775)=TRUE,\"\",(Rådata!C775*100)/Rådata!B775)","v":""},{"$f":"IF(ISBLANK(Rådata!D775)=TRUE,\"\",((Rådata!D775-Rådata!E775)*100)/Rådata!D775)","v":""},{"$f":"IF(ISBLANK(Rådata!G775)=TRUE,\"\",(Rådata!F775*100)/Rådata!G775)","v":""},{"$f":"IF(ISBLANK(Rådata!K775),\"\",(SUM(Rådata!M775:P775)*100)/SUM(Rådata!H775:K775))","v":""},{"$f":"IF(ISBLANK(Rådata!H775),\"\",((SUM(Rådata!J775:L775)-SUM(Rådata!O775:P775))*100)/SUM(Rådata!H775:L775))","v":""},{"$f":"IF(ISBLANK(Rådata!R775),\"\",(Rådata!Q775*100)/Rådata!R775)","v":""}]
[{"$f":"IF(ISBLANK(Rådata!A776)=TRUE,\"\",Rådata!A776)","v":""},{"$f":"IF(ISBLANK(Rådata!A776)=TRUE,\"\",YEAR(A776))","v":""},{"$f":"IF(ISBLANK(Rådata!A776)=TRUE,\"\",VLOOKUP(MONTH(A776),Opsætning!$G$3:$H$14,2,FALSE))","v":""},{"$f":"IF(ISBLANK(Rådata!B776)=TRUE,\"\",(Rådata!C776*100)/Rådata!B776)","v":""},{"$f":"IF(ISBLANK(Rådata!D776)=TRUE,\"\",((Rådata!D776-Rådata!E776)*100)/Rådata!D776)","v":""},{"$f":"IF(ISBLANK(Rådata!G776)=TRUE,\"\",(Rådata!F776*100)/Rådata!G776)","v":""},{"$f":"IF(ISBLANK(Rådata!K776),\"\",(SUM(Rådata!M776:P776)*100)/SUM(Rådata!H776:K776))","v":""},{"$f":"IF(ISBLANK(Rådata!H776),\"\",((SUM(Rådata!J776:L776)-SUM(Rådata!O776:P776))*100)/SUM(Rådata!H776:L776))","v":""},{"$f":"IF(ISBLANK(Rådata!R776),\"\",(Rådata!Q776*100)/Rådata!R776)","v":""}]
[{"$f":"IF(ISBLANK(Rådata!A777)=TRUE,\"\",Rådata!A777)","v":""},{"$f":"IF(ISBLANK(Rådata!A777)=TRUE,\"\",YEAR(A777))","v":""},{"$f":"IF(ISBLANK(Rådata!A777)=TRUE,\"\",VLOOKUP(MONTH(A777),Opsætning!$G$3:$H$14,2,FALSE))","v":""},{"$f":"IF(ISBLANK(Rådata!B777)=TRUE,\"\",(Rådata!C777*100)/Rådata!B777)","v":""},{"$f":"IF(ISBLANK(Rådata!D777)=TRUE,\"\",((Rådata!D777-Rådata!E777)*100)/Rådata!D777)","v":""},{"$f":"IF(ISBLANK(Rådata!G777)=TRUE,\"\",(Rådata!F777*100)/Rådata!G777)","v":""},{"$f":"IF(ISBLANK(Rådata!K777),\"\",(SUM(Rådata!M777:P777)*100)/SUM(Rådata!H777:K777))","v":""},{"$f":"IF(ISBLANK(Rådata!H777),\"\",((SUM(Rådata!J777:L777)-SUM(Rådata!O777:P777))*100)/SUM(Rådata!H777:L777))","v":""},{"$f":"IF(ISBLANK(Rådata!R777),\"\",(Rådata!Q777*100)/Rådata!R777)","v":""}]
[{"$f":"IF(ISBLANK(Rådata!A778)=TRUE,\"\",Rådata!A778)","v":""},{"$f":"IF(ISBLANK(Rådata!A778)=TRUE,\"\",YEAR(A778))","v":""},{"$f":"IF(ISBLANK(Rådata!A778)=TRUE,\"\",VLOOKUP(MONTH(A778),Opsætning!$G$3:$H$14,2,FALSE))","v":""},{"$f":"IF(ISBLANK(Rådata!B778)=TRUE,\"\",(Rådata!C778*100)/Rådata!B778)","v":""},{"$f":"IF(ISBLANK(Rådata!D778)=TRUE,\"\",((Rådata!D778-Rådata!E778)*100)/Rådata!D778)","v":""},{"$f":"IF(ISBLANK(Rådata!G778)=TRUE,\"\",(Rådata!F778*100)/Rådata!G778)","v":""},{"$f":"IF(ISBLANK(Rådata!K778),\"\",(SUM(Rådata!M778:P778)*100)/SUM(Rådata!H778:K778))","v":""},{"$f":"IF(ISBLANK(Rådata!H778),\"\",((SUM(Rådata!J778:L778)-SUM(Rådata!O778:P778))*100)/SUM(Rådata!H778:L778))","v":""},{"$f":"IF(ISBLANK(Rådata!R778),\"\",(Rådata!Q778*100)/Rådata!R778)","v":""}]
[{"$f":"IF(ISBLANK(Rådata!A779)=TRUE,\"\",Rådata!A779)","v":""},{"$f":"IF(ISBLANK(Rådata!A779)=TRUE,\"\",YEAR(A779))","v":""},{"$f":"IF(ISBLANK(Rådata!A779)=TRUE,\"\",VLOOKUP(MONTH(A779),Opsætning!$G$3:$H$14,2,FALSE))","v":""},{"$f":"IF(ISBLANK(Rådata!B779)=TRUE,\"\",(Rådata!C779*100)/Rådata!B779)","v":""},{"$f":"IF(ISBLANK(Rådata!D779)=TRUE,\"\",((Rådata!D779-Rådata!E779)*100)/Rådata!D779)","v":""},{"$f":"IF(ISBLANK(Rådata!G779)=TRUE,\"\",(Rådata!F779*100)/Rådata!G779)","v":""},{"$f":"IF(ISBLANK(Rådata!K779),\"\",(SUM(Rådata!M779:P779)*100)/SUM(Rådata!H779:K779))","v":""},{"$f":"IF(ISBLANK(Rådata!H779),\"\",((SUM(Rådata!J779:L779)-SUM(Rådata!O779:P779))*100)/SUM(Rådata!H779:L779))","v":""},{"$f":"IF(ISBLANK(Rådata!R779),\"\",(Rådata!Q779*100)/Rådata!R779)","v":""}]
[{"$f":"IF(ISBLANK(Rådata!A780)=TRUE,\"\",Rådata!A780)","v":""},{"$f":"IF(ISBLANK(Rådata!A780)=TRUE,\"\",YEAR(A780))","v":""},{"$f":"IF(ISBLANK(Rådata!A780)=TRUE,\"\",VLOOKUP(MONTH(A780),Opsætning!$G$3:$H$14,2,FALSE))","v":""},{"$f":"IF(ISBLANK(Rådata!B780)=TRUE,\"\",(Rådata!C780*100)/Rådata!B780)","v":""},{"$f":"IF(ISBLANK(Rådata!D780)=TRUE,\"\",((Rådata!D780-Rådata!E780)*100)/Rådata!D780)","v":""},{"$f":"IF(ISBLANK(Rådata!G780)=TRUE,\"\",(Rådata!F780*100)/Rådata!G780)","v":""},{"$f":"IF(ISBLANK(Rådata!K780),\"\",(SUM(Rådata!M780:P780)*100)/SUM(Rådata!H780:K780))","v":""},{"$f":"IF(ISBLANK(Rådata!H780),\"\",((SUM(Rådata!J780:L780)-SUM(Rådata!O780:P780))*100)/SUM(Rådata!H780:L780))","v":""},{"$f":"IF(ISBLANK(Rådata!R780),\"\",(Rådata!Q780*100)/Rådata!R780)","v":""}]
[{"$f":"IF(ISBLANK(Rådata!A781)=TRUE,\"\",Rådata!A781)","v":""},{"$f":"IF(ISBLANK(Rådata!A781)=TRUE,\"\",YEAR(A781))","v":""},{"$f":"IF(ISBLANK(Rådata!A781)=TRUE,\"\",VLOOKUP(MONTH(A781),Opsætning!$G$3:$H$14,2,FALSE))","v":""},{"$f":"IF(ISBLANK(Rådata!B781)=TRUE,\"\",(Rådata!C781*100)/Rådata!B781)","v":""},{"$f":"IF(ISBLANK(Rådata!D781)=TRUE,\"\",((Rådata!D781-Rådata!E781)*100)/Rådata!D781)","v":""},{"$f":"IF(ISBLANK(Rådata!G781)=TRUE,\"\",(Rådata!F781*100)/Rådata!G781)","v":""},{"$f":"IF(ISBLANK(Rådata!K781),\"\",(SUM(Rådata!M781:P781)*100)/SUM(Rådata!H781:K781))","v":""},{"$f":"IF(ISBLANK(Rådata!H781),\"\",((SUM(Rådata!J781:L781)-SUM(Rådata!O781:P781))*100)/SUM(Rådata!H781:L781))","v":""},{"$f":"IF(ISBLANK(Rådata!R781),\"\",(Rådata!Q781*100)/Rådata!R781)","v":""}]
[{"$f":"IF(ISBLANK(Rådata!A782)=TRUE,\"\",Rådata!A782)","v":""},{"$f":"IF(ISBLANK(Rådata!A782)=TRUE,\"\",YEAR(A782))","v":""},{"$f":"IF(ISBLANK(Rådata!A782)=TRUE,\"\",VLOOKUP(MONTH(A782),Opsætning!$G$3:$H$14,2,FALSE))","v":""},{"$f":"IF(ISBLANK(Rådata!B782)=TRUE,\"\",(Rådata!C782*100)/Rådata!B782)","v":""},{"$f":"IF(ISBLANK(Rådata!D782)=TRUE,\"\",((Rådata!D782-Rådata!E782)*100)/Rådata!D782)","v":""},{"$f":"IF(ISBLANK(Rådata!G782)=TRUE,\"\",(Rådata!F782*100)/Rådata!G782)","v":""},{"$f":"IF(ISBLANK(Rådata!K782),\"\",(SUM(Rådata!M782:P782)*100)/SUM(Rådata!H782:K782))","v":""},{"$f":"IF(ISBLANK(Rådata!H782),\"\",((SUM(Rådata!J782:L782)-SUM(Rådata!O782:P782))*100)/SUM(Rådata!H782:L782))","v":""},{"$f":"IF(ISBLANK(Rådata!R782),\"\",(Rådata!Q782*100)/Rådata!R782)","v":""}]
[{"$f":"IF(ISBLANK(Rådata!A783)=TRUE,\"\",Rådata!A783)","v":""},{"$f":"IF(ISBLANK(Rådata!A783)=TRUE,\"\",YEAR(A783))","v":""},{"$f":"IF(ISBLANK(Rådata!A783)=TRUE,\"\",VLOOKUP(MONTH(A783),Opsætning!$G$3:$H$14,2,FALSE))","v":""},{"$f":"IF(ISBLANK(Rådata!B783)=TRUE,\"\",(Rådata!C783*100)/Rådata!B783)","v":""},{"$f":"IF(ISBLANK(Rådata!D783)=TRUE,\"\",((Rådata!D783-Rådata!E783)*100)/Rådata!D783)","v":""},{"$f":"IF(ISBLANK(Rådata!G783)=TRUE,\"\",(Rådata!F783*100)/Rådata!G783)","v":""},{"$f":"IF(ISBLANK(Rådata!K783),\"\",(SUM(Rådata!M783:P783)*100)/SUM(Rådata!H783:K783))","v":""},{"$f":"IF(ISBLANK(Rådata!H783),\"\",((SUM(Rådata!J783:L783)-SUM(Rådata!O783:P783))*100)/SUM(Rådata!H783:L783))","v":""},{"$f":"IF(ISBLANK(Rådata!R783),\"\",(Rådata!Q783*100)/Rådata!R783)","v":""}]
[{"$f":"IF(ISBLANK(Rådata!A784)=TRUE,\"\",Rådata!A784)","v":""},{"$f":"IF(ISBLANK(Rådata!A784)=TRUE,\"\",YEAR(A784))","v":""},{"$f":"IF(ISBLANK(Rådata!A784)=TRUE,\"\",VLOOKUP(MONTH(A784),Opsætning!$G$3:$H$14,2,FALSE))","v":""},{"$f":"IF(ISBLANK(Rådata!B784)=TRUE,\"\",(Rådata!C784*100)/Rådata!B784)","v":""},{"$f":"IF(ISBLANK(Rådata!D784)=TRUE,\"\",((Rådata!D784-Rådata!E784)*100)/Rådata!D784)","v":""},{"$f":"IF(ISBLANK(Rådata!G784)=TRUE,\"\",(Rådata!F784*100)/Rådata!G784)","v":""},{"$f":"IF(ISBLANK(Rådata!K784),\"\",(SUM(Rådata!M784:P784)*100)/SUM(Rådata!H784:K784))","v":""},{"$f":"IF(ISBLANK(Rådata!H784),\"\",((SUM(Rådata!J784:L784)-SUM(Rådata!O784:P784))*100)/SUM(Rådata!H784:L784))","v":""},{"$f":"IF(ISBLANK(Rådata!R784),\"\",(Rådata!Q784*100)/Rådata!R784)","v":""}]
[{"$f":"IF(ISBLANK(Rådata!A785)=TRUE,\"\",Rådata!A785)","v":""},{"$f":"IF(ISBLANK(Rådata!A785)=TRUE,\"\",YEAR(A785))","v":""},{"$f":"IF(ISBLANK(Rådata!A785)=TRUE,\"\",VLOOKUP(MONTH(A785),Opsætning!$G$3:$H$14,2,FALSE))","v":""},{"$f":"IF(ISBLANK(Rådata!B785)=TRUE,\"\",(Rådata!C785*100)/Rådata!B785)","v":""},{"$f":"IF(ISBLANK(Rådata!D785)=TRUE,\"\",((Rådata!D785-Rådata!E785)*100)/Rådata!D785)","v":""},{"$f":"IF(ISBLANK(Rådata!G785)=TRUE,\"\",(Rådata!F785*100)/Rådata!G785)","v":""},{"$f":"IF(ISBLANK(Rådata!K785),\"\",(SUM(Rådata!M785:P785)*100)/SUM(Rådata!H785:K785))","v":""},{"$f":"IF(ISBLANK(Rådata!H785),\"\",((SUM(Rådata!J785:L785)-SUM(Rådata!O785:P785))*100)/SUM(Rådata!H785:L785))","v":""},{"$f":"IF(ISBLANK(Rådata!R785),\"\",(Rådata!Q785*100)/Rådata!R785)","v":""}]
[{"$f":"IF(ISBLANK(Rådata!A786)=TRUE,\"\",Rådata!A786)","v":""},{"$f":"IF(ISBLANK(Rådata!A786)=TRUE,\"\",YEAR(A786))","v":""},{"$f":"IF(ISBLANK(Rådata!A786)=TRUE,\"\",VLOOKUP(MONTH(A786),Opsætning!$G$3:$H$14,2,FALSE))","v":""},{"$f":"IF(ISBLANK(Rådata!B786)=TRUE,\"\",(Rådata!C786*100)/Rådata!B786)","v":""},{"$f":"IF(ISBLANK(Rådata!D786)=TRUE,\"\",((Rådata!D786-Rådata!E786)*100)/Rådata!D786)","v":""},{"$f":"IF(ISBLANK(Rådata!G786)=TRUE,\"\",(Rådata!F786*100)/Rådata!G786)","v":""},{"$f":"IF(ISBLANK(Rådata!K786),\"\",(SUM(Rådata!M786:P786)*100)/SUM(Rådata!H786:K786))","v":""},{"$f":"IF(ISBLANK(Rådata!H786),\"\",((SUM(Rådata!J786:L786)-SUM(Rådata!O786:P786))*100)/SUM(Rådata!H786:L786))","v":""},{"$f":"IF(ISBLANK(Rådata!R786),\"\",(Rådata!Q786*100)/Rådata!R786)","v":""}]
[{"$f":"IF(ISBLANK(Rådata!A787)=TRUE,\"\",Rådata!A787)","v":""},{"$f":"IF(ISBLANK(Rådata!A787)=TRUE,\"\",YEAR(A787))","v":""},{"$f":"IF(ISBLANK(Rådata!A787)=TRUE,\"\",VLOOKUP(MONTH(A787),Opsætning!$G$3:$H$14,2,FALSE))","v":""},{"$f":"IF(ISBLANK(Rådata!B787)=TRUE,\"\",(Rådata!C787*100)/Rådata!B787)","v":""},{"$f":"IF(ISBLANK(Rådata!D787)=TRUE,\"\",((Rådata!D787-Rådata!E787)*100)/Rådata!D787)","v":""},{"$f":"IF(ISBLANK(Rådata!G787)=TRUE,\"\",(Rådata!F787*100)/Rådata!G787)","v":""},{"$f":"IF(ISBLANK(Rådata!K787),\"\",(SUM(Rådata!M787:P787)*100)/SUM(Rådata!H787:K787))","v":""},{"$f":"IF(ISBLANK(Rådata!H787),\"\",((SUM(Rådata!J787:L787)-SUM(Rådata!O787:P787))*100)/SUM(Rådata!H787:L787))","v":""},{"$f":"IF(ISBLANK(Rådata!R787),\"\",(Rådata!Q787*100)/Rådata!R787)","v":""}]
[{"$f":"IF(ISBLANK(Rådata!A788)=TRUE,\"\",Rådata!A788)","v":""},{"$f":"IF(ISBLANK(Rådata!A788)=TRUE,\"\",YEAR(A788))","v":""},{"$f":"IF(ISBLANK(Rådata!A788)=TRUE,\"\",VLOOKUP(MONTH(A788),Opsætning!$G$3:$H$14,2,FALSE))","v":""},{"$f":"IF(ISBLANK(Rådata!B788)=TRUE,\"\",(Rådata!C788*100)/Rådata!B788)","v":""},{"$f":"IF(ISBLANK(Rådata!D788)=TRUE,\"\",((Rådata!D788-Rådata!E788)*100)/Rådata!D788)","v":""},{"$f":"IF(ISBLANK(Rådata!G788)=TRUE,\"\",(Rådata!F788*100)/Rådata!G788)","v":""},{"$f":"IF(ISBLANK(Rådata!K788),\"\",(SUM(Rådata!M788:P788)*100)/SUM(Rådata!H788:K788))","v":""},{"$f":"IF(ISBLANK(Rådata!H788),\"\",((SUM(Rådata!J788:L788)-SUM(Rådata!O788:P788))*100)/SUM(Rådata!H788:L788))","v":""},{"$f":"IF(ISBLANK(Rådata!R788),\"\",(Rådata!Q788*100)/Rådata!R788)","v":""}]
[{"$f":"IF(ISBLANK(Rådata!A789)=TRUE,\"\",Rådata!A789)","v":""},{"$f":"IF(ISBLANK(Rådata!A789)=TRUE,\"\",YEAR(A789))","v":""},{"$f":"IF(ISBLANK(Rådata!A789)=TRUE,\"\",VLOOKUP(MONTH(A789),Opsætning!$G$3:$H$14,2,FALSE))","v":""},{"$f":"IF(ISBLANK(Rådata!B789)=TRUE,\"\",(Rådata!C789*100)/Rådata!B789)","v":""},{"$f":"IF(ISBLANK(Rådata!D789)=TRUE,\"\",((Rådata!D789-Rådata!E789)*100)/Rådata!D789)","v":""},{"$f":"IF(ISBLANK(Rådata!G789)=TRUE,\"\",(Rådata!F789*100)/Rådata!G789)","v":""},{"$f":"IF(ISBLANK(Rådata!K789),\"\",(SUM(Rådata!M789:P789)*100)/SUM(Rådata!H789:K789))","v":""},{"$f":"IF(ISBLANK(Rådata!H789),\"\",((SUM(Rådata!J789:L789)-SUM(Rådata!O789:P789))*100)/SUM(Rådata!H789:L789))","v":""},{"$f":"IF(ISBLANK(Rådata!R789),\"\",(Rådata!Q789*100)/Rådata!R789)","v":""}]
[{"$f":"IF(ISBLANK(Rådata!A790)=TRUE,\"\",Rådata!A790)","v":""},{"$f":"IF(ISBLANK(Rådata!A790)=TRUE,\"\",YEAR(A790))","v":""},{"$f":"IF(ISBLANK(Rådata!A790)=TRUE,\"\",VLOOKUP(MONTH(A790),Opsætning!$G$3:$H$14,2,FALSE))","v":""},{"$f":"IF(ISBLANK(Rådata!B790)=TRUE,\"\",(Rådata!C790*100)/Rådata!B790)","v":""},{"$f":"IF(ISBLANK(Rådata!D790)=TRUE,\"\",((Rådata!D790-Rådata!E790)*100)/Rådata!D790)","v":""},{"$f":"IF(ISBLANK(Rådata!G790)=TRUE,\"\",(Rådata!F790*100)/Rådata!G790)","v":""},{"$f":"IF(ISBLANK(Rådata!K790),\"\",(SUM(Rådata!M790:P790)*100)/SUM(Rådata!H790:K790))","v":""},{"$f":"IF(ISBLANK(Rådata!H790),\"\",((SUM(Rådata!J790:L790)-SUM(Rådata!O790:P790))*100)/SUM(Rådata!H790:L790))","v":""},{"$f":"IF(ISBLANK(Rådata!R790),\"\",(Rådata!Q790*100)/Rådata!R790)","v":""}]
[{"$f":"IF(ISBLANK(Rådata!A791)=TRUE,\"\",Rådata!A791)","v":""},{"$f":"IF(ISBLANK(Rådata!A791)=TRUE,\"\",YEAR(A791))","v":""},{"$f":"IF(ISBLANK(Rådata!A791)=TRUE,\"\",VLOOKUP(MONTH(A791),Opsætning!$G$3:$H$14,2,FALSE))","v":""},{"$f":"IF(ISBLANK(Rådata!B791)=TRUE,\"\",(Rådata!C791*100)/Rådata!B791)","v":""},{"$f":"IF(ISBLANK(Rådata!D791)=TRUE,\"\",((Rådata!D791-Rådata!E791)*100)/Rådata!D791)","v":""},{"$f":"IF(ISBLANK(Rådata!G791)=TRUE,\"\",(Rådata!F791*100)/Rådata!G791)","v":""},{"$f":"IF(ISBLANK(Rådata!K791),\"\",(SUM(Rådata!M791:P791)*100)/SUM(Rådata!H791:K791))","v":""},{"$f":"IF(ISBLANK(Rådata!H791),\"\",((SUM(Rådata!J791:L791)-SUM(Rådata!O791:P791))*100)/SUM(Rådata!H791:L791))","v":""},{"$f":"IF(ISBLANK(Rådata!R791),\"\",(Rådata!Q791*100)/Rådata!R791)","v":""}]
[{"$f":"IF(ISBLANK(Rådata!A792)=TRUE,\"\",Rådata!A792)","v":""},{"$f":"IF(ISBLANK(Rådata!A792)=TRUE,\"\",YEAR(A792))","v":""},{"$f":"IF(ISBLANK(Rådata!A792)=TRUE,\"\",VLOOKUP(MONTH(A792),Opsætning!$G$3:$H$14,2,FALSE))","v":""},{"$f":"IF(ISBLANK(Rådata!B792)=TRUE,\"\",(Rådata!C792*100)/Rådata!B792)","v":""},{"$f":"IF(ISBLANK(Rådata!D792)=TRUE,\"\",((Rådata!D792-Rådata!E792)*100)/Rådata!D792)","v":""},{"$f":"IF(ISBLANK(Rådata!G792)=TRUE,\"\",(Rådata!F792*100)/Rådata!G792)","v":""},{"$f":"IF(ISBLANK(Rådata!K792),\"\",(SUM(Rådata!M792:P792)*100)/SUM(Rådata!H792:K792))","v":""},{"$f":"IF(ISBLANK(Rådata!H792),\"\",((SUM(Rådata!J792:L792)-SUM(Rådata!O792:P792))*100)/SUM(Rådata!H792:L792))","v":""},{"$f":"IF(ISBLANK(Rådata!R792),\"\",(Rådata!Q792*100)/Rådata!R792)","v":""}]
[{"$f":"IF(ISBLANK(Rådata!A793)=TRUE,\"\",Rådata!A793)","v":""},{"$f":"IF(ISBLANK(Rådata!A793)=TRUE,\"\",YEAR(A793))","v":""},{"$f":"IF(ISBLANK(Rådata!A793)=TRUE,\"\",VLOOKUP(MONTH(A793),Opsætning!$G$3:$H$14,2,FALSE))","v":""},{"$f":"IF(ISBLANK(Rådata!B793)=TRUE,\"\",(Rådata!C793*100)/Rådata!B793)","v":""},{"$f":"IF(ISBLANK(Rådata!D793)=TRUE,\"\",((Rådata!D793-Rådata!E793)*100)/Rådata!D793)","v":""},{"$f":"IF(ISBLANK(Rådata!G793)=TRUE,\"\",(Rådata!F793*100)/Rådata!G793)","v":""},{"$f":"IF(ISBLANK(Rådata!K793),\"\",(SUM(Rådata!M793:P793)*100)/SUM(Rådata!H793:K793))","v":""},{"$f":"IF(ISBLANK(Rådata!H793),\"\",((SUM(Rådata!J793:L793)-SUM(Rådata!O793:P793))*100)/SUM(Rådata!H793:L793))","v":""},{"$f":"IF(ISBLANK(Rådata!R793),\"\",(Rådata!Q793*100)/Rådata!R793)","v":""}]
[{"$f":"IF(ISBLANK(Rådata!A794)=TRUE,\"\",Rådata!A794)","v":""},{"$f":"IF(ISBLANK(Rådata!A794)=TRUE,\"\",YEAR(A794))","v":""},{"$f":"IF(ISBLANK(Rådata!A794)=TRUE,\"\",VLOOKUP(MONTH(A794),Opsætning!$G$3:$H$14,2,FALSE))","v":""},{"$f":"IF(ISBLANK(Rådata!B794)=TRUE,\"\",(Rådata!C794*100)/Rådata!B794)","v":""},{"$f":"IF(ISBLANK(Rådata!D794)=TRUE,\"\",((Rådata!D794-Rådata!E794)*100)/Rådata!D794)","v":""},{"$f":"IF(ISBLANK(Rådata!G794)=TRUE,\"\",(Rådata!F794*100)/Rådata!G794)","v":""},{"$f":"IF(ISBLANK(Rådata!K794),\"\",(SUM(Rådata!M794:P794)*100)/SUM(Rådata!H794:K794))","v":""},{"$f":"IF(ISBLANK(Rådata!H794),\"\",((SUM(Rådata!J794:L794)-SUM(Rådata!O794:P794))*100)/SUM(Rådata!H794:L794))","v":""},{"$f":"IF(ISBLANK(Rådata!R794),\"\",(Rådata!Q794*100)/Rådata!R794)","v":""}]
[{"$f":"IF(ISBLANK(Rådata!A795)=TRUE,\"\",Rådata!A795)","v":""},{"$f":"IF(ISBLANK(Rådata!A795)=TRUE,\"\",YEAR(A795))","v":""},{"$f":"IF(ISBLANK(Rådata!A795)=TRUE,\"\",VLOOKUP(MONTH(A795),Opsætning!$G$3:$H$14,2,FALSE))","v":""},{"$f":"IF(ISBLANK(Rådata!B795)=TRUE,\"\",(Rådata!C795*100)/Rådata!B795)","v":""},{"$f":"IF(ISBLANK(Rådata!D795)=TRUE,\"\",((Rådata!D795-Rådata!E795)*100)/Rådata!D795)","v":""},{"$f":"IF(ISBLANK(Rådata!G795)=TRUE,\"\",(Rådata!F795*100)/Rådata!G795)","v":""},{"$f":"IF(ISBLANK(Rådata!K795),\"\",(SUM(Rådata!M795:P795)*100)/SUM(Rådata!H795:K795))","v":""},{"$f":"IF(ISBLANK(Rådata!H795),\"\",((SUM(Rådata!J795:L795)-SUM(Rådata!O795:P795))*100)/SUM(Rådata!H795:L795))","v":""},{"$f":"IF(ISBLANK(Rådata!R795),\"\",(Rådata!Q795*100)/Rådata!R795)","v":""}]
[{"$f":"IF(ISBLANK(Rådata!A796)=TRUE,\"\",Rådata!A796)","v":""},{"$f":"IF(ISBLANK(Rådata!A796)=TRUE,\"\",YEAR(A796))","v":""},{"$f":"IF(ISBLANK(Rådata!A796)=TRUE,\"\",VLOOKUP(MONTH(A796),Opsætning!$G$3:$H$14,2,FALSE))","v":""},{"$f":"IF(ISBLANK(Rådata!B796)=TRUE,\"\",(Rådata!C796*100)/Rådata!B796)","v":""},{"$f":"IF(ISBLANK(Rådata!D796)=TRUE,\"\",((Rådata!D796-Rådata!E796)*100)/Rådata!D796)","v":""},{"$f":"IF(ISBLANK(Rådata!G796)=TRUE,\"\",(Rådata!F796*100)/Rådata!G796)","v":""},{"$f":"IF(ISBLANK(Rådata!K796),\"\",(SUM(Rådata!M796:P796)*100)/SUM(Rådata!H796:K796))","v":""},{"$f":"IF(ISBLANK(Rådata!H796),\"\",((SUM(Rådata!J796:L796)-SUM(Rådata!O796:P796))*100)/SUM(Rådata!H796:L796))","v":""},{"$f":"IF(ISBLANK(Rådata!R796),\"\",(Rådata!Q796*100)/Rådata!R796)","v":""}]
[{"$f":"IF(ISBLANK(Rådata!A797)=TRUE,\"\",Rådata!A797)","v":""},{"$f":"IF(ISBLANK(Rådata!A797)=TRUE,\"\",YEAR(A797))","v":""},{"$f":"IF(ISBLANK(Rådata!A797)=TRUE,\"\",VLOOKUP(MONTH(A797),Opsætning!$G$3:$H$14,2,FALSE))","v":""},{"$f":"IF(ISBLANK(Rådata!B797)=TRUE,\"\",(Rådata!C797*100)/Rådata!B797)","v":""},{"$f":"IF(ISBLANK(Rådata!D797)=TRUE,\"\",((Rådata!D797-Rådata!E797)*100)/Rådata!D797)","v":""},{"$f":"IF(ISBLANK(Rådata!G797)=TRUE,\"\",(Rådata!F797*100)/Rådata!G797)","v":""},{"$f":"IF(ISBLANK(Rådata!K797),\"\",(SUM(Rådata!M797:P797)*100)/SUM(Rådata!H797:K797))","v":""},{"$f":"IF(ISBLANK(Rådata!H797),\"\",((SUM(Rådata!J797:L797)-SUM(Rådata!O797:P797))*100)/SUM(Rådata!H797:L797))","v":""},{"$f":"IF(ISBLANK(Rådata!R797),\"\",(Rådata!Q797*100)/Rådata!R797)","v":""}]
[{"$f":"IF(ISBLANK(Rådata!A798)=TRUE,\"\",Rådata!A798)","v":""},{"$f":"IF(ISBLANK(Rådata!A798)=TRUE,\"\",YEAR(A798))","v":""},{"$f":"IF(ISBLANK(Rådata!A798)=TRUE,\"\",VLOOKUP(MONTH(A798),Opsætning!$G$3:$H$14,2,FALSE))","v":""},{"$f":"IF(ISBLANK(Rådata!B798)=TRUE,\"\",(Rådata!C798*100)/Rådata!B798)","v":""},{"$f":"IF(ISBLANK(Rådata!D798)=TRUE,\"\",((Rådata!D798-Rådata!E798)*100)/Rådata!D798)","v":""},{"$f":"IF(ISBLANK(Rådata!G798)=TRUE,\"\",(Rådata!F798*100)/Rådata!G798)","v":""},{"$f":"IF(ISBLANK(Rådata!K798),\"\",(SUM(Rådata!M798:P798)*100)/SUM(Rådata!H798:K798))","v":""},{"$f":"IF(ISBLANK(Rådata!H798),\"\",((SUM(Rådata!J798:L798)-SUM(Rådata!O798:P798))*100)/SUM(Rådata!H798:L798))","v":""},{"$f":"IF(ISBLANK(Rådata!R798),\"\",(Rådata!Q798*100)/Rådata!R798)","v":""}]
[{"$f":"IF(ISBLANK(Rådata!A799)=TRUE,\"\",Rådata!A799)","v":""},{"$f":"IF(ISBLANK(Rådata!A799)=TRUE,\"\",YEAR(A799))","v":""},{"$f":"IF(ISBLANK(Rådata!A799)=TRUE,\"\",VLOOKUP(MONTH(A799),Opsætning!$G$3:$H$14,2,FALSE))","v":""},{"$f":"IF(ISBLANK(Rådata!B799)=TRUE,\"\",(Rådata!C799*100)/Rådata!B799)","v":""},{"$f":"IF(ISBLANK(Rådata!D799)=TRUE,\"\",((Rådata!D799-Rådata!E799)*100)/Rådata!D799)","v":""},{"$f":"IF(ISBLANK(Rådata!G799)=TRUE,\"\",(Rådata!F799*100)/Rådata!G799)","v":""},{"$f":"IF(ISBLANK(Rådata!K799),\"\",(SUM(Rådata!M799:P799)*100)/SUM(Rådata!H799:K799))","v":""},{"$f":"IF(ISBLANK(Rådata!H799),\"\",((SUM(Rådata!J799:L799)-SUM(Rådata!O799:P799))*100)/SUM(Rådata!H799:L799))","v":""},{"$f":"IF(ISBLANK(Rådata!R799),\"\",(Rådata!Q799*100)/Rådata!R799)","v":""}]
[{"$f":"IF(ISBLANK(Rådata!A800)=TRUE,\"\",Rådata!A800)","v":""},{"$f":"IF(ISBLANK(Rådata!A800)=TRUE,\"\",YEAR(A800))","v":""},{"$f":"IF(ISBLANK(Rådata!A800)=TRUE,\"\",VLOOKUP(MONTH(A800),Opsætning!$G$3:$H$14,2,FALSE))","v":""},{"$f":"IF(ISBLANK(Rådata!B800)=TRUE,\"\",(Rådata!C800*100)/Rådata!B800)","v":""},{"$f":"IF(ISBLANK(Rådata!D800)=TRUE,\"\",((Rådata!D800-Rådata!E800)*100)/Rådata!D800)","v":""},{"$f":"IF(ISBLANK(Rådata!G800)=TRUE,\"\",(Rådata!F800*100)/Rådata!G800)","v":""},{"$f":"IF(ISBLANK(Rådata!K800),\"\",(SUM(Rådata!M800:P800)*100)/SUM(Rådata!H800:K800))","v":""},{"$f":"IF(ISBLANK(Rådata!H800),\"\",((SUM(Rådata!J800:L800)-SUM(Rådata!O800:P800))*100)/SUM(Rådata!H800:L800))","v":""},{"$f":"IF(ISBLANK(Rådata!R800),\"\",(Rådata!Q800*100)/Rådata!R800)","v":""}]
[{"$f":"IF(ISBLANK(Rådata!A801)=TRUE,\"\",Rådata!A801)","v":""},{"$f":"IF(ISBLANK(Rådata!A801)=TRUE,\"\",YEAR(A801))","v":""},{"$f":"IF(ISBLANK(Rådata!A801)=TRUE,\"\",VLOOKUP(MONTH(A801),Opsætning!$G$3:$H$14,2,FALSE))","v":""},{"$f":"IF(ISBLANK(Rådata!B801)=TRUE,\"\",(Rådata!C801*100)/Rådata!B801)","v":""},{"$f":"IF(ISBLANK(Rådata!D801)=TRUE,\"\",((Rådata!D801-Rådata!E801)*100)/Rådata!D801)","v":""},{"$f":"IF(ISBLANK(Rådata!G801)=TRUE,\"\",(Rådata!F801*100)/Rådata!G801)","v":""},{"$f":"IF(ISBLANK(Rådata!K801),\"\",(SUM(Rådata!M801:P801)*100)/SUM(Rådata!H801:K801))","v":""},{"$f":"IF(ISBLANK(Rådata!H801),\"\",((SUM(Rådata!J801:L801)-SUM(Rådata!O801:P801))*100)/SUM(Rådata!H801:L801))","v":""},{"$f":"IF(ISBLANK(Rådata!R801),\"\",(Rådata!Q801*100)/Rådata!R801)","v":""}]
[{"$f":"IF(ISBLANK(Rådata!A802)=TRUE,\"\",Rådata!A802)","v":""},{"$f":"IF(ISBLANK(Rådata!A802)=TRUE,\"\",YEAR(A802))","v":""},{"$f":"IF(ISBLANK(Rådata!A802)=TRUE,\"\",VLOOKUP(MONTH(A802),Opsætning!$G$3:$H$14,2,FALSE))","v":""},{"$f":"IF(ISBLANK(Rådata!B802)=TRUE,\"\",(Rådata!C802*100)/Rådata!B802)","v":""},{"$f":"IF(ISBLANK(Rådata!D802)=TRUE,\"\",((Rådata!D802-Rådata!E802)*100)/Rådata!D802)","v":""},{"$f":"IF(ISBLANK(Rådata!G802)=TRUE,\"\",(Rådata!F802*100)/Rådata!G802)","v":""},{"$f":"IF(ISBLANK(Rådata!K802),\"\",(SUM(Rådata!M802:P802)*100)/SUM(Rådata!H802:K802))","v":""},{"$f":"IF(ISBLANK(Rådata!H802),\"\",((SUM(Rådata!J802:L802)-SUM(Rådata!O802:P802))*100)/SUM(Rådata!H802:L802))","v":""},{"$f":"IF(ISBLANK(Rådata!R802),\"\",(Rådata!Q802*100)/Rådata!R802)","v":""}]
[{"$f":"IF(ISBLANK(Rådata!A803)=TRUE,\"\",Rådata!A803)","v":""},{"$f":"IF(ISBLANK(Rådata!A803)=TRUE,\"\",YEAR(A803))","v":""},{"$f":"IF(ISBLANK(Rådata!A803)=TRUE,\"\",VLOOKUP(MONTH(A803),Opsætning!$G$3:$H$14,2,FALSE))","v":""},{"$f":"IF(ISBLANK(Rådata!B803)=TRUE,\"\",(Rådata!C803*100)/Rådata!B803)","v":""},{"$f":"IF(ISBLANK(Rådata!D803)=TRUE,\"\",((Rådata!D803-Rådata!E803)*100)/Rådata!D803)","v":""},{"$f":"IF(ISBLANK(Rådata!G803)=TRUE,\"\",(Rådata!F803*100)/Rådata!G803)","v":""},{"$f":"IF(ISBLANK(Rådata!K803),\"\",(SUM(Rådata!M803:P803)*100)/SUM(Rådata!H803:K803))","v":""},{"$f":"IF(ISBLANK(Rådata!H803),\"\",((SUM(Rådata!J803:L803)-SUM(Rådata!O803:P803))*100)/SUM(Rådata!H803:L803))","v":""},{"$f":"IF(ISBLANK(Rådata!R803),\"\",(Rådata!Q803*100)/Rådata!R803)","v":""}]
[{"$f":"IF(ISBLANK(Rådata!A804)=TRUE,\"\",Rådata!A804)","v":""},{"$f":"IF(ISBLANK(Rådata!A804)=TRUE,\"\",YEAR(A804))","v":""},{"$f":"IF(ISBLANK(Rådata!A804)=TRUE,\"\",VLOOKUP(MONTH(A804),Opsætning!$G$3:$H$14,2,FALSE))","v":""},{"$f":"IF(ISBLANK(Rådata!B804)=TRUE,\"\",(Rådata!C804*100)/Rådata!B804)","v":""},{"$f":"IF(ISBLANK(Rådata!D804)=TRUE,\"\",((Rådata!D804-Rådata!E804)*100)/Rådata!D804)","v":""},{"$f":"IF(ISBLANK(Rådata!G804)=TRUE,\"\",(Rådata!F804*100)/Rådata!G804)","v":""},{"$f":"IF(ISBLANK(Rådata!K804),\"\",(SUM(Rådata!M804:P804)*100)/SUM(Rådata!H804:K804))","v":""},{"$f":"IF(ISBLANK(Rådata!H804),\"\",((SUM(Rådata!J804:L804)-SUM(Rådata!O804:P804))*100)/SUM(Rådata!H804:L804))","v":""},{"$f":"IF(ISBLANK(Rådata!R804),\"\",(Rådata!Q804*100)/Rådata!R804)","v":""}]
[{"$f":"IF(ISBLANK(Rådata!A805)=TRUE,\"\",Rådata!A805)","v":""},{"$f":"IF(ISBLANK(Rådata!A805)=TRUE,\"\",YEAR(A805))","v":""},{"$f":"IF(ISBLANK(Rådata!A805)=TRUE,\"\",VLOOKUP(MONTH(A805),Opsætning!$G$3:$H$14,2,FALSE))","v":""},{"$f":"IF(ISBLANK(Rådata!B805)=TRUE,\"\",(Rådata!C805*100)/Rådata!B805)","v":""},{"$f":"IF(ISBLANK(Rådata!D805)=TRUE,\"\",((Rådata!D805-Rådata!E805)*100)/Rådata!D805)","v":""},{"$f":"IF(ISBLANK(Rådata!G805)=TRUE,\"\",(Rådata!F805*100)/Rådata!G805)","v":""},{"$f":"IF(ISBLANK(Rådata!K805),\"\",(SUM(Rådata!M805:P805)*100)/SUM(Rådata!H805:K805))","v":""},{"$f":"IF(ISBLANK(Rådata!H805),\"\",((SUM(Rådata!J805:L805)-SUM(Rådata!O805:P805))*100)/SUM(Rådata!H805:L805))","v":""},{"$f":"IF(ISBLANK(Rådata!R805),\"\",(Rådata!Q805*100)/Rådata!R805)","v":""}]
[{"$f":"IF(ISBLANK(Rådata!A806)=TRUE,\"\",Rådata!A806)","v":""},{"$f":"IF(ISBLANK(Rådata!A806)=TRUE,\"\",YEAR(A806))","v":""},{"$f":"IF(ISBLANK(Rådata!A806)=TRUE,\"\",VLOOKUP(MONTH(A806),Opsætning!$G$3:$H$14,2,FALSE))","v":""},{"$f":"IF(ISBLANK(Rådata!B806)=TRUE,\"\",(Rådata!C806*100)/Rådata!B806)","v":""},{"$f":"IF(ISBLANK(Rådata!D806)=TRUE,\"\",((Rådata!D806-Rådata!E806)*100)/Rådata!D806)","v":""},{"$f":"IF(ISBLANK(Rådata!G806)=TRUE,\"\",(Rådata!F806*100)/Rådata!G806)","v":""},{"$f":"IF(ISBLANK(Rådata!K806),\"\",(SUM(Rådata!M806:P806)*100)/SUM(Rådata!H806:K806))","v":""},{"$f":"IF(ISBLANK(Rådata!H806),\"\",((SUM(Rådata!J806:L806)-SUM(Rådata!O806:P806))*100)/SUM(Rådata!H806:L806))","v":""},{"$f":"IF(ISBLANK(Rådata!R806),\"\",(Rådata!Q806*100)/Rådata!R806)","v":""}]
[{"$f":"IF(ISBLANK(Rådata!A807)=TRUE,\"\",Rådata!A807)","v":""},{"$f":"IF(ISBLANK(Rådata!A807)=TRUE,\"\",YEAR(A807))","v":""},{"$f":"IF(ISBLANK(Rådata!A807)=TRUE,\"\",VLOOKUP(MONTH(A807),Opsætning!$G$3:$H$14,2,FALSE))","v":""},{"$f":"IF(ISBLANK(Rådata!B807)=TRUE,\"\",(Rådata!C807*100)/Rådata!B807)","v":""},{"$f":"IF(ISBLANK(Rådata!D807)=TRUE,\"\",((Rådata!D807-Rådata!E807)*100)/Rådata!D807)","v":""},{"$f":"IF(ISBLANK(Rådata!G807)=TRUE,\"\",(Rådata!F807*100)/Rådata!G807)","v":""},{"$f":"IF(ISBLANK(Rådata!K807),\"\",(SUM(Rådata!M807:P807)*100)/SUM(Rådata!H807:K807))","v":""},{"$f":"IF(ISBLANK(Rådata!H807),\"\",((SUM(Rådata!J807:L807)-SUM(Rådata!O807:P807))*100)/SUM(Rådata!H807:L807))","v":""},{"$f":"IF(ISBLANK(Rådata!R807),\"\",(Rådata!Q807*100)/Rådata!R807)","v":""}]
[{"$f":"IF(ISBLANK(Rådata!A808)=TRUE,\"\",Rådata!A808)","v":""},{"$f":"IF(ISBLANK(Rådata!A808)=TRUE,\"\",YEAR(A808))","v":""},{"$f":"IF(ISBLANK(Rådata!A808)=TRUE,\"\",VLOOKUP(MONTH(A808),Opsætning!$G$3:$H$14,2,FALSE))","v":""},{"$f":"IF(ISBLANK(Rådata!B808)=TRUE,\"\",(Rådata!C808*100)/Rådata!B808)","v":""},{"$f":"IF(ISBLANK(Rådata!D808)=TRUE,\"\",((Rådata!D808-Rådata!E808)*100)/Rådata!D808)","v":""},{"$f":"IF(ISBLANK(Rådata!G808)=TRUE,\"\",(Rådata!F808*100)/Rådata!G808)","v":""},{"$f":"IF(ISBLANK(Rådata!K808),\"\",(SUM(Rådata!M808:P808)*100)/SUM(Rådata!H808:K808))","v":""},{"$f":"IF(ISBLANK(Rådata!H808),\"\",((SUM(Rådata!J808:L808)-SUM(Rådata!O808:P808))*100)/SUM(Rådata!H808:L808))","v":""},{"$f":"IF(ISBLANK(Rådata!R808),\"\",(Rådata!Q808*100)/Rådata!R808)","v":""}]
[{"$f":"IF(ISBLANK(Rådata!A809)=TRUE,\"\",Rådata!A809)","v":""},{"$f":"IF(ISBLANK(Rådata!A809)=TRUE,\"\",YEAR(A809))","v":""},{"$f":"IF(ISBLANK(Rådata!A809)=TRUE,\"\",VLOOKUP(MONTH(A809),Opsætning!$G$3:$H$14,2,FALSE))","v":""},{"$f":"IF(ISBLANK(Rådata!B809)=TRUE,\"\",(Rådata!C809*100)/Rådata!B809)","v":""},{"$f":"IF(ISBLANK(Rådata!D809)=TRUE,\"\",((Rådata!D809-Rådata!E809)*100)/Rådata!D809)","v":""},{"$f":"IF(ISBLANK(Rådata!G809)=TRUE,\"\",(Rådata!F809*100)/Rådata!G809)","v":""},{"$f":"IF(ISBLANK(Rådata!K809),\"\",(SUM(Rådata!M809:P809)*100)/SUM(Rådata!H809:K809))","v":""},{"$f":"IF(ISBLANK(Rådata!H809),\"\",((SUM(Rådata!J809:L809)-SUM(Rådata!O809:P809))*100)/SUM(Rådata!H809:L809))","v":""},{"$f":"IF(ISBLANK(Rådata!R809),\"\",(Rådata!Q809*100)/Rådata!R809)","v":""}]
[{"$f":"IF(ISBLANK(Rådata!A810)=TRUE,\"\",Rådata!A810)","v":""},{"$f":"IF(ISBLANK(Rådata!A810)=TRUE,\"\",YEAR(A810))","v":""},{"$f":"IF(ISBLANK(Rådata!A810)=TRUE,\"\",VLOOKUP(MONTH(A810),Opsætning!$G$3:$H$14,2,FALSE))","v":""},{"$f":"IF(ISBLANK(Rådata!B810)=TRUE,\"\",(Rådata!C810*100)/Rådata!B810)","v":""},{"$f":"IF(ISBLANK(Rådata!D810)=TRUE,\"\",((Rådata!D810-Rådata!E810)*100)/Rådata!D810)","v":""},{"$f":"IF(ISBLANK(Rådata!G810)=TRUE,\"\",(Rådata!F810*100)/Rådata!G810)","v":""},{"$f":"IF(ISBLANK(Rådata!K810),\"\",(SUM(Rådata!M810:P810)*100)/SUM(Rådata!H810:K810))","v":""},{"$f":"IF(ISBLANK(Rådata!H810),\"\",((SUM(Rådata!J810:L810)-SUM(Rådata!O810:P810))*100)/SUM(Rådata!H810:L810))","v":""},{"$f":"IF(ISBLANK(Rådata!R810),\"\",(Rådata!Q810*100)/Rådata!R810)","v":""}]
[{"$f":"IF(ISBLANK(Rådata!A811)=TRUE,\"\",Rådata!A811)","v":""},{"$f":"IF(ISBLANK(Rådata!A811)=TRUE,\"\",YEAR(A811))","v":""},{"$f":"IF(ISBLANK(Rådata!A811)=TRUE,\"\",VLOOKUP(MONTH(A811),Opsætning!$G$3:$H$14,2,FALSE))","v":""},{"$f":"IF(ISBLANK(Rådata!B811)=TRUE,\"\",(Rådata!C811*100)/Rådata!B811)","v":""},{"$f":"IF(ISBLANK(Rådata!D811)=TRUE,\"\",((Rådata!D811-Rådata!E811)*100)/Rådata!D811)","v":""},{"$f":"IF(ISBLANK(Rådata!G811)=TRUE,\"\",(Rådata!F811*100)/Rådata!G811)","v":""},{"$f":"IF(ISBLANK(Rådata!K811),\"\",(SUM(Rådata!M811:P811)*100)/SUM(Rådata!H811:K811))","v":""},{"$f":"IF(ISBLANK(Rådata!H811),\"\",((SUM(Rådata!J811:L811)-SUM(Rådata!O811:P811))*100)/SUM(Rådata!H811:L811))","v":""},{"$f":"IF(ISBLANK(Rådata!R811),\"\",(Rådata!Q811*100)/Rådata!R811)","v":""}]
[{"$f":"IF(ISBLANK(Rådata!A812)=TRUE,\"\",Rådata!A812)","v":""},{"$f":"IF(ISBLANK(Rådata!A812)=TRUE,\"\",YEAR(A812))","v":""},{"$f":"IF(ISBLANK(Rådata!A812)=TRUE,\"\",VLOOKUP(MONTH(A812),Opsætning!$G$3:$H$14,2,FALSE))","v":""},{"$f":"IF(ISBLANK(Rådata!B812)=TRUE,\"\",(Rådata!C812*100)/Rådata!B812)","v":""},{"$f":"IF(ISBLANK(Rådata!D812)=TRUE,\"\",((Rådata!D812-Rådata!E812)*100)/Rådata!D812)","v":""},{"$f":"IF(ISBLANK(Rådata!G812)=TRUE,\"\",(Rådata!F812*100)/Rådata!G812)","v":""},{"$f":"IF(ISBLANK(Rådata!K812),\"\",(SUM(Rådata!M812:P812)*100)/SUM(Rådata!H812:K812))","v":""},{"$f":"IF(ISBLANK(Rådata!H812),\"\",((SUM(Rådata!J812:L812)-SUM(Rådata!O812:P812))*100)/SUM(Rådata!H812:L812))","v":""},{"$f":"IF(ISBLANK(Rådata!R812),\"\",(Rådata!Q812*100)/Rådata!R812)","v":""}]
[{"$f":"IF(ISBLANK(Rådata!A813)=TRUE,\"\",Rådata!A813)","v":""},{"$f":"IF(ISBLANK(Rådata!A813)=TRUE,\"\",YEAR(A813))","v":""},{"$f":"IF(ISBLANK(Rådata!A813)=TRUE,\"\",VLOOKUP(MONTH(A813),Opsætning!$G$3:$H$14,2,FALSE))","v":""},{"$f":"IF(ISBLANK(Rådata!B813)=TRUE,\"\",(Rådata!C813*100)/Rådata!B813)","v":""},{"$f":"IF(ISBLANK(Rådata!D813)=TRUE,\"\",((Rådata!D813-Rådata!E813)*100)/Rådata!D813)","v":""},{"$f":"IF(ISBLANK(Rådata!G813)=TRUE,\"\",(Rådata!F813*100)/Rådata!G813)","v":""},{"$f":"IF(ISBLANK(Rådata!K813),\"\",(SUM(Rådata!M813:P813)*100)/SUM(Rådata!H813:K813))","v":""},{"$f":"IF(ISBLANK(Rådata!H813),\"\",((SUM(Rådata!J813:L813)-SUM(Rådata!O813:P813))*100)/SUM(Rådata!H813:L813))","v":""},{"$f":"IF(ISBLANK(Rådata!R813),\"\",(Rådata!Q813*100)/Rådata!R813)","v":""}]
[{"$f":"IF(ISBLANK(Rådata!A814)=TRUE,\"\",Rådata!A814)","v":""},{"$f":"IF(ISBLANK(Rådata!A814)=TRUE,\"\",YEAR(A814))","v":""},{"$f":"IF(ISBLANK(Rådata!A814)=TRUE,\"\",VLOOKUP(MONTH(A814),Opsætning!$G$3:$H$14,2,FALSE))","v":""},{"$f":"IF(ISBLANK(Rådata!B814)=TRUE,\"\",(Rådata!C814*100)/Rådata!B814)","v":""},{"$f":"IF(ISBLANK(Rådata!D814)=TRUE,\"\",((Rådata!D814-Rådata!E814)*100)/Rådata!D814)","v":""},{"$f":"IF(ISBLANK(Rådata!G814)=TRUE,\"\",(Rådata!F814*100)/Rådata!G814)","v":""},{"$f":"IF(ISBLANK(Rådata!K814),\"\",(SUM(Rådata!M814:P814)*100)/SUM(Rådata!H814:K814))","v":""},{"$f":"IF(ISBLANK(Rådata!H814),\"\",((SUM(Rådata!J814:L814)-SUM(Rådata!O814:P814))*100)/SUM(Rådata!H814:L814))","v":""},{"$f":"IF(ISBLANK(Rådata!R814),\"\",(Rådata!Q814*100)/Rådata!R814)","v":""}]
[{"$f":"IF(ISBLANK(Rådata!A815)=TRUE,\"\",Rådata!A815)","v":""},{"$f":"IF(ISBLANK(Rådata!A815)=TRUE,\"\",YEAR(A815))","v":""},{"$f":"IF(ISBLANK(Rådata!A815)=TRUE,\"\",VLOOKUP(MONTH(A815),Opsætning!$G$3:$H$14,2,FALSE))","v":""},{"$f":"IF(ISBLANK(Rådata!B815)=TRUE,\"\",(Rådata!C815*100)/Rådata!B815)","v":""},{"$f":"IF(ISBLANK(Rådata!D815)=TRUE,\"\",((Rådata!D815-Rådata!E815)*100)/Rådata!D815)","v":""},{"$f":"IF(ISBLANK(Rådata!G815)=TRUE,\"\",(Rådata!F815*100)/Rådata!G815)","v":""},{"$f":"IF(ISBLANK(Rådata!K815),\"\",(SUM(Rådata!M815:P815)*100)/SUM(Rådata!H815:K815))","v":""},{"$f":"IF(ISBLANK(Rådata!H815),\"\",((SUM(Rådata!J815:L815)-SUM(Rådata!O815:P815))*100)/SUM(Rådata!H815:L815))","v":""},{"$f":"IF(ISBLANK(Rådata!R815),\"\",(Rådata!Q815*100)/Rådata!R815)","v":""}]
[{"$f":"IF(ISBLANK(Rådata!A816)=TRUE,\"\",Rådata!A816)","v":""},{"$f":"IF(ISBLANK(Rådata!A816)=TRUE,\"\",YEAR(A816))","v":""},{"$f":"IF(ISBLANK(Rådata!A816)=TRUE,\"\",VLOOKUP(MONTH(A816),Opsætning!$G$3:$H$14,2,FALSE))","v":""},{"$f":"IF(ISBLANK(Rådata!B816)=TRUE,\"\",(Rådata!C816*100)/Rådata!B816)","v":""},{"$f":"IF(ISBLANK(Rådata!D816)=TRUE,\"\",((Rådata!D816-Rådata!E816)*100)/Rådata!D816)","v":""},{"$f":"IF(ISBLANK(Rådata!G816)=TRUE,\"\",(Rådata!F816*100)/Rådata!G816)","v":""},{"$f":"IF(ISBLANK(Rådata!K816),\"\",(SUM(Rådata!M816:P816)*100)/SUM(Rådata!H816:K816))","v":""},{"$f":"IF(ISBLANK(Rådata!H816),\"\",((SUM(Rådata!J816:L816)-SUM(Rådata!O816:P816))*100)/SUM(Rådata!H816:L816))","v":""},{"$f":"IF(ISBLANK(Rådata!R816),\"\",(Rådata!Q816*100)/Rådata!R816)","v":""}]
[{"$f":"IF(ISBLANK(Rådata!A817)=TRUE,\"\",Rådata!A817)","v":""},{"$f":"IF(ISBLANK(Rådata!A817)=TRUE,\"\",YEAR(A817))","v":""},{"$f":"IF(ISBLANK(Rådata!A817)=TRUE,\"\",VLOOKUP(MONTH(A817),Opsætning!$G$3:$H$14,2,FALSE))","v":""},{"$f":"IF(ISBLANK(Rådata!B817)=TRUE,\"\",(Rådata!C817*100)/Rådata!B817)","v":""},{"$f":"IF(ISBLANK(Rådata!D817)=TRUE,\"\",((Rådata!D817-Rådata!E817)*100)/Rådata!D817)","v":""},{"$f":"IF(ISBLANK(Rådata!G817)=TRUE,\"\",(Rådata!F817*100)/Rådata!G817)","v":""},{"$f":"IF(ISBLANK(Rådata!K817),\"\",(SUM(Rådata!M817:P817)*100)/SUM(Rådata!H817:K817))","v":""},{"$f":"IF(ISBLANK(Rådata!H817),\"\",((SUM(Rådata!J817:L817)-SUM(Rådata!O817:P817))*100)/SUM(Rådata!H817:L817))","v":""},{"$f":"IF(ISBLANK(Rådata!R817),\"\",(Rådata!Q817*100)/Rådata!R817)","v":""}]
[{"$f":"IF(ISBLANK(Rådata!A818)=TRUE,\"\",Rådata!A818)","v":""},{"$f":"IF(ISBLANK(Rådata!A818)=TRUE,\"\",YEAR(A818))","v":""},{"$f":"IF(ISBLANK(Rådata!A818)=TRUE,\"\",VLOOKUP(MONTH(A818),Opsætning!$G$3:$H$14,2,FALSE))","v":""},{"$f":"IF(ISBLANK(Rådata!B818)=TRUE,\"\",(Rådata!C818*100)/Rådata!B818)","v":""},{"$f":"IF(ISBLANK(Rådata!D818)=TRUE,\"\",((Rådata!D818-Rådata!E818)*100)/Rådata!D818)","v":""},{"$f":"IF(ISBLANK(Rådata!G818)=TRUE,\"\",(Rådata!F818*100)/Rådata!G818)","v":""},{"$f":"IF(ISBLANK(Rådata!K818),\"\",(SUM(Rådata!M818:P818)*100)/SUM(Rådata!H818:K818))","v":""},{"$f":"IF(ISBLANK(Rådata!H818),\"\",((SUM(Rådata!J818:L818)-SUM(Rådata!O818:P818))*100)/SUM(Rådata!H818:L818))","v":""},{"$f":"IF(ISBLANK(Rådata!R818),\"\",(Rådata!Q818*100)/Rådata!R818)","v":""}]
[{"$f":"IF(ISBLANK(Rådata!A819)=TRUE,\"\",Rådata!A819)","v":""},{"$f":"IF(ISBLANK(Rådata!A819)=TRUE,\"\",YEAR(A819))","v":""},{"$f":"IF(ISBLANK(Rådata!A819)=TRUE,\"\",VLOOKUP(MONTH(A819),Opsætning!$G$3:$H$14,2,FALSE))","v":""},{"$f":"IF(ISBLANK(Rådata!B819)=TRUE,\"\",(Rådata!C819*100)/Rådata!B819)","v":""},{"$f":"IF(ISBLANK(Rådata!D819)=TRUE,\"\",((Rådata!D819-Rådata!E819)*100)/Rådata!D819)","v":""},{"$f":"IF(ISBLANK(Rådata!G819)=TRUE,\"\",(Rådata!F819*100)/Rådata!G819)","v":""},{"$f":"IF(ISBLANK(Rådata!K819),\"\",(SUM(Rådata!M819:P819)*100)/SUM(Rådata!H819:K819))","v":""},{"$f":"IF(ISBLANK(Rådata!H819),\"\",((SUM(Rådata!J819:L819)-SUM(Rådata!O819:P819))*100)/SUM(Rådata!H819:L819))","v":""},{"$f":"IF(ISBLANK(Rådata!R819),\"\",(Rådata!Q819*100)/Rådata!R819)","v":""}]
[{"$f":"IF(ISBLANK(Rådata!A820)=TRUE,\"\",Rådata!A820)","v":""},{"$f":"IF(ISBLANK(Rådata!A820)=TRUE,\"\",YEAR(A820))","v":""},{"$f":"IF(ISBLANK(Rådata!A820)=TRUE,\"\",VLOOKUP(MONTH(A820),Opsætning!$G$3:$H$14,2,FALSE))","v":""},{"$f":"IF(ISBLANK(Rådata!B820)=TRUE,\"\",(Rådata!C820*100)/Rådata!B820)","v":""},{"$f":"IF(ISBLANK(Rådata!D820)=TRUE,\"\",((Rådata!D820-Rådata!E820)*100)/Rådata!D820)","v":""},{"$f":"IF(ISBLANK(Rådata!G820)=TRUE,\"\",(Rådata!F820*100)/Rådata!G820)","v":""},{"$f":"IF(ISBLANK(Rådata!K820),\"\",(SUM(Rådata!M820:P820)*100)/SUM(Rådata!H820:K820))","v":""},{"$f":"IF(ISBLANK(Rådata!H820),\"\",((SUM(Rådata!J820:L820)-SUM(Rådata!O820:P820))*100)/SUM(Rådata!H820:L820))","v":""},{"$f":"IF(ISBLANK(Rådata!R820),\"\",(Rådata!Q820*100)/Rådata!R820)","v":""}]
[{"$f":"IF(ISBLANK(Rådata!A821)=TRUE,\"\",Rådata!A821)","v":""},{"$f":"IF(ISBLANK(Rådata!A821)=TRUE,\"\",YEAR(A821))","v":""},{"$f":"IF(ISBLANK(Rådata!A821)=TRUE,\"\",VLOOKUP(MONTH(A821),Opsætning!$G$3:$H$14,2,FALSE))","v":""},{"$f":"IF(ISBLANK(Rådata!B821)=TRUE,\"\",(Rådata!C821*100)/Rådata!B821)","v":""},{"$f":"IF(ISBLANK(Rådata!D821)=TRUE,\"\",((Rådata!D821-Rådata!E821)*100)/Rådata!D821)","v":""},{"$f":"IF(ISBLANK(Rådata!G821)=TRUE,\"\",(Rådata!F821*100)/Rådata!G821)","v":""},{"$f":"IF(ISBLANK(Rådata!K821),\"\",(SUM(Rådata!M821:P821)*100)/SUM(Rådata!H821:K821))","v":""},{"$f":"IF(ISBLANK(Rådata!H821),\"\",((SUM(Rådata!J821:L821)-SUM(Rådata!O821:P821))*100)/SUM(Rådata!H821:L821))","v":""},{"$f":"IF(ISBLANK(Rådata!R821),\"\",(Rådata!Q821*100)/Rådata!R821)","v":""}]
[{"$f":"IF(ISBLANK(Rådata!A822)=TRUE,\"\",Rådata!A822)","v":""},{"$f":"IF(ISBLANK(Rådata!A822)=TRUE,\"\",YEAR(A822))","v":""},{"$f":"IF(ISBLANK(Rådata!A822)=TRUE,\"\",VLOOKUP(MONTH(A822),Opsætning!$G$3:$H$14,2,FALSE))","v":""},{"$f":"IF(ISBLANK(Rådata!B822)=TRUE,\"\",(Rådata!C822*100)/Rådata!B822)","v":""},{"$f":"IF(ISBLANK(Rådata!D822)=TRUE,\"\",((Rådata!D822-Rådata!E822)*100)/Rådata!D822)","v":""},{"$f":"IF(ISBLANK(Rådata!G822)=TRUE,\"\",(Rådata!F822*100)/Rådata!G822)","v":""},{"$f":"IF(ISBLANK(Rådata!K822),\"\",(SUM(Rådata!M822:P822)*100)/SUM(Rådata!H822:K822))","v":""},{"$f":"IF(ISBLANK(Rådata!H822),\"\",((SUM(Rådata!J822:L822)-SUM(Rådata!O822:P822))*100)/SUM(Rådata!H822:L822))","v":""},{"$f":"IF(ISBLANK(Rådata!R822),\"\",(Rådata!Q822*100)/Rådata!R822)","v":""}]
[{"$f":"IF(ISBLANK(Rådata!A823)=TRUE,\"\",Rådata!A823)","v":""},{"$f":"IF(ISBLANK(Rådata!A823)=TRUE,\"\",YEAR(A823))","v":""},{"$f":"IF(ISBLANK(Rådata!A823)=TRUE,\"\",VLOOKUP(MONTH(A823),Opsætning!$G$3:$H$14,2,FALSE))","v":""},{"$f":"IF(ISBLANK(Rådata!B823)=TRUE,\"\",(Rådata!C823*100)/Rådata!B823)","v":""},{"$f":"IF(ISBLANK(Rådata!D823)=TRUE,\"\",((Rådata!D823-Rådata!E823)*100)/Rådata!D823)","v":""},{"$f":"IF(ISBLANK(Rådata!G823)=TRUE,\"\",(Rådata!F823*100)/Rådata!G823)","v":""},{"$f":"IF(ISBLANK(Rådata!K823),\"\",(SUM(Rådata!M823:P823)*100)/SUM(Rådata!H823:K823))","v":""},{"$f":"IF(ISBLANK(Rådata!H823),\"\",((SUM(Rådata!J823:L823)-SUM(Rådata!O823:P823))*100)/SUM(Rådata!H823:L823))","v":""},{"$f":"IF(ISBLANK(Rådata!R823),\"\",(Rådata!Q823*100)/Rådata!R823)","v":""}]
[{"$f":"IF(ISBLANK(Rådata!A824)=TRUE,\"\",Rådata!A824)","v":""},{"$f":"IF(ISBLANK(Rådata!A824)=TRUE,\"\",YEAR(A824))","v":""},{"$f":"IF(ISBLANK(Rådata!A824)=TRUE,\"\",VLOOKUP(MONTH(A824),Opsætning!$G$3:$H$14,2,FALSE))","v":""},{"$f":"IF(ISBLANK(Rådata!B824)=TRUE,\"\",(Rådata!C824*100)/Rådata!B824)","v":""},{"$f":"IF(ISBLANK(Rådata!D824)=TRUE,\"\",((Rådata!D824-Rådata!E824)*100)/Rådata!D824)","v":""},{"$f":"IF(ISBLANK(Rådata!G824)=TRUE,\"\",(Rådata!F824*100)/Rådata!G824)","v":""},{"$f":"IF(ISBLANK(Rådata!K824),\"\",(SUM(Rådata!M824:P824)*100)/SUM(Rådata!H824:K824))","v":""},{"$f":"IF(ISBLANK(Rådata!H824),\"\",((SUM(Rådata!J824:L824)-SUM(Rådata!O824:P824))*100)/SUM(Rådata!H824:L824))","v":""},{"$f":"IF(ISBLANK(Rådata!R824),\"\",(Rådata!Q824*100)/Rådata!R824)","v":""}]
[{"$f":"IF(ISBLANK(Rådata!A825)=TRUE,\"\",Rådata!A825)","v":""},{"$f":"IF(ISBLANK(Rådata!A825)=TRUE,\"\",YEAR(A825))","v":""},{"$f":"IF(ISBLANK(Rådata!A825)=TRUE,\"\",VLOOKUP(MONTH(A825),Opsætning!$G$3:$H$14,2,FALSE))","v":""},{"$f":"IF(ISBLANK(Rådata!B825)=TRUE,\"\",(Rådata!C825*100)/Rådata!B825)","v":""},{"$f":"IF(ISBLANK(Rådata!D825)=TRUE,\"\",((Rådata!D825-Rådata!E825)*100)/Rådata!D825)","v":""},{"$f":"IF(ISBLANK(Rådata!G825)=TRUE,\"\",(Rådata!F825*100)/Rådata!G825)","v":""},{"$f":"IF(ISBLANK(Rådata!K825),\"\",(SUM(Rådata!M825:P825)*100)/SUM(Rådata!H825:K825))","v":""},{"$f":"IF(ISBLANK(Rådata!H825),\"\",((SUM(Rådata!J825:L825)-SUM(Rådata!O825:P825))*100)/SUM(Rådata!H825:L825))","v":""},{"$f":"IF(ISBLANK(Rådata!R825),\"\",(Rådata!Q825*100)/Rådata!R825)","v":""}]
[{"$f":"IF(ISBLANK(Rådata!A826)=TRUE,\"\",Rådata!A826)","v":""},{"$f":"IF(ISBLANK(Rådata!A826)=TRUE,\"\",YEAR(A826))","v":""},{"$f":"IF(ISBLANK(Rådata!A826)=TRUE,\"\",VLOOKUP(MONTH(A826),Opsætning!$G$3:$H$14,2,FALSE))","v":""},{"$f":"IF(ISBLANK(Rådata!B826)=TRUE,\"\",(Rådata!C826*100)/Rådata!B826)","v":""},{"$f":"IF(ISBLANK(Rådata!D826)=TRUE,\"\",((Rådata!D826-Rådata!E826)*100)/Rådata!D826)","v":""},{"$f":"IF(ISBLANK(Rådata!G826)=TRUE,\"\",(Rådata!F826*100)/Rådata!G826)","v":""},{"$f":"IF(ISBLANK(Rådata!K826),\"\",(SUM(Rådata!M826:P826)*100)/SUM(Rådata!H826:K826))","v":""},{"$f":"IF(ISBLANK(Rådata!H826),\"\",((SUM(Rådata!J826:L826)-SUM(Rådata!O826:P826))*100)/SUM(Rådata!H826:L826))","v":""},{"$f":"IF(ISBLANK(Rådata!R826),\"\",(Rådata!Q826*100)/Rådata!R826)","v":""}]
[{"$f":"IF(ISBLANK(Rådata!A827)=TRUE,\"\",Rådata!A827)","v":""},{"$f":"IF(ISBLANK(Rådata!A827)=TRUE,\"\",YEAR(A827))","v":""},{"$f":"IF(ISBLANK(Rådata!A827)=TRUE,\"\",VLOOKUP(MONTH(A827),Opsætning!$G$3:$H$14,2,FALSE))","v":""},{"$f":"IF(ISBLANK(Rådata!B827)=TRUE,\"\",(Rådata!C827*100)/Rådata!B827)","v":""},{"$f":"IF(ISBLANK(Rådata!D827)=TRUE,\"\",((Rådata!D827-Rådata!E827)*100)/Rådata!D827)","v":""},{"$f":"IF(ISBLANK(Rådata!G827)=TRUE,\"\",(Rådata!F827*100)/Rådata!G827)","v":""},{"$f":"IF(ISBLANK(Rådata!K827),\"\",(SUM(Rådata!M827:P827)*100)/SUM(Rådata!H827:K827))","v":""},{"$f":"IF(ISBLANK(Rådata!H827),\"\",((SUM(Rådata!J827:L827)-SUM(Rådata!O827:P827))*100)/SUM(Rådata!H827:L827))","v":""},{"$f":"IF(ISBLANK(Rådata!R827),\"\",(Rådata!Q827*100)/Rådata!R827)","v":""}]
[{"$f":"IF(ISBLANK(Rådata!A828)=TRUE,\"\",Rådata!A828)","v":""},{"$f":"IF(ISBLANK(Rådata!A828)=TRUE,\"\",YEAR(A828))","v":""},{"$f":"IF(ISBLANK(Rådata!A828)=TRUE,\"\",VLOOKUP(MONTH(A828),Opsætning!$G$3:$H$14,2,FALSE))","v":""},{"$f":"IF(ISBLANK(Rådata!B828)=TRUE,\"\",(Rådata!C828*100)/Rådata!B828)","v":""},{"$f":"IF(ISBLANK(Rådata!D828)=TRUE,\"\",((Rådata!D828-Rådata!E828)*100)/Rådata!D828)","v":""},{"$f":"IF(ISBLANK(Rådata!G828)=TRUE,\"\",(Rådata!F828*100)/Rådata!G828)","v":""},{"$f":"IF(ISBLANK(Rådata!K828),\"\",(SUM(Rådata!M828:P828)*100)/SUM(Rådata!H828:K828))","v":""},{"$f":"IF(ISBLANK(Rådata!H828),\"\",((SUM(Rådata!J828:L828)-SUM(Rådata!O828:P828))*100)/SUM(Rådata!H828:L828))","v":""},{"$f":"IF(ISBLANK(Rådata!R828),\"\",(Rådata!Q828*100)/Rådata!R828)","v":""}]
[{"$f":"IF(ISBLANK(Rådata!A829)=TRUE,\"\",Rådata!A829)","v":""},{"$f":"IF(ISBLANK(Rådata!A829)=TRUE,\"\",YEAR(A829))","v":""},{"$f":"IF(ISBLANK(Rådata!A829)=TRUE,\"\",VLOOKUP(MONTH(A829),Opsætning!$G$3:$H$14,2,FALSE))","v":""},{"$f":"IF(ISBLANK(Rådata!B829)=TRUE,\"\",(Rådata!C829*100)/Rådata!B829)","v":""},{"$f":"IF(ISBLANK(Rådata!D829)=TRUE,\"\",((Rådata!D829-Rådata!E829)*100)/Rådata!D829)","v":""},{"$f":"IF(ISBLANK(Rådata!G829)=TRUE,\"\",(Rådata!F829*100)/Rådata!G829)","v":""},{"$f":"IF(ISBLANK(Rådata!K829),\"\",(SUM(Rådata!M829:P829)*100)/SUM(Rådata!H829:K829))","v":""},{"$f":"IF(ISBLANK(Rådata!H829),\"\",((SUM(Rådata!J829:L829)-SUM(Rådata!O829:P829))*100)/SUM(Rådata!H829:L829))","v":""},{"$f":"IF(ISBLANK(Rådata!R829),\"\",(Rådata!Q829*100)/Rådata!R829)","v":""}]
[{"$f":"IF(ISBLANK(Rådata!A830)=TRUE,\"\",Rådata!A830)","v":""},{"$f":"IF(ISBLANK(Rådata!A830)=TRUE,\"\",YEAR(A830))","v":""},{"$f":"IF(ISBLANK(Rådata!A830)=TRUE,\"\",VLOOKUP(MONTH(A830),Opsætning!$G$3:$H$14,2,FALSE))","v":""},{"$f":"IF(ISBLANK(Rådata!B830)=TRUE,\"\",(Rådata!C830*100)/Rådata!B830)","v":""},{"$f":"IF(ISBLANK(Rådata!D830)=TRUE,\"\",((Rådata!D830-Rådata!E830)*100)/Rådata!D830)","v":""},{"$f":"IF(ISBLANK(Rådata!G830)=TRUE,\"\",(Rådata!F830*100)/Rådata!G830)","v":""},{"$f":"IF(ISBLANK(Rådata!K830),\"\",(SUM(Rådata!M830:P830)*100)/SUM(Rådata!H830:K830))","v":""},{"$f":"IF(ISBLANK(Rådata!H830),\"\",((SUM(Rådata!J830:L830)-SUM(Rådata!O830:P830))*100)/SUM(Rådata!H830:L830))","v":""},{"$f":"IF(ISBLANK(Rådata!R830),\"\",(Rådata!Q830*100)/Rådata!R830)","v":""}]
[{"$f":"IF(ISBLANK(Rådata!A831)=TRUE,\"\",Rådata!A831)","v":""},{"$f":"IF(ISBLANK(Rådata!A831)=TRUE,\"\",YEAR(A831))","v":""},{"$f":"IF(ISBLANK(Rådata!A831)=TRUE,\"\",VLOOKUP(MONTH(A831),Opsætning!$G$3:$H$14,2,FALSE))","v":""},{"$f":"IF(ISBLANK(Rådata!B831)=TRUE,\"\",(Rådata!C831*100)/Rådata!B831)","v":""},{"$f":"IF(ISBLANK(Rådata!D831)=TRUE,\"\",((Rådata!D831-Rådata!E831)*100)/Rådata!D831)","v":""},{"$f":"IF(ISBLANK(Rådata!G831)=TRUE,\"\",(Rådata!F831*100)/Rådata!G831)","v":""},{"$f":"IF(ISBLANK(Rådata!K831),\"\",(SUM(Rådata!M831:P831)*100)/SUM(Rådata!H831:K831))","v":""},{"$f":"IF(ISBLANK(Rådata!H831),\"\",((SUM(Rådata!J831:L831)-SUM(Rådata!O831:P831))*100)/SUM(Rådata!H831:L831))","v":""},{"$f":"IF(ISBLANK(Rådata!R831),\"\",(Rådata!Q831*100)/Rådata!R831)","v":""}]
[{"$f":"IF(ISBLANK(Rådata!A832)=TRUE,\"\",Rådata!A832)","v":""},{"$f":"IF(ISBLANK(Rådata!A832)=TRUE,\"\",YEAR(A832))","v":""},{"$f":"IF(ISBLANK(Rådata!A832)=TRUE,\"\",VLOOKUP(MONTH(A832),Opsætning!$G$3:$H$14,2,FALSE))","v":""},{"$f":"IF(ISBLANK(Rådata!B832)=TRUE,\"\",(Rådata!C832*100)/Rådata!B832)","v":""},{"$f":"IF(ISBLANK(Rådata!D832)=TRUE,\"\",((Rådata!D832-Rådata!E832)*100)/Rådata!D832)","v":""},{"$f":"IF(ISBLANK(Rådata!G832)=TRUE,\"\",(Rådata!F832*100)/Rådata!G832)","v":""},{"$f":"IF(ISBLANK(Rådata!K832),\"\",(SUM(Rådata!M832:P832)*100)/SUM(Rådata!H832:K832))","v":""},{"$f":"IF(ISBLANK(Rådata!H832),\"\",((SUM(Rådata!J832:L832)-SUM(Rådata!O832:P832))*100)/SUM(Rådata!H832:L832))","v":""},{"$f":"IF(ISBLANK(Rådata!R832),\"\",(Rådata!Q832*100)/Rådata!R832)","v":""}]
[{"$f":"IF(ISBLANK(Rådata!A833)=TRUE,\"\",Rådata!A833)","v":""},{"$f":"IF(ISBLANK(Rådata!A833)=TRUE,\"\",YEAR(A833))","v":""},{"$f":"IF(ISBLANK(Rådata!A833)=TRUE,\"\",VLOOKUP(MONTH(A833),Opsætning!$G$3:$H$14,2,FALSE))","v":""},{"$f":"IF(ISBLANK(Rådata!B833)=TRUE,\"\",(Rådata!C833*100)/Rådata!B833)","v":""},{"$f":"IF(ISBLANK(Rådata!D833)=TRUE,\"\",((Rådata!D833-Rådata!E833)*100)/Rådata!D833)","v":""},{"$f":"IF(ISBLANK(Rådata!G833)=TRUE,\"\",(Rådata!F833*100)/Rådata!G833)","v":""},{"$f":"IF(ISBLANK(Rådata!K833),\"\",(SUM(Rådata!M833:P833)*100)/SUM(Rådata!H833:K833))","v":""},{"$f":"IF(ISBLANK(Rådata!H833),\"\",((SUM(Rådata!J833:L833)-SUM(Rådata!O833:P833))*100)/SUM(Rådata!H833:L833))","v":""},{"$f":"IF(ISBLANK(Rådata!R833),\"\",(Rådata!Q833*100)/Rådata!R833)","v":""}]
[{"$f":"IF(ISBLANK(Rådata!A834)=TRUE,\"\",Rådata!A834)","v":""},{"$f":"IF(ISBLANK(Rådata!A834)=TRUE,\"\",YEAR(A834))","v":""},{"$f":"IF(ISBLANK(Rådata!A834)=TRUE,\"\",VLOOKUP(MONTH(A834),Opsætning!$G$3:$H$14,2,FALSE))","v":""},{"$f":"IF(ISBLANK(Rådata!B834)=TRUE,\"\",(Rådata!C834*100)/Rådata!B834)","v":""},{"$f":"IF(ISBLANK(Rådata!D834)=TRUE,\"\",((Rådata!D834-Rådata!E834)*100)/Rådata!D834)","v":""},{"$f":"IF(ISBLANK(Rådata!G834)=TRUE,\"\",(Rådata!F834*100)/Rådata!G834)","v":""},{"$f":"IF(ISBLANK(Rådata!K834),\"\",(SUM(Rådata!M834:P834)*100)/SUM(Rådata!H834:K834))","v":""},{"$f":"IF(ISBLANK(Rådata!H834),\"\",((SUM(Rådata!J834:L834)-SUM(Rådata!O834:P834))*100)/SUM(Rådata!H834:L834))","v":""},{"$f":"IF(ISBLANK(Rådata!R834),\"\",(Rådata!Q834*100)/Rådata!R834)","v":""}]
[{"$f":"IF(ISBLANK(Rådata!A835)=TRUE,\"\",Rådata!A835)","v":""},{"$f":"IF(ISBLANK(Rådata!A835)=TRUE,\"\",YEAR(A835))","v":""},{"$f":"IF(ISBLANK(Rådata!A835)=TRUE,\"\",VLOOKUP(MONTH(A835),Opsætning!$G$3:$H$14,2,FALSE))","v":""},{"$f":"IF(ISBLANK(Rådata!B835)=TRUE,\"\",(Rådata!C835*100)/Rådata!B835)","v":""},{"$f":"IF(ISBLANK(Rådata!D835)=TRUE,\"\",((Rådata!D835-Rådata!E835)*100)/Rådata!D835)","v":""},{"$f":"IF(ISBLANK(Rådata!G835)=TRUE,\"\",(Rådata!F835*100)/Rådata!G835)","v":""},{"$f":"IF(ISBLANK(Rådata!K835),\"\",(SUM(Rådata!M835:P835)*100)/SUM(Rådata!H835:K835))","v":""},{"$f":"IF(ISBLANK(Rådata!H835),\"\",((SUM(Rådata!J835:L835)-SUM(Rådata!O835:P835))*100)/SUM(Rådata!H835:L835))","v":""},{"$f":"IF(ISBLANK(Rådata!R835),\"\",(Rådata!Q835*100)/Rådata!R835)","v":""}]
[{"$f":"IF(ISBLANK(Rådata!A836)=TRUE,\"\",Rådata!A836)","v":""},{"$f":"IF(ISBLANK(Rådata!A836)=TRUE,\"\",YEAR(A836))","v":""},{"$f":"IF(ISBLANK(Rådata!A836)=TRUE,\"\",VLOOKUP(MONTH(A836),Opsætning!$G$3:$H$14,2,FALSE))","v":""},{"$f":"IF(ISBLANK(Rådata!B836)=TRUE,\"\",(Rådata!C836*100)/Rådata!B836)","v":""},{"$f":"IF(ISBLANK(Rådata!D836)=TRUE,\"\",((Rådata!D836-Rådata!E836)*100)/Rådata!D836)","v":""},{"$f":"IF(ISBLANK(Rådata!G836)=TRUE,\"\",(Rådata!F836*100)/Rådata!G836)","v":""},{"$f":"IF(ISBLANK(Rådata!K836),\"\",(SUM(Rådata!M836:P836)*100)/SUM(Rådata!H836:K836))","v":""},{"$f":"IF(ISBLANK(Rådata!H836),\"\",((SUM(Rådata!J836:L836)-SUM(Rådata!O836:P836))*100)/SUM(Rådata!H836:L836))","v":""},{"$f":"IF(ISBLANK(Rådata!R836),\"\",(Rådata!Q836*100)/Rådata!R836)","v":""}]
[{"$f":"IF(ISBLANK(Rådata!A837)=TRUE,\"\",Rådata!A837)","v":""},{"$f":"IF(ISBLANK(Rådata!A837)=TRUE,\"\",YEAR(A837))","v":""},{"$f":"IF(ISBLANK(Rådata!A837)=TRUE,\"\",VLOOKUP(MONTH(A837),Opsætning!$G$3:$H$14,2,FALSE))","v":""},{"$f":"IF(ISBLANK(Rådata!B837)=TRUE,\"\",(Rådata!C837*100)/Rådata!B837)","v":""},{"$f":"IF(ISBLANK(Rådata!D837)=TRUE,\"\",((Rådata!D837-Rådata!E837)*100)/Rådata!D837)","v":""},{"$f":"IF(ISBLANK(Rådata!G837)=TRUE,\"\",(Rådata!F837*100)/Rådata!G837)","v":""},{"$f":"IF(ISBLANK(Rådata!K837),\"\",(SUM(Rådata!M837:P837)*100)/SUM(Rådata!H837:K837))","v":""},{"$f":"IF(ISBLANK(Rådata!H837),\"\",((SUM(Rådata!J837:L837)-SUM(Rådata!O837:P837))*100)/SUM(Rådata!H837:L837))","v":""},{"$f":"IF(ISBLANK(Rådata!R837),\"\",(Rådata!Q837*100)/Rådata!R837)","v":""}]
[{"$f":"IF(ISBLANK(Rådata!A838)=TRUE,\"\",Rådata!A838)","v":""},{"$f":"IF(ISBLANK(Rådata!A838)=TRUE,\"\",YEAR(A838))","v":""},{"$f":"IF(ISBLANK(Rådata!A838)=TRUE,\"\",VLOOKUP(MONTH(A838),Opsætning!$G$3:$H$14,2,FALSE))","v":""},{"$f":"IF(ISBLANK(Rådata!B838)=TRUE,\"\",(Rådata!C838*100)/Rådata!B838)","v":""},{"$f":"IF(ISBLANK(Rådata!D838)=TRUE,\"\",((Rådata!D838-Rådata!E838)*100)/Rådata!D838)","v":""},{"$f":"IF(ISBLANK(Rådata!G838)=TRUE,\"\",(Rådata!F838*100)/Rådata!G838)","v":""},{"$f":"IF(ISBLANK(Rådata!K838),\"\",(SUM(Rådata!M838:P838)*100)/SUM(Rådata!H838:K838))","v":""},{"$f":"IF(ISBLANK(Rådata!H838),\"\",((SUM(Rådata!J838:L838)-SUM(Rådata!O838:P838))*100)/SUM(Rådata!H838:L838))","v":""},{"$f":"IF(ISBLANK(Rådata!R838),\"\",(Rådata!Q838*100)/Rådata!R838)","v":""}]
[{"$f":"IF(ISBLANK(Rådata!A839)=TRUE,\"\",Rådata!A839)","v":""},{"$f":"IF(ISBLANK(Rådata!A839)=TRUE,\"\",YEAR(A839))","v":""},{"$f":"IF(ISBLANK(Rådata!A839)=TRUE,\"\",VLOOKUP(MONTH(A839),Opsætning!$G$3:$H$14,2,FALSE))","v":""},{"$f":"IF(ISBLANK(Rådata!B839)=TRUE,\"\",(Rådata!C839*100)/Rådata!B839)","v":""},{"$f":"IF(ISBLANK(Rådata!D839)=TRUE,\"\",((Rådata!D839-Rådata!E839)*100)/Rådata!D839)","v":""},{"$f":"IF(ISBLANK(Rådata!G839)=TRUE,\"\",(Rådata!F839*100)/Rådata!G839)","v":""},{"$f":"IF(ISBLANK(Rådata!K839),\"\",(SUM(Rådata!M839:P839)*100)/SUM(Rådata!H839:K839))","v":""},{"$f":"IF(ISBLANK(Rådata!H839),\"\",((SUM(Rådata!J839:L839)-SUM(Rådata!O839:P839))*100)/SUM(Rådata!H839:L839))","v":""},{"$f":"IF(ISBLANK(Rådata!R839),\"\",(Rådata!Q839*100)/Rådata!R839)","v":""}]
[{"$f":"IF(ISBLANK(Rådata!A840)=TRUE,\"\",Rådata!A840)","v":""},{"$f":"IF(ISBLANK(Rådata!A840)=TRUE,\"\",YEAR(A840))","v":""},{"$f":"IF(ISBLANK(Rådata!A840)=TRUE,\"\",VLOOKUP(MONTH(A840),Opsætning!$G$3:$H$14,2,FALSE))","v":""},{"$f":"IF(ISBLANK(Rådata!B840)=TRUE,\"\",(Rådata!C840*100)/Rådata!B840)","v":""},{"$f":"IF(ISBLANK(Rådata!D840)=TRUE,\"\",((Rådata!D840-Rådata!E840)*100)/Rådata!D840)","v":""},{"$f":"IF(ISBLANK(Rådata!G840)=TRUE,\"\",(Rådata!F840*100)/Rådata!G840)","v":""},{"$f":"IF(ISBLANK(Rådata!K840),\"\",(SUM(Rådata!M840:P840)*100)/SUM(Rådata!H840:K840))","v":""},{"$f":"IF(ISBLANK(Rådata!H840),\"\",((SUM(Rådata!J840:L840)-SUM(Rådata!O840:P840))*100)/SUM(Rådata!H840:L840))","v":""},{"$f":"IF(ISBLANK(Rådata!R840),\"\",(Rådata!Q840*100)/Rådata!R840)","v":""}]
[{"$f":"IF(ISBLANK(Rådata!A841)=TRUE,\"\",Rådata!A841)","v":""},{"$f":"IF(ISBLANK(Rådata!A841)=TRUE,\"\",YEAR(A841))","v":""},{"$f":"IF(ISBLANK(Rådata!A841)=TRUE,\"\",VLOOKUP(MONTH(A841),Opsætning!$G$3:$H$14,2,FALSE))","v":""},{"$f":"IF(ISBLANK(Rådata!B841)=TRUE,\"\",(Rådata!C841*100)/Rådata!B841)","v":""},{"$f":"IF(ISBLANK(Rådata!D841)=TRUE,\"\",((Rådata!D841-Rådata!E841)*100)/Rådata!D841)","v":""},{"$f":"IF(ISBLANK(Rådata!G841)=TRUE,\"\",(Rådata!F841*100)/Rådata!G841)","v":""},{"$f":"IF(ISBLANK(Rådata!K841),\"\",(SUM(Rådata!M841:P841)*100)/SUM(Rådata!H841:K841))","v":""},{"$f":"IF(ISBLANK(Rådata!H841),\"\",((SUM(Rådata!J841:L841)-SUM(Rådata!O841:P841))*100)/SUM(Rådata!H841:L841))","v":""},{"$f":"IF(ISBLANK(Rådata!R841),\"\",(Rådata!Q841*100)/Rådata!R841)","v":""}]
[{"$f":"IF(ISBLANK(Rådata!A842)=TRUE,\"\",Rådata!A842)","v":""},{"$f":"IF(ISBLANK(Rådata!A842)=TRUE,\"\",YEAR(A842))","v":""},{"$f":"IF(ISBLANK(Rådata!A842)=TRUE,\"\",VLOOKUP(MONTH(A842),Opsætning!$G$3:$H$14,2,FALSE))","v":""},{"$f":"IF(ISBLANK(Rådata!B842)=TRUE,\"\",(Rådata!C842*100)/Rådata!B842)","v":""},{"$f":"IF(ISBLANK(Rådata!D842)=TRUE,\"\",((Rådata!D842-Rådata!E842)*100)/Rådata!D842)","v":""},{"$f":"IF(ISBLANK(Rådata!G842)=TRUE,\"\",(Rådata!F842*100)/Rådata!G842)","v":""},{"$f":"IF(ISBLANK(Rådata!K842),\"\",(SUM(Rådata!M842:P842)*100)/SUM(Rådata!H842:K842))","v":""},{"$f":"IF(ISBLANK(Rådata!H842),\"\",((SUM(Rådata!J842:L842)-SUM(Rådata!O842:P842))*100)/SUM(Rådata!H842:L842))","v":""},{"$f":"IF(ISBLANK(Rådata!R842),\"\",(Rådata!Q842*100)/Rådata!R842)","v":""}]
[{"$f":"IF(ISBLANK(Rådata!A843)=TRUE,\"\",Rådata!A843)","v":""},{"$f":"IF(ISBLANK(Rådata!A843)=TRUE,\"\",YEAR(A843))","v":""},{"$f":"IF(ISBLANK(Rådata!A843)=TRUE,\"\",VLOOKUP(MONTH(A843),Opsætning!$G$3:$H$14,2,FALSE))","v":""},{"$f":"IF(ISBLANK(Rådata!B843)=TRUE,\"\",(Rådata!C843*100)/Rådata!B843)","v":""},{"$f":"IF(ISBLANK(Rådata!D843)=TRUE,\"\",((Rådata!D843-Rådata!E843)*100)/Rådata!D843)","v":""},{"$f":"IF(ISBLANK(Rådata!G843)=TRUE,\"\",(Rådata!F843*100)/Rådata!G843)","v":""},{"$f":"IF(ISBLANK(Rådata!K843),\"\",(SUM(Rådata!M843:P843)*100)/SUM(Rådata!H843:K843))","v":""},{"$f":"IF(ISBLANK(Rådata!H843),\"\",((SUM(Rådata!J843:L843)-SUM(Rådata!O843:P843))*100)/SUM(Rådata!H843:L843))","v":""},{"$f":"IF(ISBLANK(Rådata!R843),\"\",(Rådata!Q843*100)/Rådata!R843)","v":""}]
[{"$f":"IF(ISBLANK(Rådata!A844)=TRUE,\"\",Rådata!A844)","v":""},{"$f":"IF(ISBLANK(Rådata!A844)=TRUE,\"\",YEAR(A844))","v":""},{"$f":"IF(ISBLANK(Rådata!A844)=TRUE,\"\",VLOOKUP(MONTH(A844),Opsætning!$G$3:$H$14,2,FALSE))","v":""},{"$f":"IF(ISBLANK(Rådata!B844)=TRUE,\"\",(Rådata!C844*100)/Rådata!B844)","v":""},{"$f":"IF(ISBLANK(Rådata!D844)=TRUE,\"\",((Rådata!D844-Rådata!E844)*100)/Rådata!D844)","v":""},{"$f":"IF(ISBLANK(Rådata!G844)=TRUE,\"\",(Rådata!F844*100)/Rådata!G844)","v":""},{"$f":"IF(ISBLANK(Rådata!K844),\"\",(SUM(Rådata!M844:P844)*100)/SUM(Rådata!H844:K844))","v":""},{"$f":"IF(ISBLANK(Rådata!H844),\"\",((SUM(Rådata!J844:L844)-SUM(Rådata!O844:P844))*100)/SUM(Rådata!H844:L844))","v":""},{"$f":"IF(ISBLANK(Rådata!R844),\"\",(Rådata!Q844*100)/Rådata!R844)","v":""}]
[{"$f":"IF(ISBLANK(Rådata!A845)=TRUE,\"\",Rådata!A845)","v":""},{"$f":"IF(ISBLANK(Rådata!A845)=TRUE,\"\",YEAR(A845))","v":""},{"$f":"IF(ISBLANK(Rådata!A845)=TRUE,\"\",VLOOKUP(MONTH(A845),Opsætning!$G$3:$H$14,2,FALSE))","v":""},{"$f":"IF(ISBLANK(Rådata!B845)=TRUE,\"\",(Rådata!C845*100)/Rådata!B845)","v":""},{"$f":"IF(ISBLANK(Rådata!D845)=TRUE,\"\",((Rådata!D845-Rådata!E845)*100)/Rådata!D845)","v":""},{"$f":"IF(ISBLANK(Rådata!G845)=TRUE,\"\",(Rådata!F845*100)/Rådata!G845)","v":""},{"$f":"IF(ISBLANK(Rådata!K845),\"\",(SUM(Rådata!M845:P845)*100)/SUM(Rådata!H845:K845))","v":""},{"$f":"IF(ISBLANK(Rådata!H845),\"\",((SUM(Rådata!J845:L845)-SUM(Rådata!O845:P845))*100)/SUM(Rådata!H845:L845))","v":""},{"$f":"IF(ISBLANK(Rådata!R845),\"\",(Rådata!Q845*100)/Rådata!R845)","v":""}]
[{"$f":"IF(ISBLANK(Rådata!A846)=TRUE,\"\",Rådata!A846)","v":""},{"$f":"IF(ISBLANK(Rådata!A846)=TRUE,\"\",YEAR(A846))","v":""},{"$f":"IF(ISBLANK(Rådata!A846)=TRUE,\"\",VLOOKUP(MONTH(A846),Opsætning!$G$3:$H$14,2,FALSE))","v":""},{"$f":"IF(ISBLANK(Rådata!B846)=TRUE,\"\",(Rådata!C846*100)/Rådata!B846)","v":""},{"$f":"IF(ISBLANK(Rådata!D846)=TRUE,\"\",((Rådata!D846-Rådata!E846)*100)/Rådata!D846)","v":""},{"$f":"IF(ISBLANK(Rådata!G846)=TRUE,\"\",(Rådata!F846*100)/Rådata!G846)","v":""},{"$f":"IF(ISBLANK(Rådata!K846),\"\",(SUM(Rådata!M846:P846)*100)/SUM(Rådata!H846:K846))","v":""},{"$f":"IF(ISBLANK(Rådata!H846),\"\",((SUM(Rådata!J846:L846)-SUM(Rådata!O846:P846))*100)/SUM(Rådata!H846:L846))","v":""},{"$f":"IF(ISBLANK(Rådata!R846),\"\",(Rådata!Q846*100)/Rådata!R846)","v":""}]
[{"$f":"IF(ISBLANK(Rådata!A847)=TRUE,\"\",Rådata!A847)","v":""},{"$f":"IF(ISBLANK(Rådata!A847)=TRUE,\"\",YEAR(A847))","v":""},{"$f":"IF(ISBLANK(Rådata!A847)=TRUE,\"\",VLOOKUP(MONTH(A847),Opsætning!$G$3:$H$14,2,FALSE))","v":""},{"$f":"IF(ISBLANK(Rådata!B847)=TRUE,\"\",(Rådata!C847*100)/Rådata!B847)","v":""},{"$f":"IF(ISBLANK(Rådata!D847)=TRUE,\"\",((Rådata!D847-Rådata!E847)*100)/Rådata!D847)","v":""},{"$f":"IF(ISBLANK(Rådata!G847)=TRUE,\"\",(Rådata!F847*100)/Rådata!G847)","v":""},{"$f":"IF(ISBLANK(Rådata!K847),\"\",(SUM(Rådata!M847:P847)*100)/SUM(Rådata!H847:K847))","v":""},{"$f":"IF(ISBLANK(Rådata!H847),\"\",((SUM(Rådata!J847:L847)-SUM(Rådata!O847:P847))*100)/SUM(Rådata!H847:L847))","v":""},{"$f":"IF(ISBLANK(Rådata!R847),\"\",(Rådata!Q847*100)/Rådata!R847)","v":""}]
[{"$f":"IF(ISBLANK(Rådata!A848)=TRUE,\"\",Rådata!A848)","v":""},{"$f":"IF(ISBLANK(Rådata!A848)=TRUE,\"\",YEAR(A848))","v":""},{"$f":"IF(ISBLANK(Rådata!A848)=TRUE,\"\",VLOOKUP(MONTH(A848),Opsætning!$G$3:$H$14,2,FALSE))","v":""},{"$f":"IF(ISBLANK(Rådata!B848)=TRUE,\"\",(Rådata!C848*100)/Rådata!B848)","v":""},{"$f":"IF(ISBLANK(Rådata!D848)=TRUE,\"\",((Rådata!D848-Rådata!E848)*100)/Rådata!D848)","v":""},{"$f":"IF(ISBLANK(Rådata!G848)=TRUE,\"\",(Rådata!F848*100)/Rådata!G848)","v":""},{"$f":"IF(ISBLANK(Rådata!K848),\"\",(SUM(Rådata!M848:P848)*100)/SUM(Rådata!H848:K848))","v":""},{"$f":"IF(ISBLANK(Rådata!H848),\"\",((SUM(Rådata!J848:L848)-SUM(Rådata!O848:P848))*100)/SUM(Rådata!H848:L848))","v":""},{"$f":"IF(ISBLANK(Rådata!R848),\"\",(Rådata!Q848*100)/Rådata!R848)","v":""}]
[{"$f":"IF(ISBLANK(Rådata!A849)=TRUE,\"\",Rådata!A849)","v":""},{"$f":"IF(ISBLANK(Rådata!A849)=TRUE,\"\",YEAR(A849))","v":""},{"$f":"IF(ISBLANK(Rådata!A849)=TRUE,\"\",VLOOKUP(MONTH(A849),Opsætning!$G$3:$H$14,2,FALSE))","v":""},{"$f":"IF(ISBLANK(Rådata!B849)=TRUE,\"\",(Rådata!C849*100)/Rådata!B849)","v":""},{"$f":"IF(ISBLANK(Rådata!D849)=TRUE,\"\",((Rådata!D849-Rådata!E849)*100)/Rådata!D849)","v":""},{"$f":"IF(ISBLANK(Rådata!G849)=TRUE,\"\",(Rådata!F849*100)/Rådata!G849)","v":""},{"$f":"IF(ISBLANK(Rådata!K849),\"\",(SUM(Rådata!M849:P849)*100)/SUM(Rådata!H849:K849))","v":""},{"$f":"IF(ISBLANK(Rådata!H849),\"\",((SUM(Rådata!J849:L849)-SUM(Rådata!O849:P849))*100)/SUM(Rådata!H849:L849))","v":""},{"$f":"IF(ISBLANK(Rådata!R849),\"\",(Rådata!Q849*100)/Rådata!R849)","v":""}]
[{"$f":"IF(ISBLANK(Rådata!A850)=TRUE,\"\",Rådata!A850)","v":""},{"$f":"IF(ISBLANK(Rådata!A850)=TRUE,\"\",YEAR(A850))","v":""},{"$f":"IF(ISBLANK(Rådata!A850)=TRUE,\"\",VLOOKUP(MONTH(A850),Opsætning!$G$3:$H$14,2,FALSE))","v":""},{"$f":"IF(ISBLANK(Rådata!B850)=TRUE,\"\",(Rådata!C850*100)/Rådata!B850)","v":""},{"$f":"IF(ISBLANK(Rådata!D850)=TRUE,\"\",((Rådata!D850-Rådata!E850)*100)/Rådata!D850)","v":""},{"$f":"IF(ISBLANK(Rådata!G850)=TRUE,\"\",(Rådata!F850*100)/Rådata!G850)","v":""},{"$f":"IF(ISBLANK(Rådata!K850),\"\",(SUM(Rådata!M850:P850)*100)/SUM(Rådata!H850:K850))","v":""},{"$f":"IF(ISBLANK(Rådata!H850),\"\",((SUM(Rådata!J850:L850)-SUM(Rådata!O850:P850))*100)/SUM(Rådata!H850:L850))","v":""},{"$f":"IF(ISBLANK(Rådata!R850),\"\",(Rådata!Q850*100)/Rådata!R850)","v":""}]
[{"$f":"IF(ISBLANK(Rådata!A851)=TRUE,\"\",Rådata!A851)","v":""},{"$f":"IF(ISBLANK(Rådata!A851)=TRUE,\"\",YEAR(A851))","v":""},{"$f":"IF(ISBLANK(Rådata!A851)=TRUE,\"\",VLOOKUP(MONTH(A851),Opsætning!$G$3:$H$14,2,FALSE))","v":""},{"$f":"IF(ISBLANK(Rådata!B851)=TRUE,\"\",(Rådata!C851*100)/Rådata!B851)","v":""},{"$f":"IF(ISBLANK(Rådata!D851)=TRUE,\"\",((Rådata!D851-Rådata!E851)*100)/Rådata!D851)","v":""},{"$f":"IF(ISBLANK(Rådata!G851)=TRUE,\"\",(Rådata!F851*100)/Rådata!G851)","v":""},{"$f":"IF(ISBLANK(Rådata!K851),\"\",(SUM(Rådata!M851:P851)*100)/SUM(Rådata!H851:K851))","v":""},{"$f":"IF(ISBLANK(Rådata!H851),\"\",((SUM(Rådata!J851:L851)-SUM(Rådata!O851:P851))*100)/SUM(Rådata!H851:L851))","v":""},{"$f":"IF(ISBLANK(Rådata!R851),\"\",(Rådata!Q851*100)/Rådata!R851)","v":""}]
[{"$f":"IF(ISBLANK(Rådata!A852)=TRUE,\"\",Rådata!A852)","v":""},{"$f":"IF(ISBLANK(Rådata!A852)=TRUE,\"\",YEAR(A852))","v":""},{"$f":"IF(ISBLANK(Rådata!A852)=TRUE,\"\",VLOOKUP(MONTH(A852),Opsætning!$G$3:$H$14,2,FALSE))","v":""},{"$f":"IF(ISBLANK(Rådata!B852)=TRUE,\"\",(Rådata!C852*100)/Rådata!B852)","v":""},{"$f":"IF(ISBLANK(Rådata!D852)=TRUE,\"\",((Rådata!D852-Rådata!E852)*100)/Rådata!D852)","v":""},{"$f":"IF(ISBLANK(Rådata!G852)=TRUE,\"\",(Rådata!F852*100)/Rådata!G852)","v":""},{"$f":"IF(ISBLANK(Rådata!K852),\"\",(SUM(Rådata!M852:P852)*100)/SUM(Rådata!H852:K852))","v":""},{"$f":"IF(ISBLANK(Rådata!H852),\"\",((SUM(Rådata!J852:L852)-SUM(Rådata!O852:P852))*100)/SUM(Rådata!H852:L852))","v":""},{"$f":"IF(ISBLANK(Rådata!R852),\"\",(Rådata!Q852*100)/Rådata!R852)","v":""}]
[{"$f":"IF(ISBLANK(Rådata!A853)=TRUE,\"\",Rådata!A853)","v":""},{"$f":"IF(ISBLANK(Rådata!A853)=TRUE,\"\",YEAR(A853))","v":""},{"$f":"IF(ISBLANK(Rådata!A853)=TRUE,\"\",VLOOKUP(MONTH(A853),Opsætning!$G$3:$H$14,2,FALSE))","v":""},{"$f":"IF(ISBLANK(Rådata!B853)=TRUE,\"\",(Rådata!C853*100)/Rådata!B853)","v":""},{"$f":"IF(ISBLANK(Rådata!D853)=TRUE,\"\",((Rådata!D853-Rådata!E853)*100)/Rådata!D853)","v":""},{"$f":"IF(ISBLANK(Rådata!G853)=TRUE,\"\",(Rådata!F853*100)/Rådata!G853)","v":""},{"$f":"IF(ISBLANK(Rådata!K853),\"\",(SUM(Rådata!M853:P853)*100)/SUM(Rådata!H853:K853))","v":""},{"$f":"IF(ISBLANK(Rådata!H853),\"\",((SUM(Rådata!J853:L853)-SUM(Rådata!O853:P853))*100)/SUM(Rådata!H853:L853))","v":""},{"$f":"IF(ISBLANK(Rådata!R853),\"\",(Rådata!Q853*100)/Rådata!R853)","v":""}]
[{"$f":"IF(ISBLANK(Rådata!A854)=TRUE,\"\",Rådata!A854)","v":""},{"$f":"IF(ISBLANK(Rådata!A854)=TRUE,\"\",YEAR(A854))","v":""},{"$f":"IF(ISBLANK(Rådata!A854)=TRUE,\"\",VLOOKUP(MONTH(A854),Opsætning!$G$3:$H$14,2,FALSE))","v":""},{"$f":"IF(ISBLANK(Rådata!B854)=TRUE,\"\",(Rådata!C854*100)/Rådata!B854)","v":""},{"$f":"IF(ISBLANK(Rådata!D854)=TRUE,\"\",((Rådata!D854-Rådata!E854)*100)/Rådata!D854)","v":""},{"$f":"IF(ISBLANK(Rådata!G854)=TRUE,\"\",(Rådata!F854*100)/Rådata!G854)","v":""},{"$f":"IF(ISBLANK(Rådata!K854),\"\",(SUM(Rådata!M854:P854)*100)/SUM(Rådata!H854:K854))","v":""},{"$f":"IF(ISBLANK(Rådata!H854),\"\",((SUM(Rådata!J854:L854)-SUM(Rådata!O854:P854))*100)/SUM(Rådata!H854:L854))","v":""},{"$f":"IF(ISBLANK(Rådata!R854),\"\",(Rådata!Q854*100)/Rådata!R854)","v":""}]
[{"$f":"IF(ISBLANK(Rådata!A855)=TRUE,\"\",Rådata!A855)","v":""},{"$f":"IF(ISBLANK(Rådata!A855)=TRUE,\"\",YEAR(A855))","v":""},{"$f":"IF(ISBLANK(Rådata!A855)=TRUE,\"\",VLOOKUP(MONTH(A855),Opsætning!$G$3:$H$14,2,FALSE))","v":""},{"$f":"IF(ISBLANK(Rådata!B855)=TRUE,\"\",(Rådata!C855*100)/Rådata!B855)","v":""},{"$f":"IF(ISBLANK(Rådata!D855)=TRUE,\"\",((Rådata!D855-Rådata!E855)*100)/Rådata!D855)","v":""},{"$f":"IF(ISBLANK(Rådata!G855)=TRUE,\"\",(Rådata!F855*100)/Rådata!G855)","v":""},{"$f":"IF(ISBLANK(Rådata!K855),\"\",(SUM(Rådata!M855:P855)*100)/SUM(Rådata!H855:K855))","v":""},{"$f":"IF(ISBLANK(Rådata!H855),\"\",((SUM(Rådata!J855:L855)-SUM(Rådata!O855:P855))*100)/SUM(Rådata!H855:L855))","v":""},{"$f":"IF(ISBLANK(Rådata!R855),\"\",(Rådata!Q855*100)/Rådata!R855)","v":""}]
[{"$f":"IF(ISBLANK(Rådata!A856)=TRUE,\"\",Rådata!A856)","v":""},{"$f":"IF(ISBLANK(Rådata!A856)=TRUE,\"\",YEAR(A856))","v":""},{"$f":"IF(ISBLANK(Rådata!A856)=TRUE,\"\",VLOOKUP(MONTH(A856),Opsætning!$G$3:$H$14,2,FALSE))","v":""},{"$f":"IF(ISBLANK(Rådata!B856)=TRUE,\"\",(Rådata!C856*100)/Rådata!B856)","v":""},{"$f":"IF(ISBLANK(Rådata!D856)=TRUE,\"\",((Rådata!D856-Rådata!E856)*100)/Rådata!D856)","v":""},{"$f":"IF(ISBLANK(Rådata!G856)=TRUE,\"\",(Rådata!F856*100)/Rådata!G856)","v":""},{"$f":"IF(ISBLANK(Rådata!K856),\"\",(SUM(Rådata!M856:P856)*100)/SUM(Rådata!H856:K856))","v":""},{"$f":"IF(ISBLANK(Rådata!H856),\"\",((SUM(Rådata!J856:L856)-SUM(Rådata!O856:P856))*100)/SUM(Rådata!H856:L856))","v":""},{"$f":"IF(ISBLANK(Rådata!R856),\"\",(Rådata!Q856*100)/Rådata!R856)","v":""}]
[{"$f":"IF(ISBLANK(Rådata!A857)=TRUE,\"\",Rådata!A857)","v":""},{"$f":"IF(ISBLANK(Rådata!A857)=TRUE,\"\",YEAR(A857))","v":""},{"$f":"IF(ISBLANK(Rådata!A857)=TRUE,\"\",VLOOKUP(MONTH(A857),Opsætning!$G$3:$H$14,2,FALSE))","v":""},{"$f":"IF(ISBLANK(Rådata!B857)=TRUE,\"\",(Rådata!C857*100)/Rådata!B857)","v":""},{"$f":"IF(ISBLANK(Rådata!D857)=TRUE,\"\",((Rådata!D857-Rådata!E857)*100)/Rådata!D857)","v":""},{"$f":"IF(ISBLANK(Rådata!G857)=TRUE,\"\",(Rådata!F857*100)/Rådata!G857)","v":""},{"$f":"IF(ISBLANK(Rådata!K857),\"\",(SUM(Rådata!M857:P857)*100)/SUM(Rådata!H857:K857))","v":""},{"$f":"IF(ISBLANK(Rådata!H857),\"\",((SUM(Rådata!J857:L857)-SUM(Rådata!O857:P857))*100)/SUM(Rådata!H857:L857))","v":""},{"$f":"IF(ISBLANK(Rådata!R857),\"\",(Rådata!Q857*100)/Rådata!R857)","v":""}]
[{"$f":"IF(ISBLANK(Rådata!A858)=TRUE,\"\",Rådata!A858)","v":""},{"$f":"IF(ISBLANK(Rådata!A858)=TRUE,\"\",YEAR(A858))","v":""},{"$f":"IF(ISBLANK(Rådata!A858)=TRUE,\"\",VLOOKUP(MONTH(A858),Opsætning!$G$3:$H$14,2,FALSE))","v":""},{"$f":"IF(ISBLANK(Rådata!B858)=TRUE,\"\",(Rådata!C858*100)/Rådata!B858)","v":""},{"$f":"IF(ISBLANK(Rådata!D858)=TRUE,\"\",((Rådata!D858-Rådata!E858)*100)/Rådata!D858)","v":""},{"$f":"IF(ISBLANK(Rådata!G858)=TRUE,\"\",(Rådata!F858*100)/Rådata!G858)","v":""},{"$f":"IF(ISBLANK(Rådata!K858),\"\",(SUM(Rådata!M858:P858)*100)/SUM(Rådata!H858:K858))","v":""},{"$f":"IF(ISBLANK(Rådata!H858),\"\",((SUM(Rådata!J858:L858)-SUM(Rådata!O858:P858))*100)/SUM(Rådata!H858:L858))","v":""},{"$f":"IF(ISBLANK(Rådata!R858),\"\",(Rådata!Q858*100)/Rådata!R858)","v":""}]
[{"$f":"IF(ISBLANK(Rådata!A859)=TRUE,\"\",Rådata!A859)","v":""},{"$f":"IF(ISBLANK(Rådata!A859)=TRUE,\"\",YEAR(A859))","v":""},{"$f":"IF(ISBLANK(Rådata!A859)=TRUE,\"\",VLOOKUP(MONTH(A859),Opsætning!$G$3:$H$14,2,FALSE))","v":""},{"$f":"IF(ISBLANK(Rådata!B859)=TRUE,\"\",(Rådata!C859*100)/Rådata!B859)","v":""},{"$f":"IF(ISBLANK(Rådata!D859)=TRUE,\"\",((Rådata!D859-Rådata!E859)*100)/Rådata!D859)","v":""},{"$f":"IF(ISBLANK(Rådata!G859)=TRUE,\"\",(Rådata!F859*100)/Rådata!G859)","v":""},{"$f":"IF(ISBLANK(Rådata!K859),\"\",(SUM(Rådata!M859:P859)*100)/SUM(Rådata!H859:K859))","v":""},{"$f":"IF(ISBLANK(Rådata!H859),\"\",((SUM(Rådata!J859:L859)-SUM(Rådata!O859:P859))*100)/SUM(Rådata!H859:L859))","v":""},{"$f":"IF(ISBLANK(Rådata!R859),\"\",(Rådata!Q859*100)/Rådata!R859)","v":""}]
[{"$f":"IF(ISBLANK(Rådata!A860)=TRUE,\"\",Rådata!A860)","v":""},{"$f":"IF(ISBLANK(Rådata!A860)=TRUE,\"\",YEAR(A860))","v":""},{"$f":"IF(ISBLANK(Rådata!A860)=TRUE,\"\",VLOOKUP(MONTH(A860),Opsætning!$G$3:$H$14,2,FALSE))","v":""},{"$f":"IF(ISBLANK(Rådata!B860)=TRUE,\"\",(Rådata!C860*100)/Rådata!B860)","v":""},{"$f":"IF(ISBLANK(Rådata!D860)=TRUE,\"\",((Rådata!D860-Rådata!E860)*100)/Rådata!D860)","v":""},{"$f":"IF(ISBLANK(Rådata!G860)=TRUE,\"\",(Rådata!F860*100)/Rådata!G860)","v":""},{"$f":"IF(ISBLANK(Rådata!K860),\"\",(SUM(Rådata!M860:P860)*100)/SUM(Rådata!H860:K860))","v":""},{"$f":"IF(ISBLANK(Rådata!H860),\"\",((SUM(Rådata!J860:L860)-SUM(Rådata!O860:P860))*100)/SUM(Rådata!H860:L860))","v":""},{"$f":"IF(ISBLANK(Rådata!R860),\"\",(Rådata!Q860*100)/Rådata!R860)","v":""}]
[{"$f":"IF(ISBLANK(Rådata!A861)=TRUE,\"\",Rådata!A861)","v":""},{"$f":"IF(ISBLANK(Rådata!A861)=TRUE,\"\",YEAR(A861))","v":""},{"$f":"IF(ISBLANK(Rådata!A861)=TRUE,\"\",VLOOKUP(MONTH(A861),Opsætning!$G$3:$H$14,2,FALSE))","v":""},{"$f":"IF(ISBLANK(Rådata!B861)=TRUE,\"\",(Rådata!C861*100)/Rådata!B861)","v":""},{"$f":"IF(ISBLANK(Rådata!D861)=TRUE,\"\",((Rådata!D861-Rådata!E861)*100)/Rådata!D861)","v":""},{"$f":"IF(ISBLANK(Rådata!G861)=TRUE,\"\",(Rådata!F861*100)/Rådata!G861)","v":""},{"$f":"IF(ISBLANK(Rådata!K861),\"\",(SUM(Rådata!M861:P861)*100)/SUM(Rådata!H861:K861))","v":""},{"$f":"IF(ISBLANK(Rådata!H861),\"\",((SUM(Rådata!J861:L861)-SUM(Rådata!O861:P861))*100)/SUM(Rådata!H861:L861))","v":""},{"$f":"IF(ISBLANK(Rådata!R861),\"\",(Rådata!Q861*100)/Rådata!R861)","v":""}]
[{"$f":"IF(ISBLANK(Rådata!A862)=TRUE,\"\",Rådata!A862)","v":""},{"$f":"IF(ISBLANK(Rådata!A862)=TRUE,\"\",YEAR(A862))","v":""},{"$f":"IF(ISBLANK(Rådata!A862)=TRUE,\"\",VLOOKUP(MONTH(A862),Opsætning!$G$3:$H$14,2,FALSE))","v":""},{"$f":"IF(ISBLANK(Rådata!B862)=TRUE,\"\",(Rådata!C862*100)/Rådata!B862)","v":""},{"$f":"IF(ISBLANK(Rådata!D862)=TRUE,\"\",((Rådata!D862-Rådata!E862)*100)/Rådata!D862)","v":""},{"$f":"IF(ISBLANK(Rådata!G862)=TRUE,\"\",(Rådata!F862*100)/Rådata!G862)","v":""},{"$f":"IF(ISBLANK(Rådata!K862),\"\",(SUM(Rådata!M862:P862)*100)/SUM(Rådata!H862:K862))","v":""},{"$f":"IF(ISBLANK(Rådata!H862),\"\",((SUM(Rådata!J862:L862)-SUM(Rådata!O862:P862))*100)/SUM(Rådata!H862:L862))","v":""},{"$f":"IF(ISBLANK(Rådata!R862),\"\",(Rådata!Q862*100)/Rådata!R862)","v":""}]
[{"$f":"IF(ISBLANK(Rådata!A863)=TRUE,\"\",Rådata!A863)","v":""},{"$f":"IF(ISBLANK(Rådata!A863)=TRUE,\"\",YEAR(A863))","v":""},{"$f":"IF(ISBLANK(Rådata!A863)=TRUE,\"\",VLOOKUP(MONTH(A863),Opsætning!$G$3:$H$14,2,FALSE))","v":""},{"$f":"IF(ISBLANK(Rådata!B863)=TRUE,\"\",(Rådata!C863*100)/Rådata!B863)","v":""},{"$f":"IF(ISBLANK(Rådata!D863)=TRUE,\"\",((Rådata!D863-Rådata!E863)*100)/Rådata!D863)","v":""},{"$f":"IF(ISBLANK(Rådata!G863)=TRUE,\"\",(Rådata!F863*100)/Rådata!G863)","v":""},{"$f":"IF(ISBLANK(Rådata!K863),\"\",(SUM(Rådata!M863:P863)*100)/SUM(Rådata!H863:K863))","v":""},{"$f":"IF(ISBLANK(Rådata!H863),\"\",((SUM(Rådata!J863:L863)-SUM(Rådata!O863:P863))*100)/SUM(Rådata!H863:L863))","v":""},{"$f":"IF(ISBLANK(Rådata!R863),\"\",(Rådata!Q863*100)/Rådata!R863)","v":""}]
[{"$f":"IF(ISBLANK(Rådata!A864)=TRUE,\"\",Rådata!A864)","v":""},{"$f":"IF(ISBLANK(Rådata!A864)=TRUE,\"\",YEAR(A864))","v":""},{"$f":"IF(ISBLANK(Rådata!A864)=TRUE,\"\",VLOOKUP(MONTH(A864),Opsætning!$G$3:$H$14,2,FALSE))","v":""},{"$f":"IF(ISBLANK(Rådata!B864)=TRUE,\"\",(Rådata!C864*100)/Rådata!B864)","v":""},{"$f":"IF(ISBLANK(Rådata!D864)=TRUE,\"\",((Rådata!D864-Rådata!E864)*100)/Rådata!D864)","v":""},{"$f":"IF(ISBLANK(Rådata!G864)=TRUE,\"\",(Rådata!F864*100)/Rådata!G864)","v":""},{"$f":"IF(ISBLANK(Rådata!K864),\"\",(SUM(Rådata!M864:P864)*100)/SUM(Rådata!H864:K864))","v":""},{"$f":"IF(ISBLANK(Rådata!H864),\"\",((SUM(Rådata!J864:L864)-SUM(Rådata!O864:P864))*100)/SUM(Rådata!H864:L864))","v":""},{"$f":"IF(ISBLANK(Rådata!R864),\"\",(Rådata!Q864*100)/Rådata!R864)","v":""}]
[{"$f":"IF(ISBLANK(Rådata!A865)=TRUE,\"\",Rådata!A865)","v":""},{"$f":"IF(ISBLANK(Rådata!A865)=TRUE,\"\",YEAR(A865))","v":""},{"$f":"IF(ISBLANK(Rådata!A865)=TRUE,\"\",VLOOKUP(MONTH(A865),Opsætning!$G$3:$H$14,2,FALSE))","v":""},{"$f":"IF(ISBLANK(Rådata!B865)=TRUE,\"\",(Rådata!C865*100)/Rådata!B865)","v":""},{"$f":"IF(ISBLANK(Rådata!D865)=TRUE,\"\",((Rådata!D865-Rådata!E865)*100)/Rådata!D865)","v":""},{"$f":"IF(ISBLANK(Rådata!G865)=TRUE,\"\",(Rådata!F865*100)/Rådata!G865)","v":""},{"$f":"IF(ISBLANK(Rådata!K865),\"\",(SUM(Rådata!M865:P865)*100)/SUM(Rådata!H865:K865))","v":""},{"$f":"IF(ISBLANK(Rådata!H865),\"\",((SUM(Rådata!J865:L865)-SUM(Rådata!O865:P865))*100)/SUM(Rådata!H865:L865))","v":""},{"$f":"IF(ISBLANK(Rådata!R865),\"\",(Rådata!Q865*100)/Rådata!R865)","v":""}]
[{"$f":"IF(ISBLANK(Rådata!A866)=TRUE,\"\",Rådata!A866)","v":""},{"$f":"IF(ISBLANK(Rådata!A866)=TRUE,\"\",YEAR(A866))","v":""},{"$f":"IF(ISBLANK(Rådata!A866)=TRUE,\"\",VLOOKUP(MONTH(A866),Opsætning!$G$3:$H$14,2,FALSE))","v":""},{"$f":"IF(ISBLANK(Rådata!B866)=TRUE,\"\",(Rådata!C866*100)/Rådata!B866)","v":""},{"$f":"IF(ISBLANK(Rådata!D866)=TRUE,\"\",((Rådata!D866-Rådata!E866)*100)/Rådata!D866)","v":""},{"$f":"IF(ISBLANK(Rådata!G866)=TRUE,\"\",(Rådata!F866*100)/Rådata!G866)","v":""},{"$f":"IF(ISBLANK(Rådata!K866),\"\",(SUM(Rådata!M866:P866)*100)/SUM(Rådata!H866:K866))","v":""},{"$f":"IF(ISBLANK(Rådata!H866),\"\",((SUM(Rådata!J866:L866)-SUM(Rådata!O866:P866))*100)/SUM(Rådata!H866:L866))","v":""},{"$f":"IF(ISBLANK(Rådata!R866),\"\",(Rådata!Q866*100)/Rådata!R866)","v":""}]
[{"$f":"IF(ISBLANK(Rådata!A867)=TRUE,\"\",Rådata!A867)","v":""},{"$f":"IF(ISBLANK(Rådata!A867)=TRUE,\"\",YEAR(A867))","v":""},{"$f":"IF(ISBLANK(Rådata!A867)=TRUE,\"\",VLOOKUP(MONTH(A867),Opsætning!$G$3:$H$14,2,FALSE))","v":""},{"$f":"IF(ISBLANK(Rådata!B867)=TRUE,\"\",(Rådata!C867*100)/Rådata!B867)","v":""},{"$f":"IF(ISBLANK(Rådata!D867)=TRUE,\"\",((Rådata!D867-Rådata!E867)*100)/Rådata!D867)","v":""},{"$f":"IF(ISBLANK(Rådata!G867)=TRUE,\"\",(Rådata!F867*100)/Rådata!G867)","v":""},{"$f":"IF(ISBLANK(Rådata!K867),\"\",(SUM(Rådata!M867:P867)*100)/SUM(Rådata!H867:K867))","v":""},{"$f":"IF(ISBLANK(Rådata!H867),\"\",((SUM(Rådata!J867:L867)-SUM(Rådata!O867:P867))*100)/SUM(Rådata!H867:L867))","v":""},{"$f":"IF(ISBLANK(Rådata!R867),\"\",(Rådata!Q867*100)/Rådata!R867)","v":""}]
[{"$f":"IF(ISBLANK(Rådata!A868)=TRUE,\"\",Rådata!A868)","v":""},{"$f":"IF(ISBLANK(Rådata!A868)=TRUE,\"\",YEAR(A868))","v":""},{"$f":"IF(ISBLANK(Rådata!A868)=TRUE,\"\",VLOOKUP(MONTH(A868),Opsætning!$G$3:$H$14,2,FALSE))","v":""},{"$f":"IF(ISBLANK(Rådata!B868)=TRUE,\"\",(Rådata!C868*100)/Rådata!B868)","v":""},{"$f":"IF(ISBLANK(Rådata!D868)=TRUE,\"\",((Rådata!D868-Rådata!E868)*100)/Rådata!D868)","v":""},{"$f":"IF(ISBLANK(Rådata!G868)=TRUE,\"\",(Rådata!F868*100)/Rådata!G868)","v":""},{"$f":"IF(ISBLANK(Rådata!K868),\"\",(SUM(Rådata!M868:P868)*100)/SUM(Rådata!H868:K868))","v":""},{"$f":"IF(ISBLANK(Rådata!H868),\"\",((SUM(Rådata!J868:L868)-SUM(Rådata!O868:P868))*100)/SUM(Rådata!H868:L868))","v":""},{"$f":"IF(ISBLANK(Rådata!R868),\"\",(Rådata!Q868*100)/Rådata!R868)","v":""}]
[{"$f":"IF(ISBLANK(Rådata!A869)=TRUE,\"\",Rådata!A869)","v":""},{"$f":"IF(ISBLANK(Rådata!A869)=TRUE,\"\",YEAR(A869))","v":""},{"$f":"IF(ISBLANK(Rådata!A869)=TRUE,\"\",VLOOKUP(MONTH(A869),Opsætning!$G$3:$H$14,2,FALSE))","v":""},{"$f":"IF(ISBLANK(Rådata!B869)=TRUE,\"\",(Rådata!C869*100)/Rådata!B869)","v":""},{"$f":"IF(ISBLANK(Rådata!D869)=TRUE,\"\",((Rådata!D869-Rådata!E869)*100)/Rådata!D869)","v":""},{"$f":"IF(ISBLANK(Rådata!G869)=TRUE,\"\",(Rådata!F869*100)/Rådata!G869)","v":""},{"$f":"IF(ISBLANK(Rådata!K869),\"\",(SUM(Rådata!M869:P869)*100)/SUM(Rådata!H869:K869))","v":""},{"$f":"IF(ISBLANK(Rådata!H869),\"\",((SUM(Rådata!J869:L869)-SUM(Rådata!O869:P869))*100)/SUM(Rådata!H869:L869))","v":""},{"$f":"IF(ISBLANK(Rådata!R869),\"\",(Rådata!Q869*100)/Rådata!R869)","v":""}]
[{"$f":"IF(ISBLANK(Rådata!A870)=TRUE,\"\",Rådata!A870)","v":""},{"$f":"IF(ISBLANK(Rådata!A870)=TRUE,\"\",YEAR(A870))","v":""},{"$f":"IF(ISBLANK(Rådata!A870)=TRUE,\"\",VLOOKUP(MONTH(A870),Opsætning!$G$3:$H$14,2,FALSE))","v":""},{"$f":"IF(ISBLANK(Rådata!B870)=TRUE,\"\",(Rådata!C870*100)/Rådata!B870)","v":""},{"$f":"IF(ISBLANK(Rådata!D870)=TRUE,\"\",((Rådata!D870-Rådata!E870)*100)/Rådata!D870)","v":""},{"$f":"IF(ISBLANK(Rådata!G870)=TRUE,\"\",(Rådata!F870*100)/Rådata!G870)","v":""},{"$f":"IF(ISBLANK(Rådata!K870),\"\",(SUM(Rådata!M870:P870)*100)/SUM(Rådata!H870:K870))","v":""},{"$f":"IF(ISBLANK(Rådata!H870),\"\",((SUM(Rådata!J870:L870)-SUM(Rådata!O870:P870))*100)/SUM(Rådata!H870:L870))","v":""},{"$f":"IF(ISBLANK(Rådata!R870),\"\",(Rådata!Q870*100)/Rådata!R870)","v":""}]
[{"$f":"IF(ISBLANK(Rådata!A871)=TRUE,\"\",Rådata!A871)","v":""},{"$f":"IF(ISBLANK(Rådata!A871)=TRUE,\"\",YEAR(A871))","v":""},{"$f":"IF(ISBLANK(Rådata!A871)=TRUE,\"\",VLOOKUP(MONTH(A871),Opsætning!$G$3:$H$14,2,FALSE))","v":""},{"$f":"IF(ISBLANK(Rådata!B871)=TRUE,\"\",(Rådata!C871*100)/Rådata!B871)","v":""},{"$f":"IF(ISBLANK(Rådata!D871)=TRUE,\"\",((Rådata!D871-Rådata!E871)*100)/Rådata!D871)","v":""},{"$f":"IF(ISBLANK(Rådata!G871)=TRUE,\"\",(Rådata!F871*100)/Rådata!G871)","v":""},{"$f":"IF(ISBLANK(Rådata!K871),\"\",(SUM(Rådata!M871:P871)*100)/SUM(Rådata!H871:K871))","v":""},{"$f":"IF(ISBLANK(Rådata!H871),\"\",((SUM(Rådata!J871:L871)-SUM(Rådata!O871:P871))*100)/SUM(Rådata!H871:L871))","v":""},{"$f":"IF(ISBLANK(Rådata!R871),\"\",(Rådata!Q871*100)/Rådata!R871)","v":""}]
[{"$f":"IF(ISBLANK(Rådata!A872)=TRUE,\"\",Rådata!A872)","v":""},{"$f":"IF(ISBLANK(Rådata!A872)=TRUE,\"\",YEAR(A872))","v":""},{"$f":"IF(ISBLANK(Rådata!A872)=TRUE,\"\",VLOOKUP(MONTH(A872),Opsætning!$G$3:$H$14,2,FALSE))","v":""},{"$f":"IF(ISBLANK(Rådata!B872)=TRUE,\"\",(Rådata!C872*100)/Rådata!B872)","v":""},{"$f":"IF(ISBLANK(Rådata!D872)=TRUE,\"\",((Rådata!D872-Rådata!E872)*100)/Rådata!D872)","v":""},{"$f":"IF(ISBLANK(Rådata!G872)=TRUE,\"\",(Rådata!F872*100)/Rådata!G872)","v":""},{"$f":"IF(ISBLANK(Rådata!K872),\"\",(SUM(Rådata!M872:P872)*100)/SUM(Rådata!H872:K872))","v":""},{"$f":"IF(ISBLANK(Rådata!H872),\"\",((SUM(Rådata!J872:L872)-SUM(Rådata!O872:P872))*100)/SUM(Rådata!H872:L872))","v":""},{"$f":"IF(ISBLANK(Rådata!R872),\"\",(Rådata!Q872*100)/Rådata!R872)","v":""}]
[{"$f":"IF(ISBLANK(Rådata!A873)=TRUE,\"\",Rådata!A873)","v":""},{"$f":"IF(ISBLANK(Rådata!A873)=TRUE,\"\",YEAR(A873))","v":""},{"$f":"IF(ISBLANK(Rådata!A873)=TRUE,\"\",VLOOKUP(MONTH(A873),Opsætning!$G$3:$H$14,2,FALSE))","v":""},{"$f":"IF(ISBLANK(Rådata!B873)=TRUE,\"\",(Rådata!C873*100)/Rådata!B873)","v":""},{"$f":"IF(ISBLANK(Rådata!D873)=TRUE,\"\",((Rådata!D873-Rådata!E873)*100)/Rådata!D873)","v":""},{"$f":"IF(ISBLANK(Rådata!G873)=TRUE,\"\",(Rådata!F873*100)/Rådata!G873)","v":""},{"$f":"IF(ISBLANK(Rådata!K873),\"\",(SUM(Rådata!M873:P873)*100)/SUM(Rådata!H873:K873))","v":""},{"$f":"IF(ISBLANK(Rådata!H873),\"\",((SUM(Rådata!J873:L873)-SUM(Rådata!O873:P873))*100)/SUM(Rådata!H873:L873))","v":""},{"$f":"IF(ISBLANK(Rådata!R873),\"\",(Rådata!Q873*100)/Rådata!R873)","v":""}]
[{"$f":"IF(ISBLANK(Rådata!A874)=TRUE,\"\",Rådata!A874)","v":""},{"$f":"IF(ISBLANK(Rådata!A874)=TRUE,\"\",YEAR(A874))","v":""},{"$f":"IF(ISBLANK(Rådata!A874)=TRUE,\"\",VLOOKUP(MONTH(A874),Opsætning!$G$3:$H$14,2,FALSE))","v":""},{"$f":"IF(ISBLANK(Rådata!B874)=TRUE,\"\",(Rådata!C874*100)/Rådata!B874)","v":""},{"$f":"IF(ISBLANK(Rådata!D874)=TRUE,\"\",((Rådata!D874-Rådata!E874)*100)/Rådata!D874)","v":""},{"$f":"IF(ISBLANK(Rådata!G874)=TRUE,\"\",(Rådata!F874*100)/Rådata!G874)","v":""},{"$f":"IF(ISBLANK(Rådata!K874),\"\",(SUM(Rådata!M874:P874)*100)/SUM(Rådata!H874:K874))","v":""},{"$f":"IF(ISBLANK(Rådata!H874),\"\",((SUM(Rådata!J874:L874)-SUM(Rådata!O874:P874))*100)/SUM(Rådata!H874:L874))","v":""},{"$f":"IF(ISBLANK(Rådata!R874),\"\",(Rådata!Q874*100)/Rådata!R874)","v":""}]
[{"$f":"IF(ISBLANK(Rådata!A875)=TRUE,\"\",Rådata!A875)","v":""},{"$f":"IF(ISBLANK(Rådata!A875)=TRUE,\"\",YEAR(A875))","v":""},{"$f":"IF(ISBLANK(Rådata!A875)=TRUE,\"\",VLOOKUP(MONTH(A875),Opsætning!$G$3:$H$14,2,FALSE))","v":""},{"$f":"IF(ISBLANK(Rådata!B875)=TRUE,\"\",(Rådata!C875*100)/Rådata!B875)","v":""},{"$f":"IF(ISBLANK(Rådata!D875)=TRUE,\"\",((Rådata!D875-Rådata!E875)*100)/Rådata!D875)","v":""},{"$f":"IF(ISBLANK(Rådata!G875)=TRUE,\"\",(Rådata!F875*100)/Rådata!G875)","v":""},{"$f":"IF(ISBLANK(Rådata!K875),\"\",(SUM(Rådata!M875:P875)*100)/SUM(Rådata!H875:K875))","v":""},{"$f":"IF(ISBLANK(Rådata!H875),\"\",((SUM(Rådata!J875:L875)-SUM(Rådata!O875:P875))*100)/SUM(Rådata!H875:L875))","v":""},{"$f":"IF(ISBLANK(Rådata!R875),\"\",(Rådata!Q875*100)/Rådata!R875)","v":""}]
[{"$f":"IF(ISBLANK(Rådata!A876)=TRUE,\"\",Rådata!A876)","v":""},{"$f":"IF(ISBLANK(Rådata!A876)=TRUE,\"\",YEAR(A876))","v":""},{"$f":"IF(ISBLANK(Rådata!A876)=TRUE,\"\",VLOOKUP(MONTH(A876),Opsætning!$G$3:$H$14,2,FALSE))","v":""},{"$f":"IF(ISBLANK(Rådata!B876)=TRUE,\"\",(Rådata!C876*100)/Rådata!B876)","v":""},{"$f":"IF(ISBLANK(Rådata!D876)=TRUE,\"\",((Rådata!D876-Rådata!E876)*100)/Rådata!D876)","v":""},{"$f":"IF(ISBLANK(Rådata!G876)=TRUE,\"\",(Rådata!F876*100)/Rådata!G876)","v":""},{"$f":"IF(ISBLANK(Rådata!K876),\"\",(SUM(Rådata!M876:P876)*100)/SUM(Rådata!H876:K876))","v":""},{"$f":"IF(ISBLANK(Rådata!H876),\"\",((SUM(Rådata!J876:L876)-SUM(Rådata!O876:P876))*100)/SUM(Rådata!H876:L876))","v":""},{"$f":"IF(ISBLANK(Rådata!R876),\"\",(Rådata!Q876*100)/Rådata!R876)","v":""}]
[{"$f":"IF(ISBLANK(Rådata!A877)=TRUE,\"\",Rådata!A877)","v":""},{"$f":"IF(ISBLANK(Rådata!A877)=TRUE,\"\",YEAR(A877))","v":""},{"$f":"IF(ISBLANK(Rådata!A877)=TRUE,\"\",VLOOKUP(MONTH(A877),Opsætning!$G$3:$H$14,2,FALSE))","v":""},{"$f":"IF(ISBLANK(Rådata!B877)=TRUE,\"\",(Rådata!C877*100)/Rådata!B877)","v":""},{"$f":"IF(ISBLANK(Rådata!D877)=TRUE,\"\",((Rådata!D877-Rådata!E877)*100)/Rådata!D877)","v":""},{"$f":"IF(ISBLANK(Rådata!G877)=TRUE,\"\",(Rådata!F877*100)/Rådata!G877)","v":""},{"$f":"IF(ISBLANK(Rådata!K877),\"\",(SUM(Rådata!M877:P877)*100)/SUM(Rådata!H877:K877))","v":""},{"$f":"IF(ISBLANK(Rådata!H877),\"\",((SUM(Rådata!J877:L877)-SUM(Rådata!O877:P877))*100)/SUM(Rådata!H877:L877))","v":""},{"$f":"IF(ISBLANK(Rådata!R877),\"\",(Rådata!Q877*100)/Rådata!R877)","v":""}]
[{"$f":"IF(ISBLANK(Rådata!A878)=TRUE,\"\",Rådata!A878)","v":""},{"$f":"IF(ISBLANK(Rådata!A878)=TRUE,\"\",YEAR(A878))","v":""},{"$f":"IF(ISBLANK(Rådata!A878)=TRUE,\"\",VLOOKUP(MONTH(A878),Opsætning!$G$3:$H$14,2,FALSE))","v":""},{"$f":"IF(ISBLANK(Rådata!B878)=TRUE,\"\",(Rådata!C878*100)/Rådata!B878)","v":""},{"$f":"IF(ISBLANK(Rådata!D878)=TRUE,\"\",((Rådata!D878-Rådata!E878)*100)/Rådata!D878)","v":""},{"$f":"IF(ISBLANK(Rådata!G878)=TRUE,\"\",(Rådata!F878*100)/Rådata!G878)","v":""},{"$f":"IF(ISBLANK(Rådata!K878),\"\",(SUM(Rådata!M878:P878)*100)/SUM(Rådata!H878:K878))","v":""},{"$f":"IF(ISBLANK(Rådata!H878),\"\",((SUM(Rådata!J878:L878)-SUM(Rådata!O878:P878))*100)/SUM(Rådata!H878:L878))","v":""},{"$f":"IF(ISBLANK(Rådata!R878),\"\",(Rådata!Q878*100)/Rådata!R878)","v":""}]
[{"$f":"IF(ISBLANK(Rådata!A879)=TRUE,\"\",Rådata!A879)","v":""},{"$f":"IF(ISBLANK(Rådata!A879)=TRUE,\"\",YEAR(A879))","v":""},{"$f":"IF(ISBLANK(Rådata!A879)=TRUE,\"\",VLOOKUP(MONTH(A879),Opsætning!$G$3:$H$14,2,FALSE))","v":""},{"$f":"IF(ISBLANK(Rådata!B879)=TRUE,\"\",(Rådata!C879*100)/Rådata!B879)","v":""},{"$f":"IF(ISBLANK(Rådata!D879)=TRUE,\"\",((Rådata!D879-Rådata!E879)*100)/Rådata!D879)","v":""},{"$f":"IF(ISBLANK(Rådata!G879)=TRUE,\"\",(Rådata!F879*100)/Rådata!G879)","v":""},{"$f":"IF(ISBLANK(Rådata!K879),\"\",(SUM(Rådata!M879:P879)*100)/SUM(Rådata!H879:K879))","v":""},{"$f":"IF(ISBLANK(Rådata!H879),\"\",((SUM(Rådata!J879:L879)-SUM(Rådata!O879:P879))*100)/SUM(Rådata!H879:L879))","v":""},{"$f":"IF(ISBLANK(Rådata!R879),\"\",(Rådata!Q879*100)/Rådata!R879)","v":""}]
[{"$f":"IF(ISBLANK(Rådata!A880)=TRUE,\"\",Rådata!A880)","v":""},{"$f":"IF(ISBLANK(Rådata!A880)=TRUE,\"\",YEAR(A880))","v":""},{"$f":"IF(ISBLANK(Rådata!A880)=TRUE,\"\",VLOOKUP(MONTH(A880),Opsætning!$G$3:$H$14,2,FALSE))","v":""},{"$f":"IF(ISBLANK(Rådata!B880)=TRUE,\"\",(Rådata!C880*100)/Rådata!B880)","v":""},{"$f":"IF(ISBLANK(Rådata!D880)=TRUE,\"\",((Rådata!D880-Rådata!E880)*100)/Rådata!D880)","v":""},{"$f":"IF(ISBLANK(Rådata!G880)=TRUE,\"\",(Rådata!F880*100)/Rådata!G880)","v":""},{"$f":"IF(ISBLANK(Rådata!K880),\"\",(SUM(Rådata!M880:P880)*100)/SUM(Rådata!H880:K880))","v":""},{"$f":"IF(ISBLANK(Rådata!H880),\"\",((SUM(Rådata!J880:L880)-SUM(Rådata!O880:P880))*100)/SUM(Rådata!H880:L880))","v":""},{"$f":"IF(ISBLANK(Rådata!R880),\"\",(Rådata!Q880*100)/Rådata!R880)","v":""}]
[{"$f":"IF(ISBLANK(Rådata!A881)=TRUE,\"\",Rådata!A881)","v":""},{"$f":"IF(ISBLANK(Rådata!A881)=TRUE,\"\",YEAR(A881))","v":""},{"$f":"IF(ISBLANK(Rådata!A881)=TRUE,\"\",VLOOKUP(MONTH(A881),Opsætning!$G$3:$H$14,2,FALSE))","v":""},{"$f":"IF(ISBLANK(Rådata!B881)=TRUE,\"\",(Rådata!C881*100)/Rådata!B881)","v":""},{"$f":"IF(ISBLANK(Rådata!D881)=TRUE,\"\",((Rådata!D881-Rådata!E881)*100)/Rådata!D881)","v":""},{"$f":"IF(ISBLANK(Rådata!G881)=TRUE,\"\",(Rådata!F881*100)/Rådata!G881)","v":""},{"$f":"IF(ISBLANK(Rådata!K881),\"\",(SUM(Rådata!M881:P881)*100)/SUM(Rådata!H881:K881))","v":""},{"$f":"IF(ISBLANK(Rådata!H881),\"\",((SUM(Rådata!J881:L881)-SUM(Rådata!O881:P881))*100)/SUM(Rådata!H881:L881))","v":""},{"$f":"IF(ISBLANK(Rådata!R881),\"\",(Rådata!Q881*100)/Rådata!R881)","v":""}]
[{"$f":"IF(ISBLANK(Rådata!A882)=TRUE,\"\",Rådata!A882)","v":""},{"$f":"IF(ISBLANK(Rådata!A882)=TRUE,\"\",YEAR(A882))","v":""},{"$f":"IF(ISBLANK(Rådata!A882)=TRUE,\"\",VLOOKUP(MONTH(A882),Opsætning!$G$3:$H$14,2,FALSE))","v":""},{"$f":"IF(ISBLANK(Rådata!B882)=TRUE,\"\",(Rådata!C882*100)/Rådata!B882)","v":""},{"$f":"IF(ISBLANK(Rådata!D882)=TRUE,\"\",((Rådata!D882-Rådata!E882)*100)/Rådata!D882)","v":""},{"$f":"IF(ISBLANK(Rådata!G882)=TRUE,\"\",(Rådata!F882*100)/Rådata!G882)","v":""},{"$f":"IF(ISBLANK(Rådata!K882),\"\",(SUM(Rådata!M882:P882)*100)/SUM(Rådata!H882:K882))","v":""},{"$f":"IF(ISBLANK(Rådata!H882),\"\",((SUM(Rådata!J882:L882)-SUM(Rådata!O882:P882))*100)/SUM(Rådata!H882:L882))","v":""},{"$f":"IF(ISBLANK(Rådata!R882),\"\",(Rådata!Q882*100)/Rådata!R882)","v":""}]
[{"$f":"IF(ISBLANK(Rådata!A883)=TRUE,\"\",Rådata!A883)","v":""},{"$f":"IF(ISBLANK(Rådata!A883)=TRUE,\"\",YEAR(A883))","v":""},{"$f":"IF(ISBLANK(Rådata!A883)=TRUE,\"\",VLOOKUP(MONTH(A883),Opsætning!$G$3:$H$14,2,FALSE))","v":""},{"$f":"IF(ISBLANK(Rådata!B883)=TRUE,\"\",(Rådata!C883*100)/Rådata!B883)","v":""},{"$f":"IF(ISBLANK(Rådata!D883)=TRUE,\"\",((Rådata!D883-Rådata!E883)*100)/Rådata!D883)","v":""},{"$f":"IF(ISBLANK(Rådata!G883)=TRUE,\"\",(Rådata!F883*100)/Rådata!G883)","v":""},{"$f":"IF(ISBLANK(Rådata!K883),\"\",(SUM(Rådata!M883:P883)*100)/SUM(Rådata!H883:K883))","v":""},{"$f":"IF(ISBLANK(Rådata!H883),\"\",((SUM(Rådata!J883:L883)-SUM(Rådata!O883:P883))*100)/SUM(Rådata!H883:L883))","v":""},{"$f":"IF(ISBLANK(Rådata!R883),\"\",(Rådata!Q883*100)/Rådata!R883)","v":""}]
[{"$f":"IF(ISBLANK(Rådata!A884)=TRUE,\"\",Rådata!A884)","v":""},{"$f":"IF(ISBLANK(Rådata!A884)=TRUE,\"\",YEAR(A884))","v":""},{"$f":"IF(ISBLANK(Rådata!A884)=TRUE,\"\",VLOOKUP(MONTH(A884),Opsætning!$G$3:$H$14,2,FALSE))","v":""},{"$f":"IF(ISBLANK(Rådata!B884)=TRUE,\"\",(Rådata!C884*100)/Rådata!B884)","v":""},{"$f":"IF(ISBLANK(Rådata!D884)=TRUE,\"\",((Rådata!D884-Rådata!E884)*100)/Rådata!D884)","v":""},{"$f":"IF(ISBLANK(Rådata!G884)=TRUE,\"\",(Rådata!F884*100)/Rådata!G884)","v":""},{"$f":"IF(ISBLANK(Rådata!K884),\"\",(SUM(Rådata!M884:P884)*100)/SUM(Rådata!H884:K884))","v":""},{"$f":"IF(ISBLANK(Rådata!H884),\"\",((SUM(Rådata!J884:L884)-SUM(Rådata!O884:P884))*100)/SUM(Rådata!H884:L884))","v":""},{"$f":"IF(ISBLANK(Rådata!R884),\"\",(Rådata!Q884*100)/Rådata!R884)","v":""}]
[{"$f":"IF(ISBLANK(Rådata!A885)=TRUE,\"\",Rådata!A885)","v":""},{"$f":"IF(ISBLANK(Rådata!A885)=TRUE,\"\",YEAR(A885))","v":""},{"$f":"IF(ISBLANK(Rådata!A885)=TRUE,\"\",VLOOKUP(MONTH(A885),Opsætning!$G$3:$H$14,2,FALSE))","v":""},{"$f":"IF(ISBLANK(Rådata!B885)=TRUE,\"\",(Rådata!C885*100)/Rådata!B885)","v":""},{"$f":"IF(ISBLANK(Rådata!D885)=TRUE,\"\",((Rådata!D885-Rådata!E885)*100)/Rådata!D885)","v":""},{"$f":"IF(ISBLANK(Rådata!G885)=TRUE,\"\",(Rådata!F885*100)/Rådata!G885)","v":""},{"$f":"IF(ISBLANK(Rådata!K885),\"\",(SUM(Rådata!M885:P885)*100)/SUM(Rådata!H885:K885))","v":""},{"$f":"IF(ISBLANK(Rådata!H885),\"\",((SUM(Rådata!J885:L885)-SUM(Rådata!O885:P885))*100)/SUM(Rådata!H885:L885))","v":""},{"$f":"IF(ISBLANK(Rådata!R885),\"\",(Rådata!Q885*100)/Rådata!R885)","v":""}]
[{"$f":"IF(ISBLANK(Rådata!A886)=TRUE,\"\",Rådata!A886)","v":""},{"$f":"IF(ISBLANK(Rådata!A886)=TRUE,\"\",YEAR(A886))","v":""},{"$f":"IF(ISBLANK(Rådata!A886)=TRUE,\"\",VLOOKUP(MONTH(A886),Opsætning!$G$3:$H$14,2,FALSE))","v":""},{"$f":"IF(ISBLANK(Rådata!B886)=TRUE,\"\",(Rådata!C886*100)/Rådata!B886)","v":""},{"$f":"IF(ISBLANK(Rådata!D886)=TRUE,\"\",((Rådata!D886-Rådata!E886)*100)/Rådata!D886)","v":""},{"$f":"IF(ISBLANK(Rådata!G886)=TRUE,\"\",(Rådata!F886*100)/Rådata!G886)","v":""},{"$f":"IF(ISBLANK(Rådata!K886),\"\",(SUM(Rådata!M886:P886)*100)/SUM(Rådata!H886:K886))","v":""},{"$f":"IF(ISBLANK(Rådata!H886),\"\",((SUM(Rådata!J886:L886)-SUM(Rådata!O886:P886))*100)/SUM(Rådata!H886:L886))","v":""},{"$f":"IF(ISBLANK(Rådata!R886),\"\",(Rådata!Q886*100)/Rådata!R886)","v":""}]
[{"$f":"IF(ISBLANK(Rådata!A887)=TRUE,\"\",Rådata!A887)","v":""},{"$f":"IF(ISBLANK(Rådata!A887)=TRUE,\"\",YEAR(A887))","v":""},{"$f":"IF(ISBLANK(Rådata!A887)=TRUE,\"\",VLOOKUP(MONTH(A887),Opsætning!$G$3:$H$14,2,FALSE))","v":""},{"$f":"IF(ISBLANK(Rådata!B887)=TRUE,\"\",(Rådata!C887*100)/Rådata!B887)","v":""},{"$f":"IF(ISBLANK(Rådata!D887)=TRUE,\"\",((Rådata!D887-Rådata!E887)*100)/Rådata!D887)","v":""},{"$f":"IF(ISBLANK(Rådata!G887)=TRUE,\"\",(Rådata!F887*100)/Rådata!G887)","v":""},{"$f":"IF(ISBLANK(Rådata!K887),\"\",(SUM(Rådata!M887:P887)*100)/SUM(Rådata!H887:K887))","v":""},{"$f":"IF(ISBLANK(Rådata!H887),\"\",((SUM(Rådata!J887:L887)-SUM(Rådata!O887:P887))*100)/SUM(Rådata!H887:L887))","v":""},{"$f":"IF(ISBLANK(Rådata!R887),\"\",(Rådata!Q887*100)/Rådata!R887)","v":""}]
[{"$f":"IF(ISBLANK(Rådata!A888)=TRUE,\"\",Rådata!A888)","v":""},{"$f":"IF(ISBLANK(Rådata!A888)=TRUE,\"\",YEAR(A888))","v":""},{"$f":"IF(ISBLANK(Rådata!A888)=TRUE,\"\",VLOOKUP(MONTH(A888),Opsætning!$G$3:$H$14,2,FALSE))","v":""},{"$f":"IF(ISBLANK(Rådata!B888)=TRUE,\"\",(Rådata!C888*100)/Rådata!B888)","v":""},{"$f":"IF(ISBLANK(Rådata!D888)=TRUE,\"\",((Rådata!D888-Rådata!E888)*100)/Rådata!D888)","v":""},{"$f":"IF(ISBLANK(Rådata!G888)=TRUE,\"\",(Rådata!F888*100)/Rådata!G888)","v":""},{"$f":"IF(ISBLANK(Rådata!K888),\"\",(SUM(Rådata!M888:P888)*100)/SUM(Rådata!H888:K888))","v":""},{"$f":"IF(ISBLANK(Rådata!H888),\"\",((SUM(Rådata!J888:L888)-SUM(Rådata!O888:P888))*100)/SUM(Rådata!H888:L888))","v":""},{"$f":"IF(ISBLANK(Rådata!R888),\"\",(Rådata!Q888*100)/Rådata!R888)","v":""}]
[{"$f":"IF(ISBLANK(Rådata!A889)=TRUE,\"\",Rådata!A889)","v":""},{"$f":"IF(ISBLANK(Rådata!A889)=TRUE,\"\",YEAR(A889))","v":""},{"$f":"IF(ISBLANK(Rådata!A889)=TRUE,\"\",VLOOKUP(MONTH(A889),Opsætning!$G$3:$H$14,2,FALSE))","v":""},{"$f":"IF(ISBLANK(Rådata!B889)=TRUE,\"\",(Rådata!C889*100)/Rådata!B889)","v":""},{"$f":"IF(ISBLANK(Rådata!D889)=TRUE,\"\",((Rådata!D889-Rådata!E889)*100)/Rådata!D889)","v":""},{"$f":"IF(ISBLANK(Rådata!G889)=TRUE,\"\",(Rådata!F889*100)/Rådata!G889)","v":""},{"$f":"IF(ISBLANK(Rådata!K889),\"\",(SUM(Rådata!M889:P889)*100)/SUM(Rådata!H889:K889))","v":""},{"$f":"IF(ISBLANK(Rådata!H889),\"\",((SUM(Rådata!J889:L889)-SUM(Rådata!O889:P889))*100)/SUM(Rådata!H889:L889))","v":""},{"$f":"IF(ISBLANK(Rådata!R889),\"\",(Rådata!Q889*100)/Rådata!R889)","v":""}]
[{"$f":"IF(ISBLANK(Rådata!A890)=TRUE,\"\",Rådata!A890)","v":""},{"$f":"IF(ISBLANK(Rådata!A890)=TRUE,\"\",YEAR(A890))","v":""},{"$f":"IF(ISBLANK(Rådata!A890)=TRUE,\"\",VLOOKUP(MONTH(A890),Opsætning!$G$3:$H$14,2,FALSE))","v":""},{"$f":"IF(ISBLANK(Rådata!B890)=TRUE,\"\",(Rådata!C890*100)/Rådata!B890)","v":""},{"$f":"IF(ISBLANK(Rådata!D890)=TRUE,\"\",((Rådata!D890-Rådata!E890)*100)/Rådata!D890)","v":""},{"$f":"IF(ISBLANK(Rådata!G890)=TRUE,\"\",(Rådata!F890*100)/Rådata!G890)","v":""},{"$f":"IF(ISBLANK(Rådata!K890),\"\",(SUM(Rådata!M890:P890)*100)/SUM(Rådata!H890:K890))","v":""},{"$f":"IF(ISBLANK(Rådata!H890),\"\",((SUM(Rådata!J890:L890)-SUM(Rådata!O890:P890))*100)/SUM(Rådata!H890:L890))","v":""},{"$f":"IF(ISBLANK(Rådata!R890),\"\",(Rådata!Q890*100)/Rådata!R890)","v":""}]
[{"$f":"IF(ISBLANK(Rådata!A891)=TRUE,\"\",Rådata!A891)","v":""},{"$f":"IF(ISBLANK(Rådata!A891)=TRUE,\"\",YEAR(A891))","v":""},{"$f":"IF(ISBLANK(Rådata!A891)=TRUE,\"\",VLOOKUP(MONTH(A891),Opsætning!$G$3:$H$14,2,FALSE))","v":""},{"$f":"IF(ISBLANK(Rådata!B891)=TRUE,\"\",(Rådata!C891*100)/Rådata!B891)","v":""},{"$f":"IF(ISBLANK(Rådata!D891)=TRUE,\"\",((Rådata!D891-Rådata!E891)*100)/Rådata!D891)","v":""},{"$f":"IF(ISBLANK(Rådata!G891)=TRUE,\"\",(Rådata!F891*100)/Rådata!G891)","v":""},{"$f":"IF(ISBLANK(Rådata!K891),\"\",(SUM(Rådata!M891:P891)*100)/SUM(Rådata!H891:K891))","v":""},{"$f":"IF(ISBLANK(Rådata!H891),\"\",((SUM(Rådata!J891:L891)-SUM(Rådata!O891:P891))*100)/SUM(Rådata!H891:L891))","v":""},{"$f":"IF(ISBLANK(Rådata!R891),\"\",(Rådata!Q891*100)/Rådata!R891)","v":""}]
[{"$f":"IF(ISBLANK(Rådata!A892)=TRUE,\"\",Rådata!A892)","v":""},{"$f":"IF(ISBLANK(Rådata!A892)=TRUE,\"\",YEAR(A892))","v":""},{"$f":"IF(ISBLANK(Rådata!A892)=TRUE,\"\",VLOOKUP(MONTH(A892),Opsætning!$G$3:$H$14,2,FALSE))","v":""},{"$f":"IF(ISBLANK(Rådata!B892)=TRUE,\"\",(Rådata!C892*100)/Rådata!B892)","v":""},{"$f":"IF(ISBLANK(Rådata!D892)=TRUE,\"\",((Rådata!D892-Rådata!E892)*100)/Rådata!D892)","v":""},{"$f":"IF(ISBLANK(Rådata!G892)=TRUE,\"\",(Rådata!F892*100)/Rådata!G892)","v":""},{"$f":"IF(ISBLANK(Rådata!K892),\"\",(SUM(Rådata!M892:P892)*100)/SUM(Rådata!H892:K892))","v":""},{"$f":"IF(ISBLANK(Rådata!H892),\"\",((SUM(Rådata!J892:L892)-SUM(Rådata!O892:P892))*100)/SUM(Rådata!H892:L892))","v":""},{"$f":"IF(ISBLANK(Rådata!R892),\"\",(Rådata!Q892*100)/Rådata!R892)","v":""}]
[{"$f":"IF(ISBLANK(Rådata!A893)=TRUE,\"\",Rådata!A893)","v":""},{"$f":"IF(ISBLANK(Rådata!A893)=TRUE,\"\",YEAR(A893))","v":""},{"$f":"IF(ISBLANK(Rådata!A893)=TRUE,\"\",VLOOKUP(MONTH(A893),Opsætning!$G$3:$H$14,2,FALSE))","v":""},{"$f":"IF(ISBLANK(Rådata!B893)=TRUE,\"\",(Rådata!C893*100)/Rådata!B893)","v":""},{"$f":"IF(ISBLANK(Rådata!D893)=TRUE,\"\",((Rådata!D893-Rådata!E893)*100)/Rådata!D893)","v":""},{"$f":"IF(ISBLANK(Rådata!G893)=TRUE,\"\",(Rådata!F893*100)/Rådata!G893)","v":""},{"$f":"IF(ISBLANK(Rådata!K893),\"\",(SUM(Rådata!M893:P893)*100)/SUM(Rådata!H893:K893))","v":""},{"$f":"IF(ISBLANK(Rådata!H893),\"\",((SUM(Rådata!J893:L893)-SUM(Rådata!O893:P893))*100)/SUM(Rådata!H893:L893))","v":""},{"$f":"IF(ISBLANK(Rådata!R893),\"\",(Rådata!Q893*100)/Rådata!R893)","v":""}]
[{"$f":"IF(ISBLANK(Rådata!A894)=TRUE,\"\",Rådata!A894)","v":""},{"$f":"IF(ISBLANK(Rådata!A894)=TRUE,\"\",YEAR(A894))","v":""},{"$f":"IF(ISBLANK(Rådata!A894)=TRUE,\"\",VLOOKUP(MONTH(A894),Opsætning!$G$3:$H$14,2,FALSE))","v":""},{"$f":"IF(ISBLANK(Rådata!B894)=TRUE,\"\",(Rådata!C894*100)/Rådata!B894)","v":""},{"$f":"IF(ISBLANK(Rådata!D894)=TRUE,\"\",((Rådata!D894-Rådata!E894)*100)/Rådata!D894)","v":""},{"$f":"IF(ISBLANK(Rådata!G894)=TRUE,\"\",(Rådata!F894*100)/Rådata!G894)","v":""},{"$f":"IF(ISBLANK(Rådata!K894),\"\",(SUM(Rådata!M894:P894)*100)/SUM(Rådata!H894:K894))","v":""},{"$f":"IF(ISBLANK(Rådata!H894),\"\",((SUM(Rådata!J894:L894)-SUM(Rådata!O894:P894))*100)/SUM(Rådata!H894:L894))","v":""},{"$f":"IF(ISBLANK(Rådata!R894),\"\",(Rådata!Q894*100)/Rådata!R894)","v":""}]
[{"$f":"IF(ISBLANK(Rådata!A895)=TRUE,\"\",Rådata!A895)","v":""},{"$f":"IF(ISBLANK(Rådata!A895)=TRUE,\"\",YEAR(A895))","v":""},{"$f":"IF(ISBLANK(Rådata!A895)=TRUE,\"\",VLOOKUP(MONTH(A895),Opsætning!$G$3:$H$14,2,FALSE))","v":""},{"$f":"IF(ISBLANK(Rådata!B895)=TRUE,\"\",(Rådata!C895*100)/Rådata!B895)","v":""},{"$f":"IF(ISBLANK(Rådata!D895)=TRUE,\"\",((Rådata!D895-Rådata!E895)*100)/Rådata!D895)","v":""},{"$f":"IF(ISBLANK(Rådata!G895)=TRUE,\"\",(Rådata!F895*100)/Rådata!G895)","v":""},{"$f":"IF(ISBLANK(Rådata!K895),\"\",(SUM(Rådata!M895:P895)*100)/SUM(Rådata!H895:K895))","v":""},{"$f":"IF(ISBLANK(Rådata!H895),\"\",((SUM(Rådata!J895:L895)-SUM(Rådata!O895:P895))*100)/SUM(Rådata!H895:L895))","v":""},{"$f":"IF(ISBLANK(Rådata!R895),\"\",(Rådata!Q895*100)/Rådata!R895)","v":""}]
[{"$f":"IF(ISBLANK(Rådata!A896)=TRUE,\"\",Rådata!A896)","v":""},{"$f":"IF(ISBLANK(Rådata!A896)=TRUE,\"\",YEAR(A896))","v":""},{"$f":"IF(ISBLANK(Rådata!A896)=TRUE,\"\",VLOOKUP(MONTH(A896),Opsætning!$G$3:$H$14,2,FALSE))","v":""},{"$f":"IF(ISBLANK(Rådata!B896)=TRUE,\"\",(Rådata!C896*100)/Rådata!B896)","v":""},{"$f":"IF(ISBLANK(Rådata!D896)=TRUE,\"\",((Rådata!D896-Rådata!E896)*100)/Rådata!D896)","v":""},{"$f":"IF(ISBLANK(Rådata!G896)=TRUE,\"\",(Rådata!F896*100)/Rådata!G896)","v":""},{"$f":"IF(ISBLANK(Rådata!K896),\"\",(SUM(Rådata!M896:P896)*100)/SUM(Rådata!H896:K896))","v":""},{"$f":"IF(ISBLANK(Rådata!H896),\"\",((SUM(Rådata!J896:L896)-SUM(Rådata!O896:P896))*100)/SUM(Rådata!H896:L896))","v":""},{"$f":"IF(ISBLANK(Rådata!R896),\"\",(Rådata!Q896*100)/Rådata!R896)","v":""}]
[{"$f":"IF(ISBLANK(Rådata!A897)=TRUE,\"\",Rådata!A897)","v":""},{"$f":"IF(ISBLANK(Rådata!A897)=TRUE,\"\",YEAR(A897))","v":""},{"$f":"IF(ISBLANK(Rådata!A897)=TRUE,\"\",VLOOKUP(MONTH(A897),Opsætning!$G$3:$H$14,2,FALSE))","v":""},{"$f":"IF(ISBLANK(Rådata!B897)=TRUE,\"\",(Rådata!C897*100)/Rådata!B897)","v":""},{"$f":"IF(ISBLANK(Rådata!D897)=TRUE,\"\",((Rådata!D897-Rådata!E897)*100)/Rådata!D897)","v":""},{"$f":"IF(ISBLANK(Rådata!G897)=TRUE,\"\",(Rådata!F897*100)/Rådata!G897)","v":""},{"$f":"IF(ISBLANK(Rådata!K897),\"\",(SUM(Rådata!M897:P897)*100)/SUM(Rådata!H897:K897))","v":""},{"$f":"IF(ISBLANK(Rådata!H897),\"\",((SUM(Rådata!J897:L897)-SUM(Rådata!O897:P897))*100)/SUM(Rådata!H897:L897))","v":""},{"$f":"IF(ISBLANK(Rådata!R897),\"\",(Rådata!Q897*100)/Rådata!R897)","v":""}]
[{"$f":"IF(ISBLANK(Rådata!A898)=TRUE,\"\",Rådata!A898)","v":""},{"$f":"IF(ISBLANK(Rådata!A898)=TRUE,\"\",YEAR(A898))","v":""},{"$f":"IF(ISBLANK(Rådata!A898)=TRUE,\"\",VLOOKUP(MONTH(A898),Opsætning!$G$3:$H$14,2,FALSE))","v":""},{"$f":"IF(ISBLANK(Rådata!B898)=TRUE,\"\",(Rådata!C898*100)/Rådata!B898)","v":""},{"$f":"IF(ISBLANK(Rådata!D898)=TRUE,\"\",((Rådata!D898-Rådata!E898)*100)/Rådata!D898)","v":""},{"$f":"IF(ISBLANK(Rådata!G898)=TRUE,\"\",(Rådata!F898*100)/Rådata!G898)","v":""},{"$f":"IF(ISBLANK(Rådata!K898),\"\",(SUM(Rådata!M898:P898)*100)/SUM(Rådata!H898:K898))","v":""},{"$f":"IF(ISBLANK(Rådata!H898),\"\",((SUM(Rådata!J898:L898)-SUM(Rådata!O898:P898))*100)/SUM(Rådata!H898:L898))","v":""},{"$f":"IF(ISBLANK(Rådata!R898),\"\",(Rådata!Q898*100)/Rådata!R898)","v":""}]
[{"$f":"IF(ISBLANK(Rådata!A899)=TRUE,\"\",Rådata!A899)","v":""},{"$f":"IF(ISBLANK(Rådata!A899)=TRUE,\"\",YEAR(A899))","v":""},{"$f":"IF(ISBLANK(Rådata!A899)=TRUE,\"\",VLOOKUP(MONTH(A899),Opsætning!$G$3:$H$14,2,FALSE))","v":""},{"$f":"IF(ISBLANK(Rådata!B899)=TRUE,\"\",(Rådata!C899*100)/Rådata!B899)","v":""},{"$f":"IF(ISBLANK(Rådata!D899)=TRUE,\"\",((Rådata!D899-Rådata!E899)*100)/Rådata!D899)","v":""},{"$f":"IF(ISBLANK(Rådata!G899)=TRUE,\"\",(Rådata!F899*100)/Rådata!G899)","v":""},{"$f":"IF(ISBLANK(Rådata!K899),\"\",(SUM(Rådata!M899:P899)*100)/SUM(Rådata!H899:K899))","v":""},{"$f":"IF(ISBLANK(Rådata!H899),\"\",((SUM(Rådata!J899:L899)-SUM(Rådata!O899:P899))*100)/SUM(Rådata!H899:L899))","v":""},{"$f":"IF(ISBLANK(Rådata!R899),\"\",(Rådata!Q899*100)/Rådata!R899)","v":""}]
[{"$f":"IF(ISBLANK(Rådata!A900)=TRUE,\"\",Rådata!A900)","v":""},{"$f":"IF(ISBLANK(Rådata!A900)=TRUE,\"\",YEAR(A900))","v":""},{"$f":"IF(ISBLANK(Rådata!A900)=TRUE,\"\",VLOOKUP(MONTH(A900),Opsætning!$G$3:$H$14,2,FALSE))","v":""},{"$f":"IF(ISBLANK(Rådata!B900)=TRUE,\"\",(Rådata!C900*100)/Rådata!B900)","v":""},{"$f":"IF(ISBLANK(Rådata!D900)=TRUE,\"\",((Rådata!D900-Rådata!E900)*100)/Rådata!D900)","v":""},{"$f":"IF(ISBLANK(Rådata!G900)=TRUE,\"\",(Rådata!F900*100)/Rådata!G900)","v":""},{"$f":"IF(ISBLANK(Rådata!K900),\"\",(SUM(Rådata!M900:P900)*100)/SUM(Rådata!H900:K900))","v":""},{"$f":"IF(ISBLANK(Rådata!H900),\"\",((SUM(Rådata!J900:L900)-SUM(Rådata!O900:P900))*100)/SUM(Rådata!H900:L900))","v":""},{"$f":"IF(ISBLANK(Rådata!R900),\"\",(Rådata!Q900*100)/Rådata!R900)","v":""}]
[{"$f":"IF(ISBLANK(Rådata!A901)=TRUE,\"\",Rådata!A901)","v":""},{"$f":"IF(ISBLANK(Rådata!A901)=TRUE,\"\",YEAR(A901))","v":""},{"$f":"IF(ISBLANK(Rådata!A901)=TRUE,\"\",VLOOKUP(MONTH(A901),Opsætning!$G$3:$H$14,2,FALSE))","v":""},{"$f":"IF(ISBLANK(Rådata!B901)=TRUE,\"\",(Rådata!C901*100)/Rådata!B901)","v":""},{"$f":"IF(ISBLANK(Rådata!D901)=TRUE,\"\",((Rådata!D901-Rådata!E901)*100)/Rådata!D901)","v":""},{"$f":"IF(ISBLANK(Rådata!G901)=TRUE,\"\",(Rådata!F901*100)/Rådata!G901)","v":""},{"$f":"IF(ISBLANK(Rådata!K901),\"\",(SUM(Rådata!M901:P901)*100)/SUM(Rådata!H901:K901))","v":""},{"$f":"IF(ISBLANK(Rådata!H901),\"\",((SUM(Rådata!J901:L901)-SUM(Rådata!O901:P901))*100)/SUM(Rådata!H901:L901))","v":""},{"$f":"IF(ISBLANK(Rådata!R901),\"\",(Rådata!Q901*100)/Rådata!R901)","v":""}]
[{"$f":"IF(ISBLANK(Rådata!A902)=TRUE,\"\",Rådata!A902)","v":""},{"$f":"IF(ISBLANK(Rådata!A902)=TRUE,\"\",YEAR(A902))","v":""},{"$f":"IF(ISBLANK(Rådata!A902)=TRUE,\"\",VLOOKUP(MONTH(A902),Opsætning!$G$3:$H$14,2,FALSE))","v":""},{"$f":"IF(ISBLANK(Rådata!B902)=TRUE,\"\",(Rådata!C902*100)/Rådata!B902)","v":""},{"$f":"IF(ISBLANK(Rådata!D902)=TRUE,\"\",((Rådata!D902-Rådata!E902)*100)/Rådata!D902)","v":""},{"$f":"IF(ISBLANK(Rådata!G902)=TRUE,\"\",(Rådata!F902*100)/Rådata!G902)","v":""},{"$f":"IF(ISBLANK(Rådata!K902),\"\",(SUM(Rådata!M902:P902)*100)/SUM(Rådata!H902:K902))","v":""},{"$f":"IF(ISBLANK(Rådata!H902),\"\",((SUM(Rådata!J902:L902)-SUM(Rådata!O902:P902))*100)/SUM(Rådata!H902:L902))","v":""},{"$f":"IF(ISBLANK(Rådata!R902),\"\",(Rådata!Q902*100)/Rådata!R902)","v":""}]
[{"$f":"IF(ISBLANK(Rådata!A903)=TRUE,\"\",Rådata!A903)","v":""},{"$f":"IF(ISBLANK(Rådata!A903)=TRUE,\"\",YEAR(A903))","v":""},{"$f":"IF(ISBLANK(Rådata!A903)=TRUE,\"\",VLOOKUP(MONTH(A903),Opsætning!$G$3:$H$14,2,FALSE))","v":""},{"$f":"IF(ISBLANK(Rådata!B903)=TRUE,\"\",(Rådata!C903*100)/Rådata!B903)","v":""},{"$f":"IF(ISBLANK(Rådata!D903)=TRUE,\"\",((Rådata!D903-Rådata!E903)*100)/Rådata!D903)","v":""},{"$f":"IF(ISBLANK(Rådata!G903)=TRUE,\"\",(Rådata!F903*100)/Rådata!G903)","v":""},{"$f":"IF(ISBLANK(Rådata!K903),\"\",(SUM(Rådata!M903:P903)*100)/SUM(Rådata!H903:K903))","v":""},{"$f":"IF(ISBLANK(Rådata!H903),\"\",((SUM(Rådata!J903:L903)-SUM(Rådata!O903:P903))*100)/SUM(Rådata!H903:L903))","v":""},{"$f":"IF(ISBLANK(Rådata!R903),\"\",(Rådata!Q903*100)/Rådata!R903)","v":""}]
[{"$f":"IF(ISBLANK(Rådata!A904)=TRUE,\"\",Rådata!A904)","v":""},{"$f":"IF(ISBLANK(Rådata!A904)=TRUE,\"\",YEAR(A904))","v":""},{"$f":"IF(ISBLANK(Rådata!A904)=TRUE,\"\",VLOOKUP(MONTH(A904),Opsætning!$G$3:$H$14,2,FALSE))","v":""},{"$f":"IF(ISBLANK(Rådata!B904)=TRUE,\"\",(Rådata!C904*100)/Rådata!B904)","v":""},{"$f":"IF(ISBLANK(Rådata!D904)=TRUE,\"\",((Rådata!D904-Rådata!E904)*100)/Rådata!D904)","v":""},{"$f":"IF(ISBLANK(Rådata!G904)=TRUE,\"\",(Rådata!F904*100)/Rådata!G904)","v":""},{"$f":"IF(ISBLANK(Rådata!K904),\"\",(SUM(Rådata!M904:P904)*100)/SUM(Rådata!H904:K904))","v":""},{"$f":"IF(ISBLANK(Rådata!H904),\"\",((SUM(Rådata!J904:L904)-SUM(Rådata!O904:P904))*100)/SUM(Rådata!H904:L904))","v":""},{"$f":"IF(ISBLANK(Rådata!R904),\"\",(Rådata!Q904*100)/Rådata!R904)","v":""}]
[{"$f":"IF(ISBLANK(Rådata!A905)=TRUE,\"\",Rådata!A905)","v":""},{"$f":"IF(ISBLANK(Rådata!A905)=TRUE,\"\",YEAR(A905))","v":""},{"$f":"IF(ISBLANK(Rådata!A905)=TRUE,\"\",VLOOKUP(MONTH(A905),Opsætning!$G$3:$H$14,2,FALSE))","v":""},{"$f":"IF(ISBLANK(Rådata!B905)=TRUE,\"\",(Rådata!C905*100)/Rådata!B905)","v":""},{"$f":"IF(ISBLANK(Rådata!D905)=TRUE,\"\",((Rådata!D905-Rådata!E905)*100)/Rådata!D905)","v":""},{"$f":"IF(ISBLANK(Rådata!G905)=TRUE,\"\",(Rådata!F905*100)/Rådata!G905)","v":""},{"$f":"IF(ISBLANK(Rådata!K905),\"\",(SUM(Rådata!M905:P905)*100)/SUM(Rådata!H905:K905))","v":""},{"$f":"IF(ISBLANK(Rådata!H905),\"\",((SUM(Rådata!J905:L905)-SUM(Rådata!O905:P905))*100)/SUM(Rådata!H905:L905))","v":""},{"$f":"IF(ISBLANK(Rådata!R905),\"\",(Rådata!Q905*100)/Rådata!R905)","v":""}]
[{"$f":"IF(ISBLANK(Rådata!A906)=TRUE,\"\",Rådata!A906)","v":""},{"$f":"IF(ISBLANK(Rådata!A906)=TRUE,\"\",YEAR(A906))","v":""},{"$f":"IF(ISBLANK(Rådata!A906)=TRUE,\"\",VLOOKUP(MONTH(A906),Opsætning!$G$3:$H$14,2,FALSE))","v":""},{"$f":"IF(ISBLANK(Rådata!B906)=TRUE,\"\",(Rådata!C906*100)/Rådata!B906)","v":""},{"$f":"IF(ISBLANK(Rådata!D906)=TRUE,\"\",((Rådata!D906-Rådata!E906)*100)/Rådata!D906)","v":""},{"$f":"IF(ISBLANK(Rådata!G906)=TRUE,\"\",(Rådata!F906*100)/Rådata!G906)","v":""},{"$f":"IF(ISBLANK(Rådata!K906),\"\",(SUM(Rådata!M906:P906)*100)/SUM(Rådata!H906:K906))","v":""},{"$f":"IF(ISBLANK(Rådata!H906),\"\",((SUM(Rådata!J906:L906)-SUM(Rådata!O906:P906))*100)/SUM(Rådata!H906:L906))","v":""},{"$f":"IF(ISBLANK(Rådata!R906),\"\",(Rådata!Q906*100)/Rådata!R906)","v":""}]
[{"$f":"IF(ISBLANK(Rådata!A907)=TRUE,\"\",Rådata!A907)","v":""},{"$f":"IF(ISBLANK(Rådata!A907)=TRUE,\"\",YEAR(A907))","v":""},{"$f":"IF(ISBLANK(Rådata!A907)=TRUE,\"\",VLOOKUP(MONTH(A907),Opsætning!$G$3:$H$14,2,FALSE))","v":""},{"$f":"IF(ISBLANK(Rådata!B907)=TRUE,\"\",(Rådata!C907*100)/Rådata!B907)","v":""},{"$f":"IF(ISBLANK(Rådata!D907)=TRUE,\"\",((Rådata!D907-Rådata!E907)*100)/Rådata!D907)","v":""},{"$f":"IF(ISBLANK(Rådata!G907)=TRUE,\"\",(Rådata!F907*100)/Rådata!G907)","v":""},{"$f":"IF(ISBLANK(Rådata!K907),\"\",(SUM(Rådata!M907:P907)*100)/SUM(Rådata!H907:K907))","v":""},{"$f":"IF(ISBLANK(Rådata!H907),\"\",((SUM(Rådata!J907:L907)-SUM(Rådata!O907:P907))*100)/SUM(Rådata!H907:L907))","v":""},{"$f":"IF(ISBLANK(Rådata!R907),\"\",(Rådata!Q907*100)/Rådata!R907)","v":""}]
[{"$f":"IF(ISBLANK(Rådata!A908)=TRUE,\"\",Rådata!A908)","v":""},{"$f":"IF(ISBLANK(Rådata!A908)=TRUE,\"\",YEAR(A908))","v":""},{"$f":"IF(ISBLANK(Rådata!A908)=TRUE,\"\",VLOOKUP(MONTH(A908),Opsætning!$G$3:$H$14,2,FALSE))","v":""},{"$f":"IF(ISBLANK(Rådata!B908)=TRUE,\"\",(Rådata!C908*100)/Rådata!B908)","v":""},{"$f":"IF(ISBLANK(Rådata!D908)=TRUE,\"\",((Rådata!D908-Rådata!E908)*100)/Rådata!D908)","v":""},{"$f":"IF(ISBLANK(Rådata!G908)=TRUE,\"\",(Rådata!F908*100)/Rådata!G908)","v":""},{"$f":"IF(ISBLANK(Rådata!K908),\"\",(SUM(Rådata!M908:P908)*100)/SUM(Rådata!H908:K908))","v":""},{"$f":"IF(ISBLANK(Rådata!H908),\"\",((SUM(Rådata!J908:L908)-SUM(Rådata!O908:P908))*100)/SUM(Rådata!H908:L908))","v":""},{"$f":"IF(ISBLANK(Rådata!R908),\"\",(Rådata!Q908*100)/Rådata!R908)","v":""}]
[{"$f":"IF(ISBLANK(Rådata!A909)=TRUE,\"\",Rådata!A909)","v":""},{"$f":"IF(ISBLANK(Rådata!A909)=TRUE,\"\",YEAR(A909))","v":""},{"$f":"IF(ISBLANK(Rådata!A909)=TRUE,\"\",VLOOKUP(MONTH(A909),Opsætning!$G$3:$H$14,2,FALSE))","v":""},{"$f":"IF(ISBLANK(Rådata!B909)=TRUE,\"\",(Rådata!C909*100)/Rådata!B909)","v":""},{"$f":"IF(ISBLANK(Rådata!D909)=TRUE,\"\",((Rådata!D909-Rådata!E909)*100)/Rådata!D909)","v":""},{"$f":"IF(ISBLANK(Rådata!G909)=TRUE,\"\",(Rådata!F909*100)/Rådata!G909)","v":""},{"$f":"IF(ISBLANK(Rådata!K909),\"\",(SUM(Rådata!M909:P909)*100)/SUM(Rådata!H909:K909))","v":""},{"$f":"IF(ISBLANK(Rådata!H909),\"\",((SUM(Rådata!J909:L909)-SUM(Rådata!O909:P909))*100)/SUM(Rådata!H909:L909))","v":""},{"$f":"IF(ISBLANK(Rådata!R909),\"\",(Rådata!Q909*100)/Rådata!R909)","v":""}]
[{"$f":"IF(ISBLANK(Rådata!A910)=TRUE,\"\",Rådata!A910)","v":""},{"$f":"IF(ISBLANK(Rådata!A910)=TRUE,\"\",YEAR(A910))","v":""},{"$f":"IF(ISBLANK(Rådata!A910)=TRUE,\"\",VLOOKUP(MONTH(A910),Opsætning!$G$3:$H$14,2,FALSE))","v":""},{"$f":"IF(ISBLANK(Rådata!B910)=TRUE,\"\",(Rådata!C910*100)/Rådata!B910)","v":""},{"$f":"IF(ISBLANK(Rådata!D910)=TRUE,\"\",((Rådata!D910-Rådata!E910)*100)/Rådata!D910)","v":""},{"$f":"IF(ISBLANK(Rådata!G910)=TRUE,\"\",(Rådata!F910*100)/Rådata!G910)","v":""},{"$f":"IF(ISBLANK(Rådata!K910),\"\",(SUM(Rådata!M910:P910)*100)/SUM(Rådata!H910:K910))","v":""},{"$f":"IF(ISBLANK(Rådata!H910),\"\",((SUM(Rådata!J910:L910)-SUM(Rådata!O910:P910))*100)/SUM(Rådata!H910:L910))","v":""},{"$f":"IF(ISBLANK(Rådata!R910),\"\",(Rådata!Q910*100)/Rådata!R910)","v":""}]
[{"$f":"IF(ISBLANK(Rådata!A911)=TRUE,\"\",Rådata!A911)","v":""},{"$f":"IF(ISBLANK(Rådata!A911)=TRUE,\"\",YEAR(A911))","v":""},{"$f":"IF(ISBLANK(Rådata!A911)=TRUE,\"\",VLOOKUP(MONTH(A911),Opsætning!$G$3:$H$14,2,FALSE))","v":""},{"$f":"IF(ISBLANK(Rådata!B911)=TRUE,\"\",(Rådata!C911*100)/Rådata!B911)","v":""},{"$f":"IF(ISBLANK(Rådata!D911)=TRUE,\"\",((Rådata!D911-Rådata!E911)*100)/Rådata!D911)","v":""},{"$f":"IF(ISBLANK(Rådata!G911)=TRUE,\"\",(Rådata!F911*100)/Rådata!G911)","v":""},{"$f":"IF(ISBLANK(Rådata!K911),\"\",(SUM(Rådata!M911:P911)*100)/SUM(Rådata!H911:K911))","v":""},{"$f":"IF(ISBLANK(Rådata!H911),\"\",((SUM(Rådata!J911:L911)-SUM(Rådata!O911:P911))*100)/SUM(Rådata!H911:L911))","v":""},{"$f":"IF(ISBLANK(Rådata!R911),\"\",(Rådata!Q911*100)/Rådata!R911)","v":""}]
[{"$f":"IF(ISBLANK(Rådata!A912)=TRUE,\"\",Rådata!A912)","v":""},{"$f":"IF(ISBLANK(Rådata!A912)=TRUE,\"\",YEAR(A912))","v":""},{"$f":"IF(ISBLANK(Rådata!A912)=TRUE,\"\",VLOOKUP(MONTH(A912),Opsætning!$G$3:$H$14,2,FALSE))","v":""},{"$f":"IF(ISBLANK(Rådata!B912)=TRUE,\"\",(Rådata!C912*100)/Rådata!B912)","v":""},{"$f":"IF(ISBLANK(Rådata!D912)=TRUE,\"\",((Rådata!D912-Rådata!E912)*100)/Rådata!D912)","v":""},{"$f":"IF(ISBLANK(Rådata!G912)=TRUE,\"\",(Rådata!F912*100)/Rådata!G912)","v":""},{"$f":"IF(ISBLANK(Rådata!K912),\"\",(SUM(Rådata!M912:P912)*100)/SUM(Rådata!H912:K912))","v":""},{"$f":"IF(ISBLANK(Rådata!H912),\"\",((SUM(Rådata!J912:L912)-SUM(Rådata!O912:P912))*100)/SUM(Rådata!H912:L912))","v":""},{"$f":"IF(ISBLANK(Rådata!R912),\"\",(Rådata!Q912*100)/Rådata!R912)","v":""}]
[{"$f":"IF(ISBLANK(Rådata!A913)=TRUE,\"\",Rådata!A913)","v":""},{"$f":"IF(ISBLANK(Rådata!A913)=TRUE,\"\",YEAR(A913))","v":""},{"$f":"IF(ISBLANK(Rådata!A913)=TRUE,\"\",VLOOKUP(MONTH(A913),Opsætning!$G$3:$H$14,2,FALSE))","v":""},{"$f":"IF(ISBLANK(Rådata!B913)=TRUE,\"\",(Rådata!C913*100)/Rådata!B913)","v":""},{"$f":"IF(ISBLANK(Rådata!D913)=TRUE,\"\",((Rådata!D913-Rådata!E913)*100)/Rådata!D913)","v":""},{"$f":"IF(ISBLANK(Rådata!G913)=TRUE,\"\",(Rådata!F913*100)/Rådata!G913)","v":""},{"$f":"IF(ISBLANK(Rådata!K913),\"\",(SUM(Rådata!M913:P913)*100)/SUM(Rådata!H913:K913))","v":""},{"$f":"IF(ISBLANK(Rådata!H913),\"\",((SUM(Rådata!J913:L913)-SUM(Rådata!O913:P913))*100)/SUM(Rådata!H913:L913))","v":""},{"$f":"IF(ISBLANK(Rådata!R913),\"\",(Rådata!Q913*100)/Rådata!R913)","v":""}]
[{"$f":"IF(ISBLANK(Rådata!A914)=TRUE,\"\",Rådata!A914)","v":""},{"$f":"IF(ISBLANK(Rådata!A914)=TRUE,\"\",YEAR(A914))","v":""},{"$f":"IF(ISBLANK(Rådata!A914)=TRUE,\"\",VLOOKUP(MONTH(A914),Opsætning!$G$3:$H$14,2,FALSE))","v":""},{"$f":"IF(ISBLANK(Rådata!B914)=TRUE,\"\",(Rådata!C914*100)/Rådata!B914)","v":""},{"$f":"IF(ISBLANK(Rådata!D914)=TRUE,\"\",((Rådata!D914-Rådata!E914)*100)/Rådata!D914)","v":""},{"$f":"IF(ISBLANK(Rådata!G914)=TRUE,\"\",(Rådata!F914*100)/Rådata!G914)","v":""},{"$f":"IF(ISBLANK(Rådata!K914),\"\",(SUM(Rådata!M914:P914)*100)/SUM(Rådata!H914:K914))","v":""},{"$f":"IF(ISBLANK(Rådata!H914),\"\",((SUM(Rådata!J914:L914)-SUM(Rådata!O914:P914))*100)/SUM(Rådata!H914:L914))","v":""},{"$f":"IF(ISBLANK(Rådata!R914),\"\",(Rådata!Q914*100)/Rådata!R914)","v":""}]
[{"$f":"IF(ISBLANK(Rådata!A915)=TRUE,\"\",Rådata!A915)","v":""},{"$f":"IF(ISBLANK(Rådata!A915)=TRUE,\"\",YEAR(A915))","v":""},{"$f":"IF(ISBLANK(Rådata!A915)=TRUE,\"\",VLOOKUP(MONTH(A915),Opsætning!$G$3:$H$14,2,FALSE))","v":""},{"$f":"IF(ISBLANK(Rådata!B915)=TRUE,\"\",(Rådata!C915*100)/Rådata!B915)","v":""},{"$f":"IF(ISBLANK(Rådata!D915)=TRUE,\"\",((Rådata!D915-Rådata!E915)*100)/Rådata!D915)","v":""},{"$f":"IF(ISBLANK(Rådata!G915)=TRUE,\"\",(Rådata!F915*100)/Rådata!G915)","v":""},{"$f":"IF(ISBLANK(Rådata!K915),\"\",(SUM(Rådata!M915:P915)*100)/SUM(Rådata!H915:K915))","v":""},{"$f":"IF(ISBLANK(Rådata!H915),\"\",((SUM(Rådata!J915:L915)-SUM(Rådata!O915:P915))*100)/SUM(Rådata!H915:L915))","v":""},{"$f":"IF(ISBLANK(Rådata!R915),\"\",(Rådata!Q915*100)/Rådata!R915)","v":""}]
[{"$f":"IF(ISBLANK(Rådata!A916)=TRUE,\"\",Rådata!A916)","v":""},{"$f":"IF(ISBLANK(Rådata!A916)=TRUE,\"\",YEAR(A916))","v":""},{"$f":"IF(ISBLANK(Rådata!A916)=TRUE,\"\",VLOOKUP(MONTH(A916),Opsætning!$G$3:$H$14,2,FALSE))","v":""},{"$f":"IF(ISBLANK(Rådata!B916)=TRUE,\"\",(Rådata!C916*100)/Rådata!B916)","v":""},{"$f":"IF(ISBLANK(Rådata!D916)=TRUE,\"\",((Rådata!D916-Rådata!E916)*100)/Rådata!D916)","v":""},{"$f":"IF(ISBLANK(Rådata!G916)=TRUE,\"\",(Rådata!F916*100)/Rådata!G916)","v":""},{"$f":"IF(ISBLANK(Rådata!K916),\"\",(SUM(Rådata!M916:P916)*100)/SUM(Rådata!H916:K916))","v":""},{"$f":"IF(ISBLANK(Rådata!H916),\"\",((SUM(Rådata!J916:L916)-SUM(Rådata!O916:P916))*100)/SUM(Rådata!H916:L916))","v":""},{"$f":"IF(ISBLANK(Rådata!R916),\"\",(Rådata!Q916*100)/Rådata!R916)","v":""}]
[{"$f":"IF(ISBLANK(Rådata!A917)=TRUE,\"\",Rådata!A917)","v":""},{"$f":"IF(ISBLANK(Rådata!A917)=TRUE,\"\",YEAR(A917))","v":""},{"$f":"IF(ISBLANK(Rådata!A917)=TRUE,\"\",VLOOKUP(MONTH(A917),Opsætning!$G$3:$H$14,2,FALSE))","v":""},{"$f":"IF(ISBLANK(Rådata!B917)=TRUE,\"\",(Rådata!C917*100)/Rådata!B917)","v":""},{"$f":"IF(ISBLANK(Rådata!D917)=TRUE,\"\",((Rådata!D917-Rådata!E917)*100)/Rådata!D917)","v":""},{"$f":"IF(ISBLANK(Rådata!G917)=TRUE,\"\",(Rådata!F917*100)/Rådata!G917)","v":""},{"$f":"IF(ISBLANK(Rådata!K917),\"\",(SUM(Rådata!M917:P917)*100)/SUM(Rådata!H917:K917))","v":""},{"$f":"IF(ISBLANK(Rådata!H917),\"\",((SUM(Rådata!J917:L917)-SUM(Rådata!O917:P917))*100)/SUM(Rådata!H917:L917))","v":""},{"$f":"IF(ISBLANK(Rådata!R917),\"\",(Rådata!Q917*100)/Rådata!R917)","v":""}]
[{"$f":"IF(ISBLANK(Rådata!A918)=TRUE,\"\",Rådata!A918)","v":""},{"$f":"IF(ISBLANK(Rådata!A918)=TRUE,\"\",YEAR(A918))","v":""},{"$f":"IF(ISBLANK(Rådata!A918)=TRUE,\"\",VLOOKUP(MONTH(A918),Opsætning!$G$3:$H$14,2,FALSE))","v":""},{"$f":"IF(ISBLANK(Rådata!B918)=TRUE,\"\",(Rådata!C918*100)/Rådata!B918)","v":""},{"$f":"IF(ISBLANK(Rådata!D918)=TRUE,\"\",((Rådata!D918-Rådata!E918)*100)/Rådata!D918)","v":""},{"$f":"IF(ISBLANK(Rådata!G918)=TRUE,\"\",(Rådata!F918*100)/Rådata!G918)","v":""},{"$f":"IF(ISBLANK(Rådata!K918),\"\",(SUM(Rådata!M918:P918)*100)/SUM(Rådata!H918:K918))","v":""},{"$f":"IF(ISBLANK(Rådata!H918),\"\",((SUM(Rådata!J918:L918)-SUM(Rådata!O918:P918))*100)/SUM(Rådata!H918:L918))","v":""},{"$f":"IF(ISBLANK(Rådata!R918),\"\",(Rådata!Q918*100)/Rådata!R918)","v":""}]
[{"$f":"IF(ISBLANK(Rådata!A919)=TRUE,\"\",Rådata!A919)","v":""},{"$f":"IF(ISBLANK(Rådata!A919)=TRUE,\"\",YEAR(A919))","v":""},{"$f":"IF(ISBLANK(Rådata!A919)=TRUE,\"\",VLOOKUP(MONTH(A919),Opsætning!$G$3:$H$14,2,FALSE))","v":""},{"$f":"IF(ISBLANK(Rådata!B919)=TRUE,\"\",(Rådata!C919*100)/Rådata!B919)","v":""},{"$f":"IF(ISBLANK(Rådata!D919)=TRUE,\"\",((Rådata!D919-Rådata!E919)*100)/Rådata!D919)","v":""},{"$f":"IF(ISBLANK(Rådata!G919)=TRUE,\"\",(Rådata!F919*100)/Rådata!G919)","v":""},{"$f":"IF(ISBLANK(Rådata!K919),\"\",(SUM(Rådata!M919:P919)*100)/SUM(Rådata!H919:K919))","v":""},{"$f":"IF(ISBLANK(Rådata!H919),\"\",((SUM(Rådata!J919:L919)-SUM(Rådata!O919:P919))*100)/SUM(Rådata!H919:L919))","v":""},{"$f":"IF(ISBLANK(Rådata!R919),\"\",(Rådata!Q919*100)/Rådata!R919)","v":""}]
[{"$f":"IF(ISBLANK(Rådata!A920)=TRUE,\"\",Rådata!A920)","v":""},{"$f":"IF(ISBLANK(Rådata!A920)=TRUE,\"\",YEAR(A920))","v":""},{"$f":"IF(ISBLANK(Rådata!A920)=TRUE,\"\",VLOOKUP(MONTH(A920),Opsætning!$G$3:$H$14,2,FALSE))","v":""},{"$f":"IF(ISBLANK(Rådata!B920)=TRUE,\"\",(Rådata!C920*100)/Rådata!B920)","v":""},{"$f":"IF(ISBLANK(Rådata!D920)=TRUE,\"\",((Rådata!D920-Rådata!E920)*100)/Rådata!D920)","v":""},{"$f":"IF(ISBLANK(Rådata!G920)=TRUE,\"\",(Rådata!F920*100)/Rådata!G920)","v":""},{"$f":"IF(ISBLANK(Rådata!K920),\"\",(SUM(Rådata!M920:P920)*100)/SUM(Rådata!H920:K920))","v":""},{"$f":"IF(ISBLANK(Rådata!H920),\"\",((SUM(Rådata!J920:L920)-SUM(Rådata!O920:P920))*100)/SUM(Rådata!H920:L920))","v":""},{"$f":"IF(ISBLANK(Rådata!R920),\"\",(Rådata!Q920*100)/Rådata!R920)","v":""}]
[{"$f":"IF(ISBLANK(Rådata!A921)=TRUE,\"\",Rådata!A921)","v":""},{"$f":"IF(ISBLANK(Rådata!A921)=TRUE,\"\",YEAR(A921))","v":""},{"$f":"IF(ISBLANK(Rådata!A921)=TRUE,\"\",VLOOKUP(MONTH(A921),Opsætning!$G$3:$H$14,2,FALSE))","v":""},{"$f":"IF(ISBLANK(Rådata!B921)=TRUE,\"\",(Rådata!C921*100)/Rådata!B921)","v":""},{"$f":"IF(ISBLANK(Rådata!D921)=TRUE,\"\",((Rådata!D921-Rådata!E921)*100)/Rådata!D921)","v":""},{"$f":"IF(ISBLANK(Rådata!G921)=TRUE,\"\",(Rådata!F921*100)/Rådata!G921)","v":""},{"$f":"IF(ISBLANK(Rådata!K921),\"\",(SUM(Rådata!M921:P921)*100)/SUM(Rådata!H921:K921))","v":""},{"$f":"IF(ISBLANK(Rådata!H921),\"\",((SUM(Rådata!J921:L921)-SUM(Rådata!O921:P921))*100)/SUM(Rådata!H921:L921))","v":""},{"$f":"IF(ISBLANK(Rådata!R921),\"\",(Rådata!Q921*100)/Rådata!R921)","v":""}]
[{"$f":"IF(ISBLANK(Rådata!A922)=TRUE,\"\",Rådata!A922)","v":""},{"$f":"IF(ISBLANK(Rådata!A922)=TRUE,\"\",YEAR(A922))","v":""},{"$f":"IF(ISBLANK(Rådata!A922)=TRUE,\"\",VLOOKUP(MONTH(A922),Opsætning!$G$3:$H$14,2,FALSE))","v":""},{"$f":"IF(ISBLANK(Rådata!B922)=TRUE,\"\",(Rådata!C922*100)/Rådata!B922)","v":""},{"$f":"IF(ISBLANK(Rådata!D922)=TRUE,\"\",((Rådata!D922-Rådata!E922)*100)/Rådata!D922)","v":""},{"$f":"IF(ISBLANK(Rådata!G922)=TRUE,\"\",(Rådata!F922*100)/Rådata!G922)","v":""},{"$f":"IF(ISBLANK(Rådata!K922),\"\",(SUM(Rådata!M922:P922)*100)/SUM(Rådata!H922:K922))","v":""},{"$f":"IF(ISBLANK(Rådata!H922),\"\",((SUM(Rådata!J922:L922)-SUM(Rådata!O922:P922))*100)/SUM(Rådata!H922:L922))","v":""},{"$f":"IF(ISBLANK(Rådata!R922),\"\",(Rådata!Q922*100)/Rådata!R922)","v":""}]
[{"$f":"IF(ISBLANK(Rådata!A923)=TRUE,\"\",Rådata!A923)","v":""},{"$f":"IF(ISBLANK(Rådata!A923)=TRUE,\"\",YEAR(A923))","v":""},{"$f":"IF(ISBLANK(Rådata!A923)=TRUE,\"\",VLOOKUP(MONTH(A923),Opsætning!$G$3:$H$14,2,FALSE))","v":""},{"$f":"IF(ISBLANK(Rådata!B923)=TRUE,\"\",(Rådata!C923*100)/Rådata!B923)","v":""},{"$f":"IF(ISBLANK(Rådata!D923)=TRUE,\"\",((Rådata!D923-Rådata!E923)*100)/Rådata!D923)","v":""},{"$f":"IF(ISBLANK(Rådata!G923)=TRUE,\"\",(Rådata!F923*100)/Rådata!G923)","v":""},{"$f":"IF(ISBLANK(Rådata!K923),\"\",(SUM(Rådata!M923:P923)*100)/SUM(Rådata!H923:K923))","v":""},{"$f":"IF(ISBLANK(Rådata!H923),\"\",((SUM(Rådata!J923:L923)-SUM(Rådata!O923:P923))*100)/SUM(Rådata!H923:L923))","v":""},{"$f":"IF(ISBLANK(Rådata!R923),\"\",(Rådata!Q923*100)/Rådata!R923)","v":""}]
[{"$f":"IF(ISBLANK(Rådata!A924)=TRUE,\"\",Rådata!A924)","v":""},{"$f":"IF(ISBLANK(Rådata!A924)=TRUE,\"\",YEAR(A924))","v":""},{"$f":"IF(ISBLANK(Rådata!A924)=TRUE,\"\",VLOOKUP(MONTH(A924),Opsætning!$G$3:$H$14,2,FALSE))","v":""},{"$f":"IF(ISBLANK(Rådata!B924)=TRUE,\"\",(Rådata!C924*100)/Rådata!B924)","v":""},{"$f":"IF(ISBLANK(Rådata!D924)=TRUE,\"\",((Rådata!D924-Rådata!E924)*100)/Rådata!D924)","v":""},{"$f":"IF(ISBLANK(Rådata!G924)=TRUE,\"\",(Rådata!F924*100)/Rådata!G924)","v":""},{"$f":"IF(ISBLANK(Rådata!K924),\"\",(SUM(Rådata!M924:P924)*100)/SUM(Rådata!H924:K924))","v":""},{"$f":"IF(ISBLANK(Rådata!H924),\"\",((SUM(Rådata!J924:L924)-SUM(Rådata!O924:P924))*100)/SUM(Rådata!H924:L924))","v":""},{"$f":"IF(ISBLANK(Rådata!R924),\"\",(Rådata!Q924*100)/Rådata!R924)","v":""}]
[{"$f":"IF(ISBLANK(Rådata!A925)=TRUE,\"\",Rådata!A925)","v":""},{"$f":"IF(ISBLANK(Rådata!A925)=TRUE,\"\",YEAR(A925))","v":""},{"$f":"IF(ISBLANK(Rådata!A925)=TRUE,\"\",VLOOKUP(MONTH(A925),Opsætning!$G$3:$H$14,2,FALSE))","v":""},{"$f":"IF(ISBLANK(Rådata!B925)=TRUE,\"\",(Rådata!C925*100)/Rådata!B925)","v":""},{"$f":"IF(ISBLANK(Rådata!D925)=TRUE,\"\",((Rådata!D925-Rådata!E925)*100)/Rådata!D925)","v":""},{"$f":"IF(ISBLANK(Rådata!G925)=TRUE,\"\",(Rådata!F925*100)/Rådata!G925)","v":""},{"$f":"IF(ISBLANK(Rådata!K925),\"\",(SUM(Rådata!M925:P925)*100)/SUM(Rådata!H925:K925))","v":""},{"$f":"IF(ISBLANK(Rådata!H925),\"\",((SUM(Rådata!J925:L925)-SUM(Rådata!O925:P925))*100)/SUM(Rådata!H925:L925))","v":""},{"$f":"IF(ISBLANK(Rådata!R925),\"\",(Rådata!Q925*100)/Rådata!R925)","v":""}]
[{"$f":"IF(ISBLANK(Rådata!A926)=TRUE,\"\",Rådata!A926)","v":""},{"$f":"IF(ISBLANK(Rådata!A926)=TRUE,\"\",YEAR(A926))","v":""},{"$f":"IF(ISBLANK(Rådata!A926)=TRUE,\"\",VLOOKUP(MONTH(A926),Opsætning!$G$3:$H$14,2,FALSE))","v":""},{"$f":"IF(ISBLANK(Rådata!B926)=TRUE,\"\",(Rådata!C926*100)/Rådata!B926)","v":""},{"$f":"IF(ISBLANK(Rådata!D926)=TRUE,\"\",((Rådata!D926-Rådata!E926)*100)/Rådata!D926)","v":""},{"$f":"IF(ISBLANK(Rådata!G926)=TRUE,\"\",(Rådata!F926*100)/Rådata!G926)","v":""},{"$f":"IF(ISBLANK(Rådata!K926),\"\",(SUM(Rådata!M926:P926)*100)/SUM(Rådata!H926:K926))","v":""},{"$f":"IF(ISBLANK(Rådata!H926),\"\",((SUM(Rådata!J926:L926)-SUM(Rådata!O926:P926))*100)/SUM(Rådata!H926:L926))","v":""},{"$f":"IF(ISBLANK(Rådata!R926),\"\",(Rådata!Q926*100)/Rådata!R926)","v":""}]
[{"$f":"IF(ISBLANK(Rådata!A927)=TRUE,\"\",Rådata!A927)","v":""},{"$f":"IF(ISBLANK(Rådata!A927)=TRUE,\"\",YEAR(A927))","v":""},{"$f":"IF(ISBLANK(Rådata!A927)=TRUE,\"\",VLOOKUP(MONTH(A927),Opsætning!$G$3:$H$14,2,FALSE))","v":""},{"$f":"IF(ISBLANK(Rådata!B927)=TRUE,\"\",(Rådata!C927*100)/Rådata!B927)","v":""},{"$f":"IF(ISBLANK(Rådata!D927)=TRUE,\"\",((Rådata!D927-Rådata!E927)*100)/Rådata!D927)","v":""},{"$f":"IF(ISBLANK(Rådata!G927)=TRUE,\"\",(Rådata!F927*100)/Rådata!G927)","v":""},{"$f":"IF(ISBLANK(Rådata!K927),\"\",(SUM(Rådata!M927:P927)*100)/SUM(Rådata!H927:K927))","v":""},{"$f":"IF(ISBLANK(Rådata!H927),\"\",((SUM(Rådata!J927:L927)-SUM(Rådata!O927:P927))*100)/SUM(Rådata!H927:L927))","v":""},{"$f":"IF(ISBLANK(Rådata!R927),\"\",(Rådata!Q927*100)/Rådata!R927)","v":""}]
[{"$f":"IF(ISBLANK(Rådata!A928)=TRUE,\"\",Rådata!A928)","v":""},{"$f":"IF(ISBLANK(Rådata!A928)=TRUE,\"\",YEAR(A928))","v":""},{"$f":"IF(ISBLANK(Rådata!A928)=TRUE,\"\",VLOOKUP(MONTH(A928),Opsætning!$G$3:$H$14,2,FALSE))","v":""},{"$f":"IF(ISBLANK(Rådata!B928)=TRUE,\"\",(Rådata!C928*100)/Rådata!B928)","v":""},{"$f":"IF(ISBLANK(Rådata!D928)=TRUE,\"\",((Rådata!D928-Rådata!E928)*100)/Rådata!D928)","v":""},{"$f":"IF(ISBLANK(Rådata!G928)=TRUE,\"\",(Rådata!F928*100)/Rådata!G928)","v":""},{"$f":"IF(ISBLANK(Rådata!K928),\"\",(SUM(Rådata!M928:P928)*100)/SUM(Rådata!H928:K928))","v":""},{"$f":"IF(ISBLANK(Rådata!H928),\"\",((SUM(Rådata!J928:L928)-SUM(Rådata!O928:P928))*100)/SUM(Rådata!H928:L928))","v":""},{"$f":"IF(ISBLANK(Rådata!R928),\"\",(Rådata!Q928*100)/Rådata!R928)","v":""}]
[{"$f":"IF(ISBLANK(Rådata!A929)=TRUE,\"\",Rådata!A929)","v":""},{"$f":"IF(ISBLANK(Rådata!A929)=TRUE,\"\",YEAR(A929))","v":""},{"$f":"IF(ISBLANK(Rådata!A929)=TRUE,\"\",VLOOKUP(MONTH(A929),Opsætning!$G$3:$H$14,2,FALSE))","v":""},{"$f":"IF(ISBLANK(Rådata!B929)=TRUE,\"\",(Rådata!C929*100)/Rådata!B929)","v":""},{"$f":"IF(ISBLANK(Rådata!D929)=TRUE,\"\",((Rådata!D929-Rådata!E929)*100)/Rådata!D929)","v":""},{"$f":"IF(ISBLANK(Rådata!G929)=TRUE,\"\",(Rådata!F929*100)/Rådata!G929)","v":""},{"$f":"IF(ISBLANK(Rådata!K929),\"\",(SUM(Rådata!M929:P929)*100)/SUM(Rådata!H929:K929))","v":""},{"$f":"IF(ISBLANK(Rådata!H929),\"\",((SUM(Rådata!J929:L929)-SUM(Rådata!O929:P929))*100)/SUM(Rådata!H929:L929))","v":""},{"$f":"IF(ISBLANK(Rådata!R929),\"\",(Rådata!Q929*100)/Rådata!R929)","v":""}]
[{"$f":"IF(ISBLANK(Rådata!A930)=TRUE,\"\",Rådata!A930)","v":""},{"$f":"IF(ISBLANK(Rådata!A930)=TRUE,\"\",YEAR(A930))","v":""},{"$f":"IF(ISBLANK(Rådata!A930)=TRUE,\"\",VLOOKUP(MONTH(A930),Opsætning!$G$3:$H$14,2,FALSE))","v":""},{"$f":"IF(ISBLANK(Rådata!B930)=TRUE,\"\",(Rådata!C930*100)/Rådata!B930)","v":""},{"$f":"IF(ISBLANK(Rådata!D930)=TRUE,\"\",((Rådata!D930-Rådata!E930)*100)/Rådata!D930)","v":""},{"$f":"IF(ISBLANK(Rådata!G930)=TRUE,\"\",(Rådata!F930*100)/Rådata!G930)","v":""},{"$f":"IF(ISBLANK(Rådata!K930),\"\",(SUM(Rådata!M930:P930)*100)/SUM(Rådata!H930:K930))","v":""},{"$f":"IF(ISBLANK(Rådata!H930),\"\",((SUM(Rådata!J930:L930)-SUM(Rådata!O930:P930))*100)/SUM(Rådata!H930:L930))","v":""},{"$f":"IF(ISBLANK(Rådata!R930),\"\",(Rådata!Q930*100)/Rådata!R930)","v":""}]
[{"$f":"IF(ISBLANK(Rådata!A931)=TRUE,\"\",Rådata!A931)","v":""},{"$f":"IF(ISBLANK(Rådata!A931)=TRUE,\"\",YEAR(A931))","v":""},{"$f":"IF(ISBLANK(Rådata!A931)=TRUE,\"\",VLOOKUP(MONTH(A931),Opsætning!$G$3:$H$14,2,FALSE))","v":""},{"$f":"IF(ISBLANK(Rådata!B931)=TRUE,\"\",(Rådata!C931*100)/Rådata!B931)","v":""},{"$f":"IF(ISBLANK(Rådata!D931)=TRUE,\"\",((Rådata!D931-Rådata!E931)*100)/Rådata!D931)","v":""},{"$f":"IF(ISBLANK(Rådata!G931)=TRUE,\"\",(Rådata!F931*100)/Rådata!G931)","v":""},{"$f":"IF(ISBLANK(Rådata!K931),\"\",(SUM(Rådata!M931:P931)*100)/SUM(Rådata!H931:K931))","v":""},{"$f":"IF(ISBLANK(Rådata!H931),\"\",((SUM(Rådata!J931:L931)-SUM(Rådata!O931:P931))*100)/SUM(Rådata!H931:L931))","v":""},{"$f":"IF(ISBLANK(Rådata!R931),\"\",(Rådata!Q931*100)/Rådata!R931)","v":""}]
[{"$f":"IF(ISBLANK(Rådata!A932)=TRUE,\"\",Rådata!A932)","v":""},{"$f":"IF(ISBLANK(Rådata!A932)=TRUE,\"\",YEAR(A932))","v":""},{"$f":"IF(ISBLANK(Rådata!A932)=TRUE,\"\",VLOOKUP(MONTH(A932),Opsætning!$G$3:$H$14,2,FALSE))","v":""},{"$f":"IF(ISBLANK(Rådata!B932)=TRUE,\"\",(Rådata!C932*100)/Rådata!B932)","v":""},{"$f":"IF(ISBLANK(Rådata!D932)=TRUE,\"\",((Rådata!D932-Rådata!E932)*100)/Rådata!D932)","v":""},{"$f":"IF(ISBLANK(Rådata!G932)=TRUE,\"\",(Rådata!F932*100)/Rådata!G932)","v":""},{"$f":"IF(ISBLANK(Rådata!K932),\"\",(SUM(Rådata!M932:P932)*100)/SUM(Rådata!H932:K932))","v":""},{"$f":"IF(ISBLANK(Rådata!H932),\"\",((SUM(Rådata!J932:L932)-SUM(Rådata!O932:P932))*100)/SUM(Rådata!H932:L932))","v":""},{"$f":"IF(ISBLANK(Rådata!R932),\"\",(Rådata!Q932*100)/Rådata!R932)","v":""}]
[{"$f":"IF(ISBLANK(Rådata!A933)=TRUE,\"\",Rådata!A933)","v":""},{"$f":"IF(ISBLANK(Rådata!A933)=TRUE,\"\",YEAR(A933))","v":""},{"$f":"IF(ISBLANK(Rådata!A933)=TRUE,\"\",VLOOKUP(MONTH(A933),Opsætning!$G$3:$H$14,2,FALSE))","v":""},{"$f":"IF(ISBLANK(Rådata!B933)=TRUE,\"\",(Rådata!C933*100)/Rådata!B933)","v":""},{"$f":"IF(ISBLANK(Rådata!D933)=TRUE,\"\",((Rådata!D933-Rådata!E933)*100)/Rådata!D933)","v":""},{"$f":"IF(ISBLANK(Rådata!G933)=TRUE,\"\",(Rådata!F933*100)/Rådata!G933)","v":""},{"$f":"IF(ISBLANK(Rådata!K933),\"\",(SUM(Rådata!M933:P933)*100)/SUM(Rådata!H933:K933))","v":""},{"$f":"IF(ISBLANK(Rådata!H933),\"\",((SUM(Rådata!J933:L933)-SUM(Rådata!O933:P933))*100)/SUM(Rådata!H933:L933))","v":""},{"$f":"IF(ISBLANK(Rådata!R933),\"\",(Rådata!Q933*100)/Rådata!R933)","v":""}]
[{"$f":"IF(ISBLANK(Rådata!A934)=TRUE,\"\",Rådata!A934)","v":""},{"$f":"IF(ISBLANK(Rådata!A934)=TRUE,\"\",YEAR(A934))","v":""},{"$f":"IF(ISBLANK(Rådata!A934)=TRUE,\"\",VLOOKUP(MONTH(A934),Opsætning!$G$3:$H$14,2,FALSE))","v":""},{"$f":"IF(ISBLANK(Rådata!B934)=TRUE,\"\",(Rådata!C934*100)/Rådata!B934)","v":""},{"$f":"IF(ISBLANK(Rådata!D934)=TRUE,\"\",((Rådata!D934-Rådata!E934)*100)/Rådata!D934)","v":""},{"$f":"IF(ISBLANK(Rådata!G934)=TRUE,\"\",(Rådata!F934*100)/Rådata!G934)","v":""},{"$f":"IF(ISBLANK(Rådata!K934),\"\",(SUM(Rådata!M934:P934)*100)/SUM(Rådata!H934:K934))","v":""},{"$f":"IF(ISBLANK(Rådata!H934),\"\",((SUM(Rådata!J934:L934)-SUM(Rådata!O934:P934))*100)/SUM(Rådata!H934:L934))","v":""},{"$f":"IF(ISBLANK(Rådata!R934),\"\",(Rådata!Q934*100)/Rådata!R934)","v":""}]
[{"$f":"IF(ISBLANK(Rådata!A935)=TRUE,\"\",Rådata!A935)","v":""},{"$f":"IF(ISBLANK(Rådata!A935)=TRUE,\"\",YEAR(A935))","v":""},{"$f":"IF(ISBLANK(Rådata!A935)=TRUE,\"\",VLOOKUP(MONTH(A935),Opsætning!$G$3:$H$14,2,FALSE))","v":""},{"$f":"IF(ISBLANK(Rådata!B935)=TRUE,\"\",(Rådata!C935*100)/Rådata!B935)","v":""},{"$f":"IF(ISBLANK(Rådata!D935)=TRUE,\"\",((Rådata!D935-Rådata!E935)*100)/Rådata!D935)","v":""},{"$f":"IF(ISBLANK(Rådata!G935)=TRUE,\"\",(Rådata!F935*100)/Rådata!G935)","v":""},{"$f":"IF(ISBLANK(Rådata!K935),\"\",(SUM(Rådata!M935:P935)*100)/SUM(Rådata!H935:K935))","v":""},{"$f":"IF(ISBLANK(Rådata!H935),\"\",((SUM(Rådata!J935:L935)-SUM(Rådata!O935:P935))*100)/SUM(Rådata!H935:L935))","v":""},{"$f":"IF(ISBLANK(Rådata!R935),\"\",(Rådata!Q935*100)/Rådata!R935)","v":""}]
[{"$f":"IF(ISBLANK(Rådata!A936)=TRUE,\"\",Rådata!A936)","v":""},{"$f":"IF(ISBLANK(Rådata!A936)=TRUE,\"\",YEAR(A936))","v":""},{"$f":"IF(ISBLANK(Rådata!A936)=TRUE,\"\",VLOOKUP(MONTH(A936),Opsætning!$G$3:$H$14,2,FALSE))","v":""},{"$f":"IF(ISBLANK(Rådata!B936)=TRUE,\"\",(Rådata!C936*100)/Rådata!B936)","v":""},{"$f":"IF(ISBLANK(Rådata!D936)=TRUE,\"\",((Rådata!D936-Rådata!E936)*100)/Rådata!D936)","v":""},{"$f":"IF(ISBLANK(Rådata!G936)=TRUE,\"\",(Rådata!F936*100)/Rådata!G936)","v":""},{"$f":"IF(ISBLANK(Rådata!K936),\"\",(SUM(Rådata!M936:P936)*100)/SUM(Rådata!H936:K936))","v":""},{"$f":"IF(ISBLANK(Rådata!H936),\"\",((SUM(Rådata!J936:L936)-SUM(Rådata!O936:P936))*100)/SUM(Rådata!H936:L936))","v":""},{"$f":"IF(ISBLANK(Rådata!R936),\"\",(Rådata!Q936*100)/Rådata!R936)","v":""}]
[{"$f":"IF(ISBLANK(Rådata!A937)=TRUE,\"\",Rådata!A937)","v":""},{"$f":"IF(ISBLANK(Rådata!A937)=TRUE,\"\",YEAR(A937))","v":""},{"$f":"IF(ISBLANK(Rådata!A937)=TRUE,\"\",VLOOKUP(MONTH(A937),Opsætning!$G$3:$H$14,2,FALSE))","v":""},{"$f":"IF(ISBLANK(Rådata!B937)=TRUE,\"\",(Rådata!C937*100)/Rådata!B937)","v":""},{"$f":"IF(ISBLANK(Rådata!D937)=TRUE,\"\",((Rådata!D937-Rådata!E937)*100)/Rådata!D937)","v":""},{"$f":"IF(ISBLANK(Rådata!G937)=TRUE,\"\",(Rådata!F937*100)/Rådata!G937)","v":""},{"$f":"IF(ISBLANK(Rådata!K937),\"\",(SUM(Rådata!M937:P937)*100)/SUM(Rådata!H937:K937))","v":""},{"$f":"IF(ISBLANK(Rådata!H937),\"\",((SUM(Rådata!J937:L937)-SUM(Rådata!O937:P937))*100)/SUM(Rådata!H937:L937))","v":""},{"$f":"IF(ISBLANK(Rådata!R937),\"\",(Rådata!Q937*100)/Rådata!R937)","v":""}]
[{"$f":"IF(ISBLANK(Rådata!A938)=TRUE,\"\",Rådata!A938)","v":""},{"$f":"IF(ISBLANK(Rådata!A938)=TRUE,\"\",YEAR(A938))","v":""},{"$f":"IF(ISBLANK(Rådata!A938)=TRUE,\"\",VLOOKUP(MONTH(A938),Opsætning!$G$3:$H$14,2,FALSE))","v":""},{"$f":"IF(ISBLANK(Rådata!B938)=TRUE,\"\",(Rådata!C938*100)/Rådata!B938)","v":""},{"$f":"IF(ISBLANK(Rådata!D938)=TRUE,\"\",((Rådata!D938-Rådata!E938)*100)/Rådata!D938)","v":""},{"$f":"IF(ISBLANK(Rådata!G938)=TRUE,\"\",(Rådata!F938*100)/Rådata!G938)","v":""},{"$f":"IF(ISBLANK(Rådata!K938),\"\",(SUM(Rådata!M938:P938)*100)/SUM(Rådata!H938:K938))","v":""},{"$f":"IF(ISBLANK(Rådata!H938),\"\",((SUM(Rådata!J938:L938)-SUM(Rådata!O938:P938))*100)/SUM(Rådata!H938:L938))","v":""},{"$f":"IF(ISBLANK(Rådata!R938),\"\",(Rådata!Q938*100)/Rådata!R938)","v":""}]
[{"$f":"IF(ISBLANK(Rådata!A939)=TRUE,\"\",Rådata!A939)","v":""},{"$f":"IF(ISBLANK(Rådata!A939)=TRUE,\"\",YEAR(A939))","v":""},{"$f":"IF(ISBLANK(Rådata!A939)=TRUE,\"\",VLOOKUP(MONTH(A939),Opsætning!$G$3:$H$14,2,FALSE))","v":""},{"$f":"IF(ISBLANK(Rådata!B939)=TRUE,\"\",(Rådata!C939*100)/Rådata!B939)","v":""},{"$f":"IF(ISBLANK(Rådata!D939)=TRUE,\"\",((Rådata!D939-Rådata!E939)*100)/Rådata!D939)","v":""},{"$f":"IF(ISBLANK(Rådata!G939)=TRUE,\"\",(Rådata!F939*100)/Rådata!G939)","v":""},{"$f":"IF(ISBLANK(Rådata!K939),\"\",(SUM(Rådata!M939:P939)*100)/SUM(Rådata!H939:K939))","v":""},{"$f":"IF(ISBLANK(Rådata!H939),\"\",((SUM(Rådata!J939:L939)-SUM(Rådata!O939:P939))*100)/SUM(Rådata!H939:L939))","v":""},{"$f":"IF(ISBLANK(Rådata!R939),\"\",(Rådata!Q939*100)/Rådata!R939)","v":""}]
[{"$f":"IF(ISBLANK(Rådata!A940)=TRUE,\"\",Rådata!A940)","v":""},{"$f":"IF(ISBLANK(Rådata!A940)=TRUE,\"\",YEAR(A940))","v":""},{"$f":"IF(ISBLANK(Rådata!A940)=TRUE,\"\",VLOOKUP(MONTH(A940),Opsætning!$G$3:$H$14,2,FALSE))","v":""},{"$f":"IF(ISBLANK(Rådata!B940)=TRUE,\"\",(Rådata!C940*100)/Rådata!B940)","v":""},{"$f":"IF(ISBLANK(Rådata!D940)=TRUE,\"\",((Rådata!D940-Rådata!E940)*100)/Rådata!D940)","v":""},{"$f":"IF(ISBLANK(Rådata!G940)=TRUE,\"\",(Rådata!F940*100)/Rådata!G940)","v":""},{"$f":"IF(ISBLANK(Rådata!K940),\"\",(SUM(Rådata!M940:P940)*100)/SUM(Rådata!H940:K940))","v":""},{"$f":"IF(ISBLANK(Rådata!H940),\"\",((SUM(Rådata!J940:L940)-SUM(Rådata!O940:P940))*100)/SUM(Rådata!H940:L940))","v":""},{"$f":"IF(ISBLANK(Rådata!R940),\"\",(Rådata!Q940*100)/Rådata!R940)","v":""}]
[{"$f":"IF(ISBLANK(Rådata!A941)=TRUE,\"\",Rådata!A941)","v":""},{"$f":"IF(ISBLANK(Rådata!A941)=TRUE,\"\",YEAR(A941))","v":""},{"$f":"IF(ISBLANK(Rådata!A941)=TRUE,\"\",VLOOKUP(MONTH(A941),Opsætning!$G$3:$H$14,2,FALSE))","v":""},{"$f":"IF(ISBLANK(Rådata!B941)=TRUE,\"\",(Rådata!C941*100)/Rådata!B941)","v":""},{"$f":"IF(ISBLANK(Rådata!D941)=TRUE,\"\",((Rådata!D941-Rådata!E941)*100)/Rådata!D941)","v":""},{"$f":"IF(ISBLANK(Rådata!G941)=TRUE,\"\",(Rådata!F941*100)/Rådata!G941)","v":""},{"$f":"IF(ISBLANK(Rådata!K941),\"\",(SUM(Rådata!M941:P941)*100)/SUM(Rådata!H941:K941))","v":""},{"$f":"IF(ISBLANK(Rådata!H941),\"\",((SUM(Rådata!J941:L941)-SUM(Rådata!O941:P941))*100)/SUM(Rådata!H941:L941))","v":""},{"$f":"IF(ISBLANK(Rådata!R941),\"\",(Rådata!Q941*100)/Rådata!R941)","v":""}]
[{"$f":"IF(ISBLANK(Rådata!A942)=TRUE,\"\",Rådata!A942)","v":""},{"$f":"IF(ISBLANK(Rådata!A942)=TRUE,\"\",YEAR(A942))","v":""},{"$f":"IF(ISBLANK(Rådata!A942)=TRUE,\"\",VLOOKUP(MONTH(A942),Opsætning!$G$3:$H$14,2,FALSE))","v":""},{"$f":"IF(ISBLANK(Rådata!B942)=TRUE,\"\",(Rådata!C942*100)/Rådata!B942)","v":""},{"$f":"IF(ISBLANK(Rådata!D942)=TRUE,\"\",((Rådata!D942-Rådata!E942)*100)/Rådata!D942)","v":""},{"$f":"IF(ISBLANK(Rådata!G942)=TRUE,\"\",(Rådata!F942*100)/Rådata!G942)","v":""},{"$f":"IF(ISBLANK(Rådata!K942),\"\",(SUM(Rådata!M942:P942)*100)/SUM(Rådata!H942:K942))","v":""},{"$f":"IF(ISBLANK(Rådata!H942),\"\",((SUM(Rådata!J942:L942)-SUM(Rådata!O942:P942))*100)/SUM(Rådata!H942:L942))","v":""},{"$f":"IF(ISBLANK(Rådata!R942),\"\",(Rådata!Q942*100)/Rådata!R942)","v":""}]
[{"$f":"IF(ISBLANK(Rådata!A943)=TRUE,\"\",Rådata!A943)","v":""},{"$f":"IF(ISBLANK(Rådata!A943)=TRUE,\"\",YEAR(A943))","v":""},{"$f":"IF(ISBLANK(Rådata!A943)=TRUE,\"\",VLOOKUP(MONTH(A943),Opsætning!$G$3:$H$14,2,FALSE))","v":""},{"$f":"IF(ISBLANK(Rådata!B943)=TRUE,\"\",(Rådata!C943*100)/Rådata!B943)","v":""},{"$f":"IF(ISBLANK(Rådata!D943)=TRUE,\"\",((Rådata!D943-Rådata!E943)*100)/Rådata!D943)","v":""},{"$f":"IF(ISBLANK(Rådata!G943)=TRUE,\"\",(Rådata!F943*100)/Rådata!G943)","v":""},{"$f":"IF(ISBLANK(Rådata!K943),\"\",(SUM(Rådata!M943:P943)*100)/SUM(Rådata!H943:K943))","v":""},{"$f":"IF(ISBLANK(Rådata!H943),\"\",((SUM(Rådata!J943:L943)-SUM(Rådata!O943:P943))*100)/SUM(Rådata!H943:L943))","v":""},{"$f":"IF(ISBLANK(Rådata!R943),\"\",(Rådata!Q943*100)/Rådata!R943)","v":""}]
[{"$f":"IF(ISBLANK(Rådata!A944)=TRUE,\"\",Rådata!A944)","v":""},{"$f":"IF(ISBLANK(Rådata!A944)=TRUE,\"\",YEAR(A944))","v":""},{"$f":"IF(ISBLANK(Rådata!A944)=TRUE,\"\",VLOOKUP(MONTH(A944),Opsætning!$G$3:$H$14,2,FALSE))","v":""},{"$f":"IF(ISBLANK(Rådata!B944)=TRUE,\"\",(Rådata!C944*100)/Rådata!B944)","v":""},{"$f":"IF(ISBLANK(Rådata!D944)=TRUE,\"\",((Rådata!D944-Rådata!E944)*100)/Rådata!D944)","v":""},{"$f":"IF(ISBLANK(Rådata!G944)=TRUE,\"\",(Rådata!F944*100)/Rådata!G944)","v":""},{"$f":"IF(ISBLANK(Rådata!K944),\"\",(SUM(Rådata!M944:P944)*100)/SUM(Rådata!H944:K944))","v":""},{"$f":"IF(ISBLANK(Rådata!H944),\"\",((SUM(Rådata!J944:L944)-SUM(Rådata!O944:P944))*100)/SUM(Rådata!H944:L944))","v":""},{"$f":"IF(ISBLANK(Rådata!R944),\"\",(Rådata!Q944*100)/Rådata!R944)","v":""}]
[{"$f":"IF(ISBLANK(Rådata!A945)=TRUE,\"\",Rådata!A945)","v":""},{"$f":"IF(ISBLANK(Rådata!A945)=TRUE,\"\",YEAR(A945))","v":""},{"$f":"IF(ISBLANK(Rådata!A945)=TRUE,\"\",VLOOKUP(MONTH(A945),Opsætning!$G$3:$H$14,2,FALSE))","v":""},{"$f":"IF(ISBLANK(Rådata!B945)=TRUE,\"\",(Rådata!C945*100)/Rådata!B945)","v":""},{"$f":"IF(ISBLANK(Rådata!D945)=TRUE,\"\",((Rådata!D945-Rådata!E945)*100)/Rådata!D945)","v":""},{"$f":"IF(ISBLANK(Rådata!G945)=TRUE,\"\",(Rådata!F945*100)/Rådata!G945)","v":""},{"$f":"IF(ISBLANK(Rådata!K945),\"\",(SUM(Rådata!M945:P945)*100)/SUM(Rådata!H945:K945))","v":""},{"$f":"IF(ISBLANK(Rådata!H945),\"\",((SUM(Rådata!J945:L945)-SUM(Rådata!O945:P945))*100)/SUM(Rådata!H945:L945))","v":""},{"$f":"IF(ISBLANK(Rådata!R945),\"\",(Rådata!Q945*100)/Rådata!R945)","v":""}]
[{"$f":"IF(ISBLANK(Rådata!A946)=TRUE,\"\",Rådata!A946)","v":""},{"$f":"IF(ISBLANK(Rådata!A946)=TRUE,\"\",YEAR(A946))","v":""},{"$f":"IF(ISBLANK(Rådata!A946)=TRUE,\"\",VLOOKUP(MONTH(A946),Opsætning!$G$3:$H$14,2,FALSE))","v":""},{"$f":"IF(ISBLANK(Rådata!B946)=TRUE,\"\",(Rådata!C946*100)/Rådata!B946)","v":""},{"$f":"IF(ISBLANK(Rådata!D946)=TRUE,\"\",((Rådata!D946-Rådata!E946)*100)/Rådata!D946)","v":""},{"$f":"IF(ISBLANK(Rådata!G946)=TRUE,\"\",(Rådata!F946*100)/Rådata!G946)","v":""},{"$f":"IF(ISBLANK(Rådata!K946),\"\",(SUM(Rådata!M946:P946)*100)/SUM(Rådata!H946:K946))","v":""},{"$f":"IF(ISBLANK(Rådata!H946),\"\",((SUM(Rådata!J946:L946)-SUM(Rådata!O946:P946))*100)/SUM(Rådata!H946:L946))","v":""},{"$f":"IF(ISBLANK(Rådata!R946),\"\",(Rådata!Q946*100)/Rådata!R946)","v":""}]
[{"$f":"IF(ISBLANK(Rådata!A947)=TRUE,\"\",Rådata!A947)","v":""},{"$f":"IF(ISBLANK(Rådata!A947)=TRUE,\"\",YEAR(A947))","v":""},{"$f":"IF(ISBLANK(Rådata!A947)=TRUE,\"\",VLOOKUP(MONTH(A947),Opsætning!$G$3:$H$14,2,FALSE))","v":""},{"$f":"IF(ISBLANK(Rådata!B947)=TRUE,\"\",(Rådata!C947*100)/Rådata!B947)","v":""},{"$f":"IF(ISBLANK(Rådata!D947)=TRUE,\"\",((Rådata!D947-Rådata!E947)*100)/Rådata!D947)","v":""},{"$f":"IF(ISBLANK(Rådata!G947)=TRUE,\"\",(Rådata!F947*100)/Rådata!G947)","v":""},{"$f":"IF(ISBLANK(Rådata!K947),\"\",(SUM(Rådata!M947:P947)*100)/SUM(Rådata!H947:K947))","v":""},{"$f":"IF(ISBLANK(Rådata!H947),\"\",((SUM(Rådata!J947:L947)-SUM(Rådata!O947:P947))*100)/SUM(Rådata!H947:L947))","v":""},{"$f":"IF(ISBLANK(Rådata!R947),\"\",(Rådata!Q947*100)/Rådata!R947)","v":""}]
[{"$f":"IF(ISBLANK(Rådata!A948)=TRUE,\"\",Rådata!A948)","v":""},{"$f":"IF(ISBLANK(Rådata!A948)=TRUE,\"\",YEAR(A948))","v":""},{"$f":"IF(ISBLANK(Rådata!A948)=TRUE,\"\",VLOOKUP(MONTH(A948),Opsætning!$G$3:$H$14,2,FALSE))","v":""},{"$f":"IF(ISBLANK(Rådata!B948)=TRUE,\"\",(Rådata!C948*100)/Rådata!B948)","v":""},{"$f":"IF(ISBLANK(Rådata!D948)=TRUE,\"\",((Rådata!D948-Rådata!E948)*100)/Rådata!D948)","v":""},{"$f":"IF(ISBLANK(Rådata!G948)=TRUE,\"\",(Rådata!F948*100)/Rådata!G948)","v":""},{"$f":"IF(ISBLANK(Rådata!K948),\"\",(SUM(Rådata!M948:P948)*100)/SUM(Rådata!H948:K948))","v":""},{"$f":"IF(ISBLANK(Rådata!H948),\"\",((SUM(Rådata!J948:L948)-SUM(Rådata!O948:P948))*100)/SUM(Rådata!H948:L948))","v":""},{"$f":"IF(ISBLANK(Rådata!R948),\"\",(Rådata!Q948*100)/Rådata!R948)","v":""}]
[{"$f":"IF(ISBLANK(Rådata!A949)=TRUE,\"\",Rådata!A949)","v":""},{"$f":"IF(ISBLANK(Rådata!A949)=TRUE,\"\",YEAR(A949))","v":""},{"$f":"IF(ISBLANK(Rådata!A949)=TRUE,\"\",VLOOKUP(MONTH(A949),Opsætning!$G$3:$H$14,2,FALSE))","v":""},{"$f":"IF(ISBLANK(Rådata!B949)=TRUE,\"\",(Rådata!C949*100)/Rådata!B949)","v":""},{"$f":"IF(ISBLANK(Rådata!D949)=TRUE,\"\",((Rådata!D949-Rådata!E949)*100)/Rådata!D949)","v":""},{"$f":"IF(ISBLANK(Rådata!G949)=TRUE,\"\",(Rådata!F949*100)/Rådata!G949)","v":""},{"$f":"IF(ISBLANK(Rådata!K949),\"\",(SUM(Rådata!M949:P949)*100)/SUM(Rådata!H949:K949))","v":""},{"$f":"IF(ISBLANK(Rådata!H949),\"\",((SUM(Rådata!J949:L949)-SUM(Rådata!O949:P949))*100)/SUM(Rådata!H949:L949))","v":""},{"$f":"IF(ISBLANK(Rådata!R949),\"\",(Rådata!Q949*100)/Rådata!R949)","v":""}]
[{"$f":"IF(ISBLANK(Rådata!A950)=TRUE,\"\",Rådata!A950)","v":""},{"$f":"IF(ISBLANK(Rådata!A950)=TRUE,\"\",YEAR(A950))","v":""},{"$f":"IF(ISBLANK(Rådata!A950)=TRUE,\"\",VLOOKUP(MONTH(A950),Opsætning!$G$3:$H$14,2,FALSE))","v":""},{"$f":"IF(ISBLANK(Rådata!B950)=TRUE,\"\",(Rådata!C950*100)/Rådata!B950)","v":""},{"$f":"IF(ISBLANK(Rådata!D950)=TRUE,\"\",((Rådata!D950-Rådata!E950)*100)/Rådata!D950)","v":""},{"$f":"IF(ISBLANK(Rådata!G950)=TRUE,\"\",(Rådata!F950*100)/Rådata!G950)","v":""},{"$f":"IF(ISBLANK(Rådata!K950),\"\",(SUM(Rådata!M950:P950)*100)/SUM(Rådata!H950:K950))","v":""},{"$f":"IF(ISBLANK(Rådata!H950),\"\",((SUM(Rådata!J950:L950)-SUM(Rådata!O950:P950))*100)/SUM(Rådata!H950:L950))","v":""},{"$f":"IF(ISBLANK(Rådata!R950),\"\",(Rådata!Q950*100)/Rådata!R950)","v":""}]
[{"$f":"IF(ISBLANK(Rådata!A951)=TRUE,\"\",Rådata!A951)","v":""},{"$f":"IF(ISBLANK(Rådata!A951)=TRUE,\"\",YEAR(A951))","v":""},{"$f":"IF(ISBLANK(Rådata!A951)=TRUE,\"\",VLOOKUP(MONTH(A951),Opsætning!$G$3:$H$14,2,FALSE))","v":""},{"$f":"IF(ISBLANK(Rådata!B951)=TRUE,\"\",(Rådata!C951*100)/Rådata!B951)","v":""},{"$f":"IF(ISBLANK(Rådata!D951)=TRUE,\"\",((Rådata!D951-Rådata!E951)*100)/Rådata!D951)","v":""},{"$f":"IF(ISBLANK(Rådata!G951)=TRUE,\"\",(Rådata!F951*100)/Rådata!G951)","v":""},{"$f":"IF(ISBLANK(Rådata!K951),\"\",(SUM(Rådata!M951:P951)*100)/SUM(Rådata!H951:K951))","v":""},{"$f":"IF(ISBLANK(Rådata!H951),\"\",((SUM(Rådata!J951:L951)-SUM(Rådata!O951:P951))*100)/SUM(Rådata!H951:L951))","v":""},{"$f":"IF(ISBLANK(Rådata!R951),\"\",(Rådata!Q951*100)/Rådata!R951)","v":""}]
[{"$f":"IF(ISBLANK(Rådata!A952)=TRUE,\"\",Rådata!A952)","v":""},{"$f":"IF(ISBLANK(Rådata!A952)=TRUE,\"\",YEAR(A952))","v":""},{"$f":"IF(ISBLANK(Rådata!A952)=TRUE,\"\",VLOOKUP(MONTH(A952),Opsætning!$G$3:$H$14,2,FALSE))","v":""},{"$f":"IF(ISBLANK(Rådata!B952)=TRUE,\"\",(Rådata!C952*100)/Rådata!B952)","v":""},{"$f":"IF(ISBLANK(Rådata!D952)=TRUE,\"\",((Rådata!D952-Rådata!E952)*100)/Rådata!D952)","v":""},{"$f":"IF(ISBLANK(Rådata!G952)=TRUE,\"\",(Rådata!F952*100)/Rådata!G952)","v":""},{"$f":"IF(ISBLANK(Rådata!K952),\"\",(SUM(Rådata!M952:P952)*100)/SUM(Rådata!H952:K952))","v":""},{"$f":"IF(ISBLANK(Rådata!H952),\"\",((SUM(Rådata!J952:L952)-SUM(Rådata!O952:P952))*100)/SUM(Rådata!H952:L952))","v":""},{"$f":"IF(ISBLANK(Rådata!R952),\"\",(Rådata!Q952*100)/Rådata!R952)","v":""}]
[{"$f":"IF(ISBLANK(Rådata!A953)=TRUE,\"\",Rådata!A953)","v":""},{"$f":"IF(ISBLANK(Rådata!A953)=TRUE,\"\",YEAR(A953))","v":""},{"$f":"IF(ISBLANK(Rådata!A953)=TRUE,\"\",VLOOKUP(MONTH(A953),Opsætning!$G$3:$H$14,2,FALSE))","v":""},{"$f":"IF(ISBLANK(Rådata!B953)=TRUE,\"\",(Rådata!C953*100)/Rådata!B953)","v":""},{"$f":"IF(ISBLANK(Rådata!D953)=TRUE,\"\",((Rådata!D953-Rådata!E953)*100)/Rådata!D953)","v":""},{"$f":"IF(ISBLANK(Rådata!G953)=TRUE,\"\",(Rådata!F953*100)/Rådata!G953)","v":""},{"$f":"IF(ISBLANK(Rådata!K953),\"\",(SUM(Rådata!M953:P953)*100)/SUM(Rådata!H953:K953))","v":""},{"$f":"IF(ISBLANK(Rådata!H953),\"\",((SUM(Rådata!J953:L953)-SUM(Rådata!O953:P953))*100)/SUM(Rådata!H953:L953))","v":""},{"$f":"IF(ISBLANK(Rådata!R953),\"\",(Rådata!Q953*100)/Rådata!R953)","v":""}]
[{"$f":"IF(ISBLANK(Rådata!A954)=TRUE,\"\",Rådata!A954)","v":""},{"$f":"IF(ISBLANK(Rådata!A954)=TRUE,\"\",YEAR(A954))","v":""},{"$f":"IF(ISBLANK(Rådata!A954)=TRUE,\"\",VLOOKUP(MONTH(A954),Opsætning!$G$3:$H$14,2,FALSE))","v":""},{"$f":"IF(ISBLANK(Rådata!B954)=TRUE,\"\",(Rådata!C954*100)/Rådata!B954)","v":""},{"$f":"IF(ISBLANK(Rådata!D954)=TRUE,\"\",((Rådata!D954-Rådata!E954)*100)/Rådata!D954)","v":""},{"$f":"IF(ISBLANK(Rådata!G954)=TRUE,\"\",(Rådata!F954*100)/Rådata!G954)","v":""},{"$f":"IF(ISBLANK(Rådata!K954),\"\",(SUM(Rådata!M954:P954)*100)/SUM(Rådata!H954:K954))","v":""},{"$f":"IF(ISBLANK(Rådata!H954),\"\",((SUM(Rådata!J954:L954)-SUM(Rådata!O954:P954))*100)/SUM(Rådata!H954:L954))","v":""},{"$f":"IF(ISBLANK(Rådata!R954),\"\",(Rådata!Q954*100)/Rådata!R954)","v":""}]
[{"$f":"IF(ISBLANK(Rådata!A955)=TRUE,\"\",Rådata!A955)","v":""},{"$f":"IF(ISBLANK(Rådata!A955)=TRUE,\"\",YEAR(A955))","v":""},{"$f":"IF(ISBLANK(Rådata!A955)=TRUE,\"\",VLOOKUP(MONTH(A955),Opsætning!$G$3:$H$14,2,FALSE))","v":""},{"$f":"IF(ISBLANK(Rådata!B955)=TRUE,\"\",(Rådata!C955*100)/Rådata!B955)","v":""},{"$f":"IF(ISBLANK(Rådata!D955)=TRUE,\"\",((Rådata!D955-Rådata!E955)*100)/Rådata!D955)","v":""},{"$f":"IF(ISBLANK(Rådata!G955)=TRUE,\"\",(Rådata!F955*100)/Rådata!G955)","v":""},{"$f":"IF(ISBLANK(Rådata!K955),\"\",(SUM(Rådata!M955:P955)*100)/SUM(Rådata!H955:K955))","v":""},{"$f":"IF(ISBLANK(Rådata!H955),\"\",((SUM(Rådata!J955:L955)-SUM(Rådata!O955:P955))*100)/SUM(Rådata!H955:L955))","v":""},{"$f":"IF(ISBLANK(Rådata!R955),\"\",(Rådata!Q955*100)/Rådata!R955)","v":""}]
[{"$f":"IF(ISBLANK(Rådata!A956)=TRUE,\"\",Rådata!A956)","v":""},{"$f":"IF(ISBLANK(Rådata!A956)=TRUE,\"\",YEAR(A956))","v":""},{"$f":"IF(ISBLANK(Rådata!A956)=TRUE,\"\",VLOOKUP(MONTH(A956),Opsætning!$G$3:$H$14,2,FALSE))","v":""},{"$f":"IF(ISBLANK(Rådata!B956)=TRUE,\"\",(Rådata!C956*100)/Rådata!B956)","v":""},{"$f":"IF(ISBLANK(Rådata!D956)=TRUE,\"\",((Rådata!D956-Rådata!E956)*100)/Rådata!D956)","v":""},{"$f":"IF(ISBLANK(Rådata!G956)=TRUE,\"\",(Rådata!F956*100)/Rådata!G956)","v":""},{"$f":"IF(ISBLANK(Rådata!K956),\"\",(SUM(Rådata!M956:P956)*100)/SUM(Rådata!H956:K956))","v":""},{"$f":"IF(ISBLANK(Rådata!H956),\"\",((SUM(Rådata!J956:L956)-SUM(Rådata!O956:P956))*100)/SUM(Rådata!H956:L956))","v":""},{"$f":"IF(ISBLANK(Rådata!R956),\"\",(Rådata!Q956*100)/Rådata!R956)","v":""}]
[{"$f":"IF(ISBLANK(Rådata!A957)=TRUE,\"\",Rådata!A957)","v":""},{"$f":"IF(ISBLANK(Rådata!A957)=TRUE,\"\",YEAR(A957))","v":""},{"$f":"IF(ISBLANK(Rådata!A957)=TRUE,\"\",VLOOKUP(MONTH(A957),Opsætning!$G$3:$H$14,2,FALSE))","v":""},{"$f":"IF(ISBLANK(Rådata!B957)=TRUE,\"\",(Rådata!C957*100)/Rådata!B957)","v":""},{"$f":"IF(ISBLANK(Rådata!D957)=TRUE,\"\",((Rådata!D957-Rådata!E957)*100)/Rådata!D957)","v":""},{"$f":"IF(ISBLANK(Rådata!G957)=TRUE,\"\",(Rådata!F957*100)/Rådata!G957)","v":""},{"$f":"IF(ISBLANK(Rådata!K957),\"\",(SUM(Rådata!M957:P957)*100)/SUM(Rådata!H957:K957))","v":""},{"$f":"IF(ISBLANK(Rådata!H957),\"\",((SUM(Rådata!J957:L957)-SUM(Rådata!O957:P957))*100)/SUM(Rådata!H957:L957))","v":""},{"$f":"IF(ISBLANK(Rådata!R957),\"\",(Rådata!Q957*100)/Rådata!R957)","v":""}]
[{"$f":"IF(ISBLANK(Rådata!A958)=TRUE,\"\",Rådata!A958)","v":""},{"$f":"IF(ISBLANK(Rådata!A958)=TRUE,\"\",YEAR(A958))","v":""},{"$f":"IF(ISBLANK(Rådata!A958)=TRUE,\"\",VLOOKUP(MONTH(A958),Opsætning!$G$3:$H$14,2,FALSE))","v":""},{"$f":"IF(ISBLANK(Rådata!B958)=TRUE,\"\",(Rådata!C958*100)/Rådata!B958)","v":""},{"$f":"IF(ISBLANK(Rådata!D958)=TRUE,\"\",((Rådata!D958-Rådata!E958)*100)/Rådata!D958)","v":""},{"$f":"IF(ISBLANK(Rådata!G958)=TRUE,\"\",(Rådata!F958*100)/Rådata!G958)","v":""},{"$f":"IF(ISBLANK(Rådata!K958),\"\",(SUM(Rådata!M958:P958)*100)/SUM(Rådata!H958:K958))","v":""},{"$f":"IF(ISBLANK(Rådata!H958),\"\",((SUM(Rådata!J958:L958)-SUM(Rådata!O958:P958))*100)/SUM(Rådata!H958:L958))","v":""},{"$f":"IF(ISBLANK(Rådata!R958),\"\",(Rådata!Q958*100)/Rådata!R958)","v":""}]
[{"$f":"IF(ISBLANK(Rådata!A959)=TRUE,\"\",Rådata!A959)","v":""},{"$f":"IF(ISBLANK(Rådata!A959)=TRUE,\"\",YEAR(A959))","v":""},{"$f":"IF(ISBLANK(Rådata!A959)=TRUE,\"\",VLOOKUP(MONTH(A959),Opsætning!$G$3:$H$14,2,FALSE))","v":""},{"$f":"IF(ISBLANK(Rådata!B959)=TRUE,\"\",(Rådata!C959*100)/Rådata!B959)","v":""},{"$f":"IF(ISBLANK(Rådata!D959)=TRUE,\"\",((Rådata!D959-Rådata!E959)*100)/Rådata!D959)","v":""},{"$f":"IF(ISBLANK(Rådata!G959)=TRUE,\"\",(Rådata!F959*100)/Rådata!G959)","v":""},{"$f":"IF(ISBLANK(Rådata!K959),\"\",(SUM(Rådata!M959:P959)*100)/SUM(Rådata!H959:K959))","v":""},{"$f":"IF(ISBLANK(Rådata!H959),\"\",((SUM(Rådata!J959:L959)-SUM(Rådata!O959:P959))*100)/SUM(Rådata!H959:L959))","v":""},{"$f":"IF(ISBLANK(Rådata!R959),\"\",(Rådata!Q959*100)/Rådata!R959)","v":""}]
[{"$f":"IF(ISBLANK(Rådata!A960)=TRUE,\"\",Rådata!A960)","v":""},{"$f":"IF(ISBLANK(Rådata!A960)=TRUE,\"\",YEAR(A960))","v":""},{"$f":"IF(ISBLANK(Rådata!A960)=TRUE,\"\",VLOOKUP(MONTH(A960),Opsætning!$G$3:$H$14,2,FALSE))","v":""},{"$f":"IF(ISBLANK(Rådata!B960)=TRUE,\"\",(Rådata!C960*100)/Rådata!B960)","v":""},{"$f":"IF(ISBLANK(Rådata!D960)=TRUE,\"\",((Rådata!D960-Rådata!E960)*100)/Rådata!D960)","v":""},{"$f":"IF(ISBLANK(Rådata!G960)=TRUE,\"\",(Rådata!F960*100)/Rådata!G960)","v":""},{"$f":"IF(ISBLANK(Rådata!K960),\"\",(SUM(Rådata!M960:P960)*100)/SUM(Rådata!H960:K960))","v":""},{"$f":"IF(ISBLANK(Rådata!H960),\"\",((SUM(Rådata!J960:L960)-SUM(Rådata!O960:P960))*100)/SUM(Rådata!H960:L960))","v":""},{"$f":"IF(ISBLANK(Rådata!R960),\"\",(Rådata!Q960*100)/Rådata!R960)","v":""}]
[{"$f":"IF(ISBLANK(Rådata!A961)=TRUE,\"\",Rådata!A961)","v":""},{"$f":"IF(ISBLANK(Rådata!A961)=TRUE,\"\",YEAR(A961))","v":""},{"$f":"IF(ISBLANK(Rådata!A961)=TRUE,\"\",VLOOKUP(MONTH(A961),Opsætning!$G$3:$H$14,2,FALSE))","v":""},{"$f":"IF(ISBLANK(Rådata!B961)=TRUE,\"\",(Rådata!C961*100)/Rådata!B961)","v":""},{"$f":"IF(ISBLANK(Rådata!D961)=TRUE,\"\",((Rådata!D961-Rådata!E961)*100)/Rådata!D961)","v":""},{"$f":"IF(ISBLANK(Rådata!G961)=TRUE,\"\",(Rådata!F961*100)/Rådata!G961)","v":""},{"$f":"IF(ISBLANK(Rådata!K961),\"\",(SUM(Rådata!M961:P961)*100)/SUM(Rådata!H961:K961))","v":""},{"$f":"IF(ISBLANK(Rådata!H961),\"\",((SUM(Rådata!J961:L961)-SUM(Rådata!O961:P961))*100)/SUM(Rådata!H961:L961))","v":""},{"$f":"IF(ISBLANK(Rådata!R961),\"\",(Rådata!Q961*100)/Rådata!R961)","v":""}]
[{"$f":"IF(ISBLANK(Rådata!A962)=TRUE,\"\",Rådata!A962)","v":""},{"$f":"IF(ISBLANK(Rådata!A962)=TRUE,\"\",YEAR(A962))","v":""},{"$f":"IF(ISBLANK(Rådata!A962)=TRUE,\"\",VLOOKUP(MONTH(A962),Opsætning!$G$3:$H$14,2,FALSE))","v":""},{"$f":"IF(ISBLANK(Rådata!B962)=TRUE,\"\",(Rådata!C962*100)/Rådata!B962)","v":""},{"$f":"IF(ISBLANK(Rådata!D962)=TRUE,\"\",((Rådata!D962-Rådata!E962)*100)/Rådata!D962)","v":""},{"$f":"IF(ISBLANK(Rådata!G962)=TRUE,\"\",(Rådata!F962*100)/Rådata!G962)","v":""},{"$f":"IF(ISBLANK(Rådata!K962),\"\",(SUM(Rådata!M962:P962)*100)/SUM(Rådata!H962:K962))","v":""},{"$f":"IF(ISBLANK(Rådata!H962),\"\",((SUM(Rådata!J962:L962)-SUM(Rådata!O962:P962))*100)/SUM(Rådata!H962:L962))","v":""},{"$f":"IF(ISBLANK(Rådata!R962),\"\",(Rådata!Q962*100)/Rådata!R962)","v":""}]
[{"$f":"IF(ISBLANK(Rådata!A963)=TRUE,\"\",Rådata!A963)","v":""},{"$f":"IF(ISBLANK(Rådata!A963)=TRUE,\"\",YEAR(A963))","v":""},{"$f":"IF(ISBLANK(Rådata!A963)=TRUE,\"\",VLOOKUP(MONTH(A963),Opsætning!$G$3:$H$14,2,FALSE))","v":""},{"$f":"IF(ISBLANK(Rådata!B963)=TRUE,\"\",(Rådata!C963*100)/Rådata!B963)","v":""},{"$f":"IF(ISBLANK(Rådata!D963)=TRUE,\"\",((Rådata!D963-Rådata!E963)*100)/Rådata!D963)","v":""},{"$f":"IF(ISBLANK(Rådata!G963)=TRUE,\"\",(Rådata!F963*100)/Rådata!G963)","v":""},{"$f":"IF(ISBLANK(Rådata!K963),\"\",(SUM(Rådata!M963:P963)*100)/SUM(Rådata!H963:K963))","v":""},{"$f":"IF(ISBLANK(Rådata!H963),\"\",((SUM(Rådata!J963:L963)-SUM(Rådata!O963:P963))*100)/SUM(Rådata!H963:L963))","v":""},{"$f":"IF(ISBLANK(Rådata!R963),\"\",(Rådata!Q963*100)/Rådata!R963)","v":""}]
[{"$f":"IF(ISBLANK(Rådata!A964)=TRUE,\"\",Rådata!A964)","v":""},{"$f":"IF(ISBLANK(Rådata!A964)=TRUE,\"\",YEAR(A964))","v":""},{"$f":"IF(ISBLANK(Rådata!A964)=TRUE,\"\",VLOOKUP(MONTH(A964),Opsætning!$G$3:$H$14,2,FALSE))","v":""},{"$f":"IF(ISBLANK(Rådata!B964)=TRUE,\"\",(Rådata!C964*100)/Rådata!B964)","v":""},{"$f":"IF(ISBLANK(Rådata!D964)=TRUE,\"\",((Rådata!D964-Rådata!E964)*100)/Rådata!D964)","v":""},{"$f":"IF(ISBLANK(Rådata!G964)=TRUE,\"\",(Rådata!F964*100)/Rådata!G964)","v":""},{"$f":"IF(ISBLANK(Rådata!K964),\"\",(SUM(Rådata!M964:P964)*100)/SUM(Rådata!H964:K964))","v":""},{"$f":"IF(ISBLANK(Rådata!H964),\"\",((SUM(Rådata!J964:L964)-SUM(Rådata!O964:P964))*100)/SUM(Rådata!H964:L964))","v":""},{"$f":"IF(ISBLANK(Rådata!R964),\"\",(Rådata!Q964*100)/Rådata!R964)","v":""}]
[{"$f":"IF(ISBLANK(Rådata!A965)=TRUE,\"\",Rådata!A965)","v":""},{"$f":"IF(ISBLANK(Rådata!A965)=TRUE,\"\",YEAR(A965))","v":""},{"$f":"IF(ISBLANK(Rådata!A965)=TRUE,\"\",VLOOKUP(MONTH(A965),Opsætning!$G$3:$H$14,2,FALSE))","v":""},{"$f":"IF(ISBLANK(Rådata!B965)=TRUE,\"\",(Rådata!C965*100)/Rådata!B965)","v":""},{"$f":"IF(ISBLANK(Rådata!D965)=TRUE,\"\",((Rådata!D965-Rådata!E965)*100)/Rådata!D965)","v":""},{"$f":"IF(ISBLANK(Rådata!G965)=TRUE,\"\",(Rådata!F965*100)/Rådata!G965)","v":""},{"$f":"IF(ISBLANK(Rådata!K965),\"\",(SUM(Rådata!M965:P965)*100)/SUM(Rådata!H965:K965))","v":""},{"$f":"IF(ISBLANK(Rådata!H965),\"\",((SUM(Rådata!J965:L965)-SUM(Rådata!O965:P965))*100)/SUM(Rådata!H965:L965))","v":""},{"$f":"IF(ISBLANK(Rådata!R965),\"\",(Rådata!Q965*100)/Rådata!R965)","v":""}]
[{"$f":"IF(ISBLANK(Rådata!A966)=TRUE,\"\",Rådata!A966)","v":""},{"$f":"IF(ISBLANK(Rådata!A966)=TRUE,\"\",YEAR(A966))","v":""},{"$f":"IF(ISBLANK(Rådata!A966)=TRUE,\"\",VLOOKUP(MONTH(A966),Opsætning!$G$3:$H$14,2,FALSE))","v":""},{"$f":"IF(ISBLANK(Rådata!B966)=TRUE,\"\",(Rådata!C966*100)/Rådata!B966)","v":""},{"$f":"IF(ISBLANK(Rådata!D966)=TRUE,\"\",((Rådata!D966-Rådata!E966)*100)/Rådata!D966)","v":""},{"$f":"IF(ISBLANK(Rådata!G966)=TRUE,\"\",(Rådata!F966*100)/Rådata!G966)","v":""},{"$f":"IF(ISBLANK(Rådata!K966),\"\",(SUM(Rådata!M966:P966)*100)/SUM(Rådata!H966:K966))","v":""},{"$f":"IF(ISBLANK(Rådata!H966),\"\",((SUM(Rådata!J966:L966)-SUM(Rådata!O966:P966))*100)/SUM(Rådata!H966:L966))","v":""},{"$f":"IF(ISBLANK(Rådata!R966),\"\",(Rådata!Q966*100)/Rådata!R966)","v":""}]
[{"$f":"IF(ISBLANK(Rådata!A967)=TRUE,\"\",Rådata!A967)","v":""},{"$f":"IF(ISBLANK(Rådata!A967)=TRUE,\"\",YEAR(A967))","v":""},{"$f":"IF(ISBLANK(Rådata!A967)=TRUE,\"\",VLOOKUP(MONTH(A967),Opsætning!$G$3:$H$14,2,FALSE))","v":""},{"$f":"IF(ISBLANK(Rådata!B967)=TRUE,\"\",(Rådata!C967*100)/Rådata!B967)","v":""},{"$f":"IF(ISBLANK(Rådata!D967)=TRUE,\"\",((Rådata!D967-Rådata!E967)*100)/Rådata!D967)","v":""},{"$f":"IF(ISBLANK(Rådata!G967)=TRUE,\"\",(Rådata!F967*100)/Rådata!G967)","v":""},{"$f":"IF(ISBLANK(Rådata!K967),\"\",(SUM(Rådata!M967:P967)*100)/SUM(Rådata!H967:K967))","v":""},{"$f":"IF(ISBLANK(Rådata!H967),\"\",((SUM(Rådata!J967:L967)-SUM(Rådata!O967:P967))*100)/SUM(Rådata!H967:L967))","v":""},{"$f":"IF(ISBLANK(Rådata!R967),\"\",(Rådata!Q967*100)/Rådata!R967)","v":""}]
[{"$f":"IF(ISBLANK(Rådata!A968)=TRUE,\"\",Rådata!A968)","v":""},{"$f":"IF(ISBLANK(Rådata!A968)=TRUE,\"\",YEAR(A968))","v":""},{"$f":"IF(ISBLANK(Rådata!A968)=TRUE,\"\",VLOOKUP(MONTH(A968),Opsætning!$G$3:$H$14,2,FALSE))","v":""},{"$f":"IF(ISBLANK(Rådata!B968)=TRUE,\"\",(Rådata!C968*100)/Rådata!B968)","v":""},{"$f":"IF(ISBLANK(Rådata!D968)=TRUE,\"\",((Rådata!D968-Rådata!E968)*100)/Rådata!D968)","v":""},{"$f":"IF(ISBLANK(Rådata!G968)=TRUE,\"\",(Rådata!F968*100)/Rådata!G968)","v":""},{"$f":"IF(ISBLANK(Rådata!K968),\"\",(SUM(Rådata!M968:P968)*100)/SUM(Rådata!H968:K968))","v":""},{"$f":"IF(ISBLANK(Rådata!H968),\"\",((SUM(Rådata!J968:L968)-SUM(Rådata!O968:P968))*100)/SUM(Rådata!H968:L968))","v":""},{"$f":"IF(ISBLANK(Rådata!R968),\"\",(Rådata!Q968*100)/Rådata!R968)","v":""}]
[{"$f":"IF(ISBLANK(Rådata!A969)=TRUE,\"\",Rådata!A969)","v":""},{"$f":"IF(ISBLANK(Rådata!A969)=TRUE,\"\",YEAR(A969))","v":""},{"$f":"IF(ISBLANK(Rådata!A969)=TRUE,\"\",VLOOKUP(MONTH(A969),Opsætning!$G$3:$H$14,2,FALSE))","v":""},{"$f":"IF(ISBLANK(Rådata!B969)=TRUE,\"\",(Rådata!C969*100)/Rådata!B969)","v":""},{"$f":"IF(ISBLANK(Rådata!D969)=TRUE,\"\",((Rådata!D969-Rådata!E969)*100)/Rådata!D969)","v":""},{"$f":"IF(ISBLANK(Rådata!G969)=TRUE,\"\",(Rådata!F969*100)/Rådata!G969)","v":""},{"$f":"IF(ISBLANK(Rådata!K969),\"\",(SUM(Rådata!M969:P969)*100)/SUM(Rådata!H969:K969))","v":""},{"$f":"IF(ISBLANK(Rådata!H969),\"\",((SUM(Rådata!J969:L969)-SUM(Rådata!O969:P969))*100)/SUM(Rådata!H969:L969))","v":""},{"$f":"IF(ISBLANK(Rådata!R969),\"\",(Rådata!Q969*100)/Rådata!R969)","v":""}]
[{"$f":"IF(ISBLANK(Rådata!A970)=TRUE,\"\",Rådata!A970)","v":""},{"$f":"IF(ISBLANK(Rådata!A970)=TRUE,\"\",YEAR(A970))","v":""},{"$f":"IF(ISBLANK(Rådata!A970)=TRUE,\"\",VLOOKUP(MONTH(A970),Opsætning!$G$3:$H$14,2,FALSE))","v":""},{"$f":"IF(ISBLANK(Rådata!B970)=TRUE,\"\",(Rådata!C970*100)/Rådata!B970)","v":""},{"$f":"IF(ISBLANK(Rådata!D970)=TRUE,\"\",((Rådata!D970-Rådata!E970)*100)/Rådata!D970)","v":""},{"$f":"IF(ISBLANK(Rådata!G970)=TRUE,\"\",(Rådata!F970*100)/Rådata!G970)","v":""},{"$f":"IF(ISBLANK(Rådata!K970),\"\",(SUM(Rådata!M970:P970)*100)/SUM(Rådata!H970:K970))","v":""},{"$f":"IF(ISBLANK(Rådata!H970),\"\",((SUM(Rådata!J970:L970)-SUM(Rådata!O970:P970))*100)/SUM(Rådata!H970:L970))","v":""},{"$f":"IF(ISBLANK(Rådata!R970),\"\",(Rådata!Q970*100)/Rådata!R970)","v":""}]
[{"$f":"IF(ISBLANK(Rådata!A971)=TRUE,\"\",Rådata!A971)","v":""},{"$f":"IF(ISBLANK(Rådata!A971)=TRUE,\"\",YEAR(A971))","v":""},{"$f":"IF(ISBLANK(Rådata!A971)=TRUE,\"\",VLOOKUP(MONTH(A971),Opsætning!$G$3:$H$14,2,FALSE))","v":""},{"$f":"IF(ISBLANK(Rådata!B971)=TRUE,\"\",(Rådata!C971*100)/Rådata!B971)","v":""},{"$f":"IF(ISBLANK(Rådata!D971)=TRUE,\"\",((Rådata!D971-Rådata!E971)*100)/Rådata!D971)","v":""},{"$f":"IF(ISBLANK(Rådata!G971)=TRUE,\"\",(Rådata!F971*100)/Rådata!G971)","v":""},{"$f":"IF(ISBLANK(Rådata!K971),\"\",(SUM(Rådata!M971:P971)*100)/SUM(Rådata!H971:K971))","v":""},{"$f":"IF(ISBLANK(Rådata!H971),\"\",((SUM(Rådata!J971:L971)-SUM(Rådata!O971:P971))*100)/SUM(Rådata!H971:L971))","v":""},{"$f":"IF(ISBLANK(Rådata!R971),\"\",(Rådata!Q971*100)/Rådata!R971)","v":""}]
[{"$f":"IF(ISBLANK(Rådata!A972)=TRUE,\"\",Rådata!A972)","v":""},{"$f":"IF(ISBLANK(Rådata!A972)=TRUE,\"\",YEAR(A972))","v":""},{"$f":"IF(ISBLANK(Rådata!A972)=TRUE,\"\",VLOOKUP(MONTH(A972),Opsætning!$G$3:$H$14,2,FALSE))","v":""},{"$f":"IF(ISBLANK(Rådata!B972)=TRUE,\"\",(Rådata!C972*100)/Rådata!B972)","v":""},{"$f":"IF(ISBLANK(Rådata!D972)=TRUE,\"\",((Rådata!D972-Rådata!E972)*100)/Rådata!D972)","v":""},{"$f":"IF(ISBLANK(Rådata!G972)=TRUE,\"\",(Rådata!F972*100)/Rådata!G972)","v":""},{"$f":"IF(ISBLANK(Rådata!K972),\"\",(SUM(Rådata!M972:P972)*100)/SUM(Rådata!H972:K972))","v":""},{"$f":"IF(ISBLANK(Rådata!H972),\"\",((SUM(Rådata!J972:L972)-SUM(Rådata!O972:P972))*100)/SUM(Rådata!H972:L972))","v":""},{"$f":"IF(ISBLANK(Rådata!R972),\"\",(Rådata!Q972*100)/Rådata!R972)","v":""}]
[{"$f":"IF(ISBLANK(Rådata!A973)=TRUE,\"\",Rådata!A973)","v":""},{"$f":"IF(ISBLANK(Rådata!A973)=TRUE,\"\",YEAR(A973))","v":""},{"$f":"IF(ISBLANK(Rådata!A973)=TRUE,\"\",VLOOKUP(MONTH(A973),Opsætning!$G$3:$H$14,2,FALSE))","v":""},{"$f":"IF(ISBLANK(Rådata!B973)=TRUE,\"\",(Rådata!C973*100)/Rådata!B973)","v":""},{"$f":"IF(ISBLANK(Rådata!D973)=TRUE,\"\",((Rådata!D973-Rådata!E973)*100)/Rådata!D973)","v":""},{"$f":"IF(ISBLANK(Rådata!G973)=TRUE,\"\",(Rådata!F973*100)/Rådata!G973)","v":""},{"$f":"IF(ISBLANK(Rådata!K973),\"\",(SUM(Rådata!M973:P973)*100)/SUM(Rådata!H973:K973))","v":""},{"$f":"IF(ISBLANK(Rådata!H973),\"\",((SUM(Rådata!J973:L973)-SUM(Rådata!O973:P973))*100)/SUM(Rådata!H973:L973))","v":""},{"$f":"IF(ISBLANK(Rådata!R973),\"\",(Rådata!Q973*100)/Rådata!R973)","v":""}]
[{"$f":"IF(ISBLANK(Rådata!A974)=TRUE,\"\",Rådata!A974)","v":""},{"$f":"IF(ISBLANK(Rådata!A974)=TRUE,\"\",YEAR(A974))","v":""},{"$f":"IF(ISBLANK(Rådata!A974)=TRUE,\"\",VLOOKUP(MONTH(A974),Opsætning!$G$3:$H$14,2,FALSE))","v":""},{"$f":"IF(ISBLANK(Rådata!B974)=TRUE,\"\",(Rådata!C974*100)/Rådata!B974)","v":""},{"$f":"IF(ISBLANK(Rådata!D974)=TRUE,\"\",((Rådata!D974-Rådata!E974)*100)/Rådata!D974)","v":""},{"$f":"IF(ISBLANK(Rådata!G974)=TRUE,\"\",(Rådata!F974*100)/Rådata!G974)","v":""},{"$f":"IF(ISBLANK(Rådata!K974),\"\",(SUM(Rådata!M974:P974)*100)/SUM(Rådata!H974:K974))","v":""},{"$f":"IF(ISBLANK(Rådata!H974),\"\",((SUM(Rådata!J974:L974)-SUM(Rådata!O974:P974))*100)/SUM(Rådata!H974:L974))","v":""},{"$f":"IF(ISBLANK(Rådata!R974),\"\",(Rådata!Q974*100)/Rådata!R974)","v":""}]
[{"$f":"IF(ISBLANK(Rådata!A975)=TRUE,\"\",Rådata!A975)","v":""},{"$f":"IF(ISBLANK(Rådata!A975)=TRUE,\"\",YEAR(A975))","v":""},{"$f":"IF(ISBLANK(Rådata!A975)=TRUE,\"\",VLOOKUP(MONTH(A975),Opsætning!$G$3:$H$14,2,FALSE))","v":""},{"$f":"IF(ISBLANK(Rådata!B975)=TRUE,\"\",(Rådata!C975*100)/Rådata!B975)","v":""},{"$f":"IF(ISBLANK(Rådata!D975)=TRUE,\"\",((Rådata!D975-Rådata!E975)*100)/Rådata!D975)","v":""},{"$f":"IF(ISBLANK(Rådata!G975)=TRUE,\"\",(Rådata!F975*100)/Rådata!G975)","v":""},{"$f":"IF(ISBLANK(Rådata!K975),\"\",(SUM(Rådata!M975:P975)*100)/SUM(Rådata!H975:K975))","v":""},{"$f":"IF(ISBLANK(Rådata!H975),\"\",((SUM(Rådata!J975:L975)-SUM(Rådata!O975:P975))*100)/SUM(Rådata!H975:L975))","v":""},{"$f":"IF(ISBLANK(Rådata!R975),\"\",(Rådata!Q975*100)/Rådata!R975)","v":""}]
[{"$f":"IF(ISBLANK(Rådata!A976)=TRUE,\"\",Rådata!A976)","v":""},{"$f":"IF(ISBLANK(Rådata!A976)=TRUE,\"\",YEAR(A976))","v":""},{"$f":"IF(ISBLANK(Rådata!A976)=TRUE,\"\",VLOOKUP(MONTH(A976),Opsætning!$G$3:$H$14,2,FALSE))","v":""},{"$f":"IF(ISBLANK(Rådata!B976)=TRUE,\"\",(Rådata!C976*100)/Rådata!B976)","v":""},{"$f":"IF(ISBLANK(Rådata!D976)=TRUE,\"\",((Rådata!D976-Rådata!E976)*100)/Rådata!D976)","v":""},{"$f":"IF(ISBLANK(Rådata!G976)=TRUE,\"\",(Rådata!F976*100)/Rådata!G976)","v":""},{"$f":"IF(ISBLANK(Rådata!K976),\"\",(SUM(Rådata!M976:P976)*100)/SUM(Rådata!H976:K976))","v":""},{"$f":"IF(ISBLANK(Rådata!H976),\"\",((SUM(Rådata!J976:L976)-SUM(Rådata!O976:P976))*100)/SUM(Rådata!H976:L976))","v":""},{"$f":"IF(ISBLANK(Rådata!R976),\"\",(Rådata!Q976*100)/Rådata!R976)","v":""}]
[{"$f":"IF(ISBLANK(Rådata!A977)=TRUE,\"\",Rådata!A977)","v":""},{"$f":"IF(ISBLANK(Rådata!A977)=TRUE,\"\",YEAR(A977))","v":""},{"$f":"IF(ISBLANK(Rådata!A977)=TRUE,\"\",VLOOKUP(MONTH(A977),Opsætning!$G$3:$H$14,2,FALSE))","v":""},{"$f":"IF(ISBLANK(Rådata!B977)=TRUE,\"\",(Rådata!C977*100)/Rådata!B977)","v":""},{"$f":"IF(ISBLANK(Rådata!D977)=TRUE,\"\",((Rådata!D977-Rådata!E977)*100)/Rådata!D977)","v":""},{"$f":"IF(ISBLANK(Rådata!G977)=TRUE,\"\",(Rådata!F977*100)/Rådata!G977)","v":""},{"$f":"IF(ISBLANK(Rådata!K977),\"\",(SUM(Rådata!M977:P977)*100)/SUM(Rådata!H977:K977))","v":""},{"$f":"IF(ISBLANK(Rådata!H977),\"\",((SUM(Rådata!J977:L977)-SUM(Rådata!O977:P977))*100)/SUM(Rådata!H977:L977))","v":""},{"$f":"IF(ISBLANK(Rådata!R977),\"\",(Rådata!Q977*100)/Rådata!R977)","v":""}]
[{"$f":"IF(ISBLANK(Rådata!A978)=TRUE,\"\",Rådata!A978)","v":""},{"$f":"IF(ISBLANK(Rådata!A978)=TRUE,\"\",YEAR(A978))","v":""},{"$f":"IF(ISBLANK(Rådata!A978)=TRUE,\"\",VLOOKUP(MONTH(A978),Opsætning!$G$3:$H$14,2,FALSE))","v":""},{"$f":"IF(ISBLANK(Rådata!B978)=TRUE,\"\",(Rådata!C978*100)/Rådata!B978)","v":""},{"$f":"IF(ISBLANK(Rådata!D978)=TRUE,\"\",((Rådata!D978-Rådata!E978)*100)/Rådata!D978)","v":""},{"$f":"IF(ISBLANK(Rådata!G978)=TRUE,\"\",(Rådata!F978*100)/Rådata!G978)","v":""},{"$f":"IF(ISBLANK(Rådata!K978),\"\",(SUM(Rådata!M978:P978)*100)/SUM(Rådata!H978:K978))","v":""},{"$f":"IF(ISBLANK(Rådata!H978),\"\",((SUM(Rådata!J978:L978)-SUM(Rådata!O978:P978))*100)/SUM(Rådata!H978:L978))","v":""},{"$f":"IF(ISBLANK(Rådata!R978),\"\",(Rådata!Q978*100)/Rådata!R978)","v":""}]
[{"$f":"IF(ISBLANK(Rådata!A979)=TRUE,\"\",Rådata!A979)","v":""},{"$f":"IF(ISBLANK(Rådata!A979)=TRUE,\"\",YEAR(A979))","v":""},{"$f":"IF(ISBLANK(Rådata!A979)=TRUE,\"\",VLOOKUP(MONTH(A979),Opsætning!$G$3:$H$14,2,FALSE))","v":""},{"$f":"IF(ISBLANK(Rådata!B979)=TRUE,\"\",(Rådata!C979*100)/Rådata!B979)","v":""},{"$f":"IF(ISBLANK(Rådata!D979)=TRUE,\"\",((Rådata!D979-Rådata!E979)*100)/Rådata!D979)","v":""},{"$f":"IF(ISBLANK(Rådata!G979)=TRUE,\"\",(Rådata!F979*100)/Rådata!G979)","v":""},{"$f":"IF(ISBLANK(Rådata!K979),\"\",(SUM(Rådata!M979:P979)*100)/SUM(Rådata!H979:K979))","v":""},{"$f":"IF(ISBLANK(Rådata!H979),\"\",((SUM(Rådata!J979:L979)-SUM(Rådata!O979:P979))*100)/SUM(Rådata!H979:L979))","v":""},{"$f":"IF(ISBLANK(Rådata!R979),\"\",(Rådata!Q979*100)/Rådata!R979)","v":""}]
[{"$f":"IF(ISBLANK(Rådata!A980)=TRUE,\"\",Rådata!A980)","v":""},{"$f":"IF(ISBLANK(Rådata!A980)=TRUE,\"\",YEAR(A980))","v":""},{"$f":"IF(ISBLANK(Rådata!A980)=TRUE,\"\",VLOOKUP(MONTH(A980),Opsætning!$G$3:$H$14,2,FALSE))","v":""},{"$f":"IF(ISBLANK(Rådata!B980)=TRUE,\"\",(Rådata!C980*100)/Rådata!B980)","v":""},{"$f":"IF(ISBLANK(Rådata!D980)=TRUE,\"\",((Rådata!D980-Rådata!E980)*100)/Rådata!D980)","v":""},{"$f":"IF(ISBLANK(Rådata!G980)=TRUE,\"\",(Rådata!F980*100)/Rådata!G980)","v":""},{"$f":"IF(ISBLANK(Rådata!K980),\"\",(SUM(Rådata!M980:P980)*100)/SUM(Rådata!H980:K980))","v":""},{"$f":"IF(ISBLANK(Rådata!H980),\"\",((SUM(Rådata!J980:L980)-SUM(Rådata!O980:P980))*100)/SUM(Rådata!H980:L980))","v":""},{"$f":"IF(ISBLANK(Rådata!R980),\"\",(Rådata!Q980*100)/Rådata!R980)","v":""}]
[{"$f":"IF(ISBLANK(Rådata!A981)=TRUE,\"\",Rådata!A981)","v":""},{"$f":"IF(ISBLANK(Rådata!A981)=TRUE,\"\",YEAR(A981))","v":""},{"$f":"IF(ISBLANK(Rådata!A981)=TRUE,\"\",VLOOKUP(MONTH(A981),Opsætning!$G$3:$H$14,2,FALSE))","v":""},{"$f":"IF(ISBLANK(Rådata!B981)=TRUE,\"\",(Rådata!C981*100)/Rådata!B981)","v":""},{"$f":"IF(ISBLANK(Rådata!D981)=TRUE,\"\",((Rådata!D981-Rådata!E981)*100)/Rådata!D981)","v":""},{"$f":"IF(ISBLANK(Rådata!G981)=TRUE,\"\",(Rådata!F981*100)/Rådata!G981)","v":""},{"$f":"IF(ISBLANK(Rådata!K981),\"\",(SUM(Rådata!M981:P981)*100)/SUM(Rådata!H981:K981))","v":""},{"$f":"IF(ISBLANK(Rådata!H981),\"\",((SUM(Rådata!J981:L981)-SUM(Rådata!O981:P981))*100)/SUM(Rådata!H981:L981))","v":""},{"$f":"IF(ISBLANK(Rådata!R981),\"\",(Rådata!Q981*100)/Rådata!R981)","v":""}]
[{"$f":"IF(ISBLANK(Rådata!A982)=TRUE,\"\",Rådata!A982)","v":""},{"$f":"IF(ISBLANK(Rådata!A982)=TRUE,\"\",YEAR(A982))","v":""},{"$f":"IF(ISBLANK(Rådata!A982)=TRUE,\"\",VLOOKUP(MONTH(A982),Opsætning!$G$3:$H$14,2,FALSE))","v":""},{"$f":"IF(ISBLANK(Rådata!B982)=TRUE,\"\",(Rådata!C982*100)/Rådata!B982)","v":""},{"$f":"IF(ISBLANK(Rådata!D982)=TRUE,\"\",((Rådata!D982-Rådata!E982)*100)/Rådata!D982)","v":""},{"$f":"IF(ISBLANK(Rådata!G982)=TRUE,\"\",(Rådata!F982*100)/Rådata!G982)","v":""},{"$f":"IF(ISBLANK(Rådata!K982),\"\",(SUM(Rådata!M982:P982)*100)/SUM(Rådata!H982:K982))","v":""},{"$f":"IF(ISBLANK(Rådata!H982),\"\",((SUM(Rådata!J982:L982)-SUM(Rådata!O982:P982))*100)/SUM(Rådata!H982:L982))","v":""},{"$f":"IF(ISBLANK(Rådata!R982),\"\",(Rådata!Q982*100)/Rådata!R982)","v":""}]
[{"$f":"IF(ISBLANK(Rådata!A983)=TRUE,\"\",Rådata!A983)","v":""},{"$f":"IF(ISBLANK(Rådata!A983)=TRUE,\"\",YEAR(A983))","v":""},{"$f":"IF(ISBLANK(Rådata!A983)=TRUE,\"\",VLOOKUP(MONTH(A983),Opsætning!$G$3:$H$14,2,FALSE))","v":""},{"$f":"IF(ISBLANK(Rådata!B983)=TRUE,\"\",(Rådata!C983*100)/Rådata!B983)","v":""},{"$f":"IF(ISBLANK(Rådata!D983)=TRUE,\"\",((Rådata!D983-Rådata!E983)*100)/Rådata!D983)","v":""},{"$f":"IF(ISBLANK(Rådata!G983)=TRUE,\"\",(Rådata!F983*100)/Rådata!G983)","v":""},{"$f":"IF(ISBLANK(Rådata!K983),\"\",(SUM(Rådata!M983:P983)*100)/SUM(Rådata!H983:K983))","v":""},{"$f":"IF(ISBLANK(Rådata!H983),\"\",((SUM(Rådata!J983:L983)-SUM(Rådata!O983:P983))*100)/SUM(Rådata!H983:L983))","v":""},{"$f":"IF(ISBLANK(Rådata!R983),\"\",(Rådata!Q983*100)/Rådata!R983)","v":""}]
[{"$f":"IF(ISBLANK(Rådata!A984)=TRUE,\"\",Rådata!A984)","v":""},{"$f":"IF(ISBLANK(Rådata!A984)=TRUE,\"\",YEAR(A984))","v":""},{"$f":"IF(ISBLANK(Rådata!A984)=TRUE,\"\",VLOOKUP(MONTH(A984),Opsætning!$G$3:$H$14,2,FALSE))","v":""},{"$f":"IF(ISBLANK(Rådata!B984)=TRUE,\"\",(Rådata!C984*100)/Rådata!B984)","v":""},{"$f":"IF(ISBLANK(Rådata!D984)=TRUE,\"\",((Rådata!D984-Rådata!E984)*100)/Rådata!D984)","v":""},{"$f":"IF(ISBLANK(Rådata!G984)=TRUE,\"\",(Rådata!F984*100)/Rådata!G984)","v":""},{"$f":"IF(ISBLANK(Rådata!K984),\"\",(SUM(Rådata!M984:P984)*100)/SUM(Rådata!H984:K984))","v":""},{"$f":"IF(ISBLANK(Rådata!H984),\"\",((SUM(Rådata!J984:L984)-SUM(Rådata!O984:P984))*100)/SUM(Rådata!H984:L984))","v":""},{"$f":"IF(ISBLANK(Rådata!R984),\"\",(Rådata!Q984*100)/Rådata!R984)","v":""}]
[{"$f":"IF(ISBLANK(Rådata!A985)=TRUE,\"\",Rådata!A985)","v":""},{"$f":"IF(ISBLANK(Rådata!A985)=TRUE,\"\",YEAR(A985))","v":""},{"$f":"IF(ISBLANK(Rådata!A985)=TRUE,\"\",VLOOKUP(MONTH(A985),Opsætning!$G$3:$H$14,2,FALSE))","v":""},{"$f":"IF(ISBLANK(Rådata!B985)=TRUE,\"\",(Rådata!C985*100)/Rådata!B985)","v":""},{"$f":"IF(ISBLANK(Rådata!D985)=TRUE,\"\",((Rådata!D985-Rådata!E985)*100)/Rådata!D985)","v":""},{"$f":"IF(ISBLANK(Rådata!G985)=TRUE,\"\",(Rådata!F985*100)/Rådata!G985)","v":""},{"$f":"IF(ISBLANK(Rådata!K985),\"\",(SUM(Rådata!M985:P985)*100)/SUM(Rådata!H985:K985))","v":""},{"$f":"IF(ISBLANK(Rådata!H985),\"\",((SUM(Rådata!J985:L985)-SUM(Rådata!O985:P985))*100)/SUM(Rådata!H985:L985))","v":""},{"$f":"IF(ISBLANK(Rådata!R985),\"\",(Rådata!Q985*100)/Rådata!R985)","v":""}]
[{"$f":"IF(ISBLANK(Rådata!A986)=TRUE,\"\",Rådata!A986)","v":""},{"$f":"IF(ISBLANK(Rådata!A986)=TRUE,\"\",YEAR(A986))","v":""},{"$f":"IF(ISBLANK(Rådata!A986)=TRUE,\"\",VLOOKUP(MONTH(A986),Opsætning!$G$3:$H$14,2,FALSE))","v":""},{"$f":"IF(ISBLANK(Rådata!B986)=TRUE,\"\",(Rådata!C986*100)/Rådata!B986)","v":""},{"$f":"IF(ISBLANK(Rådata!D986)=TRUE,\"\",((Rådata!D986-Rådata!E986)*100)/Rådata!D986)","v":""},{"$f":"IF(ISBLANK(Rådata!G986)=TRUE,\"\",(Rådata!F986*100)/Rådata!G986)","v":""},{"$f":"IF(ISBLANK(Rådata!K986),\"\",(SUM(Rådata!M986:P986)*100)/SUM(Rådata!H986:K986))","v":""},{"$f":"IF(ISBLANK(Rådata!H986),\"\",((SUM(Rådata!J986:L986)-SUM(Rådata!O986:P986))*100)/SUM(Rådata!H986:L986))","v":""},{"$f":"IF(ISBLANK(Rådata!R986),\"\",(Rådata!Q986*100)/Rådata!R986)","v":""}]
[{"$f":"IF(ISBLANK(Rådata!A987)=TRUE,\"\",Rådata!A987)","v":""},{"$f":"IF(ISBLANK(Rådata!A987)=TRUE,\"\",YEAR(A987))","v":""},{"$f":"IF(ISBLANK(Rådata!A987)=TRUE,\"\",VLOOKUP(MONTH(A987),Opsætning!$G$3:$H$14,2,FALSE))","v":""},{"$f":"IF(ISBLANK(Rådata!B987)=TRUE,\"\",(Rådata!C987*100)/Rådata!B987)","v":""},{"$f":"IF(ISBLANK(Rådata!D987)=TRUE,\"\",((Rådata!D987-Rådata!E987)*100)/Rådata!D987)","v":""},{"$f":"IF(ISBLANK(Rådata!G987)=TRUE,\"\",(Rådata!F987*100)/Rådata!G987)","v":""},{"$f":"IF(ISBLANK(Rådata!K987),\"\",(SUM(Rådata!M987:P987)*100)/SUM(Rådata!H987:K987))","v":""},{"$f":"IF(ISBLANK(Rådata!H987),\"\",((SUM(Rådata!J987:L987)-SUM(Rådata!O987:P987))*100)/SUM(Rådata!H987:L987))","v":""},{"$f":"IF(ISBLANK(Rådata!R987),\"\",(Rådata!Q987*100)/Rådata!R987)","v":""}]
[{"$f":"IF(ISBLANK(Rådata!A988)=TRUE,\"\",Rådata!A988)","v":""},{"$f":"IF(ISBLANK(Rådata!A988)=TRUE,\"\",YEAR(A988))","v":""},{"$f":"IF(ISBLANK(Rådata!A988)=TRUE,\"\",VLOOKUP(MONTH(A988),Opsætning!$G$3:$H$14,2,FALSE))","v":""},{"$f":"IF(ISBLANK(Rådata!B988)=TRUE,\"\",(Rådata!C988*100)/Rådata!B988)","v":""},{"$f":"IF(ISBLANK(Rådata!D988)=TRUE,\"\",((Rådata!D988-Rådata!E988)*100)/Rådata!D988)","v":""},{"$f":"IF(ISBLANK(Rådata!G988)=TRUE,\"\",(Rådata!F988*100)/Rådata!G988)","v":""},{"$f":"IF(ISBLANK(Rådata!K988),\"\",(SUM(Rådata!M988:P988)*100)/SUM(Rådata!H988:K988))","v":""},{"$f":"IF(ISBLANK(Rådata!H988),\"\",((SUM(Rådata!J988:L988)-SUM(Rådata!O988:P988))*100)/SUM(Rådata!H988:L988))","v":""},{"$f":"IF(ISBLANK(Rådata!R988),\"\",(Rådata!Q988*100)/Rådata!R988)","v":""}]
[{"$f":"IF(ISBLANK(Rådata!A989)=TRUE,\"\",Rådata!A989)","v":""},{"$f":"IF(ISBLANK(Rådata!A989)=TRUE,\"\",YEAR(A989))","v":""},{"$f":"IF(ISBLANK(Rådata!A989)=TRUE,\"\",VLOOKUP(MONTH(A989),Opsætning!$G$3:$H$14,2,FALSE))","v":""},{"$f":"IF(ISBLANK(Rådata!B989)=TRUE,\"\",(Rådata!C989*100)/Rådata!B989)","v":""},{"$f":"IF(ISBLANK(Rådata!D989)=TRUE,\"\",((Rådata!D989-Rådata!E989)*100)/Rådata!D989)","v":""},{"$f":"IF(ISBLANK(Rådata!G989)=TRUE,\"\",(Rådata!F989*100)/Rådata!G989)","v":""},{"$f":"IF(ISBLANK(Rådata!K989),\"\",(SUM(Rådata!M989:P989)*100)/SUM(Rådata!H989:K989))","v":""},{"$f":"IF(ISBLANK(Rådata!H989),\"\",((SUM(Rådata!J989:L989)-SUM(Rådata!O989:P989))*100)/SUM(Rådata!H989:L989))","v":""},{"$f":"IF(ISBLANK(Rådata!R989),\"\",(Rådata!Q989*100)/Rådata!R989)","v":""}]
[{"$f":"IF(ISBLANK(Rådata!A990)=TRUE,\"\",Rådata!A990)","v":""},{"$f":"IF(ISBLANK(Rådata!A990)=TRUE,\"\",YEAR(A990))","v":""},{"$f":"IF(ISBLANK(Rådata!A990)=TRUE,\"\",VLOOKUP(MONTH(A990),Opsætning!$G$3:$H$14,2,FALSE))","v":""},{"$f":"IF(ISBLANK(Rådata!B990)=TRUE,\"\",(Rådata!C990*100)/Rådata!B990)","v":""},{"$f":"IF(ISBLANK(Rådata!D990)=TRUE,\"\",((Rådata!D990-Rådata!E990)*100)/Rådata!D990)","v":""},{"$f":"IF(ISBLANK(Rådata!G990)=TRUE,\"\",(Rådata!F990*100)/Rådata!G990)","v":""},{"$f":"IF(ISBLANK(Rådata!K990),\"\",(SUM(Rådata!M990:P990)*100)/SUM(Rådata!H990:K990))","v":""},{"$f":"IF(ISBLANK(Rådata!H990),\"\",((SUM(Rådata!J990:L990)-SUM(Rådata!O990:P990))*100)/SUM(Rådata!H990:L990))","v":""},{"$f":"IF(ISBLANK(Rådata!R990),\"\",(Rådata!Q990*100)/Rådata!R990)","v":""}]
[{"$f":"IF(ISBLANK(Rådata!A991)=TRUE,\"\",Rådata!A991)","v":""},{"$f":"IF(ISBLANK(Rådata!A991)=TRUE,\"\",YEAR(A991))","v":""},{"$f":"IF(ISBLANK(Rådata!A991)=TRUE,\"\",VLOOKUP(MONTH(A991),Opsætning!$G$3:$H$14,2,FALSE))","v":""},{"$f":"IF(ISBLANK(Rådata!B991)=TRUE,\"\",(Rådata!C991*100)/Rådata!B991)","v":""},{"$f":"IF(ISBLANK(Rådata!D991)=TRUE,\"\",((Rådata!D991-Rådata!E991)*100)/Rådata!D991)","v":""},{"$f":"IF(ISBLANK(Rådata!G991)=TRUE,\"\",(Rådata!F991*100)/Rådata!G991)","v":""},{"$f":"IF(ISBLANK(Rådata!K991),\"\",(SUM(Rådata!M991:P991)*100)/SUM(Rådata!H991:K991))","v":""},{"$f":"IF(ISBLANK(Rådata!H991),\"\",((SUM(Rådata!J991:L991)-SUM(Rådata!O991:P991))*100)/SUM(Rådata!H991:L991))","v":""},{"$f":"IF(ISBLANK(Rådata!R991),\"\",(Rådata!Q991*100)/Rådata!R991)","v":""}]
[{"$f":"IF(ISBLANK(Rådata!A992)=TRUE,\"\",Rådata!A992)","v":""},{"$f":"IF(ISBLANK(Rådata!A992)=TRUE,\"\",YEAR(A992))","v":""},{"$f":"IF(ISBLANK(Rådata!A992)=TRUE,\"\",VLOOKUP(MONTH(A992),Opsætning!$G$3:$H$14,2,FALSE))","v":""},{"$f":"IF(ISBLANK(Rådata!B992)=TRUE,\"\",(Rådata!C992*100)/Rådata!B992)","v":""},{"$f":"IF(ISBLANK(Rådata!D992)=TRUE,\"\",((Rådata!D992-Rådata!E992)*100)/Rådata!D992)","v":""},{"$f":"IF(ISBLANK(Rådata!G992)=TRUE,\"\",(Rådata!F992*100)/Rådata!G992)","v":""},{"$f":"IF(ISBLANK(Rådata!K992),\"\",(SUM(Rådata!M992:P992)*100)/SUM(Rådata!H992:K992))","v":""},{"$f":"IF(ISBLANK(Rådata!H992),\"\",((SUM(Rådata!J992:L992)-SUM(Rådata!O992:P992))*100)/SUM(Rådata!H992:L992))","v":""},{"$f":"IF(ISBLANK(Rådata!R992),\"\",(Rådata!Q992*100)/Rådata!R992)","v":""}]
[{"$f":"IF(ISBLANK(Rådata!A993)=TRUE,\"\",Rådata!A993)","v":""},{"$f":"IF(ISBLANK(Rådata!A993)=TRUE,\"\",YEAR(A993))","v":""},{"$f":"IF(ISBLANK(Rådata!A993)=TRUE,\"\",VLOOKUP(MONTH(A993),Opsætning!$G$3:$H$14,2,FALSE))","v":""},{"$f":"IF(ISBLANK(Rådata!B993)=TRUE,\"\",(Rådata!C993*100)/Rådata!B993)","v":""},{"$f":"IF(ISBLANK(Rådata!D993)=TRUE,\"\",((Rådata!D993-Rådata!E993)*100)/Rådata!D993)","v":""},{"$f":"IF(ISBLANK(Rådata!G993)=TRUE,\"\",(Rådata!F993*100)/Rådata!G993)","v":""},{"$f":"IF(ISBLANK(Rådata!K993),\"\",(SUM(Rådata!M993:P993)*100)/SUM(Rådata!H993:K993))","v":""},{"$f":"IF(ISBLANK(Rådata!H993),\"\",((SUM(Rådata!J993:L993)-SUM(Rådata!O993:P993))*100)/SUM(Rådata!H993:L993))","v":""},{"$f":"IF(ISBLANK(Rådata!R993),\"\",(Rådata!Q993*100)/Rådata!R993)","v":""}]
[{"$f":"IF(ISBLANK(Rådata!A994)=TRUE,\"\",Rådata!A994)","v":""},{"$f":"IF(ISBLANK(Rådata!A994)=TRUE,\"\",YEAR(A994))","v":""},{"$f":"IF(ISBLANK(Rådata!A994)=TRUE,\"\",VLOOKUP(MONTH(A994),Opsætning!$G$3:$H$14,2,FALSE))","v":""},{"$f":"IF(ISBLANK(Rådata!B994)=TRUE,\"\",(Rådata!C994*100)/Rådata!B994)","v":""},{"$f":"IF(ISBLANK(Rådata!D994)=TRUE,\"\",((Rådata!D994-Rådata!E994)*100)/Rådata!D994)","v":""},{"$f":"IF(ISBLANK(Rådata!G994)=TRUE,\"\",(Rådata!F994*100)/Rådata!G994)","v":""},{"$f":"IF(ISBLANK(Rådata!K994),\"\",(SUM(Rådata!M994:P994)*100)/SUM(Rådata!H994:K994))","v":""},{"$f":"IF(ISBLANK(Rådata!H994),\"\",((SUM(Rådata!J994:L994)-SUM(Rådata!O994:P994))*100)/SUM(Rådata!H994:L994))","v":""},{"$f":"IF(ISBLANK(Rådata!R994),\"\",(Rådata!Q994*100)/Rådata!R994)","v":""}]
[{"$f":"IF(ISBLANK(Rådata!A995)=TRUE,\"\",Rådata!A995)","v":""},{"$f":"IF(ISBLANK(Rådata!A995)=TRUE,\"\",YEAR(A995))","v":""},{"$f":"IF(ISBLANK(Rådata!A995)=TRUE,\"\",VLOOKUP(MONTH(A995),Opsætning!$G$3:$H$14,2,FALSE))","v":""},{"$f":"IF(ISBLANK(Rådata!B995)=TRUE,\"\",(Rådata!C995*100)/Rådata!B995)","v":""},{"$f":"IF(ISBLANK(Rådata!D995)=TRUE,\"\",((Rådata!D995-Rådata!E995)*100)/Rådata!D995)","v":""},{"$f":"IF(ISBLANK(Rådata!G995)=TRUE,\"\",(Rådata!F995*100)/Rådata!G995)","v":""},{"$f":"IF(ISBLANK(Rådata!K995),\"\",(SUM(Rådata!M995:P995)*100)/SUM(Rådata!H995:K995))","v":""},{"$f":"IF(ISBLANK(Rådata!H995),\"\",((SUM(Rådata!J995:L995)-SUM(Rådata!O995:P995))*100)/SUM(Rådata!H995:L995))","v":""},{"$f":"IF(ISBLANK(Rådata!R995),\"\",(Rådata!Q995*100)/Rådata!R995)","v":""}]
[{"$f":"IF(ISBLANK(Rådata!A996)=TRUE,\"\",Rådata!A996)","v":""},{"$f":"IF(ISBLANK(Rådata!A996)=TRUE,\"\",YEAR(A996))","v":""},{"$f":"IF(ISBLANK(Rådata!A996)=TRUE,\"\",VLOOKUP(MONTH(A996),Opsætning!$G$3:$H$14,2,FALSE))","v":""},{"$f":"IF(ISBLANK(Rådata!B996)=TRUE,\"\",(Rådata!C996*100)/Rådata!B996)","v":""},{"$f":"IF(ISBLANK(Rådata!D996)=TRUE,\"\",((Rådata!D996-Rådata!E996)*100)/Rådata!D996)","v":""},{"$f":"IF(ISBLANK(Rådata!G996)=TRUE,\"\",(Rådata!F996*100)/Rådata!G996)","v":""},{"$f":"IF(ISBLANK(Rådata!K996),\"\",(SUM(Rådata!M996:P996)*100)/SUM(Rådata!H996:K996))","v":""},{"$f":"IF(ISBLANK(Rådata!H996),\"\",((SUM(Rådata!J996:L996)-SUM(Rådata!O996:P996))*100)/SUM(Rådata!H996:L996))","v":""},{"$f":"IF(ISBLANK(Rådata!R996),\"\",(Rådata!Q996*100)/Rådata!R996)","v":""}]
[{"$f":"IF(ISBLANK(Rådata!A997)=TRUE,\"\",Rådata!A997)","v":""},{"$f":"IF(ISBLANK(Rådata!A997)=TRUE,\"\",YEAR(A997))","v":""},{"$f":"IF(ISBLANK(Rådata!A997)=TRUE,\"\",VLOOKUP(MONTH(A997),Opsætning!$G$3:$H$14,2,FALSE))","v":""},{"$f":"IF(ISBLANK(Rådata!B997)=TRUE,\"\",(Rådata!C997*100)/Rådata!B997)","v":""},{"$f":"IF(ISBLANK(Rådata!D997)=TRUE,\"\",((Rådata!D997-Rådata!E997)*100)/Rådata!D997)","v":""},{"$f":"IF(ISBLANK(Rådata!G997)=TRUE,\"\",(Rådata!F997*100)/Rådata!G997)","v":""},{"$f":"IF(ISBLANK(Rådata!K997),\"\",(SUM(Rådata!M997:P997)*100)/SUM(Rådata!H997:K997))","v":""},{"$f":"IF(ISBLANK(Rådata!H997),\"\",((SUM(Rådata!J997:L997)-SUM(Rådata!O997:P997))*100)/SUM(Rådata!H997:L997))","v":""},{"$f":"IF(ISBLANK(Rådata!R997),\"\",(Rådata!Q997*100)/Rådata!R997)","v":""}]
[{"$f":"IF(ISBLANK(Rådata!A998)=TRUE,\"\",Rådata!A998)","v":""},{"$f":"IF(ISBLANK(Rådata!A998)=TRUE,\"\",YEAR(A998))","v":""},{"$f":"IF(ISBLANK(Rådata!A998)=TRUE,\"\",VLOOKUP(MONTH(A998),Opsætning!$G$3:$H$14,2,FALSE))","v":""},{"$f":"IF(ISBLANK(Rådata!B998)=TRUE,\"\",(Rådata!C998*100)/Rådata!B998)","v":""},{"$f":"IF(ISBLANK(Rådata!D998)=TRUE,\"\",((Rådata!D998-Rådata!E998)*100)/Rådata!D998)","v":""},{"$f":"IF(ISBLANK(Rådata!G998)=TRUE,\"\",(Rådata!F998*100)/Rådata!G998)","v":""},{"$f":"IF(ISBLANK(Rådata!K998),\"\",(SUM(Rådata!M998:P998)*100)/SUM(Rådata!H998:K998))","v":""},{"$f":"IF(ISBLANK(Rådata!H998),\"\",((SUM(Rådata!J998:L998)-SUM(Rådata!O998:P998))*100)/SUM(Rådata!H998:L998))","v":""},{"$f":"IF(ISBLANK(Rådata!R998),\"\",(Rådata!Q998*100)/Rådata!R998)","v":""}]
[{"$f":"IF(ISBLANK(Rådata!A999)=TRUE,\"\",Rådata!A999)","v":""},{"$f":"IF(ISBLANK(Rådata!A999)=TRUE,\"\",YEAR(A999))","v":""},{"$f":"IF(ISBLANK(Rådata!A999)=TRUE,\"\",VLOOKUP(MONTH(A999),Opsætning!$G$3:$H$14,2,FALSE))","v":""},{"$f":"IF(ISBLANK(Rådata!B999)=TRUE,\"\",(Rådata!C999*100)/Rådata!B999)","v":""},{"$f":"IF(ISBLANK(Rådata!D999)=TRUE,\"\",((Rådata!D999-Rådata!E999)*100)/Rådata!D999)","v":""},{"$f":"IF(ISBLANK(Rådata!G999)=TRUE,\"\",(Rådata!F999*100)/Rådata!G999)","v":""},{"$f":"IF(ISBLANK(Rådata!K999),\"\",(SUM(Rådata!M999:P999)*100)/SUM(Rådata!H999:K999))","v":""},{"$f":"IF(ISBLANK(Rådata!H999),\"\",((SUM(Rådata!J999:L999)-SUM(Rådata!O999:P999))*100)/SUM(Rådata!H999:L999))","v":""},{"$f":"IF(ISBLANK(Rådata!R999),\"\",(Rådata!Q999*100)/Rådata!R999)","v":""}]
[{"$f":"IF(ISBLANK(Rådata!A1000)=TRUE,\"\",Rådata!A1000)","v":""},{"$f":"IF(ISBLANK(Rådata!A1000)=TRUE,\"\",YEAR(A1000))","v":""},{"$f":"IF(ISBLANK(Rådata!A1000)=TRUE,\"\",VLOOKUP(MONTH(A1000),Opsætning!$G$3:$H$14,2,FALSE))","v":""},{"$f":"IF(ISBLANK(Rådata!B1000)=TRUE,\"\",(Rådata!C1000*100)/Rådata!B1000)","v":""},{"$f":"IF(ISBLANK(Rådata!D1000)=TRUE,\"\",((Rådata!D1000-Rådata!E1000)*100)/Rådata!D1000)","v":""},{"$f":"IF(ISBLANK(Rådata!G1000)=TRUE,\"\",(Rådata!F1000*100)/Rådata!G1000)","v":""},{"$f":"IF(ISBLANK(Rådata!K1000),\"\",(SUM(Rådata!M1000:P1000)*100)/SUM(Rådata!H1000:K1000))","v":""},{"$f":"IF(ISBLANK(Rådata!H1000),\"\",((SUM(Rådata!J1000:L1000)-SUM(Rådata!O1000:P1000))*100)/SUM(Rådata!H1000:L1000))","v":""},{"$f":"IF(ISBLANK(Rådata!R1000),\"\",(Rådata!Q1000*100)/Rådata!R1000)","v":""}]
[{"$f":"IF(ISBLANK(Rådata!A1001)=TRUE,\"\",Rådata!A1001)","v":""},{"$f":"IF(ISBLANK(Rådata!A1001)=TRUE,\"\",YEAR(A1001))","v":""},{"$f":"IF(ISBLANK(Rådata!A1001)=TRUE,\"\",VLOOKUP(MONTH(A1001),Opsætning!$G$3:$H$14,2,FALSE))","v":""},{"$f":"IF(ISBLANK(Rådata!B1001)=TRUE,\"\",(Rådata!C1001*100)/Rådata!B1001)","v":""},{"$f":"IF(ISBLANK(Rådata!D1001)=TRUE,\"\",((Rådata!D1001-Rådata!E1001)*100)/Rådata!D1001)","v":""},{"$f":"IF(ISBLANK(Rådata!G1001)=TRUE,\"\",(Rådata!F1001*100)/Rådata!G1001)","v":""},{"$f":"IF(ISBLANK(Rådata!K1001),\"\",(SUM(Rådata!M1001:P1001)*100)/SUM(Rådata!H1001:K1001))","v":""},{"$f":"IF(ISBLANK(Rådata!H1001),\"\",((SUM(Rådata!J1001:L1001)-SUM(Rådata!O1001:P1001))*100)/SUM(Rådata!H1001:L1001))","v":""},{"$f":"IF(ISBLANK(Rådata!R1001),\"\",(Rådata!Q1001*100)/Rådata!R1001)","v":""}]
[{"$f":"IF(ISBLANK(Rådata!A1002)=TRUE,\"\",Rådata!A1002)","v":""},{"$f":"IF(ISBLANK(Rådata!A1002)=TRUE,\"\",YEAR(A1002))","v":""},{"$f":"IF(ISBLANK(Rådata!A1002)=TRUE,\"\",VLOOKUP(MONTH(A1002),Opsætning!$G$3:$H$14,2,FALSE))","v":""},{"$f":"IF(ISBLANK(Rådata!B1002)=TRUE,\"\",(Rådata!C1002*100)/Rådata!B1002)","v":""},{"$f":"IF(ISBLANK(Rådata!D1002)=TRUE,\"\",((Rådata!D1002-Rådata!E1002)*100)/Rådata!D1002)","v":""},{"$f":"IF(ISBLANK(Rådata!G1002)=TRUE,\"\",(Rådata!F1002*100)/Rådata!G1002)","v":""},{"$f":"IF(ISBLANK(Rådata!K1002),\"\",(SUM(Rådata!M1002:P1002)*100)/SUM(Rådata!H1002:K1002))","v":""},{"$f":"IF(ISBLANK(Rådata!H1002),\"\",((SUM(Rådata!J1002:L1002)-SUM(Rådata!O1002:P1002))*100)/SUM(Rådata!H1002:L1002))","v":""},{"$f":"IF(ISBLANK(Rådata!R1002),\"\",(Rådata!Q1002*100)/Rådata!R1002)","v":""}]
[{"$f":"IF(ISBLANK(Rådata!A1003)=TRUE,\"\",Rådata!A1003)","v":""},{"$f":"IF(ISBLANK(Rådata!A1003)=TRUE,\"\",YEAR(A1003))","v":""},{"$f":"IF(ISBLANK(Rådata!A1003)=TRUE,\"\",VLOOKUP(MONTH(A1003),Opsætning!$G$3:$H$14,2,FALSE))","v":""},{"$f":"IF(ISBLANK(Rådata!B1003)=TRUE,\"\",(Rådata!C1003*100)/Rådata!B1003)","v":""},{"$f":"IF(ISBLANK(Rådata!D1003)=TRUE,\"\",((Rådata!D1003-Rådata!E1003)*100)/Rådata!D1003)","v":""},{"$f":"IF(ISBLANK(Rådata!G1003)=TRUE,\"\",(Rådata!F1003*100)/Rådata!G1003)","v":""},{"$f":"IF(ISBLANK(Rådata!K1003),\"\",(SUM(Rådata!M1003:P1003)*100)/SUM(Rådata!H1003:K1003))","v":""},{"$f":"IF(ISBLANK(Rådata!H1003),\"\",((SUM(Rådata!J1003:L1003)-SUM(Rådata!O1003:P1003))*100)/SUM(Rådata!H1003:L1003))","v":""},{"$f":"IF(ISBLANK(Rådata!R1003),\"\",(Rådata!Q1003*100)/Rådata!R1003)","v":""}]
[{"$f":"IF(ISBLANK(Rådata!A1004)=TRUE,\"\",Rådata!A1004)","v":""},{"$f":"IF(ISBLANK(Rådata!A1004)=TRUE,\"\",YEAR(A1004))","v":""},{"$f":"IF(ISBLANK(Rådata!A1004)=TRUE,\"\",VLOOKUP(MONTH(A1004),Opsætning!$G$3:$H$14,2,FALSE))","v":""},{"$f":"IF(ISBLANK(Rådata!B1004)=TRUE,\"\",(Rådata!C1004*100)/Rådata!B1004)","v":""},{"$f":"IF(ISBLANK(Rådata!D1004)=TRUE,\"\",((Rådata!D1004-Rådata!E1004)*100)/Rådata!D1004)","v":""},{"$f":"IF(ISBLANK(Rådata!G1004)=TRUE,\"\",(Rådata!F1004*100)/Rådata!G1004)","v":""},{"$f":"IF(ISBLANK(Rådata!K1004),\"\",(SUM(Rådata!M1004:P1004)*100)/SUM(Rådata!H1004:K1004))","v":""},{"$f":"IF(ISBLANK(Rådata!H1004),\"\",((SUM(Rådata!J1004:L1004)-SUM(Rådata!O1004:P1004))*100)/SUM(Rådata!H1004:L1004))","v":""},{"$f":"IF(ISBLANK(Rådata!R1004),\"\",(Rådata!Q1004*100)/Rådata!R1004)","v":""}]
[{"$f":"IF(ISBLANK(Rådata!A1005)=TRUE,\"\",Rådata!A1005)","v":""},{"$f":"IF(ISBLANK(Rådata!A1005)=TRUE,\"\",YEAR(A1005))","v":""},{"$f":"IF(ISBLANK(Rådata!A1005)=TRUE,\"\",VLOOKUP(MONTH(A1005),Opsætning!$G$3:$H$14,2,FALSE))","v":""},{"$f":"IF(ISBLANK(Rådata!B1005)=TRUE,\"\",(Rådata!C1005*100)/Rådata!B1005)","v":""},{"$f":"IF(ISBLANK(Rådata!D1005)=TRUE,\"\",((Rådata!D1005-Rådata!E1005)*100)/Rådata!D1005)","v":""},{"$f":"IF(ISBLANK(Rådata!G1005)=TRUE,\"\",(Rådata!F1005*100)/Rådata!G1005)","v":""},{"$f":"IF(ISBLANK(Rådata!K1005),\"\",(SUM(Rådata!M1005:P1005)*100)/SUM(Rådata!H1005:K1005))","v":""},{"$f":"IF(ISBLANK(Rådata!H1005),\"\",((SUM(Rådata!J1005:L1005)-SUM(Rådata!O1005:P1005))*100)/SUM(Rådata!H1005:L1005))","v":""},{"$f":"IF(ISBLANK(Rådata!R1005),\"\",(Rådata!Q1005*100)/Rådata!R1005)","v":""}]
[{"$f":"IF(ISBLANK(Rådata!A1006)=TRUE,\"\",Rådata!A1006)","v":""},{"$f":"IF(ISBLANK(Rådata!A1006)=TRUE,\"\",YEAR(A1006))","v":""},{"$f":"IF(ISBLANK(Rådata!A1006)=TRUE,\"\",VLOOKUP(MONTH(A1006),Opsætning!$G$3:$H$14,2,FALSE))","v":""},{"$f":"IF(ISBLANK(Rådata!B1006)=TRUE,\"\",(Rådata!C1006*100)/Rådata!B1006)","v":""},{"$f":"IF(ISBLANK(Rådata!D1006)=TRUE,\"\",((Rådata!D1006-Rådata!E1006)*100)/Rådata!D1006)","v":""},{"$f":"IF(ISBLANK(Rådata!G1006)=TRUE,\"\",(Rådata!F1006*100)/Rådata!G1006)","v":""},{"$f":"IF(ISBLANK(Rådata!K1006),\"\",(SUM(Rådata!M1006:P1006)*100)/SUM(Rådata!H1006:K1006))","v":""},{"$f":"IF(ISBLANK(Rådata!H1006),\"\",((SUM(Rådata!J1006:L1006)-SUM(Rådata!O1006:P1006))*100)/SUM(Rådata!H1006:L1006))","v":""},{"$f":"IF(ISBLANK(Rådata!R1006),\"\",(Rådata!Q1006*100)/Rådata!R1006)","v":""}]
[{"$f":"IF(ISBLANK(Rådata!A1007)=TRUE,\"\",Rådata!A1007)","v":""},{"$f":"IF(ISBLANK(Rådata!A1007)=TRUE,\"\",YEAR(A1007))","v":""},{"$f":"IF(ISBLANK(Rådata!A1007)=TRUE,\"\",VLOOKUP(MONTH(A1007),Opsætning!$G$3:$H$14,2,FALSE))","v":""},{"$f":"IF(ISBLANK(Rådata!B1007)=TRUE,\"\",(Rådata!C1007*100)/Rådata!B1007)","v":""},{"$f":"IF(ISBLANK(Rådata!D1007)=TRUE,\"\",((Rådata!D1007-Rådata!E1007)*100)/Rådata!D1007)","v":""},{"$f":"IF(ISBLANK(Rådata!G1007)=TRUE,\"\",(Rådata!F1007*100)/Rådata!G1007)","v":""},{"$f":"IF(ISBLANK(Rådata!K1007),\"\",(SUM(Rådata!M1007:P1007)*100)/SUM(Rådata!H1007:K1007))","v":""},{"$f":"IF(ISBLANK(Rådata!H1007),\"\",((SUM(Rådata!J1007:L1007)-SUM(Rådata!O1007:P1007))*100)/SUM(Rådata!H1007:L1007))","v":""},{"$f":"IF(ISBLANK(Rådata!R1007),\"\",(Rådata!Q1007*100)/Rådata!R1007)","v":""}]
[{"$f":"IF(ISBLANK(Rådata!A1008)=TRUE,\"\",Rådata!A1008)","v":""},{"$f":"IF(ISBLANK(Rådata!A1008)=TRUE,\"\",YEAR(A1008))","v":""},{"$f":"IF(ISBLANK(Rådata!A1008)=TRUE,\"\",VLOOKUP(MONTH(A1008),Opsætning!$G$3:$H$14,2,FALSE))","v":""},{"$f":"IF(ISBLANK(Rådata!B1008)=TRUE,\"\",(Rådata!C1008*100)/Rådata!B1008)","v":""},{"$f":"IF(ISBLANK(Rådata!D1008)=TRUE,\"\",((Rådata!D1008-Rådata!E1008)*100)/Rådata!D1008)","v":""},{"$f":"IF(ISBLANK(Rådata!G1008)=TRUE,\"\",(Rådata!F1008*100)/Rådata!G1008)","v":""},{"$f":"IF(ISBLANK(Rådata!K1008),\"\",(SUM(Rådata!M1008:P1008)*100)/SUM(Rådata!H1008:K1008))","v":""},{"$f":"IF(ISBLANK(Rådata!H1008),\"\",((SUM(Rådata!J1008:L1008)-SUM(Rådata!O1008:P1008))*100)/SUM(Rådata!H1008:L1008))","v":""},{"$f":"IF(ISBLANK(Rådata!R1008),\"\",(Rådata!Q1008*100)/Rådata!R1008)","v":""}]
[{"$f":"IF(ISBLANK(Rådata!A1009)=TRUE,\"\",Rådata!A1009)","v":""},{"$f":"IF(ISBLANK(Rådata!A1009)=TRUE,\"\",YEAR(A1009))","v":""},{"$f":"IF(ISBLANK(Rådata!A1009)=TRUE,\"\",VLOOKUP(MONTH(A1009),Opsætning!$G$3:$H$14,2,FALSE))","v":""},{"$f":"IF(ISBLANK(Rådata!B1009)=TRUE,\"\",(Rådata!C1009*100)/Rådata!B1009)","v":""},{"$f":"IF(ISBLANK(Rådata!D1009)=TRUE,\"\",((Rådata!D1009-Rådata!E1009)*100)/Rådata!D1009)","v":""},{"$f":"IF(ISBLANK(Rådata!G1009)=TRUE,\"\",(Rådata!F1009*100)/Rådata!G1009)","v":""},{"$f":"IF(ISBLANK(Rådata!K1009),\"\",(SUM(Rådata!M1009:P1009)*100)/SUM(Rådata!H1009:K1009))","v":""},{"$f":"IF(ISBLANK(Rådata!H1009),\"\",((SUM(Rådata!J1009:L1009)-SUM(Rådata!O1009:P1009))*100)/SUM(Rådata!H1009:L1009))","v":""},{"$f":"IF(ISBLANK(Rådata!R1009),\"\",(Rådata!Q1009*100)/Rådata!R1009)","v":""}]
[{"$f":"IF(ISBLANK(Rådata!A1010)=TRUE,\"\",Rådata!A1010)","v":""},{"$f":"IF(ISBLANK(Rådata!A1010)=TRUE,\"\",YEAR(A1010))","v":""},{"$f":"IF(ISBLANK(Rådata!A1010)=TRUE,\"\",VLOOKUP(MONTH(A1010),Opsætning!$G$3:$H$14,2,FALSE))","v":""},{"$f":"IF(ISBLANK(Rådata!B1010)=TRUE,\"\",(Rådata!C1010*100)/Rådata!B1010)","v":""},{"$f":"IF(ISBLANK(Rådata!D1010)=TRUE,\"\",((Rådata!D1010-Rådata!E1010)*100)/Rådata!D1010)","v":""},{"$f":"IF(ISBLANK(Rådata!G1010)=TRUE,\"\",(Rådata!F1010*100)/Rådata!G1010)","v":""},{"$f":"IF(ISBLANK(Rådata!K1010),\"\",(SUM(Rådata!M1010:P1010)*100)/SUM(Rådata!H1010:K1010))","v":""},{"$f":"IF(ISBLANK(Rådata!H1010),\"\",((SUM(Rådata!J1010:L1010)-SUM(Rådata!O1010:P1010))*100)/SUM(Rådata!H1010:L1010))","v":""},{"$f":"IF(ISBLANK(Rådata!R1010),\"\",(Rådata!Q1010*100)/Rådata!R1010)","v":""}]
[{"$f":"IF(ISBLANK(Rådata!A1011)=TRUE,\"\",Rådata!A1011)","v":""},{"$f":"IF(ISBLANK(Rådata!A1011)=TRUE,\"\",YEAR(A1011))","v":""},{"$f":"IF(ISBLANK(Rådata!A1011)=TRUE,\"\",VLOOKUP(MONTH(A1011),Opsætning!$G$3:$H$14,2,FALSE))","v":""},{"$f":"IF(ISBLANK(Rådata!B1011)=TRUE,\"\",(Rådata!C1011*100)/Rådata!B1011)","v":""},{"$f":"IF(ISBLANK(Rådata!D1011)=TRUE,\"\",((Rådata!D1011-Rådata!E1011)*100)/Rådata!D1011)","v":""},{"$f":"IF(ISBLANK(Rådata!G1011)=TRUE,\"\",(Rådata!F1011*100)/Rådata!G1011)","v":""},{"$f":"IF(ISBLANK(Rådata!K1011),\"\",(SUM(Rådata!M1011:P1011)*100)/SUM(Rådata!H1011:K1011))","v":""},{"$f":"IF(ISBLANK(Rådata!H1011),\"\",((SUM(Rådata!J1011:L1011)-SUM(Rådata!O1011:P1011))*100)/SUM(Rådata!H1011:L1011))","v":""},{"$f":"IF(ISBLANK(Rådata!R1011),\"\",(Rådata!Q1011*100)/Rådata!R1011)","v":""}]
[{"$f":"IF(ISBLANK(Rådata!A1012)=TRUE,\"\",Rådata!A1012)","v":""},{"$f":"IF(ISBLANK(Rådata!A1012)=TRUE,\"\",YEAR(A1012))","v":""},{"$f":"IF(ISBLANK(Rådata!A1012)=TRUE,\"\",VLOOKUP(MONTH(A1012),Opsætning!$G$3:$H$14,2,FALSE))","v":""},{"$f":"IF(ISBLANK(Rådata!B1012)=TRUE,\"\",(Rådata!C1012*100)/Rådata!B1012)","v":""},{"$f":"IF(ISBLANK(Rådata!D1012)=TRUE,\"\",((Rådata!D1012-Rådata!E1012)*100)/Rådata!D1012)","v":""},{"$f":"IF(ISBLANK(Rådata!G1012)=TRUE,\"\",(Rådata!F1012*100)/Rådata!G1012)","v":""},{"$f":"IF(ISBLANK(Rådata!K1012),\"\",(SUM(Rådata!M1012:P1012)*100)/SUM(Rådata!H1012:K1012))","v":""},{"$f":"IF(ISBLANK(Rådata!H1012),\"\",((SUM(Rådata!J1012:L1012)-SUM(Rådata!O1012:P1012))*100)/SUM(Rådata!H1012:L1012))","v":""},{"$f":"IF(ISBLANK(Rådata!R1012),\"\",(Rådata!Q1012*100)/Rådata!R1012)","v":""}]
[{"$f":"IF(ISBLANK(Rådata!A1013)=TRUE,\"\",Rådata!A1013)","v":""},{"$f":"IF(ISBLANK(Rådata!A1013)=TRUE,\"\",YEAR(A1013))","v":""},{"$f":"IF(ISBLANK(Rådata!A1013)=TRUE,\"\",VLOOKUP(MONTH(A1013),Opsætning!$G$3:$H$14,2,FALSE))","v":""},{"$f":"IF(ISBLANK(Rådata!B1013)=TRUE,\"\",(Rådata!C1013*100)/Rådata!B1013)","v":""},{"$f":"IF(ISBLANK(Rådata!D1013)=TRUE,\"\",((Rådata!D1013-Rådata!E1013)*100)/Rådata!D1013)","v":""},{"$f":"IF(ISBLANK(Rådata!G1013)=TRUE,\"\",(Rådata!F1013*100)/Rådata!G1013)","v":""},{"$f":"IF(ISBLANK(Rådata!K1013),\"\",(SUM(Rådata!M1013:P1013)*100)/SUM(Rådata!H1013:K1013))","v":""},{"$f":"IF(ISBLANK(Rådata!H1013),\"\",((SUM(Rådata!J1013:L1013)-SUM(Rådata!O1013:P1013))*100)/SUM(Rådata!H1013:L1013))","v":""},{"$f":"IF(ISBLANK(Rådata!R1013),\"\",(Rådata!Q1013*100)/Rådata!R1013)","v":""}]
[{"$f":"IF(ISBLANK(Rådata!A1014)=TRUE,\"\",Rådata!A1014)","v":""},{"$f":"IF(ISBLANK(Rådata!A1014)=TRUE,\"\",YEAR(A1014))","v":""},{"$f":"IF(ISBLANK(Rådata!A1014)=TRUE,\"\",VLOOKUP(MONTH(A1014),Opsætning!$G$3:$H$14,2,FALSE))","v":""},{"$f":"IF(ISBLANK(Rådata!B1014)=TRUE,\"\",(Rådata!C1014*100)/Rådata!B1014)","v":""},{"$f":"IF(ISBLANK(Rådata!D1014)=TRUE,\"\",((Rådata!D1014-Rådata!E1014)*100)/Rådata!D1014)","v":""},{"$f":"IF(ISBLANK(Rådata!G1014)=TRUE,\"\",(Rådata!F1014*100)/Rådata!G1014)","v":""},{"$f":"IF(ISBLANK(Rådata!K1014),\"\",(SUM(Rådata!M1014:P1014)*100)/SUM(Rådata!H1014:K1014))","v":""},{"$f":"IF(ISBLANK(Rådata!H1014),\"\",((SUM(Rådata!J1014:L1014)-SUM(Rådata!O1014:P1014))*100)/SUM(Rådata!H1014:L1014))","v":""},{"$f":"IF(ISBLANK(Rådata!R1014),\"\",(Rådata!Q1014*100)/Rådata!R1014)","v":""}]
[{"$f":"IF(ISBLANK(Rådata!A1015)=TRUE,\"\",Rådata!A1015)","v":""},{"$f":"IF(ISBLANK(Rådata!A1015)=TRUE,\"\",YEAR(A1015))","v":""},{"$f":"IF(ISBLANK(Rådata!A1015)=TRUE,\"\",VLOOKUP(MONTH(A1015),Opsætning!$G$3:$H$14,2,FALSE))","v":""},{"$f":"IF(ISBLANK(Rådata!B1015)=TRUE,\"\",(Rådata!C1015*100)/Rådata!B1015)","v":""},{"$f":"IF(ISBLANK(Rådata!D1015)=TRUE,\"\",((Rådata!D1015-Rådata!E1015)*100)/Rådata!D1015)","v":""},{"$f":"IF(ISBLANK(Rådata!G1015)=TRUE,\"\",(Rådata!F1015*100)/Rådata!G1015)","v":""},{"$f":"IF(ISBLANK(Rådata!K1015),\"\",(SUM(Rådata!M1015:P1015)*100)/SUM(Rådata!H1015:K1015))","v":""},{"$f":"IF(ISBLANK(Rådata!H1015),\"\",((SUM(Rådata!J1015:L1015)-SUM(Rådata!O1015:P1015))*100)/SUM(Rådata!H1015:L1015))","v":""},{"$f":"IF(ISBLANK(Rådata!R1015),\"\",(Rådata!Q1015*100)/Rådata!R1015)","v":""}]
[{"$f":"IF(ISBLANK(Rådata!A1016)=TRUE,\"\",Rådata!A1016)","v":""},{"$f":"IF(ISBLANK(Rådata!A1016)=TRUE,\"\",YEAR(A1016))","v":""},{"$f":"IF(ISBLANK(Rådata!A1016)=TRUE,\"\",VLOOKUP(MONTH(A1016),Opsætning!$G$3:$H$14,2,FALSE))","v":""},{"$f":"IF(ISBLANK(Rådata!B1016)=TRUE,\"\",(Rådata!C1016*100)/Rådata!B1016)","v":""},{"$f":"IF(ISBLANK(Rådata!D1016)=TRUE,\"\",((Rådata!D1016-Rådata!E1016)*100)/Rådata!D1016)","v":""},{"$f":"IF(ISBLANK(Rådata!G1016)=TRUE,\"\",(Rådata!F1016*100)/Rådata!G1016)","v":""},{"$f":"IF(ISBLANK(Rådata!K1016),\"\",(SUM(Rådata!M1016:P1016)*100)/SUM(Rådata!H1016:K1016))","v":""},{"$f":"IF(ISBLANK(Rådata!H1016),\"\",((SUM(Rådata!J1016:L1016)-SUM(Rådata!O1016:P1016))*100)/SUM(Rådata!H1016:L1016))","v":""},{"$f":"IF(ISBLANK(Rådata!R1016),\"\",(Rådata!Q1016*100)/Rådata!R1016)","v":""}]
[{"$f":"IF(ISBLANK(Rådata!A1017)=TRUE,\"\",Rådata!A1017)","v":""},{"$f":"IF(ISBLANK(Rådata!A1017)=TRUE,\"\",YEAR(A1017))","v":""},{"$f":"IF(ISBLANK(Rådata!A1017)=TRUE,\"\",VLOOKUP(MONTH(A1017),Opsætning!$G$3:$H$14,2,FALSE))","v":""},{"$f":"IF(ISBLANK(Rådata!B1017)=TRUE,\"\",(Rådata!C1017*100)/Rådata!B1017)","v":""},{"$f":"IF(ISBLANK(Rådata!D1017)=TRUE,\"\",((Rådata!D1017-Rådata!E1017)*100)/Rådata!D1017)","v":""},{"$f":"IF(ISBLANK(Rådata!G1017)=TRUE,\"\",(Rådata!F1017*100)/Rådata!G1017)","v":""},{"$f":"IF(ISBLANK(Rådata!K1017),\"\",(SUM(Rådata!M1017:P1017)*100)/SUM(Rådata!H1017:K1017))","v":""},{"$f":"IF(ISBLANK(Rådata!H1017),\"\",((SUM(Rådata!J1017:L1017)-SUM(Rådata!O1017:P1017))*100)/SUM(Rådata!H1017:L1017))","v":""},{"$f":"IF(ISBLANK(Rådata!R1017),\"\",(Rådata!Q1017*100)/Rådata!R1017)","v":""}]
[{"$f":"IF(ISBLANK(Rådata!A1018)=TRUE,\"\",Rådata!A1018)","v":""},{"$f":"IF(ISBLANK(Rådata!A1018)=TRUE,\"\",YEAR(A1018))","v":""},{"$f":"IF(ISBLANK(Rådata!A1018)=TRUE,\"\",VLOOKUP(MONTH(A1018),Opsætning!$G$3:$H$14,2,FALSE))","v":""},{"$f":"IF(ISBLANK(Rådata!B1018)=TRUE,\"\",(Rådata!C1018*100)/Rådata!B1018)","v":""},{"$f":"IF(ISBLANK(Rådata!D1018)=TRUE,\"\",((Rådata!D1018-Rådata!E1018)*100)/Rådata!D1018)","v":""},{"$f":"IF(ISBLANK(Rådata!G1018)=TRUE,\"\",(Rådata!F1018*100)/Rådata!G1018)","v":""},{"$f":"IF(ISBLANK(Rådata!K1018),\"\",(SUM(Rådata!M1018:P1018)*100)/SUM(Rådata!H1018:K1018))","v":""},{"$f":"IF(ISBLANK(Rådata!H1018),\"\",((SUM(Rådata!J1018:L1018)-SUM(Rådata!O1018:P1018))*100)/SUM(Rådata!H1018:L1018))","v":""},{"$f":"IF(ISBLANK(Rådata!R1018),\"\",(Rådata!Q1018*100)/Rådata!R1018)","v":""}]
[{"$f":"IF(ISBLANK(Rådata!A1019)=TRUE,\"\",Rådata!A1019)","v":""},{"$f":"IF(ISBLANK(Rådata!A1019)=TRUE,\"\",YEAR(A1019))","v":""},{"$f":"IF(ISBLANK(Rådata!A1019)=TRUE,\"\",VLOOKUP(MONTH(A1019),Opsætning!$G$3:$H$14,2,FALSE))","v":""},{"$f":"IF(ISBLANK(Rådata!B1019)=TRUE,\"\",(Rådata!C1019*100)/Rådata!B1019)","v":""},{"$f":"IF(ISBLANK(Rådata!D1019)=TRUE,\"\",((Rådata!D1019-Rådata!E1019)*100)/Rådata!D1019)","v":""},{"$f":"IF(ISBLANK(Rådata!G1019)=TRUE,\"\",(Rådata!F1019*100)/Rådata!G1019)","v":""},{"$f":"IF(ISBLANK(Rådata!K1019),\"\",(SUM(Rådata!M1019:P1019)*100)/SUM(Rådata!H1019:K1019))","v":""},{"$f":"IF(ISBLANK(Rådata!H1019),\"\",((SUM(Rådata!J1019:L1019)-SUM(Rådata!O1019:P1019))*100)/SUM(Rådata!H1019:L1019))","v":""},{"$f":"IF(ISBLANK(Rådata!R1019),\"\",(Rådata!Q1019*100)/Rådata!R1019)","v":""}]
[{"$f":"IF(ISBLANK(Rådata!A1020)=TRUE,\"\",Rådata!A1020)","v":""},{"$f":"IF(ISBLANK(Rådata!A1020)=TRUE,\"\",YEAR(A1020))","v":""},{"$f":"IF(ISBLANK(Rådata!A1020)=TRUE,\"\",VLOOKUP(MONTH(A1020),Opsætning!$G$3:$H$14,2,FALSE))","v":""},{"$f":"IF(ISBLANK(Rådata!B1020)=TRUE,\"\",(Rådata!C1020*100)/Rådata!B1020)","v":""},{"$f":"IF(ISBLANK(Rådata!D1020)=TRUE,\"\",((Rådata!D1020-Rådata!E1020)*100)/Rådata!D1020)","v":""},{"$f":"IF(ISBLANK(Rådata!G1020)=TRUE,\"\",(Rådata!F1020*100)/Rådata!G1020)","v":""},{"$f":"IF(ISBLANK(Rådata!K1020),\"\",(SUM(Rådata!M1020:P1020)*100)/SUM(Rådata!H1020:K1020))","v":""},{"$f":"IF(ISBLANK(Rådata!H1020),\"\",((SUM(Rådata!J1020:L1020)-SUM(Rådata!O1020:P1020))*100)/SUM(Rådata!H1020:L1020))","v":""},{"$f":"IF(ISBLANK(Rådata!R1020),\"\",(Rådata!Q1020*100)/Rådata!R1020)","v":""}]
[{"$f":"IF(ISBLANK(Rådata!A1021)=TRUE,\"\",Rådata!A1021)","v":""},{"$f":"IF(ISBLANK(Rådata!A1021)=TRUE,\"\",YEAR(A1021))","v":""},{"$f":"IF(ISBLANK(Rådata!A1021)=TRUE,\"\",VLOOKUP(MONTH(A1021),Opsætning!$G$3:$H$14,2,FALSE))","v":""},{"$f":"IF(ISBLANK(Rådata!B1021)=TRUE,\"\",(Rådata!C1021*100)/Rådata!B1021)","v":""},{"$f":"IF(ISBLANK(Rådata!D1021)=TRUE,\"\",((Rådata!D1021-Rådata!E1021)*100)/Rådata!D1021)","v":""},{"$f":"IF(ISBLANK(Rådata!G1021)=TRUE,\"\",(Rådata!F1021*100)/Rådata!G1021)","v":""},{"$f":"IF(ISBLANK(Rådata!K1021),\"\",(SUM(Rådata!M1021:P1021)*100)/SUM(Rådata!H1021:K1021))","v":""},{"$f":"IF(ISBLANK(Rådata!H1021),\"\",((SUM(Rådata!J1021:L1021)-SUM(Rådata!O1021:P1021))*100)/SUM(Rådata!H1021:L1021))","v":""},{"$f":"IF(ISBLANK(Rådata!R1021),\"\",(Rådata!Q1021*100)/Rådata!R1021)","v":""}]
[{"$f":"IF(ISBLANK(Rådata!A1022)=TRUE,\"\",Rådata!A1022)","v":""},{"$f":"IF(ISBLANK(Rådata!A1022)=TRUE,\"\",YEAR(A1022))","v":""},{"$f":"IF(ISBLANK(Rådata!A1022)=TRUE,\"\",VLOOKUP(MONTH(A1022),Opsætning!$G$3:$H$14,2,FALSE))","v":""},{"$f":"IF(ISBLANK(Rådata!B1022)=TRUE,\"\",(Rådata!C1022*100)/Rådata!B1022)","v":""},{"$f":"IF(ISBLANK(Rådata!D1022)=TRUE,\"\",((Rådata!D1022-Rådata!E1022)*100)/Rådata!D1022)","v":""},{"$f":"IF(ISBLANK(Rådata!G1022)=TRUE,\"\",(Rådata!F1022*100)/Rådata!G1022)","v":""},{"$f":"IF(ISBLANK(Rådata!K1022),\"\",(SUM(Rådata!M1022:P1022)*100)/SUM(Rådata!H1022:K1022))","v":""},{"$f":"IF(ISBLANK(Rådata!H1022),\"\",((SUM(Rådata!J1022:L1022)-SUM(Rådata!O1022:P1022))*100)/SUM(Rådata!H1022:L1022))","v":""},{"$f":"IF(ISBLANK(Rådata!R1022),\"\",(Rådata!Q1022*100)/Rådata!R1022)","v":""}]
[{"$f":"IF(ISBLANK(Rådata!A1023)=TRUE,\"\",Rådata!A1023)","v":""},{"$f":"IF(ISBLANK(Rådata!A1023)=TRUE,\"\",YEAR(A1023))","v":""},{"$f":"IF(ISBLANK(Rådata!A1023)=TRUE,\"\",VLOOKUP(MONTH(A1023),Opsætning!$G$3:$H$14,2,FALSE))","v":""},{"$f":"IF(ISBLANK(Rådata!B1023)=TRUE,\"\",(Rådata!C1023*100)/Rådata!B1023)","v":""},{"$f":"IF(ISBLANK(Rådata!D1023)=TRUE,\"\",((Rådata!D1023-Rådata!E1023)*100)/Rådata!D1023)","v":""},{"$f":"IF(ISBLANK(Rådata!G1023)=TRUE,\"\",(Rådata!F1023*100)/Rådata!G1023)","v":""},{"$f":"IF(ISBLANK(Rådata!K1023),\"\",(SUM(Rådata!M1023:P1023)*100)/SUM(Rådata!H1023:K1023))","v":""},{"$f":"IF(ISBLANK(Rådata!H1023),\"\",((SUM(Rådata!J1023:L1023)-SUM(Rådata!O1023:P1023))*100)/SUM(Rådata!H1023:L1023))","v":""},{"$f":"IF(ISBLANK(Rådata!R1023),\"\",(Rådata!Q1023*100)/Rådata!R1023)","v":""}]
[{"$f":"IF(ISBLANK(Rådata!A1024)=TRUE,\"\",Rådata!A1024)","v":""},{"$f":"IF(ISBLANK(Rådata!A1024)=TRUE,\"\",YEAR(A1024))","v":""},{"$f":"IF(ISBLANK(Rådata!A1024)=TRUE,\"\",VLOOKUP(MONTH(A1024),Opsætning!$G$3:$H$14,2,FALSE))","v":""},{"$f":"IF(ISBLANK(Rådata!B1024)=TRUE,\"\",(Rådata!C1024*100)/Rådata!B1024)","v":""},{"$f":"IF(ISBLANK(Rådata!D1024)=TRUE,\"\",((Rådata!D1024-Rådata!E1024)*100)/Rådata!D1024)","v":""},{"$f":"IF(ISBLANK(Rådata!G1024)=TRUE,\"\",(Rådata!F1024*100)/Rådata!G1024)","v":""},{"$f":"IF(ISBLANK(Rådata!K1024),\"\",(SUM(Rådata!M1024:P1024)*100)/SUM(Rådata!H1024:K1024))","v":""},{"$f":"IF(ISBLANK(Rådata!H1024),\"\",((SUM(Rådata!J1024:L1024)-SUM(Rådata!O1024:P1024))*100)/SUM(Rådata!H1024:L1024))","v":""},{"$f":"IF(ISBLANK(Rådata!R1024),\"\",(Rådata!Q1024*100)/Rådata!R1024)","v":""}]
[{"$f":"IF(ISBLANK(Rådata!A1025)=TRUE,\"\",Rådata!A1025)","v":""},{"$f":"IF(ISBLANK(Rådata!A1025)=TRUE,\"\",YEAR(A1025))","v":""},{"$f":"IF(ISBLANK(Rådata!A1025)=TRUE,\"\",VLOOKUP(MONTH(A1025),Opsætning!$G$3:$H$14,2,FALSE))","v":""},{"$f":"IF(ISBLANK(Rådata!B1025)=TRUE,\"\",(Rådata!C1025*100)/Rådata!B1025)","v":""},{"$f":"IF(ISBLANK(Rådata!D1025)=TRUE,\"\",((Rådata!D1025-Rådata!E1025)*100)/Rådata!D1025)","v":""},{"$f":"IF(ISBLANK(Rådata!G1025)=TRUE,\"\",(Rådata!F1025*100)/Rådata!G1025)","v":""},{"$f":"IF(ISBLANK(Rådata!K1025),\"\",(SUM(Rådata!M1025:P1025)*100)/SUM(Rådata!H1025:K1025))","v":""},{"$f":"IF(ISBLANK(Rådata!H1025),\"\",((SUM(Rådata!J1025:L1025)-SUM(Rådata!O1025:P1025))*100)/SUM(Rådata!H1025:L1025))","v":""},{"$f":"IF(ISBLANK(Rådata!R1025),\"\",(Rådata!Q1025*100)/Rådata!R1025)","v":""}]
[{"$f":"IF(ISBLANK(Rådata!A1026)=TRUE,\"\",Rådata!A1026)","v":""},{"$f":"IF(ISBLANK(Rådata!A1026)=TRUE,\"\",YEAR(A1026))","v":""},{"$f":"IF(ISBLANK(Rådata!A1026)=TRUE,\"\",VLOOKUP(MONTH(A1026),Opsætning!$G$3:$H$14,2,FALSE))","v":""},{"$f":"IF(ISBLANK(Rådata!B1026)=TRUE,\"\",(Rådata!C1026*100)/Rådata!B1026)","v":""},{"$f":"IF(ISBLANK(Rådata!D1026)=TRUE,\"\",((Rådata!D1026-Rådata!E1026)*100)/Rådata!D1026)","v":""},{"$f":"IF(ISBLANK(Rådata!G1026)=TRUE,\"\",(Rådata!F1026*100)/Rådata!G1026)","v":""},{"$f":"IF(ISBLANK(Rådata!K1026),\"\",(SUM(Rådata!M1026:P1026)*100)/SUM(Rådata!H1026:K1026))","v":""},{"$f":"IF(ISBLANK(Rådata!H1026),\"\",((SUM(Rådata!J1026:L1026)-SUM(Rådata!O1026:P1026))*100)/SUM(Rådata!H1026:L1026))","v":""},{"$f":"IF(ISBLANK(Rådata!R1026),\"\",(Rådata!Q1026*100)/Rådata!R1026)","v":""}]
[{"$f":"IF(ISBLANK(Rådata!A1027)=TRUE,\"\",Rådata!A1027)","v":""},{"$f":"IF(ISBLANK(Rådata!A1027)=TRUE,\"\",YEAR(A1027))","v":""},{"$f":"IF(ISBLANK(Rådata!A1027)=TRUE,\"\",VLOOKUP(MONTH(A1027),Opsætning!$G$3:$H$14,2,FALSE))","v":""},{"$f":"IF(ISBLANK(Rådata!B1027)=TRUE,\"\",(Rådata!C1027*100)/Rådata!B1027)","v":""},{"$f":"IF(ISBLANK(Rådata!D1027)=TRUE,\"\",((Rådata!D1027-Rådata!E1027)*100)/Rådata!D1027)","v":""},{"$f":"IF(ISBLANK(Rådata!G1027)=TRUE,\"\",(Rådata!F1027*100)/Rådata!G1027)","v":""},{"$f":"IF(ISBLANK(Rådata!K1027),\"\",(SUM(Rådata!M1027:P1027)*100)/SUM(Rådata!H1027:K1027))","v":""},{"$f":"IF(ISBLANK(Rådata!H1027),\"\",((SUM(Rådata!J1027:L1027)-SUM(Rådata!O1027:P1027))*100)/SUM(Rådata!H1027:L1027))","v":""},{"$f":"IF(ISBLANK(Rådata!R1027),\"\",(Rådata!Q1027*100)/Rådata!R1027)","v":""}]
[{"$f":"IF(ISBLANK(Rådata!A1028)=TRUE,\"\",Rådata!A1028)","v":""},{"$f":"IF(ISBLANK(Rådata!A1028)=TRUE,\"\",YEAR(A1028))","v":""},{"$f":"IF(ISBLANK(Rådata!A1028)=TRUE,\"\",VLOOKUP(MONTH(A1028),Opsætning!$G$3:$H$14,2,FALSE))","v":""},{"$f":"IF(ISBLANK(Rådata!B1028)=TRUE,\"\",(Rådata!C1028*100)/Rådata!B1028)","v":""},{"$f":"IF(ISBLANK(Rådata!D1028)=TRUE,\"\",((Rådata!D1028-Rådata!E1028)*100)/Rådata!D1028)","v":""},{"$f":"IF(ISBLANK(Rådata!G1028)=TRUE,\"\",(Rådata!F1028*100)/Rådata!G1028)","v":""},{"$f":"IF(ISBLANK(Rådata!K1028),\"\",(SUM(Rådata!M1028:P1028)*100)/SUM(Rådata!H1028:K1028))","v":""},{"$f":"IF(ISBLANK(Rådata!H1028),\"\",((SUM(Rådata!J1028:L1028)-SUM(Rådata!O1028:P1028))*100)/SUM(Rådata!H1028:L1028))","v":""},{"$f":"IF(ISBLANK(Rådata!R1028),\"\",(Rådata!Q1028*100)/Rådata!R1028)","v":""}]
[{"$f":"IF(ISBLANK(Rådata!A1029)=TRUE,\"\",Rådata!A1029)","v":""},{"$f":"IF(ISBLANK(Rådata!A1029)=TRUE,\"\",YEAR(A1029))","v":""},{"$f":"IF(ISBLANK(Rådata!A1029)=TRUE,\"\",VLOOKUP(MONTH(A1029),Opsætning!$G$3:$H$14,2,FALSE))","v":""},{"$f":"IF(ISBLANK(Rådata!B1029)=TRUE,\"\",(Rådata!C1029*100)/Rådata!B1029)","v":""},{"$f":"IF(ISBLANK(Rådata!D1029)=TRUE,\"\",((Rådata!D1029-Rådata!E1029)*100)/Rådata!D1029)","v":""},{"$f":"IF(ISBLANK(Rådata!G1029)=TRUE,\"\",(Rådata!F1029*100)/Rådata!G1029)","v":""},{"$f":"IF(ISBLANK(Rådata!K1029),\"\",(SUM(Rådata!M1029:P1029)*100)/SUM(Rådata!H1029:K1029))","v":""},{"$f":"IF(ISBLANK(Rådata!H1029),\"\",((SUM(Rådata!J1029:L1029)-SUM(Rådata!O1029:P1029))*100)/SUM(Rådata!H1029:L1029))","v":""},{"$f":"IF(ISBLANK(Rådata!R1029),\"\",(Rådata!Q1029*100)/Rådata!R1029)","v":""}]
[{"$f":"IF(ISBLANK(Rådata!A1030)=TRUE,\"\",Rådata!A1030)","v":""},{"$f":"IF(ISBLANK(Rådata!A1030)=TRUE,\"\",YEAR(A1030))","v":""},{"$f":"IF(ISBLANK(Rådata!A1030)=TRUE,\"\",VLOOKUP(MONTH(A1030),Opsætning!$G$3:$H$14,2,FALSE))","v":""},{"$f":"IF(ISBLANK(Rådata!B1030)=TRUE,\"\",(Rådata!C1030*100)/Rådata!B1030)","v":""},{"$f":"IF(ISBLANK(Rådata!D1030)=TRUE,\"\",((Rådata!D1030-Rådata!E1030)*100)/Rådata!D1030)","v":""},{"$f":"IF(ISBLANK(Rådata!G1030)=TRUE,\"\",(Rådata!F1030*100)/Rådata!G1030)","v":""},{"$f":"IF(ISBLANK(Rådata!K1030),\"\",(SUM(Rådata!M1030:P1030)*100)/SUM(Rådata!H1030:K1030))","v":""},{"$f":"IF(ISBLANK(Rådata!H1030),\"\",((SUM(Rådata!J1030:L1030)-SUM(Rådata!O1030:P1030))*100)/SUM(Rådata!H1030:L1030))","v":""},{"$f":"IF(ISBLANK(Rådata!R1030),\"\",(Rådata!Q1030*100)/Rådata!R1030)","v":""}]
[{"$f":"IF(ISBLANK(Rådata!A1031)=TRUE,\"\",Rådata!A1031)","v":""},{"$f":"IF(ISBLANK(Rådata!A1031)=TRUE,\"\",YEAR(A1031))","v":""},{"$f":"IF(ISBLANK(Rådata!A1031)=TRUE,\"\",VLOOKUP(MONTH(A1031),Opsætning!$G$3:$H$14,2,FALSE))","v":""},{"$f":"IF(ISBLANK(Rådata!B1031)=TRUE,\"\",(Rådata!C1031*100)/Rådata!B1031)","v":""},{"$f":"IF(ISBLANK(Rådata!D1031)=TRUE,\"\",((Rådata!D1031-Rådata!E1031)*100)/Rådata!D1031)","v":""},{"$f":"IF(ISBLANK(Rådata!G1031)=TRUE,\"\",(Rådata!F1031*100)/Rådata!G1031)","v":""},{"$f":"IF(ISBLANK(Rådata!K1031),\"\",(SUM(Rådata!M1031:P1031)*100)/SUM(Rådata!H1031:K1031))","v":""},{"$f":"IF(ISBLANK(Rådata!H1031),\"\",((SUM(Rådata!J1031:L1031)-SUM(Rådata!O1031:P1031))*100)/SUM(Rådata!H1031:L1031))","v":""},{"$f":"IF(ISBLANK(Rådata!R1031),\"\",(Rådata!Q1031*100)/Rådata!R1031)","v":""}]
[{"$f":"IF(ISBLANK(Rådata!A1032)=TRUE,\"\",Rådata!A1032)","v":""},{"$f":"IF(ISBLANK(Rådata!A1032)=TRUE,\"\",YEAR(A1032))","v":""},{"$f":"IF(ISBLANK(Rådata!A1032)=TRUE,\"\",VLOOKUP(MONTH(A1032),Opsætning!$G$3:$H$14,2,FALSE))","v":""},{"$f":"IF(ISBLANK(Rådata!B1032)=TRUE,\"\",(Rådata!C1032*100)/Rådata!B1032)","v":""},{"$f":"IF(ISBLANK(Rådata!D1032)=TRUE,\"\",((Rådata!D1032-Rådata!E1032)*100)/Rådata!D1032)","v":""},{"$f":"IF(ISBLANK(Rådata!G1032)=TRUE,\"\",(Rådata!F1032*100)/Rådata!G1032)","v":""},{"$f":"IF(ISBLANK(Rådata!K1032),\"\",(SUM(Rådata!M1032:P1032)*100)/SUM(Rådata!H1032:K1032))","v":""},{"$f":"IF(ISBLANK(Rådata!H1032),\"\",((SUM(Rådata!J1032:L1032)-SUM(Rådata!O1032:P1032))*100)/SUM(Rådata!H1032:L1032))","v":""},{"$f":"IF(ISBLANK(Rådata!R1032),\"\",(Rådata!Q1032*100)/Rådata!R1032)","v":""}]
[{"$f":"IF(ISBLANK(Rådata!A1033)=TRUE,\"\",Rådata!A1033)","v":""},{"$f":"IF(ISBLANK(Rådata!A1033)=TRUE,\"\",YEAR(A1033))","v":""},{"$f":"IF(ISBLANK(Rådata!A1033)=TRUE,\"\",VLOOKUP(MONTH(A1033),Opsætning!$G$3:$H$14,2,FALSE))","v":""},{"$f":"IF(ISBLANK(Rådata!B1033)=TRUE,\"\",(Rådata!C1033*100)/Rådata!B1033)","v":""},{"$f":"IF(ISBLANK(Rådata!D1033)=TRUE,\"\",((Rådata!D1033-Rådata!E1033)*100)/Rådata!D1033)","v":""},{"$f":"IF(ISBLANK(Rådata!G1033)=TRUE,\"\",(Rådata!F1033*100)/Rådata!G1033)","v":""},{"$f":"IF(ISBLANK(Rådata!K1033),\"\",(SUM(Rådata!M1033:P1033)*100)/SUM(Rådata!H1033:K1033))","v":""},{"$f":"IF(ISBLANK(Rådata!H1033),\"\",((SUM(Rådata!J1033:L1033)-SUM(Rådata!O1033:P1033))*100)/SUM(Rådata!H1033:L1033))","v":""},{"$f":"IF(ISBLANK(Rådata!R1033),\"\",(Rådata!Q1033*100)/Rådata!R1033)","v":""}]
[{"$f":"IF(ISBLANK(Rådata!A1034)=TRUE,\"\",Rådata!A1034)","v":""},{"$f":"IF(ISBLANK(Rådata!A1034)=TRUE,\"\",YEAR(A1034))","v":""},{"$f":"IF(ISBLANK(Rådata!A1034)=TRUE,\"\",VLOOKUP(MONTH(A1034),Opsætning!$G$3:$H$14,2,FALSE))","v":""},{"$f":"IF(ISBLANK(Rådata!B1034)=TRUE,\"\",(Rådata!C1034*100)/Rådata!B1034)","v":""},{"$f":"IF(ISBLANK(Rådata!D1034)=TRUE,\"\",((Rådata!D1034-Rådata!E1034)*100)/Rådata!D1034)","v":""},{"$f":"IF(ISBLANK(Rådata!G1034)=TRUE,\"\",(Rådata!F1034*100)/Rådata!G1034)","v":""},{"$f":"IF(ISBLANK(Rådata!K1034),\"\",(SUM(Rådata!M1034:P1034)*100)/SUM(Rådata!H1034:K1034))","v":""},{"$f":"IF(ISBLANK(Rådata!H1034),\"\",((SUM(Rådata!J1034:L1034)-SUM(Rådata!O1034:P1034))*100)/SUM(Rådata!H1034:L1034))","v":""},{"$f":"IF(ISBLANK(Rådata!R1034),\"\",(Rådata!Q1034*100)/Rådata!R1034)","v":""}]
[{"$f":"IF(ISBLANK(Rådata!A1035)=TRUE,\"\",Rådata!A1035)","v":""},{"$f":"IF(ISBLANK(Rådata!A1035)=TRUE,\"\",YEAR(A1035))","v":""},{"$f":"IF(ISBLANK(Rådata!A1035)=TRUE,\"\",VLOOKUP(MONTH(A1035),Opsætning!$G$3:$H$14,2,FALSE))","v":""},{"$f":"IF(ISBLANK(Rådata!B1035)=TRUE,\"\",(Rådata!C1035*100)/Rådata!B1035)","v":""},{"$f":"IF(ISBLANK(Rådata!D1035)=TRUE,\"\",((Rådata!D1035-Rådata!E1035)*100)/Rådata!D1035)","v":""},{"$f":"IF(ISBLANK(Rådata!G1035)=TRUE,\"\",(Rådata!F1035*100)/Rådata!G1035)","v":""},{"$f":"IF(ISBLANK(Rådata!K1035),\"\",(SUM(Rådata!M1035:P1035)*100)/SUM(Rådata!H1035:K1035))","v":""},{"$f":"IF(ISBLANK(Rådata!H1035),\"\",((SUM(Rådata!J1035:L1035)-SUM(Rådata!O1035:P1035))*100)/SUM(Rådata!H1035:L1035))","v":""},{"$f":"IF(ISBLANK(Rådata!R1035),\"\",(Rådata!Q1035*100)/Rådata!R1035)","v":""}]
[{"$f":"IF(ISBLANK(Rådata!A1036)=TRUE,\"\",Rådata!A1036)","v":""},{"$f":"IF(ISBLANK(Rådata!A1036)=TRUE,\"\",YEAR(A1036))","v":""},{"$f":"IF(ISBLANK(Rådata!A1036)=TRUE,\"\",VLOOKUP(MONTH(A1036),Opsætning!$G$3:$H$14,2,FALSE))","v":""},{"$f":"IF(ISBLANK(Rådata!B1036)=TRUE,\"\",(Rådata!C1036*100)/Rådata!B1036)","v":""},{"$f":"IF(ISBLANK(Rådata!D1036)=TRUE,\"\",((Rådata!D1036-Rådata!E1036)*100)/Rådata!D1036)","v":""},{"$f":"IF(ISBLANK(Rådata!G1036)=TRUE,\"\",(Rådata!F1036*100)/Rådata!G1036)","v":""},{"$f":"IF(ISBLANK(Rådata!K1036),\"\",(SUM(Rådata!M1036:P1036)*100)/SUM(Rådata!H1036:K1036))","v":""},{"$f":"IF(ISBLANK(Rådata!H1036),\"\",((SUM(Rådata!J1036:L1036)-SUM(Rådata!O1036:P1036))*100)/SUM(Rådata!H1036:L1036))","v":""},{"$f":"IF(ISBLANK(Rådata!R1036),\"\",(Rådata!Q1036*100)/Rådata!R1036)","v":""}]
[{"$f":"IF(ISBLANK(Rådata!A1037)=TRUE,\"\",Rådata!A1037)","v":""},{"$f":"IF(ISBLANK(Rådata!A1037)=TRUE,\"\",YEAR(A1037))","v":""},{"$f":"IF(ISBLANK(Rådata!A1037)=TRUE,\"\",VLOOKUP(MONTH(A1037),Opsætning!$G$3:$H$14,2,FALSE))","v":""},{"$f":"IF(ISBLANK(Rådata!B1037)=TRUE,\"\",(Rådata!C1037*100)/Rådata!B1037)","v":""},{"$f":"IF(ISBLANK(Rådata!D1037)=TRUE,\"\",((Rådata!D1037-Rådata!E1037)*100)/Rådata!D1037)","v":""},{"$f":"IF(ISBLANK(Rådata!G1037)=TRUE,\"\",(Rådata!F1037*100)/Rådata!G1037)","v":""},{"$f":"IF(ISBLANK(Rådata!K1037),\"\",(SUM(Rådata!M1037:P1037)*100)/SUM(Rådata!H1037:K1037))","v":""},{"$f":"IF(ISBLANK(Rådata!H1037),\"\",((SUM(Rådata!J1037:L1037)-SUM(Rådata!O1037:P1037))*100)/SUM(Rådata!H1037:L1037))","v":""},{"$f":"IF(ISBLANK(Rådata!R1037),\"\",(Rådata!Q1037*100)/Rådata!R1037)","v":""}]
[{"$f":"IF(ISBLANK(Rådata!A1038)=TRUE,\"\",Rådata!A1038)","v":""},{"$f":"IF(ISBLANK(Rådata!A1038)=TRUE,\"\",YEAR(A1038))","v":""},{"$f":"IF(ISBLANK(Rådata!A1038)=TRUE,\"\",VLOOKUP(MONTH(A1038),Opsætning!$G$3:$H$14,2,FALSE))","v":""},{"$f":"IF(ISBLANK(Rådata!B1038)=TRUE,\"\",(Rådata!C1038*100)/Rådata!B1038)","v":""},{"$f":"IF(ISBLANK(Rådata!D1038)=TRUE,\"\",((Rådata!D1038-Rådata!E1038)*100)/Rådata!D1038)","v":""},{"$f":"IF(ISBLANK(Rådata!G1038)=TRUE,\"\",(Rådata!F1038*100)/Rådata!G1038)","v":""},{"$f":"IF(ISBLANK(Rådata!K1038),\"\",(SUM(Rådata!M1038:P1038)*100)/SUM(Rådata!H1038:K1038))","v":""},{"$f":"IF(ISBLANK(Rådata!H1038),\"\",((SUM(Rådata!J1038:L1038)-SUM(Rådata!O1038:P1038))*100)/SUM(Rådata!H1038:L1038))","v":""},{"$f":"IF(ISBLANK(Rådata!R1038),\"\",(Rådata!Q1038*100)/Rådata!R1038)","v":""}]
[{"$f":"IF(ISBLANK(Rådata!A1039)=TRUE,\"\",Rådata!A1039)","v":""},{"$f":"IF(ISBLANK(Rådata!A1039)=TRUE,\"\",YEAR(A1039))","v":""},{"$f":"IF(ISBLANK(Rådata!A1039)=TRUE,\"\",VLOOKUP(MONTH(A1039),Opsætning!$G$3:$H$14,2,FALSE))","v":""},{"$f":"IF(ISBLANK(Rådata!B1039)=TRUE,\"\",(Rådata!C1039*100)/Rådata!B1039)","v":""},{"$f":"IF(ISBLANK(Rådata!D1039)=TRUE,\"\",((Rådata!D1039-Rådata!E1039)*100)/Rådata!D1039)","v":""},{"$f":"IF(ISBLANK(Rådata!G1039)=TRUE,\"\",(Rådata!F1039*100)/Rådata!G1039)","v":""},{"$f":"IF(ISBLANK(Rådata!K1039),\"\",(SUM(Rådata!M1039:P1039)*100)/SUM(Rådata!H1039:K1039))","v":""},{"$f":"IF(ISBLANK(Rådata!H1039),\"\",((SUM(Rådata!J1039:L1039)-SUM(Rådata!O1039:P1039))*100)/SUM(Rådata!H1039:L1039))","v":""},{"$f":"IF(ISBLANK(Rådata!R1039),\"\",(Rådata!Q1039*100)/Rådata!R1039)","v":""}]
[{"$f":"IF(ISBLANK(Rådata!A1040)=TRUE,\"\",Rådata!A1040)","v":""},{"$f":"IF(ISBLANK(Rådata!A1040)=TRUE,\"\",YEAR(A1040))","v":""},{"$f":"IF(ISBLANK(Rådata!A1040)=TRUE,\"\",VLOOKUP(MONTH(A1040),Opsætning!$G$3:$H$14,2,FALSE))","v":""},{"$f":"IF(ISBLANK(Rådata!B1040)=TRUE,\"\",(Rådata!C1040*100)/Rådata!B1040)","v":""},{"$f":"IF(ISBLANK(Rådata!D1040)=TRUE,\"\",((Rådata!D1040-Rådata!E1040)*100)/Rådata!D1040)","v":""},{"$f":"IF(ISBLANK(Rådata!G1040)=TRUE,\"\",(Rådata!F1040*100)/Rådata!G1040)","v":""},{"$f":"IF(ISBLANK(Rådata!K1040),\"\",(SUM(Rådata!M1040:P1040)*100)/SUM(Rådata!H1040:K1040))","v":""},{"$f":"IF(ISBLANK(Rådata!H1040),\"\",((SUM(Rådata!J1040:L1040)-SUM(Rådata!O1040:P1040))*100)/SUM(Rådata!H1040:L1040))","v":""},{"$f":"IF(ISBLANK(Rådata!R1040),\"\",(Rådata!Q1040*100)/Rådata!R1040)","v":""}]
[{"$f":"IF(ISBLANK(Rådata!A1041)=TRUE,\"\",Rådata!A1041)","v":""},{"$f":"IF(ISBLANK(Rådata!A1041)=TRUE,\"\",YEAR(A1041))","v":""},{"$f":"IF(ISBLANK(Rådata!A1041)=TRUE,\"\",VLOOKUP(MONTH(A1041),Opsætning!$G$3:$H$14,2,FALSE))","v":""},{"$f":"IF(ISBLANK(Rådata!B1041)=TRUE,\"\",(Rådata!C1041*100)/Rådata!B1041)","v":""},{"$f":"IF(ISBLANK(Rådata!D1041)=TRUE,\"\",((Rådata!D1041-Rådata!E1041)*100)/Rådata!D1041)","v":""},{"$f":"IF(ISBLANK(Rådata!G1041)=TRUE,\"\",(Rådata!F1041*100)/Rådata!G1041)","v":""},{"$f":"IF(ISBLANK(Rådata!K1041),\"\",(SUM(Rådata!M1041:P1041)*100)/SUM(Rådata!H1041:K1041))","v":""},{"$f":"IF(ISBLANK(Rådata!H1041),\"\",((SUM(Rådata!J1041:L1041)-SUM(Rådata!O1041:P1041))*100)/SUM(Rådata!H1041:L1041))","v":""},{"$f":"IF(ISBLANK(Rådata!R1041),\"\",(Rådata!Q1041*100)/Rådata!R1041)","v":""}]
[{"$f":"IF(ISBLANK(Rådata!A1042)=TRUE,\"\",Rådata!A1042)","v":""},{"$f":"IF(ISBLANK(Rådata!A1042)=TRUE,\"\",YEAR(A1042))","v":""},{"$f":"IF(ISBLANK(Rådata!A1042)=TRUE,\"\",VLOOKUP(MONTH(A1042),Opsætning!$G$3:$H$14,2,FALSE))","v":""},{"$f":"IF(ISBLANK(Rådata!B1042)=TRUE,\"\",(Rådata!C1042*100)/Rådata!B1042)","v":""},{"$f":"IF(ISBLANK(Rådata!D1042)=TRUE,\"\",((Rådata!D1042-Rådata!E1042)*100)/Rådata!D1042)","v":""},{"$f":"IF(ISBLANK(Rådata!G1042)=TRUE,\"\",(Rådata!F1042*100)/Rådata!G1042)","v":""},{"$f":"IF(ISBLANK(Rådata!K1042),\"\",(SUM(Rådata!M1042:P1042)*100)/SUM(Rådata!H1042:K1042))","v":""},{"$f":"IF(ISBLANK(Rådata!H1042),\"\",((SUM(Rådata!J1042:L1042)-SUM(Rådata!O1042:P1042))*100)/SUM(Rådata!H1042:L1042))","v":""},{"$f":"IF(ISBLANK(Rådata!R1042),\"\",(Rådata!Q1042*100)/Rådata!R1042)","v":""}]
[{"$f":"IF(ISBLANK(Rådata!A1043)=TRUE,\"\",Rådata!A1043)","v":""},{"$f":"IF(ISBLANK(Rådata!A1043)=TRUE,\"\",YEAR(A1043))","v":""},{"$f":"IF(ISBLANK(Rådata!A1043)=TRUE,\"\",VLOOKUP(MONTH(A1043),Opsætning!$G$3:$H$14,2,FALSE))","v":""},{"$f":"IF(ISBLANK(Rådata!B1043)=TRUE,\"\",(Rådata!C1043*100)/Rådata!B1043)","v":""},{"$f":"IF(ISBLANK(Rådata!D1043)=TRUE,\"\",((Rådata!D1043-Rådata!E1043)*100)/Rådata!D1043)","v":""},{"$f":"IF(ISBLANK(Rådata!G1043)=TRUE,\"\",(Rådata!F1043*100)/Rådata!G1043)","v":""},{"$f":"IF(ISBLANK(Rådata!K1043),\"\",(SUM(Rådata!M1043:P1043)*100)/SUM(Rådata!H1043:K1043))","v":""},{"$f":"IF(ISBLANK(Rådata!H1043),\"\",((SUM(Rådata!J1043:L1043)-SUM(Rådata!O1043:P1043))*100)/SUM(Rådata!H1043:L1043))","v":""},{"$f":"IF(ISBLANK(Rådata!R1043),\"\",(Rådata!Q1043*100)/Rådata!R1043)","v":""}]
[{"$f":"IF(ISBLANK(Rådata!A1044)=TRUE,\"\",Rådata!A1044)","v":""},{"$f":"IF(ISBLANK(Rådata!A1044)=TRUE,\"\",YEAR(A1044))","v":""},{"$f":"IF(ISBLANK(Rådata!A1044)=TRUE,\"\",VLOOKUP(MONTH(A1044),Opsætning!$G$3:$H$14,2,FALSE))","v":""},{"$f":"IF(ISBLANK(Rådata!B1044)=TRUE,\"\",(Rådata!C1044*100)/Rådata!B1044)","v":""},{"$f":"IF(ISBLANK(Rådata!D1044)=TRUE,\"\",((Rådata!D1044-Rådata!E1044)*100)/Rådata!D1044)","v":""},{"$f":"IF(ISBLANK(Rådata!G1044)=TRUE,\"\",(Rådata!F1044*100)/Rådata!G1044)","v":""},{"$f":"IF(ISBLANK(Rådata!K1044),\"\",(SUM(Rådata!M1044:P1044)*100)/SUM(Rådata!H1044:K1044))","v":""},{"$f":"IF(ISBLANK(Rådata!H1044),\"\",((SUM(Rådata!J1044:L1044)-SUM(Rådata!O1044:P1044))*100)/SUM(Rådata!H1044:L1044))","v":""},{"$f":"IF(ISBLANK(Rådata!R1044),\"\",(Rådata!Q1044*100)/Rådata!R1044)","v":""}]
[{"$f":"IF(ISBLANK(Rådata!A1045)=TRUE,\"\",Rådata!A1045)","v":""},{"$f":"IF(ISBLANK(Rådata!A1045)=TRUE,\"\",YEAR(A1045))","v":""},{"$f":"IF(ISBLANK(Rådata!A1045)=TRUE,\"\",VLOOKUP(MONTH(A1045),Opsætning!$G$3:$H$14,2,FALSE))","v":""},{"$f":"IF(ISBLANK(Rådata!B1045)=TRUE,\"\",(Rådata!C1045*100)/Rådata!B1045)","v":""},{"$f":"IF(ISBLANK(Rådata!D1045)=TRUE,\"\",((Rådata!D1045-Rådata!E1045)*100)/Rådata!D1045)","v":""},{"$f":"IF(ISBLANK(Rådata!G1045)=TRUE,\"\",(Rådata!F1045*100)/Rådata!G1045)","v":""},{"$f":"IF(ISBLANK(Rådata!K1045),\"\",(SUM(Rådata!M1045:P1045)*100)/SUM(Rådata!H1045:K1045))","v":""},{"$f":"IF(ISBLANK(Rådata!H1045),\"\",((SUM(Rådata!J1045:L1045)-SUM(Rådata!O1045:P1045))*100)/SUM(Rådata!H1045:L1045))","v":""},{"$f":"IF(ISBLANK(Rådata!R1045),\"\",(Rådata!Q1045*100)/Rådata!R1045)","v":""}]
[{"$f":"IF(ISBLANK(Rådata!A1046)=TRUE,\"\",Rådata!A1046)","v":""},{"$f":"IF(ISBLANK(Rådata!A1046)=TRUE,\"\",YEAR(A1046))","v":""},{"$f":"IF(ISBLANK(Rådata!A1046)=TRUE,\"\",VLOOKUP(MONTH(A1046),Opsætning!$G$3:$H$14,2,FALSE))","v":""},{"$f":"IF(ISBLANK(Rådata!B1046)=TRUE,\"\",(Rådata!C1046*100)/Rådata!B1046)","v":""},{"$f":"IF(ISBLANK(Rådata!D1046)=TRUE,\"\",((Rådata!D1046-Rådata!E1046)*100)/Rådata!D1046)","v":""},{"$f":"IF(ISBLANK(Rådata!G1046)=TRUE,\"\",(Rådata!F1046*100)/Rådata!G1046)","v":""},{"$f":"IF(ISBLANK(Rådata!K1046),\"\",(SUM(Rådata!M1046:P1046)*100)/SUM(Rådata!H1046:K1046))","v":""},{"$f":"IF(ISBLANK(Rådata!H1046),\"\",((SUM(Rådata!J1046:L1046)-SUM(Rådata!O1046:P1046))*100)/SUM(Rådata!H1046:L1046))","v":""},{"$f":"IF(ISBLANK(Rådata!R1046),\"\",(Rådata!Q1046*100)/Rådata!R1046)","v":""}]
[{"$f":"IF(ISBLANK(Rådata!A1047)=TRUE,\"\",Rådata!A1047)","v":""},{"$f":"IF(ISBLANK(Rådata!A1047)=TRUE,\"\",YEAR(A1047))","v":""},{"$f":"IF(ISBLANK(Rådata!A1047)=TRUE,\"\",VLOOKUP(MONTH(A1047),Opsætning!$G$3:$H$14,2,FALSE))","v":""},{"$f":"IF(ISBLANK(Rådata!B1047)=TRUE,\"\",(Rådata!C1047*100)/Rådata!B1047)","v":""},{"$f":"IF(ISBLANK(Rådata!D1047)=TRUE,\"\",((Rådata!D1047-Rådata!E1047)*100)/Rådata!D1047)","v":""},{"$f":"IF(ISBLANK(Rådata!G1047)=TRUE,\"\",(Rådata!F1047*100)/Rådata!G1047)","v":""},{"$f":"IF(ISBLANK(Rådata!K1047),\"\",(SUM(Rådata!M1047:P1047)*100)/SUM(Rådata!H1047:K1047))","v":""},{"$f":"IF(ISBLANK(Rådata!H1047),\"\",((SUM(Rådata!J1047:L1047)-SUM(Rådata!O1047:P1047))*100)/SUM(Rådata!H1047:L1047))","v":""},{"$f":"IF(ISBLANK(Rådata!R1047),\"\",(Rådata!Q1047*100)/Rådata!R1047)","v":""}]
[{"$f":"IF(ISBLANK(Rådata!A1048)=TRUE,\"\",Rådata!A1048)","v":""},{"$f":"IF(ISBLANK(Rådata!A1048)=TRUE,\"\",YEAR(A1048))","v":""},{"$f":"IF(ISBLANK(Rådata!A1048)=TRUE,\"\",VLOOKUP(MONTH(A1048),Opsætning!$G$3:$H$14,2,FALSE))","v":""},{"$f":"IF(ISBLANK(Rådata!B1048)=TRUE,\"\",(Rådata!C1048*100)/Rådata!B1048)","v":""},{"$f":"IF(ISBLANK(Rådata!D1048)=TRUE,\"\",((Rådata!D1048-Rådata!E1048)*100)/Rådata!D1048)","v":""},{"$f":"IF(ISBLANK(Rådata!G1048)=TRUE,\"\",(Rådata!F1048*100)/Rådata!G1048)","v":""},{"$f":"IF(ISBLANK(Rådata!K1048),\"\",(SUM(Rådata!M1048:P1048)*100)/SUM(Rådata!H1048:K1048))","v":""},{"$f":"IF(ISBLANK(Rådata!H1048),\"\",((SUM(Rådata!J1048:L1048)-SUM(Rådata!O1048:P1048))*100)/SUM(Rådata!H1048:L1048))","v":""},{"$f":"IF(ISBLANK(Rådata!R1048),\"\",(Rådata!Q1048*100)/Rådata!R1048)","v":""}]
[{"$f":"IF(ISBLANK(Rådata!A1049)=TRUE,\"\",Rådata!A1049)","v":""},{"$f":"IF(ISBLANK(Rådata!A1049)=TRUE,\"\",YEAR(A1049))","v":""},{"$f":"IF(ISBLANK(Rådata!A1049)=TRUE,\"\",VLOOKUP(MONTH(A1049),Opsætning!$G$3:$H$14,2,FALSE))","v":""},{"$f":"IF(ISBLANK(Rådata!B1049)=TRUE,\"\",(Rådata!C1049*100)/Rådata!B1049)","v":""},{"$f":"IF(ISBLANK(Rådata!D1049)=TRUE,\"\",((Rådata!D1049-Rådata!E1049)*100)/Rådata!D1049)","v":""},{"$f":"IF(ISBLANK(Rådata!G1049)=TRUE,\"\",(Rådata!F1049*100)/Rådata!G1049)","v":""},{"$f":"IF(ISBLANK(Rådata!K1049),\"\",(SUM(Rådata!M1049:P1049)*100)/SUM(Rådata!H1049:K1049))","v":""},{"$f":"IF(ISBLANK(Rådata!H1049),\"\",((SUM(Rådata!J1049:L1049)-SUM(Rådata!O1049:P1049))*100)/SUM(Rådata!H1049:L1049))","v":""},{"$f":"IF(ISBLANK(Rådata!R1049),\"\",(Rådata!Q1049*100)/Rådata!R1049)","v":""}]
[{"$f":"IF(ISBLANK(Rådata!A1050)=TRUE,\"\",Rådata!A1050)","v":""},{"$f":"IF(ISBLANK(Rådata!A1050)=TRUE,\"\",YEAR(A1050))","v":""},{"$f":"IF(ISBLANK(Rådata!A1050)=TRUE,\"\",VLOOKUP(MONTH(A1050),Opsætning!$G$3:$H$14,2,FALSE))","v":""},{"$f":"IF(ISBLANK(Rådata!B1050)=TRUE,\"\",(Rådata!C1050*100)/Rådata!B1050)","v":""},{"$f":"IF(ISBLANK(Rådata!D1050)=TRUE,\"\",((Rådata!D1050-Rådata!E1050)*100)/Rådata!D1050)","v":""},{"$f":"IF(ISBLANK(Rådata!G1050)=TRUE,\"\",(Rådata!F1050*100)/Rådata!G1050)","v":""},{"$f":"IF(ISBLANK(Rådata!K1050),\"\",(SUM(Rådata!M1050:P1050)*100)/SUM(Rådata!H1050:K1050))","v":""},{"$f":"IF(ISBLANK(Rådata!H1050),\"\",((SUM(Rådata!J1050:L1050)-SUM(Rådata!O1050:P1050))*100)/SUM(Rådata!H1050:L1050))","v":""},{"$f":"IF(ISBLANK(Rådata!R1050),\"\",(Rådata!Q1050*100)/Rådata!R1050)","v":""}]
[{"$f":"IF(ISBLANK(Rådata!A1051)=TRUE,\"\",Rådata!A1051)","v":""},{"$f":"IF(ISBLANK(Rådata!A1051)=TRUE,\"\",YEAR(A1051))","v":""},{"$f":"IF(ISBLANK(Rådata!A1051)=TRUE,\"\",VLOOKUP(MONTH(A1051),Opsætning!$G$3:$H$14,2,FALSE))","v":""},{"$f":"IF(ISBLANK(Rådata!B1051)=TRUE,\"\",(Rådata!C1051*100)/Rådata!B1051)","v":""},{"$f":"IF(ISBLANK(Rådata!D1051)=TRUE,\"\",((Rådata!D1051-Rådata!E1051)*100)/Rådata!D1051)","v":""},{"$f":"IF(ISBLANK(Rådata!G1051)=TRUE,\"\",(Rådata!F1051*100)/Rådata!G1051)","v":""},{"$f":"IF(ISBLANK(Rådata!K1051),\"\",(SUM(Rådata!M1051:P1051)*100)/SUM(Rådata!H1051:K1051))","v":""},{"$f":"IF(ISBLANK(Rådata!H1051),\"\",((SUM(Rådata!J1051:L1051)-SUM(Rådata!O1051:P1051))*100)/SUM(Rådata!H1051:L1051))","v":""},{"$f":"IF(ISBLANK(Rådata!R1051),\"\",(Rådata!Q1051*100)/Rådata!R1051)","v":""}]
[{"$f":"IF(ISBLANK(Rådata!A1052)=TRUE,\"\",Rådata!A1052)","v":""},{"$f":"IF(ISBLANK(Rådata!A1052)=TRUE,\"\",YEAR(A1052))","v":""},{"$f":"IF(ISBLANK(Rådata!A1052)=TRUE,\"\",VLOOKUP(MONTH(A1052),Opsætning!$G$3:$H$14,2,FALSE))","v":""},{"$f":"IF(ISBLANK(Rådata!B1052)=TRUE,\"\",(Rådata!C1052*100)/Rådata!B1052)","v":""},{"$f":"IF(ISBLANK(Rådata!D1052)=TRUE,\"\",((Rådata!D1052-Rådata!E1052)*100)/Rådata!D1052)","v":""},{"$f":"IF(ISBLANK(Rådata!G1052)=TRUE,\"\",(Rådata!F1052*100)/Rådata!G1052)","v":""},{"$f":"IF(ISBLANK(Rådata!K1052),\"\",(SUM(Rådata!M1052:P1052)*100)/SUM(Rådata!H1052:K1052))","v":""},{"$f":"IF(ISBLANK(Rådata!H1052),\"\",((SUM(Rådata!J1052:L1052)-SUM(Rådata!O1052:P1052))*100)/SUM(Rådata!H1052:L1052))","v":""},{"$f":"IF(ISBLANK(Rådata!R1052),\"\",(Rådata!Q1052*100)/Rådata!R1052)","v":""}]
[{"$f":"IF(ISBLANK(Rådata!A1053)=TRUE,\"\",Rådata!A1053)","v":""},{"$f":"IF(ISBLANK(Rådata!A1053)=TRUE,\"\",YEAR(A1053))","v":""},{"$f":"IF(ISBLANK(Rådata!A1053)=TRUE,\"\",VLOOKUP(MONTH(A1053),Opsætning!$G$3:$H$14,2,FALSE))","v":""},{"$f":"IF(ISBLANK(Rådata!B1053)=TRUE,\"\",(Rådata!C1053*100)/Rådata!B1053)","v":""},{"$f":"IF(ISBLANK(Rådata!D1053)=TRUE,\"\",((Rådata!D1053-Rådata!E1053)*100)/Rådata!D1053)","v":""},{"$f":"IF(ISBLANK(Rådata!G1053)=TRUE,\"\",(Rådata!F1053*100)/Rådata!G1053)","v":""},{"$f":"IF(ISBLANK(Rådata!K1053),\"\",(SUM(Rådata!M1053:P1053)*100)/SUM(Rådata!H1053:K1053))","v":""},{"$f":"IF(ISBLANK(Rådata!H1053),\"\",((SUM(Rådata!J1053:L1053)-SUM(Rådata!O1053:P1053))*100)/SUM(Rådata!H1053:L1053))","v":""},{"$f":"IF(ISBLANK(Rådata!R1053),\"\",(Rådata!Q1053*100)/Rådata!R1053)","v":""}]
[{"$f":"IF(ISBLANK(Rådata!A1054)=TRUE,\"\",Rådata!A1054)","v":""},{"$f":"IF(ISBLANK(Rådata!A1054)=TRUE,\"\",YEAR(A1054))","v":""},{"$f":"IF(ISBLANK(Rådata!A1054)=TRUE,\"\",VLOOKUP(MONTH(A1054),Opsætning!$G$3:$H$14,2,FALSE))","v":""},{"$f":"IF(ISBLANK(Rådata!B1054)=TRUE,\"\",(Rådata!C1054*100)/Rådata!B1054)","v":""},{"$f":"IF(ISBLANK(Rådata!D1054)=TRUE,\"\",((Rådata!D1054-Rådata!E1054)*100)/Rådata!D1054)","v":""},{"$f":"IF(ISBLANK(Rådata!G1054)=TRUE,\"\",(Rådata!F1054*100)/Rådata!G1054)","v":""},{"$f":"IF(ISBLANK(Rådata!K1054),\"\",(SUM(Rådata!M1054:P1054)*100)/SUM(Rådata!H1054:K1054))","v":""},{"$f":"IF(ISBLANK(Rådata!H1054),\"\",((SUM(Rådata!J1054:L1054)-SUM(Rådata!O1054:P1054))*100)/SUM(Rådata!H1054:L1054))","v":""},{"$f":"IF(ISBLANK(Rådata!R1054),\"\",(Rådata!Q1054*100)/Rådata!R1054)","v":""}]
[{"$f":"IF(ISBLANK(Rådata!A1055)=TRUE,\"\",Rådata!A1055)","v":""},{"$f":"IF(ISBLANK(Rådata!A1055)=TRUE,\"\",YEAR(A1055))","v":""},{"$f":"IF(ISBLANK(Rådata!A1055)=TRUE,\"\",VLOOKUP(MONTH(A1055),Opsætning!$G$3:$H$14,2,FALSE))","v":""},{"$f":"IF(ISBLANK(Rådata!B1055)=TRUE,\"\",(Rådata!C1055*100)/Rådata!B1055)","v":""},{"$f":"IF(ISBLANK(Rådata!D1055)=TRUE,\"\",((Rådata!D1055-Rådata!E1055)*100)/Rådata!D1055)","v":""},{"$f":"IF(ISBLANK(Rådata!G1055)=TRUE,\"\",(Rådata!F1055*100)/Rådata!G1055)","v":""},{"$f":"IF(ISBLANK(Rådata!K1055),\"\",(SUM(Rådata!M1055:P1055)*100)/SUM(Rådata!H1055:K1055))","v":""},{"$f":"IF(ISBLANK(Rådata!H1055),\"\",((SUM(Rådata!J1055:L1055)-SUM(Rådata!O1055:P1055))*100)/SUM(Rådata!H1055:L1055))","v":""},{"$f":"IF(ISBLANK(Rådata!R1055),\"\",(Rådata!Q1055*100)/Rådata!R1055)","v":""}]
[{"$f":"IF(ISBLANK(Rådata!A1056)=TRUE,\"\",Rådata!A1056)","v":""},{"$f":"IF(ISBLANK(Rådata!A1056)=TRUE,\"\",YEAR(A1056))","v":""},{"$f":"IF(ISBLANK(Rådata!A1056)=TRUE,\"\",VLOOKUP(MONTH(A1056),Opsætning!$G$3:$H$14,2,FALSE))","v":""},{"$f":"IF(ISBLANK(Rådata!B1056)=TRUE,\"\",(Rådata!C1056*100)/Rådata!B1056)","v":""},{"$f":"IF(ISBLANK(Rådata!D1056)=TRUE,\"\",((Rådata!D1056-Rådata!E1056)*100)/Rådata!D1056)","v":""},{"$f":"IF(ISBLANK(Rådata!G1056)=TRUE,\"\",(Rådata!F1056*100)/Rådata!G1056)","v":""},{"$f":"IF(ISBLANK(Rådata!K1056),\"\",(SUM(Rådata!M1056:P1056)*100)/SUM(Rådata!H1056:K1056))","v":""},{"$f":"IF(ISBLANK(Rådata!H1056),\"\",((SUM(Rådata!J1056:L1056)-SUM(Rådata!O1056:P1056))*100)/SUM(Rådata!H1056:L1056))","v":""},{"$f":"IF(ISBLANK(Rådata!R1056),\"\",(Rådata!Q1056*100)/Rådata!R1056)","v":""}]
[{"$f":"IF(ISBLANK(Rådata!A1057)=TRUE,\"\",Rådata!A1057)","v":""},{"$f":"IF(ISBLANK(Rådata!A1057)=TRUE,\"\",YEAR(A1057))","v":""},{"$f":"IF(ISBLANK(Rådata!A1057)=TRUE,\"\",VLOOKUP(MONTH(A1057),Opsætning!$G$3:$H$14,2,FALSE))","v":""},{"$f":"IF(ISBLANK(Rådata!B1057)=TRUE,\"\",(Rådata!C1057*100)/Rådata!B1057)","v":""},{"$f":"IF(ISBLANK(Rådata!D1057)=TRUE,\"\",((Rådata!D1057-Rådata!E1057)*100)/Rådata!D1057)","v":""},{"$f":"IF(ISBLANK(Rådata!G1057)=TRUE,\"\",(Rådata!F1057*100)/Rådata!G1057)","v":""},{"$f":"IF(ISBLANK(Rådata!K1057),\"\",(SUM(Rådata!M1057:P1057)*100)/SUM(Rådata!H1057:K1057))","v":""},{"$f":"IF(ISBLANK(Rådata!H1057),\"\",((SUM(Rådata!J1057:L1057)-SUM(Rådata!O1057:P1057))*100)/SUM(Rådata!H1057:L1057))","v":""},{"$f":"IF(ISBLANK(Rådata!R1057),\"\",(Rådata!Q1057*100)/Rådata!R1057)","v":""}]
[{"$f":"IF(ISBLANK(Rådata!A1058)=TRUE,\"\",Rådata!A1058)","v":""},{"$f":"IF(ISBLANK(Rådata!A1058)=TRUE,\"\",YEAR(A1058))","v":""},{"$f":"IF(ISBLANK(Rådata!A1058)=TRUE,\"\",VLOOKUP(MONTH(A1058),Opsætning!$G$3:$H$14,2,FALSE))","v":""},{"$f":"IF(ISBLANK(Rådata!B1058)=TRUE,\"\",(Rådata!C1058*100)/Rådata!B1058)","v":""},{"$f":"IF(ISBLANK(Rådata!D1058)=TRUE,\"\",((Rådata!D1058-Rådata!E1058)*100)/Rådata!D1058)","v":""},{"$f":"IF(ISBLANK(Rådata!G1058)=TRUE,\"\",(Rådata!F1058*100)/Rådata!G1058)","v":""},{"$f":"IF(ISBLANK(Rådata!K1058),\"\",(SUM(Rådata!M1058:P1058)*100)/SUM(Rådata!H1058:K1058))","v":""},{"$f":"IF(ISBLANK(Rådata!H1058),\"\",((SUM(Rådata!J1058:L1058)-SUM(Rådata!O1058:P1058))*100)/SUM(Rådata!H1058:L1058))","v":""},{"$f":"IF(ISBLANK(Rådata!R1058),\"\",(Rådata!Q1058*100)/Rådata!R1058)","v":""}]
[{"$f":"IF(ISBLANK(Rådata!A1059)=TRUE,\"\",Rådata!A1059)","v":""},{"$f":"IF(ISBLANK(Rådata!A1059)=TRUE,\"\",YEAR(A1059))","v":""},{"$f":"IF(ISBLANK(Rådata!A1059)=TRUE,\"\",VLOOKUP(MONTH(A1059),Opsætning!$G$3:$H$14,2,FALSE))","v":""},{"$f":"IF(ISBLANK(Rådata!B1059)=TRUE,\"\",(Rådata!C1059*100)/Rådata!B1059)","v":""},{"$f":"IF(ISBLANK(Rådata!D1059)=TRUE,\"\",((Rådata!D1059-Rådata!E1059)*100)/Rådata!D1059)","v":""},{"$f":"IF(ISBLANK(Rådata!G1059)=TRUE,\"\",(Rådata!F1059*100)/Rådata!G1059)","v":""},{"$f":"IF(ISBLANK(Rådata!K1059),\"\",(SUM(Rådata!M1059:P1059)*100)/SUM(Rådata!H1059:K1059))","v":""},{"$f":"IF(ISBLANK(Rådata!H1059),\"\",((SUM(Rådata!J1059:L1059)-SUM(Rådata!O1059:P1059))*100)/SUM(Rådata!H1059:L1059))","v":""},{"$f":"IF(ISBLANK(Rådata!R1059),\"\",(Rådata!Q1059*100)/Rådata!R1059)","v":""}]
[{"$f":"IF(ISBLANK(Rådata!A1060)=TRUE,\"\",Rådata!A1060)","v":""},{"$f":"IF(ISBLANK(Rådata!A1060)=TRUE,\"\",YEAR(A1060))","v":""},{"$f":"IF(ISBLANK(Rådata!A1060)=TRUE,\"\",VLOOKUP(MONTH(A1060),Opsætning!$G$3:$H$14,2,FALSE))","v":""},{"$f":"IF(ISBLANK(Rådata!B1060)=TRUE,\"\",(Rådata!C1060*100)/Rådata!B1060)","v":""},{"$f":"IF(ISBLANK(Rådata!D1060)=TRUE,\"\",((Rådata!D1060-Rådata!E1060)*100)/Rådata!D1060)","v":""},{"$f":"IF(ISBLANK(Rådata!G1060)=TRUE,\"\",(Rådata!F1060*100)/Rådata!G1060)","v":""},{"$f":"IF(ISBLANK(Rådata!K1060),\"\",(SUM(Rådata!M1060:P1060)*100)/SUM(Rådata!H1060:K1060))","v":""},{"$f":"IF(ISBLANK(Rådata!H1060),\"\",((SUM(Rådata!J1060:L1060)-SUM(Rådata!O1060:P1060))*100)/SUM(Rådata!H1060:L1060))","v":""},{"$f":"IF(ISBLANK(Rådata!R1060),\"\",(Rådata!Q1060*100)/Rådata!R1060)","v":""}]
[{"$f":"IF(ISBLANK(Rådata!A1061)=TRUE,\"\",Rådata!A1061)","v":""},{"$f":"IF(ISBLANK(Rådata!A1061)=TRUE,\"\",YEAR(A1061))","v":""},{"$f":"IF(ISBLANK(Rådata!A1061)=TRUE,\"\",VLOOKUP(MONTH(A1061),Opsætning!$G$3:$H$14,2,FALSE))","v":""},{"$f":"IF(ISBLANK(Rådata!B1061)=TRUE,\"\",(Rådata!C1061*100)/Rådata!B1061)","v":""},{"$f":"IF(ISBLANK(Rådata!D1061)=TRUE,\"\",((Rådata!D1061-Rådata!E1061)*100)/Rådata!D1061)","v":""},{"$f":"IF(ISBLANK(Rådata!G1061)=TRUE,\"\",(Rådata!F1061*100)/Rådata!G1061)","v":""},{"$f":"IF(ISBLANK(Rådata!K1061),\"\",(SUM(Rådata!M1061:P1061)*100)/SUM(Rådata!H1061:K1061))","v":""},{"$f":"IF(ISBLANK(Rådata!H1061),\"\",((SUM(Rådata!J1061:L1061)-SUM(Rådata!O1061:P1061))*100)/SUM(Rådata!H1061:L1061))","v":""},{"$f":"IF(ISBLANK(Rådata!R1061),\"\",(Rådata!Q1061*100)/Rådata!R1061)","v":""}]
[{"$f":"IF(ISBLANK(Rådata!A1062)=TRUE,\"\",Rådata!A1062)","v":""},{"$f":"IF(ISBLANK(Rådata!A1062)=TRUE,\"\",YEAR(A1062))","v":""},{"$f":"IF(ISBLANK(Rådata!A1062)=TRUE,\"\",VLOOKUP(MONTH(A1062),Opsætning!$G$3:$H$14,2,FALSE))","v":""},{"$f":"IF(ISBLANK(Rådata!B1062)=TRUE,\"\",(Rådata!C1062*100)/Rådata!B1062)","v":""},{"$f":"IF(ISBLANK(Rådata!D1062)=TRUE,\"\",((Rådata!D1062-Rådata!E1062)*100)/Rådata!D1062)","v":""},{"$f":"IF(ISBLANK(Rådata!G1062)=TRUE,\"\",(Rådata!F1062*100)/Rådata!G1062)","v":""},{"$f":"IF(ISBLANK(Rådata!K1062),\"\",(SUM(Rådata!M1062:P1062)*100)/SUM(Rådata!H1062:K1062))","v":""},{"$f":"IF(ISBLANK(Rådata!H1062),\"\",((SUM(Rådata!J1062:L1062)-SUM(Rådata!O1062:P1062))*100)/SUM(Rådata!H1062:L1062))","v":""},{"$f":"IF(ISBLANK(Rådata!R1062),\"\",(Rådata!Q1062*100)/Rådata!R1062)","v":""}]
[{"$f":"IF(ISBLANK(Rådata!A1063)=TRUE,\"\",Rådata!A1063)","v":""},{"$f":"IF(ISBLANK(Rådata!A1063)=TRUE,\"\",YEAR(A1063))","v":""},{"$f":"IF(ISBLANK(Rådata!A1063)=TRUE,\"\",VLOOKUP(MONTH(A1063),Opsætning!$G$3:$H$14,2,FALSE))","v":""},{"$f":"IF(ISBLANK(Rådata!B1063)=TRUE,\"\",(Rådata!C1063*100)/Rådata!B1063)","v":""},{"$f":"IF(ISBLANK(Rådata!D1063)=TRUE,\"\",((Rådata!D1063-Rådata!E1063)*100)/Rådata!D1063)","v":""},{"$f":"IF(ISBLANK(Rådata!G1063)=TRUE,\"\",(Rådata!F1063*100)/Rådata!G1063)","v":""},{"$f":"IF(ISBLANK(Rådata!K1063),\"\",(SUM(Rådata!M1063:P1063)*100)/SUM(Rådata!H1063:K1063))","v":""},{"$f":"IF(ISBLANK(Rådata!H1063),\"\",((SUM(Rådata!J1063:L1063)-SUM(Rådata!O1063:P1063))*100)/SUM(Rådata!H1063:L1063))","v":""},{"$f":"IF(ISBLANK(Rådata!R1063),\"\",(Rådata!Q1063*100)/Rådata!R1063)","v":""}]
[{"$f":"IF(ISBLANK(Rådata!A1064)=TRUE,\"\",Rådata!A1064)","v":""},{"$f":"IF(ISBLANK(Rådata!A1064)=TRUE,\"\",YEAR(A1064))","v":""},{"$f":"IF(ISBLANK(Rådata!A1064)=TRUE,\"\",VLOOKUP(MONTH(A1064),Opsætning!$G$3:$H$14,2,FALSE))","v":""},{"$f":"IF(ISBLANK(Rådata!B1064)=TRUE,\"\",(Rådata!C1064*100)/Rådata!B1064)","v":""},{"$f":"IF(ISBLANK(Rådata!D1064)=TRUE,\"\",((Rådata!D1064-Rådata!E1064)*100)/Rådata!D1064)","v":""},{"$f":"IF(ISBLANK(Rådata!G1064)=TRUE,\"\",(Rådata!F1064*100)/Rådata!G1064)","v":""},{"$f":"IF(ISBLANK(Rådata!K1064),\"\",(SUM(Rådata!M1064:P1064)*100)/SUM(Rådata!H1064:K1064))","v":""},{"$f":"IF(ISBLANK(Rådata!H1064),\"\",((SUM(Rådata!J1064:L1064)-SUM(Rådata!O1064:P1064))*100)/SUM(Rådata!H1064:L1064))","v":""},{"$f":"IF(ISBLANK(Rådata!R1064),\"\",(Rådata!Q1064*100)/Rådata!R1064)","v":""}]
[{"$f":"IF(ISBLANK(Rådata!A1065)=TRUE,\"\",Rådata!A1065)","v":""},{"$f":"IF(ISBLANK(Rådata!A1065)=TRUE,\"\",YEAR(A1065))","v":""},{"$f":"IF(ISBLANK(Rådata!A1065)=TRUE,\"\",VLOOKUP(MONTH(A1065),Opsætning!$G$3:$H$14,2,FALSE))","v":""},{"$f":"IF(ISBLANK(Rådata!B1065)=TRUE,\"\",(Rådata!C1065*100)/Rådata!B1065)","v":""},{"$f":"IF(ISBLANK(Rådata!D1065)=TRUE,\"\",((Rådata!D1065-Rådata!E1065)*100)/Rådata!D1065)","v":""},{"$f":"IF(ISBLANK(Rådata!G1065)=TRUE,\"\",(Rådata!F1065*100)/Rådata!G1065)","v":""},{"$f":"IF(ISBLANK(Rådata!K1065),\"\",(SUM(Rådata!M1065:P1065)*100)/SUM(Rådata!H1065:K1065))","v":""},{"$f":"IF(ISBLANK(Rådata!H1065),\"\",((SUM(Rådata!J1065:L1065)-SUM(Rådata!O1065:P1065))*100)/SUM(Rådata!H1065:L1065))","v":""},{"$f":"IF(ISBLANK(Rådata!R1065),\"\",(Rådata!Q1065*100)/Rådata!R1065)","v":""}]
[{"$f":"IF(ISBLANK(Rådata!A1066)=TRUE,\"\",Rådata!A1066)","v":""},{"$f":"IF(ISBLANK(Rådata!A1066)=TRUE,\"\",YEAR(A1066))","v":""},{"$f":"IF(ISBLANK(Rådata!A1066)=TRUE,\"\",VLOOKUP(MONTH(A1066),Opsætning!$G$3:$H$14,2,FALSE))","v":""},{"$f":"IF(ISBLANK(Rådata!B1066)=TRUE,\"\",(Rådata!C1066*100)/Rådata!B1066)","v":""},{"$f":"IF(ISBLANK(Rådata!D1066)=TRUE,\"\",((Rådata!D1066-Rådata!E1066)*100)/Rådata!D1066)","v":""},{"$f":"IF(ISBLANK(Rådata!G1066)=TRUE,\"\",(Rådata!F1066*100)/Rådata!G1066)","v":""},{"$f":"IF(ISBLANK(Rådata!K1066),\"\",(SUM(Rådata!M1066:P1066)*100)/SUM(Rådata!H1066:K1066))","v":""},{"$f":"IF(ISBLANK(Rådata!H1066),\"\",((SUM(Rådata!J1066:L1066)-SUM(Rådata!O1066:P1066))*100)/SUM(Rådata!H1066:L1066))","v":""},{"$f":"IF(ISBLANK(Rådata!R1066),\"\",(Rådata!Q1066*100)/Rådata!R1066)","v":""}]
[{"$f":"IF(ISBLANK(Rådata!A1067)=TRUE,\"\",Rådata!A1067)","v":""},{"$f":"IF(ISBLANK(Rådata!A1067)=TRUE,\"\",YEAR(A1067))","v":""},{"$f":"IF(ISBLANK(Rådata!A1067)=TRUE,\"\",VLOOKUP(MONTH(A1067),Opsætning!$G$3:$H$14,2,FALSE))","v":""},{"$f":"IF(ISBLANK(Rådata!B1067)=TRUE,\"\",(Rådata!C1067*100)/Rådata!B1067)","v":""},{"$f":"IF(ISBLANK(Rådata!D1067)=TRUE,\"\",((Rådata!D1067-Rådata!E1067)*100)/Rådata!D1067)","v":""},{"$f":"IF(ISBLANK(Rådata!G1067)=TRUE,\"\",(Rådata!F1067*100)/Rådata!G1067)","v":""},{"$f":"IF(ISBLANK(Rådata!K1067),\"\",(SUM(Rådata!M1067:P1067)*100)/SUM(Rådata!H1067:K1067))","v":""},{"$f":"IF(ISBLANK(Rådata!H1067),\"\",((SUM(Rådata!J1067:L1067)-SUM(Rådata!O1067:P1067))*100)/SUM(Rådata!H1067:L1067))","v":""},{"$f":"IF(ISBLANK(Rådata!R1067),\"\",(Rådata!Q1067*100)/Rådata!R1067)","v":""}]
[{"$f":"IF(ISBLANK(Rådata!A1068)=TRUE,\"\",Rådata!A1068)","v":""},{"$f":"IF(ISBLANK(Rådata!A1068)=TRUE,\"\",YEAR(A1068))","v":""},{"$f":"IF(ISBLANK(Rådata!A1068)=TRUE,\"\",VLOOKUP(MONTH(A1068),Opsætning!$G$3:$H$14,2,FALSE))","v":""},{"$f":"IF(ISBLANK(Rådata!B1068)=TRUE,\"\",(Rådata!C1068*100)/Rådata!B1068)","v":""},{"$f":"IF(ISBLANK(Rådata!D1068)=TRUE,\"\",((Rådata!D1068-Rådata!E1068)*100)/Rådata!D1068)","v":""},{"$f":"IF(ISBLANK(Rådata!G1068)=TRUE,\"\",(Rådata!F1068*100)/Rådata!G1068)","v":""},{"$f":"IF(ISBLANK(Rådata!K1068),\"\",(SUM(Rådata!M1068:P1068)*100)/SUM(Rådata!H1068:K1068))","v":""},{"$f":"IF(ISBLANK(Rådata!H1068),\"\",((SUM(Rådata!J1068:L1068)-SUM(Rådata!O1068:P1068))*100)/SUM(Rådata!H1068:L1068))","v":""},{"$f":"IF(ISBLANK(Rådata!R1068),\"\",(Rådata!Q1068*100)/Rådata!R1068)","v":""}]
[{"$f":"IF(ISBLANK(Rådata!A1069)=TRUE,\"\",Rådata!A1069)","v":""},{"$f":"IF(ISBLANK(Rådata!A1069)=TRUE,\"\",YEAR(A1069))","v":""},{"$f":"IF(ISBLANK(Rådata!A1069)=TRUE,\"\",VLOOKUP(MONTH(A1069),Opsætning!$G$3:$H$14,2,FALSE))","v":""},{"$f":"IF(ISBLANK(Rådata!B1069)=TRUE,\"\",(Rådata!C1069*100)/Rådata!B1069)","v":""},{"$f":"IF(ISBLANK(Rådata!D1069)=TRUE,\"\",((Rådata!D1069-Rådata!E1069)*100)/Rådata!D1069)","v":""},{"$f":"IF(ISBLANK(Rådata!G1069)=TRUE,\"\",(Rådata!F1069*100)/Rådata!G1069)","v":""},{"$f":"IF(ISBLANK(Rådata!K1069),\"\",(SUM(Rådata!M1069:P1069)*100)/SUM(Rådata!H1069:K1069))","v":""},{"$f":"IF(ISBLANK(Rådata!H1069),\"\",((SUM(Rådata!J1069:L1069)-SUM(Rådata!O1069:P1069))*100)/SUM(Rådata!H1069:L1069))","v":""},{"$f":"IF(ISBLANK(Rådata!R1069),\"\",(Rådata!Q1069*100)/Rådata!R1069)","v":""}]
[{"$f":"IF(ISBLANK(Rådata!A1070)=TRUE,\"\",Rådata!A1070)","v":""},{"$f":"IF(ISBLANK(Rådata!A1070)=TRUE,\"\",YEAR(A1070))","v":""},{"$f":"IF(ISBLANK(Rådata!A1070)=TRUE,\"\",VLOOKUP(MONTH(A1070),Opsætning!$G$3:$H$14,2,FALSE))","v":""},{"$f":"IF(ISBLANK(Rådata!B1070)=TRUE,\"\",(Rådata!C1070*100)/Rådata!B1070)","v":""},{"$f":"IF(ISBLANK(Rådata!D1070)=TRUE,\"\",((Rådata!D1070-Rådata!E1070)*100)/Rådata!D1070)","v":""},{"$f":"IF(ISBLANK(Rådata!G1070)=TRUE,\"\",(Rådata!F1070*100)/Rådata!G1070)","v":""},{"$f":"IF(ISBLANK(Rådata!K1070),\"\",(SUM(Rådata!M1070:P1070)*100)/SUM(Rådata!H1070:K1070))","v":""},{"$f":"IF(ISBLANK(Rådata!H1070),\"\",((SUM(Rådata!J1070:L1070)-SUM(Rådata!O1070:P1070))*100)/SUM(Rådata!H1070:L1070))","v":""},{"$f":"IF(ISBLANK(Rådata!R1070),\"\",(Rådata!Q1070*100)/Rådata!R1070)","v":""}]
[{"$f":"IF(ISBLANK(Rådata!A1071)=TRUE,\"\",Rådata!A1071)","v":""},{"$f":"IF(ISBLANK(Rådata!A1071)=TRUE,\"\",YEAR(A1071))","v":""},{"$f":"IF(ISBLANK(Rådata!A1071)=TRUE,\"\",VLOOKUP(MONTH(A1071),Opsætning!$G$3:$H$14,2,FALSE))","v":""},{"$f":"IF(ISBLANK(Rådata!B1071)=TRUE,\"\",(Rådata!C1071*100)/Rådata!B1071)","v":""},{"$f":"IF(ISBLANK(Rådata!D1071)=TRUE,\"\",((Rådata!D1071-Rådata!E1071)*100)/Rådata!D1071)","v":""},{"$f":"IF(ISBLANK(Rådata!G1071)=TRUE,\"\",(Rådata!F1071*100)/Rådata!G1071)","v":""},{"$f":"IF(ISBLANK(Rådata!K1071),\"\",(SUM(Rådata!M1071:P1071)*100)/SUM(Rådata!H1071:K1071))","v":""},{"$f":"IF(ISBLANK(Rådata!H1071),\"\",((SUM(Rådata!J1071:L1071)-SUM(Rådata!O1071:P1071))*100)/SUM(Rådata!H1071:L1071))","v":""},{"$f":"IF(ISBLANK(Rådata!R1071),\"\",(Rådata!Q1071*100)/Rådata!R1071)","v":""}]
[{"$f":"IF(ISBLANK(Rådata!A1072)=TRUE,\"\",Rådata!A1072)","v":""},{"$f":"IF(ISBLANK(Rådata!A1072)=TRUE,\"\",YEAR(A1072))","v":""},{"$f":"IF(ISBLANK(Rådata!A1072)=TRUE,\"\",VLOOKUP(MONTH(A1072),Opsætning!$G$3:$H$14,2,FALSE))","v":""},{"$f":"IF(ISBLANK(Rådata!B1072)=TRUE,\"\",(Rådata!C1072*100)/Rådata!B1072)","v":""},{"$f":"IF(ISBLANK(Rådata!D1072)=TRUE,\"\",((Rådata!D1072-Rådata!E1072)*100)/Rådata!D1072)","v":""},{"$f":"IF(ISBLANK(Rådata!G1072)=TRUE,\"\",(Rådata!F1072*100)/Rådata!G1072)","v":""},{"$f":"IF(ISBLANK(Rådata!K1072),\"\",(SUM(Rådata!M1072:P1072)*100)/SUM(Rådata!H1072:K1072))","v":""},{"$f":"IF(ISBLANK(Rådata!H1072),\"\",((SUM(Rådata!J1072:L1072)-SUM(Rådata!O1072:P1072))*100)/SUM(Rådata!H1072:L1072))","v":""},{"$f":"IF(ISBLANK(Rådata!R1072),\"\",(Rådata!Q1072*100)/Rådata!R1072)","v":""}]
[{"$f":"IF(ISBLANK(Rådata!A1073)=TRUE,\"\",Rådata!A1073)","v":""},{"$f":"IF(ISBLANK(Rådata!A1073)=TRUE,\"\",YEAR(A1073))","v":""},{"$f":"IF(ISBLANK(Rådata!A1073)=TRUE,\"\",VLOOKUP(MONTH(A1073),Opsætning!$G$3:$H$14,2,FALSE))","v":""},{"$f":"IF(ISBLANK(Rådata!B1073)=TRUE,\"\",(Rådata!C1073*100)/Rådata!B1073)","v":""},{"$f":"IF(ISBLANK(Rådata!D1073)=TRUE,\"\",((Rådata!D1073-Rådata!E1073)*100)/Rådata!D1073)","v":""},{"$f":"IF(ISBLANK(Rådata!G1073)=TRUE,\"\",(Rådata!F1073*100)/Rådata!G1073)","v":""},{"$f":"IF(ISBLANK(Rådata!K1073),\"\",(SUM(Rådata!M1073:P1073)*100)/SUM(Rådata!H1073:K1073))","v":""},{"$f":"IF(ISBLANK(Rådata!H1073),\"\",((SUM(Rådata!J1073:L1073)-SUM(Rådata!O1073:P1073))*100)/SUM(Rådata!H1073:L1073))","v":""},{"$f":"IF(ISBLANK(Rådata!R1073),\"\",(Rådata!Q1073*100)/Rådata!R1073)","v":""}]
[{"$f":"IF(ISBLANK(Rådata!A1074)=TRUE,\"\",Rådata!A1074)","v":""},{"$f":"IF(ISBLANK(Rådata!A1074)=TRUE,\"\",YEAR(A1074))","v":""},{"$f":"IF(ISBLANK(Rådata!A1074)=TRUE,\"\",VLOOKUP(MONTH(A1074),Opsætning!$G$3:$H$14,2,FALSE))","v":""},{"$f":"IF(ISBLANK(Rådata!B1074)=TRUE,\"\",(Rådata!C1074*100)/Rådata!B1074)","v":""},{"$f":"IF(ISBLANK(Rådata!D1074)=TRUE,\"\",((Rådata!D1074-Rådata!E1074)*100)/Rådata!D1074)","v":""},{"$f":"IF(ISBLANK(Rådata!G1074)=TRUE,\"\",(Rådata!F1074*100)/Rådata!G1074)","v":""},{"$f":"IF(ISBLANK(Rådata!K1074),\"\",(SUM(Rådata!M1074:P1074)*100)/SUM(Rådata!H1074:K1074))","v":""},{"$f":"IF(ISBLANK(Rådata!H1074),\"\",((SUM(Rådata!J1074:L1074)-SUM(Rådata!O1074:P1074))*100)/SUM(Rådata!H1074:L1074))","v":""},{"$f":"IF(ISBLANK(Rådata!R1074),\"\",(Rådata!Q1074*100)/Rådata!R1074)","v":""}]
[{"$f":"IF(ISBLANK(Rådata!A1075)=TRUE,\"\",Rådata!A1075)","v":""},{"$f":"IF(ISBLANK(Rådata!A1075)=TRUE,\"\",YEAR(A1075))","v":""},{"$f":"IF(ISBLANK(Rådata!A1075)=TRUE,\"\",VLOOKUP(MONTH(A1075),Opsætning!$G$3:$H$14,2,FALSE))","v":""},{"$f":"IF(ISBLANK(Rådata!B1075)=TRUE,\"\",(Rådata!C1075*100)/Rådata!B1075)","v":""},{"$f":"IF(ISBLANK(Rådata!D1075)=TRUE,\"\",((Rådata!D1075-Rådata!E1075)*100)/Rådata!D1075)","v":""},{"$f":"IF(ISBLANK(Rådata!G1075)=TRUE,\"\",(Rådata!F1075*100)/Rådata!G1075)","v":""},{"$f":"IF(ISBLANK(Rådata!K1075),\"\",(SUM(Rådata!M1075:P1075)*100)/SUM(Rådata!H1075:K1075))","v":""},{"$f":"IF(ISBLANK(Rådata!H1075),\"\",((SUM(Rådata!J1075:L1075)-SUM(Rådata!O1075:P1075))*100)/SUM(Rådata!H1075:L1075))","v":""},{"$f":"IF(ISBLANK(Rådata!R1075),\"\",(Rådata!Q1075*100)/Rådata!R1075)","v":""}]
[{"$f":"IF(ISBLANK(Rådata!A1076)=TRUE,\"\",Rådata!A1076)","v":""},{"$f":"IF(ISBLANK(Rådata!A1076)=TRUE,\"\",YEAR(A1076))","v":""},{"$f":"IF(ISBLANK(Rådata!A1076)=TRUE,\"\",VLOOKUP(MONTH(A1076),Opsætning!$G$3:$H$14,2,FALSE))","v":""},{"$f":"IF(ISBLANK(Rådata!B1076)=TRUE,\"\",(Rådata!C1076*100)/Rådata!B1076)","v":""},{"$f":"IF(ISBLANK(Rådata!D1076)=TRUE,\"\",((Rådata!D1076-Rådata!E1076)*100)/Rådata!D1076)","v":""},{"$f":"IF(ISBLANK(Rådata!G1076)=TRUE,\"\",(Rådata!F1076*100)/Rådata!G1076)","v":""},{"$f":"IF(ISBLANK(Rådata!K1076),\"\",(SUM(Rådata!M1076:P1076)*100)/SUM(Rådata!H1076:K1076))","v":""},{"$f":"IF(ISBLANK(Rådata!H1076),\"\",((SUM(Rådata!J1076:L1076)-SUM(Rådata!O1076:P1076))*100)/SUM(Rådata!H1076:L1076))","v":""},{"$f":"IF(ISBLANK(Rådata!R1076),\"\",(Rådata!Q1076*100)/Rådata!R1076)","v":""}]
[{"$f":"IF(ISBLANK(Rådata!A1077)=TRUE,\"\",Rådata!A1077)","v":""},{"$f":"IF(ISBLANK(Rådata!A1077)=TRUE,\"\",YEAR(A1077))","v":""},{"$f":"IF(ISBLANK(Rådata!A1077)=TRUE,\"\",VLOOKUP(MONTH(A1077),Opsætning!$G$3:$H$14,2,FALSE))","v":""},{"$f":"IF(ISBLANK(Rådata!B1077)=TRUE,\"\",(Rådata!C1077*100)/Rådata!B1077)","v":""},{"$f":"IF(ISBLANK(Rådata!D1077)=TRUE,\"\",((Rådata!D1077-Rådata!E1077)*100)/Rådata!D1077)","v":""},{"$f":"IF(ISBLANK(Rådata!G1077)=TRUE,\"\",(Rådata!F1077*100)/Rådata!G1077)","v":""},{"$f":"IF(ISBLANK(Rådata!K1077),\"\",(SUM(Rådata!M1077:P1077)*100)/SUM(Rådata!H1077:K1077))","v":""},{"$f":"IF(ISBLANK(Rådata!H1077),\"\",((SUM(Rådata!J1077:L1077)-SUM(Rådata!O1077:P1077))*100)/SUM(Rådata!H1077:L1077))","v":""},{"$f":"IF(ISBLANK(Rådata!R1077),\"\",(Rådata!Q1077*100)/Rådata!R1077)","v":""}]
[{"$f":"IF(ISBLANK(Rådata!A1078)=TRUE,\"\",Rådata!A1078)","v":""},{"$f":"IF(ISBLANK(Rådata!A1078)=TRUE,\"\",YEAR(A1078))","v":""},{"$f":"IF(ISBLANK(Rådata!A1078)=TRUE,\"\",VLOOKUP(MONTH(A1078),Opsætning!$G$3:$H$14,2,FALSE))","v":""},{"$f":"IF(ISBLANK(Rådata!B1078)=TRUE,\"\",(Rådata!C1078*100)/Rådata!B1078)","v":""},{"$f":"IF(ISBLANK(Rådata!D1078)=TRUE,\"\",((Rådata!D1078-Rådata!E1078)*100)/Rådata!D1078)","v":""},{"$f":"IF(ISBLANK(Rådata!G1078)=TRUE,\"\",(Rådata!F1078*100)/Rådata!G1078)","v":""},{"$f":"IF(ISBLANK(Rådata!K1078),\"\",(SUM(Rådata!M1078:P1078)*100)/SUM(Rådata!H1078:K1078))","v":""},{"$f":"IF(ISBLANK(Rådata!H1078),\"\",((SUM(Rådata!J1078:L1078)-SUM(Rådata!O1078:P1078))*100)/SUM(Rådata!H1078:L1078))","v":""},{"$f":"IF(ISBLANK(Rådata!R1078),\"\",(Rådata!Q1078*100)/Rådata!R1078)","v":""}]
[{"$f":"IF(ISBLANK(Rådata!A1079)=TRUE,\"\",Rådata!A1079)","v":""},{"$f":"IF(ISBLANK(Rådata!A1079)=TRUE,\"\",YEAR(A1079))","v":""},{"$f":"IF(ISBLANK(Rådata!A1079)=TRUE,\"\",VLOOKUP(MONTH(A1079),Opsætning!$G$3:$H$14,2,FALSE))","v":""},{"$f":"IF(ISBLANK(Rådata!B1079)=TRUE,\"\",(Rådata!C1079*100)/Rådata!B1079)","v":""},{"$f":"IF(ISBLANK(Rådata!D1079)=TRUE,\"\",((Rådata!D1079-Rådata!E1079)*100)/Rådata!D1079)","v":""},{"$f":"IF(ISBLANK(Rådata!G1079)=TRUE,\"\",(Rådata!F1079*100)/Rådata!G1079)","v":""},{"$f":"IF(ISBLANK(Rådata!K1079),\"\",(SUM(Rådata!M1079:P1079)*100)/SUM(Rådata!H1079:K1079))","v":""},{"$f":"IF(ISBLANK(Rådata!H1079),\"\",((SUM(Rådata!J1079:L1079)-SUM(Rådata!O1079:P1079))*100)/SUM(Rådata!H1079:L1079))","v":""},{"$f":"IF(ISBLANK(Rådata!R1079),\"\",(Rådata!Q1079*100)/Rådata!R1079)","v":""}]
[{"$f":"IF(ISBLANK(Rådata!A1080)=TRUE,\"\",Rådata!A1080)","v":""},{"$f":"IF(ISBLANK(Rådata!A1080)=TRUE,\"\",YEAR(A1080))","v":""},{"$f":"IF(ISBLANK(Rådata!A1080)=TRUE,\"\",VLOOKUP(MONTH(A1080),Opsætning!$G$3:$H$14,2,FALSE))","v":""},{"$f":"IF(ISBLANK(Rådata!B1080)=TRUE,\"\",(Rådata!C1080*100)/Rådata!B1080)","v":""},{"$f":"IF(ISBLANK(Rådata!D1080)=TRUE,\"\",((Rådata!D1080-Rådata!E1080)*100)/Rådata!D1080)","v":""},{"$f":"IF(ISBLANK(Rådata!G1080)=TRUE,\"\",(Rådata!F1080*100)/Rådata!G1080)","v":""},{"$f":"IF(ISBLANK(Rådata!K1080),\"\",(SUM(Rådata!M1080:P1080)*100)/SUM(Rådata!H1080:K1080))","v":""},{"$f":"IF(ISBLANK(Rådata!H1080),\"\",((SUM(Rådata!J1080:L1080)-SUM(Rådata!O1080:P1080))*100)/SUM(Rådata!H1080:L1080))","v":""},{"$f":"IF(ISBLANK(Rådata!R1080),\"\",(Rådata!Q1080*100)/Rådata!R1080)","v":""}]
[{"$f":"IF(ISBLANK(Rådata!A1081)=TRUE,\"\",Rådata!A1081)","v":""},{"$f":"IF(ISBLANK(Rådata!A1081)=TRUE,\"\",YEAR(A1081))","v":""},{"$f":"IF(ISBLANK(Rådata!A1081)=TRUE,\"\",VLOOKUP(MONTH(A1081),Opsætning!$G$3:$H$14,2,FALSE))","v":""},{"$f":"IF(ISBLANK(Rådata!B1081)=TRUE,\"\",(Rådata!C1081*100)/Rådata!B1081)","v":""},{"$f":"IF(ISBLANK(Rådata!D1081)=TRUE,\"\",((Rådata!D1081-Rådata!E1081)*100)/Rådata!D1081)","v":""},{"$f":"IF(ISBLANK(Rådata!G1081)=TRUE,\"\",(Rådata!F1081*100)/Rådata!G1081)","v":""},{"$f":"IF(ISBLANK(Rådata!K1081),\"\",(SUM(Rådata!M1081:P1081)*100)/SUM(Rådata!H1081:K1081))","v":""},{"$f":"IF(ISBLANK(Rådata!H1081),\"\",((SUM(Rådata!J1081:L1081)-SUM(Rådata!O1081:P1081))*100)/SUM(Rådata!H1081:L1081))","v":""},{"$f":"IF(ISBLANK(Rådata!R1081),\"\",(Rådata!Q1081*100)/Rådata!R1081)","v":""}]
[{"$f":"IF(ISBLANK(Rådata!A1082)=TRUE,\"\",Rådata!A1082)","v":""},{"$f":"IF(ISBLANK(Rådata!A1082)=TRUE,\"\",YEAR(A1082))","v":""},{"$f":"IF(ISBLANK(Rådata!A1082)=TRUE,\"\",VLOOKUP(MONTH(A1082),Opsætning!$G$3:$H$14,2,FALSE))","v":""},{"$f":"IF(ISBLANK(Rådata!B1082)=TRUE,\"\",(Rådata!C1082*100)/Rådata!B1082)","v":""},{"$f":"IF(ISBLANK(Rådata!D1082)=TRUE,\"\",((Rådata!D1082-Rådata!E1082)*100)/Rådata!D1082)","v":""},{"$f":"IF(ISBLANK(Rådata!G1082)=TRUE,\"\",(Rådata!F1082*100)/Rådata!G1082)","v":""},{"$f":"IF(ISBLANK(Rådata!K1082),\"\",(SUM(Rådata!M1082:P1082)*100)/SUM(Rådata!H1082:K1082))","v":""},{"$f":"IF(ISBLANK(Rådata!H1082),\"\",((SUM(Rådata!J1082:L1082)-SUM(Rådata!O1082:P1082))*100)/SUM(Rådata!H1082:L1082))","v":""},{"$f":"IF(ISBLANK(Rådata!R1082),\"\",(Rådata!Q1082*100)/Rådata!R1082)","v":""}]
[{"$f":"IF(ISBLANK(Rådata!A1083)=TRUE,\"\",Rådata!A1083)","v":""},{"$f":"IF(ISBLANK(Rådata!A1083)=TRUE,\"\",YEAR(A1083))","v":""},{"$f":"IF(ISBLANK(Rådata!A1083)=TRUE,\"\",VLOOKUP(MONTH(A1083),Opsætning!$G$3:$H$14,2,FALSE))","v":""},{"$f":"IF(ISBLANK(Rådata!B1083)=TRUE,\"\",(Rådata!C1083*100)/Rådata!B1083)","v":""},{"$f":"IF(ISBLANK(Rådata!D1083)=TRUE,\"\",((Rådata!D1083-Rådata!E1083)*100)/Rådata!D1083)","v":""},{"$f":"IF(ISBLANK(Rådata!G1083)=TRUE,\"\",(Rådata!F1083*100)/Rådata!G1083)","v":""},{"$f":"IF(ISBLANK(Rådata!K1083),\"\",(SUM(Rådata!M1083:P1083)*100)/SUM(Rådata!H1083:K1083))","v":""},{"$f":"IF(ISBLANK(Rådata!H1083),\"\",((SUM(Rådata!J1083:L1083)-SUM(Rådata!O1083:P1083))*100)/SUM(Rådata!H1083:L1083))","v":""},{"$f":"IF(ISBLANK(Rådata!R1083),\"\",(Rådata!Q1083*100)/Rådata!R1083)","v":""}]
[{"$f":"IF(ISBLANK(Rådata!A1084)=TRUE,\"\",Rådata!A1084)","v":""},{"$f":"IF(ISBLANK(Rådata!A1084)=TRUE,\"\",YEAR(A1084))","v":""},{"$f":"IF(ISBLANK(Rådata!A1084)=TRUE,\"\",VLOOKUP(MONTH(A1084),Opsætning!$G$3:$H$14,2,FALSE))","v":""},{"$f":"IF(ISBLANK(Rådata!B1084)=TRUE,\"\",(Rådata!C1084*100)/Rådata!B1084)","v":""},{"$f":"IF(ISBLANK(Rådata!D1084)=TRUE,\"\",((Rådata!D1084-Rådata!E1084)*100)/Rådata!D1084)","v":""},{"$f":"IF(ISBLANK(Rådata!G1084)=TRUE,\"\",(Rådata!F1084*100)/Rådata!G1084)","v":""},{"$f":"IF(ISBLANK(Rådata!K1084),\"\",(SUM(Rådata!M1084:P1084)*100)/SUM(Rådata!H1084:K1084))","v":""},{"$f":"IF(ISBLANK(Rådata!H1084),\"\",((SUM(Rådata!J1084:L1084)-SUM(Rådata!O1084:P1084))*100)/SUM(Rådata!H1084:L1084))","v":""},{"$f":"IF(ISBLANK(Rådata!R1084),\"\",(Rådata!Q1084*100)/Rådata!R1084)","v":""}]
[{"$f":"IF(ISBLANK(Rådata!A1085)=TRUE,\"\",Rådata!A1085)","v":""},{"$f":"IF(ISBLANK(Rådata!A1085)=TRUE,\"\",YEAR(A1085))","v":""},{"$f":"IF(ISBLANK(Rådata!A1085)=TRUE,\"\",VLOOKUP(MONTH(A1085),Opsætning!$G$3:$H$14,2,FALSE))","v":""},{"$f":"IF(ISBLANK(Rådata!B1085)=TRUE,\"\",(Rådata!C1085*100)/Rådata!B1085)","v":""},{"$f":"IF(ISBLANK(Rådata!D1085)=TRUE,\"\",((Rådata!D1085-Rådata!E1085)*100)/Rådata!D1085)","v":""},{"$f":"IF(ISBLANK(Rådata!G1085)=TRUE,\"\",(Rådata!F1085*100)/Rådata!G1085)","v":""},{"$f":"IF(ISBLANK(Rådata!K1085),\"\",(SUM(Rådata!M1085:P1085)*100)/SUM(Rådata!H1085:K1085))","v":""},{"$f":"IF(ISBLANK(Rådata!H1085),\"\",((SUM(Rådata!J1085:L1085)-SUM(Rådata!O1085:P1085))*100)/SUM(Rådata!H1085:L1085))","v":""},{"$f":"IF(ISBLANK(Rådata!R1085),\"\",(Rådata!Q1085*100)/Rådata!R1085)","v":""}]
[{"$f":"IF(ISBLANK(Rådata!A1086)=TRUE,\"\",Rådata!A1086)","v":""},{"$f":"IF(ISBLANK(Rådata!A1086)=TRUE,\"\",YEAR(A1086))","v":""},{"$f":"IF(ISBLANK(Rådata!A1086)=TRUE,\"\",VLOOKUP(MONTH(A1086),Opsætning!$G$3:$H$14,2,FALSE))","v":""},{"$f":"IF(ISBLANK(Rådata!B1086)=TRUE,\"\",(Rådata!C1086*100)/Rådata!B1086)","v":""},{"$f":"IF(ISBLANK(Rådata!D1086)=TRUE,\"\",((Rådata!D1086-Rådata!E1086)*100)/Rådata!D1086)","v":""},{"$f":"IF(ISBLANK(Rådata!G1086)=TRUE,\"\",(Rådata!F1086*100)/Rådata!G1086)","v":""},{"$f":"IF(ISBLANK(Rådata!K1086),\"\",(SUM(Rådata!M1086:P1086)*100)/SUM(Rådata!H1086:K1086))","v":""},{"$f":"IF(ISBLANK(Rådata!H1086),\"\",((SUM(Rådata!J1086:L1086)-SUM(Rådata!O1086:P1086))*100)/SUM(Rådata!H1086:L1086))","v":""},{"$f":"IF(ISBLANK(Rådata!R1086),\"\",(Rådata!Q1086*100)/Rådata!R1086)","v":""}]
[{"$f":"IF(ISBLANK(Rådata!A1087)=TRUE,\"\",Rådata!A1087)","v":""},{"$f":"IF(ISBLANK(Rådata!A1087)=TRUE,\"\",YEAR(A1087))","v":""},{"$f":"IF(ISBLANK(Rådata!A1087)=TRUE,\"\",VLOOKUP(MONTH(A1087),Opsætning!$G$3:$H$14,2,FALSE))","v":""},{"$f":"IF(ISBLANK(Rådata!B1087)=TRUE,\"\",(Rådata!C1087*100)/Rådata!B1087)","v":""},{"$f":"IF(ISBLANK(Rådata!D1087)=TRUE,\"\",((Rådata!D1087-Rådata!E1087)*100)/Rådata!D1087)","v":""},{"$f":"IF(ISBLANK(Rådata!G1087)=TRUE,\"\",(Rådata!F1087*100)/Rådata!G1087)","v":""},{"$f":"IF(ISBLANK(Rådata!K1087),\"\",(SUM(Rådata!M1087:P1087)*100)/SUM(Rådata!H1087:K1087))","v":""},{"$f":"IF(ISBLANK(Rådata!H1087),\"\",((SUM(Rådata!J1087:L1087)-SUM(Rådata!O1087:P1087))*100)/SUM(Rådata!H1087:L1087))","v":""},{"$f":"IF(ISBLANK(Rådata!R1087),\"\",(Rådata!Q1087*100)/Rådata!R1087)","v":""}]
[{"$f":"IF(ISBLANK(Rådata!A1088)=TRUE,\"\",Rådata!A1088)","v":""},{"$f":"IF(ISBLANK(Rådata!A1088)=TRUE,\"\",YEAR(A1088))","v":""},{"$f":"IF(ISBLANK(Rådata!A1088)=TRUE,\"\",VLOOKUP(MONTH(A1088),Opsætning!$G$3:$H$14,2,FALSE))","v":""},{"$f":"IF(ISBLANK(Rådata!B1088)=TRUE,\"\",(Rådata!C1088*100)/Rådata!B1088)","v":""},{"$f":"IF(ISBLANK(Rådata!D1088)=TRUE,\"\",((Rådata!D1088-Rådata!E1088)*100)/Rådata!D1088)","v":""},{"$f":"IF(ISBLANK(Rådata!G1088)=TRUE,\"\",(Rådata!F1088*100)/Rådata!G1088)","v":""},{"$f":"IF(ISBLANK(Rådata!K1088),\"\",(SUM(Rådata!M1088:P1088)*100)/SUM(Rådata!H1088:K1088))","v":""},{"$f":"IF(ISBLANK(Rådata!H1088),\"\",((SUM(Rådata!J1088:L1088)-SUM(Rådata!O1088:P1088))*100)/SUM(Rådata!H1088:L1088))","v":""},{"$f":"IF(ISBLANK(Rådata!R1088),\"\",(Rådata!Q1088*100)/Rådata!R1088)","v":""}]
[{"$f":"IF(ISBLANK(Rådata!A1089)=TRUE,\"\",Rådata!A1089)","v":""},{"$f":"IF(ISBLANK(Rådata!A1089)=TRUE,\"\",YEAR(A1089))","v":""},{"$f":"IF(ISBLANK(Rådata!A1089)=TRUE,\"\",VLOOKUP(MONTH(A1089),Opsætning!$G$3:$H$14,2,FALSE))","v":""},{"$f":"IF(ISBLANK(Rådata!B1089)=TRUE,\"\",(Rådata!C1089*100)/Rådata!B1089)","v":""},{"$f":"IF(ISBLANK(Rådata!D1089)=TRUE,\"\",((Rådata!D1089-Rådata!E1089)*100)/Rådata!D1089)","v":""},{"$f":"IF(ISBLANK(Rådata!G1089)=TRUE,\"\",(Rådata!F1089*100)/Rådata!G1089)","v":""},{"$f":"IF(ISBLANK(Rådata!K1089),\"\",(SUM(Rådata!M1089:P1089)*100)/SUM(Rådata!H1089:K1089))","v":""},{"$f":"IF(ISBLANK(Rådata!H1089),\"\",((SUM(Rådata!J1089:L1089)-SUM(Rådata!O1089:P1089))*100)/SUM(Rådata!H1089:L1089))","v":""},{"$f":"IF(ISBLANK(Rådata!R1089),\"\",(Rådata!Q1089*100)/Rådata!R1089)","v":""}]
[{"$f":"IF(ISBLANK(Rådata!A1090)=TRUE,\"\",Rådata!A1090)","v":""},{"$f":"IF(ISBLANK(Rådata!A1090)=TRUE,\"\",YEAR(A1090))","v":""},{"$f":"IF(ISBLANK(Rådata!A1090)=TRUE,\"\",VLOOKUP(MONTH(A1090),Opsætning!$G$3:$H$14,2,FALSE))","v":""},{"$f":"IF(ISBLANK(Rådata!B1090)=TRUE,\"\",(Rådata!C1090*100)/Rådata!B1090)","v":""},{"$f":"IF(ISBLANK(Rådata!D1090)=TRUE,\"\",((Rådata!D1090-Rådata!E1090)*100)/Rådata!D1090)","v":""},{"$f":"IF(ISBLANK(Rådata!G1090)=TRUE,\"\",(Rådata!F1090*100)/Rådata!G1090)","v":""},{"$f":"IF(ISBLANK(Rådata!K1090),\"\",(SUM(Rådata!M1090:P1090)*100)/SUM(Rådata!H1090:K1090))","v":""},{"$f":"IF(ISBLANK(Rådata!H1090),\"\",((SUM(Rådata!J1090:L1090)-SUM(Rådata!O1090:P1090))*100)/SUM(Rådata!H1090:L1090))","v":""},{"$f":"IF(ISBLANK(Rådata!R1090),\"\",(Rådata!Q1090*100)/Rådata!R1090)","v":""}]
[{"$f":"IF(ISBLANK(Rådata!A1091)=TRUE,\"\",Rådata!A1091)","v":""},{"$f":"IF(ISBLANK(Rådata!A1091)=TRUE,\"\",YEAR(A1091))","v":""},{"$f":"IF(ISBLANK(Rådata!A1091)=TRUE,\"\",VLOOKUP(MONTH(A1091),Opsætning!$G$3:$H$14,2,FALSE))","v":""},{"$f":"IF(ISBLANK(Rådata!B1091)=TRUE,\"\",(Rådata!C1091*100)/Rådata!B1091)","v":""},{"$f":"IF(ISBLANK(Rådata!D1091)=TRUE,\"\",((Rådata!D1091-Rådata!E1091)*100)/Rådata!D1091)","v":""},{"$f":"IF(ISBLANK(Rådata!G1091)=TRUE,\"\",(Rådata!F1091*100)/Rådata!G1091)","v":""},{"$f":"IF(ISBLANK(Rådata!K1091),\"\",(SUM(Rådata!M1091:P1091)*100)/SUM(Rådata!H1091:K1091))","v":""},{"$f":"IF(ISBLANK(Rådata!H1091),\"\",((SUM(Rådata!J1091:L1091)-SUM(Rådata!O1091:P1091))*100)/SUM(Rådata!H1091:L1091))","v":""},{"$f":"IF(ISBLANK(Rådata!R1091),\"\",(Rådata!Q1091*100)/Rådata!R1091)","v":""}]
[{"$f":"IF(ISBLANK(Rådata!A1092)=TRUE,\"\",Rådata!A1092)","v":""},{"$f":"IF(ISBLANK(Rådata!A1092)=TRUE,\"\",YEAR(A1092))","v":""},{"$f":"IF(ISBLANK(Rådata!A1092)=TRUE,\"\",VLOOKUP(MONTH(A1092),Opsætning!$G$3:$H$14,2,FALSE))","v":""},{"$f":"IF(ISBLANK(Rådata!B1092)=TRUE,\"\",(Rådata!C1092*100)/Rådata!B1092)","v":""},{"$f":"IF(ISBLANK(Rådata!D1092)=TRUE,\"\",((Rådata!D1092-Rådata!E1092)*100)/Rådata!D1092)","v":""},{"$f":"IF(ISBLANK(Rådata!G1092)=TRUE,\"\",(Rådata!F1092*100)/Rådata!G1092)","v":""},{"$f":"IF(ISBLANK(Rådata!K1092),\"\",(SUM(Rådata!M1092:P1092)*100)/SUM(Rådata!H1092:K1092))","v":""},{"$f":"IF(ISBLANK(Rådata!H1092),\"\",((SUM(Rådata!J1092:L1092)-SUM(Rådata!O1092:P1092))*100)/SUM(Rådata!H1092:L1092))","v":""},{"$f":"IF(ISBLANK(Rådata!R1092),\"\",(Rådata!Q1092*100)/Rådata!R1092)","v":""}]
[{"$f":"IF(ISBLANK(Rådata!A1093)=TRUE,\"\",Rådata!A1093)","v":""},{"$f":"IF(ISBLANK(Rådata!A1093)=TRUE,\"\",YEAR(A1093))","v":""},{"$f":"IF(ISBLANK(Rådata!A1093)=TRUE,\"\",VLOOKUP(MONTH(A1093),Opsætning!$G$3:$H$14,2,FALSE))","v":""},{"$f":"IF(ISBLANK(Rådata!B1093)=TRUE,\"\",(Rådata!C1093*100)/Rådata!B1093)","v":""},{"$f":"IF(ISBLANK(Rådata!D1093)=TRUE,\"\",((Rådata!D1093-Rådata!E1093)*100)/Rådata!D1093)","v":""},{"$f":"IF(ISBLANK(Rådata!G1093)=TRUE,\"\",(Rådata!F1093*100)/Rådata!G1093)","v":""},{"$f":"IF(ISBLANK(Rådata!K1093),\"\",(SUM(Rådata!M1093:P1093)*100)/SUM(Rådata!H1093:K1093))","v":""},{"$f":"IF(ISBLANK(Rådata!H1093),\"\",((SUM(Rådata!J1093:L1093)-SUM(Rådata!O1093:P1093))*100)/SUM(Rådata!H1093:L1093))","v":""},{"$f":"IF(ISBLANK(Rådata!R1093),\"\",(Rådata!Q1093*100)/Rådata!R1093)","v":""}]
[{"$f":"IF(ISBLANK(Rådata!A1094)=TRUE,\"\",Rådata!A1094)","v":""},{"$f":"IF(ISBLANK(Rådata!A1094)=TRUE,\"\",YEAR(A1094))","v":""},{"$f":"IF(ISBLANK(Rådata!A1094)=TRUE,\"\",VLOOKUP(MONTH(A1094),Opsætning!$G$3:$H$14,2,FALSE))","v":""},{"$f":"IF(ISBLANK(Rådata!B1094)=TRUE,\"\",(Rådata!C1094*100)/Rådata!B1094)","v":""},{"$f":"IF(ISBLANK(Rådata!D1094)=TRUE,\"\",((Rådata!D1094-Rådata!E1094)*100)/Rådata!D1094)","v":""},{"$f":"IF(ISBLANK(Rådata!G1094)=TRUE,\"\",(Rådata!F1094*100)/Rådata!G1094)","v":""},{"$f":"IF(ISBLANK(Rådata!K1094),\"\",(SUM(Rådata!M1094:P1094)*100)/SUM(Rådata!H1094:K1094))","v":""},{"$f":"IF(ISBLANK(Rådata!H1094),\"\",((SUM(Rådata!J1094:L1094)-SUM(Rådata!O1094:P1094))*100)/SUM(Rådata!H1094:L1094))","v":""},{"$f":"IF(ISBLANK(Rådata!R1094),\"\",(Rådata!Q1094*100)/Rådata!R1094)","v":""}]
[{"$f":"IF(ISBLANK(Rådata!A1095)=TRUE,\"\",Rådata!A1095)","v":""},{"$f":"IF(ISBLANK(Rådata!A1095)=TRUE,\"\",YEAR(A1095))","v":""},{"$f":"IF(ISBLANK(Rådata!A1095)=TRUE,\"\",VLOOKUP(MONTH(A1095),Opsætning!$G$3:$H$14,2,FALSE))","v":""},{"$f":"IF(ISBLANK(Rådata!B1095)=TRUE,\"\",(Rådata!C1095*100)/Rådata!B1095)","v":""},{"$f":"IF(ISBLANK(Rådata!D1095)=TRUE,\"\",((Rådata!D1095-Rådata!E1095)*100)/Rådata!D1095)","v":""},{"$f":"IF(ISBLANK(Rådata!G1095)=TRUE,\"\",(Rådata!F1095*100)/Rådata!G1095)","v":""},{"$f":"IF(ISBLANK(Rådata!K1095),\"\",(SUM(Rådata!M1095:P1095)*100)/SUM(Rådata!H1095:K1095))","v":""},{"$f":"IF(ISBLANK(Rådata!H1095),\"\",((SUM(Rådata!J1095:L1095)-SUM(Rådata!O1095:P1095))*100)/SUM(Rådata!H1095:L1095))","v":""},{"$f":"IF(ISBLANK(Rådata!R1095),\"\",(Rådata!Q1095*100)/Rådata!R1095)","v":""}]
[{"$f":"IF(ISBLANK(Rådata!A1096)=TRUE,\"\",Rådata!A1096)","v":""},{"$f":"IF(ISBLANK(Rådata!A1096)=TRUE,\"\",YEAR(A1096))","v":""},{"$f":"IF(ISBLANK(Rådata!A1096)=TRUE,\"\",VLOOKUP(MONTH(A1096),Opsætning!$G$3:$H$14,2,FALSE))","v":""},{"$f":"IF(ISBLANK(Rådata!B1096)=TRUE,\"\",(Rådata!C1096*100)/Rådata!B1096)","v":""},{"$f":"IF(ISBLANK(Rådata!D1096)=TRUE,\"\",((Rådata!D1096-Rådata!E1096)*100)/Rådata!D1096)","v":""},{"$f":"IF(ISBLANK(Rådata!G1096)=TRUE,\"\",(Rådata!F1096*100)/Rådata!G1096)","v":""},{"$f":"IF(ISBLANK(Rådata!K1096),\"\",(SUM(Rådata!M1096:P1096)*100)/SUM(Rådata!H1096:K1096))","v":""},{"$f":"IF(ISBLANK(Rådata!H1096),\"\",((SUM(Rådata!J1096:L1096)-SUM(Rådata!O1096:P1096))*100)/SUM(Rådata!H1096:L1096))","v":""},{"$f":"IF(ISBLANK(Rådata!R1096),\"\",(Rådata!Q1096*100)/Rådata!R1096)","v":""}]
[{"$f":"IF(ISBLANK(Rådata!A1097)=TRUE,\"\",Rådata!A1097)","v":""},{"$f":"IF(ISBLANK(Rådata!A1097)=TRUE,\"\",YEAR(A1097))","v":""},{"$f":"IF(ISBLANK(Rådata!A1097)=TRUE,\"\",VLOOKUP(MONTH(A1097),Opsætning!$G$3:$H$14,2,FALSE))","v":""},{"$f":"IF(ISBLANK(Rådata!B1097)=TRUE,\"\",(Rådata!C1097*100)/Rådata!B1097)","v":""},{"$f":"IF(ISBLANK(Rådata!D1097)=TRUE,\"\",((Rådata!D1097-Rådata!E1097)*100)/Rådata!D1097)","v":""},{"$f":"IF(ISBLANK(Rådata!G1097)=TRUE,\"\",(Rådata!F1097*100)/Rådata!G1097)","v":""},{"$f":"IF(ISBLANK(Rådata!K1097),\"\",(SUM(Rådata!M1097:P1097)*100)/SUM(Rådata!H1097:K1097))","v":""},{"$f":"IF(ISBLANK(Rådata!H1097),\"\",((SUM(Rådata!J1097:L1097)-SUM(Rådata!O1097:P1097))*100)/SUM(Rådata!H1097:L1097))","v":""},{"$f":"IF(ISBLANK(Rådata!R1097),\"\",(Rådata!Q1097*100)/Rådata!R1097)","v":""}]
[{"$f":"IF(ISBLANK(Rådata!A1098)=TRUE,\"\",Rådata!A1098)","v":""},{"$f":"IF(ISBLANK(Rådata!A1098)=TRUE,\"\",YEAR(A1098))","v":""},{"$f":"IF(ISBLANK(Rådata!A1098)=TRUE,\"\",VLOOKUP(MONTH(A1098),Opsætning!$G$3:$H$14,2,FALSE))","v":""},{"$f":"IF(ISBLANK(Rådata!B1098)=TRUE,\"\",(Rådata!C1098*100)/Rådata!B1098)","v":""},{"$f":"IF(ISBLANK(Rådata!D1098)=TRUE,\"\",((Rådata!D1098-Rådata!E1098)*100)/Rådata!D1098)","v":""},{"$f":"IF(ISBLANK(Rådata!G1098)=TRUE,\"\",(Rådata!F1098*100)/Rådata!G1098)","v":""},{"$f":"IF(ISBLANK(Rådata!K1098),\"\",(SUM(Rådata!M1098:P1098)*100)/SUM(Rådata!H1098:K1098))","v":""},{"$f":"IF(ISBLANK(Rådata!H1098),\"\",((SUM(Rådata!J1098:L1098)-SUM(Rådata!O1098:P1098))*100)/SUM(Rådata!H1098:L1098))","v":""},{"$f":"IF(ISBLANK(Rådata!R1098),\"\",(Rådata!Q1098*100)/Rådata!R1098)","v":""}]
[{"$f":"IF(ISBLANK(Rådata!A1099)=TRUE,\"\",Rådata!A1099)","v":""},{"$f":"IF(ISBLANK(Rådata!A1099)=TRUE,\"\",YEAR(A1099))","v":""},{"$f":"IF(ISBLANK(Rådata!A1099)=TRUE,\"\",VLOOKUP(MONTH(A1099),Opsætning!$G$3:$H$14,2,FALSE))","v":""},{"$f":"IF(ISBLANK(Rådata!B1099)=TRUE,\"\",(Rådata!C1099*100)/Rådata!B1099)","v":""},{"$f":"IF(ISBLANK(Rådata!D1099)=TRUE,\"\",((Rådata!D1099-Rådata!E1099)*100)/Rådata!D1099)","v":""},{"$f":"IF(ISBLANK(Rådata!G1099)=TRUE,\"\",(Rådata!F1099*100)/Rådata!G1099)","v":""},{"$f":"IF(ISBLANK(Rådata!K1099),\"\",(SUM(Rådata!M1099:P1099)*100)/SUM(Rådata!H1099:K1099))","v":""},{"$f":"IF(ISBLANK(Rådata!H1099),\"\",((SUM(Rådata!J1099:L1099)-SUM(Rådata!O1099:P1099))*100)/SUM(Rådata!H1099:L1099))","v":""},{"$f":"IF(ISBLANK(Rådata!R1099),\"\",(Rådata!Q1099*100)/Rådata!R1099)","v":""}]
[{"$f":"IF(ISBLANK(Rådata!A1100)=TRUE,\"\",Rådata!A1100)","v":""},{"$f":"IF(ISBLANK(Rådata!A1100)=TRUE,\"\",YEAR(A1100))","v":""},{"$f":"IF(ISBLANK(Rådata!A1100)=TRUE,\"\",VLOOKUP(MONTH(A1100),Opsætning!$G$3:$H$14,2,FALSE))","v":""},{"$f":"IF(ISBLANK(Rådata!B1100)=TRUE,\"\",(Rådata!C1100*100)/Rådata!B1100)","v":""},{"$f":"IF(ISBLANK(Rådata!D1100)=TRUE,\"\",((Rådata!D1100-Rådata!E1100)*100)/Rådata!D1100)","v":""},{"$f":"IF(ISBLANK(Rådata!G1100)=TRUE,\"\",(Rådata!F1100*100)/Rådata!G1100)","v":""},{"$f":"IF(ISBLANK(Rådata!K1100),\"\",(SUM(Rådata!M1100:P1100)*100)/SUM(Rådata!H1100:K1100))","v":""},{"$f":"IF(ISBLANK(Rådata!H1100),\"\",((SUM(Rådata!J1100:L1100)-SUM(Rådata!O1100:P1100))*100)/SUM(Rådata!H1100:L1100))","v":""},{"$f":"IF(ISBLANK(Rådata!R1100),\"\",(Rådata!Q1100*100)/Rådata!R1100)","v":""}]
[{"$f":"IF(ISBLANK(Rådata!A1101)=TRUE,\"\",Rådata!A1101)","v":""},{"$f":"IF(ISBLANK(Rådata!A1101)=TRUE,\"\",YEAR(A1101))","v":""},{"$f":"IF(ISBLANK(Rådata!A1101)=TRUE,\"\",VLOOKUP(MONTH(A1101),Opsætning!$G$3:$H$14,2,FALSE))","v":""},{"$f":"IF(ISBLANK(Rådata!B1101)=TRUE,\"\",(Rådata!C1101*100)/Rådata!B1101)","v":""},{"$f":"IF(ISBLANK(Rådata!D1101)=TRUE,\"\",((Rådata!D1101-Rådata!E1101)*100)/Rådata!D1101)","v":""},{"$f":"IF(ISBLANK(Rådata!G1101)=TRUE,\"\",(Rådata!F1101*100)/Rådata!G1101)","v":""},{"$f":"IF(ISBLANK(Rådata!K1101),\"\",(SUM(Rådata!M1101:P1101)*100)/SUM(Rådata!H1101:K1101))","v":""},{"$f":"IF(ISBLANK(Rådata!H1101),\"\",((SUM(Rådata!J1101:L1101)-SUM(Rådata!O1101:P1101))*100)/SUM(Rådata!H1101:L1101))","v":""},{"$f":"IF(ISBLANK(Rådata!R1101),\"\",(Rådata!Q1101*100)/Rådata!R1101)","v":""}]
[{"$f":"IF(ISBLANK(Rådata!A1102)=TRUE,\"\",Rådata!A1102)","v":""},{"$f":"IF(ISBLANK(Rådata!A1102)=TRUE,\"\",YEAR(A1102))","v":""},{"$f":"IF(ISBLANK(Rådata!A1102)=TRUE,\"\",VLOOKUP(MONTH(A1102),Opsætning!$G$3:$H$14,2,FALSE))","v":""},{"$f":"IF(ISBLANK(Rådata!B1102)=TRUE,\"\",(Rådata!C1102*100)/Rådata!B1102)","v":""},{"$f":"IF(ISBLANK(Rådata!D1102)=TRUE,\"\",((Rådata!D1102-Rådata!E1102)*100)/Rådata!D1102)","v":""},{"$f":"IF(ISBLANK(Rådata!G1102)=TRUE,\"\",(Rådata!F1102*100)/Rådata!G1102)","v":""},{"$f":"IF(ISBLANK(Rådata!K1102),\"\",(SUM(Rådata!M1102:P1102)*100)/SUM(Rådata!H1102:K1102))","v":""},{"$f":"IF(ISBLANK(Rådata!H1102),\"\",((SUM(Rådata!J1102:L1102)-SUM(Rådata!O1102:P1102))*100)/SUM(Rådata!H1102:L1102))","v":""},{"$f":"IF(ISBLANK(Rådata!R1102),\"\",(Rådata!Q1102*100)/Rådata!R1102)","v":""}]
[{"$f":"IF(ISBLANK(Rådata!A1103)=TRUE,\"\",Rådata!A1103)","v":""},{"$f":"IF(ISBLANK(Rådata!A1103)=TRUE,\"\",YEAR(A1103))","v":""},{"$f":"IF(ISBLANK(Rådata!A1103)=TRUE,\"\",VLOOKUP(MONTH(A1103),Opsætning!$G$3:$H$14,2,FALSE))","v":""},{"$f":"IF(ISBLANK(Rådata!B1103)=TRUE,\"\",(Rådata!C1103*100)/Rådata!B1103)","v":""},{"$f":"IF(ISBLANK(Rådata!D1103)=TRUE,\"\",((Rådata!D1103-Rådata!E1103)*100)/Rådata!D1103)","v":""},{"$f":"IF(ISBLANK(Rådata!G1103)=TRUE,\"\",(Rådata!F1103*100)/Rådata!G1103)","v":""},{"$f":"IF(ISBLANK(Rådata!K1103),\"\",(SUM(Rådata!M1103:P1103)*100)/SUM(Rådata!H1103:K1103))","v":""},{"$f":"IF(ISBLANK(Rådata!H1103),\"\",((SUM(Rådata!J1103:L1103)-SUM(Rådata!O1103:P1103))*100)/SUM(Rådata!H1103:L1103))","v":""},{"$f":"IF(ISBLANK(Rådata!R1103),\"\",(Rådata!Q1103*100)/Rådata!R1103)","v":""}]
[{"$f":"IF(ISBLANK(Rådata!A1104)=TRUE,\"\",Rådata!A1104)","v":""},{"$f":"IF(ISBLANK(Rådata!A1104)=TRUE,\"\",YEAR(A1104))","v":""},{"$f":"IF(ISBLANK(Rådata!A1104)=TRUE,\"\",VLOOKUP(MONTH(A1104),Opsætning!$G$3:$H$14,2,FALSE))","v":""},{"$f":"IF(ISBLANK(Rådata!B1104)=TRUE,\"\",(Rådata!C1104*100)/Rådata!B1104)","v":""},{"$f":"IF(ISBLANK(Rådata!D1104)=TRUE,\"\",((Rådata!D1104-Rådata!E1104)*100)/Rådata!D1104)","v":""},{"$f":"IF(ISBLANK(Rådata!G1104)=TRUE,\"\",(Rådata!F1104*100)/Rådata!G1104)","v":""},{"$f":"IF(ISBLANK(Rådata!K1104),\"\",(SUM(Rådata!M1104:P1104)*100)/SUM(Rådata!H1104:K1104))","v":""},{"$f":"IF(ISBLANK(Rådata!H1104),\"\",((SUM(Rådata!J1104:L1104)-SUM(Rådata!O1104:P1104))*100)/SUM(Rådata!H1104:L1104))","v":""},{"$f":"IF(ISBLANK(Rådata!R1104),\"\",(Rådata!Q1104*100)/Rådata!R1104)","v":""}]
[{"$f":"IF(ISBLANK(Rådata!A1105)=TRUE,\"\",Rådata!A1105)","v":""},{"$f":"IF(ISBLANK(Rådata!A1105)=TRUE,\"\",YEAR(A1105))","v":""},{"$f":"IF(ISBLANK(Rådata!A1105)=TRUE,\"\",VLOOKUP(MONTH(A1105),Opsætning!$G$3:$H$14,2,FALSE))","v":""},{"$f":"IF(ISBLANK(Rådata!B1105)=TRUE,\"\",(Rådata!C1105*100)/Rådata!B1105)","v":""},{"$f":"IF(ISBLANK(Rådata!D1105)=TRUE,\"\",((Rådata!D1105-Rådata!E1105)*100)/Rådata!D1105)","v":""},{"$f":"IF(ISBLANK(Rådata!G1105)=TRUE,\"\",(Rådata!F1105*100)/Rådata!G1105)","v":""},{"$f":"IF(ISBLANK(Rådata!K1105),\"\",(SUM(Rådata!M1105:P1105)*100)/SUM(Rådata!H1105:K1105))","v":""},{"$f":"IF(ISBLANK(Rådata!H1105),\"\",((SUM(Rådata!J1105:L1105)-SUM(Rådata!O1105:P1105))*100)/SUM(Rådata!H1105:L1105))","v":""},{"$f":"IF(ISBLANK(Rådata!R1105),\"\",(Rådata!Q1105*100)/Rådata!R1105)","v":""}]
[{"$f":"IF(ISBLANK(Rådata!A1106)=TRUE,\"\",Rådata!A1106)","v":""},{"$f":"IF(ISBLANK(Rådata!A1106)=TRUE,\"\",YEAR(A1106))","v":""},{"$f":"IF(ISBLANK(Rådata!A1106)=TRUE,\"\",VLOOKUP(MONTH(A1106),Opsætning!$G$3:$H$14,2,FALSE))","v":""},{"$f":"IF(ISBLANK(Rådata!B1106)=TRUE,\"\",(Rådata!C1106*100)/Rådata!B1106)","v":""},{"$f":"IF(ISBLANK(Rådata!D1106)=TRUE,\"\",((Rådata!D1106-Rådata!E1106)*100)/Rådata!D1106)","v":""},{"$f":"IF(ISBLANK(Rådata!G1106)=TRUE,\"\",(Rådata!F1106*100)/Rådata!G1106)","v":""},{"$f":"IF(ISBLANK(Rådata!K1106),\"\",(SUM(Rådata!M1106:P1106)*100)/SUM(Rådata!H1106:K1106))","v":""},{"$f":"IF(ISBLANK(Rådata!H1106),\"\",((SUM(Rådata!J1106:L1106)-SUM(Rådata!O1106:P1106))*100)/SUM(Rådata!H1106:L1106))","v":""},{"$f":"IF(ISBLANK(Rådata!R1106),\"\",(Rådata!Q1106*100)/Rådata!R1106)","v":""}]
[{"$f":"IF(ISBLANK(Rådata!A1107)=TRUE,\"\",Rådata!A1107)","v":""},{"$f":"IF(ISBLANK(Rådata!A1107)=TRUE,\"\",YEAR(A1107))","v":""},{"$f":"IF(ISBLANK(Rådata!A1107)=TRUE,\"\",VLOOKUP(MONTH(A1107),Opsætning!$G$3:$H$14,2,FALSE))","v":""},{"$f":"IF(ISBLANK(Rådata!B1107)=TRUE,\"\",(Rådata!C1107*100)/Rådata!B1107)","v":""},{"$f":"IF(ISBLANK(Rådata!D1107)=TRUE,\"\",((Rådata!D1107-Rådata!E1107)*100)/Rådata!D1107)","v":""},{"$f":"IF(ISBLANK(Rådata!G1107)=TRUE,\"\",(Rådata!F1107*100)/Rådata!G1107)","v":""},{"$f":"IF(ISBLANK(Rådata!K1107),\"\",(SUM(Rådata!M1107:P1107)*100)/SUM(Rådata!H1107:K1107))","v":""},{"$f":"IF(ISBLANK(Rådata!H1107),\"\",((SUM(Rådata!J1107:L1107)-SUM(Rådata!O1107:P1107))*100)/SUM(Rådata!H1107:L1107))","v":""},{"$f":"IF(ISBLANK(Rådata!R1107),\"\",(Rådata!Q1107*100)/Rådata!R1107)","v":""}]
[{"$f":"IF(ISBLANK(Rådata!A1108)=TRUE,\"\",Rådata!A1108)","v":""},{"$f":"IF(ISBLANK(Rådata!A1108)=TRUE,\"\",YEAR(A1108))","v":""},{"$f":"IF(ISBLANK(Rådata!A1108)=TRUE,\"\",VLOOKUP(MONTH(A1108),Opsætning!$G$3:$H$14,2,FALSE))","v":""},{"$f":"IF(ISBLANK(Rådata!B1108)=TRUE,\"\",(Rådata!C1108*100)/Rådata!B1108)","v":""},{"$f":"IF(ISBLANK(Rådata!D1108)=TRUE,\"\",((Rådata!D1108-Rådata!E1108)*100)/Rådata!D1108)","v":""},{"$f":"IF(ISBLANK(Rådata!G1108)=TRUE,\"\",(Rådata!F1108*100)/Rådata!G1108)","v":""},{"$f":"IF(ISBLANK(Rådata!K1108),\"\",(SUM(Rådata!M1108:P1108)*100)/SUM(Rådata!H1108:K1108))","v":""},{"$f":"IF(ISBLANK(Rådata!H1108),\"\",((SUM(Rådata!J1108:L1108)-SUM(Rådata!O1108:P1108))*100)/SUM(Rådata!H1108:L1108))","v":""},{"$f":"IF(ISBLANK(Rådata!R1108),\"\",(Rådata!Q1108*100)/Rådata!R1108)","v":""}]
[{"$f":"IF(ISBLANK(Rådata!A1109)=TRUE,\"\",Rådata!A1109)","v":""},{"$f":"IF(ISBLANK(Rådata!A1109)=TRUE,\"\",YEAR(A1109))","v":""},{"$f":"IF(ISBLANK(Rådata!A1109)=TRUE,\"\",VLOOKUP(MONTH(A1109),Opsætning!$G$3:$H$14,2,FALSE))","v":""},{"$f":"IF(ISBLANK(Rådata!B1109)=TRUE,\"\",(Rådata!C1109*100)/Rådata!B1109)","v":""},{"$f":"IF(ISBLANK(Rådata!D1109)=TRUE,\"\",((Rådata!D1109-Rådata!E1109)*100)/Rådata!D1109)","v":""},{"$f":"IF(ISBLANK(Rådata!G1109)=TRUE,\"\",(Rådata!F1109*100)/Rådata!G1109)","v":""},{"$f":"IF(ISBLANK(Rådata!K1109),\"\",(SUM(Rådata!M1109:P1109)*100)/SUM(Rådata!H1109:K1109))","v":""},{"$f":"IF(ISBLANK(Rådata!H1109),\"\",((SUM(Rådata!J1109:L1109)-SUM(Rådata!O1109:P1109))*100)/SUM(Rådata!H1109:L1109))","v":""},{"$f":"IF(ISBLANK(Rådata!R1109),\"\",(Rådata!Q1109*100)/Rådata!R1109)","v":""}]
[{"$f":"IF(ISBLANK(Rådata!A1110)=TRUE,\"\",Rådata!A1110)","v":""},{"$f":"IF(ISBLANK(Rådata!A1110)=TRUE,\"\",YEAR(A1110))","v":""},{"$f":"IF(ISBLANK(Rådata!A1110)=TRUE,\"\",VLOOKUP(MONTH(A1110),Opsætning!$G$3:$H$14,2,FALSE))","v":""},{"$f":"IF(ISBLANK(Rådata!B1110)=TRUE,\"\",(Rådata!C1110*100)/Rådata!B1110)","v":""},{"$f":"IF(ISBLANK(Rådata!D1110)=TRUE,\"\",((Rådata!D1110-Rådata!E1110)*100)/Rådata!D1110)","v":""},{"$f":"IF(ISBLANK(Rådata!G1110)=TRUE,\"\",(Rådata!F1110*100)/Rådata!G1110)","v":""},{"$f":"IF(ISBLANK(Rådata!K1110),\"\",(SUM(Rådata!M1110:P1110)*100)/SUM(Rådata!H1110:K1110))","v":""},{"$f":"IF(ISBLANK(Rådata!H1110),\"\",((SUM(Rådata!J1110:L1110)-SUM(Rådata!O1110:P1110))*100)/SUM(Rådata!H1110:L1110))","v":""},{"$f":"IF(ISBLANK(Rådata!R1110),\"\",(Rådata!Q1110*100)/Rådata!R1110)","v":""}]
[{"$f":"IF(ISBLANK(Rådata!A1111)=TRUE,\"\",Rådata!A1111)","v":""},{"$f":"IF(ISBLANK(Rådata!A1111)=TRUE,\"\",YEAR(A1111))","v":""},{"$f":"IF(ISBLANK(Rådata!A1111)=TRUE,\"\",VLOOKUP(MONTH(A1111),Opsætning!$G$3:$H$14,2,FALSE))","v":""},{"$f":"IF(ISBLANK(Rådata!B1111)=TRUE,\"\",(Rådata!C1111*100)/Rådata!B1111)","v":""},{"$f":"IF(ISBLANK(Rådata!D1111)=TRUE,\"\",((Rådata!D1111-Rådata!E1111)*100)/Rådata!D1111)","v":""},{"$f":"IF(ISBLANK(Rådata!G1111)=TRUE,\"\",(Rådata!F1111*100)/Rådata!G1111)","v":""},{"$f":"IF(ISBLANK(Rådata!K1111),\"\",(SUM(Rådata!M1111:P1111)*100)/SUM(Rådata!H1111:K1111))","v":""},{"$f":"IF(ISBLANK(Rådata!H1111),\"\",((SUM(Rådata!J1111:L1111)-SUM(Rådata!O1111:P1111))*100)/SUM(Rådata!H1111:L1111))","v":""},{"$f":"IF(ISBLANK(Rådata!R1111),\"\",(Rådata!Q1111*100)/Rådata!R1111)","v":""}]
[{"$f":"IF(ISBLANK(Rådata!A1112)=TRUE,\"\",Rådata!A1112)","v":""},{"$f":"IF(ISBLANK(Rådata!A1112)=TRUE,\"\",YEAR(A1112))","v":""},{"$f":"IF(ISBLANK(Rådata!A1112)=TRUE,\"\",VLOOKUP(MONTH(A1112),Opsætning!$G$3:$H$14,2,FALSE))","v":""},{"$f":"IF(ISBLANK(Rådata!B1112)=TRUE,\"\",(Rådata!C1112*100)/Rådata!B1112)","v":""},{"$f":"IF(ISBLANK(Rådata!D1112)=TRUE,\"\",((Rådata!D1112-Rådata!E1112)*100)/Rådata!D1112)","v":""},{"$f":"IF(ISBLANK(Rådata!G1112)=TRUE,\"\",(Rådata!F1112*100)/Rådata!G1112)","v":""},{"$f":"IF(ISBLANK(Rådata!K1112),\"\",(SUM(Rådata!M1112:P1112)*100)/SUM(Rådata!H1112:K1112))","v":""},{"$f":"IF(ISBLANK(Rådata!H1112),\"\",((SUM(Rådata!J1112:L1112)-SUM(Rådata!O1112:P1112))*100)/SUM(Rådata!H1112:L1112))","v":""},{"$f":"IF(ISBLANK(Rådata!R1112),\"\",(Rådata!Q1112*100)/Rådata!R1112)","v":""}]
[{"$f":"IF(ISBLANK(Rådata!A1113)=TRUE,\"\",Rådata!A1113)","v":""},{"$f":"IF(ISBLANK(Rådata!A1113)=TRUE,\"\",YEAR(A1113))","v":""},{"$f":"IF(ISBLANK(Rådata!A1113)=TRUE,\"\",VLOOKUP(MONTH(A1113),Opsætning!$G$3:$H$14,2,FALSE))","v":""},{"$f":"IF(ISBLANK(Rådata!B1113)=TRUE,\"\",(Rådata!C1113*100)/Rådata!B1113)","v":""},{"$f":"IF(ISBLANK(Rådata!D1113)=TRUE,\"\",((Rådata!D1113-Rådata!E1113)*100)/Rådata!D1113)","v":""},{"$f":"IF(ISBLANK(Rådata!G1113)=TRUE,\"\",(Rådata!F1113*100)/Rådata!G1113)","v":""},{"$f":"IF(ISBLANK(Rådata!K1113),\"\",(SUM(Rådata!M1113:P1113)*100)/SUM(Rådata!H1113:K1113))","v":""},{"$f":"IF(ISBLANK(Rådata!H1113),\"\",((SUM(Rådata!J1113:L1113)-SUM(Rådata!O1113:P1113))*100)/SUM(Rådata!H1113:L1113))","v":""},{"$f":"IF(ISBLANK(Rådata!R1113),\"\",(Rådata!Q1113*100)/Rådata!R1113)","v":""}]
[{"$f":"IF(ISBLANK(Rådata!A1114)=TRUE,\"\",Rådata!A1114)","v":""},{"$f":"IF(ISBLANK(Rådata!A1114)=TRUE,\"\",YEAR(A1114))","v":""},{"$f":"IF(ISBLANK(Rådata!A1114)=TRUE,\"\",VLOOKUP(MONTH(A1114),Opsætning!$G$3:$H$14,2,FALSE))","v":""},{"$f":"IF(ISBLANK(Rådata!B1114)=TRUE,\"\",(Rådata!C1114*100)/Rådata!B1114)","v":""},{"$f":"IF(ISBLANK(Rådata!D1114)=TRUE,\"\",((Rådata!D1114-Rådata!E1114)*100)/Rådata!D1114)","v":""},{"$f":"IF(ISBLANK(Rådata!G1114)=TRUE,\"\",(Rådata!F1114*100)/Rådata!G1114)","v":""},{"$f":"IF(ISBLANK(Rådata!K1114),\"\",(SUM(Rådata!M1114:P1114)*100)/SUM(Rådata!H1114:K1114))","v":""},{"$f":"IF(ISBLANK(Rådata!H1114),\"\",((SUM(Rådata!J1114:L1114)-SUM(Rådata!O1114:P1114))*100)/SUM(Rådata!H1114:L1114))","v":""},{"$f":"IF(ISBLANK(Rådata!R1114),\"\",(Rådata!Q1114*100)/Rådata!R1114)","v":""}]
[{"$f":"IF(ISBLANK(Rådata!A1115)=TRUE,\"\",Rådata!A1115)","v":""},{"$f":"IF(ISBLANK(Rådata!A1115)=TRUE,\"\",YEAR(A1115))","v":""},{"$f":"IF(ISBLANK(Rådata!A1115)=TRUE,\"\",VLOOKUP(MONTH(A1115),Opsætning!$G$3:$H$14,2,FALSE))","v":""},{"$f":"IF(ISBLANK(Rådata!B1115)=TRUE,\"\",(Rådata!C1115*100)/Rådata!B1115)","v":""},{"$f":"IF(ISBLANK(Rådata!D1115)=TRUE,\"\",((Rådata!D1115-Rådata!E1115)*100)/Rådata!D1115)","v":""},{"$f":"IF(ISBLANK(Rådata!G1115)=TRUE,\"\",(Rådata!F1115*100)/Rådata!G1115)","v":""},{"$f":"IF(ISBLANK(Rådata!K1115),\"\",(SUM(Rådata!M1115:P1115)*100)/SUM(Rådata!H1115:K1115))","v":""},{"$f":"IF(ISBLANK(Rådata!H1115),\"\",((SUM(Rådata!J1115:L1115)-SUM(Rådata!O1115:P1115))*100)/SUM(Rådata!H1115:L1115))","v":""},{"$f":"IF(ISBLANK(Rådata!R1115),\"\",(Rådata!Q1115*100)/Rådata!R1115)","v":""}]
[{"$f":"IF(ISBLANK(Rådata!A1116)=TRUE,\"\",Rådata!A1116)","v":""},{"$f":"IF(ISBLANK(Rådata!A1116)=TRUE,\"\",YEAR(A1116))","v":""},{"$f":"IF(ISBLANK(Rådata!A1116)=TRUE,\"\",VLOOKUP(MONTH(A1116),Opsætning!$G$3:$H$14,2,FALSE))","v":""},{"$f":"IF(ISBLANK(Rådata!B1116)=TRUE,\"\",(Rådata!C1116*100)/Rådata!B1116)","v":""},{"$f":"IF(ISBLANK(Rådata!D1116)=TRUE,\"\",((Rådata!D1116-Rådata!E1116)*100)/Rådata!D1116)","v":""},{"$f":"IF(ISBLANK(Rådata!G1116)=TRUE,\"\",(Rådata!F1116*100)/Rådata!G1116)","v":""},{"$f":"IF(ISBLANK(Rådata!K1116),\"\",(SUM(Rådata!M1116:P1116)*100)/SUM(Rådata!H1116:K1116))","v":""},{"$f":"IF(ISBLANK(Rådata!H1116),\"\",((SUM(Rådata!J1116:L1116)-SUM(Rådata!O1116:P1116))*100)/SUM(Rådata!H1116:L1116))","v":""},{"$f":"IF(ISBLANK(Rådata!R1116),\"\",(Rådata!Q1116*100)/Rådata!R1116)","v":""}]
[{"$f":"IF(ISBLANK(Rådata!A1117)=TRUE,\"\",Rådata!A1117)","v":""},{"$f":"IF(ISBLANK(Rådata!A1117)=TRUE,\"\",YEAR(A1117))","v":""},{"$f":"IF(ISBLANK(Rådata!A1117)=TRUE,\"\",VLOOKUP(MONTH(A1117),Opsætning!$G$3:$H$14,2,FALSE))","v":""},{"$f":"IF(ISBLANK(Rådata!B1117)=TRUE,\"\",(Rådata!C1117*100)/Rådata!B1117)","v":""},{"$f":"IF(ISBLANK(Rådata!D1117)=TRUE,\"\",((Rådata!D1117-Rådata!E1117)*100)/Rådata!D1117)","v":""},{"$f":"IF(ISBLANK(Rådata!G1117)=TRUE,\"\",(Rådata!F1117*100)/Rådata!G1117)","v":""},{"$f":"IF(ISBLANK(Rådata!K1117),\"\",(SUM(Rådata!M1117:P1117)*100)/SUM(Rådata!H1117:K1117))","v":""},{"$f":"IF(ISBLANK(Rådata!H1117),\"\",((SUM(Rådata!J1117:L1117)-SUM(Rådata!O1117:P1117))*100)/SUM(Rådata!H1117:L1117))","v":""},{"$f":"IF(ISBLANK(Rådata!R1117),\"\",(Rådata!Q1117*100)/Rådata!R1117)","v":""}]
[{"$f":"IF(ISBLANK(Rådata!A1118)=TRUE,\"\",Rådata!A1118)","v":""},{"$f":"IF(ISBLANK(Rådata!A1118)=TRUE,\"\",YEAR(A1118))","v":""},{"$f":"IF(ISBLANK(Rådata!A1118)=TRUE,\"\",VLOOKUP(MONTH(A1118),Opsætning!$G$3:$H$14,2,FALSE))","v":""},{"$f":"IF(ISBLANK(Rådata!B1118)=TRUE,\"\",(Rådata!C1118*100)/Rådata!B1118)","v":""},{"$f":"IF(ISBLANK(Rådata!D1118)=TRUE,\"\",((Rådata!D1118-Rådata!E1118)*100)/Rådata!D1118)","v":""},{"$f":"IF(ISBLANK(Rådata!G1118)=TRUE,\"\",(Rådata!F1118*100)/Rådata!G1118)","v":""},{"$f":"IF(ISBLANK(Rådata!K1118),\"\",(SUM(Rådata!M1118:P1118)*100)/SUM(Rådata!H1118:K1118))","v":""},{"$f":"IF(ISBLANK(Rådata!H1118),\"\",((SUM(Rådata!J1118:L1118)-SUM(Rådata!O1118:P1118))*100)/SUM(Rådata!H1118:L1118))","v":""},{"$f":"IF(ISBLANK(Rådata!R1118),\"\",(Rådata!Q1118*100)/Rådata!R1118)","v":""}]
[{"$f":"IF(ISBLANK(Rådata!A1119)=TRUE,\"\",Rådata!A1119)","v":""},{"$f":"IF(ISBLANK(Rådata!A1119)=TRUE,\"\",YEAR(A1119))","v":""},{"$f":"IF(ISBLANK(Rådata!A1119)=TRUE,\"\",VLOOKUP(MONTH(A1119),Opsætning!$G$3:$H$14,2,FALSE))","v":""},{"$f":"IF(ISBLANK(Rådata!B1119)=TRUE,\"\",(Rådata!C1119*100)/Rådata!B1119)","v":""},{"$f":"IF(ISBLANK(Rådata!D1119)=TRUE,\"\",((Rådata!D1119-Rådata!E1119)*100)/Rådata!D1119)","v":""},{"$f":"IF(ISBLANK(Rådata!G1119)=TRUE,\"\",(Rådata!F1119*100)/Rådata!G1119)","v":""},{"$f":"IF(ISBLANK(Rådata!K1119),\"\",(SUM(Rådata!M1119:P1119)*100)/SUM(Rådata!H1119:K1119))","v":""},{"$f":"IF(ISBLANK(Rådata!H1119),\"\",((SUM(Rådata!J1119:L1119)-SUM(Rådata!O1119:P1119))*100)/SUM(Rådata!H1119:L1119))","v":""},{"$f":"IF(ISBLANK(Rådata!R1119),\"\",(Rådata!Q1119*100)/Rådata!R1119)","v":""}]
[{"$f":"IF(ISBLANK(Rådata!A1120)=TRUE,\"\",Rådata!A1120)","v":""},{"$f":"IF(ISBLANK(Rådata!A1120)=TRUE,\"\",YEAR(A1120))","v":""},{"$f":"IF(ISBLANK(Rådata!A1120)=TRUE,\"\",VLOOKUP(MONTH(A1120),Opsætning!$G$3:$H$14,2,FALSE))","v":""},{"$f":"IF(ISBLANK(Rådata!B1120)=TRUE,\"\",(Rådata!C1120*100)/Rådata!B1120)","v":""},{"$f":"IF(ISBLANK(Rådata!D1120)=TRUE,\"\",((Rådata!D1120-Rådata!E1120)*100)/Rådata!D1120)","v":""},{"$f":"IF(ISBLANK(Rådata!G1120)=TRUE,\"\",(Rådata!F1120*100)/Rådata!G1120)","v":""},{"$f":"IF(ISBLANK(Rådata!K1120),\"\",(SUM(Rådata!M1120:P1120)*100)/SUM(Rådata!H1120:K1120))","v":""},{"$f":"IF(ISBLANK(Rådata!H1120),\"\",((SUM(Rådata!J1120:L1120)-SUM(Rådata!O1120:P1120))*100)/SUM(Rådata!H1120:L1120))","v":""},{"$f":"IF(ISBLANK(Rådata!R1120),\"\",(Rådata!Q1120*100)/Rådata!R1120)","v":""}]
[{"$f":"IF(ISBLANK(Rådata!A1121)=TRUE,\"\",Rådata!A1121)","v":""},{"$f":"IF(ISBLANK(Rådata!A1121)=TRUE,\"\",YEAR(A1121))","v":""},{"$f":"IF(ISBLANK(Rådata!A1121)=TRUE,\"\",VLOOKUP(MONTH(A1121),Opsætning!$G$3:$H$14,2,FALSE))","v":""},{"$f":"IF(ISBLANK(Rådata!B1121)=TRUE,\"\",(Rådata!C1121*100)/Rådata!B1121)","v":""},{"$f":"IF(ISBLANK(Rådata!D1121)=TRUE,\"\",((Rådata!D1121-Rådata!E1121)*100)/Rådata!D1121)","v":""},{"$f":"IF(ISBLANK(Rådata!G1121)=TRUE,\"\",(Rådata!F1121*100)/Rådata!G1121)","v":""},{"$f":"IF(ISBLANK(Rådata!K1121),\"\",(SUM(Rådata!M1121:P1121)*100)/SUM(Rådata!H1121:K1121))","v":""},{"$f":"IF(ISBLANK(Rådata!H1121),\"\",((SUM(Rådata!J1121:L1121)-SUM(Rådata!O1121:P1121))*100)/SUM(Rådata!H1121:L1121))","v":""},{"$f":"IF(ISBLANK(Rådata!R1121),\"\",(Rådata!Q1121*100)/Rådata!R1121)","v":""}]
[{"$f":"IF(ISBLANK(Rådata!A1122)=TRUE,\"\",Rådata!A1122)","v":""},{"$f":"IF(ISBLANK(Rådata!A1122)=TRUE,\"\",YEAR(A1122))","v":""},{"$f":"IF(ISBLANK(Rådata!A1122)=TRUE,\"\",VLOOKUP(MONTH(A1122),Opsætning!$G$3:$H$14,2,FALSE))","v":""},{"$f":"IF(ISBLANK(Rådata!B1122)=TRUE,\"\",(Rådata!C1122*100)/Rådata!B1122)","v":""},{"$f":"IF(ISBLANK(Rådata!D1122)=TRUE,\"\",((Rådata!D1122-Rådata!E1122)*100)/Rådata!D1122)","v":""},{"$f":"IF(ISBLANK(Rådata!G1122)=TRUE,\"\",(Rådata!F1122*100)/Rådata!G1122)","v":""},{"$f":"IF(ISBLANK(Rådata!K1122),\"\",(SUM(Rådata!M1122:P1122)*100)/SUM(Rådata!H1122:K1122))","v":""},{"$f":"IF(ISBLANK(Rådata!H1122),\"\",((SUM(Rådata!J1122:L1122)-SUM(Rådata!O1122:P1122))*100)/SUM(Rådata!H1122:L1122))","v":""},{"$f":"IF(ISBLANK(Rådata!R1122),\"\",(Rådata!Q1122*100)/Rådata!R1122)","v":""}]
[{"$f":"IF(ISBLANK(Rådata!A1123)=TRUE,\"\",Rådata!A1123)","v":""},{"$f":"IF(ISBLANK(Rådata!A1123)=TRUE,\"\",YEAR(A1123))","v":""},{"$f":"IF(ISBLANK(Rådata!A1123)=TRUE,\"\",VLOOKUP(MONTH(A1123),Opsætning!$G$3:$H$14,2,FALSE))","v":""},{"$f":"IF(ISBLANK(Rådata!B1123)=TRUE,\"\",(Rådata!C1123*100)/Rådata!B1123)","v":""},{"$f":"IF(ISBLANK(Rådata!D1123)=TRUE,\"\",((Rådata!D1123-Rådata!E1123)*100)/Rådata!D1123)","v":""},{"$f":"IF(ISBLANK(Rådata!G1123)=TRUE,\"\",(Rådata!F1123*100)/Rådata!G1123)","v":""},{"$f":"IF(ISBLANK(Rådata!K1123),\"\",(SUM(Rådata!M1123:P1123)*100)/SUM(Rådata!H1123:K1123))","v":""},{"$f":"IF(ISBLANK(Rådata!H1123),\"\",((SUM(Rådata!J1123:L1123)-SUM(Rådata!O1123:P1123))*100)/SUM(Rådata!H1123:L1123))","v":""},{"$f":"IF(ISBLANK(Rådata!R1123),\"\",(Rådata!Q1123*100)/Rådata!R1123)","v":""}]
[{"$f":"IF(ISBLANK(Rådata!A1124)=TRUE,\"\",Rådata!A1124)","v":""},{"$f":"IF(ISBLANK(Rådata!A1124)=TRUE,\"\",YEAR(A1124))","v":""},{"$f":"IF(ISBLANK(Rådata!A1124)=TRUE,\"\",VLOOKUP(MONTH(A1124),Opsætning!$G$3:$H$14,2,FALSE))","v":""},{"$f":"IF(ISBLANK(Rådata!B1124)=TRUE,\"\",(Rådata!C1124*100)/Rådata!B1124)","v":""},{"$f":"IF(ISBLANK(Rådata!D1124)=TRUE,\"\",((Rådata!D1124-Rådata!E1124)*100)/Rådata!D1124)","v":""},{"$f":"IF(ISBLANK(Rådata!G1124)=TRUE,\"\",(Rådata!F1124*100)/Rådata!G1124)","v":""},{"$f":"IF(ISBLANK(Rådata!K1124),\"\",(SUM(Rådata!M1124:P1124)*100)/SUM(Rådata!H1124:K1124))","v":""},{"$f":"IF(ISBLANK(Rådata!H1124),\"\",((SUM(Rådata!J1124:L1124)-SUM(Rådata!O1124:P1124))*100)/SUM(Rådata!H1124:L1124))","v":""},{"$f":"IF(ISBLANK(Rådata!R1124),\"\",(Rådata!Q1124*100)/Rådata!R1124)","v":""}]
[{"$f":"IF(ISBLANK(Rådata!A1125)=TRUE,\"\",Rådata!A1125)","v":""},{"$f":"IF(ISBLANK(Rådata!A1125)=TRUE,\"\",YEAR(A1125))","v":""},{"$f":"IF(ISBLANK(Rådata!A1125)=TRUE,\"\",VLOOKUP(MONTH(A1125),Opsætning!$G$3:$H$14,2,FALSE))","v":""},{"$f":"IF(ISBLANK(Rådata!B1125)=TRUE,\"\",(Rådata!C1125*100)/Rådata!B1125)","v":""},{"$f":"IF(ISBLANK(Rådata!D1125)=TRUE,\"\",((Rådata!D1125-Rådata!E1125)*100)/Rådata!D1125)","v":""},{"$f":"IF(ISBLANK(Rådata!G1125)=TRUE,\"\",(Rådata!F1125*100)/Rådata!G1125)","v":""},{"$f":"IF(ISBLANK(Rådata!K1125),\"\",(SUM(Rådata!M1125:P1125)*100)/SUM(Rådata!H1125:K1125))","v":""},{"$f":"IF(ISBLANK(Rådata!H1125),\"\",((SUM(Rådata!J1125:L1125)-SUM(Rådata!O1125:P1125))*100)/SUM(Rådata!H1125:L1125))","v":""},{"$f":"IF(ISBLANK(Rådata!R1125),\"\",(Rådata!Q1125*100)/Rådata!R1125)","v":""}]
[{"$f":"IF(ISBLANK(Rådata!A1126)=TRUE,\"\",Rådata!A1126)","v":""},{"$f":"IF(ISBLANK(Rådata!A1126)=TRUE,\"\",YEAR(A1126))","v":""},{"$f":"IF(ISBLANK(Rådata!A1126)=TRUE,\"\",VLOOKUP(MONTH(A1126),Opsætning!$G$3:$H$14,2,FALSE))","v":""},{"$f":"IF(ISBLANK(Rådata!B1126)=TRUE,\"\",(Rådata!C1126*100)/Rådata!B1126)","v":""},{"$f":"IF(ISBLANK(Rådata!D1126)=TRUE,\"\",((Rådata!D1126-Rådata!E1126)*100)/Rådata!D1126)","v":""},{"$f":"IF(ISBLANK(Rådata!G1126)=TRUE,\"\",(Rådata!F1126*100)/Rådata!G1126)","v":""},{"$f":"IF(ISBLANK(Rådata!K1126),\"\",(SUM(Rådata!M1126:P1126)*100)/SUM(Rådata!H1126:K1126))","v":""},{"$f":"IF(ISBLANK(Rådata!H1126),\"\",((SUM(Rådata!J1126:L1126)-SUM(Rådata!O1126:P1126))*100)/SUM(Rådata!H1126:L1126))","v":""},{"$f":"IF(ISBLANK(Rådata!R1126),\"\",(Rådata!Q1126*100)/Rådata!R1126)","v":""}]
[{"$f":"IF(ISBLANK(Rådata!A1127)=TRUE,\"\",Rådata!A1127)","v":""},{"$f":"IF(ISBLANK(Rådata!A1127)=TRUE,\"\",YEAR(A1127))","v":""},{"$f":"IF(ISBLANK(Rådata!A1127)=TRUE,\"\",VLOOKUP(MONTH(A1127),Opsætning!$G$3:$H$14,2,FALSE))","v":""},{"$f":"IF(ISBLANK(Rådata!B1127)=TRUE,\"\",(Rådata!C1127*100)/Rådata!B1127)","v":""},{"$f":"IF(ISBLANK(Rådata!D1127)=TRUE,\"\",((Rådata!D1127-Rådata!E1127)*100)/Rådata!D1127)","v":""},{"$f":"IF(ISBLANK(Rådata!G1127)=TRUE,\"\",(Rådata!F1127*100)/Rådata!G1127)","v":""},{"$f":"IF(ISBLANK(Rådata!K1127),\"\",(SUM(Rådata!M1127:P1127)*100)/SUM(Rådata!H1127:K1127))","v":""},{"$f":"IF(ISBLANK(Rådata!H1127),\"\",((SUM(Rådata!J1127:L1127)-SUM(Rådata!O1127:P1127))*100)/SUM(Rådata!H1127:L1127))","v":""},{"$f":"IF(ISBLANK(Rådata!R1127),\"\",(Rådata!Q1127*100)/Rådata!R1127)","v":""}]
[{"$f":"IF(ISBLANK(Rådata!A1128)=TRUE,\"\",Rådata!A1128)","v":""},{"$f":"IF(ISBLANK(Rådata!A1128)=TRUE,\"\",YEAR(A1128))","v":""},{"$f":"IF(ISBLANK(Rådata!A1128)=TRUE,\"\",VLOOKUP(MONTH(A1128),Opsætning!$G$3:$H$14,2,FALSE))","v":""},{"$f":"IF(ISBLANK(Rådata!B1128)=TRUE,\"\",(Rådata!C1128*100)/Rådata!B1128)","v":""},{"$f":"IF(ISBLANK(Rådata!D1128)=TRUE,\"\",((Rådata!D1128-Rådata!E1128)*100)/Rådata!D1128)","v":""},{"$f":"IF(ISBLANK(Rådata!G1128)=TRUE,\"\",(Rådata!F1128*100)/Rådata!G1128)","v":""},{"$f":"IF(ISBLANK(Rådata!K1128),\"\",(SUM(Rådata!M1128:P1128)*100)/SUM(Rådata!H1128:K1128))","v":""},{"$f":"IF(ISBLANK(Rådata!H1128),\"\",((SUM(Rådata!J1128:L1128)-SUM(Rådata!O1128:P1128))*100)/SUM(Rådata!H1128:L1128))","v":""},{"$f":"IF(ISBLANK(Rådata!R1128),\"\",(Rådata!Q1128*100)/Rådata!R1128)","v":""}]
[{"$f":"IF(ISBLANK(Rådata!A1129)=TRUE,\"\",Rådata!A1129)","v":""},{"$f":"IF(ISBLANK(Rådata!A1129)=TRUE,\"\",YEAR(A1129))","v":""},{"$f":"IF(ISBLANK(Rådata!A1129)=TRUE,\"\",VLOOKUP(MONTH(A1129),Opsætning!$G$3:$H$14,2,FALSE))","v":""},{"$f":"IF(ISBLANK(Rådata!B1129)=TRUE,\"\",(Rådata!C1129*100)/Rådata!B1129)","v":""},{"$f":"IF(ISBLANK(Rådata!D1129)=TRUE,\"\",((Rådata!D1129-Rådata!E1129)*100)/Rådata!D1129)","v":""},{"$f":"IF(ISBLANK(Rådata!G1129)=TRUE,\"\",(Rådata!F1129*100)/Rådata!G1129)","v":""},{"$f":"IF(ISBLANK(Rådata!K1129),\"\",(SUM(Rådata!M1129:P1129)*100)/SUM(Rådata!H1129:K1129))","v":""},{"$f":"IF(ISBLANK(Rådata!H1129),\"\",((SUM(Rådata!J1129:L1129)-SUM(Rådata!O1129:P1129))*100)/SUM(Rådata!H1129:L1129))","v":""},{"$f":"IF(ISBLANK(Rådata!R1129),\"\",(Rådata!Q1129*100)/Rådata!R1129)","v":""}]
[{"$f":"IF(ISBLANK(Rådata!A1130)=TRUE,\"\",Rådata!A1130)","v":""},{"$f":"IF(ISBLANK(Rådata!A1130)=TRUE,\"\",YEAR(A1130))","v":""},{"$f":"IF(ISBLANK(Rådata!A1130)=TRUE,\"\",VLOOKUP(MONTH(A1130),Opsætning!$G$3:$H$14,2,FALSE))","v":""},{"$f":"IF(ISBLANK(Rådata!B1130)=TRUE,\"\",(Rådata!C1130*100)/Rådata!B1130)","v":""},{"$f":"IF(ISBLANK(Rådata!D1130)=TRUE,\"\",((Rådata!D1130-Rådata!E1130)*100)/Rådata!D1130)","v":""},{"$f":"IF(ISBLANK(Rådata!G1130)=TRUE,\"\",(Rådata!F1130*100)/Rådata!G1130)","v":""},{"$f":"IF(ISBLANK(Rådata!K1130),\"\",(SUM(Rådata!M1130:P1130)*100)/SUM(Rådata!H1130:K1130))","v":""},{"$f":"IF(ISBLANK(Rådata!H1130),\"\",((SUM(Rådata!J1130:L1130)-SUM(Rådata!O1130:P1130))*100)/SUM(Rådata!H1130:L1130))","v":""},{"$f":"IF(ISBLANK(Rådata!R1130),\"\",(Rådata!Q1130*100)/Rådata!R1130)","v":""}]
[{"$f":"IF(ISBLANK(Rådata!A1131)=TRUE,\"\",Rådata!A1131)","v":""},{"$f":"IF(ISBLANK(Rådata!A1131)=TRUE,\"\",YEAR(A1131))","v":""},{"$f":"IF(ISBLANK(Rådata!A1131)=TRUE,\"\",VLOOKUP(MONTH(A1131),Opsætning!$G$3:$H$14,2,FALSE))","v":""},{"$f":"IF(ISBLANK(Rådata!B1131)=TRUE,\"\",(Rådata!C1131*100)/Rådata!B1131)","v":""},{"$f":"IF(ISBLANK(Rådata!D1131)=TRUE,\"\",((Rådata!D1131-Rådata!E1131)*100)/Rådata!D1131)","v":""},{"$f":"IF(ISBLANK(Rådata!G1131)=TRUE,\"\",(Rådata!F1131*100)/Rådata!G1131)","v":""},{"$f":"IF(ISBLANK(Rådata!K1131),\"\",(SUM(Rådata!M1131:P1131)*100)/SUM(Rådata!H1131:K1131))","v":""},{"$f":"IF(ISBLANK(Rådata!H1131),\"\",((SUM(Rådata!J1131:L1131)-SUM(Rådata!O1131:P1131))*100)/SUM(Rådata!H1131:L1131))","v":""},{"$f":"IF(ISBLANK(Rådata!R1131),\"\",(Rådata!Q1131*100)/Rådata!R1131)","v":""}]
[{"$f":"IF(ISBLANK(Rådata!A1132)=TRUE,\"\",Rådata!A1132)","v":""},{"$f":"IF(ISBLANK(Rådata!A1132)=TRUE,\"\",YEAR(A1132))","v":""},{"$f":"IF(ISBLANK(Rådata!A1132)=TRUE,\"\",VLOOKUP(MONTH(A1132),Opsætning!$G$3:$H$14,2,FALSE))","v":""},{"$f":"IF(ISBLANK(Rådata!B1132)=TRUE,\"\",(Rådata!C1132*100)/Rådata!B1132)","v":""},{"$f":"IF(ISBLANK(Rådata!D1132)=TRUE,\"\",((Rådata!D1132-Rådata!E1132)*100)/Rådata!D1132)","v":""},{"$f":"IF(ISBLANK(Rådata!G1132)=TRUE,\"\",(Rådata!F1132*100)/Rådata!G1132)","v":""},{"$f":"IF(ISBLANK(Rådata!K1132),\"\",(SUM(Rådata!M1132:P1132)*100)/SUM(Rådata!H1132:K1132))","v":""},{"$f":"IF(ISBLANK(Rådata!H1132),\"\",((SUM(Rådata!J1132:L1132)-SUM(Rådata!O1132:P1132))*100)/SUM(Rådata!H1132:L1132))","v":""},{"$f":"IF(ISBLANK(Rådata!R1132),\"\",(Rådata!Q1132*100)/Rådata!R1132)","v":""}]
[{"$f":"IF(ISBLANK(Rådata!A1133)=TRUE,\"\",Rådata!A1133)","v":""},{"$f":"IF(ISBLANK(Rådata!A1133)=TRUE,\"\",YEAR(A1133))","v":""},{"$f":"IF(ISBLANK(Rådata!A1133)=TRUE,\"\",VLOOKUP(MONTH(A1133),Opsætning!$G$3:$H$14,2,FALSE))","v":""},{"$f":"IF(ISBLANK(Rådata!B1133)=TRUE,\"\",(Rådata!C1133*100)/Rådata!B1133)","v":""},{"$f":"IF(ISBLANK(Rådata!D1133)=TRUE,\"\",((Rådata!D1133-Rådata!E1133)*100)/Rådata!D1133)","v":""},{"$f":"IF(ISBLANK(Rådata!G1133)=TRUE,\"\",(Rådata!F1133*100)/Rådata!G1133)","v":""},{"$f":"IF(ISBLANK(Rådata!K1133),\"\",(SUM(Rådata!M1133:P1133)*100)/SUM(Rådata!H1133:K1133))","v":""},{"$f":"IF(ISBLANK(Rådata!H1133),\"\",((SUM(Rådata!J1133:L1133)-SUM(Rådata!O1133:P1133))*100)/SUM(Rådata!H1133:L1133))","v":""},{"$f":"IF(ISBLANK(Rådata!R1133),\"\",(Rådata!Q1133*100)/Rådata!R1133)","v":""}]
[{"$f":"IF(ISBLANK(Rådata!A1134)=TRUE,\"\",Rådata!A1134)","v":""},{"$f":"IF(ISBLANK(Rådata!A1134)=TRUE,\"\",YEAR(A1134))","v":""},{"$f":"IF(ISBLANK(Rådata!A1134)=TRUE,\"\",VLOOKUP(MONTH(A1134),Opsætning!$G$3:$H$14,2,FALSE))","v":""},{"$f":"IF(ISBLANK(Rådata!B1134)=TRUE,\"\",(Rådata!C1134*100)/Rådata!B1134)","v":""},{"$f":"IF(ISBLANK(Rådata!D1134)=TRUE,\"\",((Rådata!D1134-Rådata!E1134)*100)/Rådata!D1134)","v":""},{"$f":"IF(ISBLANK(Rådata!G1134)=TRUE,\"\",(Rådata!F1134*100)/Rådata!G1134)","v":""},{"$f":"IF(ISBLANK(Rådata!K1134),\"\",(SUM(Rådata!M1134:P1134)*100)/SUM(Rådata!H1134:K1134))","v":""},{"$f":"IF(ISBLANK(Rådata!H1134),\"\",((SUM(Rådata!J1134:L1134)-SUM(Rådata!O1134:P1134))*100)/SUM(Rådata!H1134:L1134))","v":""},{"$f":"IF(ISBLANK(Rådata!R1134),\"\",(Rådata!Q1134*100)/Rådata!R1134)","v":""}]
[{"$f":"IF(ISBLANK(Rådata!A1135)=TRUE,\"\",Rådata!A1135)","v":""},{"$f":"IF(ISBLANK(Rådata!A1135)=TRUE,\"\",YEAR(A1135))","v":""},{"$f":"IF(ISBLANK(Rådata!A1135)=TRUE,\"\",VLOOKUP(MONTH(A1135),Opsætning!$G$3:$H$14,2,FALSE))","v":""},{"$f":"IF(ISBLANK(Rådata!B1135)=TRUE,\"\",(Rådata!C1135*100)/Rådata!B1135)","v":""},{"$f":"IF(ISBLANK(Rådata!D1135)=TRUE,\"\",((Rådata!D1135-Rådata!E1135)*100)/Rådata!D1135)","v":""},{"$f":"IF(ISBLANK(Rådata!G1135)=TRUE,\"\",(Rådata!F1135*100)/Rådata!G1135)","v":""},{"$f":"IF(ISBLANK(Rådata!K1135),\"\",(SUM(Rådata!M1135:P1135)*100)/SUM(Rådata!H1135:K1135))","v":""},{"$f":"IF(ISBLANK(Rådata!H1135),\"\",((SUM(Rådata!J1135:L1135)-SUM(Rådata!O1135:P1135))*100)/SUM(Rådata!H1135:L1135))","v":""},{"$f":"IF(ISBLANK(Rådata!R1135),\"\",(Rådata!Q1135*100)/Rådata!R1135)","v":""}]
[{"$f":"IF(ISBLANK(Rådata!A1136)=TRUE,\"\",Rådata!A1136)","v":""},{"$f":"IF(ISBLANK(Rådata!A1136)=TRUE,\"\",YEAR(A1136))","v":""},{"$f":"IF(ISBLANK(Rådata!A1136)=TRUE,\"\",VLOOKUP(MONTH(A1136),Opsætning!$G$3:$H$14,2,FALSE))","v":""},{"$f":"IF(ISBLANK(Rådata!B1136)=TRUE,\"\",(Rådata!C1136*100)/Rådata!B1136)","v":""},{"$f":"IF(ISBLANK(Rådata!D1136)=TRUE,\"\",((Rådata!D1136-Rådata!E1136)*100)/Rådata!D1136)","v":""},{"$f":"IF(ISBLANK(Rådata!G1136)=TRUE,\"\",(Rådata!F1136*100)/Rådata!G1136)","v":""},{"$f":"IF(ISBLANK(Rådata!K1136),\"\",(SUM(Rådata!M1136:P1136)*100)/SUM(Rådata!H1136:K1136))","v":""},{"$f":"IF(ISBLANK(Rådata!H1136),\"\",((SUM(Rådata!J1136:L1136)-SUM(Rådata!O1136:P1136))*100)/SUM(Rådata!H1136:L1136))","v":""},{"$f":"IF(ISBLANK(Rådata!R1136),\"\",(Rådata!Q1136*100)/Rådata!R1136)","v":""}]
[{"$f":"IF(ISBLANK(Rådata!A1137)=TRUE,\"\",Rådata!A1137)","v":""},{"$f":"IF(ISBLANK(Rådata!A1137)=TRUE,\"\",YEAR(A1137))","v":""},{"$f":"IF(ISBLANK(Rådata!A1137)=TRUE,\"\",VLOOKUP(MONTH(A1137),Opsætning!$G$3:$H$14,2,FALSE))","v":""},{"$f":"IF(ISBLANK(Rådata!B1137)=TRUE,\"\",(Rådata!C1137*100)/Rådata!B1137)","v":""},{"$f":"IF(ISBLANK(Rådata!D1137)=TRUE,\"\",((Rådata!D1137-Rådata!E1137)*100)/Rådata!D1137)","v":""},{"$f":"IF(ISBLANK(Rådata!G1137)=TRUE,\"\",(Rådata!F1137*100)/Rådata!G1137)","v":""},{"$f":"IF(ISBLANK(Rådata!K1137),\"\",(SUM(Rådata!M1137:P1137)*100)/SUM(Rådata!H1137:K1137))","v":""},{"$f":"IF(ISBLANK(Rådata!H1137),\"\",((SUM(Rådata!J1137:L1137)-SUM(Rådata!O1137:P1137))*100)/SUM(Rådata!H1137:L1137))","v":""},{"$f":"IF(ISBLANK(Rådata!R1137),\"\",(Rådata!Q1137*100)/Rådata!R1137)","v":""}]
[{"$f":"IF(ISBLANK(Rådata!A1138)=TRUE,\"\",Rådata!A1138)","v":""},{"$f":"IF(ISBLANK(Rådata!A1138)=TRUE,\"\",YEAR(A1138))","v":""},{"$f":"IF(ISBLANK(Rådata!A1138)=TRUE,\"\",VLOOKUP(MONTH(A1138),Opsætning!$G$3:$H$14,2,FALSE))","v":""},{"$f":"IF(ISBLANK(Rådata!B1138)=TRUE,\"\",(Rådata!C1138*100)/Rådata!B1138)","v":""},{"$f":"IF(ISBLANK(Rådata!D1138)=TRUE,\"\",((Rådata!D1138-Rådata!E1138)*100)/Rådata!D1138)","v":""},{"$f":"IF(ISBLANK(Rådata!G1138)=TRUE,\"\",(Rådata!F1138*100)/Rådata!G1138)","v":""},{"$f":"IF(ISBLANK(Rådata!K1138),\"\",(SUM(Rådata!M1138:P1138)*100)/SUM(Rådata!H1138:K1138))","v":""},{"$f":"IF(ISBLANK(Rådata!H1138),\"\",((SUM(Rådata!J1138:L1138)-SUM(Rådata!O1138:P1138))*100)/SUM(Rådata!H1138:L1138))","v":""},{"$f":"IF(ISBLANK(Rådata!R1138),\"\",(Rådata!Q1138*100)/Rådata!R1138)","v":""}]
[{"$f":"IF(ISBLANK(Rådata!A1139)=TRUE,\"\",Rådata!A1139)","v":""},{"$f":"IF(ISBLANK(Rådata!A1139)=TRUE,\"\",YEAR(A1139))","v":""},{"$f":"IF(ISBLANK(Rådata!A1139)=TRUE,\"\",VLOOKUP(MONTH(A1139),Opsætning!$G$3:$H$14,2,FALSE))","v":""},{"$f":"IF(ISBLANK(Rådata!B1139)=TRUE,\"\",(Rådata!C1139*100)/Rådata!B1139)","v":""},{"$f":"IF(ISBLANK(Rådata!D1139)=TRUE,\"\",((Rådata!D1139-Rådata!E1139)*100)/Rådata!D1139)","v":""},{"$f":"IF(ISBLANK(Rådata!G1139)=TRUE,\"\",(Rådata!F1139*100)/Rådata!G1139)","v":""},{"$f":"IF(ISBLANK(Rådata!K1139),\"\",(SUM(Rådata!M1139:P1139)*100)/SUM(Rådata!H1139:K1139))","v":""},{"$f":"IF(ISBLANK(Rådata!H1139),\"\",((SUM(Rådata!J1139:L1139)-SUM(Rådata!O1139:P1139))*100)/SUM(Rådata!H1139:L1139))","v":""},{"$f":"IF(ISBLANK(Rådata!R1139),\"\",(Rådata!Q1139*100)/Rådata!R1139)","v":""}]
[{"$f":"IF(ISBLANK(Rådata!A1140)=TRUE,\"\",Rådata!A1140)","v":""},{"$f":"IF(ISBLANK(Rådata!A1140)=TRUE,\"\",YEAR(A1140))","v":""},{"$f":"IF(ISBLANK(Rådata!A1140)=TRUE,\"\",VLOOKUP(MONTH(A1140),Opsætning!$G$3:$H$14,2,FALSE))","v":""},{"$f":"IF(ISBLANK(Rådata!B1140)=TRUE,\"\",(Rådata!C1140*100)/Rådata!B1140)","v":""},{"$f":"IF(ISBLANK(Rådata!D1140)=TRUE,\"\",((Rådata!D1140-Rådata!E1140)*100)/Rådata!D1140)","v":""},{"$f":"IF(ISBLANK(Rådata!G1140)=TRUE,\"\",(Rådata!F1140*100)/Rådata!G1140)","v":""},{"$f":"IF(ISBLANK(Rådata!K1140),\"\",(SUM(Rådata!M1140:P1140)*100)/SUM(Rådata!H1140:K1140))","v":""},{"$f":"IF(ISBLANK(Rådata!H1140),\"\",((SUM(Rådata!J1140:L1140)-SUM(Rådata!O1140:P1140))*100)/SUM(Rådata!H1140:L1140))","v":""},{"$f":"IF(ISBLANK(Rådata!R1140),\"\",(Rådata!Q1140*100)/Rådata!R1140)","v":""}]
[{"$f":"IF(ISBLANK(Rådata!A1141)=TRUE,\"\",Rådata!A1141)","v":""},{"$f":"IF(ISBLANK(Rådata!A1141)=TRUE,\"\",YEAR(A1141))","v":""},{"$f":"IF(ISBLANK(Rådata!A1141)=TRUE,\"\",VLOOKUP(MONTH(A1141),Opsætning!$G$3:$H$14,2,FALSE))","v":""},{"$f":"IF(ISBLANK(Rådata!B1141)=TRUE,\"\",(Rådata!C1141*100)/Rådata!B1141)","v":""},{"$f":"IF(ISBLANK(Rådata!D1141)=TRUE,\"\",((Rådata!D1141-Rådata!E1141)*100)/Rådata!D1141)","v":""},{"$f":"IF(ISBLANK(Rådata!G1141)=TRUE,\"\",(Rådata!F1141*100)/Rådata!G1141)","v":""},{"$f":"IF(ISBLANK(Rådata!K1141),\"\",(SUM(Rådata!M1141:P1141)*100)/SUM(Rådata!H1141:K1141))","v":""},{"$f":"IF(ISBLANK(Rådata!H1141),\"\",((SUM(Rådata!J1141:L1141)-SUM(Rådata!O1141:P1141))*100)/SUM(Rådata!H1141:L1141))","v":""},{"$f":"IF(ISBLANK(Rådata!R1141),\"\",(Rådata!Q1141*100)/Rådata!R1141)","v":""}]
[{"$f":"IF(ISBLANK(Rådata!A1142)=TRUE,\"\",Rådata!A1142)","v":""},{"$f":"IF(ISBLANK(Rådata!A1142)=TRUE,\"\",YEAR(A1142))","v":""},{"$f":"IF(ISBLANK(Rådata!A1142)=TRUE,\"\",VLOOKUP(MONTH(A1142),Opsætning!$G$3:$H$14,2,FALSE))","v":""},{"$f":"IF(ISBLANK(Rådata!B1142)=TRUE,\"\",(Rådata!C1142*100)/Rådata!B1142)","v":""},{"$f":"IF(ISBLANK(Rådata!D1142)=TRUE,\"\",((Rådata!D1142-Rådata!E1142)*100)/Rådata!D1142)","v":""},{"$f":"IF(ISBLANK(Rådata!G1142)=TRUE,\"\",(Rådata!F1142*100)/Rådata!G1142)","v":""},{"$f":"IF(ISBLANK(Rådata!K1142),\"\",(SUM(Rådata!M1142:P1142)*100)/SUM(Rådata!H1142:K1142))","v":""},{"$f":"IF(ISBLANK(Rådata!H1142),\"\",((SUM(Rådata!J1142:L1142)-SUM(Rådata!O1142:P1142))*100)/SUM(Rådata!H1142:L1142))","v":""},{"$f":"IF(ISBLANK(Rådata!R1142),\"\",(Rådata!Q1142*100)/Rådata!R1142)","v":""}]
[{"$f":"IF(ISBLANK(Rådata!A1143)=TRUE,\"\",Rådata!A1143)","v":""},{"$f":"IF(ISBLANK(Rådata!A1143)=TRUE,\"\",YEAR(A1143))","v":""},{"$f":"IF(ISBLANK(Rådata!A1143)=TRUE,\"\",VLOOKUP(MONTH(A1143),Opsætning!$G$3:$H$14,2,FALSE))","v":""},{"$f":"IF(ISBLANK(Rådata!B1143)=TRUE,\"\",(Rådata!C1143*100)/Rådata!B1143)","v":""},{"$f":"IF(ISBLANK(Rådata!D1143)=TRUE,\"\",((Rådata!D1143-Rådata!E1143)*100)/Rådata!D1143)","v":""},{"$f":"IF(ISBLANK(Rådata!G1143)=TRUE,\"\",(Rådata!F1143*100)/Rådata!G1143)","v":""},{"$f":"IF(ISBLANK(Rådata!K1143),\"\",(SUM(Rådata!M1143:P1143)*100)/SUM(Rådata!H1143:K1143))","v":""},{"$f":"IF(ISBLANK(Rådata!H1143),\"\",((SUM(Rådata!J1143:L1143)-SUM(Rådata!O1143:P1143))*100)/SUM(Rådata!H1143:L1143))","v":""},{"$f":"IF(ISBLANK(Rådata!R1143),\"\",(Rådata!Q1143*100)/Rådata!R1143)","v":""}]
[{"$f":"IF(ISBLANK(Rådata!A1144)=TRUE,\"\",Rådata!A1144)","v":""},{"$f":"IF(ISBLANK(Rådata!A1144)=TRUE,\"\",YEAR(A1144))","v":""},{"$f":"IF(ISBLANK(Rådata!A1144)=TRUE,\"\",VLOOKUP(MONTH(A1144),Opsætning!$G$3:$H$14,2,FALSE))","v":""},{"$f":"IF(ISBLANK(Rådata!B1144)=TRUE,\"\",(Rådata!C1144*100)/Rådata!B1144)","v":""},{"$f":"IF(ISBLANK(Rådata!D1144)=TRUE,\"\",((Rådata!D1144-Rådata!E1144)*100)/Rådata!D1144)","v":""},{"$f":"IF(ISBLANK(Rådata!G1144)=TRUE,\"\",(Rådata!F1144*100)/Rådata!G1144)","v":""},{"$f":"IF(ISBLANK(Rådata!K1144),\"\",(SUM(Rådata!M1144:P1144)*100)/SUM(Rådata!H1144:K1144))","v":""},{"$f":"IF(ISBLANK(Rådata!H1144),\"\",((SUM(Rådata!J1144:L1144)-SUM(Rådata!O1144:P1144))*100)/SUM(Rådata!H1144:L1144))","v":""},{"$f":"IF(ISBLANK(Rådata!R1144),\"\",(Rådata!Q1144*100)/Rådata!R1144)","v":""}]
[{"$f":"IF(ISBLANK(Rådata!A1145)=TRUE,\"\",Rådata!A1145)","v":""},{"$f":"IF(ISBLANK(Rådata!A1145)=TRUE,\"\",YEAR(A1145))","v":""},{"$f":"IF(ISBLANK(Rådata!A1145)=TRUE,\"\",VLOOKUP(MONTH(A1145),Opsætning!$G$3:$H$14,2,FALSE))","v":""},{"$f":"IF(ISBLANK(Rådata!B1145)=TRUE,\"\",(Rådata!C1145*100)/Rådata!B1145)","v":""},{"$f":"IF(ISBLANK(Rådata!D1145)=TRUE,\"\",((Rådata!D1145-Rådata!E1145)*100)/Rådata!D1145)","v":""},{"$f":"IF(ISBLANK(Rådata!G1145)=TRUE,\"\",(Rådata!F1145*100)/Rådata!G1145)","v":""},{"$f":"IF(ISBLANK(Rådata!K1145),\"\",(SUM(Rådata!M1145:P1145)*100)/SUM(Rådata!H1145:K1145))","v":""},{"$f":"IF(ISBLANK(Rådata!H1145),\"\",((SUM(Rådata!J1145:L1145)-SUM(Rådata!O1145:P1145))*100)/SUM(Rådata!H1145:L1145))","v":""},{"$f":"IF(ISBLANK(Rådata!R1145),\"\",(Rådata!Q1145*100)/Rådata!R1145)","v":""}]
[{"$f":"IF(ISBLANK(Rådata!A1146)=TRUE,\"\",Rådata!A1146)","v":""},{"$f":"IF(ISBLANK(Rådata!A1146)=TRUE,\"\",YEAR(A1146))","v":""},{"$f":"IF(ISBLANK(Rådata!A1146)=TRUE,\"\",VLOOKUP(MONTH(A1146),Opsætning!$G$3:$H$14,2,FALSE))","v":""},{"$f":"IF(ISBLANK(Rådata!B1146)=TRUE,\"\",(Rådata!C1146*100)/Rådata!B1146)","v":""},{"$f":"IF(ISBLANK(Rådata!D1146)=TRUE,\"\",((Rådata!D1146-Rådata!E1146)*100)/Rådata!D1146)","v":""},{"$f":"IF(ISBLANK(Rådata!G1146)=TRUE,\"\",(Rådata!F1146*100)/Rådata!G1146)","v":""},{"$f":"IF(ISBLANK(Rådata!K1146),\"\",(SUM(Rådata!M1146:P1146)*100)/SUM(Rådata!H1146:K1146))","v":""},{"$f":"IF(ISBLANK(Rådata!H1146),\"\",((SUM(Rådata!J1146:L1146)-SUM(Rådata!O1146:P1146))*100)/SUM(Rådata!H1146:L1146))","v":""},{"$f":"IF(ISBLANK(Rådata!R1146),\"\",(Rådata!Q1146*100)/Rådata!R1146)","v":""}]
[{"$f":"IF(ISBLANK(Rådata!A1147)=TRUE,\"\",Rådata!A1147)","v":""},{"$f":"IF(ISBLANK(Rådata!A1147)=TRUE,\"\",YEAR(A1147))","v":""},{"$f":"IF(ISBLANK(Rådata!A1147)=TRUE,\"\",VLOOKUP(MONTH(A1147),Opsætning!$G$3:$H$14,2,FALSE))","v":""},{"$f":"IF(ISBLANK(Rådata!B1147)=TRUE,\"\",(Rådata!C1147*100)/Rådata!B1147)","v":""},{"$f":"IF(ISBLANK(Rådata!D1147)=TRUE,\"\",((Rådata!D1147-Rådata!E1147)*100)/Rådata!D1147)","v":""},{"$f":"IF(ISBLANK(Rådata!G1147)=TRUE,\"\",(Rådata!F1147*100)/Rådata!G1147)","v":""},{"$f":"IF(ISBLANK(Rådata!K1147),\"\",(SUM(Rådata!M1147:P1147)*100)/SUM(Rådata!H1147:K1147))","v":""},{"$f":"IF(ISBLANK(Rådata!H1147),\"\",((SUM(Rådata!J1147:L1147)-SUM(Rådata!O1147:P1147))*100)/SUM(Rådata!H1147:L1147))","v":""},{"$f":"IF(ISBLANK(Rådata!R1147),\"\",(Rådata!Q1147*100)/Rådata!R1147)","v":""}]
[{"$f":"IF(ISBLANK(Rådata!A1148)=TRUE,\"\",Rådata!A1148)","v":""},{"$f":"IF(ISBLANK(Rådata!A1148)=TRUE,\"\",YEAR(A1148))","v":""},{"$f":"IF(ISBLANK(Rådata!A1148)=TRUE,\"\",VLOOKUP(MONTH(A1148),Opsætning!$G$3:$H$14,2,FALSE))","v":""},{"$f":"IF(ISBLANK(Rådata!B1148)=TRUE,\"\",(Rådata!C1148*100)/Rådata!B1148)","v":""},{"$f":"IF(ISBLANK(Rådata!D1148)=TRUE,\"\",((Rådata!D1148-Rådata!E1148)*100)/Rådata!D1148)","v":""},{"$f":"IF(ISBLANK(Rådata!G1148)=TRUE,\"\",(Rådata!F1148*100)/Rådata!G1148)","v":""},{"$f":"IF(ISBLANK(Rådata!K1148),\"\",(SUM(Rådata!M1148:P1148)*100)/SUM(Rådata!H1148:K1148))","v":""},{"$f":"IF(ISBLANK(Rådata!H1148),\"\",((SUM(Rådata!J1148:L1148)-SUM(Rådata!O1148:P1148))*100)/SUM(Rådata!H1148:L1148))","v":""},{"$f":"IF(ISBLANK(Rådata!R1148),\"\",(Rådata!Q1148*100)/Rådata!R1148)","v":""}]
[{"$f":"IF(ISBLANK(Rådata!A1149)=TRUE,\"\",Rådata!A1149)","v":""},{"$f":"IF(ISBLANK(Rådata!A1149)=TRUE,\"\",YEAR(A1149))","v":""},{"$f":"IF(ISBLANK(Rådata!A1149)=TRUE,\"\",VLOOKUP(MONTH(A1149),Opsætning!$G$3:$H$14,2,FALSE))","v":""},{"$f":"IF(ISBLANK(Rådata!B1149)=TRUE,\"\",(Rådata!C1149*100)/Rådata!B1149)","v":""},{"$f":"IF(ISBLANK(Rådata!D1149)=TRUE,\"\",((Rådata!D1149-Rådata!E1149)*100)/Rådata!D1149)","v":""},{"$f":"IF(ISBLANK(Rådata!G1149)=TRUE,\"\",(Rådata!F1149*100)/Rådata!G1149)","v":""},{"$f":"IF(ISBLANK(Rådata!K1149),\"\",(SUM(Rådata!M1149:P1149)*100)/SUM(Rådata!H1149:K1149))","v":""},{"$f":"IF(ISBLANK(Rådata!H1149),\"\",((SUM(Rådata!J1149:L1149)-SUM(Rådata!O1149:P1149))*100)/SUM(Rådata!H1149:L1149))","v":""},{"$f":"IF(ISBLANK(Rådata!R1149),\"\",(Rådata!Q1149*100)/Rådata!R1149)","v":""}]
[{"$f":"IF(ISBLANK(Rådata!A1150)=TRUE,\"\",Rådata!A1150)","v":""},{"$f":"IF(ISBLANK(Rådata!A1150)=TRUE,\"\",YEAR(A1150))","v":""},{"$f":"IF(ISBLANK(Rådata!A1150)=TRUE,\"\",VLOOKUP(MONTH(A1150),Opsætning!$G$3:$H$14,2,FALSE))","v":""},{"$f":"IF(ISBLANK(Rådata!B1150)=TRUE,\"\",(Rådata!C1150*100)/Rådata!B1150)","v":""},{"$f":"IF(ISBLANK(Rådata!D1150)=TRUE,\"\",((Rådata!D1150-Rådata!E1150)*100)/Rådata!D1150)","v":""},{"$f":"IF(ISBLANK(Rådata!G1150)=TRUE,\"\",(Rådata!F1150*100)/Rådata!G1150)","v":""},{"$f":"IF(ISBLANK(Rådata!K1150),\"\",(SUM(Rådata!M1150:P1150)*100)/SUM(Rådata!H1150:K1150))","v":""},{"$f":"IF(ISBLANK(Rådata!H1150),\"\",((SUM(Rådata!J1150:L1150)-SUM(Rådata!O1150:P1150))*100)/SUM(Rådata!H1150:L1150))","v":""},{"$f":"IF(ISBLANK(Rådata!R1150),\"\",(Rådata!Q1150*100)/Rådata!R1150)","v":""}]
[{"$f":"IF(ISBLANK(Rådata!A1151)=TRUE,\"\",Rådata!A1151)","v":""},{"$f":"IF(ISBLANK(Rådata!A1151)=TRUE,\"\",YEAR(A1151))","v":""},{"$f":"IF(ISBLANK(Rådata!A1151)=TRUE,\"\",VLOOKUP(MONTH(A1151),Opsætning!$G$3:$H$14,2,FALSE))","v":""},{"$f":"IF(ISBLANK(Rådata!B1151)=TRUE,\"\",(Rådata!C1151*100)/Rådata!B1151)","v":""},{"$f":"IF(ISBLANK(Rådata!D1151)=TRUE,\"\",((Rådata!D1151-Rådata!E1151)*100)/Rådata!D1151)","v":""},{"$f":"IF(ISBLANK(Rådata!G1151)=TRUE,\"\",(Rådata!F1151*100)/Rådata!G1151)","v":""},{"$f":"IF(ISBLANK(Rådata!K1151),\"\",(SUM(Rådata!M1151:P1151)*100)/SUM(Rådata!H1151:K1151))","v":""},{"$f":"IF(ISBLANK(Rådata!H1151),\"\",((SUM(Rådata!J1151:L1151)-SUM(Rådata!O1151:P1151))*100)/SUM(Rådata!H1151:L1151))","v":""},{"$f":"IF(ISBLANK(Rådata!R1151),\"\",(Rådata!Q1151*100)/Rådata!R1151)","v":""}]
[{"$f":"IF(ISBLANK(Rådata!A1152)=TRUE,\"\",Rådata!A1152)","v":""},{"$f":"IF(ISBLANK(Rådata!A1152)=TRUE,\"\",YEAR(A1152))","v":""},{"$f":"IF(ISBLANK(Rådata!A1152)=TRUE,\"\",VLOOKUP(MONTH(A1152),Opsætning!$G$3:$H$14,2,FALSE))","v":""},{"$f":"IF(ISBLANK(Rådata!B1152)=TRUE,\"\",(Rådata!C1152*100)/Rådata!B1152)","v":""},{"$f":"IF(ISBLANK(Rådata!D1152)=TRUE,\"\",((Rådata!D1152-Rådata!E1152)*100)/Rådata!D1152)","v":""},{"$f":"IF(ISBLANK(Rådata!G1152)=TRUE,\"\",(Rådata!F1152*100)/Rådata!G1152)","v":""},{"$f":"IF(ISBLANK(Rådata!K1152),\"\",(SUM(Rådata!M1152:P1152)*100)/SUM(Rådata!H1152:K1152))","v":""},{"$f":"IF(ISBLANK(Rådata!H1152),\"\",((SUM(Rådata!J1152:L1152)-SUM(Rådata!O1152:P1152))*100)/SUM(Rådata!H1152:L1152))","v":""},{"$f":"IF(ISBLANK(Rådata!R1152),\"\",(Rådata!Q1152*100)/Rådata!R1152)","v":""}]
[{"$f":"IF(ISBLANK(Rådata!A1153)=TRUE,\"\",Rådata!A1153)","v":""},{"$f":"IF(ISBLANK(Rådata!A1153)=TRUE,\"\",YEAR(A1153))","v":""},{"$f":"IF(ISBLANK(Rådata!A1153)=TRUE,\"\",VLOOKUP(MONTH(A1153),Opsætning!$G$3:$H$14,2,FALSE))","v":""},{"$f":"IF(ISBLANK(Rådata!B1153)=TRUE,\"\",(Rådata!C1153*100)/Rådata!B1153)","v":""},{"$f":"IF(ISBLANK(Rådata!D1153)=TRUE,\"\",((Rådata!D1153-Rådata!E1153)*100)/Rådata!D1153)","v":""},{"$f":"IF(ISBLANK(Rådata!G1153)=TRUE,\"\",(Rådata!F1153*100)/Rådata!G1153)","v":""},{"$f":"IF(ISBLANK(Rådata!K1153),\"\",(SUM(Rådata!M1153:P1153)*100)/SUM(Rådata!H1153:K1153))","v":""},{"$f":"IF(ISBLANK(Rådata!H1153),\"\",((SUM(Rådata!J1153:L1153)-SUM(Rådata!O1153:P1153))*100)/SUM(Rådata!H1153:L1153))","v":""},{"$f":"IF(ISBLANK(Rådata!R1153),\"\",(Rådata!Q1153*100)/Rådata!R1153)","v":""}]
[{"$f":"IF(ISBLANK(Rådata!A1154)=TRUE,\"\",Rådata!A1154)","v":""},{"$f":"IF(ISBLANK(Rådata!A1154)=TRUE,\"\",YEAR(A1154))","v":""},{"$f":"IF(ISBLANK(Rådata!A1154)=TRUE,\"\",VLOOKUP(MONTH(A1154),Opsætning!$G$3:$H$14,2,FALSE))","v":""},{"$f":"IF(ISBLANK(Rådata!B1154)=TRUE,\"\",(Rådata!C1154*100)/Rådata!B1154)","v":""},{"$f":"IF(ISBLANK(Rådata!D1154)=TRUE,\"\",((Rådata!D1154-Rådata!E1154)*100)/Rådata!D1154)","v":""},{"$f":"IF(ISBLANK(Rådata!G1154)=TRUE,\"\",(Rådata!F1154*100)/Rådata!G1154)","v":""},{"$f":"IF(ISBLANK(Rådata!K1154),\"\",(SUM(Rådata!M1154:P1154)*100)/SUM(Rådata!H1154:K1154))","v":""},{"$f":"IF(ISBLANK(Rådata!H1154),\"\",((SUM(Rådata!J1154:L1154)-SUM(Rådata!O1154:P1154))*100)/SUM(Rådata!H1154:L1154))","v":""},{"$f":"IF(ISBLANK(Rådata!R1154),\"\",(Rådata!Q1154*100)/Rådata!R1154)","v":""}]
[{"$f":"IF(ISBLANK(Rådata!A1155)=TRUE,\"\",Rådata!A1155)","v":""},{"$f":"IF(ISBLANK(Rådata!A1155)=TRUE,\"\",YEAR(A1155))","v":""},{"$f":"IF(ISBLANK(Rådata!A1155)=TRUE,\"\",VLOOKUP(MONTH(A1155),Opsætning!$G$3:$H$14,2,FALSE))","v":""},{"$f":"IF(ISBLANK(Rådata!B1155)=TRUE,\"\",(Rådata!C1155*100)/Rådata!B1155)","v":""},{"$f":"IF(ISBLANK(Rådata!D1155)=TRUE,\"\",((Rådata!D1155-Rådata!E1155)*100)/Rådata!D1155)","v":""},{"$f":"IF(ISBLANK(Rådata!G1155)=TRUE,\"\",(Rådata!F1155*100)/Rådata!G1155)","v":""},{"$f":"IF(ISBLANK(Rådata!K1155),\"\",(SUM(Rådata!M1155:P1155)*100)/SUM(Rådata!H1155:K1155))","v":""},{"$f":"IF(ISBLANK(Rådata!H1155),\"\",((SUM(Rådata!J1155:L1155)-SUM(Rådata!O1155:P1155))*100)/SUM(Rådata!H1155:L1155))","v":""},{"$f":"IF(ISBLANK(Rådata!R1155),\"\",(Rådata!Q1155*100)/Rådata!R1155)","v":""}]
[{"$f":"IF(ISBLANK(Rådata!A1156)=TRUE,\"\",Rådata!A1156)","v":""},{"$f":"IF(ISBLANK(Rådata!A1156)=TRUE,\"\",YEAR(A1156))","v":""},{"$f":"IF(ISBLANK(Rådata!A1156)=TRUE,\"\",VLOOKUP(MONTH(A1156),Opsætning!$G$3:$H$14,2,FALSE))","v":""},{"$f":"IF(ISBLANK(Rådata!B1156)=TRUE,\"\",(Rådata!C1156*100)/Rådata!B1156)","v":""},{"$f":"IF(ISBLANK(Rådata!D1156)=TRUE,\"\",((Rådata!D1156-Rådata!E1156)*100)/Rådata!D1156)","v":""},{"$f":"IF(ISBLANK(Rådata!G1156)=TRUE,\"\",(Rådata!F1156*100)/Rådata!G1156)","v":""},{"$f":"IF(ISBLANK(Rådata!K1156),\"\",(SUM(Rådata!M1156:P1156)*100)/SUM(Rådata!H1156:K1156))","v":""},{"$f":"IF(ISBLANK(Rådata!H1156),\"\",((SUM(Rådata!J1156:L1156)-SUM(Rådata!O1156:P1156))*100)/SUM(Rådata!H1156:L1156))","v":""},{"$f":"IF(ISBLANK(Rådata!R1156),\"\",(Rådata!Q1156*100)/Rådata!R1156)","v":""}]
[{"$f":"IF(ISBLANK(Rådata!A1157)=TRUE,\"\",Rådata!A1157)","v":""},{"$f":"IF(ISBLANK(Rådata!A1157)=TRUE,\"\",YEAR(A1157))","v":""},{"$f":"IF(ISBLANK(Rådata!A1157)=TRUE,\"\",VLOOKUP(MONTH(A1157),Opsætning!$G$3:$H$14,2,FALSE))","v":""},{"$f":"IF(ISBLANK(Rådata!B1157)=TRUE,\"\",(Rådata!C1157*100)/Rådata!B1157)","v":""},{"$f":"IF(ISBLANK(Rådata!D1157)=TRUE,\"\",((Rådata!D1157-Rådata!E1157)*100)/Rådata!D1157)","v":""},{"$f":"IF(ISBLANK(Rådata!G1157)=TRUE,\"\",(Rådata!F1157*100)/Rådata!G1157)","v":""},{"$f":"IF(ISBLANK(Rådata!K1157),\"\",(SUM(Rådata!M1157:P1157)*100)/SUM(Rådata!H1157:K1157))","v":""},{"$f":"IF(ISBLANK(Rådata!H1157),\"\",((SUM(Rådata!J1157:L1157)-SUM(Rådata!O1157:P1157))*100)/SUM(Rådata!H1157:L1157))","v":""},{"$f":"IF(ISBLANK(Rådata!R1157),\"\",(Rådata!Q1157*100)/Rådata!R1157)","v":""}]
[{"$f":"IF(ISBLANK(Rådata!A1158)=TRUE,\"\",Rådata!A1158)","v":""},{"$f":"IF(ISBLANK(Rådata!A1158)=TRUE,\"\",YEAR(A1158))","v":""},{"$f":"IF(ISBLANK(Rådata!A1158)=TRUE,\"\",VLOOKUP(MONTH(A1158),Opsætning!$G$3:$H$14,2,FALSE))","v":""},{"$f":"IF(ISBLANK(Rådata!B1158)=TRUE,\"\",(Rådata!C1158*100)/Rådata!B1158)","v":""},{"$f":"IF(ISBLANK(Rådata!D1158)=TRUE,\"\",((Rådata!D1158-Rådata!E1158)*100)/Rådata!D1158)","v":""},{"$f":"IF(ISBLANK(Rådata!G1158)=TRUE,\"\",(Rådata!F1158*100)/Rådata!G1158)","v":""},{"$f":"IF(ISBLANK(Rådata!K1158),\"\",(SUM(Rådata!M1158:P1158)*100)/SUM(Rådata!H1158:K1158))","v":""},{"$f":"IF(ISBLANK(Rådata!H1158),\"\",((SUM(Rådata!J1158:L1158)-SUM(Rådata!O1158:P1158))*100)/SUM(Rådata!H1158:L1158))","v":""},{"$f":"IF(ISBLANK(Rådata!R1158),\"\",(Rådata!Q1158*100)/Rådata!R1158)","v":""}]
[{"$f":"IF(ISBLANK(Rådata!A1159)=TRUE,\"\",Rådata!A1159)","v":""},{"$f":"IF(ISBLANK(Rådata!A1159)=TRUE,\"\",YEAR(A1159))","v":""},{"$f":"IF(ISBLANK(Rådata!A1159)=TRUE,\"\",VLOOKUP(MONTH(A1159),Opsætning!$G$3:$H$14,2,FALSE))","v":""},{"$f":"IF(ISBLANK(Rådata!B1159)=TRUE,\"\",(Rådata!C1159*100)/Rådata!B1159)","v":""},{"$f":"IF(ISBLANK(Rådata!D1159)=TRUE,\"\",((Rådata!D1159-Rådata!E1159)*100)/Rådata!D1159)","v":""},{"$f":"IF(ISBLANK(Rådata!G1159)=TRUE,\"\",(Rådata!F1159*100)/Rådata!G1159)","v":""},{"$f":"IF(ISBLANK(Rådata!K1159),\"\",(SUM(Rådata!M1159:P1159)*100)/SUM(Rådata!H1159:K1159))","v":""},{"$f":"IF(ISBLANK(Rådata!H1159),\"\",((SUM(Rådata!J1159:L1159)-SUM(Rådata!O1159:P1159))*100)/SUM(Rådata!H1159:L1159))","v":""},{"$f":"IF(ISBLANK(Rådata!R1159),\"\",(Rådata!Q1159*100)/Rådata!R1159)","v":""}]
[{"$f":"IF(ISBLANK(Rådata!A1160)=TRUE,\"\",Rådata!A1160)","v":""},{"$f":"IF(ISBLANK(Rådata!A1160)=TRUE,\"\",YEAR(A1160))","v":""},{"$f":"IF(ISBLANK(Rådata!A1160)=TRUE,\"\",VLOOKUP(MONTH(A1160),Opsætning!$G$3:$H$14,2,FALSE))","v":""},{"$f":"IF(ISBLANK(Rådata!B1160)=TRUE,\"\",(Rådata!C1160*100)/Rådata!B1160)","v":""},{"$f":"IF(ISBLANK(Rådata!D1160)=TRUE,\"\",((Rådata!D1160-Rådata!E1160)*100)/Rådata!D1160)","v":""},{"$f":"IF(ISBLANK(Rådata!G1160)=TRUE,\"\",(Rådata!F1160*100)/Rådata!G1160)","v":""},{"$f":"IF(ISBLANK(Rådata!K1160),\"\",(SUM(Rådata!M1160:P1160)*100)/SUM(Rådata!H1160:K1160))","v":""},{"$f":"IF(ISBLANK(Rådata!H1160),\"\",((SUM(Rådata!J1160:L1160)-SUM(Rådata!O1160:P1160))*100)/SUM(Rådata!H1160:L1160))","v":""},{"$f":"IF(ISBLANK(Rådata!R1160),\"\",(Rådata!Q1160*100)/Rådata!R1160)","v":""}]
[{"$f":"IF(ISBLANK(Rådata!A1161)=TRUE,\"\",Rådata!A1161)","v":""},{"$f":"IF(ISBLANK(Rådata!A1161)=TRUE,\"\",YEAR(A1161))","v":""},{"$f":"IF(ISBLANK(Rådata!A1161)=TRUE,\"\",VLOOKUP(MONTH(A1161),Opsætning!$G$3:$H$14,2,FALSE))","v":""},{"$f":"IF(ISBLANK(Rådata!B1161)=TRUE,\"\",(Rådata!C1161*100)/Rådata!B1161)","v":""},{"$f":"IF(ISBLANK(Rådata!D1161)=TRUE,\"\",((Rådata!D1161-Rådata!E1161)*100)/Rådata!D1161)","v":""},{"$f":"IF(ISBLANK(Rådata!G1161)=TRUE,\"\",(Rådata!F1161*100)/Rådata!G1161)","v":""},{"$f":"IF(ISBLANK(Rådata!K1161),\"\",(SUM(Rådata!M1161:P1161)*100)/SUM(Rådata!H1161:K1161))","v":""},{"$f":"IF(ISBLANK(Rådata!H1161),\"\",((SUM(Rådata!J1161:L1161)-SUM(Rådata!O1161:P1161))*100)/SUM(Rådata!H1161:L1161))","v":""},{"$f":"IF(ISBLANK(Rådata!R1161),\"\",(Rådata!Q1161*100)/Rådata!R1161)","v":""}]
[{"$f":"IF(ISBLANK(Rådata!A1162)=TRUE,\"\",Rådata!A1162)","v":""},{"$f":"IF(ISBLANK(Rådata!A1162)=TRUE,\"\",YEAR(A1162))","v":""},{"$f":"IF(ISBLANK(Rådata!A1162)=TRUE,\"\",VLOOKUP(MONTH(A1162),Opsætning!$G$3:$H$14,2,FALSE))","v":""},{"$f":"IF(ISBLANK(Rådata!B1162)=TRUE,\"\",(Rådata!C1162*100)/Rådata!B1162)","v":""},{"$f":"IF(ISBLANK(Rådata!D1162)=TRUE,\"\",((Rådata!D1162-Rådata!E1162)*100)/Rådata!D1162)","v":""},{"$f":"IF(ISBLANK(Rådata!G1162)=TRUE,\"\",(Rådata!F1162*100)/Rådata!G1162)","v":""},{"$f":"IF(ISBLANK(Rådata!K1162),\"\",(SUM(Rådata!M1162:P1162)*100)/SUM(Rådata!H1162:K1162))","v":""},{"$f":"IF(ISBLANK(Rådata!H1162),\"\",((SUM(Rådata!J1162:L1162)-SUM(Rådata!O1162:P1162))*100)/SUM(Rådata!H1162:L1162))","v":""},{"$f":"IF(ISBLANK(Rådata!R1162),\"\",(Rådata!Q1162*100)/Rådata!R1162)","v":""}]
[{"$f":"IF(ISBLANK(Rådata!A1163)=TRUE,\"\",Rådata!A1163)","v":""},{"$f":"IF(ISBLANK(Rådata!A1163)=TRUE,\"\",YEAR(A1163))","v":""},{"$f":"IF(ISBLANK(Rådata!A1163)=TRUE,\"\",VLOOKUP(MONTH(A1163),Opsætning!$G$3:$H$14,2,FALSE))","v":""},{"$f":"IF(ISBLANK(Rådata!B1163)=TRUE,\"\",(Rådata!C1163*100)/Rådata!B1163)","v":""},{"$f":"IF(ISBLANK(Rådata!D1163)=TRUE,\"\",((Rådata!D1163-Rådata!E1163)*100)/Rådata!D1163)","v":""},{"$f":"IF(ISBLANK(Rådata!G1163)=TRUE,\"\",(Rådata!F1163*100)/Rådata!G1163)","v":""},{"$f":"IF(ISBLANK(Rådata!K1163),\"\",(SUM(Rådata!M1163:P1163)*100)/SUM(Rådata!H1163:K1163))","v":""},{"$f":"IF(ISBLANK(Rådata!H1163),\"\",((SUM(Rådata!J1163:L1163)-SUM(Rådata!O1163:P1163))*100)/SUM(Rådata!H1163:L1163))","v":""},{"$f":"IF(ISBLANK(Rådata!R1163),\"\",(Rådata!Q1163*100)/Rådata!R1163)","v":""}]
[{"$f":"IF(ISBLANK(Rådata!A1164)=TRUE,\"\",Rådata!A1164)","v":""},{"$f":"IF(ISBLANK(Rådata!A1164)=TRUE,\"\",YEAR(A1164))","v":""},{"$f":"IF(ISBLANK(Rådata!A1164)=TRUE,\"\",VLOOKUP(MONTH(A1164),Opsætning!$G$3:$H$14,2,FALSE))","v":""},{"$f":"IF(ISBLANK(Rådata!B1164)=TRUE,\"\",(Rådata!C1164*100)/Rådata!B1164)","v":""},{"$f":"IF(ISBLANK(Rådata!D1164)=TRUE,\"\",((Rådata!D1164-Rådata!E1164)*100)/Rådata!D1164)","v":""},{"$f":"IF(ISBLANK(Rådata!G1164)=TRUE,\"\",(Rådata!F1164*100)/Rådata!G1164)","v":""},{"$f":"IF(ISBLANK(Rådata!K1164),\"\",(SUM(Rådata!M1164:P1164)*100)/SUM(Rådata!H1164:K1164))","v":""},{"$f":"IF(ISBLANK(Rådata!H1164),\"\",((SUM(Rådata!J1164:L1164)-SUM(Rådata!O1164:P1164))*100)/SUM(Rådata!H1164:L1164))","v":""},{"$f":"IF(ISBLANK(Rådata!R1164),\"\",(Rådata!Q1164*100)/Rådata!R1164)","v":""}]
[{"$f":"IF(ISBLANK(Rådata!A1165)=TRUE,\"\",Rådata!A1165)","v":""},{"$f":"IF(ISBLANK(Rådata!A1165)=TRUE,\"\",YEAR(A1165))","v":""},{"$f":"IF(ISBLANK(Rådata!A1165)=TRUE,\"\",VLOOKUP(MONTH(A1165),Opsætning!$G$3:$H$14,2,FALSE))","v":""},{"$f":"IF(ISBLANK(Rådata!B1165)=TRUE,\"\",(Rådata!C1165*100)/Rådata!B1165)","v":""},{"$f":"IF(ISBLANK(Rådata!D1165)=TRUE,\"\",((Rådata!D1165-Rådata!E1165)*100)/Rådata!D1165)","v":""},{"$f":"IF(ISBLANK(Rådata!G1165)=TRUE,\"\",(Rådata!F1165*100)/Rådata!G1165)","v":""},{"$f":"IF(ISBLANK(Rådata!K1165),\"\",(SUM(Rådata!M1165:P1165)*100)/SUM(Rådata!H1165:K1165))","v":""},{"$f":"IF(ISBLANK(Rådata!H1165),\"\",((SUM(Rådata!J1165:L1165)-SUM(Rådata!O1165:P1165))*100)/SUM(Rådata!H1165:L1165))","v":""},{"$f":"IF(ISBLANK(Rådata!R1165),\"\",(Rådata!Q1165*100)/Rådata!R1165)","v":""}]
[{"$f":"IF(ISBLANK(Rådata!A1166)=TRUE,\"\",Rådata!A1166)","v":""},{"$f":"IF(ISBLANK(Rådata!A1166)=TRUE,\"\",YEAR(A1166))","v":""},{"$f":"IF(ISBLANK(Rådata!A1166)=TRUE,\"\",VLOOKUP(MONTH(A1166),Opsætning!$G$3:$H$14,2,FALSE))","v":""},{"$f":"IF(ISBLANK(Rådata!B1166)=TRUE,\"\",(Rådata!C1166*100)/Rådata!B1166)","v":""},{"$f":"IF(ISBLANK(Rådata!D1166)=TRUE,\"\",((Rådata!D1166-Rådata!E1166)*100)/Rådata!D1166)","v":""},{"$f":"IF(ISBLANK(Rådata!G1166)=TRUE,\"\",(Rådata!F1166*100)/Rådata!G1166)","v":""},{"$f":"IF(ISBLANK(Rådata!K1166),\"\",(SUM(Rådata!M1166:P1166)*100)/SUM(Rådata!H1166:K1166))","v":""},{"$f":"IF(ISBLANK(Rådata!H1166),\"\",((SUM(Rådata!J1166:L1166)-SUM(Rådata!O1166:P1166))*100)/SUM(Rådata!H1166:L1166))","v":""},{"$f":"IF(ISBLANK(Rådata!R1166),\"\",(Rådata!Q1166*100)/Rådata!R1166)","v":""}]
[{"$f":"IF(ISBLANK(Rådata!A1167)=TRUE,\"\",Rådata!A1167)","v":""},{"$f":"IF(ISBLANK(Rådata!A1167)=TRUE,\"\",YEAR(A1167))","v":""},{"$f":"IF(ISBLANK(Rådata!A1167)=TRUE,\"\",VLOOKUP(MONTH(A1167),Opsætning!$G$3:$H$14,2,FALSE))","v":""},{"$f":"IF(ISBLANK(Rådata!B1167)=TRUE,\"\",(Rådata!C1167*100)/Rådata!B1167)","v":""},{"$f":"IF(ISBLANK(Rådata!D1167)=TRUE,\"\",((Rådata!D1167-Rådata!E1167)*100)/Rådata!D1167)","v":""},{"$f":"IF(ISBLANK(Rådata!G1167)=TRUE,\"\",(Rådata!F1167*100)/Rådata!G1167)","v":""},{"$f":"IF(ISBLANK(Rådata!K1167),\"\",(SUM(Rådata!M1167:P1167)*100)/SUM(Rådata!H1167:K1167))","v":""},{"$f":"IF(ISBLANK(Rådata!H1167),\"\",((SUM(Rådata!J1167:L1167)-SUM(Rådata!O1167:P1167))*100)/SUM(Rådata!H1167:L1167))","v":""},{"$f":"IF(ISBLANK(Rådata!R1167),\"\",(Rådata!Q1167*100)/Rådata!R1167)","v":""}]
[{"$f":"IF(ISBLANK(Rådata!A1168)=TRUE,\"\",Rådata!A1168)","v":""},{"$f":"IF(ISBLANK(Rådata!A1168)=TRUE,\"\",YEAR(A1168))","v":""},{"$f":"IF(ISBLANK(Rådata!A1168)=TRUE,\"\",VLOOKUP(MONTH(A1168),Opsætning!$G$3:$H$14,2,FALSE))","v":""},{"$f":"IF(ISBLANK(Rådata!B1168)=TRUE,\"\",(Rådata!C1168*100)/Rådata!B1168)","v":""},{"$f":"IF(ISBLANK(Rådata!D1168)=TRUE,\"\",((Rådata!D1168-Rådata!E1168)*100)/Rådata!D1168)","v":""},{"$f":"IF(ISBLANK(Rådata!G1168)=TRUE,\"\",(Rådata!F1168*100)/Rådata!G1168)","v":""},{"$f":"IF(ISBLANK(Rådata!K1168),\"\",(SUM(Rådata!M1168:P1168)*100)/SUM(Rådata!H1168:K1168))","v":""},{"$f":"IF(ISBLANK(Rådata!H1168),\"\",((SUM(Rådata!J1168:L1168)-SUM(Rådata!O1168:P1168))*100)/SUM(Rådata!H1168:L1168))","v":""},{"$f":"IF(ISBLANK(Rådata!R1168),\"\",(Rådata!Q1168*100)/Rådata!R1168)","v":""}]
[{"$f":"IF(ISBLANK(Rådata!A1169)=TRUE,\"\",Rådata!A1169)","v":""},{"$f":"IF(ISBLANK(Rådata!A1169)=TRUE,\"\",YEAR(A1169))","v":""},{"$f":"IF(ISBLANK(Rådata!A1169)=TRUE,\"\",VLOOKUP(MONTH(A1169),Opsætning!$G$3:$H$14,2,FALSE))","v":""},{"$f":"IF(ISBLANK(Rådata!B1169)=TRUE,\"\",(Rådata!C1169*100)/Rådata!B1169)","v":""},{"$f":"IF(ISBLANK(Rådata!D1169)=TRUE,\"\",((Rådata!D1169-Rådata!E1169)*100)/Rådata!D1169)","v":""},{"$f":"IF(ISBLANK(Rådata!G1169)=TRUE,\"\",(Rådata!F1169*100)/Rådata!G1169)","v":""},{"$f":"IF(ISBLANK(Rådata!K1169),\"\",(SUM(Rådata!M1169:P1169)*100)/SUM(Rådata!H1169:K1169))","v":""},{"$f":"IF(ISBLANK(Rådata!H1169),\"\",((SUM(Rådata!J1169:L1169)-SUM(Rådata!O1169:P1169))*100)/SUM(Rådata!H1169:L1169))","v":""},{"$f":"IF(ISBLANK(Rådata!R1169),\"\",(Rådata!Q1169*100)/Rådata!R1169)","v":""}]
[{"$f":"IF(ISBLANK(Rådata!A1170)=TRUE,\"\",Rådata!A1170)","v":""},{"$f":"IF(ISBLANK(Rådata!A1170)=TRUE,\"\",YEAR(A1170))","v":""},{"$f":"IF(ISBLANK(Rådata!A1170)=TRUE,\"\",VLOOKUP(MONTH(A1170),Opsætning!$G$3:$H$14,2,FALSE))","v":""},{"$f":"IF(ISBLANK(Rådata!B1170)=TRUE,\"\",(Rådata!C1170*100)/Rådata!B1170)","v":""},{"$f":"IF(ISBLANK(Rådata!D1170)=TRUE,\"\",((Rådata!D1170-Rådata!E1170)*100)/Rådata!D1170)","v":""},{"$f":"IF(ISBLANK(Rådata!G1170)=TRUE,\"\",(Rådata!F1170*100)/Rådata!G1170)","v":""},{"$f":"IF(ISBLANK(Rådata!K1170),\"\",(SUM(Rådata!M1170:P1170)*100)/SUM(Rådata!H1170:K1170))","v":""},{"$f":"IF(ISBLANK(Rådata!H1170),\"\",((SUM(Rådata!J1170:L1170)-SUM(Rådata!O1170:P1170))*100)/SUM(Rådata!H1170:L1170))","v":""},{"$f":"IF(ISBLANK(Rådata!R1170),\"\",(Rådata!Q1170*100)/Rådata!R1170)","v":""}]
[{"$f":"IF(ISBLANK(Rådata!A1171)=TRUE,\"\",Rådata!A1171)","v":""},{"$f":"IF(ISBLANK(Rådata!A1171)=TRUE,\"\",YEAR(A1171))","v":""},{"$f":"IF(ISBLANK(Rådata!A1171)=TRUE,\"\",VLOOKUP(MONTH(A1171),Opsætning!$G$3:$H$14,2,FALSE))","v":""},{"$f":"IF(ISBLANK(Rådata!B1171)=TRUE,\"\",(Rådata!C1171*100)/Rådata!B1171)","v":""},{"$f":"IF(ISBLANK(Rådata!D1171)=TRUE,\"\",((Rådata!D1171-Rådata!E1171)*100)/Rådata!D1171)","v":""},{"$f":"IF(ISBLANK(Rådata!G1171)=TRUE,\"\",(Rådata!F1171*100)/Rådata!G1171)","v":""},{"$f":"IF(ISBLANK(Rådata!K1171),\"\",(SUM(Rådata!M1171:P1171)*100)/SUM(Rådata!H1171:K1171))","v":""},{"$f":"IF(ISBLANK(Rådata!H1171),\"\",((SUM(Rådata!J1171:L1171)-SUM(Rådata!O1171:P1171))*100)/SUM(Rådata!H1171:L1171))","v":""},{"$f":"IF(ISBLANK(Rådata!R1171),\"\",(Rådata!Q1171*100)/Rådata!R1171)","v":""}]
[{"$f":"IF(ISBLANK(Rådata!A1172)=TRUE,\"\",Rådata!A1172)","v":""},{"$f":"IF(ISBLANK(Rådata!A1172)=TRUE,\"\",YEAR(A1172))","v":""},{"$f":"IF(ISBLANK(Rådata!A1172)=TRUE,\"\",VLOOKUP(MONTH(A1172),Opsætning!$G$3:$H$14,2,FALSE))","v":""},{"$f":"IF(ISBLANK(Rådata!B1172)=TRUE,\"\",(Rådata!C1172*100)/Rådata!B1172)","v":""},{"$f":"IF(ISBLANK(Rådata!D1172)=TRUE,\"\",((Rådata!D1172-Rådata!E1172)*100)/Rådata!D1172)","v":""},{"$f":"IF(ISBLANK(Rådata!G1172)=TRUE,\"\",(Rådata!F1172*100)/Rådata!G1172)","v":""},{"$f":"IF(ISBLANK(Rådata!K1172),\"\",(SUM(Rådata!M1172:P1172)*100)/SUM(Rådata!H1172:K1172))","v":""},{"$f":"IF(ISBLANK(Rådata!H1172),\"\",((SUM(Rådata!J1172:L1172)-SUM(Rådata!O1172:P1172))*100)/SUM(Rådata!H1172:L1172))","v":""},{"$f":"IF(ISBLANK(Rådata!R1172),\"\",(Rådata!Q1172*100)/Rådata!R1172)","v":""}]
[{"$f":"IF(ISBLANK(Rådata!A1173)=TRUE,\"\",Rådata!A1173)","v":""},{"$f":"IF(ISBLANK(Rådata!A1173)=TRUE,\"\",YEAR(A1173))","v":""},{"$f":"IF(ISBLANK(Rådata!A1173)=TRUE,\"\",VLOOKUP(MONTH(A1173),Opsætning!$G$3:$H$14,2,FALSE))","v":""},{"$f":"IF(ISBLANK(Rådata!B1173)=TRUE,\"\",(Rådata!C1173*100)/Rådata!B1173)","v":""},{"$f":"IF(ISBLANK(Rådata!D1173)=TRUE,\"\",((Rådata!D1173-Rådata!E1173)*100)/Rådata!D1173)","v":""},{"$f":"IF(ISBLANK(Rådata!G1173)=TRUE,\"\",(Rådata!F1173*100)/Rådata!G1173)","v":""},{"$f":"IF(ISBLANK(Rådata!K1173),\"\",(SUM(Rådata!M1173:P1173)*100)/SUM(Rådata!H1173:K1173))","v":""},{"$f":"IF(ISBLANK(Rådata!H1173),\"\",((SUM(Rådata!J1173:L1173)-SUM(Rådata!O1173:P1173))*100)/SUM(Rådata!H1173:L1173))","v":""},{"$f":"IF(ISBLANK(Rådata!R1173),\"\",(Rådata!Q1173*100)/Rådata!R1173)","v":""}]
[{"$f":"IF(ISBLANK(Rådata!A1174)=TRUE,\"\",Rådata!A1174)","v":""},{"$f":"IF(ISBLANK(Rådata!A1174)=TRUE,\"\",YEAR(A1174))","v":""},{"$f":"IF(ISBLANK(Rådata!A1174)=TRUE,\"\",VLOOKUP(MONTH(A1174),Opsætning!$G$3:$H$14,2,FALSE))","v":""},{"$f":"IF(ISBLANK(Rådata!B1174)=TRUE,\"\",(Rådata!C1174*100)/Rådata!B1174)","v":""},{"$f":"IF(ISBLANK(Rådata!D1174)=TRUE,\"\",((Rådata!D1174-Rådata!E1174)*100)/Rådata!D1174)","v":""},{"$f":"IF(ISBLANK(Rådata!G1174)=TRUE,\"\",(Rådata!F1174*100)/Rådata!G1174)","v":""},{"$f":"IF(ISBLANK(Rådata!K1174),\"\",(SUM(Rådata!M1174:P1174)*100)/SUM(Rådata!H1174:K1174))","v":""},{"$f":"IF(ISBLANK(Rådata!H1174),\"\",((SUM(Rådata!J1174:L1174)-SUM(Rådata!O1174:P1174))*100)/SUM(Rådata!H1174:L1174))","v":""},{"$f":"IF(ISBLANK(Rådata!R1174),\"\",(Rådata!Q1174*100)/Rådata!R1174)","v":""}]
[{"$f":"IF(ISBLANK(Rådata!A1175)=TRUE,\"\",Rådata!A1175)","v":""},{"$f":"IF(ISBLANK(Rådata!A1175)=TRUE,\"\",YEAR(A1175))","v":""},{"$f":"IF(ISBLANK(Rådata!A1175)=TRUE,\"\",VLOOKUP(MONTH(A1175),Opsætning!$G$3:$H$14,2,FALSE))","v":""},{"$f":"IF(ISBLANK(Rådata!B1175)=TRUE,\"\",(Rådata!C1175*100)/Rådata!B1175)","v":""},{"$f":"IF(ISBLANK(Rådata!D1175)=TRUE,\"\",((Rådata!D1175-Rådata!E1175)*100)/Rådata!D1175)","v":""},{"$f":"IF(ISBLANK(Rådata!G1175)=TRUE,\"\",(Rådata!F1175*100)/Rådata!G1175)","v":""},{"$f":"IF(ISBLANK(Rådata!K1175),\"\",(SUM(Rådata!M1175:P1175)*100)/SUM(Rådata!H1175:K1175))","v":""},{"$f":"IF(ISBLANK(Rådata!H1175),\"\",((SUM(Rådata!J1175:L1175)-SUM(Rådata!O1175:P1175))*100)/SUM(Rådata!H1175:L1175))","v":""},{"$f":"IF(ISBLANK(Rådata!R1175),\"\",(Rådata!Q1175*100)/Rådata!R1175)","v":""}]
[{"$f":"IF(ISBLANK(Rådata!A1176)=TRUE,\"\",Rådata!A1176)","v":""},{"$f":"IF(ISBLANK(Rådata!A1176)=TRUE,\"\",YEAR(A1176))","v":""},{"$f":"IF(ISBLANK(Rådata!A1176)=TRUE,\"\",VLOOKUP(MONTH(A1176),Opsætning!$G$3:$H$14,2,FALSE))","v":""},{"$f":"IF(ISBLANK(Rådata!B1176)=TRUE,\"\",(Rådata!C1176*100)/Rådata!B1176)","v":""},{"$f":"IF(ISBLANK(Rådata!D1176)=TRUE,\"\",((Rådata!D1176-Rådata!E1176)*100)/Rådata!D1176)","v":""},{"$f":"IF(ISBLANK(Rådata!G1176)=TRUE,\"\",(Rådata!F1176*100)/Rådata!G1176)","v":""},{"$f":"IF(ISBLANK(Rådata!K1176),\"\",(SUM(Rådata!M1176:P1176)*100)/SUM(Rådata!H1176:K1176))","v":""},{"$f":"IF(ISBLANK(Rådata!H1176),\"\",((SUM(Rådata!J1176:L1176)-SUM(Rådata!O1176:P1176))*100)/SUM(Rådata!H1176:L1176))","v":""},{"$f":"IF(ISBLANK(Rådata!R1176),\"\",(Rådata!Q1176*100)/Rådata!R1176)","v":""}]
[{"$f":"IF(ISBLANK(Rådata!A1177)=TRUE,\"\",Rådata!A1177)","v":""},{"$f":"IF(ISBLANK(Rådata!A1177)=TRUE,\"\",YEAR(A1177))","v":""},{"$f":"IF(ISBLANK(Rådata!A1177)=TRUE,\"\",VLOOKUP(MONTH(A1177),Opsætning!$G$3:$H$14,2,FALSE))","v":""},{"$f":"IF(ISBLANK(Rådata!B1177)=TRUE,\"\",(Rådata!C1177*100)/Rådata!B1177)","v":""},{"$f":"IF(ISBLANK(Rådata!D1177)=TRUE,\"\",((Rådata!D1177-Rådata!E1177)*100)/Rådata!D1177)","v":""},{"$f":"IF(ISBLANK(Rådata!G1177)=TRUE,\"\",(Rådata!F1177*100)/Rådata!G1177)","v":""},{"$f":"IF(ISBLANK(Rådata!K1177),\"\",(SUM(Rådata!M1177:P1177)*100)/SUM(Rådata!H1177:K1177))","v":""},{"$f":"IF(ISBLANK(Rådata!H1177),\"\",((SUM(Rådata!J1177:L1177)-SUM(Rådata!O1177:P1177))*100)/SUM(Rådata!H1177:L1177))","v":""},{"$f":"IF(ISBLANK(Rådata!R1177),\"\",(Rådata!Q1177*100)/Rådata!R1177)","v":""}]
[{"$f":"IF(ISBLANK(Rådata!A1178)=TRUE,\"\",Rådata!A1178)","v":""},{"$f":"IF(ISBLANK(Rådata!A1178)=TRUE,\"\",YEAR(A1178))","v":""},{"$f":"IF(ISBLANK(Rådata!A1178)=TRUE,\"\",VLOOKUP(MONTH(A1178),Opsætning!$G$3:$H$14,2,FALSE))","v":""},{"$f":"IF(ISBLANK(Rådata!B1178)=TRUE,\"\",(Rådata!C1178*100)/Rådata!B1178)","v":""},{"$f":"IF(ISBLANK(Rådata!D1178)=TRUE,\"\",((Rådata!D1178-Rådata!E1178)*100)/Rådata!D1178)","v":""},{"$f":"IF(ISBLANK(Rådata!G1178)=TRUE,\"\",(Rådata!F1178*100)/Rådata!G1178)","v":""},{"$f":"IF(ISBLANK(Rådata!K1178),\"\",(SUM(Rådata!M1178:P1178)*100)/SUM(Rådata!H1178:K1178))","v":""},{"$f":"IF(ISBLANK(Rådata!H1178),\"\",((SUM(Rådata!J1178:L1178)-SUM(Rådata!O1178:P1178))*100)/SUM(Rådata!H1178:L1178))","v":""},{"$f":"IF(ISBLANK(Rådata!R1178),\"\",(Rådata!Q1178*100)/Rådata!R1178)","v":""}]
[{"$f":"IF(ISBLANK(Rådata!A1179)=TRUE,\"\",Rådata!A1179)","v":""},{"$f":"IF(ISBLANK(Rådata!A1179)=TRUE,\"\",YEAR(A1179))","v":""},{"$f":"IF(ISBLANK(Rådata!A1179)=TRUE,\"\",VLOOKUP(MONTH(A1179),Opsætning!$G$3:$H$14,2,FALSE))","v":""},{"$f":"IF(ISBLANK(Rådata!B1179)=TRUE,\"\",(Rådata!C1179*100)/Rådata!B1179)","v":""},{"$f":"IF(ISBLANK(Rådata!D1179)=TRUE,\"\",((Rådata!D1179-Rådata!E1179)*100)/Rådata!D1179)","v":""},{"$f":"IF(ISBLANK(Rådata!G1179)=TRUE,\"\",(Rådata!F1179*100)/Rådata!G1179)","v":""},{"$f":"IF(ISBLANK(Rådata!K1179),\"\",(SUM(Rådata!M1179:P1179)*100)/SUM(Rådata!H1179:K1179))","v":""},{"$f":"IF(ISBLANK(Rådata!H1179),\"\",((SUM(Rådata!J1179:L1179)-SUM(Rådata!O1179:P1179))*100)/SUM(Rådata!H1179:L1179))","v":""},{"$f":"IF(ISBLANK(Rådata!R1179),\"\",(Rådata!Q1179*100)/Rådata!R1179)","v":""}]
[{"$f":"IF(ISBLANK(Rådata!A1180)=TRUE,\"\",Rådata!A1180)","v":""},{"$f":"IF(ISBLANK(Rådata!A1180)=TRUE,\"\",YEAR(A1180))","v":""},{"$f":"IF(ISBLANK(Rådata!A1180)=TRUE,\"\",VLOOKUP(MONTH(A1180),Opsætning!$G$3:$H$14,2,FALSE))","v":""},{"$f":"IF(ISBLANK(Rådata!B1180)=TRUE,\"\",(Rådata!C1180*100)/Rådata!B1180)","v":""},{"$f":"IF(ISBLANK(Rådata!D1180)=TRUE,\"\",((Rådata!D1180-Rådata!E1180)*100)/Rådata!D1180)","v":""},{"$f":"IF(ISBLANK(Rådata!G1180)=TRUE,\"\",(Rådata!F1180*100)/Rådata!G1180)","v":""},{"$f":"IF(ISBLANK(Rådata!K1180),\"\",(SUM(Rådata!M1180:P1180)*100)/SUM(Rådata!H1180:K1180))","v":""},{"$f":"IF(ISBLANK(Rådata!H1180),\"\",((SUM(Rådata!J1180:L1180)-SUM(Rådata!O1180:P1180))*100)/SUM(Rådata!H1180:L1180))","v":""},{"$f":"IF(ISBLANK(Rådata!R1180),\"\",(Rådata!Q1180*100)/Rådata!R1180)","v":""}]
[{"$f":"IF(ISBLANK(Rådata!A1181)=TRUE,\"\",Rådata!A1181)","v":""},{"$f":"IF(ISBLANK(Rådata!A1181)=TRUE,\"\",YEAR(A1181))","v":""},{"$f":"IF(ISBLANK(Rådata!A1181)=TRUE,\"\",VLOOKUP(MONTH(A1181),Opsætning!$G$3:$H$14,2,FALSE))","v":""},{"$f":"IF(ISBLANK(Rådata!B1181)=TRUE,\"\",(Rådata!C1181*100)/Rådata!B1181)","v":""},{"$f":"IF(ISBLANK(Rådata!D1181)=TRUE,\"\",((Rådata!D1181-Rådata!E1181)*100)/Rådata!D1181)","v":""},{"$f":"IF(ISBLANK(Rådata!G1181)=TRUE,\"\",(Rådata!F1181*100)/Rådata!G1181)","v":""},{"$f":"IF(ISBLANK(Rådata!K1181),\"\",(SUM(Rådata!M1181:P1181)*100)/SUM(Rådata!H1181:K1181))","v":""},{"$f":"IF(ISBLANK(Rådata!H1181),\"\",((SUM(Rådata!J1181:L1181)-SUM(Rådata!O1181:P1181))*100)/SUM(Rådata!H1181:L1181))","v":""},{"$f":"IF(ISBLANK(Rådata!R1181),\"\",(Rådata!Q1181*100)/Rådata!R1181)","v":""}]
[{"$f":"IF(ISBLANK(Rådata!A1182)=TRUE,\"\",Rådata!A1182)","v":""},{"$f":"IF(ISBLANK(Rådata!A1182)=TRUE,\"\",YEAR(A1182))","v":""},{"$f":"IF(ISBLANK(Rådata!A1182)=TRUE,\"\",VLOOKUP(MONTH(A1182),Opsætning!$G$3:$H$14,2,FALSE))","v":""},{"$f":"IF(ISBLANK(Rådata!B1182)=TRUE,\"\",(Rådata!C1182*100)/Rådata!B1182)","v":""},{"$f":"IF(ISBLANK(Rådata!D1182)=TRUE,\"\",((Rådata!D1182-Rådata!E1182)*100)/Rådata!D1182)","v":""},{"$f":"IF(ISBLANK(Rådata!G1182)=TRUE,\"\",(Rådata!F1182*100)/Rådata!G1182)","v":""},{"$f":"IF(ISBLANK(Rådata!K1182),\"\",(SUM(Rådata!M1182:P1182)*100)/SUM(Rådata!H1182:K1182))","v":""},{"$f":"IF(ISBLANK(Rådata!H1182),\"\",((SUM(Rådata!J1182:L1182)-SUM(Rådata!O1182:P1182))*100)/SUM(Rådata!H1182:L1182))","v":""},{"$f":"IF(ISBLANK(Rådata!R1182),\"\",(Rådata!Q1182*100)/Rådata!R1182)","v":""}]
[{"$f":"IF(ISBLANK(Rådata!A1183)=TRUE,\"\",Rådata!A1183)","v":""},{"$f":"IF(ISBLANK(Rådata!A1183)=TRUE,\"\",YEAR(A1183))","v":""},{"$f":"IF(ISBLANK(Rådata!A1183)=TRUE,\"\",VLOOKUP(MONTH(A1183),Opsætning!$G$3:$H$14,2,FALSE))","v":""},{"$f":"IF(ISBLANK(Rådata!B1183)=TRUE,\"\",(Rådata!C1183*100)/Rådata!B1183)","v":""},{"$f":"IF(ISBLANK(Rådata!D1183)=TRUE,\"\",((Rådata!D1183-Rådata!E1183)*100)/Rådata!D1183)","v":""},{"$f":"IF(ISBLANK(Rådata!G1183)=TRUE,\"\",(Rådata!F1183*100)/Rådata!G1183)","v":""},{"$f":"IF(ISBLANK(Rådata!K1183),\"\",(SUM(Rådata!M1183:P1183)*100)/SUM(Rådata!H1183:K1183))","v":""},{"$f":"IF(ISBLANK(Rådata!H1183),\"\",((SUM(Rådata!J1183:L1183)-SUM(Rådata!O1183:P1183))*100)/SUM(Rådata!H1183:L1183))","v":""},{"$f":"IF(ISBLANK(Rådata!R1183),\"\",(Rådata!Q1183*100)/Rådata!R1183)","v":""}]
[{"$f":"IF(ISBLANK(Rådata!A1184)=TRUE,\"\",Rådata!A1184)","v":""},{"$f":"IF(ISBLANK(Rådata!A1184)=TRUE,\"\",YEAR(A1184))","v":""},{"$f":"IF(ISBLANK(Rådata!A1184)=TRUE,\"\",VLOOKUP(MONTH(A1184),Opsætning!$G$3:$H$14,2,FALSE))","v":""},{"$f":"IF(ISBLANK(Rådata!B1184)=TRUE,\"\",(Rådata!C1184*100)/Rådata!B1184)","v":""},{"$f":"IF(ISBLANK(Rådata!D1184)=TRUE,\"\",((Rådata!D1184-Rådata!E1184)*100)/Rådata!D1184)","v":""},{"$f":"IF(ISBLANK(Rådata!G1184)=TRUE,\"\",(Rådata!F1184*100)/Rådata!G1184)","v":""},{"$f":"IF(ISBLANK(Rådata!K1184),\"\",(SUM(Rådata!M1184:P1184)*100)/SUM(Rådata!H1184:K1184))","v":""},{"$f":"IF(ISBLANK(Rådata!H1184),\"\",((SUM(Rådata!J1184:L1184)-SUM(Rådata!O1184:P1184))*100)/SUM(Rådata!H1184:L1184))","v":""},{"$f":"IF(ISBLANK(Rådata!R1184),\"\",(Rådata!Q1184*100)/Rådata!R1184)","v":""}]
[{"$f":"IF(ISBLANK(Rådata!A1185)=TRUE,\"\",Rådata!A1185)","v":""},{"$f":"IF(ISBLANK(Rådata!A1185)=TRUE,\"\",YEAR(A1185))","v":""},{"$f":"IF(ISBLANK(Rådata!A1185)=TRUE,\"\",VLOOKUP(MONTH(A1185),Opsætning!$G$3:$H$14,2,FALSE))","v":""},{"$f":"IF(ISBLANK(Rådata!B1185)=TRUE,\"\",(Rådata!C1185*100)/Rådata!B1185)","v":""},{"$f":"IF(ISBLANK(Rådata!D1185)=TRUE,\"\",((Rådata!D1185-Rådata!E1185)*100)/Rådata!D1185)","v":""},{"$f":"IF(ISBLANK(Rådata!G1185)=TRUE,\"\",(Rådata!F1185*100)/Rådata!G1185)","v":""},{"$f":"IF(ISBLANK(Rådata!K1185),\"\",(SUM(Rådata!M1185:P1185)*100)/SUM(Rådata!H1185:K1185))","v":""},{"$f":"IF(ISBLANK(Rådata!H1185),\"\",((SUM(Rådata!J1185:L1185)-SUM(Rådata!O1185:P1185))*100)/SUM(Rådata!H1185:L1185))","v":""},{"$f":"IF(ISBLANK(Rådata!R1185),\"\",(Rådata!Q1185*100)/Rådata!R1185)","v":""}]
[{"$f":"IF(ISBLANK(Rådata!A1186)=TRUE,\"\",Rådata!A1186)","v":""},{"$f":"IF(ISBLANK(Rådata!A1186)=TRUE,\"\",YEAR(A1186))","v":""},{"$f":"IF(ISBLANK(Rådata!A1186)=TRUE,\"\",VLOOKUP(MONTH(A1186),Opsætning!$G$3:$H$14,2,FALSE))","v":""},{"$f":"IF(ISBLANK(Rådata!B1186)=TRUE,\"\",(Rådata!C1186*100)/Rådata!B1186)","v":""},{"$f":"IF(ISBLANK(Rådata!D1186)=TRUE,\"\",((Rådata!D1186-Rådata!E1186)*100)/Rådata!D1186)","v":""},{"$f":"IF(ISBLANK(Rådata!G1186)=TRUE,\"\",(Rådata!F1186*100)/Rådata!G1186)","v":""},{"$f":"IF(ISBLANK(Rådata!K1186),\"\",(SUM(Rådata!M1186:P1186)*100)/SUM(Rådata!H1186:K1186))","v":""},{"$f":"IF(ISBLANK(Rådata!H1186),\"\",((SUM(Rådata!J1186:L1186)-SUM(Rådata!O1186:P1186))*100)/SUM(Rådata!H1186:L1186))","v":""},{"$f":"IF(ISBLANK(Rådata!R1186),\"\",(Rådata!Q1186*100)/Rådata!R1186)","v":""}]
[{"$f":"IF(ISBLANK(Rådata!A1187)=TRUE,\"\",Rådata!A1187)","v":""},{"$f":"IF(ISBLANK(Rådata!A1187)=TRUE,\"\",YEAR(A1187))","v":""},{"$f":"IF(ISBLANK(Rådata!A1187)=TRUE,\"\",VLOOKUP(MONTH(A1187),Opsætning!$G$3:$H$14,2,FALSE))","v":""},{"$f":"IF(ISBLANK(Rådata!B1187)=TRUE,\"\",(Rådata!C1187*100)/Rådata!B1187)","v":""},{"$f":"IF(ISBLANK(Rådata!D1187)=TRUE,\"\",((Rådata!D1187-Rådata!E1187)*100)/Rådata!D1187)","v":""},{"$f":"IF(ISBLANK(Rådata!G1187)=TRUE,\"\",(Rådata!F1187*100)/Rådata!G1187)","v":""},{"$f":"IF(ISBLANK(Rådata!K1187),\"\",(SUM(Rådata!M1187:P1187)*100)/SUM(Rådata!H1187:K1187))","v":""},{"$f":"IF(ISBLANK(Rådata!H1187),\"\",((SUM(Rådata!J1187:L1187)-SUM(Rådata!O1187:P1187))*100)/SUM(Rådata!H1187:L1187))","v":""},{"$f":"IF(ISBLANK(Rådata!R1187),\"\",(Rådata!Q1187*100)/Rådata!R1187)","v":""}]
[{"$f":"IF(ISBLANK(Rådata!A1188)=TRUE,\"\",Rådata!A1188)","v":""},{"$f":"IF(ISBLANK(Rådata!A1188)=TRUE,\"\",YEAR(A1188))","v":""},{"$f":"IF(ISBLANK(Rådata!A1188)=TRUE,\"\",VLOOKUP(MONTH(A1188),Opsætning!$G$3:$H$14,2,FALSE))","v":""},{"$f":"IF(ISBLANK(Rådata!B1188)=TRUE,\"\",(Rådata!C1188*100)/Rådata!B1188)","v":""},{"$f":"IF(ISBLANK(Rådata!D1188)=TRUE,\"\",((Rådata!D1188-Rådata!E1188)*100)/Rådata!D1188)","v":""},{"$f":"IF(ISBLANK(Rådata!G1188)=TRUE,\"\",(Rådata!F1188*100)/Rådata!G1188)","v":""},{"$f":"IF(ISBLANK(Rådata!K1188),\"\",(SUM(Rådata!M1188:P1188)*100)/SUM(Rådata!H1188:K1188))","v":""},{"$f":"IF(ISBLANK(Rådata!H1188),\"\",((SUM(Rådata!J1188:L1188)-SUM(Rådata!O1188:P1188))*100)/SUM(Rådata!H1188:L1188))","v":""},{"$f":"IF(ISBLANK(Rådata!R1188),\"\",(Rådata!Q1188*100)/Rådata!R1188)","v":""}]
[{"$f":"IF(ISBLANK(Rådata!A1189)=TRUE,\"\",Rådata!A1189)","v":""},{"$f":"IF(ISBLANK(Rådata!A1189)=TRUE,\"\",YEAR(A1189))","v":""},{"$f":"IF(ISBLANK(Rådata!A1189)=TRUE,\"\",VLOOKUP(MONTH(A1189),Opsætning!$G$3:$H$14,2,FALSE))","v":""},{"$f":"IF(ISBLANK(Rådata!B1189)=TRUE,\"\",(Rådata!C1189*100)/Rådata!B1189)","v":""},{"$f":"IF(ISBLANK(Rådata!D1189)=TRUE,\"\",((Rådata!D1189-Rådata!E1189)*100)/Rådata!D1189)","v":""},{"$f":"IF(ISBLANK(Rådata!G1189)=TRUE,\"\",(Rådata!F1189*100)/Rådata!G1189)","v":""},{"$f":"IF(ISBLANK(Rådata!K1189),\"\",(SUM(Rådata!M1189:P1189)*100)/SUM(Rådata!H1189:K1189))","v":""},{"$f":"IF(ISBLANK(Rådata!H1189),\"\",((SUM(Rådata!J1189:L1189)-SUM(Rådata!O1189:P1189))*100)/SUM(Rådata!H1189:L1189))","v":""},{"$f":"IF(ISBLANK(Rådata!R1189),\"\",(Rådata!Q1189*100)/Rådata!R1189)","v":""}]
[{"$f":"IF(ISBLANK(Rådata!A1190)=TRUE,\"\",Rådata!A1190)","v":""},{"$f":"IF(ISBLANK(Rådata!A1190)=TRUE,\"\",YEAR(A1190))","v":""},{"$f":"IF(ISBLANK(Rådata!A1190)=TRUE,\"\",VLOOKUP(MONTH(A1190),Opsætning!$G$3:$H$14,2,FALSE))","v":""},{"$f":"IF(ISBLANK(Rådata!B1190)=TRUE,\"\",(Rådata!C1190*100)/Rådata!B1190)","v":""},{"$f":"IF(ISBLANK(Rådata!D1190)=TRUE,\"\",((Rådata!D1190-Rådata!E1190)*100)/Rådata!D1190)","v":""},{"$f":"IF(ISBLANK(Rådata!G1190)=TRUE,\"\",(Rådata!F1190*100)/Rådata!G1190)","v":""},{"$f":"IF(ISBLANK(Rådata!K1190),\"\",(SUM(Rådata!M1190:P1190)*100)/SUM(Rådata!H1190:K1190))","v":""},{"$f":"IF(ISBLANK(Rådata!H1190),\"\",((SUM(Rådata!J1190:L1190)-SUM(Rådata!O1190:P1190))*100)/SUM(Rådata!H1190:L1190))","v":""},{"$f":"IF(ISBLANK(Rådata!R1190),\"\",(Rådata!Q1190*100)/Rådata!R1190)","v":""}]
[{"$f":"IF(ISBLANK(Rådata!A1191)=TRUE,\"\",Rådata!A1191)","v":""},{"$f":"IF(ISBLANK(Rådata!A1191)=TRUE,\"\",YEAR(A1191))","v":""},{"$f":"IF(ISBLANK(Rådata!A1191)=TRUE,\"\",VLOOKUP(MONTH(A1191),Opsætning!$G$3:$H$14,2,FALSE))","v":""},{"$f":"IF(ISBLANK(Rådata!B1191)=TRUE,\"\",(Rådata!C1191*100)/Rådata!B1191)","v":""},{"$f":"IF(ISBLANK(Rådata!D1191)=TRUE,\"\",((Rådata!D1191-Rådata!E1191)*100)/Rådata!D1191)","v":""},{"$f":"IF(ISBLANK(Rådata!G1191)=TRUE,\"\",(Rådata!F1191*100)/Rådata!G1191)","v":""},{"$f":"IF(ISBLANK(Rådata!K1191),\"\",(SUM(Rådata!M1191:P1191)*100)/SUM(Rådata!H1191:K1191))","v":""},{"$f":"IF(ISBLANK(Rådata!H1191),\"\",((SUM(Rådata!J1191:L1191)-SUM(Rådata!O1191:P1191))*100)/SUM(Rådata!H1191:L1191))","v":""},{"$f":"IF(ISBLANK(Rådata!R1191),\"\",(Rådata!Q1191*100)/Rådata!R1191)","v":""}]
[{"$f":"IF(ISBLANK(Rådata!A1192)=TRUE,\"\",Rådata!A1192)","v":""},{"$f":"IF(ISBLANK(Rådata!A1192)=TRUE,\"\",YEAR(A1192))","v":""},{"$f":"IF(ISBLANK(Rådata!A1192)=TRUE,\"\",VLOOKUP(MONTH(A1192),Opsætning!$G$3:$H$14,2,FALSE))","v":""},{"$f":"IF(ISBLANK(Rådata!B1192)=TRUE,\"\",(Rådata!C1192*100)/Rådata!B1192)","v":""},{"$f":"IF(ISBLANK(Rådata!D1192)=TRUE,\"\",((Rådata!D1192-Rådata!E1192)*100)/Rådata!D1192)","v":""},{"$f":"IF(ISBLANK(Rådata!G1192)=TRUE,\"\",(Rådata!F1192*100)/Rådata!G1192)","v":""},{"$f":"IF(ISBLANK(Rådata!K1192),\"\",(SUM(Rådata!M1192:P1192)*100)/SUM(Rådata!H1192:K1192))","v":""},{"$f":"IF(ISBLANK(Rådata!H1192),\"\",((SUM(Rådata!J1192:L1192)-SUM(Rådata!O1192:P1192))*100)/SUM(Rådata!H1192:L1192))","v":""},{"$f":"IF(ISBLANK(Rådata!R1192),\"\",(Rådata!Q1192*100)/Rådata!R1192)","v":""}]
[{"$f":"IF(ISBLANK(Rådata!A1193)=TRUE,\"\",Rådata!A1193)","v":""},{"$f":"IF(ISBLANK(Rådata!A1193)=TRUE,\"\",YEAR(A1193))","v":""},{"$f":"IF(ISBLANK(Rådata!A1193)=TRUE,\"\",VLOOKUP(MONTH(A1193),Opsætning!$G$3:$H$14,2,FALSE))","v":""},{"$f":"IF(ISBLANK(Rådata!B1193)=TRUE,\"\",(Rådata!C1193*100)/Rådata!B1193)","v":""},{"$f":"IF(ISBLANK(Rådata!D1193)=TRUE,\"\",((Rådata!D1193-Rådata!E1193)*100)/Rådata!D1193)","v":""},{"$f":"IF(ISBLANK(Rådata!G1193)=TRUE,\"\",(Rådata!F1193*100)/Rådata!G1193)","v":""},{"$f":"IF(ISBLANK(Rådata!K1193),\"\",(SUM(Rådata!M1193:P1193)*100)/SUM(Rådata!H1193:K1193))","v":""},{"$f":"IF(ISBLANK(Rådata!H1193),\"\",((SUM(Rådata!J1193:L1193)-SUM(Rådata!O1193:P1193))*100)/SUM(Rådata!H1193:L1193))","v":""},{"$f":"IF(ISBLANK(Rådata!R1193),\"\",(Rådata!Q1193*100)/Rådata!R1193)","v":""}]
[{"$f":"IF(ISBLANK(Rådata!A1194)=TRUE,\"\",Rådata!A1194)","v":""},{"$f":"IF(ISBLANK(Rådata!A1194)=TRUE,\"\",YEAR(A1194))","v":""},{"$f":"IF(ISBLANK(Rådata!A1194)=TRUE,\"\",VLOOKUP(MONTH(A1194),Opsætning!$G$3:$H$14,2,FALSE))","v":""},{"$f":"IF(ISBLANK(Rådata!B1194)=TRUE,\"\",(Rådata!C1194*100)/Rådata!B1194)","v":""},{"$f":"IF(ISBLANK(Rådata!D1194)=TRUE,\"\",((Rådata!D1194-Rådata!E1194)*100)/Rådata!D1194)","v":""},{"$f":"IF(ISBLANK(Rådata!G1194)=TRUE,\"\",(Rådata!F1194*100)/Rådata!G1194)","v":""},{"$f":"IF(ISBLANK(Rådata!K1194),\"\",(SUM(Rådata!M1194:P1194)*100)/SUM(Rådata!H1194:K1194))","v":""},{"$f":"IF(ISBLANK(Rådata!H1194),\"\",((SUM(Rådata!J1194:L1194)-SUM(Rådata!O1194:P1194))*100)/SUM(Rådata!H1194:L1194))","v":""},{"$f":"IF(ISBLANK(Rådata!R1194),\"\",(Rådata!Q1194*100)/Rådata!R1194)","v":""}]
[{"$f":"IF(ISBLANK(Rådata!A1195)=TRUE,\"\",Rådata!A1195)","v":""},{"$f":"IF(ISBLANK(Rådata!A1195)=TRUE,\"\",YEAR(A1195))","v":""},{"$f":"IF(ISBLANK(Rådata!A1195)=TRUE,\"\",VLOOKUP(MONTH(A1195),Opsætning!$G$3:$H$14,2,FALSE))","v":""},{"$f":"IF(ISBLANK(Rådata!B1195)=TRUE,\"\",(Rådata!C1195*100)/Rådata!B1195)","v":""},{"$f":"IF(ISBLANK(Rådata!D1195)=TRUE,\"\",((Rådata!D1195-Rådata!E1195)*100)/Rådata!D1195)","v":""},{"$f":"IF(ISBLANK(Rådata!G1195)=TRUE,\"\",(Rådata!F1195*100)/Rådata!G1195)","v":""},{"$f":"IF(ISBLANK(Rådata!K1195),\"\",(SUM(Rådata!M1195:P1195)*100)/SUM(Rådata!H1195:K1195))","v":""},{"$f":"IF(ISBLANK(Rådata!H1195),\"\",((SUM(Rådata!J1195:L1195)-SUM(Rådata!O1195:P1195))*100)/SUM(Rådata!H1195:L1195))","v":""},{"$f":"IF(ISBLANK(Rådata!R1195),\"\",(Rådata!Q1195*100)/Rådata!R1195)","v":""}]
[{"$f":"IF(ISBLANK(Rådata!A1196)=TRUE,\"\",Rådata!A1196)","v":""},{"$f":"IF(ISBLANK(Rådata!A1196)=TRUE,\"\",YEAR(A1196))","v":""},{"$f":"IF(ISBLANK(Rådata!A1196)=TRUE,\"\",VLOOKUP(MONTH(A1196),Opsætning!$G$3:$H$14,2,FALSE))","v":""},{"$f":"IF(ISBLANK(Rådata!B1196)=TRUE,\"\",(Rådata!C1196*100)/Rådata!B1196)","v":""},{"$f":"IF(ISBLANK(Rådata!D1196)=TRUE,\"\",((Rådata!D1196-Rådata!E1196)*100)/Rådata!D1196)","v":""},{"$f":"IF(ISBLANK(Rådata!G1196)=TRUE,\"\",(Rådata!F1196*100)/Rådata!G1196)","v":""},{"$f":"IF(ISBLANK(Rådata!K1196),\"\",(SUM(Rådata!M1196:P1196)*100)/SUM(Rådata!H1196:K1196))","v":""},{"$f":"IF(ISBLANK(Rådata!H1196),\"\",((SUM(Rådata!J1196:L1196)-SUM(Rådata!O1196:P1196))*100)/SUM(Rådata!H1196:L1196))","v":""},{"$f":"IF(ISBLANK(Rådata!R1196),\"\",(Rådata!Q1196*100)/Rådata!R1196)","v":""}]
[{"$f":"IF(ISBLANK(Rådata!A1197)=TRUE,\"\",Rådata!A1197)","v":""},{"$f":"IF(ISBLANK(Rådata!A1197)=TRUE,\"\",YEAR(A1197))","v":""},{"$f":"IF(ISBLANK(Rådata!A1197)=TRUE,\"\",VLOOKUP(MONTH(A1197),Opsætning!$G$3:$H$14,2,FALSE))","v":""},{"$f":"IF(ISBLANK(Rådata!B1197)=TRUE,\"\",(Rådata!C1197*100)/Rådata!B1197)","v":""},{"$f":"IF(ISBLANK(Rådata!D1197)=TRUE,\"\",((Rådata!D1197-Rådata!E1197)*100)/Rådata!D1197)","v":""},{"$f":"IF(ISBLANK(Rådata!G1197)=TRUE,\"\",(Rådata!F1197*100)/Rådata!G1197)","v":""},{"$f":"IF(ISBLANK(Rådata!K1197),\"\",(SUM(Rådata!M1197:P1197)*100)/SUM(Rådata!H1197:K1197))","v":""},{"$f":"IF(ISBLANK(Rådata!H1197),\"\",((SUM(Rådata!J1197:L1197)-SUM(Rådata!O1197:P1197))*100)/SUM(Rådata!H1197:L1197))","v":""},{"$f":"IF(ISBLANK(Rådata!R1197),\"\",(Rådata!Q1197*100)/Rådata!R1197)","v":""}]
[{"$f":"IF(ISBLANK(Rådata!A1198)=TRUE,\"\",Rådata!A1198)","v":""},{"$f":"IF(ISBLANK(Rådata!A1198)=TRUE,\"\",YEAR(A1198))","v":""},{"$f":"IF(ISBLANK(Rådata!A1198)=TRUE,\"\",VLOOKUP(MONTH(A1198),Opsætning!$G$3:$H$14,2,FALSE))","v":""},{"$f":"IF(ISBLANK(Rådata!B1198)=TRUE,\"\",(Rådata!C1198*100)/Rådata!B1198)","v":""},{"$f":"IF(ISBLANK(Rådata!D1198)=TRUE,\"\",((Rådata!D1198-Rådata!E1198)*100)/Rådata!D1198)","v":""},{"$f":"IF(ISBLANK(Rådata!G1198)=TRUE,\"\",(Rådata!F1198*100)/Rådata!G1198)","v":""},{"$f":"IF(ISBLANK(Rådata!K1198),\"\",(SUM(Rådata!M1198:P1198)*100)/SUM(Rådata!H1198:K1198))","v":""},{"$f":"IF(ISBLANK(Rådata!H1198),\"\",((SUM(Rådata!J1198:L1198)-SUM(Rådata!O1198:P1198))*100)/SUM(Rådata!H1198:L1198))","v":""},{"$f":"IF(ISBLANK(Rådata!R1198),\"\",(Rådata!Q1198*100)/Rådata!R1198)","v":""}]
[{"$f":"IF(ISBLANK(Rådata!A1199)=TRUE,\"\",Rådata!A1199)","v":""},{"$f":"IF(ISBLANK(Rådata!A1199)=TRUE,\"\",YEAR(A1199))","v":""},{"$f":"IF(ISBLANK(Rådata!A1199)=TRUE,\"\",VLOOKUP(MONTH(A1199),Opsætning!$G$3:$H$14,2,FALSE))","v":""},{"$f":"IF(ISBLANK(Rådata!B1199)=TRUE,\"\",(Rådata!C1199*100)/Rådata!B1199)","v":""},{"$f":"IF(ISBLANK(Rådata!D1199)=TRUE,\"\",((Rådata!D1199-Rådata!E1199)*100)/Rådata!D1199)","v":""},{"$f":"IF(ISBLANK(Rådata!G1199)=TRUE,\"\",(Rådata!F1199*100)/Rådata!G1199)","v":""},{"$f":"IF(ISBLANK(Rådata!K1199),\"\",(SUM(Rådata!M1199:P1199)*100)/SUM(Rådata!H1199:K1199))","v":""},{"$f":"IF(ISBLANK(Rådata!H1199),\"\",((SUM(Rådata!J1199:L1199)-SUM(Rådata!O1199:P1199))*100)/SUM(Rådata!H1199:L1199))","v":""},{"$f":"IF(ISBLANK(Rådata!R1199),\"\",(Rådata!Q1199*100)/Rådata!R1199)","v":""}]
[{"$f":"IF(ISBLANK(Rådata!A1200)=TRUE,\"\",Rådata!A1200)","v":""},{"$f":"IF(ISBLANK(Rådata!A1200)=TRUE,\"\",YEAR(A1200))","v":""},{"$f":"IF(ISBLANK(Rådata!A1200)=TRUE,\"\",VLOOKUP(MONTH(A1200),Opsætning!$G$3:$H$14,2,FALSE))","v":""},{"$f":"IF(ISBLANK(Rådata!B1200)=TRUE,\"\",(Rådata!C1200*100)/Rådata!B1200)","v":""},{"$f":"IF(ISBLANK(Rådata!D1200)=TRUE,\"\",((Rådata!D1200-Rådata!E1200)*100)/Rådata!D1200)","v":""},{"$f":"IF(ISBLANK(Rådata!G1200)=TRUE,\"\",(Rådata!F1200*100)/Rådata!G1200)","v":""},{"$f":"IF(ISBLANK(Rådata!K1200),\"\",(SUM(Rådata!M1200:P1200)*100)/SUM(Rådata!H1200:K1200))","v":""},{"$f":"IF(ISBLANK(Rådata!H1200),\"\",((SUM(Rådata!J1200:L1200)-SUM(Rådata!O1200:P1200))*100)/SUM(Rådata!H1200:L1200))","v":""},{"$f":"IF(ISBLANK(Rådata!R1200),\"\",(Rådata!Q1200*100)/Rådata!R1200)","v":""}]
[{"$f":"IF(ISBLANK(Rådata!A1201)=TRUE,\"\",Rådata!A1201)","v":""},{"$f":"IF(ISBLANK(Rådata!A1201)=TRUE,\"\",YEAR(A1201))","v":""},{"$f":"IF(ISBLANK(Rådata!A1201)=TRUE,\"\",VLOOKUP(MONTH(A1201),Opsætning!$G$3:$H$14,2,FALSE))","v":""},{"$f":"IF(ISBLANK(Rådata!B1201)=TRUE,\"\",(Rådata!C1201*100)/Rådata!B1201)","v":""},{"$f":"IF(ISBLANK(Rådata!D1201)=TRUE,\"\",((Rådata!D1201-Rådata!E1201)*100)/Rådata!D1201)","v":""},{"$f":"IF(ISBLANK(Rådata!G1201)=TRUE,\"\",(Rådata!F1201*100)/Rådata!G1201)","v":""},{"$f":"IF(ISBLANK(Rådata!K1201),\"\",(SUM(Rådata!M1201:P1201)*100)/SUM(Rådata!H1201:K1201))","v":""},{"$f":"IF(ISBLANK(Rådata!H1201),\"\",((SUM(Rådata!J1201:L1201)-SUM(Rådata!O1201:P1201))*100)/SUM(Rådata!H1201:L1201))","v":""},{"$f":"IF(ISBLANK(Rådata!R1201),\"\",(Rådata!Q1201*100)/Rådata!R1201)","v":""}]
[{"$f":"IF(ISBLANK(Rådata!A1202)=TRUE,\"\",Rådata!A1202)","v":""},{"$f":"IF(ISBLANK(Rådata!A1202)=TRUE,\"\",YEAR(A1202))","v":""},{"$f":"IF(ISBLANK(Rådata!A1202)=TRUE,\"\",VLOOKUP(MONTH(A1202),Opsætning!$G$3:$H$14,2,FALSE))","v":""},{"$f":"IF(ISBLANK(Rådata!B1202)=TRUE,\"\",(Rådata!C1202*100)/Rådata!B1202)","v":""},{"$f":"IF(ISBLANK(Rådata!D1202)=TRUE,\"\",((Rådata!D1202-Rådata!E1202)*100)/Rådata!D1202)","v":""},{"$f":"IF(ISBLANK(Rådata!G1202)=TRUE,\"\",(Rådata!F1202*100)/Rådata!G1202)","v":""},{"$f":"IF(ISBLANK(Rådata!K1202),\"\",(SUM(Rådata!M1202:P1202)*100)/SUM(Rådata!H1202:K1202))","v":""},{"$f":"IF(ISBLANK(Rådata!H1202),\"\",((SUM(Rådata!J1202:L1202)-SUM(Rådata!O1202:P1202))*100)/SUM(Rådata!H1202:L1202))","v":""},{"$f":"IF(ISBLANK(Rådata!R1202),\"\",(Rådata!Q1202*100)/Rådata!R1202)","v":""}]
[{"$f":"IF(ISBLANK(Rådata!A1203)=TRUE,\"\",Rådata!A1203)","v":""},{"$f":"IF(ISBLANK(Rådata!A1203)=TRUE,\"\",YEAR(A1203))","v":""},{"$f":"IF(ISBLANK(Rådata!A1203)=TRUE,\"\",VLOOKUP(MONTH(A1203),Opsætning!$G$3:$H$14,2,FALSE))","v":""},{"$f":"IF(ISBLANK(Rådata!B1203)=TRUE,\"\",(Rådata!C1203*100)/Rådata!B1203)","v":""},{"$f":"IF(ISBLANK(Rådata!D1203)=TRUE,\"\",((Rådata!D1203-Rådata!E1203)*100)/Rådata!D1203)","v":""},{"$f":"IF(ISBLANK(Rådata!G1203)=TRUE,\"\",(Rådata!F1203*100)/Rådata!G1203)","v":""},{"$f":"IF(ISBLANK(Rådata!K1203),\"\",(SUM(Rådata!M1203:P1203)*100)/SUM(Rådata!H1203:K1203))","v":""},{"$f":"IF(ISBLANK(Rådata!H1203),\"\",((SUM(Rådata!J1203:L1203)-SUM(Rådata!O1203:P1203))*100)/SUM(Rådata!H1203:L1203))","v":""},{"$f":"IF(ISBLANK(Rådata!R1203),\"\",(Rådata!Q1203*100)/Rådata!R1203)","v":""}]
[{"$f":"IF(ISBLANK(Rådata!A1204)=TRUE,\"\",Rådata!A1204)","v":""},{"$f":"IF(ISBLANK(Rådata!A1204)=TRUE,\"\",YEAR(A1204))","v":""},{"$f":"IF(ISBLANK(Rådata!A1204)=TRUE,\"\",VLOOKUP(MONTH(A1204),Opsætning!$G$3:$H$14,2,FALSE))","v":""},{"$f":"IF(ISBLANK(Rådata!B1204)=TRUE,\"\",(Rådata!C1204*100)/Rådata!B1204)","v":""},{"$f":"IF(ISBLANK(Rådata!D1204)=TRUE,\"\",((Rådata!D1204-Rådata!E1204)*100)/Rådata!D1204)","v":""},{"$f":"IF(ISBLANK(Rådata!G1204)=TRUE,\"\",(Rådata!F1204*100)/Rådata!G1204)","v":""},{"$f":"IF(ISBLANK(Rådata!K1204),\"\",(SUM(Rådata!M1204:P1204)*100)/SUM(Rådata!H1204:K1204))","v":""},{"$f":"IF(ISBLANK(Rådata!H1204),\"\",((SUM(Rådata!J1204:L1204)-SUM(Rådata!O1204:P1204))*100)/SUM(Rådata!H1204:L1204))","v":""},{"$f":"IF(ISBLANK(Rådata!R1204),\"\",(Rådata!Q1204*100)/Rådata!R1204)","v":""}]
[{"$f":"IF(ISBLANK(Rådata!A1205)=TRUE,\"\",Rådata!A1205)","v":""},{"$f":"IF(ISBLANK(Rådata!A1205)=TRUE,\"\",YEAR(A1205))","v":""},{"$f":"IF(ISBLANK(Rådata!A1205)=TRUE,\"\",VLOOKUP(MONTH(A1205),Opsætning!$G$3:$H$14,2,FALSE))","v":""},{"$f":"IF(ISBLANK(Rådata!B1205)=TRUE,\"\",(Rådata!C1205*100)/Rådata!B1205)","v":""},{"$f":"IF(ISBLANK(Rådata!D1205)=TRUE,\"\",((Rådata!D1205-Rådata!E1205)*100)/Rådata!D1205)","v":""},{"$f":"IF(ISBLANK(Rådata!G1205)=TRUE,\"\",(Rådata!F1205*100)/Rådata!G1205)","v":""},{"$f":"IF(ISBLANK(Rådata!K1205),\"\",(SUM(Rådata!M1205:P1205)*100)/SUM(Rådata!H1205:K1205))","v":""},{"$f":"IF(ISBLANK(Rådata!H1205),\"\",((SUM(Rådata!J1205:L1205)-SUM(Rådata!O1205:P1205))*100)/SUM(Rådata!H1205:L1205))","v":""},{"$f":"IF(ISBLANK(Rådata!R1205),\"\",(Rådata!Q1205*100)/Rådata!R1205)","v":""}]
[{"$f":"IF(ISBLANK(Rådata!A1206)=TRUE,\"\",Rådata!A1206)","v":""},{"$f":"IF(ISBLANK(Rådata!A1206)=TRUE,\"\",YEAR(A1206))","v":""},{"$f":"IF(ISBLANK(Rådata!A1206)=TRUE,\"\",VLOOKUP(MONTH(A1206),Opsætning!$G$3:$H$14,2,FALSE))","v":""},{"$f":"IF(ISBLANK(Rådata!B1206)=TRUE,\"\",(Rådata!C1206*100)/Rådata!B1206)","v":""},{"$f":"IF(ISBLANK(Rådata!D1206)=TRUE,\"\",((Rådata!D1206-Rådata!E1206)*100)/Rådata!D1206)","v":""},{"$f":"IF(ISBLANK(Rådata!G1206)=TRUE,\"\",(Rådata!F1206*100)/Rådata!G1206)","v":""},{"$f":"IF(ISBLANK(Rådata!K1206),\"\",(SUM(Rådata!M1206:P1206)*100)/SUM(Rådata!H1206:K1206))","v":""},{"$f":"IF(ISBLANK(Rådata!H1206),\"\",((SUM(Rådata!J1206:L1206)-SUM(Rådata!O1206:P1206))*100)/SUM(Rådata!H1206:L1206))","v":""},{"$f":"IF(ISBLANK(Rådata!R1206),\"\",(Rådata!Q1206*100)/Rådata!R1206)","v":""}]
[{"$f":"IF(ISBLANK(Rådata!A1207)=TRUE,\"\",Rådata!A1207)","v":""},{"$f":"IF(ISBLANK(Rådata!A1207)=TRUE,\"\",YEAR(A1207))","v":""},{"$f":"IF(ISBLANK(Rådata!A1207)=TRUE,\"\",VLOOKUP(MONTH(A1207),Opsætning!$G$3:$H$14,2,FALSE))","v":""},{"$f":"IF(ISBLANK(Rådata!B1207)=TRUE,\"\",(Rådata!C1207*100)/Rådata!B1207)","v":""},{"$f":"IF(ISBLANK(Rådata!D1207)=TRUE,\"\",((Rådata!D1207-Rådata!E1207)*100)/Rådata!D1207)","v":""},{"$f":"IF(ISBLANK(Rådata!G1207)=TRUE,\"\",(Rådata!F1207*100)/Rådata!G1207)","v":""},{"$f":"IF(ISBLANK(Rådata!K1207),\"\",(SUM(Rådata!M1207:P1207)*100)/SUM(Rådata!H1207:K1207))","v":""},{"$f":"IF(ISBLANK(Rådata!H1207),\"\",((SUM(Rådata!J1207:L1207)-SUM(Rådata!O1207:P1207))*100)/SUM(Rådata!H1207:L1207))","v":""},{"$f":"IF(ISBLANK(Rådata!R1207),\"\",(Rådata!Q1207*100)/Rådata!R1207)","v":""}]
[{"$f":"IF(ISBLANK(Rådata!A1208)=TRUE,\"\",Rådata!A1208)","v":""},{"$f":"IF(ISBLANK(Rådata!A1208)=TRUE,\"\",YEAR(A1208))","v":""},{"$f":"IF(ISBLANK(Rådata!A1208)=TRUE,\"\",VLOOKUP(MONTH(A1208),Opsætning!$G$3:$H$14,2,FALSE))","v":""},{"$f":"IF(ISBLANK(Rådata!B1208)=TRUE,\"\",(Rådata!C1208*100)/Rådata!B1208)","v":""},{"$f":"IF(ISBLANK(Rådata!D1208)=TRUE,\"\",((Rådata!D1208-Rådata!E1208)*100)/Rådata!D1208)","v":""},{"$f":"IF(ISBLANK(Rådata!G1208)=TRUE,\"\",(Rådata!F1208*100)/Rådata!G1208)","v":""},{"$f":"IF(ISBLANK(Rådata!K1208),\"\",(SUM(Rådata!M1208:P1208)*100)/SUM(Rådata!H1208:K1208))","v":""},{"$f":"IF(ISBLANK(Rådata!H1208),\"\",((SUM(Rådata!J1208:L1208)-SUM(Rådata!O1208:P1208))*100)/SUM(Rådata!H1208:L1208))","v":""},{"$f":"IF(ISBLANK(Rådata!R1208),\"\",(Rådata!Q1208*100)/Rådata!R1208)","v":""}]
[{"$f":"IF(ISBLANK(Rådata!A1209)=TRUE,\"\",Rådata!A1209)","v":""},{"$f":"IF(ISBLANK(Rådata!A1209)=TRUE,\"\",YEAR(A1209))","v":""},{"$f":"IF(ISBLANK(Rådata!A1209)=TRUE,\"\",VLOOKUP(MONTH(A1209),Opsætning!$G$3:$H$14,2,FALSE))","v":""},{"$f":"IF(ISBLANK(Rådata!B1209)=TRUE,\"\",(Rådata!C1209*100)/Rådata!B1209)","v":""},{"$f":"IF(ISBLANK(Rådata!D1209)=TRUE,\"\",((Rådata!D1209-Rådata!E1209)*100)/Rådata!D1209)","v":""},{"$f":"IF(ISBLANK(Rådata!G1209)=TRUE,\"\",(Rådata!F1209*100)/Rådata!G1209)","v":""},{"$f":"IF(ISBLANK(Rådata!K1209),\"\",(SUM(Rådata!M1209:P1209)*100)/SUM(Rådata!H1209:K1209))","v":""},{"$f":"IF(ISBLANK(Rådata!H1209),\"\",((SUM(Rådata!J1209:L1209)-SUM(Rådata!O1209:P1209))*100)/SUM(Rådata!H1209:L1209))","v":""},{"$f":"IF(ISBLANK(Rådata!R1209),\"\",(Rådata!Q1209*100)/Rådata!R1209)","v":""}]
[{"$f":"IF(ISBLANK(Rådata!A1210)=TRUE,\"\",Rådata!A1210)","v":""},{"$f":"IF(ISBLANK(Rådata!A1210)=TRUE,\"\",YEAR(A1210))","v":""},{"$f":"IF(ISBLANK(Rådata!A1210)=TRUE,\"\",VLOOKUP(MONTH(A1210),Opsætning!$G$3:$H$14,2,FALSE))","v":""},{"$f":"IF(ISBLANK(Rådata!B1210)=TRUE,\"\",(Rådata!C1210*100)/Rådata!B1210)","v":""},{"$f":"IF(ISBLANK(Rådata!D1210)=TRUE,\"\",((Rådata!D1210-Rådata!E1210)*100)/Rådata!D1210)","v":""},{"$f":"IF(ISBLANK(Rådata!G1210)=TRUE,\"\",(Rådata!F1210*100)/Rådata!G1210)","v":""},{"$f":"IF(ISBLANK(Rådata!K1210),\"\",(SUM(Rådata!M1210:P1210)*100)/SUM(Rådata!H1210:K1210))","v":""},{"$f":"IF(ISBLANK(Rådata!H1210),\"\",((SUM(Rådata!J1210:L1210)-SUM(Rådata!O1210:P1210))*100)/SUM(Rådata!H1210:L1210))","v":""},{"$f":"IF(ISBLANK(Rådata!R1210),\"\",(Rådata!Q1210*100)/Rådata!R1210)","v":""}]
[{"$f":"IF(ISBLANK(Rådata!A1211)=TRUE,\"\",Rådata!A1211)","v":""},{"$f":"IF(ISBLANK(Rådata!A1211)=TRUE,\"\",YEAR(A1211))","v":""},{"$f":"IF(ISBLANK(Rådata!A1211)=TRUE,\"\",VLOOKUP(MONTH(A1211),Opsætning!$G$3:$H$14,2,FALSE))","v":""},{"$f":"IF(ISBLANK(Rådata!B1211)=TRUE,\"\",(Rådata!C1211*100)/Rådata!B1211)","v":""},{"$f":"IF(ISBLANK(Rådata!D1211)=TRUE,\"\",((Rådata!D1211-Rådata!E1211)*100)/Rådata!D1211)","v":""},{"$f":"IF(ISBLANK(Rådata!G1211)=TRUE,\"\",(Rådata!F1211*100)/Rådata!G1211)","v":""},{"$f":"IF(ISBLANK(Rådata!K1211),\"\",(SUM(Rådata!M1211:P1211)*100)/SUM(Rådata!H1211:K1211))","v":""},{"$f":"IF(ISBLANK(Rådata!H1211),\"\",((SUM(Rådata!J1211:L1211)-SUM(Rådata!O1211:P1211))*100)/SUM(Rådata!H1211:L1211))","v":""},{"$f":"IF(ISBLANK(Rådata!R1211),\"\",(Rådata!Q1211*100)/Rådata!R1211)","v":""}]
[{"$f":"IF(ISBLANK(Rådata!A1212)=TRUE,\"\",Rådata!A1212)","v":""},{"$f":"IF(ISBLANK(Rådata!A1212)=TRUE,\"\",YEAR(A1212))","v":""},{"$f":"IF(ISBLANK(Rådata!A1212)=TRUE,\"\",VLOOKUP(MONTH(A1212),Opsætning!$G$3:$H$14,2,FALSE))","v":""},{"$f":"IF(ISBLANK(Rådata!B1212)=TRUE,\"\",(Rådata!C1212*100)/Rådata!B1212)","v":""},{"$f":"IF(ISBLANK(Rådata!D1212)=TRUE,\"\",((Rådata!D1212-Rådata!E1212)*100)/Rådata!D1212)","v":""},{"$f":"IF(ISBLANK(Rådata!G1212)=TRUE,\"\",(Rådata!F1212*100)/Rådata!G1212)","v":""},{"$f":"IF(ISBLANK(Rådata!K1212),\"\",(SUM(Rådata!M1212:P1212)*100)/SUM(Rådata!H1212:K1212))","v":""},{"$f":"IF(ISBLANK(Rådata!H1212),\"\",((SUM(Rådata!J1212:L1212)-SUM(Rådata!O1212:P1212))*100)/SUM(Rådata!H1212:L1212))","v":""},{"$f":"IF(ISBLANK(Rådata!R1212),\"\",(Rådata!Q1212*100)/Rådata!R1212)","v":""}]
[{"$f":"IF(ISBLANK(Rådata!A1213)=TRUE,\"\",Rådata!A1213)","v":""},{"$f":"IF(ISBLANK(Rådata!A1213)=TRUE,\"\",YEAR(A1213))","v":""},{"$f":"IF(ISBLANK(Rådata!A1213)=TRUE,\"\",VLOOKUP(MONTH(A1213),Opsætning!$G$3:$H$14,2,FALSE))","v":""},{"$f":"IF(ISBLANK(Rådata!B1213)=TRUE,\"\",(Rådata!C1213*100)/Rådata!B1213)","v":""},{"$f":"IF(ISBLANK(Rådata!D1213)=TRUE,\"\",((Rådata!D1213-Rådata!E1213)*100)/Rådata!D1213)","v":""},{"$f":"IF(ISBLANK(Rådata!G1213)=TRUE,\"\",(Rådata!F1213*100)/Rådata!G1213)","v":""},{"$f":"IF(ISBLANK(Rådata!K1213),\"\",(SUM(Rådata!M1213:P1213)*100)/SUM(Rådata!H1213:K1213))","v":""},{"$f":"IF(ISBLANK(Rådata!H1213),\"\",((SUM(Rådata!J1213:L1213)-SUM(Rådata!O1213:P1213))*100)/SUM(Rådata!H1213:L1213))","v":""},{"$f":"IF(ISBLANK(Rådata!R1213),\"\",(Rådata!Q1213*100)/Rådata!R1213)","v":""}]
[{"$f":"IF(ISBLANK(Rådata!A1214)=TRUE,\"\",Rådata!A1214)","v":""},{"$f":"IF(ISBLANK(Rådata!A1214)=TRUE,\"\",YEAR(A1214))","v":""},{"$f":"IF(ISBLANK(Rådata!A1214)=TRUE,\"\",VLOOKUP(MONTH(A1214),Opsætning!$G$3:$H$14,2,FALSE))","v":""},{"$f":"IF(ISBLANK(Rådata!B1214)=TRUE,\"\",(Rådata!C1214*100)/Rådata!B1214)","v":""},{"$f":"IF(ISBLANK(Rådata!D1214)=TRUE,\"\",((Rådata!D1214-Rådata!E1214)*100)/Rådata!D1214)","v":""},{"$f":"IF(ISBLANK(Rådata!G1214)=TRUE,\"\",(Rådata!F1214*100)/Rådata!G1214)","v":""},{"$f":"IF(ISBLANK(Rådata!K1214),\"\",(SUM(Rådata!M1214:P1214)*100)/SUM(Rådata!H1214:K1214))","v":""},{"$f":"IF(ISBLANK(Rådata!H1214),\"\",((SUM(Rådata!J1214:L1214)-SUM(Rådata!O1214:P1214))*100)/SUM(Rådata!H1214:L1214))","v":""},{"$f":"IF(ISBLANK(Rådata!R1214),\"\",(Rådata!Q1214*100)/Rådata!R1214)","v":""}]
[{"$f":"IF(ISBLANK(Rådata!A1215)=TRUE,\"\",Rådata!A1215)","v":""},{"$f":"IF(ISBLANK(Rådata!A1215)=TRUE,\"\",YEAR(A1215))","v":""},{"$f":"IF(ISBLANK(Rådata!A1215)=TRUE,\"\",VLOOKUP(MONTH(A1215),Opsætning!$G$3:$H$14,2,FALSE))","v":""},{"$f":"IF(ISBLANK(Rådata!B1215)=TRUE,\"\",(Rådata!C1215*100)/Rådata!B1215)","v":""},{"$f":"IF(ISBLANK(Rådata!D1215)=TRUE,\"\",((Rådata!D1215-Rådata!E1215)*100)/Rådata!D1215)","v":""},{"$f":"IF(ISBLANK(Rådata!G1215)=TRUE,\"\",(Rådata!F1215*100)/Rådata!G1215)","v":""},{"$f":"IF(ISBLANK(Rådata!K1215),\"\",(SUM(Rådata!M1215:P1215)*100)/SUM(Rådata!H1215:K1215))","v":""},{"$f":"IF(ISBLANK(Rådata!H1215),\"\",((SUM(Rådata!J1215:L1215)-SUM(Rådata!O1215:P1215))*100)/SUM(Rådata!H1215:L1215))","v":""},{"$f":"IF(ISBLANK(Rådata!R1215),\"\",(Rådata!Q1215*100)/Rådata!R1215)","v":""}]
[{"$f":"IF(ISBLANK(Rådata!A1216)=TRUE,\"\",Rådata!A1216)","v":""},{"$f":"IF(ISBLANK(Rådata!A1216)=TRUE,\"\",YEAR(A1216))","v":""},{"$f":"IF(ISBLANK(Rådata!A1216)=TRUE,\"\",VLOOKUP(MONTH(A1216),Opsætning!$G$3:$H$14,2,FALSE))","v":""},{"$f":"IF(ISBLANK(Rådata!B1216)=TRUE,\"\",(Rådata!C1216*100)/Rådata!B1216)","v":""},{"$f":"IF(ISBLANK(Rådata!D1216)=TRUE,\"\",((Rådata!D1216-Rådata!E1216)*100)/Rådata!D1216)","v":""},{"$f":"IF(ISBLANK(Rådata!G1216)=TRUE,\"\",(Rådata!F1216*100)/Rådata!G1216)","v":""},{"$f":"IF(ISBLANK(Rådata!K1216),\"\",(SUM(Rådata!M1216:P1216)*100)/SUM(Rådata!H1216:K1216))","v":""},{"$f":"IF(ISBLANK(Rådata!H1216),\"\",((SUM(Rådata!J1216:L1216)-SUM(Rådata!O1216:P1216))*100)/SUM(Rådata!H1216:L1216))","v":""},{"$f":"IF(ISBLANK(Rådata!R1216),\"\",(Rådata!Q1216*100)/Rådata!R1216)","v":""}]
[{"$f":"IF(ISBLANK(Rådata!A1217)=TRUE,\"\",Rådata!A1217)","v":""},{"$f":"IF(ISBLANK(Rådata!A1217)=TRUE,\"\",YEAR(A1217))","v":""},{"$f":"IF(ISBLANK(Rådata!A1217)=TRUE,\"\",VLOOKUP(MONTH(A1217),Opsætning!$G$3:$H$14,2,FALSE))","v":""},{"$f":"IF(ISBLANK(Rådata!B1217)=TRUE,\"\",(Rådata!C1217*100)/Rådata!B1217)","v":""},{"$f":"IF(ISBLANK(Rådata!D1217)=TRUE,\"\",((Rådata!D1217-Rådata!E1217)*100)/Rådata!D1217)","v":""},{"$f":"IF(ISBLANK(Rådata!G1217)=TRUE,\"\",(Rådata!F1217*100)/Rådata!G1217)","v":""},{"$f":"IF(ISBLANK(Rådata!K1217),\"\",(SUM(Rådata!M1217:P1217)*100)/SUM(Rådata!H1217:K1217))","v":""},{"$f":"IF(ISBLANK(Rådata!H1217),\"\",((SUM(Rådata!J1217:L1217)-SUM(Rådata!O1217:P1217))*100)/SUM(Rådata!H1217:L1217))","v":""},{"$f":"IF(ISBLANK(Rådata!R1217),\"\",(Rådata!Q1217*100)/Rådata!R1217)","v":""}]
[{"$f":"IF(ISBLANK(Rådata!A1218)=TRUE,\"\",Rådata!A1218)","v":""},{"$f":"IF(ISBLANK(Rådata!A1218)=TRUE,\"\",YEAR(A1218))","v":""},{"$f":"IF(ISBLANK(Rådata!A1218)=TRUE,\"\",VLOOKUP(MONTH(A1218),Opsætning!$G$3:$H$14,2,FALSE))","v":""},{"$f":"IF(ISBLANK(Rådata!B1218)=TRUE,\"\",(Rådata!C1218*100)/Rådata!B1218)","v":""},{"$f":"IF(ISBLANK(Rådata!D1218)=TRUE,\"\",((Rådata!D1218-Rådata!E1218)*100)/Rådata!D1218)","v":""},{"$f":"IF(ISBLANK(Rådata!G1218)=TRUE,\"\",(Rådata!F1218*100)/Rådata!G1218)","v":""},{"$f":"IF(ISBLANK(Rådata!K1218),\"\",(SUM(Rådata!M1218:P1218)*100)/SUM(Rådata!H1218:K1218))","v":""},{"$f":"IF(ISBLANK(Rådata!H1218),\"\",((SUM(Rådata!J1218:L1218)-SUM(Rådata!O1218:P1218))*100)/SUM(Rådata!H1218:L1218))","v":""},{"$f":"IF(ISBLANK(Rådata!R1218),\"\",(Rådata!Q1218*100)/Rådata!R1218)","v":""}]
[{"$f":"IF(ISBLANK(Rådata!A1219)=TRUE,\"\",Rådata!A1219)","v":""},{"$f":"IF(ISBLANK(Rådata!A1219)=TRUE,\"\",YEAR(A1219))","v":""},{"$f":"IF(ISBLANK(Rådata!A1219)=TRUE,\"\",VLOOKUP(MONTH(A1219),Opsætning!$G$3:$H$14,2,FALSE))","v":""},{"$f":"IF(ISBLANK(Rådata!B1219)=TRUE,\"\",(Rådata!C1219*100)/Rådata!B1219)","v":""},{"$f":"IF(ISBLANK(Rådata!D1219)=TRUE,\"\",((Rådata!D1219-Rådata!E1219)*100)/Rådata!D1219)","v":""},{"$f":"IF(ISBLANK(Rådata!G1219)=TRUE,\"\",(Rådata!F1219*100)/Rådata!G1219)","v":""},{"$f":"IF(ISBLANK(Rådata!K1219),\"\",(SUM(Rådata!M1219:P1219)*100)/SUM(Rådata!H1219:K1219))","v":""},{"$f":"IF(ISBLANK(Rådata!H1219),\"\",((SUM(Rådata!J1219:L1219)-SUM(Rådata!O1219:P1219))*100)/SUM(Rådata!H1219:L1219))","v":""},{"$f":"IF(ISBLANK(Rådata!R1219),\"\",(Rådata!Q1219*100)/Rådata!R1219)","v":""}]
[{"$f":"IF(ISBLANK(Rådata!A1220)=TRUE,\"\",Rådata!A1220)","v":""},{"$f":"IF(ISBLANK(Rådata!A1220)=TRUE,\"\",YEAR(A1220))","v":""},{"$f":"IF(ISBLANK(Rådata!A1220)=TRUE,\"\",VLOOKUP(MONTH(A1220),Opsætning!$G$3:$H$14,2,FALSE))","v":""},{"$f":"IF(ISBLANK(Rådata!B1220)=TRUE,\"\",(Rådata!C1220*100)/Rådata!B1220)","v":""},{"$f":"IF(ISBLANK(Rådata!D1220)=TRUE,\"\",((Rådata!D1220-Rådata!E1220)*100)/Rådata!D1220)","v":""},{"$f":"IF(ISBLANK(Rådata!G1220)=TRUE,\"\",(Rådata!F1220*100)/Rådata!G1220)","v":""},{"$f":"IF(ISBLANK(Rådata!K1220),\"\",(SUM(Rådata!M1220:P1220)*100)/SUM(Rådata!H1220:K1220))","v":""},{"$f":"IF(ISBLANK(Rådata!H1220),\"\",((SUM(Rådata!J1220:L1220)-SUM(Rådata!O1220:P1220))*100)/SUM(Rådata!H1220:L1220))","v":""},{"$f":"IF(ISBLANK(Rådata!R1220),\"\",(Rådata!Q1220*100)/Rådata!R1220)","v":""}]
[{"$f":"IF(ISBLANK(Rådata!A1221)=TRUE,\"\",Rådata!A1221)","v":""},{"$f":"IF(ISBLANK(Rådata!A1221)=TRUE,\"\",YEAR(A1221))","v":""},{"$f":"IF(ISBLANK(Rådata!A1221)=TRUE,\"\",VLOOKUP(MONTH(A1221),Opsætning!$G$3:$H$14,2,FALSE))","v":""},{"$f":"IF(ISBLANK(Rådata!B1221)=TRUE,\"\",(Rådata!C1221*100)/Rådata!B1221)","v":""},{"$f":"IF(ISBLANK(Rådata!D1221)=TRUE,\"\",((Rådata!D1221-Rådata!E1221)*100)/Rådata!D1221)","v":""},{"$f":"IF(ISBLANK(Rådata!G1221)=TRUE,\"\",(Rådata!F1221*100)/Rådata!G1221)","v":""},{"$f":"IF(ISBLANK(Rådata!K1221),\"\",(SUM(Rådata!M1221:P1221)*100)/SUM(Rådata!H1221:K1221))","v":""},{"$f":"IF(ISBLANK(Rådata!H1221),\"\",((SUM(Rådata!J1221:L1221)-SUM(Rådata!O1221:P1221))*100)/SUM(Rådata!H1221:L1221))","v":""},{"$f":"IF(ISBLANK(Rådata!R1221),\"\",(Rådata!Q1221*100)/Rådata!R1221)","v":""}]
[{"$f":"IF(ISBLANK(Rådata!A1222)=TRUE,\"\",Rådata!A1222)","v":""},{"$f":"IF(ISBLANK(Rådata!A1222)=TRUE,\"\",YEAR(A1222))","v":""},{"$f":"IF(ISBLANK(Rådata!A1222)=TRUE,\"\",VLOOKUP(MONTH(A1222),Opsætning!$G$3:$H$14,2,FALSE))","v":""},{"$f":"IF(ISBLANK(Rådata!B1222)=TRUE,\"\",(Rådata!C1222*100)/Rådata!B1222)","v":""},{"$f":"IF(ISBLANK(Rådata!D1222)=TRUE,\"\",((Rådata!D1222-Rådata!E1222)*100)/Rådata!D1222)","v":""},{"$f":"IF(ISBLANK(Rådata!G1222)=TRUE,\"\",(Rådata!F1222*100)/Rådata!G1222)","v":""},{"$f":"IF(ISBLANK(Rådata!K1222),\"\",(SUM(Rådata!M1222:P1222)*100)/SUM(Rådata!H1222:K1222))","v":""},{"$f":"IF(ISBLANK(Rådata!H1222),\"\",((SUM(Rådata!J1222:L1222)-SUM(Rådata!O1222:P1222))*100)/SUM(Rådata!H1222:L1222))","v":""},{"$f":"IF(ISBLANK(Rådata!R1222),\"\",(Rådata!Q1222*100)/Rådata!R1222)","v":""}]
[{"$f":"IF(ISBLANK(Rådata!A1223)=TRUE,\"\",Rådata!A1223)","v":""},{"$f":"IF(ISBLANK(Rådata!A1223)=TRUE,\"\",YEAR(A1223))","v":""},{"$f":"IF(ISBLANK(Rådata!A1223)=TRUE,\"\",VLOOKUP(MONTH(A1223),Opsætning!$G$3:$H$14,2,FALSE))","v":""},{"$f":"IF(ISBLANK(Rådata!B1223)=TRUE,\"\",(Rådata!C1223*100)/Rådata!B1223)","v":""},{"$f":"IF(ISBLANK(Rådata!D1223)=TRUE,\"\",((Rådata!D1223-Rådata!E1223)*100)/Rådata!D1223)","v":""},{"$f":"IF(ISBLANK(Rådata!G1223)=TRUE,\"\",(Rådata!F1223*100)/Rådata!G1223)","v":""},{"$f":"IF(ISBLANK(Rådata!K1223),\"\",(SUM(Rådata!M1223:P1223)*100)/SUM(Rådata!H1223:K1223))","v":""},{"$f":"IF(ISBLANK(Rådata!H1223),\"\",((SUM(Rådata!J1223:L1223)-SUM(Rådata!O1223:P1223))*100)/SUM(Rådata!H1223:L1223))","v":""},{"$f":"IF(ISBLANK(Rådata!R1223),\"\",(Rådata!Q1223*100)/Rådata!R1223)","v":""}]
[{"$f":"IF(ISBLANK(Rådata!A1224)=TRUE,\"\",Rådata!A1224)","v":""},{"$f":"IF(ISBLANK(Rådata!A1224)=TRUE,\"\",YEAR(A1224))","v":""},{"$f":"IF(ISBLANK(Rådata!A1224)=TRUE,\"\",VLOOKUP(MONTH(A1224),Opsætning!$G$3:$H$14,2,FALSE))","v":""},{"$f":"IF(ISBLANK(Rådata!B1224)=TRUE,\"\",(Rådata!C1224*100)/Rådata!B1224)","v":""},{"$f":"IF(ISBLANK(Rådata!D1224)=TRUE,\"\",((Rådata!D1224-Rådata!E1224)*100)/Rådata!D1224)","v":""},{"$f":"IF(ISBLANK(Rådata!G1224)=TRUE,\"\",(Rådata!F1224*100)/Rådata!G1224)","v":""},{"$f":"IF(ISBLANK(Rådata!K1224),\"\",(SUM(Rådata!M1224:P1224)*100)/SUM(Rådata!H1224:K1224))","v":""},{"$f":"IF(ISBLANK(Rådata!H1224),\"\",((SUM(Rådata!J1224:L1224)-SUM(Rådata!O1224:P1224))*100)/SUM(Rådata!H1224:L1224))","v":""},{"$f":"IF(ISBLANK(Rådata!R1224),\"\",(Rådata!Q1224*100)/Rådata!R1224)","v":""}]
[{"$f":"IF(ISBLANK(Rådata!A1225)=TRUE,\"\",Rådata!A1225)","v":""},{"$f":"IF(ISBLANK(Rådata!A1225)=TRUE,\"\",YEAR(A1225))","v":""},{"$f":"IF(ISBLANK(Rådata!A1225)=TRUE,\"\",VLOOKUP(MONTH(A1225),Opsætning!$G$3:$H$14,2,FALSE))","v":""},{"$f":"IF(ISBLANK(Rådata!B1225)=TRUE,\"\",(Rådata!C1225*100)/Rådata!B1225)","v":""},{"$f":"IF(ISBLANK(Rådata!D1225)=TRUE,\"\",((Rådata!D1225-Rådata!E1225)*100)/Rådata!D1225)","v":""},{"$f":"IF(ISBLANK(Rådata!G1225)=TRUE,\"\",(Rådata!F1225*100)/Rådata!G1225)","v":""},{"$f":"IF(ISBLANK(Rådata!K1225),\"\",(SUM(Rådata!M1225:P1225)*100)/SUM(Rådata!H1225:K1225))","v":""},{"$f":"IF(ISBLANK(Rådata!H1225),\"\",((SUM(Rådata!J1225:L1225)-SUM(Rådata!O1225:P1225))*100)/SUM(Rådata!H1225:L1225))","v":""},{"$f":"IF(ISBLANK(Rådata!R1225),\"\",(Rådata!Q1225*100)/Rådata!R1225)","v":""}]
[{"$f":"IF(ISBLANK(Rådata!A1226)=TRUE,\"\",Rådata!A1226)","v":""},{"$f":"IF(ISBLANK(Rådata!A1226)=TRUE,\"\",YEAR(A1226))","v":""},{"$f":"IF(ISBLANK(Rådata!A1226)=TRUE,\"\",VLOOKUP(MONTH(A1226),Opsætning!$G$3:$H$14,2,FALSE))","v":""},{"$f":"IF(ISBLANK(Rådata!B1226)=TRUE,\"\",(Rådata!C1226*100)/Rådata!B1226)","v":""},{"$f":"IF(ISBLANK(Rådata!D1226)=TRUE,\"\",((Rådata!D1226-Rådata!E1226)*100)/Rådata!D1226)","v":""},{"$f":"IF(ISBLANK(Rådata!G1226)=TRUE,\"\",(Rådata!F1226*100)/Rådata!G1226)","v":""},{"$f":"IF(ISBLANK(Rådata!K1226),\"\",(SUM(Rådata!M1226:P1226)*100)/SUM(Rådata!H1226:K1226))","v":""},{"$f":"IF(ISBLANK(Rådata!H1226),\"\",((SUM(Rådata!J1226:L1226)-SUM(Rådata!O1226:P1226))*100)/SUM(Rådata!H1226:L1226))","v":""},{"$f":"IF(ISBLANK(Rådata!R1226),\"\",(Rådata!Q1226*100)/Rådata!R1226)","v":""}]
[{"$f":"IF(ISBLANK(Rådata!A1227)=TRUE,\"\",Rådata!A1227)","v":""},{"$f":"IF(ISBLANK(Rådata!A1227)=TRUE,\"\",YEAR(A1227))","v":""},{"$f":"IF(ISBLANK(Rådata!A1227)=TRUE,\"\",VLOOKUP(MONTH(A1227),Opsætning!$G$3:$H$14,2,FALSE))","v":""},{"$f":"IF(ISBLANK(Rådata!B1227)=TRUE,\"\",(Rådata!C1227*100)/Rådata!B1227)","v":""},{"$f":"IF(ISBLANK(Rådata!D1227)=TRUE,\"\",((Rådata!D1227-Rådata!E1227)*100)/Rådata!D1227)","v":""},{"$f":"IF(ISBLANK(Rådata!G1227)=TRUE,\"\",(Rådata!F1227*100)/Rådata!G1227)","v":""},{"$f":"IF(ISBLANK(Rådata!K1227),\"\",(SUM(Rådata!M1227:P1227)*100)/SUM(Rådata!H1227:K1227))","v":""},{"$f":"IF(ISBLANK(Rådata!H1227),\"\",((SUM(Rådata!J1227:L1227)-SUM(Rådata!O1227:P1227))*100)/SUM(Rådata!H1227:L1227))","v":""},{"$f":"IF(ISBLANK(Rådata!R1227),\"\",(Rådata!Q1227*100)/Rådata!R1227)","v":""}]
[{"$f":"IF(ISBLANK(Rådata!A1228)=TRUE,\"\",Rådata!A1228)","v":""},{"$f":"IF(ISBLANK(Rådata!A1228)=TRUE,\"\",YEAR(A1228))","v":""},{"$f":"IF(ISBLANK(Rådata!A1228)=TRUE,\"\",VLOOKUP(MONTH(A1228),Opsætning!$G$3:$H$14,2,FALSE))","v":""},{"$f":"IF(ISBLANK(Rådata!B1228)=TRUE,\"\",(Rådata!C1228*100)/Rådata!B1228)","v":""},{"$f":"IF(ISBLANK(Rådata!D1228)=TRUE,\"\",((Rådata!D1228-Rådata!E1228)*100)/Rådata!D1228)","v":""},{"$f":"IF(ISBLANK(Rådata!G1228)=TRUE,\"\",(Rådata!F1228*100)/Rådata!G1228)","v":""},{"$f":"IF(ISBLANK(Rådata!K1228),\"\",(SUM(Rådata!M1228:P1228)*100)/SUM(Rådata!H1228:K1228))","v":""},{"$f":"IF(ISBLANK(Rådata!H1228),\"\",((SUM(Rådata!J1228:L1228)-SUM(Rådata!O1228:P1228))*100)/SUM(Rådata!H1228:L1228))","v":""},{"$f":"IF(ISBLANK(Rådata!R1228),\"\",(Rådata!Q1228*100)/Rådata!R1228)","v":""}]
[{"$f":"IF(ISBLANK(Rådata!A1229)=TRUE,\"\",Rådata!A1229)","v":""},{"$f":"IF(ISBLANK(Rådata!A1229)=TRUE,\"\",YEAR(A1229))","v":""},{"$f":"IF(ISBLANK(Rådata!A1229)=TRUE,\"\",VLOOKUP(MONTH(A1229),Opsætning!$G$3:$H$14,2,FALSE))","v":""},{"$f":"IF(ISBLANK(Rådata!B1229)=TRUE,\"\",(Rådata!C1229*100)/Rådata!B1229)","v":""},{"$f":"IF(ISBLANK(Rådata!D1229)=TRUE,\"\",((Rådata!D1229-Rådata!E1229)*100)/Rådata!D1229)","v":""},{"$f":"IF(ISBLANK(Rådata!G1229)=TRUE,\"\",(Rådata!F1229*100)/Rådata!G1229)","v":""},{"$f":"IF(ISBLANK(Rådata!K1229),\"\",(SUM(Rådata!M1229:P1229)*100)/SUM(Rådata!H1229:K1229))","v":""},{"$f":"IF(ISBLANK(Rådata!H1229),\"\",((SUM(Rådata!J1229:L1229)-SUM(Rådata!O1229:P1229))*100)/SUM(Rådata!H1229:L1229))","v":""},{"$f":"IF(ISBLANK(Rådata!R1229),\"\",(Rådata!Q1229*100)/Rådata!R1229)","v":""}]
[{"$f":"IF(ISBLANK(Rådata!A1230)=TRUE,\"\",Rådata!A1230)","v":""},{"$f":"IF(ISBLANK(Rådata!A1230)=TRUE,\"\",YEAR(A1230))","v":""},{"$f":"IF(ISBLANK(Rådata!A1230)=TRUE,\"\",VLOOKUP(MONTH(A1230),Opsætning!$G$3:$H$14,2,FALSE))","v":""},{"$f":"IF(ISBLANK(Rådata!B1230)=TRUE,\"\",(Rådata!C1230*100)/Rådata!B1230)","v":""},{"$f":"IF(ISBLANK(Rådata!D1230)=TRUE,\"\",((Rådata!D1230-Rådata!E1230)*100)/Rådata!D1230)","v":""},{"$f":"IF(ISBLANK(Rådata!G1230)=TRUE,\"\",(Rådata!F1230*100)/Rådata!G1230)","v":""},{"$f":"IF(ISBLANK(Rådata!K1230),\"\",(SUM(Rådata!M1230:P1230)*100)/SUM(Rådata!H1230:K1230))","v":""},{"$f":"IF(ISBLANK(Rådata!H1230),\"\",((SUM(Rådata!J1230:L1230)-SUM(Rådata!O1230:P1230))*100)/SUM(Rådata!H1230:L1230))","v":""},{"$f":"IF(ISBLANK(Rådata!R1230),\"\",(Rådata!Q1230*100)/Rådata!R1230)","v":""}]
[{"$f":"IF(ISBLANK(Rådata!A1231)=TRUE,\"\",Rådata!A1231)","v":""},{"$f":"IF(ISBLANK(Rådata!A1231)=TRUE,\"\",YEAR(A1231))","v":""},{"$f":"IF(ISBLANK(Rådata!A1231)=TRUE,\"\",VLOOKUP(MONTH(A1231),Opsætning!$G$3:$H$14,2,FALSE))","v":""},{"$f":"IF(ISBLANK(Rådata!B1231)=TRUE,\"\",(Rådata!C1231*100)/Rådata!B1231)","v":""},{"$f":"IF(ISBLANK(Rådata!D1231)=TRUE,\"\",((Rådata!D1231-Rådata!E1231)*100)/Rådata!D1231)","v":""},{"$f":"IF(ISBLANK(Rådata!G1231)=TRUE,\"\",(Rådata!F1231*100)/Rådata!G1231)","v":""},{"$f":"IF(ISBLANK(Rådata!K1231),\"\",(SUM(Rådata!M1231:P1231)*100)/SUM(Rådata!H1231:K1231))","v":""},{"$f":"IF(ISBLANK(Rådata!H1231),\"\",((SUM(Rådata!J1231:L1231)-SUM(Rådata!O1231:P1231))*100)/SUM(Rådata!H1231:L1231))","v":""},{"$f":"IF(ISBLANK(Rådata!R1231),\"\",(Rådata!Q1231*100)/Rådata!R1231)","v":""}]
[{"$f":"IF(ISBLANK(Rådata!A1232)=TRUE,\"\",Rådata!A1232)","v":""},{"$f":"IF(ISBLANK(Rådata!A1232)=TRUE,\"\",YEAR(A1232))","v":""},{"$f":"IF(ISBLANK(Rådata!A1232)=TRUE,\"\",VLOOKUP(MONTH(A1232),Opsætning!$G$3:$H$14,2,FALSE))","v":""},{"$f":"IF(ISBLANK(Rådata!B1232)=TRUE,\"\",(Rådata!C1232*100)/Rådata!B1232)","v":""},{"$f":"IF(ISBLANK(Rådata!D1232)=TRUE,\"\",((Rådata!D1232-Rådata!E1232)*100)/Rådata!D1232)","v":""},{"$f":"IF(ISBLANK(Rådata!G1232)=TRUE,\"\",(Rådata!F1232*100)/Rådata!G1232)","v":""},{"$f":"IF(ISBLANK(Rådata!K1232),\"\",(SUM(Rådata!M1232:P1232)*100)/SUM(Rådata!H1232:K1232))","v":""},{"$f":"IF(ISBLANK(Rådata!H1232),\"\",((SUM(Rådata!J1232:L1232)-SUM(Rådata!O1232:P1232))*100)/SUM(Rådata!H1232:L1232))","v":""},{"$f":"IF(ISBLANK(Rådata!R1232),\"\",(Rådata!Q1232*100)/Rådata!R1232)","v":""}]
[{"$f":"IF(ISBLANK(Rådata!A1233)=TRUE,\"\",Rådata!A1233)","v":""},{"$f":"IF(ISBLANK(Rådata!A1233)=TRUE,\"\",YEAR(A1233))","v":""},{"$f":"IF(ISBLANK(Rådata!A1233)=TRUE,\"\",VLOOKUP(MONTH(A1233),Opsætning!$G$3:$H$14,2,FALSE))","v":""},{"$f":"IF(ISBLANK(Rådata!B1233)=TRUE,\"\",(Rådata!C1233*100)/Rådata!B1233)","v":""},{"$f":"IF(ISBLANK(Rådata!D1233)=TRUE,\"\",((Rådata!D1233-Rådata!E1233)*100)/Rådata!D1233)","v":""},{"$f":"IF(ISBLANK(Rådata!G1233)=TRUE,\"\",(Rådata!F1233*100)/Rådata!G1233)","v":""},{"$f":"IF(ISBLANK(Rådata!K1233),\"\",(SUM(Rådata!M1233:P1233)*100)/SUM(Rådata!H1233:K1233))","v":""},{"$f":"IF(ISBLANK(Rådata!H1233),\"\",((SUM(Rådata!J1233:L1233)-SUM(Rådata!O1233:P1233))*100)/SUM(Rådata!H1233:L1233))","v":""},{"$f":"IF(ISBLANK(Rådata!R1233),\"\",(Rådata!Q1233*100)/Rådata!R1233)","v":""}]
[{"$f":"IF(ISBLANK(Rådata!A1234)=TRUE,\"\",Rådata!A1234)","v":""},{"$f":"IF(ISBLANK(Rådata!A1234)=TRUE,\"\",YEAR(A1234))","v":""},{"$f":"IF(ISBLANK(Rådata!A1234)=TRUE,\"\",VLOOKUP(MONTH(A1234),Opsætning!$G$3:$H$14,2,FALSE))","v":""},{"$f":"IF(ISBLANK(Rådata!B1234)=TRUE,\"\",(Rådata!C1234*100)/Rådata!B1234)","v":""},{"$f":"IF(ISBLANK(Rådata!D1234)=TRUE,\"\",((Rådata!D1234-Rådata!E1234)*100)/Rådata!D1234)","v":""},{"$f":"IF(ISBLANK(Rådata!G1234)=TRUE,\"\",(Rådata!F1234*100)/Rådata!G1234)","v":""},{"$f":"IF(ISBLANK(Rådata!K1234),\"\",(SUM(Rådata!M1234:P1234)*100)/SUM(Rådata!H1234:K1234))","v":""},{"$f":"IF(ISBLANK(Rådata!H1234),\"\",((SUM(Rådata!J1234:L1234)-SUM(Rådata!O1234:P1234))*100)/SUM(Rådata!H1234:L1234))","v":""},{"$f":"IF(ISBLANK(Rådata!R1234),\"\",(Rådata!Q1234*100)/Rådata!R1234)","v":""}]
[{"$f":"IF(ISBLANK(Rådata!A1235)=TRUE,\"\",Rådata!A1235)","v":""},{"$f":"IF(ISBLANK(Rådata!A1235)=TRUE,\"\",YEAR(A1235))","v":""},{"$f":"IF(ISBLANK(Rådata!A1235)=TRUE,\"\",VLOOKUP(MONTH(A1235),Opsætning!$G$3:$H$14,2,FALSE))","v":""},{"$f":"IF(ISBLANK(Rådata!B1235)=TRUE,\"\",(Rådata!C1235*100)/Rådata!B1235)","v":""},{"$f":"IF(ISBLANK(Rådata!D1235)=TRUE,\"\",((Rådata!D1235-Rådata!E1235)*100)/Rådata!D1235)","v":""},{"$f":"IF(ISBLANK(Rådata!G1235)=TRUE,\"\",(Rådata!F1235*100)/Rådata!G1235)","v":""},{"$f":"IF(ISBLANK(Rådata!K1235),\"\",(SUM(Rådata!M1235:P1235)*100)/SUM(Rådata!H1235:K1235))","v":""},{"$f":"IF(ISBLANK(Rådata!H1235),\"\",((SUM(Rådata!J1235:L1235)-SUM(Rådata!O1235:P1235))*100)/SUM(Rådata!H1235:L1235))","v":""},{"$f":"IF(ISBLANK(Rådata!R1235),\"\",(Rådata!Q1235*100)/Rådata!R1235)","v":""}]
[{"$f":"IF(ISBLANK(Rådata!A1236)=TRUE,\"\",Rådata!A1236)","v":""},{"$f":"IF(ISBLANK(Rådata!A1236)=TRUE,\"\",YEAR(A1236))","v":""},{"$f":"IF(ISBLANK(Rådata!A1236)=TRUE,\"\",VLOOKUP(MONTH(A1236),Opsætning!$G$3:$H$14,2,FALSE))","v":""},{"$f":"IF(ISBLANK(Rådata!B1236)=TRUE,\"\",(Rådata!C1236*100)/Rådata!B1236)","v":""},{"$f":"IF(ISBLANK(Rådata!D1236)=TRUE,\"\",((Rådata!D1236-Rådata!E1236)*100)/Rådata!D1236)","v":""},{"$f":"IF(ISBLANK(Rådata!G1236)=TRUE,\"\",(Rådata!F1236*100)/Rådata!G1236)","v":""},{"$f":"IF(ISBLANK(Rådata!K1236),\"\",(SUM(Rådata!M1236:P1236)*100)/SUM(Rådata!H1236:K1236))","v":""},{"$f":"IF(ISBLANK(Rådata!H1236),\"\",((SUM(Rådata!J1236:L1236)-SUM(Rådata!O1236:P1236))*100)/SUM(Rådata!H1236:L1236))","v":""},{"$f":"IF(ISBLANK(Rådata!R1236),\"\",(Rådata!Q1236*100)/Rådata!R1236)","v":""}]
[{"$f":"IF(ISBLANK(Rådata!A1237)=TRUE,\"\",Rådata!A1237)","v":""},{"$f":"IF(ISBLANK(Rådata!A1237)=TRUE,\"\",YEAR(A1237))","v":""},{"$f":"IF(ISBLANK(Rådata!A1237)=TRUE,\"\",VLOOKUP(MONTH(A1237),Opsætning!$G$3:$H$14,2,FALSE))","v":""},{"$f":"IF(ISBLANK(Rådata!B1237)=TRUE,\"\",(Rådata!C1237*100)/Rådata!B1237)","v":""},{"$f":"IF(ISBLANK(Rådata!D1237)=TRUE,\"\",((Rådata!D1237-Rådata!E1237)*100)/Rådata!D1237)","v":""},{"$f":"IF(ISBLANK(Rådata!G1237)=TRUE,\"\",(Rådata!F1237*100)/Rådata!G1237)","v":""},{"$f":"IF(ISBLANK(Rådata!K1237),\"\",(SUM(Rådata!M1237:P1237)*100)/SUM(Rådata!H1237:K1237))","v":""},{"$f":"IF(ISBLANK(Rådata!H1237),\"\",((SUM(Rådata!J1237:L1237)-SUM(Rådata!O1237:P1237))*100)/SUM(Rådata!H1237:L1237))","v":""},{"$f":"IF(ISBLANK(Rådata!R1237),\"\",(Rådata!Q1237*100)/Rådata!R1237)","v":""}]
[{"$f":"IF(ISBLANK(Rådata!A1238)=TRUE,\"\",Rådata!A1238)","v":""},{"$f":"IF(ISBLANK(Rådata!A1238)=TRUE,\"\",YEAR(A1238))","v":""},{"$f":"IF(ISBLANK(Rådata!A1238)=TRUE,\"\",VLOOKUP(MONTH(A1238),Opsætning!$G$3:$H$14,2,FALSE))","v":""},{"$f":"IF(ISBLANK(Rådata!B1238)=TRUE,\"\",(Rådata!C1238*100)/Rådata!B1238)","v":""},{"$f":"IF(ISBLANK(Rådata!D1238)=TRUE,\"\",((Rådata!D1238-Rådata!E1238)*100)/Rådata!D1238)","v":""},{"$f":"IF(ISBLANK(Rådata!G1238)=TRUE,\"\",(Rådata!F1238*100)/Rådata!G1238)","v":""},{"$f":"IF(ISBLANK(Rådata!K1238),\"\",(SUM(Rådata!M1238:P1238)*100)/SUM(Rådata!H1238:K1238))","v":""},{"$f":"IF(ISBLANK(Rådata!H1238),\"\",((SUM(Rådata!J1238:L1238)-SUM(Rådata!O1238:P1238))*100)/SUM(Rådata!H1238:L1238))","v":""},{"$f":"IF(ISBLANK(Rådata!R1238),\"\",(Rådata!Q1238*100)/Rådata!R1238)","v":""}]
[{"$f":"IF(ISBLANK(Rådata!A1239)=TRUE,\"\",Rådata!A1239)","v":""},{"$f":"IF(ISBLANK(Rådata!A1239)=TRUE,\"\",YEAR(A1239))","v":""},{"$f":"IF(ISBLANK(Rådata!A1239)=TRUE,\"\",VLOOKUP(MONTH(A1239),Opsætning!$G$3:$H$14,2,FALSE))","v":""},{"$f":"IF(ISBLANK(Rådata!B1239)=TRUE,\"\",(Rådata!C1239*100)/Rådata!B1239)","v":""},{"$f":"IF(ISBLANK(Rådata!D1239)=TRUE,\"\",((Rådata!D1239-Rådata!E1239)*100)/Rådata!D1239)","v":""},{"$f":"IF(ISBLANK(Rådata!G1239)=TRUE,\"\",(Rådata!F1239*100)/Rådata!G1239)","v":""},{"$f":"IF(ISBLANK(Rådata!K1239),\"\",(SUM(Rådata!M1239:P1239)*100)/SUM(Rådata!H1239:K1239))","v":""},{"$f":"IF(ISBLANK(Rådata!H1239),\"\",((SUM(Rådata!J1239:L1239)-SUM(Rådata!O1239:P1239))*100)/SUM(Rådata!H1239:L1239))","v":""},{"$f":"IF(ISBLANK(Rådata!R1239),\"\",(Rådata!Q1239*100)/Rådata!R1239)","v":""}]
[{"$f":"IF(ISBLANK(Rådata!A1240)=TRUE,\"\",Rådata!A1240)","v":""},{"$f":"IF(ISBLANK(Rådata!A1240)=TRUE,\"\",YEAR(A1240))","v":""},{"$f":"IF(ISBLANK(Rådata!A1240)=TRUE,\"\",VLOOKUP(MONTH(A1240),Opsætning!$G$3:$H$14,2,FALSE))","v":""},{"$f":"IF(ISBLANK(Rådata!B1240)=TRUE,\"\",(Rådata!C1240*100)/Rådata!B1240)","v":""},{"$f":"IF(ISBLANK(Rådata!D1240)=TRUE,\"\",((Rådata!D1240-Rådata!E1240)*100)/Rådata!D1240)","v":""},{"$f":"IF(ISBLANK(Rådata!G1240)=TRUE,\"\",(Rådata!F1240*100)/Rådata!G1240)","v":""},{"$f":"IF(ISBLANK(Rådata!K1240),\"\",(SUM(Rådata!M1240:P1240)*100)/SUM(Rådata!H1240:K1240))","v":""},{"$f":"IF(ISBLANK(Rådata!H1240),\"\",((SUM(Rådata!J1240:L1240)-SUM(Rådata!O1240:P1240))*100)/SUM(Rådata!H1240:L1240))","v":""},{"$f":"IF(ISBLANK(Rådata!R1240),\"\",(Rådata!Q1240*100)/Rådata!R1240)","v":""}]
[{"$f":"IF(ISBLANK(Rådata!A1241)=TRUE,\"\",Rådata!A1241)","v":""},{"$f":"IF(ISBLANK(Rådata!A1241)=TRUE,\"\",YEAR(A1241))","v":""},{"$f":"IF(ISBLANK(Rådata!A1241)=TRUE,\"\",VLOOKUP(MONTH(A1241),Opsætning!$G$3:$H$14,2,FALSE))","v":""},{"$f":"IF(ISBLANK(Rådata!B1241)=TRUE,\"\",(Rådata!C1241*100)/Rådata!B1241)","v":""},{"$f":"IF(ISBLANK(Rådata!D1241)=TRUE,\"\",((Rådata!D1241-Rådata!E1241)*100)/Rådata!D1241)","v":""},{"$f":"IF(ISBLANK(Rådata!G1241)=TRUE,\"\",(Rådata!F1241*100)/Rådata!G1241)","v":""},{"$f":"IF(ISBLANK(Rådata!K1241),\"\",(SUM(Rådata!M1241:P1241)*100)/SUM(Rådata!H1241:K1241))","v":""},{"$f":"IF(ISBLANK(Rådata!H1241),\"\",((SUM(Rådata!J1241:L1241)-SUM(Rådata!O1241:P1241))*100)/SUM(Rådata!H1241:L1241))","v":""},{"$f":"IF(ISBLANK(Rådata!R1241),\"\",(Rådata!Q1241*100)/Rådata!R1241)","v":""}]
[{"$f":"IF(ISBLANK(Rådata!A1242)=TRUE,\"\",Rådata!A1242)","v":""},{"$f":"IF(ISBLANK(Rådata!A1242)=TRUE,\"\",YEAR(A1242))","v":""},{"$f":"IF(ISBLANK(Rådata!A1242)=TRUE,\"\",VLOOKUP(MONTH(A1242),Opsætning!$G$3:$H$14,2,FALSE))","v":""},{"$f":"IF(ISBLANK(Rådata!B1242)=TRUE,\"\",(Rådata!C1242*100)/Rådata!B1242)","v":""},{"$f":"IF(ISBLANK(Rådata!D1242)=TRUE,\"\",((Rådata!D1242-Rådata!E1242)*100)/Rådata!D1242)","v":""},{"$f":"IF(ISBLANK(Rådata!G1242)=TRUE,\"\",(Rådata!F1242*100)/Rådata!G1242)","v":""},{"$f":"IF(ISBLANK(Rådata!K1242),\"\",(SUM(Rådata!M1242:P1242)*100)/SUM(Rådata!H1242:K1242))","v":""},{"$f":"IF(ISBLANK(Rådata!H1242),\"\",((SUM(Rådata!J1242:L1242)-SUM(Rådata!O1242:P1242))*100)/SUM(Rådata!H1242:L1242))","v":""},{"$f":"IF(ISBLANK(Rådata!R1242),\"\",(Rådata!Q1242*100)/Rådata!R1242)","v":""}]
[{"$f":"IF(ISBLANK(Rådata!A1243)=TRUE,\"\",Rådata!A1243)","v":""},{"$f":"IF(ISBLANK(Rådata!A1243)=TRUE,\"\",YEAR(A1243))","v":""},{"$f":"IF(ISBLANK(Rådata!A1243)=TRUE,\"\",VLOOKUP(MONTH(A1243),Opsætning!$G$3:$H$14,2,FALSE))","v":""},{"$f":"IF(ISBLANK(Rådata!B1243)=TRUE,\"\",(Rådata!C1243*100)/Rådata!B1243)","v":""},{"$f":"IF(ISBLANK(Rådata!D1243)=TRUE,\"\",((Rådata!D1243-Rådata!E1243)*100)/Rådata!D1243)","v":""},{"$f":"IF(ISBLANK(Rådata!G1243)=TRUE,\"\",(Rådata!F1243*100)/Rådata!G1243)","v":""},{"$f":"IF(ISBLANK(Rådata!K1243),\"\",(SUM(Rådata!M1243:P1243)*100)/SUM(Rådata!H1243:K1243))","v":""},{"$f":"IF(ISBLANK(Rådata!H1243),\"\",((SUM(Rådata!J1243:L1243)-SUM(Rådata!O1243:P1243))*100)/SUM(Rådata!H1243:L1243))","v":""},{"$f":"IF(ISBLANK(Rådata!R1243),\"\",(Rådata!Q1243*100)/Rådata!R1243)","v":""}]
[{"$f":"IF(ISBLANK(Rådata!A1244)=TRUE,\"\",Rådata!A1244)","v":""},{"$f":"IF(ISBLANK(Rådata!A1244)=TRUE,\"\",YEAR(A1244))","v":""},{"$f":"IF(ISBLANK(Rådata!A1244)=TRUE,\"\",VLOOKUP(MONTH(A1244),Opsætning!$G$3:$H$14,2,FALSE))","v":""},{"$f":"IF(ISBLANK(Rådata!B1244)=TRUE,\"\",(Rådata!C1244*100)/Rådata!B1244)","v":""},{"$f":"IF(ISBLANK(Rådata!D1244)=TRUE,\"\",((Rådata!D1244-Rådata!E1244)*100)/Rådata!D1244)","v":""},{"$f":"IF(ISBLANK(Rådata!G1244)=TRUE,\"\",(Rådata!F1244*100)/Rådata!G1244)","v":""},{"$f":"IF(ISBLANK(Rådata!K1244),\"\",(SUM(Rådata!M1244:P1244)*100)/SUM(Rådata!H1244:K1244))","v":""},{"$f":"IF(ISBLANK(Rådata!H1244),\"\",((SUM(Rådata!J1244:L1244)-SUM(Rådata!O1244:P1244))*100)/SUM(Rådata!H1244:L1244))","v":""},{"$f":"IF(ISBLANK(Rådata!R1244),\"\",(Rådata!Q1244*100)/Rådata!R1244)","v":""}]
[{"$f":"IF(ISBLANK(Rådata!A1245)=TRUE,\"\",Rådata!A1245)","v":""},{"$f":"IF(ISBLANK(Rådata!A1245)=TRUE,\"\",YEAR(A1245))","v":""},{"$f":"IF(ISBLANK(Rådata!A1245)=TRUE,\"\",VLOOKUP(MONTH(A1245),Opsætning!$G$3:$H$14,2,FALSE))","v":""},{"$f":"IF(ISBLANK(Rådata!B1245)=TRUE,\"\",(Rådata!C1245*100)/Rådata!B1245)","v":""},{"$f":"IF(ISBLANK(Rådata!D1245)=TRUE,\"\",((Rådata!D1245-Rådata!E1245)*100)/Rådata!D1245)","v":""},{"$f":"IF(ISBLANK(Rådata!G1245)=TRUE,\"\",(Rådata!F1245*100)/Rådata!G1245)","v":""},{"$f":"IF(ISBLANK(Rådata!K1245),\"\",(SUM(Rådata!M1245:P1245)*100)/SUM(Rådata!H1245:K1245))","v":""},{"$f":"IF(ISBLANK(Rådata!H1245),\"\",((SUM(Rådata!J1245:L1245)-SUM(Rådata!O1245:P1245))*100)/SUM(Rådata!H1245:L1245))","v":""},{"$f":"IF(ISBLANK(Rådata!R1245),\"\",(Rådata!Q1245*100)/Rådata!R1245)","v":""}]
[{"$f":"IF(ISBLANK(Rådata!A1246)=TRUE,\"\",Rådata!A1246)","v":""},{"$f":"IF(ISBLANK(Rådata!A1246)=TRUE,\"\",YEAR(A1246))","v":""},{"$f":"IF(ISBLANK(Rådata!A1246)=TRUE,\"\",VLOOKUP(MONTH(A1246),Opsætning!$G$3:$H$14,2,FALSE))","v":""},{"$f":"IF(ISBLANK(Rådata!B1246)=TRUE,\"\",(Rådata!C1246*100)/Rådata!B1246)","v":""},{"$f":"IF(ISBLANK(Rådata!D1246)=TRUE,\"\",((Rådata!D1246-Rådata!E1246)*100)/Rådata!D1246)","v":""},{"$f":"IF(ISBLANK(Rådata!G1246)=TRUE,\"\",(Rådata!F1246*100)/Rådata!G1246)","v":""},{"$f":"IF(ISBLANK(Rådata!K1246),\"\",(SUM(Rådata!M1246:P1246)*100)/SUM(Rådata!H1246:K1246))","v":""},{"$f":"IF(ISBLANK(Rådata!H1246),\"\",((SUM(Rådata!J1246:L1246)-SUM(Rådata!O1246:P1246))*100)/SUM(Rådata!H1246:L1246))","v":""},{"$f":"IF(ISBLANK(Rådata!R1246),\"\",(Rådata!Q1246*100)/Rådata!R1246)","v":""}]
[{"$f":"IF(ISBLANK(Rådata!A1247)=TRUE,\"\",Rådata!A1247)","v":""},{"$f":"IF(ISBLANK(Rådata!A1247)=TRUE,\"\",YEAR(A1247))","v":""},{"$f":"IF(ISBLANK(Rådata!A1247)=TRUE,\"\",VLOOKUP(MONTH(A1247),Opsætning!$G$3:$H$14,2,FALSE))","v":""},{"$f":"IF(ISBLANK(Rådata!B1247)=TRUE,\"\",(Rådata!C1247*100)/Rådata!B1247)","v":""},{"$f":"IF(ISBLANK(Rådata!D1247)=TRUE,\"\",((Rådata!D1247-Rådata!E1247)*100)/Rådata!D1247)","v":""},{"$f":"IF(ISBLANK(Rådata!G1247)=TRUE,\"\",(Rådata!F1247*100)/Rådata!G1247)","v":""},{"$f":"IF(ISBLANK(Rådata!K1247),\"\",(SUM(Rådata!M1247:P1247)*100)/SUM(Rådata!H1247:K1247))","v":""},{"$f":"IF(ISBLANK(Rådata!H1247),\"\",((SUM(Rådata!J1247:L1247)-SUM(Rådata!O1247:P1247))*100)/SUM(Rådata!H1247:L1247))","v":""},{"$f":"IF(ISBLANK(Rådata!R1247),\"\",(Rådata!Q1247*100)/Rådata!R1247)","v":""}]
[{"$f":"IF(ISBLANK(Rådata!A1248)=TRUE,\"\",Rådata!A1248)","v":""},{"$f":"IF(ISBLANK(Rådata!A1248)=TRUE,\"\",YEAR(A1248))","v":""},{"$f":"IF(ISBLANK(Rådata!A1248)=TRUE,\"\",VLOOKUP(MONTH(A1248),Opsætning!$G$3:$H$14,2,FALSE))","v":""},{"$f":"IF(ISBLANK(Rådata!B1248)=TRUE,\"\",(Rådata!C1248*100)/Rådata!B1248)","v":""},{"$f":"IF(ISBLANK(Rådata!D1248)=TRUE,\"\",((Rådata!D1248-Rådata!E1248)*100)/Rådata!D1248)","v":""},{"$f":"IF(ISBLANK(Rådata!G1248)=TRUE,\"\",(Rådata!F1248*100)/Rådata!G1248)","v":""},{"$f":"IF(ISBLANK(Rådata!K1248),\"\",(SUM(Rådata!M1248:P1248)*100)/SUM(Rådata!H1248:K1248))","v":""},{"$f":"IF(ISBLANK(Rådata!H1248),\"\",((SUM(Rådata!J1248:L1248)-SUM(Rådata!O1248:P1248))*100)/SUM(Rådata!H1248:L1248))","v":""},{"$f":"IF(ISBLANK(Rådata!R1248),\"\",(Rådata!Q1248*100)/Rådata!R1248)","v":""}]
[{"$f":"IF(ISBLANK(Rådata!A1249)=TRUE,\"\",Rådata!A1249)","v":""},{"$f":"IF(ISBLANK(Rådata!A1249)=TRUE,\"\",YEAR(A1249))","v":""},{"$f":"IF(ISBLANK(Rådata!A1249)=TRUE,\"\",VLOOKUP(MONTH(A1249),Opsætning!$G$3:$H$14,2,FALSE))","v":""},{"$f":"IF(ISBLANK(Rådata!B1249)=TRUE,\"\",(Rådata!C1249*100)/Rådata!B1249)","v":""},{"$f":"IF(ISBLANK(Rådata!D1249)=TRUE,\"\",((Rådata!D1249-Rådata!E1249)*100)/Rådata!D1249)","v":""},{"$f":"IF(ISBLANK(Rådata!G1249)=TRUE,\"\",(Rådata!F1249*100)/Rådata!G1249)","v":""},{"$f":"IF(ISBLANK(Rådata!K1249),\"\",(SUM(Rådata!M1249:P1249)*100)/SUM(Rådata!H1249:K1249))","v":""},{"$f":"IF(ISBLANK(Rådata!H1249),\"\",((SUM(Rådata!J1249:L1249)-SUM(Rådata!O1249:P1249))*100)/SUM(Rådata!H1249:L1249))","v":""},{"$f":"IF(ISBLANK(Rådata!R1249),\"\",(Rådata!Q1249*100)/Rådata!R1249)","v":""}]
[{"$f":"IF(ISBLANK(Rådata!A1250)=TRUE,\"\",Rådata!A1250)","v":""},{"$f":"IF(ISBLANK(Rådata!A1250)=TRUE,\"\",YEAR(A1250))","v":""},{"$f":"IF(ISBLANK(Rådata!A1250)=TRUE,\"\",VLOOKUP(MONTH(A1250),Opsætning!$G$3:$H$14,2,FALSE))","v":""},{"$f":"IF(ISBLANK(Rådata!B1250)=TRUE,\"\",(Rådata!C1250*100)/Rådata!B1250)","v":""},{"$f":"IF(ISBLANK(Rådata!D1250)=TRUE,\"\",((Rådata!D1250-Rådata!E1250)*100)/Rådata!D1250)","v":""},{"$f":"IF(ISBLANK(Rådata!G1250)=TRUE,\"\",(Rådata!F1250*100)/Rådata!G1250)","v":""},{"$f":"IF(ISBLANK(Rådata!K1250),\"\",(SUM(Rådata!M1250:P1250)*100)/SUM(Rådata!H1250:K1250))","v":""},{"$f":"IF(ISBLANK(Rådata!H1250),\"\",((SUM(Rådata!J1250:L1250)-SUM(Rådata!O1250:P1250))*100)/SUM(Rådata!H1250:L1250))","v":""},{"$f":"IF(ISBLANK(Rådata!R1250),\"\",(Rådata!Q1250*100)/Rådata!R1250)","v":""}]
[{"$f":"IF(ISBLANK(Rådata!A1251)=TRUE,\"\",Rådata!A1251)","v":""},{"$f":"IF(ISBLANK(Rådata!A1251)=TRUE,\"\",YEAR(A1251))","v":""},{"$f":"IF(ISBLANK(Rådata!A1251)=TRUE,\"\",VLOOKUP(MONTH(A1251),Opsætning!$G$3:$H$14,2,FALSE))","v":""},{"$f":"IF(ISBLANK(Rådata!B1251)=TRUE,\"\",(Rådata!C1251*100)/Rådata!B1251)","v":""},{"$f":"IF(ISBLANK(Rådata!D1251)=TRUE,\"\",((Rådata!D1251-Rådata!E1251)*100)/Rådata!D1251)","v":""},{"$f":"IF(ISBLANK(Rådata!G1251)=TRUE,\"\",(Rådata!F1251*100)/Rådata!G1251)","v":""},{"$f":"IF(ISBLANK(Rådata!K1251),\"\",(SUM(Rådata!M1251:P1251)*100)/SUM(Rådata!H1251:K1251))","v":""},{"$f":"IF(ISBLANK(Rådata!H1251),\"\",((SUM(Rådata!J1251:L1251)-SUM(Rådata!O1251:P1251))*100)/SUM(Rådata!H1251:L1251))","v":""},{"$f":"IF(ISBLANK(Rådata!R1251),\"\",(Rådata!Q1251*100)/Rådata!R1251)","v":""}]
[{"$f":"IF(ISBLANK(Rådata!A1252)=TRUE,\"\",Rådata!A1252)","v":""},{"$f":"IF(ISBLANK(Rådata!A1252)=TRUE,\"\",YEAR(A1252))","v":""},{"$f":"IF(ISBLANK(Rådata!A1252)=TRUE,\"\",VLOOKUP(MONTH(A1252),Opsætning!$G$3:$H$14,2,FALSE))","v":""},{"$f":"IF(ISBLANK(Rådata!B1252)=TRUE,\"\",(Rådata!C1252*100)/Rådata!B1252)","v":""},{"$f":"IF(ISBLANK(Rådata!D1252)=TRUE,\"\",((Rådata!D1252-Rådata!E1252)*100)/Rådata!D1252)","v":""},{"$f":"IF(ISBLANK(Rådata!G1252)=TRUE,\"\",(Rådata!F1252*100)/Rådata!G1252)","v":""},{"$f":"IF(ISBLANK(Rådata!K1252),\"\",(SUM(Rådata!M1252:P1252)*100)/SUM(Rådata!H1252:K1252))","v":""},{"$f":"IF(ISBLANK(Rådata!H1252),\"\",((SUM(Rådata!J1252:L1252)-SUM(Rådata!O1252:P1252))*100)/SUM(Rådata!H1252:L1252))","v":""},{"$f":"IF(ISBLANK(Rådata!R1252),\"\",(Rådata!Q1252*100)/Rådata!R1252)","v":""}]
[{"$f":"IF(ISBLANK(Rådata!A1253)=TRUE,\"\",Rådata!A1253)","v":""},{"$f":"IF(ISBLANK(Rådata!A1253)=TRUE,\"\",YEAR(A1253))","v":""},{"$f":"IF(ISBLANK(Rådata!A1253)=TRUE,\"\",VLOOKUP(MONTH(A1253),Opsætning!$G$3:$H$14,2,FALSE))","v":""},{"$f":"IF(ISBLANK(Rådata!B1253)=TRUE,\"\",(Rådata!C1253*100)/Rådata!B1253)","v":""},{"$f":"IF(ISBLANK(Rådata!D1253)=TRUE,\"\",((Rådata!D1253-Rådata!E1253)*100)/Rådata!D1253)","v":""},{"$f":"IF(ISBLANK(Rådata!G1253)=TRUE,\"\",(Rådata!F1253*100)/Rådata!G1253)","v":""},{"$f":"IF(ISBLANK(Rådata!K1253),\"\",(SUM(Rådata!M1253:P1253)*100)/SUM(Rådata!H1253:K1253))","v":""},{"$f":"IF(ISBLANK(Rådata!H1253),\"\",((SUM(Rådata!J1253:L1253)-SUM(Rådata!O1253:P1253))*100)/SUM(Rådata!H1253:L1253))","v":""},{"$f":"IF(ISBLANK(Rådata!R1253),\"\",(Rådata!Q1253*100)/Rådata!R1253)","v":""}]
[{"$f":"IF(ISBLANK(Rådata!A1254)=TRUE,\"\",Rådata!A1254)","v":""},{"$f":"IF(ISBLANK(Rådata!A1254)=TRUE,\"\",YEAR(A1254))","v":""},{"$f":"IF(ISBLANK(Rådata!A1254)=TRUE,\"\",VLOOKUP(MONTH(A1254),Opsætning!$G$3:$H$14,2,FALSE))","v":""},{"$f":"IF(ISBLANK(Rådata!B1254)=TRUE,\"\",(Rådata!C1254*100)/Rådata!B1254)","v":""},{"$f":"IF(ISBLANK(Rådata!D1254)=TRUE,\"\",((Rådata!D1254-Rådata!E1254)*100)/Rådata!D1254)","v":""},{"$f":"IF(ISBLANK(Rådata!G1254)=TRUE,\"\",(Rådata!F1254*100)/Rådata!G1254)","v":""},{"$f":"IF(ISBLANK(Rådata!K1254),\"\",(SUM(Rådata!M1254:P1254)*100)/SUM(Rådata!H1254:K1254))","v":""},{"$f":"IF(ISBLANK(Rådata!H1254),\"\",((SUM(Rådata!J1254:L1254)-SUM(Rådata!O1254:P1254))*100)/SUM(Rådata!H1254:L1254))","v":""},{"$f":"IF(ISBLANK(Rådata!R1254),\"\",(Rådata!Q1254*100)/Rådata!R1254)","v":""}]
[{"$f":"IF(ISBLANK(Rådata!A1255)=TRUE,\"\",Rådata!A1255)","v":""},{"$f":"IF(ISBLANK(Rådata!A1255)=TRUE,\"\",YEAR(A1255))","v":""},{"$f":"IF(ISBLANK(Rådata!A1255)=TRUE,\"\",VLOOKUP(MONTH(A1255),Opsætning!$G$3:$H$14,2,FALSE))","v":""},{"$f":"IF(ISBLANK(Rådata!B1255)=TRUE,\"\",(Rådata!C1255*100)/Rådata!B1255)","v":""},{"$f":"IF(ISBLANK(Rådata!D1255)=TRUE,\"\",((Rådata!D1255-Rådata!E1255)*100)/Rådata!D1255)","v":""},{"$f":"IF(ISBLANK(Rådata!G1255)=TRUE,\"\",(Rådata!F1255*100)/Rådata!G1255)","v":""},{"$f":"IF(ISBLANK(Rådata!K1255),\"\",(SUM(Rådata!M1255:P1255)*100)/SUM(Rådata!H1255:K1255))","v":""},{"$f":"IF(ISBLANK(Rådata!H1255),\"\",((SUM(Rådata!J1255:L1255)-SUM(Rådata!O1255:P1255))*100)/SUM(Rådata!H1255:L1255))","v":""},{"$f":"IF(ISBLANK(Rådata!R1255),\"\",(Rådata!Q1255*100)/Rådata!R1255)","v":""}]
[{"$f":"IF(ISBLANK(Rådata!A1256)=TRUE,\"\",Rådata!A1256)","v":""},{"$f":"IF(ISBLANK(Rådata!A1256)=TRUE,\"\",YEAR(A1256))","v":""},{"$f":"IF(ISBLANK(Rådata!A1256)=TRUE,\"\",VLOOKUP(MONTH(A1256),Opsætning!$G$3:$H$14,2,FALSE))","v":""},{"$f":"IF(ISBLANK(Rådata!B1256)=TRUE,\"\",(Rådata!C1256*100)/Rådata!B1256)","v":""},{"$f":"IF(ISBLANK(Rådata!D1256)=TRUE,\"\",((Rådata!D1256-Rådata!E1256)*100)/Rådata!D1256)","v":""},{"$f":"IF(ISBLANK(Rådata!G1256)=TRUE,\"\",(Rådata!F1256*100)/Rådata!G1256)","v":""},{"$f":"IF(ISBLANK(Rådata!K1256),\"\",(SUM(Rådata!M1256:P1256)*100)/SUM(Rådata!H1256:K1256))","v":""},{"$f":"IF(ISBLANK(Rådata!H1256),\"\",((SUM(Rådata!J1256:L1256)-SUM(Rådata!O1256:P1256))*100)/SUM(Rådata!H1256:L1256))","v":""},{"$f":"IF(ISBLANK(Rådata!R1256),\"\",(Rådata!Q1256*100)/Rådata!R1256)","v":""}]
[{"$f":"IF(ISBLANK(Rådata!A1257)=TRUE,\"\",Rådata!A1257)","v":""},{"$f":"IF(ISBLANK(Rådata!A1257)=TRUE,\"\",YEAR(A1257))","v":""},{"$f":"IF(ISBLANK(Rådata!A1257)=TRUE,\"\",VLOOKUP(MONTH(A1257),Opsætning!$G$3:$H$14,2,FALSE))","v":""},{"$f":"IF(ISBLANK(Rådata!B1257)=TRUE,\"\",(Rådata!C1257*100)/Rådata!B1257)","v":""},{"$f":"IF(ISBLANK(Rådata!D1257)=TRUE,\"\",((Rådata!D1257-Rådata!E1257)*100)/Rådata!D1257)","v":""},{"$f":"IF(ISBLANK(Rådata!G1257)=TRUE,\"\",(Rådata!F1257*100)/Rådata!G1257)","v":""},{"$f":"IF(ISBLANK(Rådata!K1257),\"\",(SUM(Rådata!M1257:P1257)*100)/SUM(Rådata!H1257:K1257))","v":""},{"$f":"IF(ISBLANK(Rådata!H1257),\"\",((SUM(Rådata!J1257:L1257)-SUM(Rådata!O1257:P1257))*100)/SUM(Rådata!H1257:L1257))","v":""},{"$f":"IF(ISBLANK(Rådata!R1257),\"\",(Rådata!Q1257*100)/Rådata!R1257)","v":""}]
[{"$f":"IF(ISBLANK(Rådata!A1258)=TRUE,\"\",Rådata!A1258)","v":""},{"$f":"IF(ISBLANK(Rådata!A1258)=TRUE,\"\",YEAR(A1258))","v":""},{"$f":"IF(ISBLANK(Rådata!A1258)=TRUE,\"\",VLOOKUP(MONTH(A1258),Opsætning!$G$3:$H$14,2,FALSE))","v":""},{"$f":"IF(ISBLANK(Rådata!B1258)=TRUE,\"\",(Rådata!C1258*100)/Rådata!B1258)","v":""},{"$f":"IF(ISBLANK(Rådata!D1258)=TRUE,\"\",((Rådata!D1258-Rådata!E1258)*100)/Rådata!D1258)","v":""},{"$f":"IF(ISBLANK(Rådata!G1258)=TRUE,\"\",(Rådata!F1258*100)/Rådata!G1258)","v":""},{"$f":"IF(ISBLANK(Rådata!K1258),\"\",(SUM(Rådata!M1258:P1258)*100)/SUM(Rådata!H1258:K1258))","v":""},{"$f":"IF(ISBLANK(Rådata!H1258),\"\",((SUM(Rådata!J1258:L1258)-SUM(Rådata!O1258:P1258))*100)/SUM(Rådata!H1258:L1258))","v":""},{"$f":"IF(ISBLANK(Rådata!R1258),\"\",(Rådata!Q1258*100)/Rådata!R1258)","v":""}]
[{"$f":"IF(ISBLANK(Rådata!A1259)=TRUE,\"\",Rådata!A1259)","v":""},{"$f":"IF(ISBLANK(Rådata!A1259)=TRUE,\"\",YEAR(A1259))","v":""},{"$f":"IF(ISBLANK(Rådata!A1259)=TRUE,\"\",VLOOKUP(MONTH(A1259),Opsætning!$G$3:$H$14,2,FALSE))","v":""},{"$f":"IF(ISBLANK(Rådata!B1259)=TRUE,\"\",(Rådata!C1259*100)/Rådata!B1259)","v":""},{"$f":"IF(ISBLANK(Rådata!D1259)=TRUE,\"\",((Rådata!D1259-Rådata!E1259)*100)/Rådata!D1259)","v":""},{"$f":"IF(ISBLANK(Rådata!G1259)=TRUE,\"\",(Rådata!F1259*100)/Rådata!G1259)","v":""},{"$f":"IF(ISBLANK(Rådata!K1259),\"\",(SUM(Rådata!M1259:P1259)*100)/SUM(Rådata!H1259:K1259))","v":""},{"$f":"IF(ISBLANK(Rådata!H1259),\"\",((SUM(Rådata!J1259:L1259)-SUM(Rådata!O1259:P1259))*100)/SUM(Rådata!H1259:L1259))","v":""},{"$f":"IF(ISBLANK(Rådata!R1259),\"\",(Rådata!Q1259*100)/Rådata!R1259)","v":""}]
[{"$f":"IF(ISBLANK(Rådata!A1260)=TRUE,\"\",Rådata!A1260)","v":""},{"$f":"IF(ISBLANK(Rådata!A1260)=TRUE,\"\",YEAR(A1260))","v":""},{"$f":"IF(ISBLANK(Rådata!A1260)=TRUE,\"\",VLOOKUP(MONTH(A1260),Opsætning!$G$3:$H$14,2,FALSE))","v":""},{"$f":"IF(ISBLANK(Rådata!B1260)=TRUE,\"\",(Rådata!C1260*100)/Rådata!B1260)","v":""},{"$f":"IF(ISBLANK(Rådata!D1260)=TRUE,\"\",((Rådata!D1260-Rådata!E1260)*100)/Rådata!D1260)","v":""},{"$f":"IF(ISBLANK(Rådata!G1260)=TRUE,\"\",(Rådata!F1260*100)/Rådata!G1260)","v":""},{"$f":"IF(ISBLANK(Rådata!K1260),\"\",(SUM(Rådata!M1260:P1260)*100)/SUM(Rådata!H1260:K1260))","v":""},{"$f":"IF(ISBLANK(Rådata!H1260),\"\",((SUM(Rådata!J1260:L1260)-SUM(Rådata!O1260:P1260))*100)/SUM(Rådata!H1260:L1260))","v":""},{"$f":"IF(ISBLANK(Rådata!R1260),\"\",(Rådata!Q1260*100)/Rådata!R1260)","v":""}]
[{"$f":"IF(ISBLANK(Rådata!A1261)=TRUE,\"\",Rådata!A1261)","v":""},{"$f":"IF(ISBLANK(Rådata!A1261)=TRUE,\"\",YEAR(A1261))","v":""},{"$f":"IF(ISBLANK(Rådata!A1261)=TRUE,\"\",VLOOKUP(MONTH(A1261),Opsætning!$G$3:$H$14,2,FALSE))","v":""},{"$f":"IF(ISBLANK(Rådata!B1261)=TRUE,\"\",(Rådata!C1261*100)/Rådata!B1261)","v":""},{"$f":"IF(ISBLANK(Rådata!D1261)=TRUE,\"\",((Rådata!D1261-Rådata!E1261)*100)/Rådata!D1261)","v":""},{"$f":"IF(ISBLANK(Rådata!G1261)=TRUE,\"\",(Rådata!F1261*100)/Rådata!G1261)","v":""},{"$f":"IF(ISBLANK(Rådata!K1261),\"\",(SUM(Rådata!M1261:P1261)*100)/SUM(Rådata!H1261:K1261))","v":""},{"$f":"IF(ISBLANK(Rådata!H1261),\"\",((SUM(Rådata!J1261:L1261)-SUM(Rådata!O1261:P1261))*100)/SUM(Rådata!H1261:L1261))","v":""},{"$f":"IF(ISBLANK(Rådata!R1261),\"\",(Rådata!Q1261*100)/Rådata!R1261)","v":""}]
[{"$f":"IF(ISBLANK(Rådata!A1262)=TRUE,\"\",Rådata!A1262)","v":""},{"$f":"IF(ISBLANK(Rådata!A1262)=TRUE,\"\",YEAR(A1262))","v":""},{"$f":"IF(ISBLANK(Rådata!A1262)=TRUE,\"\",VLOOKUP(MONTH(A1262),Opsætning!$G$3:$H$14,2,FALSE))","v":""},{"$f":"IF(ISBLANK(Rådata!B1262)=TRUE,\"\",(Rådata!C1262*100)/Rådata!B1262)","v":""},{"$f":"IF(ISBLANK(Rådata!D1262)=TRUE,\"\",((Rådata!D1262-Rådata!E1262)*100)/Rådata!D1262)","v":""},{"$f":"IF(ISBLANK(Rådata!G1262)=TRUE,\"\",(Rådata!F1262*100)/Rådata!G1262)","v":""},{"$f":"IF(ISBLANK(Rådata!K1262),\"\",(SUM(Rådata!M1262:P1262)*100)/SUM(Rådata!H1262:K1262))","v":""},{"$f":"IF(ISBLANK(Rådata!H1262),\"\",((SUM(Rådata!J1262:L1262)-SUM(Rådata!O1262:P1262))*100)/SUM(Rådata!H1262:L1262))","v":""},{"$f":"IF(ISBLANK(Rådata!R1262),\"\",(Rådata!Q1262*100)/Rådata!R1262)","v":""}]
[{"$f":"IF(ISBLANK(Rådata!A1263)=TRUE,\"\",Rådata!A1263)","v":""},{"$f":"IF(ISBLANK(Rådata!A1263)=TRUE,\"\",YEAR(A1263))","v":""},{"$f":"IF(ISBLANK(Rådata!A1263)=TRUE,\"\",VLOOKUP(MONTH(A1263),Opsætning!$G$3:$H$14,2,FALSE))","v":""},{"$f":"IF(ISBLANK(Rådata!B1263)=TRUE,\"\",(Rådata!C1263*100)/Rådata!B1263)","v":""},{"$f":"IF(ISBLANK(Rådata!D1263)=TRUE,\"\",((Rådata!D1263-Rådata!E1263)*100)/Rådata!D1263)","v":""},{"$f":"IF(ISBLANK(Rådata!G1263)=TRUE,\"\",(Rådata!F1263*100)/Rådata!G1263)","v":""},{"$f":"IF(ISBLANK(Rådata!K1263),\"\",(SUM(Rådata!M1263:P1263)*100)/SUM(Rådata!H1263:K1263))","v":""},{"$f":"IF(ISBLANK(Rådata!H1263),\"\",((SUM(Rådata!J1263:L1263)-SUM(Rådata!O1263:P1263))*100)/SUM(Rådata!H1263:L1263))","v":""},{"$f":"IF(ISBLANK(Rådata!R1263),\"\",(Rådata!Q1263*100)/Rådata!R1263)","v":""}]
[{"$f":"IF(ISBLANK(Rådata!A1264)=TRUE,\"\",Rådata!A1264)","v":""},{"$f":"IF(ISBLANK(Rådata!A1264)=TRUE,\"\",YEAR(A1264))","v":""},{"$f":"IF(ISBLANK(Rådata!A1264)=TRUE,\"\",VLOOKUP(MONTH(A1264),Opsætning!$G$3:$H$14,2,FALSE))","v":""},{"$f":"IF(ISBLANK(Rådata!B1264)=TRUE,\"\",(Rådata!C1264*100)/Rådata!B1264)","v":""},{"$f":"IF(ISBLANK(Rådata!D1264)=TRUE,\"\",((Rådata!D1264-Rådata!E1264)*100)/Rådata!D1264)","v":""},{"$f":"IF(ISBLANK(Rådata!G1264)=TRUE,\"\",(Rådata!F1264*100)/Rådata!G1264)","v":""},{"$f":"IF(ISBLANK(Rådata!K1264),\"\",(SUM(Rådata!M1264:P1264)*100)/SUM(Rådata!H1264:K1264))","v":""},{"$f":"IF(ISBLANK(Rådata!H1264),\"\",((SUM(Rådata!J1264:L1264)-SUM(Rådata!O1264:P1264))*100)/SUM(Rådata!H1264:L1264))","v":""},{"$f":"IF(ISBLANK(Rådata!R1264),\"\",(Rådata!Q1264*100)/Rådata!R1264)","v":""}]
[{"$f":"IF(ISBLANK(Rådata!A1265)=TRUE,\"\",Rådata!A1265)","v":""},{"$f":"IF(ISBLANK(Rådata!A1265)=TRUE,\"\",YEAR(A1265))","v":""},{"$f":"IF(ISBLANK(Rådata!A1265)=TRUE,\"\",VLOOKUP(MONTH(A1265),Opsætning!$G$3:$H$14,2,FALSE))","v":""},{"$f":"IF(ISBLANK(Rådata!B1265)=TRUE,\"\",(Rådata!C1265*100)/Rådata!B1265)","v":""},{"$f":"IF(ISBLANK(Rådata!D1265)=TRUE,\"\",((Rådata!D1265-Rådata!E1265)*100)/Rådata!D1265)","v":""},{"$f":"IF(ISBLANK(Rådata!G1265)=TRUE,\"\",(Rådata!F1265*100)/Rådata!G1265)","v":""},{"$f":"IF(ISBLANK(Rådata!K1265),\"\",(SUM(Rådata!M1265:P1265)*100)/SUM(Rådata!H1265:K1265))","v":""},{"$f":"IF(ISBLANK(Rådata!H1265),\"\",((SUM(Rådata!J1265:L1265)-SUM(Rådata!O1265:P1265))*100)/SUM(Rådata!H1265:L1265))","v":""},{"$f":"IF(ISBLANK(Rådata!R1265),\"\",(Rådata!Q1265*100)/Rådata!R1265)","v":""}]
[{"$f":"IF(ISBLANK(Rådata!A1266)=TRUE,\"\",Rådata!A1266)","v":""},{"$f":"IF(ISBLANK(Rådata!A1266)=TRUE,\"\",YEAR(A1266))","v":""},{"$f":"IF(ISBLANK(Rådata!A1266)=TRUE,\"\",VLOOKUP(MONTH(A1266),Opsætning!$G$3:$H$14,2,FALSE))","v":""},{"$f":"IF(ISBLANK(Rådata!B1266)=TRUE,\"\",(Rådata!C1266*100)/Rådata!B1266)","v":""},{"$f":"IF(ISBLANK(Rådata!D1266)=TRUE,\"\",((Rådata!D1266-Rådata!E1266)*100)/Rådata!D1266)","v":""},{"$f":"IF(ISBLANK(Rådata!G1266)=TRUE,\"\",(Rådata!F1266*100)/Rådata!G1266)","v":""},{"$f":"IF(ISBLANK(Rådata!K1266),\"\",(SUM(Rådata!M1266:P1266)*100)/SUM(Rådata!H1266:K1266))","v":""},{"$f":"IF(ISBLANK(Rådata!H1266),\"\",((SUM(Rådata!J1266:L1266)-SUM(Rådata!O1266:P1266))*100)/SUM(Rådata!H1266:L1266))","v":""},{"$f":"IF(ISBLANK(Rådata!R1266),\"\",(Rådata!Q1266*100)/Rådata!R1266)","v":""}]
[{"$f":"IF(ISBLANK(Rådata!A1267)=TRUE,\"\",Rådata!A1267)","v":""},{"$f":"IF(ISBLANK(Rådata!A1267)=TRUE,\"\",YEAR(A1267))","v":""},{"$f":"IF(ISBLANK(Rådata!A1267)=TRUE,\"\",VLOOKUP(MONTH(A1267),Opsætning!$G$3:$H$14,2,FALSE))","v":""},{"$f":"IF(ISBLANK(Rådata!B1267)=TRUE,\"\",(Rådata!C1267*100)/Rådata!B1267)","v":""},{"$f":"IF(ISBLANK(Rådata!D1267)=TRUE,\"\",((Rådata!D1267-Rådata!E1267)*100)/Rådata!D1267)","v":""},{"$f":"IF(ISBLANK(Rådata!G1267)=TRUE,\"\",(Rådata!F1267*100)/Rådata!G1267)","v":""},{"$f":"IF(ISBLANK(Rådata!K1267),\"\",(SUM(Rådata!M1267:P1267)*100)/SUM(Rådata!H1267:K1267))","v":""},{"$f":"IF(ISBLANK(Rådata!H1267),\"\",((SUM(Rådata!J1267:L1267)-SUM(Rådata!O1267:P1267))*100)/SUM(Rådata!H1267:L1267))","v":""},{"$f":"IF(ISBLANK(Rådata!R1267),\"\",(Rådata!Q1267*100)/Rådata!R1267)","v":""}]
[{"$f":"IF(ISBLANK(Rådata!A1268)=TRUE,\"\",Rådata!A1268)","v":""},{"$f":"IF(ISBLANK(Rådata!A1268)=TRUE,\"\",YEAR(A1268))","v":""},{"$f":"IF(ISBLANK(Rådata!A1268)=TRUE,\"\",VLOOKUP(MONTH(A1268),Opsætning!$G$3:$H$14,2,FALSE))","v":""},{"$f":"IF(ISBLANK(Rådata!B1268)=TRUE,\"\",(Rådata!C1268*100)/Rådata!B1268)","v":""},{"$f":"IF(ISBLANK(Rådata!D1268)=TRUE,\"\",((Rådata!D1268-Rådata!E1268)*100)/Rådata!D1268)","v":""},{"$f":"IF(ISBLANK(Rådata!G1268)=TRUE,\"\",(Rådata!F1268*100)/Rådata!G1268)","v":""},{"$f":"IF(ISBLANK(Rådata!K1268),\"\",(SUM(Rådata!M1268:P1268)*100)/SUM(Rådata!H1268:K1268))","v":""},{"$f":"IF(ISBLANK(Rådata!H1268),\"\",((SUM(Rådata!J1268:L1268)-SUM(Rådata!O1268:P1268))*100)/SUM(Rådata!H1268:L1268))","v":""},{"$f":"IF(ISBLANK(Rådata!R1268),\"\",(Rådata!Q1268*100)/Rådata!R1268)","v":""}]
[{"$f":"IF(ISBLANK(Rådata!A1269)=TRUE,\"\",Rådata!A1269)","v":""},{"$f":"IF(ISBLANK(Rådata!A1269)=TRUE,\"\",YEAR(A1269))","v":""},{"$f":"IF(ISBLANK(Rådata!A1269)=TRUE,\"\",VLOOKUP(MONTH(A1269),Opsætning!$G$3:$H$14,2,FALSE))","v":""},{"$f":"IF(ISBLANK(Rådata!B1269)=TRUE,\"\",(Rådata!C1269*100)/Rådata!B1269)","v":""},{"$f":"IF(ISBLANK(Rådata!D1269)=TRUE,\"\",((Rådata!D1269-Rådata!E1269)*100)/Rådata!D1269)","v":""},{"$f":"IF(ISBLANK(Rådata!G1269)=TRUE,\"\",(Rådata!F1269*100)/Rådata!G1269)","v":""},{"$f":"IF(ISBLANK(Rådata!K1269),\"\",(SUM(Rådata!M1269:P1269)*100)/SUM(Rådata!H1269:K1269))","v":""},{"$f":"IF(ISBLANK(Rådata!H1269),\"\",((SUM(Rådata!J1269:L1269)-SUM(Rådata!O1269:P1269))*100)/SUM(Rådata!H1269:L1269))","v":""},{"$f":"IF(ISBLANK(Rådata!R1269),\"\",(Rådata!Q1269*100)/Rådata!R1269)","v":""}]
[{"$f":"IF(ISBLANK(Rådata!A1270)=TRUE,\"\",Rådata!A1270)","v":""},{"$f":"IF(ISBLANK(Rådata!A1270)=TRUE,\"\",YEAR(A1270))","v":""},{"$f":"IF(ISBLANK(Rådata!A1270)=TRUE,\"\",VLOOKUP(MONTH(A1270),Opsætning!$G$3:$H$14,2,FALSE))","v":""},{"$f":"IF(ISBLANK(Rådata!B1270)=TRUE,\"\",(Rådata!C1270*100)/Rådata!B1270)","v":""},{"$f":"IF(ISBLANK(Rådata!D1270)=TRUE,\"\",((Rådata!D1270-Rådata!E1270)*100)/Rådata!D1270)","v":""},{"$f":"IF(ISBLANK(Rådata!G1270)=TRUE,\"\",(Rådata!F1270*100)/Rådata!G1270)","v":""},{"$f":"IF(ISBLANK(Rådata!K1270),\"\",(SUM(Rådata!M1270:P1270)*100)/SUM(Rådata!H1270:K1270))","v":""},{"$f":"IF(ISBLANK(Rådata!H1270),\"\",((SUM(Rådata!J1270:L1270)-SUM(Rådata!O1270:P1270))*100)/SUM(Rådata!H1270:L1270))","v":""},{"$f":"IF(ISBLANK(Rådata!R1270),\"\",(Rådata!Q1270*100)/Rådata!R1270)","v":""}]
[{"$f":"IF(ISBLANK(Rådata!A1271)=TRUE,\"\",Rådata!A1271)","v":""},{"$f":"IF(ISBLANK(Rådata!A1271)=TRUE,\"\",YEAR(A1271))","v":""},{"$f":"IF(ISBLANK(Rådata!A1271)=TRUE,\"\",VLOOKUP(MONTH(A1271),Opsætning!$G$3:$H$14,2,FALSE))","v":""},{"$f":"IF(ISBLANK(Rådata!B1271)=TRUE,\"\",(Rådata!C1271*100)/Rådata!B1271)","v":""},{"$f":"IF(ISBLANK(Rådata!D1271)=TRUE,\"\",((Rådata!D1271-Rådata!E1271)*100)/Rådata!D1271)","v":""},{"$f":"IF(ISBLANK(Rådata!G1271)=TRUE,\"\",(Rådata!F1271*100)/Rådata!G1271)","v":""},{"$f":"IF(ISBLANK(Rådata!K1271),\"\",(SUM(Rådata!M1271:P1271)*100)/SUM(Rådata!H1271:K1271))","v":""},{"$f":"IF(ISBLANK(Rådata!H1271),\"\",((SUM(Rådata!J1271:L1271)-SUM(Rådata!O1271:P1271))*100)/SUM(Rådata!H1271:L1271))","v":""},{"$f":"IF(ISBLANK(Rådata!R1271),\"\",(Rådata!Q1271*100)/Rådata!R1271)","v":""}]
[{"$f":"IF(ISBLANK(Rådata!A1272)=TRUE,\"\",Rådata!A1272)","v":""},{"$f":"IF(ISBLANK(Rådata!A1272)=TRUE,\"\",YEAR(A1272))","v":""},{"$f":"IF(ISBLANK(Rådata!A1272)=TRUE,\"\",VLOOKUP(MONTH(A1272),Opsætning!$G$3:$H$14,2,FALSE))","v":""},{"$f":"IF(ISBLANK(Rådata!B1272)=TRUE,\"\",(Rådata!C1272*100)/Rådata!B1272)","v":""},{"$f":"IF(ISBLANK(Rådata!D1272)=TRUE,\"\",((Rådata!D1272-Rådata!E1272)*100)/Rådata!D1272)","v":""},{"$f":"IF(ISBLANK(Rådata!G1272)=TRUE,\"\",(Rådata!F1272*100)/Rådata!G1272)","v":""},{"$f":"IF(ISBLANK(Rådata!K1272),\"\",(SUM(Rådata!M1272:P1272)*100)/SUM(Rådata!H1272:K1272))","v":""},{"$f":"IF(ISBLANK(Rådata!H1272),\"\",((SUM(Rådata!J1272:L1272)-SUM(Rådata!O1272:P1272))*100)/SUM(Rådata!H1272:L1272))","v":""},{"$f":"IF(ISBLANK(Rådata!R1272),\"\",(Rådata!Q1272*100)/Rådata!R1272)","v":""}]
[{"$f":"IF(ISBLANK(Rådata!A1273)=TRUE,\"\",Rådata!A1273)","v":""},{"$f":"IF(ISBLANK(Rådata!A1273)=TRUE,\"\",YEAR(A1273))","v":""},{"$f":"IF(ISBLANK(Rådata!A1273)=TRUE,\"\",VLOOKUP(MONTH(A1273),Opsætning!$G$3:$H$14,2,FALSE))","v":""},{"$f":"IF(ISBLANK(Rådata!B1273)=TRUE,\"\",(Rådata!C1273*100)/Rådata!B1273)","v":""},{"$f":"IF(ISBLANK(Rådata!D1273)=TRUE,\"\",((Rådata!D1273-Rådata!E1273)*100)/Rådata!D1273)","v":""},{"$f":"IF(ISBLANK(Rådata!G1273)=TRUE,\"\",(Rådata!F1273*100)/Rådata!G1273)","v":""},{"$f":"IF(ISBLANK(Rådata!K1273),\"\",(SUM(Rådata!M1273:P1273)*100)/SUM(Rådata!H1273:K1273))","v":""},{"$f":"IF(ISBLANK(Rådata!H1273),\"\",((SUM(Rådata!J1273:L1273)-SUM(Rådata!O1273:P1273))*100)/SUM(Rådata!H1273:L1273))","v":""},{"$f":"IF(ISBLANK(Rådata!R1273),\"\",(Rådata!Q1273*100)/Rådata!R1273)","v":""}]
[{"$f":"IF(ISBLANK(Rådata!A1274)=TRUE,\"\",Rådata!A1274)","v":""},{"$f":"IF(ISBLANK(Rådata!A1274)=TRUE,\"\",YEAR(A1274))","v":""},{"$f":"IF(ISBLANK(Rådata!A1274)=TRUE,\"\",VLOOKUP(MONTH(A1274),Opsætning!$G$3:$H$14,2,FALSE))","v":""},{"$f":"IF(ISBLANK(Rådata!B1274)=TRUE,\"\",(Rådata!C1274*100)/Rådata!B1274)","v":""},{"$f":"IF(ISBLANK(Rådata!D1274)=TRUE,\"\",((Rådata!D1274-Rådata!E1274)*100)/Rådata!D1274)","v":""},{"$f":"IF(ISBLANK(Rådata!G1274)=TRUE,\"\",(Rådata!F1274*100)/Rådata!G1274)","v":""},{"$f":"IF(ISBLANK(Rådata!K1274),\"\",(SUM(Rådata!M1274:P1274)*100)/SUM(Rådata!H1274:K1274))","v":""},{"$f":"IF(ISBLANK(Rådata!H1274),\"\",((SUM(Rådata!J1274:L1274)-SUM(Rådata!O1274:P1274))*100)/SUM(Rådata!H1274:L1274))","v":""},{"$f":"IF(ISBLANK(Rådata!R1274),\"\",(Rådata!Q1274*100)/Rådata!R1274)","v":""}]
[{"$f":"IF(ISBLANK(Rådata!A1275)=TRUE,\"\",Rådata!A1275)","v":""},{"$f":"IF(ISBLANK(Rådata!A1275)=TRUE,\"\",YEAR(A1275))","v":""},{"$f":"IF(ISBLANK(Rådata!A1275)=TRUE,\"\",VLOOKUP(MONTH(A1275),Opsætning!$G$3:$H$14,2,FALSE))","v":""},{"$f":"IF(ISBLANK(Rådata!B1275)=TRUE,\"\",(Rådata!C1275*100)/Rådata!B1275)","v":""},{"$f":"IF(ISBLANK(Rådata!D1275)=TRUE,\"\",((Rådata!D1275-Rådata!E1275)*100)/Rådata!D1275)","v":""},{"$f":"IF(ISBLANK(Rådata!G1275)=TRUE,\"\",(Rådata!F1275*100)/Rådata!G1275)","v":""},{"$f":"IF(ISBLANK(Rådata!K1275),\"\",(SUM(Rådata!M1275:P1275)*100)/SUM(Rådata!H1275:K1275))","v":""},{"$f":"IF(ISBLANK(Rådata!H1275),\"\",((SUM(Rådata!J1275:L1275)-SUM(Rådata!O1275:P1275))*100)/SUM(Rådata!H1275:L1275))","v":""},{"$f":"IF(ISBLANK(Rådata!R1275),\"\",(Rådata!Q1275*100)/Rådata!R1275)","v":""}]
[{"$f":"IF(ISBLANK(Rådata!A1276)=TRUE,\"\",Rådata!A1276)","v":""},{"$f":"IF(ISBLANK(Rådata!A1276)=TRUE,\"\",YEAR(A1276))","v":""},{"$f":"IF(ISBLANK(Rådata!A1276)=TRUE,\"\",VLOOKUP(MONTH(A1276),Opsætning!$G$3:$H$14,2,FALSE))","v":""},{"$f":"IF(ISBLANK(Rådata!B1276)=TRUE,\"\",(Rådata!C1276*100)/Rådata!B1276)","v":""},{"$f":"IF(ISBLANK(Rådata!D1276)=TRUE,\"\",((Rådata!D1276-Rådata!E1276)*100)/Rådata!D1276)","v":""},{"$f":"IF(ISBLANK(Rådata!G1276)=TRUE,\"\",(Rådata!F1276*100)/Rådata!G1276)","v":""},{"$f":"IF(ISBLANK(Rådata!K1276),\"\",(SUM(Rådata!M1276:P1276)*100)/SUM(Rådata!H1276:K1276))","v":""},{"$f":"IF(ISBLANK(Rådata!H1276),\"\",((SUM(Rådata!J1276:L1276)-SUM(Rådata!O1276:P1276))*100)/SUM(Rådata!H1276:L1276))","v":""},{"$f":"IF(ISBLANK(Rådata!R1276),\"\",(Rådata!Q1276*100)/Rådata!R1276)","v":""}]
[{"$f":"IF(ISBLANK(Rådata!A1277)=TRUE,\"\",Rådata!A1277)","v":""},{"$f":"IF(ISBLANK(Rådata!A1277)=TRUE,\"\",YEAR(A1277))","v":""},{"$f":"IF(ISBLANK(Rådata!A1277)=TRUE,\"\",VLOOKUP(MONTH(A1277),Opsætning!$G$3:$H$14,2,FALSE))","v":""},{"$f":"IF(ISBLANK(Rådata!B1277)=TRUE,\"\",(Rådata!C1277*100)/Rådata!B1277)","v":""},{"$f":"IF(ISBLANK(Rådata!D1277)=TRUE,\"\",((Rådata!D1277-Rådata!E1277)*100)/Rådata!D1277)","v":""},{"$f":"IF(ISBLANK(Rådata!G1277)=TRUE,\"\",(Rådata!F1277*100)/Rådata!G1277)","v":""},{"$f":"IF(ISBLANK(Rådata!K1277),\"\",(SUM(Rådata!M1277:P1277)*100)/SUM(Rådata!H1277:K1277))","v":""},{"$f":"IF(ISBLANK(Rådata!H1277),\"\",((SUM(Rådata!J1277:L1277)-SUM(Rådata!O1277:P1277))*100)/SUM(Rådata!H1277:L1277))","v":""},{"$f":"IF(ISBLANK(Rådata!R1277),\"\",(Rådata!Q1277*100)/Rådata!R1277)","v":""}]
[{"$f":"IF(ISBLANK(Rådata!A1278)=TRUE,\"\",Rådata!A1278)","v":""},{"$f":"IF(ISBLANK(Rådata!A1278)=TRUE,\"\",YEAR(A1278))","v":""},{"$f":"IF(ISBLANK(Rådata!A1278)=TRUE,\"\",VLOOKUP(MONTH(A1278),Opsætning!$G$3:$H$14,2,FALSE))","v":""},{"$f":"IF(ISBLANK(Rådata!B1278)=TRUE,\"\",(Rådata!C1278*100)/Rådata!B1278)","v":""},{"$f":"IF(ISBLANK(Rådata!D1278)=TRUE,\"\",((Rådata!D1278-Rådata!E1278)*100)/Rådata!D1278)","v":""},{"$f":"IF(ISBLANK(Rådata!G1278)=TRUE,\"\",(Rådata!F1278*100)/Rådata!G1278)","v":""},{"$f":"IF(ISBLANK(Rådata!K1278),\"\",(SUM(Rådata!M1278:P1278)*100)/SUM(Rådata!H1278:K1278))","v":""},{"$f":"IF(ISBLANK(Rådata!H1278),\"\",((SUM(Rådata!J1278:L1278)-SUM(Rådata!O1278:P1278))*100)/SUM(Rådata!H1278:L1278))","v":""},{"$f":"IF(ISBLANK(Rådata!R1278),\"\",(Rådata!Q1278*100)/Rådata!R1278)","v":""}]
[{"$f":"IF(ISBLANK(Rådata!A1279)=TRUE,\"\",Rådata!A1279)","v":""},{"$f":"IF(ISBLANK(Rådata!A1279)=TRUE,\"\",YEAR(A1279))","v":""},{"$f":"IF(ISBLANK(Rådata!A1279)=TRUE,\"\",VLOOKUP(MONTH(A1279),Opsætning!$G$3:$H$14,2,FALSE))","v":""},{"$f":"IF(ISBLANK(Rådata!B1279)=TRUE,\"\",(Rådata!C1279*100)/Rådata!B1279)","v":""},{"$f":"IF(ISBLANK(Rådata!D1279)=TRUE,\"\",((Rådata!D1279-Rådata!E1279)*100)/Rådata!D1279)","v":""},{"$f":"IF(ISBLANK(Rådata!G1279)=TRUE,\"\",(Rådata!F1279*100)/Rådata!G1279)","v":""},{"$f":"IF(ISBLANK(Rådata!K1279),\"\",(SUM(Rådata!M1279:P1279)*100)/SUM(Rådata!H1279:K1279))","v":""},{"$f":"IF(ISBLANK(Rådata!H1279),\"\",((SUM(Rådata!J1279:L1279)-SUM(Rådata!O1279:P1279))*100)/SUM(Rådata!H1279:L1279))","v":""},{"$f":"IF(ISBLANK(Rådata!R1279),\"\",(Rådata!Q1279*100)/Rådata!R1279)","v":""}]
[{"$f":"IF(ISBLANK(Rådata!A1280)=TRUE,\"\",Rådata!A1280)","v":""},{"$f":"IF(ISBLANK(Rådata!A1280)=TRUE,\"\",YEAR(A1280))","v":""},{"$f":"IF(ISBLANK(Rådata!A1280)=TRUE,\"\",VLOOKUP(MONTH(A1280),Opsætning!$G$3:$H$14,2,FALSE))","v":""},{"$f":"IF(ISBLANK(Rådata!B1280)=TRUE,\"\",(Rådata!C1280*100)/Rådata!B1280)","v":""},{"$f":"IF(ISBLANK(Rådata!D1280)=TRUE,\"\",((Rådata!D1280-Rådata!E1280)*100)/Rådata!D1280)","v":""},{"$f":"IF(ISBLANK(Rådata!G1280)=TRUE,\"\",(Rådata!F1280*100)/Rådata!G1280)","v":""},{"$f":"IF(ISBLANK(Rådata!K1280),\"\",(SUM(Rådata!M1280:P1280)*100)/SUM(Rådata!H1280:K1280))","v":""},{"$f":"IF(ISBLANK(Rådata!H1280),\"\",((SUM(Rådata!J1280:L1280)-SUM(Rådata!O1280:P1280))*100)/SUM(Rådata!H1280:L1280))","v":""},{"$f":"IF(ISBLANK(Rådata!R1280),\"\",(Rådata!Q1280*100)/Rådata!R1280)","v":""}]
[{"$f":"IF(ISBLANK(Rådata!A1281)=TRUE,\"\",Rådata!A1281)","v":""},{"$f":"IF(ISBLANK(Rådata!A1281)=TRUE,\"\",YEAR(A1281))","v":""},{"$f":"IF(ISBLANK(Rådata!A1281)=TRUE,\"\",VLOOKUP(MONTH(A1281),Opsætning!$G$3:$H$14,2,FALSE))","v":""},{"$f":"IF(ISBLANK(Rådata!B1281)=TRUE,\"\",(Rådata!C1281*100)/Rådata!B1281)","v":""},{"$f":"IF(ISBLANK(Rådata!D1281)=TRUE,\"\",((Rådata!D1281-Rådata!E1281)*100)/Rådata!D1281)","v":""},{"$f":"IF(ISBLANK(Rådata!G1281)=TRUE,\"\",(Rådata!F1281*100)/Rådata!G1281)","v":""},{"$f":"IF(ISBLANK(Rådata!K1281),\"\",(SUM(Rådata!M1281:P1281)*100)/SUM(Rådata!H1281:K1281))","v":""},{"$f":"IF(ISBLANK(Rådata!H1281),\"\",((SUM(Rådata!J1281:L1281)-SUM(Rådata!O1281:P1281))*100)/SUM(Rådata!H1281:L1281))","v":""},{"$f":"IF(ISBLANK(Rådata!R1281),\"\",(Rådata!Q1281*100)/Rådata!R1281)","v":""}]
[{"$f":"IF(ISBLANK(Rådata!A1282)=TRUE,\"\",Rådata!A1282)","v":""},{"$f":"IF(ISBLANK(Rådata!A1282)=TRUE,\"\",YEAR(A1282))","v":""},{"$f":"IF(ISBLANK(Rådata!A1282)=TRUE,\"\",VLOOKUP(MONTH(A1282),Opsætning!$G$3:$H$14,2,FALSE))","v":""},{"$f":"IF(ISBLANK(Rådata!B1282)=TRUE,\"\",(Rådata!C1282*100)/Rådata!B1282)","v":""},{"$f":"IF(ISBLANK(Rådata!D1282)=TRUE,\"\",((Rådata!D1282-Rådata!E1282)*100)/Rådata!D1282)","v":""},{"$f":"IF(ISBLANK(Rådata!G1282)=TRUE,\"\",(Rådata!F1282*100)/Rådata!G1282)","v":""},{"$f":"IF(ISBLANK(Rådata!K1282),\"\",(SUM(Rådata!M1282:P1282)*100)/SUM(Rådata!H1282:K1282))","v":""},{"$f":"IF(ISBLANK(Rådata!H1282),\"\",((SUM(Rådata!J1282:L1282)-SUM(Rådata!O1282:P1282))*100)/SUM(Rådata!H1282:L1282))","v":""},{"$f":"IF(ISBLANK(Rådata!R1282),\"\",(Rådata!Q1282*100)/Rådata!R1282)","v":""}]
[{"$f":"IF(ISBLANK(Rådata!A1283)=TRUE,\"\",Rådata!A1283)","v":""},{"$f":"IF(ISBLANK(Rådata!A1283)=TRUE,\"\",YEAR(A1283))","v":""},{"$f":"IF(ISBLANK(Rådata!A1283)=TRUE,\"\",VLOOKUP(MONTH(A1283),Opsætning!$G$3:$H$14,2,FALSE))","v":""},{"$f":"IF(ISBLANK(Rådata!B1283)=TRUE,\"\",(Rådata!C1283*100)/Rådata!B1283)","v":""},{"$f":"IF(ISBLANK(Rådata!D1283)=TRUE,\"\",((Rådata!D1283-Rådata!E1283)*100)/Rådata!D1283)","v":""},{"$f":"IF(ISBLANK(Rådata!G1283)=TRUE,\"\",(Rådata!F1283*100)/Rådata!G1283)","v":""},{"$f":"IF(ISBLANK(Rådata!K1283),\"\",(SUM(Rådata!M1283:P1283)*100)/SUM(Rådata!H1283:K1283))","v":""},{"$f":"IF(ISBLANK(Rådata!H1283),\"\",((SUM(Rådata!J1283:L1283)-SUM(Rådata!O1283:P1283))*100)/SUM(Rådata!H1283:L1283))","v":""},{"$f":"IF(ISBLANK(Rådata!R1283),\"\",(Rådata!Q1283*100)/Rådata!R1283)","v":""}]
[{"$f":"IF(ISBLANK(Rådata!A1284)=TRUE,\"\",Rådata!A1284)","v":""},{"$f":"IF(ISBLANK(Rådata!A1284)=TRUE,\"\",YEAR(A1284))","v":""},{"$f":"IF(ISBLANK(Rådata!A1284)=TRUE,\"\",VLOOKUP(MONTH(A1284),Opsætning!$G$3:$H$14,2,FALSE))","v":""},{"$f":"IF(ISBLANK(Rådata!B1284)=TRUE,\"\",(Rådata!C1284*100)/Rådata!B1284)","v":""},{"$f":"IF(ISBLANK(Rådata!D1284)=TRUE,\"\",((Rådata!D1284-Rådata!E1284)*100)/Rådata!D1284)","v":""},{"$f":"IF(ISBLANK(Rådata!G1284)=TRUE,\"\",(Rådata!F1284*100)/Rådata!G1284)","v":""},{"$f":"IF(ISBLANK(Rådata!K1284),\"\",(SUM(Rådata!M1284:P1284)*100)/SUM(Rådata!H1284:K1284))","v":""},{"$f":"IF(ISBLANK(Rådata!H1284),\"\",((SUM(Rådata!J1284:L1284)-SUM(Rådata!O1284:P1284))*100)/SUM(Rådata!H1284:L1284))","v":""},{"$f":"IF(ISBLANK(Rådata!R1284),\"\",(Rådata!Q1284*100)/Rådata!R1284)","v":""}]
[{"$f":"IF(ISBLANK(Rådata!A1285)=TRUE,\"\",Rådata!A1285)","v":""},{"$f":"IF(ISBLANK(Rådata!A1285)=TRUE,\"\",YEAR(A1285))","v":""},{"$f":"IF(ISBLANK(Rådata!A1285)=TRUE,\"\",VLOOKUP(MONTH(A1285),Opsætning!$G$3:$H$14,2,FALSE))","v":""},{"$f":"IF(ISBLANK(Rådata!B1285)=TRUE,\"\",(Rådata!C1285*100)/Rådata!B1285)","v":""},{"$f":"IF(ISBLANK(Rådata!D1285)=TRUE,\"\",((Rådata!D1285-Rådata!E1285)*100)/Rådata!D1285)","v":""},{"$f":"IF(ISBLANK(Rådata!G1285)=TRUE,\"\",(Rådata!F1285*100)/Rådata!G1285)","v":""},{"$f":"IF(ISBLANK(Rådata!K1285),\"\",(SUM(Rådata!M1285:P1285)*100)/SUM(Rådata!H1285:K1285))","v":""},{"$f":"IF(ISBLANK(Rådata!H1285),\"\",((SUM(Rådata!J1285:L1285)-SUM(Rådata!O1285:P1285))*100)/SUM(Rådata!H1285:L1285))","v":""},{"$f":"IF(ISBLANK(Rådata!R1285),\"\",(Rådata!Q1285*100)/Rådata!R1285)","v":""}]
[{"$f":"IF(ISBLANK(Rådata!A1286)=TRUE,\"\",Rådata!A1286)","v":""},{"$f":"IF(ISBLANK(Rådata!A1286)=TRUE,\"\",YEAR(A1286))","v":""},{"$f":"IF(ISBLANK(Rådata!A1286)=TRUE,\"\",VLOOKUP(MONTH(A1286),Opsætning!$G$3:$H$14,2,FALSE))","v":""},{"$f":"IF(ISBLANK(Rådata!B1286)=TRUE,\"\",(Rådata!C1286*100)/Rådata!B1286)","v":""},{"$f":"IF(ISBLANK(Rådata!D1286)=TRUE,\"\",((Rådata!D1286-Rådata!E1286)*100)/Rådata!D1286)","v":""},{"$f":"IF(ISBLANK(Rådata!G1286)=TRUE,\"\",(Rådata!F1286*100)/Rådata!G1286)","v":""},{"$f":"IF(ISBLANK(Rådata!K1286),\"\",(SUM(Rådata!M1286:P1286)*100)/SUM(Rådata!H1286:K1286))","v":""},{"$f":"IF(ISBLANK(Rådata!H1286),\"\",((SUM(Rådata!J1286:L1286)-SUM(Rådata!O1286:P1286))*100)/SUM(Rådata!H1286:L1286))","v":""},{"$f":"IF(ISBLANK(Rådata!R1286),\"\",(Rådata!Q1286*100)/Rådata!R1286)","v":""}]
[{"$f":"IF(ISBLANK(Rådata!A1287)=TRUE,\"\",Rådata!A1287)","v":""},{"$f":"IF(ISBLANK(Rådata!A1287)=TRUE,\"\",YEAR(A1287))","v":""},{"$f":"IF(ISBLANK(Rådata!A1287)=TRUE,\"\",VLOOKUP(MONTH(A1287),Opsætning!$G$3:$H$14,2,FALSE))","v":""},{"$f":"IF(ISBLANK(Rådata!B1287)=TRUE,\"\",(Rådata!C1287*100)/Rådata!B1287)","v":""},{"$f":"IF(ISBLANK(Rådata!D1287)=TRUE,\"\",((Rådata!D1287-Rådata!E1287)*100)/Rådata!D1287)","v":""},{"$f":"IF(ISBLANK(Rådata!G1287)=TRUE,\"\",(Rådata!F1287*100)/Rådata!G1287)","v":""},{"$f":"IF(ISBLANK(Rådata!K1287),\"\",(SUM(Rådata!M1287:P1287)*100)/SUM(Rådata!H1287:K1287))","v":""},{"$f":"IF(ISBLANK(Rådata!H1287),\"\",((SUM(Rådata!J1287:L1287)-SUM(Rådata!O1287:P1287))*100)/SUM(Rådata!H1287:L1287))","v":""},{"$f":"IF(ISBLANK(Rådata!R1287),\"\",(Rådata!Q1287*100)/Rådata!R1287)","v":""}]
[{"$f":"IF(ISBLANK(Rådata!A1288)=TRUE,\"\",Rådata!A1288)","v":""},{"$f":"IF(ISBLANK(Rådata!A1288)=TRUE,\"\",YEAR(A1288))","v":""},{"$f":"IF(ISBLANK(Rådata!A1288)=TRUE,\"\",VLOOKUP(MONTH(A1288),Opsætning!$G$3:$H$14,2,FALSE))","v":""},{"$f":"IF(ISBLANK(Rådata!B1288)=TRUE,\"\",(Rådata!C1288*100)/Rådata!B1288)","v":""},{"$f":"IF(ISBLANK(Rådata!D1288)=TRUE,\"\",((Rådata!D1288-Rådata!E1288)*100)/Rådata!D1288)","v":""},{"$f":"IF(ISBLANK(Rådata!G1288)=TRUE,\"\",(Rådata!F1288*100)/Rådata!G1288)","v":""},{"$f":"IF(ISBLANK(Rådata!K1288),\"\",(SUM(Rådata!M1288:P1288)*100)/SUM(Rådata!H1288:K1288))","v":""},{"$f":"IF(ISBLANK(Rådata!H1288),\"\",((SUM(Rådata!J1288:L1288)-SUM(Rådata!O1288:P1288))*100)/SUM(Rådata!H1288:L1288))","v":""},{"$f":"IF(ISBLANK(Rådata!R1288),\"\",(Rådata!Q1288*100)/Rådata!R1288)","v":""}]
[{"$f":"IF(ISBLANK(Rådata!A1289)=TRUE,\"\",Rådata!A1289)","v":""},{"$f":"IF(ISBLANK(Rådata!A1289)=TRUE,\"\",YEAR(A1289))","v":""},{"$f":"IF(ISBLANK(Rådata!A1289)=TRUE,\"\",VLOOKUP(MONTH(A1289),Opsætning!$G$3:$H$14,2,FALSE))","v":""},{"$f":"IF(ISBLANK(Rådata!B1289)=TRUE,\"\",(Rådata!C1289*100)/Rådata!B1289)","v":""},{"$f":"IF(ISBLANK(Rådata!D1289)=TRUE,\"\",((Rådata!D1289-Rådata!E1289)*100)/Rådata!D1289)","v":""},{"$f":"IF(ISBLANK(Rådata!G1289)=TRUE,\"\",(Rådata!F1289*100)/Rådata!G1289)","v":""},{"$f":"IF(ISBLANK(Rådata!K1289),\"\",(SUM(Rådata!M1289:P1289)*100)/SUM(Rådata!H1289:K1289))","v":""},{"$f":"IF(ISBLANK(Rådata!H1289),\"\",((SUM(Rådata!J1289:L1289)-SUM(Rådata!O1289:P1289))*100)/SUM(Rådata!H1289:L1289))","v":""},{"$f":"IF(ISBLANK(Rådata!R1289),\"\",(Rådata!Q1289*100)/Rådata!R1289)","v":""}]
[{"$f":"IF(ISBLANK(Rådata!A1290)=TRUE,\"\",Rådata!A1290)","v":""},{"$f":"IF(ISBLANK(Rådata!A1290)=TRUE,\"\",YEAR(A1290))","v":""},{"$f":"IF(ISBLANK(Rådata!A1290)=TRUE,\"\",VLOOKUP(MONTH(A1290),Opsætning!$G$3:$H$14,2,FALSE))","v":""},{"$f":"IF(ISBLANK(Rådata!B1290)=TRUE,\"\",(Rådata!C1290*100)/Rådata!B1290)","v":""},{"$f":"IF(ISBLANK(Rådata!D1290)=TRUE,\"\",((Rådata!D1290-Rådata!E1290)*100)/Rådata!D1290)","v":""},{"$f":"IF(ISBLANK(Rådata!G1290)=TRUE,\"\",(Rådata!F1290*100)/Rådata!G1290)","v":""},{"$f":"IF(ISBLANK(Rådata!K1290),\"\",(SUM(Rådata!M1290:P1290)*100)/SUM(Rådata!H1290:K1290))","v":""},{"$f":"IF(ISBLANK(Rådata!H1290),\"\",((SUM(Rådata!J1290:L1290)-SUM(Rådata!O1290:P1290))*100)/SUM(Rådata!H1290:L1290))","v":""},{"$f":"IF(ISBLANK(Rådata!R1290),\"\",(Rådata!Q1290*100)/Rådata!R1290)","v":""}]
[{"$f":"IF(ISBLANK(Rådata!A1291)=TRUE,\"\",Rådata!A1291)","v":""},{"$f":"IF(ISBLANK(Rådata!A1291)=TRUE,\"\",YEAR(A1291))","v":""},{"$f":"IF(ISBLANK(Rådata!A1291)=TRUE,\"\",VLOOKUP(MONTH(A1291),Opsætning!$G$3:$H$14,2,FALSE))","v":""},{"$f":"IF(ISBLANK(Rådata!B1291)=TRUE,\"\",(Rådata!C1291*100)/Rådata!B1291)","v":""},{"$f":"IF(ISBLANK(Rådata!D1291)=TRUE,\"\",((Rådata!D1291-Rådata!E1291)*100)/Rådata!D1291)","v":""},{"$f":"IF(ISBLANK(Rådata!G1291)=TRUE,\"\",(Rådata!F1291*100)/Rådata!G1291)","v":""},{"$f":"IF(ISBLANK(Rådata!K1291),\"\",(SUM(Rådata!M1291:P1291)*100)/SUM(Rådata!H1291:K1291))","v":""},{"$f":"IF(ISBLANK(Rådata!H1291),\"\",((SUM(Rådata!J1291:L1291)-SUM(Rådata!O1291:P1291))*100)/SUM(Rådata!H1291:L1291))","v":""},{"$f":"IF(ISBLANK(Rådata!R1291),\"\",(Rådata!Q1291*100)/Rådata!R1291)","v":""}]
[{"$f":"IF(ISBLANK(Rådata!A1292)=TRUE,\"\",Rådata!A1292)","v":""},{"$f":"IF(ISBLANK(Rådata!A1292)=TRUE,\"\",YEAR(A1292))","v":""},{"$f":"IF(ISBLANK(Rådata!A1292)=TRUE,\"\",VLOOKUP(MONTH(A1292),Opsætning!$G$3:$H$14,2,FALSE))","v":""},{"$f":"IF(ISBLANK(Rådata!B1292)=TRUE,\"\",(Rådata!C1292*100)/Rådata!B1292)","v":""},{"$f":"IF(ISBLANK(Rådata!D1292)=TRUE,\"\",((Rådata!D1292-Rådata!E1292)*100)/Rådata!D1292)","v":""},{"$f":"IF(ISBLANK(Rådata!G1292)=TRUE,\"\",(Rådata!F1292*100)/Rådata!G1292)","v":""},{"$f":"IF(ISBLANK(Rådata!K1292),\"\",(SUM(Rådata!M1292:P1292)*100)/SUM(Rådata!H1292:K1292))","v":""},{"$f":"IF(ISBLANK(Rådata!H1292),\"\",((SUM(Rådata!J1292:L1292)-SUM(Rådata!O1292:P1292))*100)/SUM(Rådata!H1292:L1292))","v":""},{"$f":"IF(ISBLANK(Rådata!R1292),\"\",(Rådata!Q1292*100)/Rådata!R1292)","v":""}]
[{"$f":"IF(ISBLANK(Rådata!A1293)=TRUE,\"\",Rådata!A1293)","v":""},{"$f":"IF(ISBLANK(Rådata!A1293)=TRUE,\"\",YEAR(A1293))","v":""},{"$f":"IF(ISBLANK(Rådata!A1293)=TRUE,\"\",VLOOKUP(MONTH(A1293),Opsætning!$G$3:$H$14,2,FALSE))","v":""},{"$f":"IF(ISBLANK(Rådata!B1293)=TRUE,\"\",(Rådata!C1293*100)/Rådata!B1293)","v":""},{"$f":"IF(ISBLANK(Rådata!D1293)=TRUE,\"\",((Rådata!D1293-Rådata!E1293)*100)/Rådata!D1293)","v":""},{"$f":"IF(ISBLANK(Rådata!G1293)=TRUE,\"\",(Rådata!F1293*100)/Rådata!G1293)","v":""},{"$f":"IF(ISBLANK(Rådata!K1293),\"\",(SUM(Rådata!M1293:P1293)*100)/SUM(Rådata!H1293:K1293))","v":""},{"$f":"IF(ISBLANK(Rådata!H1293),\"\",((SUM(Rådata!J1293:L1293)-SUM(Rådata!O1293:P1293))*100)/SUM(Rådata!H1293:L1293))","v":""},{"$f":"IF(ISBLANK(Rådata!R1293),\"\",(Rådata!Q1293*100)/Rådata!R1293)","v":""}]
[{"$f":"IF(ISBLANK(Rådata!A1294)=TRUE,\"\",Rådata!A1294)","v":""},{"$f":"IF(ISBLANK(Rådata!A1294)=TRUE,\"\",YEAR(A1294))","v":""},{"$f":"IF(ISBLANK(Rådata!A1294)=TRUE,\"\",VLOOKUP(MONTH(A1294),Opsætning!$G$3:$H$14,2,FALSE))","v":""},{"$f":"IF(ISBLANK(Rådata!B1294)=TRUE,\"\",(Rådata!C1294*100)/Rådata!B1294)","v":""},{"$f":"IF(ISBLANK(Rådata!D1294)=TRUE,\"\",((Rådata!D1294-Rådata!E1294)*100)/Rådata!D1294)","v":""},{"$f":"IF(ISBLANK(Rådata!G1294)=TRUE,\"\",(Rådata!F1294*100)/Rådata!G1294)","v":""},{"$f":"IF(ISBLANK(Rådata!K1294),\"\",(SUM(Rådata!M1294:P1294)*100)/SUM(Rådata!H1294:K1294))","v":""},{"$f":"IF(ISBLANK(Rådata!H1294),\"\",((SUM(Rådata!J1294:L1294)-SUM(Rådata!O1294:P1294))*100)/SUM(Rådata!H1294:L1294))","v":""},{"$f":"IF(ISBLANK(Rådata!R1294),\"\",(Rådata!Q1294*100)/Rådata!R1294)","v":""}]
[{"$f":"IF(ISBLANK(Rådata!A1295)=TRUE,\"\",Rådata!A1295)","v":""},{"$f":"IF(ISBLANK(Rådata!A1295)=TRUE,\"\",YEAR(A1295))","v":""},{"$f":"IF(ISBLANK(Rådata!A1295)=TRUE,\"\",VLOOKUP(MONTH(A1295),Opsætning!$G$3:$H$14,2,FALSE))","v":""},{"$f":"IF(ISBLANK(Rådata!B1295)=TRUE,\"\",(Rådata!C1295*100)/Rådata!B1295)","v":""},{"$f":"IF(ISBLANK(Rådata!D1295)=TRUE,\"\",((Rådata!D1295-Rådata!E1295)*100)/Rådata!D1295)","v":""},{"$f":"IF(ISBLANK(Rådata!G1295)=TRUE,\"\",(Rådata!F1295*100)/Rådata!G1295)","v":""},{"$f":"IF(ISBLANK(Rådata!K1295),\"\",(SUM(Rådata!M1295:P1295)*100)/SUM(Rådata!H1295:K1295))","v":""},{"$f":"IF(ISBLANK(Rådata!H1295),\"\",((SUM(Rådata!J1295:L1295)-SUM(Rådata!O1295:P1295))*100)/SUM(Rådata!H1295:L1295))","v":""},{"$f":"IF(ISBLANK(Rådata!R1295),\"\",(Rådata!Q1295*100)/Rådata!R1295)","v":""}]
[{"$f":"IF(ISBLANK(Rådata!A1296)=TRUE,\"\",Rådata!A1296)","v":""},{"$f":"IF(ISBLANK(Rådata!A1296)=TRUE,\"\",YEAR(A1296))","v":""},{"$f":"IF(ISBLANK(Rådata!A1296)=TRUE,\"\",VLOOKUP(MONTH(A1296),Opsætning!$G$3:$H$14,2,FALSE))","v":""},{"$f":"IF(ISBLANK(Rådata!B1296)=TRUE,\"\",(Rådata!C1296*100)/Rådata!B1296)","v":""},{"$f":"IF(ISBLANK(Rådata!D1296)=TRUE,\"\",((Rådata!D1296-Rådata!E1296)*100)/Rådata!D1296)","v":""},{"$f":"IF(ISBLANK(Rådata!G1296)=TRUE,\"\",(Rådata!F1296*100)/Rådata!G1296)","v":""},{"$f":"IF(ISBLANK(Rådata!K1296),\"\",(SUM(Rådata!M1296:P1296)*100)/SUM(Rådata!H1296:K1296))","v":""},{"$f":"IF(ISBLANK(Rådata!H1296),\"\",((SUM(Rådata!J1296:L1296)-SUM(Rådata!O1296:P1296))*100)/SUM(Rådata!H1296:L1296))","v":""},{"$f":"IF(ISBLANK(Rådata!R1296),\"\",(Rådata!Q1296*100)/Rådata!R1296)","v":""}]
[{"$f":"IF(ISBLANK(Rådata!A1297)=TRUE,\"\",Rådata!A1297)","v":""},{"$f":"IF(ISBLANK(Rådata!A1297)=TRUE,\"\",YEAR(A1297))","v":""},{"$f":"IF(ISBLANK(Rådata!A1297)=TRUE,\"\",VLOOKUP(MONTH(A1297),Opsætning!$G$3:$H$14,2,FALSE))","v":""},{"$f":"IF(ISBLANK(Rådata!B1297)=TRUE,\"\",(Rådata!C1297*100)/Rådata!B1297)","v":""},{"$f":"IF(ISBLANK(Rådata!D1297)=TRUE,\"\",((Rådata!D1297-Rådata!E1297)*100)/Rådata!D1297)","v":""},{"$f":"IF(ISBLANK(Rådata!G1297)=TRUE,\"\",(Rådata!F1297*100)/Rådata!G1297)","v":""},{"$f":"IF(ISBLANK(Rådata!K1297),\"\",(SUM(Rådata!M1297:P1297)*100)/SUM(Rådata!H1297:K1297))","v":""},{"$f":"IF(ISBLANK(Rådata!H1297),\"\",((SUM(Rådata!J1297:L1297)-SUM(Rådata!O1297:P1297))*100)/SUM(Rådata!H1297:L1297))","v":""},{"$f":"IF(ISBLANK(Rådata!R1297),\"\",(Rådata!Q1297*100)/Rådata!R1297)","v":""}]
[{"$f":"IF(ISBLANK(Rådata!A1298)=TRUE,\"\",Rådata!A1298)","v":""},{"$f":"IF(ISBLANK(Rådata!A1298)=TRUE,\"\",YEAR(A1298))","v":""},{"$f":"IF(ISBLANK(Rådata!A1298)=TRUE,\"\",VLOOKUP(MONTH(A1298),Opsætning!$G$3:$H$14,2,FALSE))","v":""},{"$f":"IF(ISBLANK(Rådata!B1298)=TRUE,\"\",(Rådata!C1298*100)/Rådata!B1298)","v":""},{"$f":"IF(ISBLANK(Rådata!D1298)=TRUE,\"\",((Rådata!D1298-Rådata!E1298)*100)/Rådata!D1298)","v":""},{"$f":"IF(ISBLANK(Rådata!G1298)=TRUE,\"\",(Rådata!F1298*100)/Rådata!G1298)","v":""},{"$f":"IF(ISBLANK(Rådata!K1298),\"\",(SUM(Rådata!M1298:P1298)*100)/SUM(Rådata!H1298:K1298))","v":""},{"$f":"IF(ISBLANK(Rådata!H1298),\"\",((SUM(Rådata!J1298:L1298)-SUM(Rådata!O1298:P1298))*100)/SUM(Rådata!H1298:L1298))","v":""},{"$f":"IF(ISBLANK(Rådata!R1298),\"\",(Rådata!Q1298*100)/Rådata!R1298)","v":""}]
[{"$f":"IF(ISBLANK(Rådata!A1299)=TRUE,\"\",Rådata!A1299)","v":""},{"$f":"IF(ISBLANK(Rådata!A1299)=TRUE,\"\",YEAR(A1299))","v":""},{"$f":"IF(ISBLANK(Rådata!A1299)=TRUE,\"\",VLOOKUP(MONTH(A1299),Opsætning!$G$3:$H$14,2,FALSE))","v":""},{"$f":"IF(ISBLANK(Rådata!B1299)=TRUE,\"\",(Rådata!C1299*100)/Rådata!B1299)","v":""},{"$f":"IF(ISBLANK(Rådata!D1299)=TRUE,\"\",((Rådata!D1299-Rådata!E1299)*100)/Rådata!D1299)","v":""},{"$f":"IF(ISBLANK(Rådata!G1299)=TRUE,\"\",(Rådata!F1299*100)/Rådata!G1299)","v":""},{"$f":"IF(ISBLANK(Rådata!K1299),\"\",(SUM(Rådata!M1299:P1299)*100)/SUM(Rådata!H1299:K1299))","v":""},{"$f":"IF(ISBLANK(Rådata!H1299),\"\",((SUM(Rådata!J1299:L1299)-SUM(Rådata!O1299:P1299))*100)/SUM(Rådata!H1299:L1299))","v":""},{"$f":"IF(ISBLANK(Rådata!R1299),\"\",(Rådata!Q1299*100)/Rådata!R1299)","v":""}]
[{"$f":"IF(ISBLANK(Rådata!A1300)=TRUE,\"\",Rådata!A1300)","v":""},{"$f":"IF(ISBLANK(Rådata!A1300)=TRUE,\"\",YEAR(A1300))","v":""},{"$f":"IF(ISBLANK(Rådata!A1300)=TRUE,\"\",VLOOKUP(MONTH(A1300),Opsætning!$G$3:$H$14,2,FALSE))","v":""},{"$f":"IF(ISBLANK(Rådata!B1300)=TRUE,\"\",(Rådata!C1300*100)/Rådata!B1300)","v":""},{"$f":"IF(ISBLANK(Rådata!D1300)=TRUE,\"\",((Rådata!D1300-Rådata!E1300)*100)/Rådata!D1300)","v":""},{"$f":"IF(ISBLANK(Rådata!G1300)=TRUE,\"\",(Rådata!F1300*100)/Rådata!G1300)","v":""},{"$f":"IF(ISBLANK(Rådata!K1300),\"\",(SUM(Rådata!M1300:P1300)*100)/SUM(Rådata!H1300:K1300))","v":""},{"$f":"IF(ISBLANK(Rådata!H1300),\"\",((SUM(Rådata!J1300:L1300)-SUM(Rådata!O1300:P1300))*100)/SUM(Rådata!H1300:L1300))","v":""},{"$f":"IF(ISBLANK(Rådata!R1300),\"\",(Rådata!Q1300*100)/Rådata!R1300)","v":""}]
[{"$f":"IF(ISBLANK(Rådata!A1301)=TRUE,\"\",Rådata!A1301)","v":""},{"$f":"IF(ISBLANK(Rådata!A1301)=TRUE,\"\",YEAR(A1301))","v":""},{"$f":"IF(ISBLANK(Rådata!A1301)=TRUE,\"\",VLOOKUP(MONTH(A1301),Opsætning!$G$3:$H$14,2,FALSE))","v":""},{"$f":"IF(ISBLANK(Rådata!B1301)=TRUE,\"\",(Rådata!C1301*100)/Rådata!B1301)","v":""},{"$f":"IF(ISBLANK(Rådata!D1301)=TRUE,\"\",((Rådata!D1301-Rådata!E1301)*100)/Rådata!D1301)","v":""},{"$f":"IF(ISBLANK(Rådata!G1301)=TRUE,\"\",(Rådata!F1301*100)/Rådata!G1301)","v":""},{"$f":"IF(ISBLANK(Rådata!K1301),\"\",(SUM(Rådata!M1301:P1301)*100)/SUM(Rådata!H1301:K1301))","v":""},{"$f":"IF(ISBLANK(Rådata!H1301),\"\",((SUM(Rådata!J1301:L1301)-SUM(Rådata!O1301:P1301))*100)/SUM(Rådata!H1301:L1301))","v":""},{"$f":"IF(ISBLANK(Rådata!R1301),\"\",(Rådata!Q1301*100)/Rådata!R1301)","v":""}]
[{"$f":"IF(ISBLANK(Rådata!A1302)=TRUE,\"\",Rådata!A1302)","v":""},{"$f":"IF(ISBLANK(Rådata!A1302)=TRUE,\"\",YEAR(A1302))","v":""},{"$f":"IF(ISBLANK(Rådata!A1302)=TRUE,\"\",VLOOKUP(MONTH(A1302),Opsætning!$G$3:$H$14,2,FALSE))","v":""},{"$f":"IF(ISBLANK(Rådata!B1302)=TRUE,\"\",(Rådata!C1302*100)/Rådata!B1302)","v":""},{"$f":"IF(ISBLANK(Rådata!D1302)=TRUE,\"\",((Rådata!D1302-Rådata!E1302)*100)/Rådata!D1302)","v":""},{"$f":"IF(ISBLANK(Rådata!G1302)=TRUE,\"\",(Rådata!F1302*100)/Rådata!G1302)","v":""},{"$f":"IF(ISBLANK(Rådata!K1302),\"\",(SUM(Rådata!M1302:P1302)*100)/SUM(Rådata!H1302:K1302))","v":""},{"$f":"IF(ISBLANK(Rådata!H1302),\"\",((SUM(Rådata!J1302:L1302)-SUM(Rådata!O1302:P1302))*100)/SUM(Rådata!H1302:L1302))","v":""},{"$f":"IF(ISBLANK(Rådata!R1302),\"\",(Rådata!Q1302*100)/Rådata!R1302)","v":""}]
[{"$f":"IF(ISBLANK(Rådata!A1303)=TRUE,\"\",Rådata!A1303)","v":""},{"$f":"IF(ISBLANK(Rådata!A1303)=TRUE,\"\",YEAR(A1303))","v":""},{"$f":"IF(ISBLANK(Rådata!A1303)=TRUE,\"\",VLOOKUP(MONTH(A1303),Opsætning!$G$3:$H$14,2,FALSE))","v":""},{"$f":"IF(ISBLANK(Rådata!B1303)=TRUE,\"\",(Rådata!C1303*100)/Rådata!B1303)","v":""},{"$f":"IF(ISBLANK(Rådata!D1303)=TRUE,\"\",((Rådata!D1303-Rådata!E1303)*100)/Rådata!D1303)","v":""},{"$f":"IF(ISBLANK(Rådata!G1303)=TRUE,\"\",(Rådata!F1303*100)/Rådata!G1303)","v":""},{"$f":"IF(ISBLANK(Rådata!K1303),\"\",(SUM(Rådata!M1303:P1303)*100)/SUM(Rådata!H1303:K1303))","v":""},{"$f":"IF(ISBLANK(Rådata!H1303),\"\",((SUM(Rådata!J1303:L1303)-SUM(Rådata!O1303:P1303))*100)/SUM(Rådata!H1303:L1303))","v":""},{"$f":"IF(ISBLANK(Rådata!R1303),\"\",(Rådata!Q1303*100)/Rådata!R1303)","v":""}]
[{"$f":"IF(ISBLANK(Rådata!A1304)=TRUE,\"\",Rådata!A1304)","v":""},{"$f":"IF(ISBLANK(Rådata!A1304)=TRUE,\"\",YEAR(A1304))","v":""},{"$f":"IF(ISBLANK(Rådata!A1304)=TRUE,\"\",VLOOKUP(MONTH(A1304),Opsætning!$G$3:$H$14,2,FALSE))","v":""},{"$f":"IF(ISBLANK(Rådata!B1304)=TRUE,\"\",(Rådata!C1304*100)/Rådata!B1304)","v":""},{"$f":"IF(ISBLANK(Rådata!D1304)=TRUE,\"\",((Rådata!D1304-Rådata!E1304)*100)/Rådata!D1304)","v":""},{"$f":"IF(ISBLANK(Rådata!G1304)=TRUE,\"\",(Rådata!F1304*100)/Rådata!G1304)","v":""},{"$f":"IF(ISBLANK(Rådata!K1304),\"\",(SUM(Rådata!M1304:P1304)*100)/SUM(Rådata!H1304:K1304))","v":""},{"$f":"IF(ISBLANK(Rådata!H1304),\"\",((SUM(Rådata!J1304:L1304)-SUM(Rådata!O1304:P1304))*100)/SUM(Rådata!H1304:L1304))","v":""},{"$f":"IF(ISBLANK(Rådata!R1304),\"\",(Rådata!Q1304*100)/Rådata!R1304)","v":""}]
[{"$f":"IF(ISBLANK(Rådata!A1305)=TRUE,\"\",Rådata!A1305)","v":""},{"$f":"IF(ISBLANK(Rådata!A1305)=TRUE,\"\",YEAR(A1305))","v":""},{"$f":"IF(ISBLANK(Rådata!A1305)=TRUE,\"\",VLOOKUP(MONTH(A1305),Opsætning!$G$3:$H$14,2,FALSE))","v":""},{"$f":"IF(ISBLANK(Rådata!B1305)=TRUE,\"\",(Rådata!C1305*100)/Rådata!B1305)","v":""},{"$f":"IF(ISBLANK(Rådata!D1305)=TRUE,\"\",((Rådata!D1305-Rådata!E1305)*100)/Rådata!D1305)","v":""},{"$f":"IF(ISBLANK(Rådata!G1305)=TRUE,\"\",(Rådata!F1305*100)/Rådata!G1305)","v":""},{"$f":"IF(ISBLANK(Rådata!K1305),\"\",(SUM(Rådata!M1305:P1305)*100)/SUM(Rådata!H1305:K1305))","v":""},{"$f":"IF(ISBLANK(Rådata!H1305),\"\",((SUM(Rådata!J1305:L1305)-SUM(Rådata!O1305:P1305))*100)/SUM(Rådata!H1305:L1305))","v":""},{"$f":"IF(ISBLANK(Rådata!R1305),\"\",(Rådata!Q1305*100)/Rådata!R1305)","v":""}]
[{"$f":"IF(ISBLANK(Rådata!A1306)=TRUE,\"\",Rådata!A1306)","v":""},{"$f":"IF(ISBLANK(Rådata!A1306)=TRUE,\"\",YEAR(A1306))","v":""},{"$f":"IF(ISBLANK(Rådata!A1306)=TRUE,\"\",VLOOKUP(MONTH(A1306),Opsætning!$G$3:$H$14,2,FALSE))","v":""},{"$f":"IF(ISBLANK(Rådata!B1306)=TRUE,\"\",(Rådata!C1306*100)/Rådata!B1306)","v":""},{"$f":"IF(ISBLANK(Rådata!D1306)=TRUE,\"\",((Rådata!D1306-Rådata!E1306)*100)/Rådata!D1306)","v":""},{"$f":"IF(ISBLANK(Rådata!G1306)=TRUE,\"\",(Rådata!F1306*100)/Rådata!G1306)","v":""},{"$f":"IF(ISBLANK(Rådata!K1306),\"\",(SUM(Rådata!M1306:P1306)*100)/SUM(Rådata!H1306:K1306))","v":""},{"$f":"IF(ISBLANK(Rådata!H1306),\"\",((SUM(Rådata!J1306:L1306)-SUM(Rådata!O1306:P1306))*100)/SUM(Rådata!H1306:L1306))","v":""},{"$f":"IF(ISBLANK(Rådata!R1306),\"\",(Rådata!Q1306*100)/Rådata!R1306)","v":""}]
[{"$f":"IF(ISBLANK(Rådata!A1307)=TRUE,\"\",Rådata!A1307)","v":""},{"$f":"IF(ISBLANK(Rådata!A1307)=TRUE,\"\",YEAR(A1307))","v":""},{"$f":"IF(ISBLANK(Rådata!A1307)=TRUE,\"\",VLOOKUP(MONTH(A1307),Opsætning!$G$3:$H$14,2,FALSE))","v":""},{"$f":"IF(ISBLANK(Rådata!B1307)=TRUE,\"\",(Rådata!C1307*100)/Rådata!B1307)","v":""},{"$f":"IF(ISBLANK(Rådata!D1307)=TRUE,\"\",((Rådata!D1307-Rådata!E1307)*100)/Rådata!D1307)","v":""},{"$f":"IF(ISBLANK(Rådata!G1307)=TRUE,\"\",(Rådata!F1307*100)/Rådata!G1307)","v":""},{"$f":"IF(ISBLANK(Rådata!K1307),\"\",(SUM(Rådata!M1307:P1307)*100)/SUM(Rådata!H1307:K1307))","v":""},{"$f":"IF(ISBLANK(Rådata!H1307),\"\",((SUM(Rådata!J1307:L1307)-SUM(Rådata!O1307:P1307))*100)/SUM(Rådata!H1307:L1307))","v":""},{"$f":"IF(ISBLANK(Rådata!R1307),\"\",(Rådata!Q1307*100)/Rådata!R1307)","v":""}]
[{"$f":"IF(ISBLANK(Rådata!A1308)=TRUE,\"\",Rådata!A1308)","v":""},{"$f":"IF(ISBLANK(Rådata!A1308)=TRUE,\"\",YEAR(A1308))","v":""},{"$f":"IF(ISBLANK(Rådata!A1308)=TRUE,\"\",VLOOKUP(MONTH(A1308),Opsætning!$G$3:$H$14,2,FALSE))","v":""},{"$f":"IF(ISBLANK(Rådata!B1308)=TRUE,\"\",(Rådata!C1308*100)/Rådata!B1308)","v":""},{"$f":"IF(ISBLANK(Rådata!D1308)=TRUE,\"\",((Rådata!D1308-Rådata!E1308)*100)/Rådata!D1308)","v":""},{"$f":"IF(ISBLANK(Rådata!G1308)=TRUE,\"\",(Rådata!F1308*100)/Rådata!G1308)","v":""},{"$f":"IF(ISBLANK(Rådata!K1308),\"\",(SUM(Rådata!M1308:P1308)*100)/SUM(Rådata!H1308:K1308))","v":""},{"$f":"IF(ISBLANK(Rådata!H1308),\"\",((SUM(Rådata!J1308:L1308)-SUM(Rådata!O1308:P1308))*100)/SUM(Rådata!H1308:L1308))","v":""},{"$f":"IF(ISBLANK(Rådata!R1308),\"\",(Rådata!Q1308*100)/Rådata!R1308)","v":""}]
[{"$f":"IF(ISBLANK(Rådata!A1309)=TRUE,\"\",Rådata!A1309)","v":""},{"$f":"IF(ISBLANK(Rådata!A1309)=TRUE,\"\",YEAR(A1309))","v":""},{"$f":"IF(ISBLANK(Rådata!A1309)=TRUE,\"\",VLOOKUP(MONTH(A1309),Opsætning!$G$3:$H$14,2,FALSE))","v":""},{"$f":"IF(ISBLANK(Rådata!B1309)=TRUE,\"\",(Rådata!C1309*100)/Rådata!B1309)","v":""},{"$f":"IF(ISBLANK(Rådata!D1309)=TRUE,\"\",((Rådata!D1309-Rådata!E1309)*100)/Rådata!D1309)","v":""},{"$f":"IF(ISBLANK(Rådata!G1309)=TRUE,\"\",(Rådata!F1309*100)/Rådata!G1309)","v":""},{"$f":"IF(ISBLANK(Rådata!K1309),\"\",(SUM(Rådata!M1309:P1309)*100)/SUM(Rådata!H1309:K1309))","v":""},{"$f":"IF(ISBLANK(Rådata!H1309),\"\",((SUM(Rådata!J1309:L1309)-SUM(Rådata!O1309:P1309))*100)/SUM(Rådata!H1309:L1309))","v":""},{"$f":"IF(ISBLANK(Rådata!R1309),\"\",(Rådata!Q1309*100)/Rådata!R1309)","v":""}]
[{"$f":"IF(ISBLANK(Rådata!A1310)=TRUE,\"\",Rådata!A1310)","v":""},{"$f":"IF(ISBLANK(Rådata!A1310)=TRUE,\"\",YEAR(A1310))","v":""},{"$f":"IF(ISBLANK(Rådata!A1310)=TRUE,\"\",VLOOKUP(MONTH(A1310),Opsætning!$G$3:$H$14,2,FALSE))","v":""},{"$f":"IF(ISBLANK(Rådata!B1310)=TRUE,\"\",(Rådata!C1310*100)/Rådata!B1310)","v":""},{"$f":"IF(ISBLANK(Rådata!D1310)=TRUE,\"\",((Rådata!D1310-Rådata!E1310)*100)/Rådata!D1310)","v":""},{"$f":"IF(ISBLANK(Rådata!G1310)=TRUE,\"\",(Rådata!F1310*100)/Rådata!G1310)","v":""},{"$f":"IF(ISBLANK(Rådata!K1310),\"\",(SUM(Rådata!M1310:P1310)*100)/SUM(Rådata!H1310:K1310))","v":""},{"$f":"IF(ISBLANK(Rådata!H1310),\"\",((SUM(Rådata!J1310:L1310)-SUM(Rådata!O1310:P1310))*100)/SUM(Rådata!H1310:L1310))","v":""},{"$f":"IF(ISBLANK(Rådata!R1310),\"\",(Rådata!Q1310*100)/Rådata!R1310)","v":""}]
[{"$f":"IF(ISBLANK(Rådata!A1311)=TRUE,\"\",Rådata!A1311)","v":""},{"$f":"IF(ISBLANK(Rådata!A1311)=TRUE,\"\",YEAR(A1311))","v":""},{"$f":"IF(ISBLANK(Rådata!A1311)=TRUE,\"\",VLOOKUP(MONTH(A1311),Opsætning!$G$3:$H$14,2,FALSE))","v":""},{"$f":"IF(ISBLANK(Rådata!B1311)=TRUE,\"\",(Rådata!C1311*100)/Rådata!B1311)","v":""},{"$f":"IF(ISBLANK(Rådata!D1311)=TRUE,\"\",((Rådata!D1311-Rådata!E1311)*100)/Rådata!D1311)","v":""},{"$f":"IF(ISBLANK(Rådata!G1311)=TRUE,\"\",(Rådata!F1311*100)/Rådata!G1311)","v":""},{"$f":"IF(ISBLANK(Rådata!K1311),\"\",(SUM(Rådata!M1311:P1311)*100)/SUM(Rådata!H1311:K1311))","v":""},{"$f":"IF(ISBLANK(Rådata!H1311),\"\",((SUM(Rådata!J1311:L1311)-SUM(Rådata!O1311:P1311))*100)/SUM(Rådata!H1311:L1311))","v":""},{"$f":"IF(ISBLANK(Rådata!R1311),\"\",(Rådata!Q1311*100)/Rådata!R1311)","v":""}]
[{"$f":"IF(ISBLANK(Rådata!A1312)=TRUE,\"\",Rådata!A1312)","v":""},{"$f":"IF(ISBLANK(Rådata!A1312)=TRUE,\"\",YEAR(A1312))","v":""},{"$f":"IF(ISBLANK(Rådata!A1312)=TRUE,\"\",VLOOKUP(MONTH(A1312),Opsætning!$G$3:$H$14,2,FALSE))","v":""},{"$f":"IF(ISBLANK(Rådata!B1312)=TRUE,\"\",(Rådata!C1312*100)/Rådata!B1312)","v":""},{"$f":"IF(ISBLANK(Rådata!D1312)=TRUE,\"\",((Rådata!D1312-Rådata!E1312)*100)/Rådata!D1312)","v":""},{"$f":"IF(ISBLANK(Rådata!G1312)=TRUE,\"\",(Rådata!F1312*100)/Rådata!G1312)","v":""},{"$f":"IF(ISBLANK(Rådata!K1312),\"\",(SUM(Rådata!M1312:P1312)*100)/SUM(Rådata!H1312:K1312))","v":""},{"$f":"IF(ISBLANK(Rådata!H1312),\"\",((SUM(Rådata!J1312:L1312)-SUM(Rådata!O1312:P1312))*100)/SUM(Rådata!H1312:L1312))","v":""},{"$f":"IF(ISBLANK(Rådata!R1312),\"\",(Rådata!Q1312*100)/Rådata!R1312)","v":""}]
[{"$f":"IF(ISBLANK(Rådata!A1313)=TRUE,\"\",Rådata!A1313)","v":""},{"$f":"IF(ISBLANK(Rådata!A1313)=TRUE,\"\",YEAR(A1313))","v":""},{"$f":"IF(ISBLANK(Rådata!A1313)=TRUE,\"\",VLOOKUP(MONTH(A1313),Opsætning!$G$3:$H$14,2,FALSE))","v":""},{"$f":"IF(ISBLANK(Rådata!B1313)=TRUE,\"\",(Rådata!C1313*100)/Rådata!B1313)","v":""},{"$f":"IF(ISBLANK(Rådata!D1313)=TRUE,\"\",((Rådata!D1313-Rådata!E1313)*100)/Rådata!D1313)","v":""},{"$f":"IF(ISBLANK(Rådata!G1313)=TRUE,\"\",(Rådata!F1313*100)/Rådata!G1313)","v":""},{"$f":"IF(ISBLANK(Rådata!K1313),\"\",(SUM(Rådata!M1313:P1313)*100)/SUM(Rådata!H1313:K1313))","v":""},{"$f":"IF(ISBLANK(Rådata!H1313),\"\",((SUM(Rådata!J1313:L1313)-SUM(Rådata!O1313:P1313))*100)/SUM(Rådata!H1313:L1313))","v":""},{"$f":"IF(ISBLANK(Rådata!R1313),\"\",(Rådata!Q1313*100)/Rådata!R1313)","v":""}]
[{"$f":"IF(ISBLANK(Rådata!A1314)=TRUE,\"\",Rådata!A1314)","v":""},{"$f":"IF(ISBLANK(Rådata!A1314)=TRUE,\"\",YEAR(A1314))","v":""},{"$f":"IF(ISBLANK(Rådata!A1314)=TRUE,\"\",VLOOKUP(MONTH(A1314),Opsætning!$G$3:$H$14,2,FALSE))","v":""},{"$f":"IF(ISBLANK(Rådata!B1314)=TRUE,\"\",(Rådata!C1314*100)/Rådata!B1314)","v":""},{"$f":"IF(ISBLANK(Rådata!D1314)=TRUE,\"\",((Rådata!D1314-Rådata!E1314)*100)/Rådata!D1314)","v":""},{"$f":"IF(ISBLANK(Rådata!G1314)=TRUE,\"\",(Rådata!F1314*100)/Rådata!G1314)","v":""},{"$f":"IF(ISBLANK(Rådata!K1314),\"\",(SUM(Rådata!M1314:P1314)*100)/SUM(Rådata!H1314:K1314))","v":""},{"$f":"IF(ISBLANK(Rådata!H1314),\"\",((SUM(Rådata!J1314:L1314)-SUM(Rådata!O1314:P1314))*100)/SUM(Rådata!H1314:L1314))","v":""},{"$f":"IF(ISBLANK(Rådata!R1314),\"\",(Rådata!Q1314*100)/Rådata!R1314)","v":""}]
[{"$f":"IF(ISBLANK(Rådata!A1315)=TRUE,\"\",Rådata!A1315)","v":""},{"$f":"IF(ISBLANK(Rådata!A1315)=TRUE,\"\",YEAR(A1315))","v":""},{"$f":"IF(ISBLANK(Rådata!A1315)=TRUE,\"\",VLOOKUP(MONTH(A1315),Opsætning!$G$3:$H$14,2,FALSE))","v":""},{"$f":"IF(ISBLANK(Rådata!B1315)=TRUE,\"\",(Rådata!C1315*100)/Rådata!B1315)","v":""},{"$f":"IF(ISBLANK(Rådata!D1315)=TRUE,\"\",((Rådata!D1315-Rådata!E1315)*100)/Rådata!D1315)","v":""},{"$f":"IF(ISBLANK(Rådata!G1315)=TRUE,\"\",(Rådata!F1315*100)/Rådata!G1315)","v":""},{"$f":"IF(ISBLANK(Rådata!K1315),\"\",(SUM(Rådata!M1315:P1315)*100)/SUM(Rådata!H1315:K1315))","v":""},{"$f":"IF(ISBLANK(Rådata!H1315),\"\",((SUM(Rådata!J1315:L1315)-SUM(Rådata!O1315:P1315))*100)/SUM(Rådata!H1315:L1315))","v":""},{"$f":"IF(ISBLANK(Rådata!R1315),\"\",(Rådata!Q1315*100)/Rådata!R1315)","v":""}]
[{"$f":"IF(ISBLANK(Rådata!A1316)=TRUE,\"\",Rådata!A1316)","v":""},{"$f":"IF(ISBLANK(Rådata!A1316)=TRUE,\"\",YEAR(A1316))","v":""},{"$f":"IF(ISBLANK(Rådata!A1316)=TRUE,\"\",VLOOKUP(MONTH(A1316),Opsætning!$G$3:$H$14,2,FALSE))","v":""},{"$f":"IF(ISBLANK(Rådata!B1316)=TRUE,\"\",(Rådata!C1316*100)/Rådata!B1316)","v":""},{"$f":"IF(ISBLANK(Rådata!D1316)=TRUE,\"\",((Rådata!D1316-Rådata!E1316)*100)/Rådata!D1316)","v":""},{"$f":"IF(ISBLANK(Rådata!G1316)=TRUE,\"\",(Rådata!F1316*100)/Rådata!G1316)","v":""},{"$f":"IF(ISBLANK(Rådata!K1316),\"\",(SUM(Rådata!M1316:P1316)*100)/SUM(Rådata!H1316:K1316))","v":""},{"$f":"IF(ISBLANK(Rådata!H1316),\"\",((SUM(Rådata!J1316:L1316)-SUM(Rådata!O1316:P1316))*100)/SUM(Rådata!H1316:L1316))","v":""},{"$f":"IF(ISBLANK(Rådata!R1316),\"\",(Rådata!Q1316*100)/Rådata!R1316)","v":""}]
[{"$f":"IF(ISBLANK(Rådata!A1317)=TRUE,\"\",Rådata!A1317)","v":""},{"$f":"IF(ISBLANK(Rådata!A1317)=TRUE,\"\",YEAR(A1317))","v":""},{"$f":"IF(ISBLANK(Rådata!A1317)=TRUE,\"\",VLOOKUP(MONTH(A1317),Opsætning!$G$3:$H$14,2,FALSE))","v":""},{"$f":"IF(ISBLANK(Rådata!B1317)=TRUE,\"\",(Rådata!C1317*100)/Rådata!B1317)","v":""},{"$f":"IF(ISBLANK(Rådata!D1317)=TRUE,\"\",((Rådata!D1317-Rådata!E1317)*100)/Rådata!D1317)","v":""},{"$f":"IF(ISBLANK(Rådata!G1317)=TRUE,\"\",(Rådata!F1317*100)/Rådata!G1317)","v":""},{"$f":"IF(ISBLANK(Rådata!K1317),\"\",(SUM(Rådata!M1317:P1317)*100)/SUM(Rådata!H1317:K1317))","v":""},{"$f":"IF(ISBLANK(Rådata!H1317),\"\",((SUM(Rådata!J1317:L1317)-SUM(Rådata!O1317:P1317))*100)/SUM(Rådata!H1317:L1317))","v":""},{"$f":"IF(ISBLANK(Rådata!R1317),\"\",(Rådata!Q1317*100)/Rådata!R1317)","v":""}]
[{"$f":"IF(ISBLANK(Rådata!A1318)=TRUE,\"\",Rådata!A1318)","v":""},{"$f":"IF(ISBLANK(Rådata!A1318)=TRUE,\"\",YEAR(A1318))","v":""},{"$f":"IF(ISBLANK(Rådata!A1318)=TRUE,\"\",VLOOKUP(MONTH(A1318),Opsætning!$G$3:$H$14,2,FALSE))","v":""},{"$f":"IF(ISBLANK(Rådata!B1318)=TRUE,\"\",(Rådata!C1318*100)/Rådata!B1318)","v":""},{"$f":"IF(ISBLANK(Rådata!D1318)=TRUE,\"\",((Rådata!D1318-Rådata!E1318)*100)/Rådata!D1318)","v":""},{"$f":"IF(ISBLANK(Rådata!G1318)=TRUE,\"\",(Rådata!F1318*100)/Rådata!G1318)","v":""},{"$f":"IF(ISBLANK(Rådata!K1318),\"\",(SUM(Rådata!M1318:P1318)*100)/SUM(Rådata!H1318:K1318))","v":""},{"$f":"IF(ISBLANK(Rådata!H1318),\"\",((SUM(Rådata!J1318:L1318)-SUM(Rådata!O1318:P1318))*100)/SUM(Rådata!H1318:L1318))","v":""},{"$f":"IF(ISBLANK(Rådata!R1318),\"\",(Rådata!Q1318*100)/Rådata!R1318)","v":""}]
[{"$f":"IF(ISBLANK(Rådata!A1319)=TRUE,\"\",Rådata!A1319)","v":""},{"$f":"IF(ISBLANK(Rådata!A1319)=TRUE,\"\",YEAR(A1319))","v":""},{"$f":"IF(ISBLANK(Rådata!A1319)=TRUE,\"\",VLOOKUP(MONTH(A1319),Opsætning!$G$3:$H$14,2,FALSE))","v":""},{"$f":"IF(ISBLANK(Rådata!B1319)=TRUE,\"\",(Rådata!C1319*100)/Rådata!B1319)","v":""},{"$f":"IF(ISBLANK(Rådata!D1319)=TRUE,\"\",((Rådata!D1319-Rådata!E1319)*100)/Rådata!D1319)","v":""},{"$f":"IF(ISBLANK(Rådata!G1319)=TRUE,\"\",(Rådata!F1319*100)/Rådata!G1319)","v":""},{"$f":"IF(ISBLANK(Rådata!K1319),\"\",(SUM(Rådata!M1319:P1319)*100)/SUM(Rådata!H1319:K1319))","v":""},{"$f":"IF(ISBLANK(Rådata!H1319),\"\",((SUM(Rådata!J1319:L1319)-SUM(Rådata!O1319:P1319))*100)/SUM(Rådata!H1319:L1319))","v":""},{"$f":"IF(ISBLANK(Rådata!R1319),\"\",(Rådata!Q1319*100)/Rådata!R1319)","v":""}]
[{"$f":"IF(ISBLANK(Rådata!A1320)=TRUE,\"\",Rådata!A1320)","v":""},{"$f":"IF(ISBLANK(Rådata!A1320)=TRUE,\"\",YEAR(A1320))","v":""},{"$f":"IF(ISBLANK(Rådata!A1320)=TRUE,\"\",VLOOKUP(MONTH(A1320),Opsætning!$G$3:$H$14,2,FALSE))","v":""},{"$f":"IF(ISBLANK(Rådata!B1320)=TRUE,\"\",(Rådata!C1320*100)/Rådata!B1320)","v":""},{"$f":"IF(ISBLANK(Rådata!D1320)=TRUE,\"\",((Rådata!D1320-Rådata!E1320)*100)/Rådata!D1320)","v":""},{"$f":"IF(ISBLANK(Rådata!G1320)=TRUE,\"\",(Rådata!F1320*100)/Rådata!G1320)","v":""},{"$f":"IF(ISBLANK(Rådata!K1320),\"\",(SUM(Rådata!M1320:P1320)*100)/SUM(Rådata!H1320:K1320))","v":""},{"$f":"IF(ISBLANK(Rådata!H1320),\"\",((SUM(Rådata!J1320:L1320)-SUM(Rådata!O1320:P1320))*100)/SUM(Rådata!H1320:L1320))","v":""},{"$f":"IF(ISBLANK(Rådata!R1320),\"\",(Rådata!Q1320*100)/Rådata!R1320)","v":""}]
[{"$f":"IF(ISBLANK(Rådata!A1321)=TRUE,\"\",Rådata!A1321)","v":""},{"$f":"IF(ISBLANK(Rådata!A1321)=TRUE,\"\",YEAR(A1321))","v":""},{"$f":"IF(ISBLANK(Rådata!A1321)=TRUE,\"\",VLOOKUP(MONTH(A1321),Opsætning!$G$3:$H$14,2,FALSE))","v":""},{"$f":"IF(ISBLANK(Rådata!B1321)=TRUE,\"\",(Rådata!C1321*100)/Rådata!B1321)","v":""},{"$f":"IF(ISBLANK(Rådata!D1321)=TRUE,\"\",((Rådata!D1321-Rådata!E1321)*100)/Rådata!D1321)","v":""},{"$f":"IF(ISBLANK(Rådata!G1321)=TRUE,\"\",(Rådata!F1321*100)/Rådata!G1321)","v":""},{"$f":"IF(ISBLANK(Rådata!K1321),\"\",(SUM(Rådata!M1321:P1321)*100)/SUM(Rådata!H1321:K1321))","v":""},{"$f":"IF(ISBLANK(Rådata!H1321),\"\",((SUM(Rådata!J1321:L1321)-SUM(Rådata!O1321:P1321))*100)/SUM(Rådata!H1321:L1321))","v":""},{"$f":"IF(ISBLANK(Rådata!R1321),\"\",(Rådata!Q1321*100)/Rådata!R1321)","v":""}]
[{"$f":"IF(ISBLANK(Rådata!A1322)=TRUE,\"\",Rådata!A1322)","v":""},{"$f":"IF(ISBLANK(Rådata!A1322)=TRUE,\"\",YEAR(A1322))","v":""},{"$f":"IF(ISBLANK(Rådata!A1322)=TRUE,\"\",VLOOKUP(MONTH(A1322),Opsætning!$G$3:$H$14,2,FALSE))","v":""},{"$f":"IF(ISBLANK(Rådata!B1322)=TRUE,\"\",(Rådata!C1322*100)/Rådata!B1322)","v":""},{"$f":"IF(ISBLANK(Rådata!D1322)=TRUE,\"\",((Rådata!D1322-Rådata!E1322)*100)/Rådata!D1322)","v":""},{"$f":"IF(ISBLANK(Rådata!G1322)=TRUE,\"\",(Rådata!F1322*100)/Rådata!G1322)","v":""},{"$f":"IF(ISBLANK(Rådata!K1322),\"\",(SUM(Rådata!M1322:P1322)*100)/SUM(Rådata!H1322:K1322))","v":""},{"$f":"IF(ISBLANK(Rådata!H1322),\"\",((SUM(Rådata!J1322:L1322)-SUM(Rådata!O1322:P1322))*100)/SUM(Rådata!H1322:L1322))","v":""},{"$f":"IF(ISBLANK(Rådata!R1322),\"\",(Rådata!Q1322*100)/Rådata!R1322)","v":""}]
[{"$f":"IF(ISBLANK(Rådata!A1323)=TRUE,\"\",Rådata!A1323)","v":""},{"$f":"IF(ISBLANK(Rådata!A1323)=TRUE,\"\",YEAR(A1323))","v":""},{"$f":"IF(ISBLANK(Rådata!A1323)=TRUE,\"\",VLOOKUP(MONTH(A1323),Opsætning!$G$3:$H$14,2,FALSE))","v":""},{"$f":"IF(ISBLANK(Rådata!B1323)=TRUE,\"\",(Rådata!C1323*100)/Rådata!B1323)","v":""},{"$f":"IF(ISBLANK(Rådata!D1323)=TRUE,\"\",((Rådata!D1323-Rådata!E1323)*100)/Rådata!D1323)","v":""},{"$f":"IF(ISBLANK(Rådata!G1323)=TRUE,\"\",(Rådata!F1323*100)/Rådata!G1323)","v":""},{"$f":"IF(ISBLANK(Rådata!K1323),\"\",(SUM(Rådata!M1323:P1323)*100)/SUM(Rådata!H1323:K1323))","v":""},{"$f":"IF(ISBLANK(Rådata!H1323),\"\",((SUM(Rådata!J1323:L1323)-SUM(Rådata!O1323:P1323))*100)/SUM(Rådata!H1323:L1323))","v":""},{"$f":"IF(ISBLANK(Rådata!R1323),\"\",(Rådata!Q1323*100)/Rådata!R1323)","v":""}]
[{"$f":"IF(ISBLANK(Rådata!A1324)=TRUE,\"\",Rådata!A1324)","v":""},{"$f":"IF(ISBLANK(Rådata!A1324)=TRUE,\"\",YEAR(A1324))","v":""},{"$f":"IF(ISBLANK(Rådata!A1324)=TRUE,\"\",VLOOKUP(MONTH(A1324),Opsætning!$G$3:$H$14,2,FALSE))","v":""},{"$f":"IF(ISBLANK(Rådata!B1324)=TRUE,\"\",(Rådata!C1324*100)/Rådata!B1324)","v":""},{"$f":"IF(ISBLANK(Rådata!D1324)=TRUE,\"\",((Rådata!D1324-Rådata!E1324)*100)/Rådata!D1324)","v":""},{"$f":"IF(ISBLANK(Rådata!G1324)=TRUE,\"\",(Rådata!F1324*100)/Rådata!G1324)","v":""},{"$f":"IF(ISBLANK(Rådata!K1324),\"\",(SUM(Rådata!M1324:P1324)*100)/SUM(Rådata!H1324:K1324))","v":""},{"$f":"IF(ISBLANK(Rådata!H1324),\"\",((SUM(Rådata!J1324:L1324)-SUM(Rådata!O1324:P1324))*100)/SUM(Rådata!H1324:L1324))","v":""},{"$f":"IF(ISBLANK(Rådata!R1324),\"\",(Rådata!Q1324*100)/Rådata!R1324)","v":""}]
[{"$f":"IF(ISBLANK(Rådata!A1325)=TRUE,\"\",Rådata!A1325)","v":""},{"$f":"IF(ISBLANK(Rådata!A1325)=TRUE,\"\",YEAR(A1325))","v":""},{"$f":"IF(ISBLANK(Rådata!A1325)=TRUE,\"\",VLOOKUP(MONTH(A1325),Opsætning!$G$3:$H$14,2,FALSE))","v":""},{"$f":"IF(ISBLANK(Rådata!B1325)=TRUE,\"\",(Rådata!C1325*100)/Rådata!B1325)","v":""},{"$f":"IF(ISBLANK(Rådata!D1325)=TRUE,\"\",((Rådata!D1325-Rådata!E1325)*100)/Rådata!D1325)","v":""},{"$f":"IF(ISBLANK(Rådata!G1325)=TRUE,\"\",(Rådata!F1325*100)/Rådata!G1325)","v":""},{"$f":"IF(ISBLANK(Rådata!K1325),\"\",(SUM(Rådata!M1325:P1325)*100)/SUM(Rådata!H1325:K1325))","v":""},{"$f":"IF(ISBLANK(Rådata!H1325),\"\",((SUM(Rådata!J1325:L1325)-SUM(Rådata!O1325:P1325))*100)/SUM(Rådata!H1325:L1325))","v":""},{"$f":"IF(ISBLANK(Rådata!R1325),\"\",(Rådata!Q1325*100)/Rådata!R1325)","v":""}]
[{"$f":"IF(ISBLANK(Rådata!A1326)=TRUE,\"\",Rådata!A1326)","v":""},{"$f":"IF(ISBLANK(Rådata!A1326)=TRUE,\"\",YEAR(A1326))","v":""},{"$f":"IF(ISBLANK(Rådata!A1326)=TRUE,\"\",VLOOKUP(MONTH(A1326),Opsætning!$G$3:$H$14,2,FALSE))","v":""},{"$f":"IF(ISBLANK(Rådata!B1326)=TRUE,\"\",(Rådata!C1326*100)/Rådata!B1326)","v":""},{"$f":"IF(ISBLANK(Rådata!D1326)=TRUE,\"\",((Rådata!D1326-Rådata!E1326)*100)/Rådata!D1326)","v":""},{"$f":"IF(ISBLANK(Rådata!G1326)=TRUE,\"\",(Rådata!F1326*100)/Rådata!G1326)","v":""},{"$f":"IF(ISBLANK(Rådata!K1326),\"\",(SUM(Rådata!M1326:P1326)*100)/SUM(Rådata!H1326:K1326))","v":""},{"$f":"IF(ISBLANK(Rådata!H1326),\"\",((SUM(Rådata!J1326:L1326)-SUM(Rådata!O1326:P1326))*100)/SUM(Rådata!H1326:L1326))","v":""},{"$f":"IF(ISBLANK(Rådata!R1326),\"\",(Rådata!Q1326*100)/Rådata!R1326)","v":""}]
[{"$f":"IF(ISBLANK(Rådata!A1327)=TRUE,\"\",Rådata!A1327)","v":""},{"$f":"IF(ISBLANK(Rådata!A1327)=TRUE,\"\",YEAR(A1327))","v":""},{"$f":"IF(ISBLANK(Rådata!A1327)=TRUE,\"\",VLOOKUP(MONTH(A1327),Opsætning!$G$3:$H$14,2,FALSE))","v":""},{"$f":"IF(ISBLANK(Rådata!B1327)=TRUE,\"\",(Rådata!C1327*100)/Rådata!B1327)","v":""},{"$f":"IF(ISBLANK(Rådata!D1327)=TRUE,\"\",((Rådata!D1327-Rådata!E1327)*100)/Rådata!D1327)","v":""},{"$f":"IF(ISBLANK(Rådata!G1327)=TRUE,\"\",(Rådata!F1327*100)/Rådata!G1327)","v":""},{"$f":"IF(ISBLANK(Rådata!K1327),\"\",(SUM(Rådata!M1327:P1327)*100)/SUM(Rådata!H1327:K1327))","v":""},{"$f":"IF(ISBLANK(Rådata!H1327),\"\",((SUM(Rådata!J1327:L1327)-SUM(Rådata!O1327:P1327))*100)/SUM(Rådata!H1327:L1327))","v":""},{"$f":"IF(ISBLANK(Rådata!R1327),\"\",(Rådata!Q1327*100)/Rådata!R1327)","v":""}]
[{"$f":"IF(ISBLANK(Rådata!A1328)=TRUE,\"\",Rådata!A1328)","v":""},{"$f":"IF(ISBLANK(Rådata!A1328)=TRUE,\"\",YEAR(A1328))","v":""},{"$f":"IF(ISBLANK(Rådata!A1328)=TRUE,\"\",VLOOKUP(MONTH(A1328),Opsætning!$G$3:$H$14,2,FALSE))","v":""},{"$f":"IF(ISBLANK(Rådata!B1328)=TRUE,\"\",(Rådata!C1328*100)/Rådata!B1328)","v":""},{"$f":"IF(ISBLANK(Rådata!D1328)=TRUE,\"\",((Rådata!D1328-Rådata!E1328)*100)/Rådata!D1328)","v":""},{"$f":"IF(ISBLANK(Rådata!G1328)=TRUE,\"\",(Rådata!F1328*100)/Rådata!G1328)","v":""},{"$f":"IF(ISBLANK(Rådata!K1328),\"\",(SUM(Rådata!M1328:P1328)*100)/SUM(Rådata!H1328:K1328))","v":""},{"$f":"IF(ISBLANK(Rådata!H1328),\"\",((SUM(Rådata!J1328:L1328)-SUM(Rådata!O1328:P1328))*100)/SUM(Rådata!H1328:L1328))","v":""},{"$f":"IF(ISBLANK(Rådata!R1328),\"\",(Rådata!Q1328*100)/Rådata!R1328)","v":""}]
[{"$f":"IF(ISBLANK(Rådata!A1329)=TRUE,\"\",Rådata!A1329)","v":""},{"$f":"IF(ISBLANK(Rådata!A1329)=TRUE,\"\",YEAR(A1329))","v":""},{"$f":"IF(ISBLANK(Rådata!A1329)=TRUE,\"\",VLOOKUP(MONTH(A1329),Opsætning!$G$3:$H$14,2,FALSE))","v":""},{"$f":"IF(ISBLANK(Rådata!B1329)=TRUE,\"\",(Rådata!C1329*100)/Rådata!B1329)","v":""},{"$f":"IF(ISBLANK(Rådata!D1329)=TRUE,\"\",((Rådata!D1329-Rådata!E1329)*100)/Rådata!D1329)","v":""},{"$f":"IF(ISBLANK(Rådata!G1329)=TRUE,\"\",(Rådata!F1329*100)/Rådata!G1329)","v":""},{"$f":"IF(ISBLANK(Rådata!K1329),\"\",(SUM(Rådata!M1329:P1329)*100)/SUM(Rådata!H1329:K1329))","v":""},{"$f":"IF(ISBLANK(Rådata!H1329),\"\",((SUM(Rådata!J1329:L1329)-SUM(Rådata!O1329:P1329))*100)/SUM(Rådata!H1329:L1329))","v":""},{"$f":"IF(ISBLANK(Rådata!R1329),\"\",(Rådata!Q1329*100)/Rådata!R1329)","v":""}]
[{"$f":"IF(ISBLANK(Rådata!A1330)=TRUE,\"\",Rådata!A1330)","v":""},{"$f":"IF(ISBLANK(Rådata!A1330)=TRUE,\"\",YEAR(A1330))","v":""},{"$f":"IF(ISBLANK(Rådata!A1330)=TRUE,\"\",VLOOKUP(MONTH(A1330),Opsætning!$G$3:$H$14,2,FALSE))","v":""},{"$f":"IF(ISBLANK(Rådata!B1330)=TRUE,\"\",(Rådata!C1330*100)/Rådata!B1330)","v":""},{"$f":"IF(ISBLANK(Rådata!D1330)=TRUE,\"\",((Rådata!D1330-Rådata!E1330)*100)/Rådata!D1330)","v":""},{"$f":"IF(ISBLANK(Rådata!G1330)=TRUE,\"\",(Rådata!F1330*100)/Rådata!G1330)","v":""},{"$f":"IF(ISBLANK(Rådata!K1330),\"\",(SUM(Rådata!M1330:P1330)*100)/SUM(Rådata!H1330:K1330))","v":""},{"$f":"IF(ISBLANK(Rådata!H1330),\"\",((SUM(Rådata!J1330:L1330)-SUM(Rådata!O1330:P1330))*100)/SUM(Rådata!H1330:L1330))","v":""},{"$f":"IF(ISBLANK(Rådata!R1330),\"\",(Rådata!Q1330*100)/Rådata!R1330)","v":""}]
[{"$f":"IF(ISBLANK(Rådata!A1331)=TRUE,\"\",Rådata!A1331)","v":""},{"$f":"IF(ISBLANK(Rådata!A1331)=TRUE,\"\",YEAR(A1331))","v":""},{"$f":"IF(ISBLANK(Rådata!A1331)=TRUE,\"\",VLOOKUP(MONTH(A1331),Opsætning!$G$3:$H$14,2,FALSE))","v":""},{"$f":"IF(ISBLANK(Rådata!B1331)=TRUE,\"\",(Rådata!C1331*100)/Rådata!B1331)","v":""},{"$f":"IF(ISBLANK(Rådata!D1331)=TRUE,\"\",((Rådata!D1331-Rådata!E1331)*100)/Rådata!D1331)","v":""},{"$f":"IF(ISBLANK(Rådata!G1331)=TRUE,\"\",(Rådata!F1331*100)/Rådata!G1331)","v":""},{"$f":"IF(ISBLANK(Rådata!K1331),\"\",(SUM(Rådata!M1331:P1331)*100)/SUM(Rådata!H1331:K1331))","v":""},{"$f":"IF(ISBLANK(Rådata!H1331),\"\",((SUM(Rådata!J1331:L1331)-SUM(Rådata!O1331:P1331))*100)/SUM(Rådata!H1331:L1331))","v":""},{"$f":"IF(ISBLANK(Rådata!R1331),\"\",(Rådata!Q1331*100)/Rådata!R1331)","v":""}]
[{"$f":"IF(ISBLANK(Rådata!A1332)=TRUE,\"\",Rådata!A1332)","v":""},{"$f":"IF(ISBLANK(Rådata!A1332)=TRUE,\"\",YEAR(A1332))","v":""},{"$f":"IF(ISBLANK(Rådata!A1332)=TRUE,\"\",VLOOKUP(MONTH(A1332),Opsætning!$G$3:$H$14,2,FALSE))","v":""},{"$f":"IF(ISBLANK(Rådata!B1332)=TRUE,\"\",(Rådata!C1332*100)/Rådata!B1332)","v":""},{"$f":"IF(ISBLANK(Rådata!D1332)=TRUE,\"\",((Rådata!D1332-Rådata!E1332)*100)/Rådata!D1332)","v":""},{"$f":"IF(ISBLANK(Rådata!G1332)=TRUE,\"\",(Rådata!F1332*100)/Rådata!G1332)","v":""},{"$f":"IF(ISBLANK(Rådata!K1332),\"\",(SUM(Rådata!M1332:P1332)*100)/SUM(Rådata!H1332:K1332))","v":""},{"$f":"IF(ISBLANK(Rådata!H1332),\"\",((SUM(Rådata!J1332:L1332)-SUM(Rådata!O1332:P1332))*100)/SUM(Rådata!H1332:L1332))","v":""},{"$f":"IF(ISBLANK(Rådata!R1332),\"\",(Rådata!Q1332*100)/Rådata!R1332)","v":""}]
[{"$f":"IF(ISBLANK(Rådata!A1333)=TRUE,\"\",Rådata!A1333)","v":""},{"$f":"IF(ISBLANK(Rådata!A1333)=TRUE,\"\",YEAR(A1333))","v":""},{"$f":"IF(ISBLANK(Rådata!A1333)=TRUE,\"\",VLOOKUP(MONTH(A1333),Opsætning!$G$3:$H$14,2,FALSE))","v":""},{"$f":"IF(ISBLANK(Rådata!B1333)=TRUE,\"\",(Rådata!C1333*100)/Rådata!B1333)","v":""},{"$f":"IF(ISBLANK(Rådata!D1333)=TRUE,\"\",((Rådata!D1333-Rådata!E1333)*100)/Rådata!D1333)","v":""},{"$f":"IF(ISBLANK(Rådata!G1333)=TRUE,\"\",(Rådata!F1333*100)/Rådata!G1333)","v":""},{"$f":"IF(ISBLANK(Rådata!K1333),\"\",(SUM(Rådata!M1333:P1333)*100)/SUM(Rådata!H1333:K1333))","v":""},{"$f":"IF(ISBLANK(Rådata!H1333),\"\",((SUM(Rådata!J1333:L1333)-SUM(Rådata!O1333:P1333))*100)/SUM(Rådata!H1333:L1333))","v":""},{"$f":"IF(ISBLANK(Rådata!R1333),\"\",(Rådata!Q1333*100)/Rådata!R1333)","v":""}]
[{"$f":"IF(ISBLANK(Rådata!A1334)=TRUE,\"\",Rådata!A1334)","v":""},{"$f":"IF(ISBLANK(Rådata!A1334)=TRUE,\"\",YEAR(A1334))","v":""},{"$f":"IF(ISBLANK(Rådata!A1334)=TRUE,\"\",VLOOKUP(MONTH(A1334),Opsætning!$G$3:$H$14,2,FALSE))","v":""},{"$f":"IF(ISBLANK(Rådata!B1334)=TRUE,\"\",(Rådata!C1334*100)/Rådata!B1334)","v":""},{"$f":"IF(ISBLANK(Rådata!D1334)=TRUE,\"\",((Rådata!D1334-Rådata!E1334)*100)/Rådata!D1334)","v":""},{"$f":"IF(ISBLANK(Rådata!G1334)=TRUE,\"\",(Rådata!F1334*100)/Rådata!G1334)","v":""},{"$f":"IF(ISBLANK(Rådata!K1334),\"\",(SUM(Rådata!M1334:P1334)*100)/SUM(Rådata!H1334:K1334))","v":""},{"$f":"IF(ISBLANK(Rådata!H1334),\"\",((SUM(Rådata!J1334:L1334)-SUM(Rådata!O1334:P1334))*100)/SUM(Rådata!H1334:L1334))","v":""},{"$f":"IF(ISBLANK(Rådata!R1334),\"\",(Rådata!Q1334*100)/Rådata!R1334)","v":""}]
[{"$f":"IF(ISBLANK(Rådata!A1335)=TRUE,\"\",Rådata!A1335)","v":""},{"$f":"IF(ISBLANK(Rådata!A1335)=TRUE,\"\",YEAR(A1335))","v":""},{"$f":"IF(ISBLANK(Rådata!A1335)=TRUE,\"\",VLOOKUP(MONTH(A1335),Opsætning!$G$3:$H$14,2,FALSE))","v":""},{"$f":"IF(ISBLANK(Rådata!B1335)=TRUE,\"\",(Rådata!C1335*100)/Rådata!B1335)","v":""},{"$f":"IF(ISBLANK(Rådata!D1335)=TRUE,\"\",((Rådata!D1335-Rådata!E1335)*100)/Rådata!D1335)","v":""},{"$f":"IF(ISBLANK(Rådata!G1335)=TRUE,\"\",(Rådata!F1335*100)/Rådata!G1335)","v":""},{"$f":"IF(ISBLANK(Rådata!K1335),\"\",(SUM(Rådata!M1335:P1335)*100)/SUM(Rådata!H1335:K1335))","v":""},{"$f":"IF(ISBLANK(Rådata!H1335),\"\",((SUM(Rådata!J1335:L1335)-SUM(Rådata!O1335:P1335))*100)/SUM(Rådata!H1335:L1335))","v":""},{"$f":"IF(ISBLANK(Rådata!R1335),\"\",(Rådata!Q1335*100)/Rådata!R1335)","v":""}]
[{"$f":"IF(ISBLANK(Rådata!A1336)=TRUE,\"\",Rådata!A1336)","v":""},{"$f":"IF(ISBLANK(Rådata!A1336)=TRUE,\"\",YEAR(A1336))","v":""},{"$f":"IF(ISBLANK(Rådata!A1336)=TRUE,\"\",VLOOKUP(MONTH(A1336),Opsætning!$G$3:$H$14,2,FALSE))","v":""},{"$f":"IF(ISBLANK(Rådata!B1336)=TRUE,\"\",(Rådata!C1336*100)/Rådata!B1336)","v":""},{"$f":"IF(ISBLANK(Rådata!D1336)=TRUE,\"\",((Rådata!D1336-Rådata!E1336)*100)/Rådata!D1336)","v":""},{"$f":"IF(ISBLANK(Rådata!G1336)=TRUE,\"\",(Rådata!F1336*100)/Rådata!G1336)","v":""},{"$f":"IF(ISBLANK(Rådata!K1336),\"\",(SUM(Rådata!M1336:P1336)*100)/SUM(Rådata!H1336:K1336))","v":""},{"$f":"IF(ISBLANK(Rådata!H1336),\"\",((SUM(Rådata!J1336:L1336)-SUM(Rådata!O1336:P1336))*100)/SUM(Rådata!H1336:L1336))","v":""},{"$f":"IF(ISBLANK(Rådata!R1336),\"\",(Rådata!Q1336*100)/Rådata!R1336)","v":""}]
[{"$f":"IF(ISBLANK(Rådata!A1337)=TRUE,\"\",Rådata!A1337)","v":""},{"$f":"IF(ISBLANK(Rådata!A1337)=TRUE,\"\",YEAR(A1337))","v":""},{"$f":"IF(ISBLANK(Rådata!A1337)=TRUE,\"\",VLOOKUP(MONTH(A1337),Opsætning!$G$3:$H$14,2,FALSE))","v":""},{"$f":"IF(ISBLANK(Rådata!B1337)=TRUE,\"\",(Rådata!C1337*100)/Rådata!B1337)","v":""},{"$f":"IF(ISBLANK(Rådata!D1337)=TRUE,\"\",((Rådata!D1337-Rådata!E1337)*100)/Rådata!D1337)","v":""},{"$f":"IF(ISBLANK(Rådata!G1337)=TRUE,\"\",(Rådata!F1337*100)/Rådata!G1337)","v":""},{"$f":"IF(ISBLANK(Rådata!K1337),\"\",(SUM(Rådata!M1337:P1337)*100)/SUM(Rådata!H1337:K1337))","v":""},{"$f":"IF(ISBLANK(Rådata!H1337),\"\",((SUM(Rådata!J1337:L1337)-SUM(Rådata!O1337:P1337))*100)/SUM(Rådata!H1337:L1337))","v":""},{"$f":"IF(ISBLANK(Rådata!R1337),\"\",(Rådata!Q1337*100)/Rådata!R1337)","v":""}]
[{"$f":"IF(ISBLANK(Rådata!A1338)=TRUE,\"\",Rådata!A1338)","v":""},{"$f":"IF(ISBLANK(Rådata!A1338)=TRUE,\"\",YEAR(A1338))","v":""},{"$f":"IF(ISBLANK(Rådata!A1338)=TRUE,\"\",VLOOKUP(MONTH(A1338),Opsætning!$G$3:$H$14,2,FALSE))","v":""},{"$f":"IF(ISBLANK(Rådata!B1338)=TRUE,\"\",(Rådata!C1338*100)/Rådata!B1338)","v":""},{"$f":"IF(ISBLANK(Rådata!D1338)=TRUE,\"\",((Rådata!D1338-Rådata!E1338)*100)/Rådata!D1338)","v":""},{"$f":"IF(ISBLANK(Rådata!G1338)=TRUE,\"\",(Rådata!F1338*100)/Rådata!G1338)","v":""},{"$f":"IF(ISBLANK(Rådata!K1338),\"\",(SUM(Rådata!M1338:P1338)*100)/SUM(Rådata!H1338:K1338))","v":""},{"$f":"IF(ISBLANK(Rådata!H1338),\"\",((SUM(Rådata!J1338:L1338)-SUM(Rådata!O1338:P1338))*100)/SUM(Rådata!H1338:L1338))","v":""},{"$f":"IF(ISBLANK(Rådata!R1338),\"\",(Rådata!Q1338*100)/Rådata!R1338)","v":""}]
[{"$f":"IF(ISBLANK(Rådata!A1339)=TRUE,\"\",Rådata!A1339)","v":""},{"$f":"IF(ISBLANK(Rådata!A1339)=TRUE,\"\",YEAR(A1339))","v":""},{"$f":"IF(ISBLANK(Rådata!A1339)=TRUE,\"\",VLOOKUP(MONTH(A1339),Opsætning!$G$3:$H$14,2,FALSE))","v":""},{"$f":"IF(ISBLANK(Rådata!B1339)=TRUE,\"\",(Rådata!C1339*100)/Rådata!B1339)","v":""},{"$f":"IF(ISBLANK(Rådata!D1339)=TRUE,\"\",((Rådata!D1339-Rådata!E1339)*100)/Rådata!D1339)","v":""},{"$f":"IF(ISBLANK(Rådata!G1339)=TRUE,\"\",(Rådata!F1339*100)/Rådata!G1339)","v":""},{"$f":"IF(ISBLANK(Rådata!K1339),\"\",(SUM(Rådata!M1339:P1339)*100)/SUM(Rådata!H1339:K1339))","v":""},{"$f":"IF(ISBLANK(Rådata!H1339),\"\",((SUM(Rådata!J1339:L1339)-SUM(Rådata!O1339:P1339))*100)/SUM(Rådata!H1339:L1339))","v":""},{"$f":"IF(ISBLANK(Rådata!R1339),\"\",(Rådata!Q1339*100)/Rådata!R1339)","v":""}]
[{"$f":"IF(ISBLANK(Rådata!A1340)=TRUE,\"\",Rådata!A1340)","v":""},{"$f":"IF(ISBLANK(Rådata!A1340)=TRUE,\"\",YEAR(A1340))","v":""},{"$f":"IF(ISBLANK(Rådata!A1340)=TRUE,\"\",VLOOKUP(MONTH(A1340),Opsætning!$G$3:$H$14,2,FALSE))","v":""},{"$f":"IF(ISBLANK(Rådata!B1340)=TRUE,\"\",(Rådata!C1340*100)/Rådata!B1340)","v":""},{"$f":"IF(ISBLANK(Rådata!D1340)=TRUE,\"\",((Rådata!D1340-Rådata!E1340)*100)/Rådata!D1340)","v":""},{"$f":"IF(ISBLANK(Rådata!G1340)=TRUE,\"\",(Rådata!F1340*100)/Rådata!G1340)","v":""},{"$f":"IF(ISBLANK(Rådata!K1340),\"\",(SUM(Rådata!M1340:P1340)*100)/SUM(Rådata!H1340:K1340))","v":""},{"$f":"IF(ISBLANK(Rådata!H1340),\"\",((SUM(Rådata!J1340:L1340)-SUM(Rådata!O1340:P1340))*100)/SUM(Rådata!H1340:L1340))","v":""},{"$f":"IF(ISBLANK(Rådata!R1340),\"\",(Rådata!Q1340*100)/Rådata!R1340)","v":""}]
[{"$f":"IF(ISBLANK(Rådata!A1341)=TRUE,\"\",Rådata!A1341)","v":""},{"$f":"IF(ISBLANK(Rådata!A1341)=TRUE,\"\",YEAR(A1341))","v":""},{"$f":"IF(ISBLANK(Rådata!A1341)=TRUE,\"\",VLOOKUP(MONTH(A1341),Opsætning!$G$3:$H$14,2,FALSE))","v":""},{"$f":"IF(ISBLANK(Rådata!B1341)=TRUE,\"\",(Rådata!C1341*100)/Rådata!B1341)","v":""},{"$f":"IF(ISBLANK(Rådata!D1341)=TRUE,\"\",((Rådata!D1341-Rådata!E1341)*100)/Rådata!D1341)","v":""},{"$f":"IF(ISBLANK(Rådata!G1341)=TRUE,\"\",(Rådata!F1341*100)/Rådata!G1341)","v":""},{"$f":"IF(ISBLANK(Rådata!K1341),\"\",(SUM(Rådata!M1341:P1341)*100)/SUM(Rådata!H1341:K1341))","v":""},{"$f":"IF(ISBLANK(Rådata!H1341),\"\",((SUM(Rådata!J1341:L1341)-SUM(Rådata!O1341:P1341))*100)/SUM(Rådata!H1341:L1341))","v":""},{"$f":"IF(ISBLANK(Rådata!R1341),\"\",(Rådata!Q1341*100)/Rådata!R1341)","v":""}]
[{"$f":"IF(ISBLANK(Rådata!A1342)=TRUE,\"\",Rådata!A1342)","v":""},{"$f":"IF(ISBLANK(Rådata!A1342)=TRUE,\"\",YEAR(A1342))","v":""},{"$f":"IF(ISBLANK(Rådata!A1342)=TRUE,\"\",VLOOKUP(MONTH(A1342),Opsætning!$G$3:$H$14,2,FALSE))","v":""},{"$f":"IF(ISBLANK(Rådata!B1342)=TRUE,\"\",(Rådata!C1342*100)/Rådata!B1342)","v":""},{"$f":"IF(ISBLANK(Rådata!D1342)=TRUE,\"\",((Rådata!D1342-Rådata!E1342)*100)/Rådata!D1342)","v":""},{"$f":"IF(ISBLANK(Rådata!G1342)=TRUE,\"\",(Rådata!F1342*100)/Rådata!G1342)","v":""},{"$f":"IF(ISBLANK(Rådata!K1342),\"\",(SUM(Rådata!M1342:P1342)*100)/SUM(Rådata!H1342:K1342))","v":""},{"$f":"IF(ISBLANK(Rådata!H1342),\"\",((SUM(Rådata!J1342:L1342)-SUM(Rådata!O1342:P1342))*100)/SUM(Rådata!H1342:L1342))","v":""},{"$f":"IF(ISBLANK(Rådata!R1342),\"\",(Rådata!Q1342*100)/Rådata!R1342)","v":""}]
[{"$f":"IF(ISBLANK(Rådata!A1343)=TRUE,\"\",Rådata!A1343)","v":""},{"$f":"IF(ISBLANK(Rådata!A1343)=TRUE,\"\",YEAR(A1343))","v":""},{"$f":"IF(ISBLANK(Rådata!A1343)=TRUE,\"\",VLOOKUP(MONTH(A1343),Opsætning!$G$3:$H$14,2,FALSE))","v":""},{"$f":"IF(ISBLANK(Rådata!B1343)=TRUE,\"\",(Rådata!C1343*100)/Rådata!B1343)","v":""},{"$f":"IF(ISBLANK(Rådata!D1343)=TRUE,\"\",((Rådata!D1343-Rådata!E1343)*100)/Rådata!D1343)","v":""},{"$f":"IF(ISBLANK(Rådata!G1343)=TRUE,\"\",(Rådata!F1343*100)/Rådata!G1343)","v":""},{"$f":"IF(ISBLANK(Rådata!K1343),\"\",(SUM(Rådata!M1343:P1343)*100)/SUM(Rådata!H1343:K1343))","v":""},{"$f":"IF(ISBLANK(Rådata!H1343),\"\",((SUM(Rådata!J1343:L1343)-SUM(Rådata!O1343:P1343))*100)/SUM(Rådata!H1343:L1343))","v":""},{"$f":"IF(ISBLANK(Rådata!R1343),\"\",(Rådata!Q1343*100)/Rådata!R1343)","v":""}]
[{"$f":"IF(ISBLANK(Rådata!A1344)=TRUE,\"\",Rådata!A1344)","v":""},{"$f":"IF(ISBLANK(Rådata!A1344)=TRUE,\"\",YEAR(A1344))","v":""},{"$f":"IF(ISBLANK(Rådata!A1344)=TRUE,\"\",VLOOKUP(MONTH(A1344),Opsætning!$G$3:$H$14,2,FALSE))","v":""},{"$f":"IF(ISBLANK(Rådata!B1344)=TRUE,\"\",(Rådata!C1344*100)/Rådata!B1344)","v":""},{"$f":"IF(ISBLANK(Rådata!D1344)=TRUE,\"\",((Rådata!D1344-Rådata!E1344)*100)/Rådata!D1344)","v":""},{"$f":"IF(ISBLANK(Rådata!G1344)=TRUE,\"\",(Rådata!F1344*100)/Rådata!G1344)","v":""},{"$f":"IF(ISBLANK(Rådata!K1344),\"\",(SUM(Rådata!M1344:P1344)*100)/SUM(Rådata!H1344:K1344))","v":""},{"$f":"IF(ISBLANK(Rådata!H1344),\"\",((SUM(Rådata!J1344:L1344)-SUM(Rådata!O1344:P1344))*100)/SUM(Rådata!H1344:L1344))","v":""},{"$f":"IF(ISBLANK(Rådata!R1344),\"\",(Rådata!Q1344*100)/Rådata!R1344)","v":""}]
[{"$f":"IF(ISBLANK(Rådata!A1345)=TRUE,\"\",Rådata!A1345)","v":""},{"$f":"IF(ISBLANK(Rådata!A1345)=TRUE,\"\",YEAR(A1345))","v":""},{"$f":"IF(ISBLANK(Rådata!A1345)=TRUE,\"\",VLOOKUP(MONTH(A1345),Opsætning!$G$3:$H$14,2,FALSE))","v":""},{"$f":"IF(ISBLANK(Rådata!B1345)=TRUE,\"\",(Rådata!C1345*100)/Rådata!B1345)","v":""},{"$f":"IF(ISBLANK(Rådata!D1345)=TRUE,\"\",((Rådata!D1345-Rådata!E1345)*100)/Rådata!D1345)","v":""},{"$f":"IF(ISBLANK(Rådata!G1345)=TRUE,\"\",(Rådata!F1345*100)/Rådata!G1345)","v":""},{"$f":"IF(ISBLANK(Rådata!K1345),\"\",(SUM(Rådata!M1345:P1345)*100)/SUM(Rådata!H1345:K1345))","v":""},{"$f":"IF(ISBLANK(Rådata!H1345),\"\",((SUM(Rådata!J1345:L1345)-SUM(Rådata!O1345:P1345))*100)/SUM(Rådata!H1345:L1345))","v":""},{"$f":"IF(ISBLANK(Rådata!R1345),\"\",(Rådata!Q1345*100)/Rådata!R1345)","v":""}]
[{"$f":"IF(ISBLANK(Rådata!A1346)=TRUE,\"\",Rådata!A1346)","v":""},{"$f":"IF(ISBLANK(Rådata!A1346)=TRUE,\"\",YEAR(A1346))","v":""},{"$f":"IF(ISBLANK(Rådata!A1346)=TRUE,\"\",VLOOKUP(MONTH(A1346),Opsætning!$G$3:$H$14,2,FALSE))","v":""},{"$f":"IF(ISBLANK(Rådata!B1346)=TRUE,\"\",(Rådata!C1346*100)/Rådata!B1346)","v":""},{"$f":"IF(ISBLANK(Rådata!D1346)=TRUE,\"\",((Rådata!D1346-Rådata!E1346)*100)/Rådata!D1346)","v":""},{"$f":"IF(ISBLANK(Rådata!G1346)=TRUE,\"\",(Rådata!F1346*100)/Rådata!G1346)","v":""},{"$f":"IF(ISBLANK(Rådata!K1346),\"\",(SUM(Rådata!M1346:P1346)*100)/SUM(Rådata!H1346:K1346))","v":""},{"$f":"IF(ISBLANK(Rådata!H1346),\"\",((SUM(Rådata!J1346:L1346)-SUM(Rådata!O1346:P1346))*100)/SUM(Rådata!H1346:L1346))","v":""},{"$f":"IF(ISBLANK(Rådata!R1346),\"\",(Rådata!Q1346*100)/Rådata!R1346)","v":""}]
[{"$f":"IF(ISBLANK(Rådata!A1347)=TRUE,\"\",Rådata!A1347)","v":""},{"$f":"IF(ISBLANK(Rådata!A1347)=TRUE,\"\",YEAR(A1347))","v":""},{"$f":"IF(ISBLANK(Rådata!A1347)=TRUE,\"\",VLOOKUP(MONTH(A1347),Opsætning!$G$3:$H$14,2,FALSE))","v":""},{"$f":"IF(ISBLANK(Rådata!B1347)=TRUE,\"\",(Rådata!C1347*100)/Rådata!B1347)","v":""},{"$f":"IF(ISBLANK(Rådata!D1347)=TRUE,\"\",((Rådata!D1347-Rådata!E1347)*100)/Rådata!D1347)","v":""},{"$f":"IF(ISBLANK(Rådata!G1347)=TRUE,\"\",(Rådata!F1347*100)/Rådata!G1347)","v":""},{"$f":"IF(ISBLANK(Rådata!K1347),\"\",(SUM(Rådata!M1347:P1347)*100)/SUM(Rådata!H1347:K1347))","v":""},{"$f":"IF(ISBLANK(Rådata!H1347),\"\",((SUM(Rådata!J1347:L1347)-SUM(Rådata!O1347:P1347))*100)/SUM(Rådata!H1347:L1347))","v":""},{"$f":"IF(ISBLANK(Rådata!R1347),\"\",(Rådata!Q1347*100)/Rådata!R1347)","v":""}]
[{"$f":"IF(ISBLANK(Rådata!A1348)=TRUE,\"\",Rådata!A1348)","v":""},{"$f":"IF(ISBLANK(Rådata!A1348)=TRUE,\"\",YEAR(A1348))","v":""},{"$f":"IF(ISBLANK(Rådata!A1348)=TRUE,\"\",VLOOKUP(MONTH(A1348),Opsætning!$G$3:$H$14,2,FALSE))","v":""},{"$f":"IF(ISBLANK(Rådata!B1348)=TRUE,\"\",(Rådata!C1348*100)/Rådata!B1348)","v":""},{"$f":"IF(ISBLANK(Rådata!D1348)=TRUE,\"\",((Rådata!D1348-Rådata!E1348)*100)/Rådata!D1348)","v":""},{"$f":"IF(ISBLANK(Rådata!G1348)=TRUE,\"\",(Rådata!F1348*100)/Rådata!G1348)","v":""},{"$f":"IF(ISBLANK(Rådata!K1348),\"\",(SUM(Rådata!M1348:P1348)*100)/SUM(Rådata!H1348:K1348))","v":""},{"$f":"IF(ISBLANK(Rådata!H1348),\"\",((SUM(Rådata!J1348:L1348)-SUM(Rådata!O1348:P1348))*100)/SUM(Rådata!H1348:L1348))","v":""},{"$f":"IF(ISBLANK(Rådata!R1348),\"\",(Rådata!Q1348*100)/Rådata!R1348)","v":""}]
[{"$f":"IF(ISBLANK(Rådata!A1349)=TRUE,\"\",Rådata!A1349)","v":""},{"$f":"IF(ISBLANK(Rådata!A1349)=TRUE,\"\",YEAR(A1349))","v":""},{"$f":"IF(ISBLANK(Rådata!A1349)=TRUE,\"\",VLOOKUP(MONTH(A1349),Opsætning!$G$3:$H$14,2,FALSE))","v":""},{"$f":"IF(ISBLANK(Rådata!B1349)=TRUE,\"\",(Rådata!C1349*100)/Rådata!B1349)","v":""},{"$f":"IF(ISBLANK(Rådata!D1349)=TRUE,\"\",((Rådata!D1349-Rådata!E1349)*100)/Rådata!D1349)","v":""},{"$f":"IF(ISBLANK(Rådata!G1349)=TRUE,\"\",(Rådata!F1349*100)/Rådata!G1349)","v":""},{"$f":"IF(ISBLANK(Rådata!K1349),\"\",(SUM(Rådata!M1349:P1349)*100)/SUM(Rådata!H1349:K1349))","v":""},{"$f":"IF(ISBLANK(Rådata!H1349),\"\",((SUM(Rådata!J1349:L1349)-SUM(Rådata!O1349:P1349))*100)/SUM(Rådata!H1349:L1349))","v":""},{"$f":"IF(ISBLANK(Rådata!R1349),\"\",(Rådata!Q1349*100)/Rådata!R1349)","v":""}]
[{"$f":"IF(ISBLANK(Rådata!A1350)=TRUE,\"\",Rådata!A1350)","v":""},{"$f":"IF(ISBLANK(Rådata!A1350)=TRUE,\"\",YEAR(A1350))","v":""},{"$f":"IF(ISBLANK(Rådata!A1350)=TRUE,\"\",VLOOKUP(MONTH(A1350),Opsætning!$G$3:$H$14,2,FALSE))","v":""},{"$f":"IF(ISBLANK(Rådata!B1350)=TRUE,\"\",(Rådata!C1350*100)/Rådata!B1350)","v":""},{"$f":"IF(ISBLANK(Rådata!D1350)=TRUE,\"\",((Rådata!D1350-Rådata!E1350)*100)/Rådata!D1350)","v":""},{"$f":"IF(ISBLANK(Rådata!G1350)=TRUE,\"\",(Rådata!F1350*100)/Rådata!G1350)","v":""},{"$f":"IF(ISBLANK(Rådata!K1350),\"\",(SUM(Rådata!M1350:P1350)*100)/SUM(Rådata!H1350:K1350))","v":""},{"$f":"IF(ISBLANK(Rådata!H1350),\"\",((SUM(Rådata!J1350:L1350)-SUM(Rådata!O1350:P1350))*100)/SUM(Rådata!H1350:L1350))","v":""},{"$f":"IF(ISBLANK(Rådata!R1350),\"\",(Rådata!Q1350*100)/Rådata!R1350)","v":""}]
[{"$f":"IF(ISBLANK(Rådata!A1351)=TRUE,\"\",Rådata!A1351)","v":""},{"$f":"IF(ISBLANK(Rådata!A1351)=TRUE,\"\",YEAR(A1351))","v":""},{"$f":"IF(ISBLANK(Rådata!A1351)=TRUE,\"\",VLOOKUP(MONTH(A1351),Opsætning!$G$3:$H$14,2,FALSE))","v":""},{"$f":"IF(ISBLANK(Rådata!B1351)=TRUE,\"\",(Rådata!C1351*100)/Rådata!B1351)","v":""},{"$f":"IF(ISBLANK(Rådata!D1351)=TRUE,\"\",((Rådata!D1351-Rådata!E1351)*100)/Rådata!D1351)","v":""},{"$f":"IF(ISBLANK(Rådata!G1351)=TRUE,\"\",(Rådata!F1351*100)/Rådata!G1351)","v":""},{"$f":"IF(ISBLANK(Rådata!K1351),\"\",(SUM(Rådata!M1351:P1351)*100)/SUM(Rådata!H1351:K1351))","v":""},{"$f":"IF(ISBLANK(Rådata!H1351),\"\",((SUM(Rådata!J1351:L1351)-SUM(Rådata!O1351:P1351))*100)/SUM(Rådata!H1351:L1351))","v":""},{"$f":"IF(ISBLANK(Rådata!R1351),\"\",(Rådata!Q1351*100)/Rådata!R1351)","v":""}]
[{"$f":"IF(ISBLANK(Rådata!A1352)=TRUE,\"\",Rådata!A1352)","v":""},{"$f":"IF(ISBLANK(Rådata!A1352)=TRUE,\"\",YEAR(A1352))","v":""},{"$f":"IF(ISBLANK(Rådata!A1352)=TRUE,\"\",VLOOKUP(MONTH(A1352),Opsætning!$G$3:$H$14,2,FALSE))","v":""},{"$f":"IF(ISBLANK(Rådata!B1352)=TRUE,\"\",(Rådata!C1352*100)/Rådata!B1352)","v":""},{"$f":"IF(ISBLANK(Rådata!D1352)=TRUE,\"\",((Rådata!D1352-Rådata!E1352)*100)/Rådata!D1352)","v":""},{"$f":"IF(ISBLANK(Rådata!G1352)=TRUE,\"\",(Rådata!F1352*100)/Rådata!G1352)","v":""},{"$f":"IF(ISBLANK(Rådata!K1352),\"\",(SUM(Rådata!M1352:P1352)*100)/SUM(Rådata!H1352:K1352))","v":""},{"$f":"IF(ISBLANK(Rådata!H1352),\"\",((SUM(Rådata!J1352:L1352)-SUM(Rådata!O1352:P1352))*100)/SUM(Rådata!H1352:L1352))","v":""},{"$f":"IF(ISBLANK(Rådata!R1352),\"\",(Rådata!Q1352*100)/Rådata!R1352)","v":""}]
[{"$f":"IF(ISBLANK(Rådata!A1353)=TRUE,\"\",Rådata!A1353)","v":""},{"$f":"IF(ISBLANK(Rådata!A1353)=TRUE,\"\",YEAR(A1353))","v":""},{"$f":"IF(ISBLANK(Rådata!A1353)=TRUE,\"\",VLOOKUP(MONTH(A1353),Opsætning!$G$3:$H$14,2,FALSE))","v":""},{"$f":"IF(ISBLANK(Rådata!B1353)=TRUE,\"\",(Rådata!C1353*100)/Rådata!B1353)","v":""},{"$f":"IF(ISBLANK(Rådata!D1353)=TRUE,\"\",((Rådata!D1353-Rådata!E1353)*100)/Rådata!D1353)","v":""},{"$f":"IF(ISBLANK(Rådata!G1353)=TRUE,\"\",(Rådata!F1353*100)/Rådata!G1353)","v":""},{"$f":"IF(ISBLANK(Rådata!K1353),\"\",(SUM(Rådata!M1353:P1353)*100)/SUM(Rådata!H1353:K1353))","v":""},{"$f":"IF(ISBLANK(Rådata!H1353),\"\",((SUM(Rådata!J1353:L1353)-SUM(Rådata!O1353:P1353))*100)/SUM(Rådata!H1353:L1353))","v":""},{"$f":"IF(ISBLANK(Rådata!R1353),\"\",(Rådata!Q1353*100)/Rådata!R1353)","v":""}]
[{"$f":"IF(ISBLANK(Rådata!A1354)=TRUE,\"\",Rådata!A1354)","v":""},{"$f":"IF(ISBLANK(Rådata!A1354)=TRUE,\"\",YEAR(A1354))","v":""},{"$f":"IF(ISBLANK(Rådata!A1354)=TRUE,\"\",VLOOKUP(MONTH(A1354),Opsætning!$G$3:$H$14,2,FALSE))","v":""},{"$f":"IF(ISBLANK(Rådata!B1354)=TRUE,\"\",(Rådata!C1354*100)/Rådata!B1354)","v":""},{"$f":"IF(ISBLANK(Rådata!D1354)=TRUE,\"\",((Rådata!D1354-Rådata!E1354)*100)/Rådata!D1354)","v":""},{"$f":"IF(ISBLANK(Rådata!G1354)=TRUE,\"\",(Rådata!F1354*100)/Rådata!G1354)","v":""},{"$f":"IF(ISBLANK(Rådata!K1354),\"\",(SUM(Rådata!M1354:P1354)*100)/SUM(Rådata!H1354:K1354))","v":""},{"$f":"IF(ISBLANK(Rådata!H1354),\"\",((SUM(Rådata!J1354:L1354)-SUM(Rådata!O1354:P1354))*100)/SUM(Rådata!H1354:L1354))","v":""},{"$f":"IF(ISBLANK(Rådata!R1354),\"\",(Rådata!Q1354*100)/Rådata!R1354)","v":""}]
[{"$f":"IF(ISBLANK(Rådata!A1355)=TRUE,\"\",Rådata!A1355)","v":""},{"$f":"IF(ISBLANK(Rådata!A1355)=TRUE,\"\",YEAR(A1355))","v":""},{"$f":"IF(ISBLANK(Rådata!A1355)=TRUE,\"\",VLOOKUP(MONTH(A1355),Opsætning!$G$3:$H$14,2,FALSE))","v":""},{"$f":"IF(ISBLANK(Rådata!B1355)=TRUE,\"\",(Rådata!C1355*100)/Rådata!B1355)","v":""},{"$f":"IF(ISBLANK(Rådata!D1355)=TRUE,\"\",((Rådata!D1355-Rådata!E1355)*100)/Rådata!D1355)","v":""},{"$f":"IF(ISBLANK(Rådata!G1355)=TRUE,\"\",(Rådata!F1355*100)/Rådata!G1355)","v":""},{"$f":"IF(ISBLANK(Rådata!K1355),\"\",(SUM(Rådata!M1355:P1355)*100)/SUM(Rådata!H1355:K1355))","v":""},{"$f":"IF(ISBLANK(Rådata!H1355),\"\",((SUM(Rådata!J1355:L1355)-SUM(Rådata!O1355:P1355))*100)/SUM(Rådata!H1355:L1355))","v":""},{"$f":"IF(ISBLANK(Rådata!R1355),\"\",(Rådata!Q1355*100)/Rådata!R1355)","v":""}]
[{"$f":"IF(ISBLANK(Rådata!A1356)=TRUE,\"\",Rådata!A1356)","v":""},{"$f":"IF(ISBLANK(Rådata!A1356)=TRUE,\"\",YEAR(A1356))","v":""},{"$f":"IF(ISBLANK(Rådata!A1356)=TRUE,\"\",VLOOKUP(MONTH(A1356),Opsætning!$G$3:$H$14,2,FALSE))","v":""},{"$f":"IF(ISBLANK(Rådata!B1356)=TRUE,\"\",(Rådata!C1356*100)/Rådata!B1356)","v":""},{"$f":"IF(ISBLANK(Rådata!D1356)=TRUE,\"\",((Rådata!D1356-Rådata!E1356)*100)/Rådata!D1356)","v":""},{"$f":"IF(ISBLANK(Rådata!G1356)=TRUE,\"\",(Rådata!F1356*100)/Rådata!G1356)","v":""},{"$f":"IF(ISBLANK(Rådata!K1356),\"\",(SUM(Rådata!M1356:P1356)*100)/SUM(Rådata!H1356:K1356))","v":""},{"$f":"IF(ISBLANK(Rådata!H1356),\"\",((SUM(Rådata!J1356:L1356)-SUM(Rådata!O1356:P1356))*100)/SUM(Rådata!H1356:L1356))","v":""},{"$f":"IF(ISBLANK(Rådata!R1356),\"\",(Rådata!Q1356*100)/Rådata!R1356)","v":""}]
[{"$f":"IF(ISBLANK(Rådata!A1357)=TRUE,\"\",Rådata!A1357)","v":""},{"$f":"IF(ISBLANK(Rådata!A1357)=TRUE,\"\",YEAR(A1357))","v":""},{"$f":"IF(ISBLANK(Rådata!A1357)=TRUE,\"\",VLOOKUP(MONTH(A1357),Opsætning!$G$3:$H$14,2,FALSE))","v":""},{"$f":"IF(ISBLANK(Rådata!B1357)=TRUE,\"\",(Rådata!C1357*100)/Rådata!B1357)","v":""},{"$f":"IF(ISBLANK(Rådata!D1357)=TRUE,\"\",((Rådata!D1357-Rådata!E1357)*100)/Rådata!D1357)","v":""},{"$f":"IF(ISBLANK(Rådata!G1357)=TRUE,\"\",(Rådata!F1357*100)/Rådata!G1357)","v":""},{"$f":"IF(ISBLANK(Rådata!K1357),\"\",(SUM(Rådata!M1357:P1357)*100)/SUM(Rådata!H1357:K1357))","v":""},{"$f":"IF(ISBLANK(Rådata!H1357),\"\",((SUM(Rådata!J1357:L1357)-SUM(Rådata!O1357:P1357))*100)/SUM(Rådata!H1357:L1357))","v":""},{"$f":"IF(ISBLANK(Rådata!R1357),\"\",(Rådata!Q1357*100)/Rådata!R1357)","v":""}]
[{"$f":"IF(ISBLANK(Rådata!A1358)=TRUE,\"\",Rådata!A1358)","v":""},{"$f":"IF(ISBLANK(Rådata!A1358)=TRUE,\"\",YEAR(A1358))","v":""},{"$f":"IF(ISBLANK(Rådata!A1358)=TRUE,\"\",VLOOKUP(MONTH(A1358),Opsætning!$G$3:$H$14,2,FALSE))","v":""},{"$f":"IF(ISBLANK(Rådata!B1358)=TRUE,\"\",(Rådata!C1358*100)/Rådata!B1358)","v":""},{"$f":"IF(ISBLANK(Rådata!D1358)=TRUE,\"\",((Rådata!D1358-Rådata!E1358)*100)/Rådata!D1358)","v":""},{"$f":"IF(ISBLANK(Rådata!G1358)=TRUE,\"\",(Rådata!F1358*100)/Rådata!G1358)","v":""},{"$f":"IF(ISBLANK(Rådata!K1358),\"\",(SUM(Rådata!M1358:P1358)*100)/SUM(Rådata!H1358:K1358))","v":""},{"$f":"IF(ISBLANK(Rådata!H1358),\"\",((SUM(Rådata!J1358:L1358)-SUM(Rådata!O1358:P1358))*100)/SUM(Rådata!H1358:L1358))","v":""},{"$f":"IF(ISBLANK(Rådata!R1358),\"\",(Rådata!Q1358*100)/Rådata!R1358)","v":""}]
[{"$f":"IF(ISBLANK(Rådata!A1359)=TRUE,\"\",Rådata!A1359)","v":""},{"$f":"IF(ISBLANK(Rådata!A1359)=TRUE,\"\",YEAR(A1359))","v":""},{"$f":"IF(ISBLANK(Rådata!A1359)=TRUE,\"\",VLOOKUP(MONTH(A1359),Opsætning!$G$3:$H$14,2,FALSE))","v":""},{"$f":"IF(ISBLANK(Rådata!B1359)=TRUE,\"\",(Rådata!C1359*100)/Rådata!B1359)","v":""},{"$f":"IF(ISBLANK(Rådata!D1359)=TRUE,\"\",((Rådata!D1359-Rådata!E1359)*100)/Rådata!D1359)","v":""},{"$f":"IF(ISBLANK(Rådata!G1359)=TRUE,\"\",(Rådata!F1359*100)/Rådata!G1359)","v":""},{"$f":"IF(ISBLANK(Rådata!K1359),\"\",(SUM(Rådata!M1359:P1359)*100)/SUM(Rådata!H1359:K1359))","v":""},{"$f":"IF(ISBLANK(Rådata!H1359),\"\",((SUM(Rådata!J1359:L1359)-SUM(Rådata!O1359:P1359))*100)/SUM(Rådata!H1359:L1359))","v":""},{"$f":"IF(ISBLANK(Rådata!R1359),\"\",(Rådata!Q1359*100)/Rådata!R1359)","v":""}]
[{"$f":"IF(ISBLANK(Rådata!A1360)=TRUE,\"\",Rådata!A1360)","v":""},{"$f":"IF(ISBLANK(Rådata!A1360)=TRUE,\"\",YEAR(A1360))","v":""},{"$f":"IF(ISBLANK(Rådata!A1360)=TRUE,\"\",VLOOKUP(MONTH(A1360),Opsætning!$G$3:$H$14,2,FALSE))","v":""},{"$f":"IF(ISBLANK(Rådata!B1360)=TRUE,\"\",(Rådata!C1360*100)/Rådata!B1360)","v":""},{"$f":"IF(ISBLANK(Rådata!D1360)=TRUE,\"\",((Rådata!D1360-Rådata!E1360)*100)/Rådata!D1360)","v":""},{"$f":"IF(ISBLANK(Rådata!G1360)=TRUE,\"\",(Rådata!F1360*100)/Rådata!G1360)","v":""},{"$f":"IF(ISBLANK(Rådata!K1360),\"\",(SUM(Rådata!M1360:P1360)*100)/SUM(Rådata!H1360:K1360))","v":""},{"$f":"IF(ISBLANK(Rådata!H1360),\"\",((SUM(Rådata!J1360:L1360)-SUM(Rådata!O1360:P1360))*100)/SUM(Rådata!H1360:L1360))","v":""},{"$f":"IF(ISBLANK(Rådata!R1360),\"\",(Rådata!Q1360*100)/Rådata!R1360)","v":""}]
[{"$f":"IF(ISBLANK(Rådata!A1361)=TRUE,\"\",Rådata!A1361)","v":""},{"$f":"IF(ISBLANK(Rådata!A1361)=TRUE,\"\",YEAR(A1361))","v":""},{"$f":"IF(ISBLANK(Rådata!A1361)=TRUE,\"\",VLOOKUP(MONTH(A1361),Opsætning!$G$3:$H$14,2,FALSE))","v":""},{"$f":"IF(ISBLANK(Rådata!B1361)=TRUE,\"\",(Rådata!C1361*100)/Rådata!B1361)","v":""},{"$f":"IF(ISBLANK(Rådata!D1361)=TRUE,\"\",((Rådata!D1361-Rådata!E1361)*100)/Rådata!D1361)","v":""},{"$f":"IF(ISBLANK(Rådata!G1361)=TRUE,\"\",(Rådata!F1361*100)/Rådata!G1361)","v":""},{"$f":"IF(ISBLANK(Rådata!K1361),\"\",(SUM(Rådata!M1361:P1361)*100)/SUM(Rådata!H1361:K1361))","v":""},{"$f":"IF(ISBLANK(Rådata!H1361),\"\",((SUM(Rådata!J1361:L1361)-SUM(Rådata!O1361:P1361))*100)/SUM(Rådata!H1361:L1361))","v":""},{"$f":"IF(ISBLANK(Rådata!R1361),\"\",(Rådata!Q1361*100)/Rådata!R1361)","v":""}]
[{"$f":"IF(ISBLANK(Rådata!A1362)=TRUE,\"\",Rådata!A1362)","v":""},{"$f":"IF(ISBLANK(Rådata!A1362)=TRUE,\"\",YEAR(A1362))","v":""},{"$f":"IF(ISBLANK(Rådata!A1362)=TRUE,\"\",VLOOKUP(MONTH(A1362),Opsætning!$G$3:$H$14,2,FALSE))","v":""},{"$f":"IF(ISBLANK(Rådata!B1362)=TRUE,\"\",(Rådata!C1362*100)/Rådata!B1362)","v":""},{"$f":"IF(ISBLANK(Rådata!D1362)=TRUE,\"\",((Rådata!D1362-Rådata!E1362)*100)/Rådata!D1362)","v":""},{"$f":"IF(ISBLANK(Rådata!G1362)=TRUE,\"\",(Rådata!F1362*100)/Rådata!G1362)","v":""},{"$f":"IF(ISBLANK(Rådata!K1362),\"\",(SUM(Rådata!M1362:P1362)*100)/SUM(Rådata!H1362:K1362))","v":""},{"$f":"IF(ISBLANK(Rådata!H1362),\"\",((SUM(Rådata!J1362:L1362)-SUM(Rådata!O1362:P1362))*100)/SUM(Rådata!H1362:L1362))","v":""},{"$f":"IF(ISBLANK(Rådata!R1362),\"\",(Rådata!Q1362*100)/Rådata!R1362)","v":""}]
[{"$f":"IF(ISBLANK(Rådata!A1363)=TRUE,\"\",Rådata!A1363)","v":""},{"$f":"IF(ISBLANK(Rådata!A1363)=TRUE,\"\",YEAR(A1363))","v":""},{"$f":"IF(ISBLANK(Rådata!A1363)=TRUE,\"\",VLOOKUP(MONTH(A1363),Opsætning!$G$3:$H$14,2,FALSE))","v":""},{"$f":"IF(ISBLANK(Rådata!B1363)=TRUE,\"\",(Rådata!C1363*100)/Rådata!B1363)","v":""},{"$f":"IF(ISBLANK(Rådata!D1363)=TRUE,\"\",((Rådata!D1363-Rådata!E1363)*100)/Rådata!D1363)","v":""},{"$f":"IF(ISBLANK(Rådata!G1363)=TRUE,\"\",(Rådata!F1363*100)/Rådata!G1363)","v":""},{"$f":"IF(ISBLANK(Rådata!K1363),\"\",(SUM(Rådata!M1363:P1363)*100)/SUM(Rådata!H1363:K1363))","v":""},{"$f":"IF(ISBLANK(Rådata!H1363),\"\",((SUM(Rådata!J1363:L1363)-SUM(Rådata!O1363:P1363))*100)/SUM(Rådata!H1363:L1363))","v":""},{"$f":"IF(ISBLANK(Rådata!R1363),\"\",(Rådata!Q1363*100)/Rådata!R1363)","v":""}]
[{"$f":"IF(ISBLANK(Rådata!A1364)=TRUE,\"\",Rådata!A1364)","v":""},{"$f":"IF(ISBLANK(Rådata!A1364)=TRUE,\"\",YEAR(A1364))","v":""},{"$f":"IF(ISBLANK(Rådata!A1364)=TRUE,\"\",VLOOKUP(MONTH(A1364),Opsætning!$G$3:$H$14,2,FALSE))","v":""},{"$f":"IF(ISBLANK(Rådata!B1364)=TRUE,\"\",(Rådata!C1364*100)/Rådata!B1364)","v":""},{"$f":"IF(ISBLANK(Rådata!D1364)=TRUE,\"\",((Rådata!D1364-Rådata!E1364)*100)/Rådata!D1364)","v":""},{"$f":"IF(ISBLANK(Rådata!G1364)=TRUE,\"\",(Rådata!F1364*100)/Rådata!G1364)","v":""},{"$f":"IF(ISBLANK(Rådata!K1364),\"\",(SUM(Rådata!M1364:P1364)*100)/SUM(Rådata!H1364:K1364))","v":""},{"$f":"IF(ISBLANK(Rådata!H1364),\"\",((SUM(Rådata!J1364:L1364)-SUM(Rådata!O1364:P1364))*100)/SUM(Rådata!H1364:L1364))","v":""},{"$f":"IF(ISBLANK(Rådata!R1364),\"\",(Rådata!Q1364*100)/Rådata!R1364)","v":""}]
[{"$f":"IF(ISBLANK(Rådata!A1365)=TRUE,\"\",Rådata!A1365)","v":""},{"$f":"IF(ISBLANK(Rådata!A1365)=TRUE,\"\",YEAR(A1365))","v":""},{"$f":"IF(ISBLANK(Rådata!A1365)=TRUE,\"\",VLOOKUP(MONTH(A1365),Opsætning!$G$3:$H$14,2,FALSE))","v":""},{"$f":"IF(ISBLANK(Rådata!B1365)=TRUE,\"\",(Rådata!C1365*100)/Rådata!B1365)","v":""},{"$f":"IF(ISBLANK(Rådata!D1365)=TRUE,\"\",((Rådata!D1365-Rådata!E1365)*100)/Rådata!D1365)","v":""},{"$f":"IF(ISBLANK(Rådata!G1365)=TRUE,\"\",(Rådata!F1365*100)/Rådata!G1365)","v":""},{"$f":"IF(ISBLANK(Rådata!K1365),\"\",(SUM(Rådata!M1365:P1365)*100)/SUM(Rådata!H1365:K1365))","v":""},{"$f":"IF(ISBLANK(Rådata!H1365),\"\",((SUM(Rådata!J1365:L1365)-SUM(Rådata!O1365:P1365))*100)/SUM(Rådata!H1365:L1365))","v":""},{"$f":"IF(ISBLANK(Rådata!R1365),\"\",(Rådata!Q1365*100)/Rådata!R1365)","v":""}]
[{"$f":"IF(ISBLANK(Rådata!A1366)=TRUE,\"\",Rådata!A1366)","v":""},{"$f":"IF(ISBLANK(Rådata!A1366)=TRUE,\"\",YEAR(A1366))","v":""},{"$f":"IF(ISBLANK(Rådata!A1366)=TRUE,\"\",VLOOKUP(MONTH(A1366),Opsætning!$G$3:$H$14,2,FALSE))","v":""},{"$f":"IF(ISBLANK(Rådata!B1366)=TRUE,\"\",(Rådata!C1366*100)/Rådata!B1366)","v":""},{"$f":"IF(ISBLANK(Rådata!D1366)=TRUE,\"\",((Rådata!D1366-Rådata!E1366)*100)/Rådata!D1366)","v":""},{"$f":"IF(ISBLANK(Rådata!G1366)=TRUE,\"\",(Rådata!F1366*100)/Rådata!G1366)","v":""},{"$f":"IF(ISBLANK(Rådata!K1366),\"\",(SUM(Rådata!M1366:P1366)*100)/SUM(Rådata!H1366:K1366))","v":""},{"$f":"IF(ISBLANK(Rådata!H1366),\"\",((SUM(Rådata!J1366:L1366)-SUM(Rådata!O1366:P1366))*100)/SUM(Rådata!H1366:L1366))","v":""},{"$f":"IF(ISBLANK(Rådata!R1366),\"\",(Rådata!Q1366*100)/Rådata!R1366)","v":""}]
[{"$f":"IF(ISBLANK(Rådata!A1367)=TRUE,\"\",Rådata!A1367)","v":""},{"$f":"IF(ISBLANK(Rådata!A1367)=TRUE,\"\",YEAR(A1367))","v":""},{"$f":"IF(ISBLANK(Rådata!A1367)=TRUE,\"\",VLOOKUP(MONTH(A1367),Opsætning!$G$3:$H$14,2,FALSE))","v":""},{"$f":"IF(ISBLANK(Rådata!B1367)=TRUE,\"\",(Rådata!C1367*100)/Rådata!B1367)","v":""},{"$f":"IF(ISBLANK(Rådata!D1367)=TRUE,\"\",((Rådata!D1367-Rådata!E1367)*100)/Rådata!D1367)","v":""},{"$f":"IF(ISBLANK(Rådata!G1367)=TRUE,\"\",(Rådata!F1367*100)/Rådata!G1367)","v":""},{"$f":"IF(ISBLANK(Rådata!K1367),\"\",(SUM(Rådata!M1367:P1367)*100)/SUM(Rådata!H1367:K1367))","v":""},{"$f":"IF(ISBLANK(Rådata!H1367),\"\",((SUM(Rådata!J1367:L1367)-SUM(Rådata!O1367:P1367))*100)/SUM(Rådata!H1367:L1367))","v":""},{"$f":"IF(ISBLANK(Rådata!R1367),\"\",(Rådata!Q1367*100)/Rådata!R1367)","v":""}]
[{"$f":"IF(ISBLANK(Rådata!A1368)=TRUE,\"\",Rådata!A1368)","v":""},{"$f":"IF(ISBLANK(Rådata!A1368)=TRUE,\"\",YEAR(A1368))","v":""},{"$f":"IF(ISBLANK(Rådata!A1368)=TRUE,\"\",VLOOKUP(MONTH(A1368),Opsætning!$G$3:$H$14,2,FALSE))","v":""},{"$f":"IF(ISBLANK(Rådata!B1368)=TRUE,\"\",(Rådata!C1368*100)/Rådata!B1368)","v":""},{"$f":"IF(ISBLANK(Rådata!D1368)=TRUE,\"\",((Rådata!D1368-Rådata!E1368)*100)/Rådata!D1368)","v":""},{"$f":"IF(ISBLANK(Rådata!G1368)=TRUE,\"\",(Rådata!F1368*100)/Rådata!G1368)","v":""},{"$f":"IF(ISBLANK(Rådata!K1368),\"\",(SUM(Rådata!M1368:P1368)*100)/SUM(Rådata!H1368:K1368))","v":""},{"$f":"IF(ISBLANK(Rådata!H1368),\"\",((SUM(Rådata!J1368:L1368)-SUM(Rådata!O1368:P1368))*100)/SUM(Rådata!H1368:L1368))","v":""},{"$f":"IF(ISBLANK(Rådata!R1368),\"\",(Rådata!Q1368*100)/Rådata!R1368)","v":""}]
[{"$f":"IF(ISBLANK(Rådata!A1369)=TRUE,\"\",Rådata!A1369)","v":""},{"$f":"IF(ISBLANK(Rådata!A1369)=TRUE,\"\",YEAR(A1369))","v":""},{"$f":"IF(ISBLANK(Rådata!A1369)=TRUE,\"\",VLOOKUP(MONTH(A1369),Opsætning!$G$3:$H$14,2,FALSE))","v":""},{"$f":"IF(ISBLANK(Rådata!B1369)=TRUE,\"\",(Rådata!C1369*100)/Rådata!B1369)","v":""},{"$f":"IF(ISBLANK(Rådata!D1369)=TRUE,\"\",((Rådata!D1369-Rådata!E1369)*100)/Rådata!D1369)","v":""},{"$f":"IF(ISBLANK(Rådata!G1369)=TRUE,\"\",(Rådata!F1369*100)/Rådata!G1369)","v":""},{"$f":"IF(ISBLANK(Rådata!K1369),\"\",(SUM(Rådata!M1369:P1369)*100)/SUM(Rådata!H1369:K1369))","v":""},{"$f":"IF(ISBLANK(Rådata!H1369),\"\",((SUM(Rådata!J1369:L1369)-SUM(Rådata!O1369:P1369))*100)/SUM(Rådata!H1369:L1369))","v":""},{"$f":"IF(ISBLANK(Rådata!R1369),\"\",(Rådata!Q1369*100)/Rådata!R1369)","v":""}]
[{"$f":"IF(ISBLANK(Rådata!A1370)=TRUE,\"\",Rådata!A1370)","v":""},{"$f":"IF(ISBLANK(Rådata!A1370)=TRUE,\"\",YEAR(A1370))","v":""},{"$f":"IF(ISBLANK(Rådata!A1370)=TRUE,\"\",VLOOKUP(MONTH(A1370),Opsætning!$G$3:$H$14,2,FALSE))","v":""},{"$f":"IF(ISBLANK(Rådata!B1370)=TRUE,\"\",(Rådata!C1370*100)/Rådata!B1370)","v":""},{"$f":"IF(ISBLANK(Rådata!D1370)=TRUE,\"\",((Rådata!D1370-Rådata!E1370)*100)/Rådata!D1370)","v":""},{"$f":"IF(ISBLANK(Rådata!G1370)=TRUE,\"\",(Rådata!F1370*100)/Rådata!G1370)","v":""},{"$f":"IF(ISBLANK(Rådata!K1370),\"\",(SUM(Rådata!M1370:P1370)*100)/SUM(Rådata!H1370:K1370))","v":""},{"$f":"IF(ISBLANK(Rådata!H1370),\"\",((SUM(Rådata!J1370:L1370)-SUM(Rådata!O1370:P1370))*100)/SUM(Rådata!H1370:L1370))","v":""},{"$f":"IF(ISBLANK(Rådata!R1370),\"\",(Rådata!Q1370*100)/Rådata!R1370)","v":""}]
[{"$f":"IF(ISBLANK(Rådata!A1371)=TRUE,\"\",Rådata!A1371)","v":""},{"$f":"IF(ISBLANK(Rådata!A1371)=TRUE,\"\",YEAR(A1371))","v":""},{"$f":"IF(ISBLANK(Rådata!A1371)=TRUE,\"\",VLOOKUP(MONTH(A1371),Opsætning!$G$3:$H$14,2,FALSE))","v":""},{"$f":"IF(ISBLANK(Rådata!B1371)=TRUE,\"\",(Rådata!C1371*100)/Rådata!B1371)","v":""},{"$f":"IF(ISBLANK(Rådata!D1371)=TRUE,\"\",((Rådata!D1371-Rådata!E1371)*100)/Rådata!D1371)","v":""},{"$f":"IF(ISBLANK(Rådata!G1371)=TRUE,\"\",(Rådata!F1371*100)/Rådata!G1371)","v":""},{"$f":"IF(ISBLANK(Rådata!K1371),\"\",(SUM(Rådata!M1371:P1371)*100)/SUM(Rådata!H1371:K1371))","v":""},{"$f":"IF(ISBLANK(Rådata!H1371),\"\",((SUM(Rådata!J1371:L1371)-SUM(Rådata!O1371:P1371))*100)/SUM(Rådata!H1371:L1371))","v":""},{"$f":"IF(ISBLANK(Rådata!R1371),\"\",(Rådata!Q1371*100)/Rådata!R1371)","v":""}]
[{"$f":"IF(ISBLANK(Rådata!A1372)=TRUE,\"\",Rådata!A1372)","v":""},{"$f":"IF(ISBLANK(Rådata!A1372)=TRUE,\"\",YEAR(A1372))","v":""},{"$f":"IF(ISBLANK(Rådata!A1372)=TRUE,\"\",VLOOKUP(MONTH(A1372),Opsætning!$G$3:$H$14,2,FALSE))","v":""},{"$f":"IF(ISBLANK(Rådata!B1372)=TRUE,\"\",(Rådata!C1372*100)/Rådata!B1372)","v":""},{"$f":"IF(ISBLANK(Rådata!D1372)=TRUE,\"\",((Rådata!D1372-Rådata!E1372)*100)/Rådata!D1372)","v":""},{"$f":"IF(ISBLANK(Rådata!G1372)=TRUE,\"\",(Rådata!F1372*100)/Rådata!G1372)","v":""},{"$f":"IF(ISBLANK(Rådata!K1372),\"\",(SUM(Rådata!M1372:P1372)*100)/SUM(Rådata!H1372:K1372))","v":""},{"$f":"IF(ISBLANK(Rådata!H1372),\"\",((SUM(Rådata!J1372:L1372)-SUM(Rådata!O1372:P1372))*100)/SUM(Rådata!H1372:L1372))","v":""},{"$f":"IF(ISBLANK(Rådata!R1372),\"\",(Rådata!Q1372*100)/Rådata!R1372)","v":""}]
[{"$f":"IF(ISBLANK(Rådata!A1373)=TRUE,\"\",Rådata!A1373)","v":""},{"$f":"IF(ISBLANK(Rådata!A1373)=TRUE,\"\",YEAR(A1373))","v":""},{"$f":"IF(ISBLANK(Rådata!A1373)=TRUE,\"\",VLOOKUP(MONTH(A1373),Opsætning!$G$3:$H$14,2,FALSE))","v":""},{"$f":"IF(ISBLANK(Rådata!B1373)=TRUE,\"\",(Rådata!C1373*100)/Rådata!B1373)","v":""},{"$f":"IF(ISBLANK(Rådata!D1373)=TRUE,\"\",((Rådata!D1373-Rådata!E1373)*100)/Rådata!D1373)","v":""},{"$f":"IF(ISBLANK(Rådata!G1373)=TRUE,\"\",(Rådata!F1373*100)/Rådata!G1373)","v":""},{"$f":"IF(ISBLANK(Rådata!K1373),\"\",(SUM(Rådata!M1373:P1373)*100)/SUM(Rådata!H1373:K1373))","v":""},{"$f":"IF(ISBLANK(Rådata!H1373),\"\",((SUM(Rådata!J1373:L1373)-SUM(Rådata!O1373:P1373))*100)/SUM(Rådata!H1373:L1373))","v":""},{"$f":"IF(ISBLANK(Rådata!R1373),\"\",(Rådata!Q1373*100)/Rådata!R1373)","v":""}]
[{"$f":"IF(ISBLANK(Rådata!A1374)=TRUE,\"\",Rådata!A1374)","v":""},{"$f":"IF(ISBLANK(Rådata!A1374)=TRUE,\"\",YEAR(A1374))","v":""},{"$f":"IF(ISBLANK(Rådata!A1374)=TRUE,\"\",VLOOKUP(MONTH(A1374),Opsætning!$G$3:$H$14,2,FALSE))","v":""},{"$f":"IF(ISBLANK(Rådata!B1374)=TRUE,\"\",(Rådata!C1374*100)/Rådata!B1374)","v":""},{"$f":"IF(ISBLANK(Rådata!D1374)=TRUE,\"\",((Rådata!D1374-Rådata!E1374)*100)/Rådata!D1374)","v":""},{"$f":"IF(ISBLANK(Rådata!G1374)=TRUE,\"\",(Rådata!F1374*100)/Rådata!G1374)","v":""},{"$f":"IF(ISBLANK(Rådata!K1374),\"\",(SUM(Rådata!M1374:P1374)*100)/SUM(Rådata!H1374:K1374))","v":""},{"$f":"IF(ISBLANK(Rådata!H1374),\"\",((SUM(Rådata!J1374:L1374)-SUM(Rådata!O1374:P1374))*100)/SUM(Rådata!H1374:L1374))","v":""},{"$f":"IF(ISBLANK(Rådata!R1374),\"\",(Rådata!Q1374*100)/Rådata!R1374)","v":""}]
[{"$f":"IF(ISBLANK(Rådata!A1375)=TRUE,\"\",Rådata!A1375)","v":""},{"$f":"IF(ISBLANK(Rådata!A1375)=TRUE,\"\",YEAR(A1375))","v":""},{"$f":"IF(ISBLANK(Rådata!A1375)=TRUE,\"\",VLOOKUP(MONTH(A1375),Opsætning!$G$3:$H$14,2,FALSE))","v":""},{"$f":"IF(ISBLANK(Rådata!B1375)=TRUE,\"\",(Rådata!C1375*100)/Rådata!B1375)","v":""},{"$f":"IF(ISBLANK(Rådata!D1375)=TRUE,\"\",((Rådata!D1375-Rådata!E1375)*100)/Rådata!D1375)","v":""},{"$f":"IF(ISBLANK(Rådata!G1375)=TRUE,\"\",(Rådata!F1375*100)/Rådata!G1375)","v":""},{"$f":"IF(ISBLANK(Rådata!K1375),\"\",(SUM(Rådata!M1375:P1375)*100)/SUM(Rådata!H1375:K1375))","v":""},{"$f":"IF(ISBLANK(Rådata!H1375),\"\",((SUM(Rådata!J1375:L1375)-SUM(Rådata!O1375:P1375))*100)/SUM(Rådata!H1375:L1375))","v":""},{"$f":"IF(ISBLANK(Rådata!R1375),\"\",(Rådata!Q1375*100)/Rådata!R1375)","v":""}]
[{"$f":"IF(ISBLANK(Rådata!A1376)=TRUE,\"\",Rådata!A1376)","v":""},{"$f":"IF(ISBLANK(Rådata!A1376)=TRUE,\"\",YEAR(A1376))","v":""},{"$f":"IF(ISBLANK(Rådata!A1376)=TRUE,\"\",VLOOKUP(MONTH(A1376),Opsætning!$G$3:$H$14,2,FALSE))","v":""},{"$f":"IF(ISBLANK(Rådata!B1376)=TRUE,\"\",(Rådata!C1376*100)/Rådata!B1376)","v":""},{"$f":"IF(ISBLANK(Rådata!D1376)=TRUE,\"\",((Rådata!D1376-Rådata!E1376)*100)/Rådata!D1376)","v":""},{"$f":"IF(ISBLANK(Rådata!G1376)=TRUE,\"\",(Rådata!F1376*100)/Rådata!G1376)","v":""},{"$f":"IF(ISBLANK(Rådata!K1376),\"\",(SUM(Rådata!M1376:P1376)*100)/SUM(Rådata!H1376:K1376))","v":""},{"$f":"IF(ISBLANK(Rådata!H1376),\"\",((SUM(Rådata!J1376:L1376)-SUM(Rådata!O1376:P1376))*100)/SUM(Rådata!H1376:L1376))","v":""},{"$f":"IF(ISBLANK(Rådata!R1376),\"\",(Rådata!Q1376*100)/Rådata!R1376)","v":""}]
[{"$f":"IF(ISBLANK(Rådata!A1377)=TRUE,\"\",Rådata!A1377)","v":""},{"$f":"IF(ISBLANK(Rådata!A1377)=TRUE,\"\",YEAR(A1377))","v":""},{"$f":"IF(ISBLANK(Rådata!A1377)=TRUE,\"\",VLOOKUP(MONTH(A1377),Opsætning!$G$3:$H$14,2,FALSE))","v":""},{"$f":"IF(ISBLANK(Rådata!B1377)=TRUE,\"\",(Rådata!C1377*100)/Rådata!B1377)","v":""},{"$f":"IF(ISBLANK(Rådata!D1377)=TRUE,\"\",((Rådata!D1377-Rådata!E1377)*100)/Rådata!D1377)","v":""},{"$f":"IF(ISBLANK(Rådata!G1377)=TRUE,\"\",(Rådata!F1377*100)/Rådata!G1377)","v":""},{"$f":"IF(ISBLANK(Rådata!K1377),\"\",(SUM(Rådata!M1377:P1377)*100)/SUM(Rådata!H1377:K1377))","v":""},{"$f":"IF(ISBLANK(Rådata!H1377),\"\",((SUM(Rådata!J1377:L1377)-SUM(Rådata!O1377:P1377))*100)/SUM(Rådata!H1377:L1377))","v":""},{"$f":"IF(ISBLANK(Rådata!R1377),\"\",(Rådata!Q1377*100)/Rådata!R1377)","v":""}]
[{"$f":"IF(ISBLANK(Rådata!A1378)=TRUE,\"\",Rådata!A1378)","v":""},{"$f":"IF(ISBLANK(Rådata!A1378)=TRUE,\"\",YEAR(A1378))","v":""},{"$f":"IF(ISBLANK(Rådata!A1378)=TRUE,\"\",VLOOKUP(MONTH(A1378),Opsætning!$G$3:$H$14,2,FALSE))","v":""},{"$f":"IF(ISBLANK(Rådata!B1378)=TRUE,\"\",(Rådata!C1378*100)/Rådata!B1378)","v":""},{"$f":"IF(ISBLANK(Rådata!D1378)=TRUE,\"\",((Rådata!D1378-Rådata!E1378)*100)/Rådata!D1378)","v":""},{"$f":"IF(ISBLANK(Rådata!G1378)=TRUE,\"\",(Rådata!F1378*100)/Rådata!G1378)","v":""},{"$f":"IF(ISBLANK(Rådata!K1378),\"\",(SUM(Rådata!M1378:P1378)*100)/SUM(Rådata!H1378:K1378))","v":""},{"$f":"IF(ISBLANK(Rådata!H1378),\"\",((SUM(Rådata!J1378:L1378)-SUM(Rådata!O1378:P1378))*100)/SUM(Rådata!H1378:L1378))","v":""},{"$f":"IF(ISBLANK(Rådata!R1378),\"\",(Rådata!Q1378*100)/Rådata!R1378)","v":""}]
[{"$f":"IF(ISBLANK(Rådata!A1379)=TRUE,\"\",Rådata!A1379)","v":""},{"$f":"IF(ISBLANK(Rådata!A1379)=TRUE,\"\",YEAR(A1379))","v":""},{"$f":"IF(ISBLANK(Rådata!A1379)=TRUE,\"\",VLOOKUP(MONTH(A1379),Opsætning!$G$3:$H$14,2,FALSE))","v":""},{"$f":"IF(ISBLANK(Rådata!B1379)=TRUE,\"\",(Rådata!C1379*100)/Rådata!B1379)","v":""},{"$f":"IF(ISBLANK(Rådata!D1379)=TRUE,\"\",((Rådata!D1379-Rådata!E1379)*100)/Rådata!D1379)","v":""},{"$f":"IF(ISBLANK(Rådata!G1379)=TRUE,\"\",(Rådata!F1379*100)/Rådata!G1379)","v":""},{"$f":"IF(ISBLANK(Rådata!K1379),\"\",(SUM(Rådata!M1379:P1379)*100)/SUM(Rådata!H1379:K1379))","v":""},{"$f":"IF(ISBLANK(Rådata!H1379),\"\",((SUM(Rådata!J1379:L1379)-SUM(Rådata!O1379:P1379))*100)/SUM(Rådata!H1379:L1379))","v":""},{"$f":"IF(ISBLANK(Rådata!R1379),\"\",(Rådata!Q1379*100)/Rådata!R1379)","v":""}]
[{"$f":"IF(ISBLANK(Rådata!A1380)=TRUE,\"\",Rådata!A1380)","v":""},{"$f":"IF(ISBLANK(Rådata!A1380)=TRUE,\"\",YEAR(A1380))","v":""},{"$f":"IF(ISBLANK(Rådata!A1380)=TRUE,\"\",VLOOKUP(MONTH(A1380),Opsætning!$G$3:$H$14,2,FALSE))","v":""},{"$f":"IF(ISBLANK(Rådata!B1380)=TRUE,\"\",(Rådata!C1380*100)/Rådata!B1380)","v":""},{"$f":"IF(ISBLANK(Rådata!D1380)=TRUE,\"\",((Rådata!D1380-Rådata!E1380)*100)/Rådata!D1380)","v":""},{"$f":"IF(ISBLANK(Rådata!G1380)=TRUE,\"\",(Rådata!F1380*100)/Rådata!G1380)","v":""},{"$f":"IF(ISBLANK(Rådata!K1380),\"\",(SUM(Rådata!M1380:P1380)*100)/SUM(Rådata!H1380:K1380))","v":""},{"$f":"IF(ISBLANK(Rådata!H1380),\"\",((SUM(Rådata!J1380:L1380)-SUM(Rådata!O1380:P1380))*100)/SUM(Rådata!H1380:L1380))","v":""},{"$f":"IF(ISBLANK(Rådata!R1380),\"\",(Rådata!Q1380*100)/Rådata!R1380)","v":""}]
[{"$f":"IF(ISBLANK(Rådata!A1381)=TRUE,\"\",Rådata!A1381)","v":""},{"$f":"IF(ISBLANK(Rådata!A1381)=TRUE,\"\",YEAR(A1381))","v":""},{"$f":"IF(ISBLANK(Rådata!A1381)=TRUE,\"\",VLOOKUP(MONTH(A1381),Opsætning!$G$3:$H$14,2,FALSE))","v":""},{"$f":"IF(ISBLANK(Rådata!B1381)=TRUE,\"\",(Rådata!C1381*100)/Rådata!B1381)","v":""},{"$f":"IF(ISBLANK(Rådata!D1381)=TRUE,\"\",((Rådata!D1381-Rådata!E1381)*100)/Rådata!D1381)","v":""},{"$f":"IF(ISBLANK(Rådata!G1381)=TRUE,\"\",(Rådata!F1381*100)/Rådata!G1381)","v":""},{"$f":"IF(ISBLANK(Rådata!K1381),\"\",(SUM(Rådata!M1381:P1381)*100)/SUM(Rådata!H1381:K1381))","v":""},{"$f":"IF(ISBLANK(Rådata!H1381),\"\",((SUM(Rådata!J1381:L1381)-SUM(Rådata!O1381:P1381))*100)/SUM(Rådata!H1381:L1381))","v":""},{"$f":"IF(ISBLANK(Rådata!R1381),\"\",(Rådata!Q1381*100)/Rådata!R1381)","v":""}]
[{"$f":"IF(ISBLANK(Rådata!A1382)=TRUE,\"\",Rådata!A1382)","v":""},{"$f":"IF(ISBLANK(Rådata!A1382)=TRUE,\"\",YEAR(A1382))","v":""},{"$f":"IF(ISBLANK(Rådata!A1382)=TRUE,\"\",VLOOKUP(MONTH(A1382),Opsætning!$G$3:$H$14,2,FALSE))","v":""},{"$f":"IF(ISBLANK(Rådata!B1382)=TRUE,\"\",(Rådata!C1382*100)/Rådata!B1382)","v":""},{"$f":"IF(ISBLANK(Rådata!D1382)=TRUE,\"\",((Rådata!D1382-Rådata!E1382)*100)/Rådata!D1382)","v":""},{"$f":"IF(ISBLANK(Rådata!G1382)=TRUE,\"\",(Rådata!F1382*100)/Rådata!G1382)","v":""},{"$f":"IF(ISBLANK(Rådata!K1382),\"\",(SUM(Rådata!M1382:P1382)*100)/SUM(Rådata!H1382:K1382))","v":""},{"$f":"IF(ISBLANK(Rådata!H1382),\"\",((SUM(Rådata!J1382:L1382)-SUM(Rådata!O1382:P1382))*100)/SUM(Rådata!H1382:L1382))","v":""},{"$f":"IF(ISBLANK(Rådata!R1382),\"\",(Rådata!Q1382*100)/Rådata!R1382)","v":""}]
[{"$f":"IF(ISBLANK(Rådata!A1383)=TRUE,\"\",Rådata!A1383)","v":""},{"$f":"IF(ISBLANK(Rådata!A1383)=TRUE,\"\",YEAR(A1383))","v":""},{"$f":"IF(ISBLANK(Rådata!A1383)=TRUE,\"\",VLOOKUP(MONTH(A1383),Opsætning!$G$3:$H$14,2,FALSE))","v":""},{"$f":"IF(ISBLANK(Rådata!B1383)=TRUE,\"\",(Rådata!C1383*100)/Rådata!B1383)","v":""},{"$f":"IF(ISBLANK(Rådata!D1383)=TRUE,\"\",((Rådata!D1383-Rådata!E1383)*100)/Rådata!D1383)","v":""},{"$f":"IF(ISBLANK(Rådata!G1383)=TRUE,\"\",(Rådata!F1383*100)/Rådata!G1383)","v":""},{"$f":"IF(ISBLANK(Rådata!K1383),\"\",(SUM(Rådata!M1383:P1383)*100)/SUM(Rådata!H1383:K1383))","v":""},{"$f":"IF(ISBLANK(Rådata!H1383),\"\",((SUM(Rådata!J1383:L1383)-SUM(Rådata!O1383:P1383))*100)/SUM(Rådata!H1383:L1383))","v":""},{"$f":"IF(ISBLANK(Rådata!R1383),\"\",(Rådata!Q1383*100)/Rådata!R1383)","v":""}]
[{"$f":"IF(ISBLANK(Rådata!A1384)=TRUE,\"\",Rådata!A1384)","v":""},{"$f":"IF(ISBLANK(Rådata!A1384)=TRUE,\"\",YEAR(A1384))","v":""},{"$f":"IF(ISBLANK(Rådata!A1384)=TRUE,\"\",VLOOKUP(MONTH(A1384),Opsætning!$G$3:$H$14,2,FALSE))","v":""},{"$f":"IF(ISBLANK(Rådata!B1384)=TRUE,\"\",(Rådata!C1384*100)/Rådata!B1384)","v":""},{"$f":"IF(ISBLANK(Rådata!D1384)=TRUE,\"\",((Rådata!D1384-Rådata!E1384)*100)/Rådata!D1384)","v":""},{"$f":"IF(ISBLANK(Rådata!G1384)=TRUE,\"\",(Rådata!F1384*100)/Rådata!G1384)","v":""},{"$f":"IF(ISBLANK(Rådata!K1384),\"\",(SUM(Rådata!M1384:P1384)*100)/SUM(Rådata!H1384:K1384))","v":""},{"$f":"IF(ISBLANK(Rådata!H1384),\"\",((SUM(Rådata!J1384:L1384)-SUM(Rådata!O1384:P1384))*100)/SUM(Rådata!H1384:L1384))","v":""},{"$f":"IF(ISBLANK(Rådata!R1384),\"\",(Rådata!Q1384*100)/Rådata!R1384)","v":""}]
[{"$f":"IF(ISBLANK(Rådata!A1385)=TRUE,\"\",Rådata!A1385)","v":""},{"$f":"IF(ISBLANK(Rådata!A1385)=TRUE,\"\",YEAR(A1385))","v":""},{"$f":"IF(ISBLANK(Rådata!A1385)=TRUE,\"\",VLOOKUP(MONTH(A1385),Opsætning!$G$3:$H$14,2,FALSE))","v":""},{"$f":"IF(ISBLANK(Rådata!B1385)=TRUE,\"\",(Rådata!C1385*100)/Rådata!B1385)","v":""},{"$f":"IF(ISBLANK(Rådata!D1385)=TRUE,\"\",((Rådata!D1385-Rådata!E1385)*100)/Rådata!D1385)","v":""},{"$f":"IF(ISBLANK(Rådata!G1385)=TRUE,\"\",(Rådata!F1385*100)/Rådata!G1385)","v":""},{"$f":"IF(ISBLANK(Rådata!K1385),\"\",(SUM(Rådata!M1385:P1385)*100)/SUM(Rådata!H1385:K1385))","v":""},{"$f":"IF(ISBLANK(Rådata!H1385),\"\",((SUM(Rådata!J1385:L1385)-SUM(Rådata!O1385:P1385))*100)/SUM(Rådata!H1385:L1385))","v":""},{"$f":"IF(ISBLANK(Rådata!R1385),\"\",(Rådata!Q1385*100)/Rådata!R1385)","v":""}]
[{"$f":"IF(ISBLANK(Rådata!A1386)=TRUE,\"\",Rådata!A1386)","v":""},{"$f":"IF(ISBLANK(Rådata!A1386)=TRUE,\"\",YEAR(A1386))","v":""},{"$f":"IF(ISBLANK(Rådata!A1386)=TRUE,\"\",VLOOKUP(MONTH(A1386),Opsætning!$G$3:$H$14,2,FALSE))","v":""},{"$f":"IF(ISBLANK(Rådata!B1386)=TRUE,\"\",(Rådata!C1386*100)/Rådata!B1386)","v":""},{"$f":"IF(ISBLANK(Rådata!D1386)=TRUE,\"\",((Rådata!D1386-Rådata!E1386)*100)/Rådata!D1386)","v":""},{"$f":"IF(ISBLANK(Rådata!G1386)=TRUE,\"\",(Rådata!F1386*100)/Rådata!G1386)","v":""},{"$f":"IF(ISBLANK(Rådata!K1386),\"\",(SUM(Rådata!M1386:P1386)*100)/SUM(Rådata!H1386:K1386))","v":""},{"$f":"IF(ISBLANK(Rådata!H1386),\"\",((SUM(Rådata!J1386:L1386)-SUM(Rådata!O1386:P1386))*100)/SUM(Rådata!H1386:L1386))","v":""},{"$f":"IF(ISBLANK(Rådata!R1386),\"\",(Rådata!Q1386*100)/Rådata!R1386)","v":""}]
[{"$f":"IF(ISBLANK(Rådata!A1387)=TRUE,\"\",Rådata!A1387)","v":""},{"$f":"IF(ISBLANK(Rådata!A1387)=TRUE,\"\",YEAR(A1387))","v":""},{"$f":"IF(ISBLANK(Rådata!A1387)=TRUE,\"\",VLOOKUP(MONTH(A1387),Opsætning!$G$3:$H$14,2,FALSE))","v":""},{"$f":"IF(ISBLANK(Rådata!B1387)=TRUE,\"\",(Rådata!C1387*100)/Rådata!B1387)","v":""},{"$f":"IF(ISBLANK(Rådata!D1387)=TRUE,\"\",((Rådata!D1387-Rådata!E1387)*100)/Rådata!D1387)","v":""},{"$f":"IF(ISBLANK(Rådata!G1387)=TRUE,\"\",(Rådata!F1387*100)/Rådata!G1387)","v":""},{"$f":"IF(ISBLANK(Rådata!K1387),\"\",(SUM(Rådata!M1387:P1387)*100)/SUM(Rådata!H1387:K1387))","v":""},{"$f":"IF(ISBLANK(Rådata!H1387),\"\",((SUM(Rådata!J1387:L1387)-SUM(Rådata!O1387:P1387))*100)/SUM(Rådata!H1387:L1387))","v":""},{"$f":"IF(ISBLANK(Rådata!R1387),\"\",(Rådata!Q1387*100)/Rådata!R1387)","v":""}]
[{"$f":"IF(ISBLANK(Rådata!A1388)=TRUE,\"\",Rådata!A1388)","v":""},{"$f":"IF(ISBLANK(Rådata!A1388)=TRUE,\"\",YEAR(A1388))","v":""},{"$f":"IF(ISBLANK(Rådata!A1388)=TRUE,\"\",VLOOKUP(MONTH(A1388),Opsætning!$G$3:$H$14,2,FALSE))","v":""},{"$f":"IF(ISBLANK(Rådata!B1388)=TRUE,\"\",(Rådata!C1388*100)/Rådata!B1388)","v":""},{"$f":"IF(ISBLANK(Rådata!D1388)=TRUE,\"\",((Rådata!D1388-Rådata!E1388)*100)/Rådata!D1388)","v":""},{"$f":"IF(ISBLANK(Rådata!G1388)=TRUE,\"\",(Rådata!F1388*100)/Rådata!G1388)","v":""},{"$f":"IF(ISBLANK(Rådata!K1388),\"\",(SUM(Rådata!M1388:P1388)*100)/SUM(Rådata!H1388:K1388))","v":""},{"$f":"IF(ISBLANK(Rådata!H1388),\"\",((SUM(Rådata!J1388:L1388)-SUM(Rådata!O1388:P1388))*100)/SUM(Rådata!H1388:L1388))","v":""},{"$f":"IF(ISBLANK(Rådata!R1388),\"\",(Rådata!Q1388*100)/Rådata!R1388)","v":""}]
[{"$f":"IF(ISBLANK(Rådata!A1389)=TRUE,\"\",Rådata!A1389)","v":""},{"$f":"IF(ISBLANK(Rådata!A1389)=TRUE,\"\",YEAR(A1389))","v":""},{"$f":"IF(ISBLANK(Rådata!A1389)=TRUE,\"\",VLOOKUP(MONTH(A1389),Opsætning!$G$3:$H$14,2,FALSE))","v":""},{"$f":"IF(ISBLANK(Rådata!B1389)=TRUE,\"\",(Rådata!C1389*100)/Rådata!B1389)","v":""},{"$f":"IF(ISBLANK(Rådata!D1389)=TRUE,\"\",((Rådata!D1389-Rådata!E1389)*100)/Rådata!D1389)","v":""},{"$f":"IF(ISBLANK(Rådata!G1389)=TRUE,\"\",(Rådata!F1389*100)/Rådata!G1389)","v":""},{"$f":"IF(ISBLANK(Rådata!K1389),\"\",(SUM(Rådata!M1389:P1389)*100)/SUM(Rådata!H1389:K1389))","v":""},{"$f":"IF(ISBLANK(Rådata!H1389),\"\",((SUM(Rådata!J1389:L1389)-SUM(Rådata!O1389:P1389))*100)/SUM(Rådata!H1389:L1389))","v":""},{"$f":"IF(ISBLANK(Rådata!R1389),\"\",(Rådata!Q1389*100)/Rådata!R1389)","v":""}]
[{"$f":"IF(ISBLANK(Rådata!A1390)=TRUE,\"\",Rådata!A1390)","v":""},{"$f":"IF(ISBLANK(Rådata!A1390)=TRUE,\"\",YEAR(A1390))","v":""},{"$f":"IF(ISBLANK(Rådata!A1390)=TRUE,\"\",VLOOKUP(MONTH(A1390),Opsætning!$G$3:$H$14,2,FALSE))","v":""},{"$f":"IF(ISBLANK(Rådata!B1390)=TRUE,\"\",(Rådata!C1390*100)/Rådata!B1390)","v":""},{"$f":"IF(ISBLANK(Rådata!D1390)=TRUE,\"\",((Rådata!D1390-Rådata!E1390)*100)/Rådata!D1390)","v":""},{"$f":"IF(ISBLANK(Rådata!G1390)=TRUE,\"\",(Rådata!F1390*100)/Rådata!G1390)","v":""},{"$f":"IF(ISBLANK(Rådata!K1390),\"\",(SUM(Rådata!M1390:P1390)*100)/SUM(Rådata!H1390:K1390))","v":""},{"$f":"IF(ISBLANK(Rådata!H1390),\"\",((SUM(Rådata!J1390:L1390)-SUM(Rådata!O1390:P1390))*100)/SUM(Rådata!H1390:L1390))","v":""},{"$f":"IF(ISBLANK(Rådata!R1390),\"\",(Rådata!Q1390*100)/Rådata!R1390)","v":""}]
[{"$f":"IF(ISBLANK(Rådata!A1391)=TRUE,\"\",Rådata!A1391)","v":""},{"$f":"IF(ISBLANK(Rådata!A1391)=TRUE,\"\",YEAR(A1391))","v":""},{"$f":"IF(ISBLANK(Rådata!A1391)=TRUE,\"\",VLOOKUP(MONTH(A1391),Opsætning!$G$3:$H$14,2,FALSE))","v":""},{"$f":"IF(ISBLANK(Rådata!B1391)=TRUE,\"\",(Rådata!C1391*100)/Rådata!B1391)","v":""},{"$f":"IF(ISBLANK(Rådata!D1391)=TRUE,\"\",((Rådata!D1391-Rådata!E1391)*100)/Rådata!D1391)","v":""},{"$f":"IF(ISBLANK(Rådata!G1391)=TRUE,\"\",(Rådata!F1391*100)/Rådata!G1391)","v":""},{"$f":"IF(ISBLANK(Rådata!K1391),\"\",(SUM(Rådata!M1391:P1391)*100)/SUM(Rådata!H1391:K1391))","v":""},{"$f":"IF(ISBLANK(Rådata!H1391),\"\",((SUM(Rådata!J1391:L1391)-SUM(Rådata!O1391:P1391))*100)/SUM(Rådata!H1391:L1391))","v":""},{"$f":"IF(ISBLANK(Rådata!R1391),\"\",(Rådata!Q1391*100)/Rådata!R1391)","v":""}]
[{"$f":"IF(ISBLANK(Rådata!A1392)=TRUE,\"\",Rådata!A1392)","v":""},{"$f":"IF(ISBLANK(Rådata!A1392)=TRUE,\"\",YEAR(A1392))","v":""},{"$f":"IF(ISBLANK(Rådata!A1392)=TRUE,\"\",VLOOKUP(MONTH(A1392),Opsætning!$G$3:$H$14,2,FALSE))","v":""},{"$f":"IF(ISBLANK(Rådata!B1392)=TRUE,\"\",(Rådata!C1392*100)/Rådata!B1392)","v":""},{"$f":"IF(ISBLANK(Rådata!D1392)=TRUE,\"\",((Rådata!D1392-Rådata!E1392)*100)/Rådata!D1392)","v":""},{"$f":"IF(ISBLANK(Rådata!G1392)=TRUE,\"\",(Rådata!F1392*100)/Rådata!G1392)","v":""},{"$f":"IF(ISBLANK(Rådata!K1392),\"\",(SUM(Rådata!M1392:P1392)*100)/SUM(Rådata!H1392:K1392))","v":""},{"$f":"IF(ISBLANK(Rådata!H1392),\"\",((SUM(Rådata!J1392:L1392)-SUM(Rådata!O1392:P1392))*100)/SUM(Rådata!H1392:L1392))","v":""},{"$f":"IF(ISBLANK(Rådata!R1392),\"\",(Rådata!Q1392*100)/Rådata!R1392)","v":""}]
[{"$f":"IF(ISBLANK(Rådata!A1393)=TRUE,\"\",Rådata!A1393)","v":""},{"$f":"IF(ISBLANK(Rådata!A1393)=TRUE,\"\",YEAR(A1393))","v":""},{"$f":"IF(ISBLANK(Rådata!A1393)=TRUE,\"\",VLOOKUP(MONTH(A1393),Opsætning!$G$3:$H$14,2,FALSE))","v":""},{"$f":"IF(ISBLANK(Rådata!B1393)=TRUE,\"\",(Rådata!C1393*100)/Rådata!B1393)","v":""},{"$f":"IF(ISBLANK(Rådata!D1393)=TRUE,\"\",((Rådata!D1393-Rådata!E1393)*100)/Rådata!D1393)","v":""},{"$f":"IF(ISBLANK(Rådata!G1393)=TRUE,\"\",(Rådata!F1393*100)/Rådata!G1393)","v":""},{"$f":"IF(ISBLANK(Rådata!K1393),\"\",(SUM(Rådata!M1393:P1393)*100)/SUM(Rådata!H1393:K1393))","v":""},{"$f":"IF(ISBLANK(Rådata!H1393),\"\",((SUM(Rådata!J1393:L1393)-SUM(Rådata!O1393:P1393))*100)/SUM(Rådata!H1393:L1393))","v":""},{"$f":"IF(ISBLANK(Rådata!R1393),\"\",(Rådata!Q1393*100)/Rådata!R1393)","v":""}]
[{"$f":"IF(ISBLANK(Rådata!A1394)=TRUE,\"\",Rådata!A1394)","v":""},{"$f":"IF(ISBLANK(Rådata!A1394)=TRUE,\"\",YEAR(A1394))","v":""},{"$f":"IF(ISBLANK(Rådata!A1394)=TRUE,\"\",VLOOKUP(MONTH(A1394),Opsætning!$G$3:$H$14,2,FALSE))","v":""},{"$f":"IF(ISBLANK(Rådata!B1394)=TRUE,\"\",(Rådata!C1394*100)/Rådata!B1394)","v":""},{"$f":"IF(ISBLANK(Rådata!D1394)=TRUE,\"\",((Rådata!D1394-Rådata!E1394)*100)/Rådata!D1394)","v":""},{"$f":"IF(ISBLANK(Rådata!G1394)=TRUE,\"\",(Rådata!F1394*100)/Rådata!G1394)","v":""},{"$f":"IF(ISBLANK(Rådata!K1394),\"\",(SUM(Rådata!M1394:P1394)*100)/SUM(Rådata!H1394:K1394))","v":""},{"$f":"IF(ISBLANK(Rådata!H1394),\"\",((SUM(Rådata!J1394:L1394)-SUM(Rådata!O1394:P1394))*100)/SUM(Rådata!H1394:L1394))","v":""},{"$f":"IF(ISBLANK(Rådata!R1394),\"\",(Rådata!Q1394*100)/Rådata!R1394)","v":""}]
[{"$f":"IF(ISBLANK(Rådata!A1395)=TRUE,\"\",Rådata!A1395)","v":""},{"$f":"IF(ISBLANK(Rådata!A1395)=TRUE,\"\",YEAR(A1395))","v":""},{"$f":"IF(ISBLANK(Rådata!A1395)=TRUE,\"\",VLOOKUP(MONTH(A1395),Opsætning!$G$3:$H$14,2,FALSE))","v":""},{"$f":"IF(ISBLANK(Rådata!B1395)=TRUE,\"\",(Rådata!C1395*100)/Rådata!B1395)","v":""},{"$f":"IF(ISBLANK(Rådata!D1395)=TRUE,\"\",((Rådata!D1395-Rådata!E1395)*100)/Rådata!D1395)","v":""},{"$f":"IF(ISBLANK(Rådata!G1395)=TRUE,\"\",(Rådata!F1395*100)/Rådata!G1395)","v":""},{"$f":"IF(ISBLANK(Rådata!K1395),\"\",(SUM(Rådata!M1395:P1395)*100)/SUM(Rådata!H1395:K1395))","v":""},{"$f":"IF(ISBLANK(Rådata!H1395),\"\",((SUM(Rådata!J1395:L1395)-SUM(Rådata!O1395:P1395))*100)/SUM(Rådata!H1395:L1395))","v":""},{"$f":"IF(ISBLANK(Rådata!R1395),\"\",(Rådata!Q1395*100)/Rådata!R1395)","v":""}]
[{"$f":"IF(ISBLANK(Rådata!A1396)=TRUE,\"\",Rådata!A1396)","v":""},{"$f":"IF(ISBLANK(Rådata!A1396)=TRUE,\"\",YEAR(A1396))","v":""},{"$f":"IF(ISBLANK(Rådata!A1396)=TRUE,\"\",VLOOKUP(MONTH(A1396),Opsætning!$G$3:$H$14,2,FALSE))","v":""},{"$f":"IF(ISBLANK(Rådata!B1396)=TRUE,\"\",(Rådata!C1396*100)/Rådata!B1396)","v":""},{"$f":"IF(ISBLANK(Rådata!D1396)=TRUE,\"\",((Rådata!D1396-Rådata!E1396)*100)/Rådata!D1396)","v":""},{"$f":"IF(ISBLANK(Rådata!G1396)=TRUE,\"\",(Rådata!F1396*100)/Rådata!G1396)","v":""},{"$f":"IF(ISBLANK(Rådata!K1396),\"\",(SUM(Rådata!M1396:P1396)*100)/SUM(Rådata!H1396:K1396))","v":""},{"$f":"IF(ISBLANK(Rådata!H1396),\"\",((SUM(Rådata!J1396:L1396)-SUM(Rådata!O1396:P1396))*100)/SUM(Rådata!H1396:L1396))","v":""},{"$f":"IF(ISBLANK(Rådata!R1396),\"\",(Rådata!Q1396*100)/Rådata!R1396)","v":""}]
[{"$f":"IF(ISBLANK(Rådata!A1397)=TRUE,\"\",Rådata!A1397)","v":""},{"$f":"IF(ISBLANK(Rådata!A1397)=TRUE,\"\",YEAR(A1397))","v":""},{"$f":"IF(ISBLANK(Rådata!A1397)=TRUE,\"\",VLOOKUP(MONTH(A1397),Opsætning!$G$3:$H$14,2,FALSE))","v":""},{"$f":"IF(ISBLANK(Rådata!B1397)=TRUE,\"\",(Rådata!C1397*100)/Rådata!B1397)","v":""},{"$f":"IF(ISBLANK(Rådata!D1397)=TRUE,\"\",((Rådata!D1397-Rådata!E1397)*100)/Rådata!D1397)","v":""},{"$f":"IF(ISBLANK(Rådata!G1397)=TRUE,\"\",(Rådata!F1397*100)/Rådata!G1397)","v":""},{"$f":"IF(ISBLANK(Rådata!K1397),\"\",(SUM(Rådata!M1397:P1397)*100)/SUM(Rådata!H1397:K1397))","v":""},{"$f":"IF(ISBLANK(Rådata!H1397),\"\",((SUM(Rådata!J1397:L1397)-SUM(Rådata!O1397:P1397))*100)/SUM(Rådata!H1397:L1397))","v":""},{"$f":"IF(ISBLANK(Rådata!R1397),\"\",(Rådata!Q1397*100)/Rådata!R1397)","v":""}]
[{"$f":"IF(ISBLANK(Rådata!A1398)=TRUE,\"\",Rådata!A1398)","v":""},{"$f":"IF(ISBLANK(Rådata!A1398)=TRUE,\"\",YEAR(A1398))","v":""},{"$f":"IF(ISBLANK(Rådata!A1398)=TRUE,\"\",VLOOKUP(MONTH(A1398),Opsætning!$G$3:$H$14,2,FALSE))","v":""},{"$f":"IF(ISBLANK(Rådata!B1398)=TRUE,\"\",(Rådata!C1398*100)/Rådata!B1398)","v":""},{"$f":"IF(ISBLANK(Rådata!D1398)=TRUE,\"\",((Rådata!D1398-Rådata!E1398)*100)/Rådata!D1398)","v":""},{"$f":"IF(ISBLANK(Rådata!G1398)=TRUE,\"\",(Rådata!F1398*100)/Rådata!G1398)","v":""},{"$f":"IF(ISBLANK(Rådata!K1398),\"\",(SUM(Rådata!M1398:P1398)*100)/SUM(Rådata!H1398:K1398))","v":""},{"$f":"IF(ISBLANK(Rådata!H1398),\"\",((SUM(Rådata!J1398:L1398)-SUM(Rådata!O1398:P1398))*100)/SUM(Rådata!H1398:L1398))","v":""},{"$f":"IF(ISBLANK(Rådata!R1398),\"\",(Rådata!Q1398*100)/Rådata!R1398)","v":""}]
[{"$f":"IF(ISBLANK(Rådata!A1399)=TRUE,\"\",Rådata!A1399)","v":""},{"$f":"IF(ISBLANK(Rådata!A1399)=TRUE,\"\",YEAR(A1399))","v":""},{"$f":"IF(ISBLANK(Rådata!A1399)=TRUE,\"\",VLOOKUP(MONTH(A1399),Opsætning!$G$3:$H$14,2,FALSE))","v":""},{"$f":"IF(ISBLANK(Rådata!B1399)=TRUE,\"\",(Rådata!C1399*100)/Rådata!B1399)","v":""},{"$f":"IF(ISBLANK(Rådata!D1399)=TRUE,\"\",((Rådata!D1399-Rådata!E1399)*100)/Rådata!D1399)","v":""},{"$f":"IF(ISBLANK(Rådata!G1399)=TRUE,\"\",(Rådata!F1399*100)/Rådata!G1399)","v":""},{"$f":"IF(ISBLANK(Rådata!K1399),\"\",(SUM(Rådata!M1399:P1399)*100)/SUM(Rådata!H1399:K1399))","v":""},{"$f":"IF(ISBLANK(Rådata!H1399),\"\",((SUM(Rådata!J1399:L1399)-SUM(Rådata!O1399:P1399))*100)/SUM(Rådata!H1399:L1399))","v":""},{"$f":"IF(ISBLANK(Rådata!R1399),\"\",(Rådata!Q1399*100)/Rådata!R1399)","v":""}]
[{"$f":"IF(ISBLANK(Rådata!A1400)=TRUE,\"\",Rådata!A1400)","v":""},{"$f":"IF(ISBLANK(Rådata!A1400)=TRUE,\"\",YEAR(A1400))","v":""},{"$f":"IF(ISBLANK(Rådata!A1400)=TRUE,\"\",VLOOKUP(MONTH(A1400),Opsætning!$G$3:$H$14,2,FALSE))","v":""},{"$f":"IF(ISBLANK(Rådata!B1400)=TRUE,\"\",(Rådata!C1400*100)/Rådata!B1400)","v":""},{"$f":"IF(ISBLANK(Rådata!D1400)=TRUE,\"\",((Rådata!D1400-Rådata!E1400)*100)/Rådata!D1400)","v":""},{"$f":"IF(ISBLANK(Rådata!G1400)=TRUE,\"\",(Rådata!F1400*100)/Rådata!G1400)","v":""},{"$f":"IF(ISBLANK(Rådata!K1400),\"\",(SUM(Rådata!M1400:P1400)*100)/SUM(Rådata!H1400:K1400))","v":""},{"$f":"IF(ISBLANK(Rådata!H1400),\"\",((SUM(Rådata!J1400:L1400)-SUM(Rådata!O1400:P1400))*100)/SUM(Rådata!H1400:L1400))","v":""},{"$f":"IF(ISBLANK(Rådata!R1400),\"\",(Rådata!Q1400*100)/Rådata!R1400)","v":""}]
[{"$f":"IF(ISBLANK(Rådata!A1401)=TRUE,\"\",Rådata!A1401)","v":""},{"$f":"IF(ISBLANK(Rådata!A1401)=TRUE,\"\",YEAR(A1401))","v":""},{"$f":"IF(ISBLANK(Rådata!A1401)=TRUE,\"\",VLOOKUP(MONTH(A1401),Opsætning!$G$3:$H$14,2,FALSE))","v":""},{"$f":"IF(ISBLANK(Rådata!B1401)=TRUE,\"\",(Rådata!C1401*100)/Rådata!B1401)","v":""},{"$f":"IF(ISBLANK(Rådata!D1401)=TRUE,\"\",((Rådata!D1401-Rådata!E1401)*100)/Rådata!D1401)","v":""},{"$f":"IF(ISBLANK(Rådata!G1401)=TRUE,\"\",(Rådata!F1401*100)/Rådata!G1401)","v":""},{"$f":"IF(ISBLANK(Rådata!K1401),\"\",(SUM(Rådata!M1401:P1401)*100)/SUM(Rådata!H1401:K1401))","v":""},{"$f":"IF(ISBLANK(Rådata!H1401),\"\",((SUM(Rådata!J1401:L1401)-SUM(Rådata!O1401:P1401))*100)/SUM(Rådata!H1401:L1401))","v":""},{"$f":"IF(ISBLANK(Rådata!R1401),\"\",(Rådata!Q1401*100)/Rådata!R1401)","v":""}]
[{"$f":"IF(ISBLANK(Rådata!A1402)=TRUE,\"\",Rådata!A1402)","v":""},{"$f":"IF(ISBLANK(Rådata!A1402)=TRUE,\"\",YEAR(A1402))","v":""},{"$f":"IF(ISBLANK(Rådata!A1402)=TRUE,\"\",VLOOKUP(MONTH(A1402),Opsætning!$G$3:$H$14,2,FALSE))","v":""},{"$f":"IF(ISBLANK(Rådata!B1402)=TRUE,\"\",(Rådata!C1402*100)/Rådata!B1402)","v":""},{"$f":"IF(ISBLANK(Rådata!D1402)=TRUE,\"\",((Rådata!D1402-Rådata!E1402)*100)/Rådata!D1402)","v":""},{"$f":"IF(ISBLANK(Rådata!G1402)=TRUE,\"\",(Rådata!F1402*100)/Rådata!G1402)","v":""},{"$f":"IF(ISBLANK(Rådata!K1402),\"\",(SUM(Rådata!M1402:P1402)*100)/SUM(Rådata!H1402:K1402))","v":""},{"$f":"IF(ISBLANK(Rådata!H1402),\"\",((SUM(Rådata!J1402:L1402)-SUM(Rådata!O1402:P1402))*100)/SUM(Rådata!H1402:L1402))","v":""},{"$f":"IF(ISBLANK(Rådata!R1402),\"\",(Rådata!Q1402*100)/Rådata!R1402)","v":""}]
[{"$f":"IF(ISBLANK(Rådata!A1403)=TRUE,\"\",Rådata!A1403)","v":""},{"$f":"IF(ISBLANK(Rådata!A1403)=TRUE,\"\",YEAR(A1403))","v":""},{"$f":"IF(ISBLANK(Rådata!A1403)=TRUE,\"\",VLOOKUP(MONTH(A1403),Opsætning!$G$3:$H$14,2,FALSE))","v":""},{"$f":"IF(ISBLANK(Rådata!B1403)=TRUE,\"\",(Rådata!C1403*100)/Rådata!B1403)","v":""},{"$f":"IF(ISBLANK(Rådata!D1403)=TRUE,\"\",((Rådata!D1403-Rådata!E1403)*100)/Rådata!D1403)","v":""},{"$f":"IF(ISBLANK(Rådata!G1403)=TRUE,\"\",(Rådata!F1403*100)/Rådata!G1403)","v":""},{"$f":"IF(ISBLANK(Rådata!K1403),\"\",(SUM(Rådata!M1403:P1403)*100)/SUM(Rådata!H1403:K1403))","v":""},{"$f":"IF(ISBLANK(Rådata!H1403),\"\",((SUM(Rådata!J1403:L1403)-SUM(Rådata!O1403:P1403))*100)/SUM(Rådata!H1403:L1403))","v":""},{"$f":"IF(ISBLANK(Rådata!R1403),\"\",(Rådata!Q1403*100)/Rådata!R1403)","v":""}]
[{"$f":"IF(ISBLANK(Rådata!A1404)=TRUE,\"\",Rådata!A1404)","v":""},{"$f":"IF(ISBLANK(Rådata!A1404)=TRUE,\"\",YEAR(A1404))","v":""},{"$f":"IF(ISBLANK(Rådata!A1404)=TRUE,\"\",VLOOKUP(MONTH(A1404),Opsætning!$G$3:$H$14,2,FALSE))","v":""},{"$f":"IF(ISBLANK(Rådata!B1404)=TRUE,\"\",(Rådata!C1404*100)/Rådata!B1404)","v":""},{"$f":"IF(ISBLANK(Rådata!D1404)=TRUE,\"\",((Rådata!D1404-Rådata!E1404)*100)/Rådata!D1404)","v":""},{"$f":"IF(ISBLANK(Rådata!G1404)=TRUE,\"\",(Rådata!F1404*100)/Rådata!G1404)","v":""},{"$f":"IF(ISBLANK(Rådata!K1404),\"\",(SUM(Rådata!M1404:P1404)*100)/SUM(Rådata!H1404:K1404))","v":""},{"$f":"IF(ISBLANK(Rådata!H1404),\"\",((SUM(Rådata!J1404:L1404)-SUM(Rådata!O1404:P1404))*100)/SUM(Rådata!H1404:L1404))","v":""},{"$f":"IF(ISBLANK(Rådata!R1404),\"\",(Rådata!Q1404*100)/Rådata!R1404)","v":""}]
[{"$f":"IF(ISBLANK(Rådata!A1405)=TRUE,\"\",Rådata!A1405)","v":""},{"$f":"IF(ISBLANK(Rådata!A1405)=TRUE,\"\",YEAR(A1405))","v":""},{"$f":"IF(ISBLANK(Rådata!A1405)=TRUE,\"\",VLOOKUP(MONTH(A1405),Opsætning!$G$3:$H$14,2,FALSE))","v":""},{"$f":"IF(ISBLANK(Rådata!B1405)=TRUE,\"\",(Rådata!C1405*100)/Rådata!B1405)","v":""},{"$f":"IF(ISBLANK(Rådata!D1405)=TRUE,\"\",((Rådata!D1405-Rådata!E1405)*100)/Rådata!D1405)","v":""},{"$f":"IF(ISBLANK(Rådata!G1405)=TRUE,\"\",(Rådata!F1405*100)/Rådata!G1405)","v":""},{"$f":"IF(ISBLANK(Rådata!K1405),\"\",(SUM(Rådata!M1405:P1405)*100)/SUM(Rådata!H1405:K1405))","v":""},{"$f":"IF(ISBLANK(Rådata!H1405),\"\",((SUM(Rådata!J1405:L1405)-SUM(Rådata!O1405:P1405))*100)/SUM(Rådata!H1405:L1405))","v":""},{"$f":"IF(ISBLANK(Rådata!R1405),\"\",(Rådata!Q1405*100)/Rådata!R1405)","v":""}]
[{"$f":"IF(ISBLANK(Rådata!A1406)=TRUE,\"\",Rådata!A1406)","v":""},{"$f":"IF(ISBLANK(Rådata!A1406)=TRUE,\"\",YEAR(A1406))","v":""},{"$f":"IF(ISBLANK(Rådata!A1406)=TRUE,\"\",VLOOKUP(MONTH(A1406),Opsætning!$G$3:$H$14,2,FALSE))","v":""},{"$f":"IF(ISBLANK(Rådata!B1406)=TRUE,\"\",(Rådata!C1406*100)/Rådata!B1406)","v":""},{"$f":"IF(ISBLANK(Rådata!D1406)=TRUE,\"\",((Rådata!D1406-Rådata!E1406)*100)/Rådata!D1406)","v":""},{"$f":"IF(ISBLANK(Rådata!G1406)=TRUE,\"\",(Rådata!F1406*100)/Rådata!G1406)","v":""},{"$f":"IF(ISBLANK(Rådata!K1406),\"\",(SUM(Rådata!M1406:P1406)*100)/SUM(Rådata!H1406:K1406))","v":""},{"$f":"IF(ISBLANK(Rådata!H1406),\"\",((SUM(Rådata!J1406:L1406)-SUM(Rådata!O1406:P1406))*100)/SUM(Rådata!H1406:L1406))","v":""},{"$f":"IF(ISBLANK(Rådata!R1406),\"\",(Rådata!Q1406*100)/Rådata!R1406)","v":""}]
[{"$f":"IF(ISBLANK(Rådata!A1407)=TRUE,\"\",Rådata!A1407)","v":""},{"$f":"IF(ISBLANK(Rådata!A1407)=TRUE,\"\",YEAR(A1407))","v":""},{"$f":"IF(ISBLANK(Rådata!A1407)=TRUE,\"\",VLOOKUP(MONTH(A1407),Opsætning!$G$3:$H$14,2,FALSE))","v":""},{"$f":"IF(ISBLANK(Rådata!B1407)=TRUE,\"\",(Rådata!C1407*100)/Rådata!B1407)","v":""},{"$f":"IF(ISBLANK(Rådata!D1407)=TRUE,\"\",((Rådata!D1407-Rådata!E1407)*100)/Rådata!D1407)","v":""},{"$f":"IF(ISBLANK(Rådata!G1407)=TRUE,\"\",(Rådata!F1407*100)/Rådata!G1407)","v":""},{"$f":"IF(ISBLANK(Rådata!K1407),\"\",(SUM(Rådata!M1407:P1407)*100)/SUM(Rådata!H1407:K1407))","v":""},{"$f":"IF(ISBLANK(Rådata!H1407),\"\",((SUM(Rådata!J1407:L1407)-SUM(Rådata!O1407:P1407))*100)/SUM(Rådata!H1407:L1407))","v":""},{"$f":"IF(ISBLANK(Rådata!R1407),\"\",(Rådata!Q1407*100)/Rådata!R1407)","v":""}]
[{"$f":"IF(ISBLANK(Rådata!A1408)=TRUE,\"\",Rådata!A1408)","v":""},{"$f":"IF(ISBLANK(Rådata!A1408)=TRUE,\"\",YEAR(A1408))","v":""},{"$f":"IF(ISBLANK(Rådata!A1408)=TRUE,\"\",VLOOKUP(MONTH(A1408),Opsætning!$G$3:$H$14,2,FALSE))","v":""},{"$f":"IF(ISBLANK(Rådata!B1408)=TRUE,\"\",(Rådata!C1408*100)/Rådata!B1408)","v":""},{"$f":"IF(ISBLANK(Rådata!D1408)=TRUE,\"\",((Rådata!D1408-Rådata!E1408)*100)/Rådata!D1408)","v":""},{"$f":"IF(ISBLANK(Rådata!G1408)=TRUE,\"\",(Rådata!F1408*100)/Rådata!G1408)","v":""},{"$f":"IF(ISBLANK(Rådata!K1408),\"\",(SUM(Rådata!M1408:P1408)*100)/SUM(Rådata!H1408:K1408))","v":""},{"$f":"IF(ISBLANK(Rådata!H1408),\"\",((SUM(Rådata!J1408:L1408)-SUM(Rådata!O1408:P1408))*100)/SUM(Rådata!H1408:L1408))","v":""},{"$f":"IF(ISBLANK(Rådata!R1408),\"\",(Rådata!Q1408*100)/Rådata!R1408)","v":""}]
[{"$f":"IF(ISBLANK(Rådata!A1409)=TRUE,\"\",Rådata!A1409)","v":""},{"$f":"IF(ISBLANK(Rådata!A1409)=TRUE,\"\",YEAR(A1409))","v":""},{"$f":"IF(ISBLANK(Rådata!A1409)=TRUE,\"\",VLOOKUP(MONTH(A1409),Opsætning!$G$3:$H$14,2,FALSE))","v":""},{"$f":"IF(ISBLANK(Rådata!B1409)=TRUE,\"\",(Rådata!C1409*100)/Rådata!B1409)","v":""},{"$f":"IF(ISBLANK(Rådata!D1409)=TRUE,\"\",((Rådata!D1409-Rådata!E1409)*100)/Rådata!D1409)","v":""},{"$f":"IF(ISBLANK(Rådata!G1409)=TRUE,\"\",(Rådata!F1409*100)/Rådata!G1409)","v":""},{"$f":"IF(ISBLANK(Rådata!K1409),\"\",(SUM(Rådata!M1409:P1409)*100)/SUM(Rådata!H1409:K1409))","v":""},{"$f":"IF(ISBLANK(Rådata!H1409),\"\",((SUM(Rådata!J1409:L1409)-SUM(Rådata!O1409:P1409))*100)/SUM(Rådata!H1409:L1409))","v":""},{"$f":"IF(ISBLANK(Rådata!R1409),\"\",(Rådata!Q1409*100)/Rådata!R1409)","v":""}]
[{"$f":"IF(ISBLANK(Rådata!A1410)=TRUE,\"\",Rådata!A1410)","v":""},{"$f":"IF(ISBLANK(Rådata!A1410)=TRUE,\"\",YEAR(A1410))","v":""},{"$f":"IF(ISBLANK(Rådata!A1410)=TRUE,\"\",VLOOKUP(MONTH(A1410),Opsætning!$G$3:$H$14,2,FALSE))","v":""},{"$f":"IF(ISBLANK(Rådata!B1410)=TRUE,\"\",(Rådata!C1410*100)/Rådata!B1410)","v":""},{"$f":"IF(ISBLANK(Rådata!D1410)=TRUE,\"\",((Rådata!D1410-Rådata!E1410)*100)/Rådata!D1410)","v":""},{"$f":"IF(ISBLANK(Rådata!G1410)=TRUE,\"\",(Rådata!F1410*100)/Rådata!G1410)","v":""},{"$f":"IF(ISBLANK(Rådata!K1410),\"\",(SUM(Rådata!M1410:P1410)*100)/SUM(Rådata!H1410:K1410))","v":""},{"$f":"IF(ISBLANK(Rådata!H1410),\"\",((SUM(Rådata!J1410:L1410)-SUM(Rådata!O1410:P1410))*100)/SUM(Rådata!H1410:L1410))","v":""},{"$f":"IF(ISBLANK(Rådata!R1410),\"\",(Rådata!Q1410*100)/Rådata!R1410)","v":""}]
[{"$f":"IF(ISBLANK(Rådata!A1411)=TRUE,\"\",Rådata!A1411)","v":""},{"$f":"IF(ISBLANK(Rådata!A1411)=TRUE,\"\",YEAR(A1411))","v":""},{"$f":"IF(ISBLANK(Rådata!A1411)=TRUE,\"\",VLOOKUP(MONTH(A1411),Opsætning!$G$3:$H$14,2,FALSE))","v":""},{"$f":"IF(ISBLANK(Rådata!B1411)=TRUE,\"\",(Rådata!C1411*100)/Rådata!B1411)","v":""},{"$f":"IF(ISBLANK(Rådata!D1411)=TRUE,\"\",((Rådata!D1411-Rådata!E1411)*100)/Rådata!D1411)","v":""},{"$f":"IF(ISBLANK(Rådata!G1411)=TRUE,\"\",(Rådata!F1411*100)/Rådata!G1411)","v":""},{"$f":"IF(ISBLANK(Rådata!K1411),\"\",(SUM(Rådata!M1411:P1411)*100)/SUM(Rådata!H1411:K1411))","v":""},{"$f":"IF(ISBLANK(Rådata!H1411),\"\",((SUM(Rådata!J1411:L1411)-SUM(Rådata!O1411:P1411))*100)/SUM(Rådata!H1411:L1411))","v":""},{"$f":"IF(ISBLANK(Rådata!R1411),\"\",(Rådata!Q1411*100)/Rådata!R1411)","v":""}]
[{"$f":"IF(ISBLANK(Rådata!A1412)=TRUE,\"\",Rådata!A1412)","v":""},{"$f":"IF(ISBLANK(Rådata!A1412)=TRUE,\"\",YEAR(A1412))","v":""},{"$f":"IF(ISBLANK(Rådata!A1412)=TRUE,\"\",VLOOKUP(MONTH(A1412),Opsætning!$G$3:$H$14,2,FALSE))","v":""},{"$f":"IF(ISBLANK(Rådata!B1412)=TRUE,\"\",(Rådata!C1412*100)/Rådata!B1412)","v":""},{"$f":"IF(ISBLANK(Rådata!D1412)=TRUE,\"\",((Rådata!D1412-Rådata!E1412)*100)/Rådata!D1412)","v":""},{"$f":"IF(ISBLANK(Rådata!G1412)=TRUE,\"\",(Rådata!F1412*100)/Rådata!G1412)","v":""},{"$f":"IF(ISBLANK(Rådata!K1412),\"\",(SUM(Rådata!M1412:P1412)*100)/SUM(Rådata!H1412:K1412))","v":""},{"$f":"IF(ISBLANK(Rådata!H1412),\"\",((SUM(Rådata!J1412:L1412)-SUM(Rådata!O1412:P1412))*100)/SUM(Rådata!H1412:L1412))","v":""},{"$f":"IF(ISBLANK(Rådata!R1412),\"\",(Rådata!Q1412*100)/Rådata!R1412)","v":""}]
[{"$f":"IF(ISBLANK(Rådata!A1413)=TRUE,\"\",Rådata!A1413)","v":""},{"$f":"IF(ISBLANK(Rådata!A1413)=TRUE,\"\",YEAR(A1413))","v":""},{"$f":"IF(ISBLANK(Rådata!A1413)=TRUE,\"\",VLOOKUP(MONTH(A1413),Opsætning!$G$3:$H$14,2,FALSE))","v":""},{"$f":"IF(ISBLANK(Rådata!B1413)=TRUE,\"\",(Rådata!C1413*100)/Rådata!B1413)","v":""},{"$f":"IF(ISBLANK(Rådata!D1413)=TRUE,\"\",((Rådata!D1413-Rådata!E1413)*100)/Rådata!D1413)","v":""},{"$f":"IF(ISBLANK(Rådata!G1413)=TRUE,\"\",(Rådata!F1413*100)/Rådata!G1413)","v":""},{"$f":"IF(ISBLANK(Rådata!K1413),\"\",(SUM(Rådata!M1413:P1413)*100)/SUM(Rådata!H1413:K1413))","v":""},{"$f":"IF(ISBLANK(Rådata!H1413),\"\",((SUM(Rådata!J1413:L1413)-SUM(Rådata!O1413:P1413))*100)/SUM(Rådata!H1413:L1413))","v":""},{"$f":"IF(ISBLANK(Rådata!R1413),\"\",(Rådata!Q1413*100)/Rådata!R1413)","v":""}]
[{"$f":"IF(ISBLANK(Rådata!A1414)=TRUE,\"\",Rådata!A1414)","v":""},{"$f":"IF(ISBLANK(Rådata!A1414)=TRUE,\"\",YEAR(A1414))","v":""},{"$f":"IF(ISBLANK(Rådata!A1414)=TRUE,\"\",VLOOKUP(MONTH(A1414),Opsætning!$G$3:$H$14,2,FALSE))","v":""},{"$f":"IF(ISBLANK(Rådata!B1414)=TRUE,\"\",(Rådata!C1414*100)/Rådata!B1414)","v":""},{"$f":"IF(ISBLANK(Rådata!D1414)=TRUE,\"\",((Rådata!D1414-Rådata!E1414)*100)/Rådata!D1414)","v":""},{"$f":"IF(ISBLANK(Rådata!G1414)=TRUE,\"\",(Rådata!F1414*100)/Rådata!G1414)","v":""},{"$f":"IF(ISBLANK(Rådata!K1414),\"\",(SUM(Rådata!M1414:P1414)*100)/SUM(Rådata!H1414:K1414))","v":""},{"$f":"IF(ISBLANK(Rådata!H1414),\"\",((SUM(Rådata!J1414:L1414)-SUM(Rådata!O1414:P1414))*100)/SUM(Rådata!H1414:L1414))","v":""},{"$f":"IF(ISBLANK(Rådata!R1414),\"\",(Rådata!Q1414*100)/Rådata!R1414)","v":""}]
[{"$f":"IF(ISBLANK(Rådata!A1415)=TRUE,\"\",Rådata!A1415)","v":""},{"$f":"IF(ISBLANK(Rådata!A1415)=TRUE,\"\",YEAR(A1415))","v":""},{"$f":"IF(ISBLANK(Rådata!A1415)=TRUE,\"\",VLOOKUP(MONTH(A1415),Opsætning!$G$3:$H$14,2,FALSE))","v":""},{"$f":"IF(ISBLANK(Rådata!B1415)=TRUE,\"\",(Rådata!C1415*100)/Rådata!B1415)","v":""},{"$f":"IF(ISBLANK(Rådata!D1415)=TRUE,\"\",((Rådata!D1415-Rådata!E1415)*100)/Rådata!D1415)","v":""},{"$f":"IF(ISBLANK(Rådata!G1415)=TRUE,\"\",(Rådata!F1415*100)/Rådata!G1415)","v":""},{"$f":"IF(ISBLANK(Rådata!K1415),\"\",(SUM(Rådata!M1415:P1415)*100)/SUM(Rådata!H1415:K1415))","v":""},{"$f":"IF(ISBLANK(Rådata!H1415),\"\",((SUM(Rådata!J1415:L1415)-SUM(Rådata!O1415:P1415))*100)/SUM(Rådata!H1415:L1415))","v":""},{"$f":"IF(ISBLANK(Rådata!R1415),\"\",(Rådata!Q1415*100)/Rådata!R1415)","v":""}]
[{"$f":"IF(ISBLANK(Rådata!A1416)=TRUE,\"\",Rådata!A1416)","v":""},{"$f":"IF(ISBLANK(Rådata!A1416)=TRUE,\"\",YEAR(A1416))","v":""},{"$f":"IF(ISBLANK(Rådata!A1416)=TRUE,\"\",VLOOKUP(MONTH(A1416),Opsætning!$G$3:$H$14,2,FALSE))","v":""},{"$f":"IF(ISBLANK(Rådata!B1416)=TRUE,\"\",(Rådata!C1416*100)/Rådata!B1416)","v":""},{"$f":"IF(ISBLANK(Rådata!D1416)=TRUE,\"\",((Rådata!D1416-Rådata!E1416)*100)/Rådata!D1416)","v":""},{"$f":"IF(ISBLANK(Rådata!G1416)=TRUE,\"\",(Rådata!F1416*100)/Rådata!G1416)","v":""},{"$f":"IF(ISBLANK(Rådata!K1416),\"\",(SUM(Rådata!M1416:P1416)*100)/SUM(Rådata!H1416:K1416))","v":""},{"$f":"IF(ISBLANK(Rådata!H1416),\"\",((SUM(Rådata!J1416:L1416)-SUM(Rådata!O1416:P1416))*100)/SUM(Rådata!H1416:L1416))","v":""},{"$f":"IF(ISBLANK(Rådata!R1416),\"\",(Rådata!Q1416*100)/Rådata!R1416)","v":""}]
[{"$f":"IF(ISBLANK(Rådata!A1417)=TRUE,\"\",Rådata!A1417)","v":""},{"$f":"IF(ISBLANK(Rådata!A1417)=TRUE,\"\",YEAR(A1417))","v":""},{"$f":"IF(ISBLANK(Rådata!A1417)=TRUE,\"\",VLOOKUP(MONTH(A1417),Opsætning!$G$3:$H$14,2,FALSE))","v":""},{"$f":"IF(ISBLANK(Rådata!B1417)=TRUE,\"\",(Rådata!C1417*100)/Rådata!B1417)","v":""},{"$f":"IF(ISBLANK(Rådata!D1417)=TRUE,\"\",((Rådata!D1417-Rådata!E1417)*100)/Rådata!D1417)","v":""},{"$f":"IF(ISBLANK(Rådata!G1417)=TRUE,\"\",(Rådata!F1417*100)/Rådata!G1417)","v":""},{"$f":"IF(ISBLANK(Rådata!K1417),\"\",(SUM(Rådata!M1417:P1417)*100)/SUM(Rådata!H1417:K1417))","v":""},{"$f":"IF(ISBLANK(Rådata!H1417),\"\",((SUM(Rådata!J1417:L1417)-SUM(Rådata!O1417:P1417))*100)/SUM(Rådata!H1417:L1417))","v":""},{"$f":"IF(ISBLANK(Rådata!R1417),\"\",(Rådata!Q1417*100)/Rådata!R1417)","v":""}]
[{"$f":"IF(ISBLANK(Rådata!A1418)=TRUE,\"\",Rådata!A1418)","v":""},{"$f":"IF(ISBLANK(Rådata!A1418)=TRUE,\"\",YEAR(A1418))","v":""},{"$f":"IF(ISBLANK(Rådata!A1418)=TRUE,\"\",VLOOKUP(MONTH(A1418),Opsætning!$G$3:$H$14,2,FALSE))","v":""},{"$f":"IF(ISBLANK(Rådata!B1418)=TRUE,\"\",(Rådata!C1418*100)/Rådata!B1418)","v":""},{"$f":"IF(ISBLANK(Rådata!D1418)=TRUE,\"\",((Rådata!D1418-Rådata!E1418)*100)/Rådata!D1418)","v":""},{"$f":"IF(ISBLANK(Rådata!G1418)=TRUE,\"\",(Rådata!F1418*100)/Rådata!G1418)","v":""},{"$f":"IF(ISBLANK(Rådata!K1418),\"\",(SUM(Rådata!M1418:P1418)*100)/SUM(Rådata!H1418:K1418))","v":""},{"$f":"IF(ISBLANK(Rådata!H1418),\"\",((SUM(Rådata!J1418:L1418)-SUM(Rådata!O1418:P1418))*100)/SUM(Rådata!H1418:L1418))","v":""},{"$f":"IF(ISBLANK(Rådata!R1418),\"\",(Rådata!Q1418*100)/Rådata!R1418)","v":""}]
[{"$f":"IF(ISBLANK(Rådata!A1419)=TRUE,\"\",Rådata!A1419)","v":""},{"$f":"IF(ISBLANK(Rådata!A1419)=TRUE,\"\",YEAR(A1419))","v":""},{"$f":"IF(ISBLANK(Rådata!A1419)=TRUE,\"\",VLOOKUP(MONTH(A1419),Opsætning!$G$3:$H$14,2,FALSE))","v":""},{"$f":"IF(ISBLANK(Rådata!B1419)=TRUE,\"\",(Rådata!C1419*100)/Rådata!B1419)","v":""},{"$f":"IF(ISBLANK(Rådata!D1419)=TRUE,\"\",((Rådata!D1419-Rådata!E1419)*100)/Rådata!D1419)","v":""},{"$f":"IF(ISBLANK(Rådata!G1419)=TRUE,\"\",(Rådata!F1419*100)/Rådata!G1419)","v":""},{"$f":"IF(ISBLANK(Rådata!K1419),\"\",(SUM(Rådata!M1419:P1419)*100)/SUM(Rådata!H1419:K1419))","v":""},{"$f":"IF(ISBLANK(Rådata!H1419),\"\",((SUM(Rådata!J1419:L1419)-SUM(Rådata!O1419:P1419))*100)/SUM(Rådata!H1419:L1419))","v":""},{"$f":"IF(ISBLANK(Rådata!R1419),\"\",(Rådata!Q1419*100)/Rådata!R1419)","v":""}]
[{"$f":"IF(ISBLANK(Rådata!A1420)=TRUE,\"\",Rådata!A1420)","v":""},{"$f":"IF(ISBLANK(Rådata!A1420)=TRUE,\"\",YEAR(A1420))","v":""},{"$f":"IF(ISBLANK(Rådata!A1420)=TRUE,\"\",VLOOKUP(MONTH(A1420),Opsætning!$G$3:$H$14,2,FALSE))","v":""},{"$f":"IF(ISBLANK(Rådata!B1420)=TRUE,\"\",(Rådata!C1420*100)/Rådata!B1420)","v":""},{"$f":"IF(ISBLANK(Rådata!D1420)=TRUE,\"\",((Rådata!D1420-Rådata!E1420)*100)/Rådata!D1420)","v":""},{"$f":"IF(ISBLANK(Rådata!G1420)=TRUE,\"\",(Rådata!F1420*100)/Rådata!G1420)","v":""},{"$f":"IF(ISBLANK(Rådata!K1420),\"\",(SUM(Rådata!M1420:P1420)*100)/SUM(Rådata!H1420:K1420))","v":""},{"$f":"IF(ISBLANK(Rådata!H1420),\"\",((SUM(Rådata!J1420:L1420)-SUM(Rådata!O1420:P1420))*100)/SUM(Rådata!H1420:L1420))","v":""},{"$f":"IF(ISBLANK(Rådata!R1420),\"\",(Rådata!Q1420*100)/Rådata!R1420)","v":""}]
[{"$f":"IF(ISBLANK(Rådata!A1421)=TRUE,\"\",Rådata!A1421)","v":""},{"$f":"IF(ISBLANK(Rådata!A1421)=TRUE,\"\",YEAR(A1421))","v":""},{"$f":"IF(ISBLANK(Rådata!A1421)=TRUE,\"\",VLOOKUP(MONTH(A1421),Opsætning!$G$3:$H$14,2,FALSE))","v":""},{"$f":"IF(ISBLANK(Rådata!B1421)=TRUE,\"\",(Rådata!C1421*100)/Rådata!B1421)","v":""},{"$f":"IF(ISBLANK(Rådata!D1421)=TRUE,\"\",((Rådata!D1421-Rådata!E1421)*100)/Rådata!D1421)","v":""},{"$f":"IF(ISBLANK(Rådata!G1421)=TRUE,\"\",(Rådata!F1421*100)/Rådata!G1421)","v":""},{"$f":"IF(ISBLANK(Rådata!K1421),\"\",(SUM(Rådata!M1421:P1421)*100)/SUM(Rådata!H1421:K1421))","v":""},{"$f":"IF(ISBLANK(Rådata!H1421),\"\",((SUM(Rådata!J1421:L1421)-SUM(Rådata!O1421:P1421))*100)/SUM(Rådata!H1421:L1421))","v":""},{"$f":"IF(ISBLANK(Rådata!R1421),\"\",(Rådata!Q1421*100)/Rådata!R1421)","v":""}]
[{"$f":"IF(ISBLANK(Rådata!A1422)=TRUE,\"\",Rådata!A1422)","v":""},{"$f":"IF(ISBLANK(Rådata!A1422)=TRUE,\"\",YEAR(A1422))","v":""},{"$f":"IF(ISBLANK(Rådata!A1422)=TRUE,\"\",VLOOKUP(MONTH(A1422),Opsætning!$G$3:$H$14,2,FALSE))","v":""},{"$f":"IF(ISBLANK(Rådata!B1422)=TRUE,\"\",(Rådata!C1422*100)/Rådata!B1422)","v":""},{"$f":"IF(ISBLANK(Rådata!D1422)=TRUE,\"\",((Rådata!D1422-Rådata!E1422)*100)/Rådata!D1422)","v":""},{"$f":"IF(ISBLANK(Rådata!G1422)=TRUE,\"\",(Rådata!F1422*100)/Rådata!G1422)","v":""},{"$f":"IF(ISBLANK(Rådata!K1422),\"\",(SUM(Rådata!M1422:P1422)*100)/SUM(Rådata!H1422:K1422))","v":""},{"$f":"IF(ISBLANK(Rådata!H1422),\"\",((SUM(Rådata!J1422:L1422)-SUM(Rådata!O1422:P1422))*100)/SUM(Rådata!H1422:L1422))","v":""},{"$f":"IF(ISBLANK(Rådata!R1422),\"\",(Rådata!Q1422*100)/Rådata!R1422)","v":""}]
[{"$f":"IF(ISBLANK(Rådata!A1423)=TRUE,\"\",Rådata!A1423)","v":""},{"$f":"IF(ISBLANK(Rådata!A1423)=TRUE,\"\",YEAR(A1423))","v":""},{"$f":"IF(ISBLANK(Rådata!A1423)=TRUE,\"\",VLOOKUP(MONTH(A1423),Opsætning!$G$3:$H$14,2,FALSE))","v":""},{"$f":"IF(ISBLANK(Rådata!B1423)=TRUE,\"\",(Rådata!C1423*100)/Rådata!B1423)","v":""},{"$f":"IF(ISBLANK(Rådata!D1423)=TRUE,\"\",((Rådata!D1423-Rådata!E1423)*100)/Rådata!D1423)","v":""},{"$f":"IF(ISBLANK(Rådata!G1423)=TRUE,\"\",(Rådata!F1423*100)/Rådata!G1423)","v":""},{"$f":"IF(ISBLANK(Rådata!K1423),\"\",(SUM(Rådata!M1423:P1423)*100)/SUM(Rådata!H1423:K1423))","v":""},{"$f":"IF(ISBLANK(Rådata!H1423),\"\",((SUM(Rådata!J1423:L1423)-SUM(Rådata!O1423:P1423))*100)/SUM(Rådata!H1423:L1423))","v":""},{"$f":"IF(ISBLANK(Rådata!R1423),\"\",(Rådata!Q1423*100)/Rådata!R1423)","v":""}]
[{"$f":"IF(ISBLANK(Rådata!A1424)=TRUE,\"\",Rådata!A1424)","v":""},{"$f":"IF(ISBLANK(Rådata!A1424)=TRUE,\"\",YEAR(A1424))","v":""},{"$f":"IF(ISBLANK(Rådata!A1424)=TRUE,\"\",VLOOKUP(MONTH(A1424),Opsætning!$G$3:$H$14,2,FALSE))","v":""},{"$f":"IF(ISBLANK(Rådata!B1424)=TRUE,\"\",(Rådata!C1424*100)/Rådata!B1424)","v":""},{"$f":"IF(ISBLANK(Rådata!D1424)=TRUE,\"\",((Rådata!D1424-Rådata!E1424)*100)/Rådata!D1424)","v":""},{"$f":"IF(ISBLANK(Rådata!G1424)=TRUE,\"\",(Rådata!F1424*100)/Rådata!G1424)","v":""},{"$f":"IF(ISBLANK(Rådata!K1424),\"\",(SUM(Rådata!M1424:P1424)*100)/SUM(Rådata!H1424:K1424))","v":""},{"$f":"IF(ISBLANK(Rådata!H1424),\"\",((SUM(Rådata!J1424:L1424)-SUM(Rådata!O1424:P1424))*100)/SUM(Rådata!H1424:L1424))","v":""},{"$f":"IF(ISBLANK(Rådata!R1424),\"\",(Rådata!Q1424*100)/Rådata!R1424)","v":""}]
[{"$f":"IF(ISBLANK(Rådata!A1425)=TRUE,\"\",Rådata!A1425)","v":""},{"$f":"IF(ISBLANK(Rådata!A1425)=TRUE,\"\",YEAR(A1425))","v":""},{"$f":"IF(ISBLANK(Rådata!A1425)=TRUE,\"\",VLOOKUP(MONTH(A1425),Opsætning!$G$3:$H$14,2,FALSE))","v":""},{"$f":"IF(ISBLANK(Rådata!B1425)=TRUE,\"\",(Rådata!C1425*100)/Rådata!B1425)","v":""},{"$f":"IF(ISBLANK(Rådata!D1425)=TRUE,\"\",((Rådata!D1425-Rådata!E1425)*100)/Rådata!D1425)","v":""},{"$f":"IF(ISBLANK(Rådata!G1425)=TRUE,\"\",(Rådata!F1425*100)/Rådata!G1425)","v":""},{"$f":"IF(ISBLANK(Rådata!K1425),\"\",(SUM(Rådata!M1425:P1425)*100)/SUM(Rådata!H1425:K1425))","v":""},{"$f":"IF(ISBLANK(Rådata!H1425),\"\",((SUM(Rådata!J1425:L1425)-SUM(Rådata!O1425:P1425))*100)/SUM(Rådata!H1425:L1425))","v":""},{"$f":"IF(ISBLANK(Rådata!R1425),\"\",(Rådata!Q1425*100)/Rådata!R1425)","v":""}]
[{"$f":"IF(ISBLANK(Rådata!A1426)=TRUE,\"\",Rådata!A1426)","v":""},{"$f":"IF(ISBLANK(Rådata!A1426)=TRUE,\"\",YEAR(A1426))","v":""},{"$f":"IF(ISBLANK(Rådata!A1426)=TRUE,\"\",VLOOKUP(MONTH(A1426),Opsætning!$G$3:$H$14,2,FALSE))","v":""},{"$f":"IF(ISBLANK(Rådata!B1426)=TRUE,\"\",(Rådata!C1426*100)/Rådata!B1426)","v":""},{"$f":"IF(ISBLANK(Rådata!D1426)=TRUE,\"\",((Rådata!D1426-Rådata!E1426)*100)/Rådata!D1426)","v":""},{"$f":"IF(ISBLANK(Rådata!G1426)=TRUE,\"\",(Rådata!F1426*100)/Rådata!G1426)","v":""},{"$f":"IF(ISBLANK(Rådata!K1426),\"\",(SUM(Rådata!M1426:P1426)*100)/SUM(Rådata!H1426:K1426))","v":""},{"$f":"IF(ISBLANK(Rådata!H1426),\"\",((SUM(Rådata!J1426:L1426)-SUM(Rådata!O1426:P1426))*100)/SUM(Rådata!H1426:L1426))","v":""},{"$f":"IF(ISBLANK(Rådata!R1426),\"\",(Rådata!Q1426*100)/Rådata!R1426)","v":""}]
[{"$f":"IF(ISBLANK(Rådata!A1427)=TRUE,\"\",Rådata!A1427)","v":""},{"$f":"IF(ISBLANK(Rådata!A1427)=TRUE,\"\",YEAR(A1427))","v":""},{"$f":"IF(ISBLANK(Rådata!A1427)=TRUE,\"\",VLOOKUP(MONTH(A1427),Opsætning!$G$3:$H$14,2,FALSE))","v":""},{"$f":"IF(ISBLANK(Rådata!B1427)=TRUE,\"\",(Rådata!C1427*100)/Rådata!B1427)","v":""},{"$f":"IF(ISBLANK(Rådata!D1427)=TRUE,\"\",((Rådata!D1427-Rådata!E1427)*100)/Rådata!D1427)","v":""},{"$f":"IF(ISBLANK(Rådata!G1427)=TRUE,\"\",(Rådata!F1427*100)/Rådata!G1427)","v":""},{"$f":"IF(ISBLANK(Rådata!K1427),\"\",(SUM(Rådata!M1427:P1427)*100)/SUM(Rådata!H1427:K1427))","v":""},{"$f":"IF(ISBLANK(Rådata!H1427),\"\",((SUM(Rådata!J1427:L1427)-SUM(Rådata!O1427:P1427))*100)/SUM(Rådata!H1427:L1427))","v":""},{"$f":"IF(ISBLANK(Rådata!R1427),\"\",(Rådata!Q1427*100)/Rådata!R1427)","v":""}]
[{"$f":"IF(ISBLANK(Rådata!A1428)=TRUE,\"\",Rådata!A1428)","v":""},{"$f":"IF(ISBLANK(Rådata!A1428)=TRUE,\"\",YEAR(A1428))","v":""},{"$f":"IF(ISBLANK(Rådata!A1428)=TRUE,\"\",VLOOKUP(MONTH(A1428),Opsætning!$G$3:$H$14,2,FALSE))","v":""},{"$f":"IF(ISBLANK(Rådata!B1428)=TRUE,\"\",(Rådata!C1428*100)/Rådata!B1428)","v":""},{"$f":"IF(ISBLANK(Rådata!D1428)=TRUE,\"\",((Rådata!D1428-Rådata!E1428)*100)/Rådata!D1428)","v":""},{"$f":"IF(ISBLANK(Rådata!G1428)=TRUE,\"\",(Rådata!F1428*100)/Rådata!G1428)","v":""},{"$f":"IF(ISBLANK(Rådata!K1428),\"\",(SUM(Rådata!M1428:P1428)*100)/SUM(Rådata!H1428:K1428))","v":""},{"$f":"IF(ISBLANK(Rådata!H1428),\"\",((SUM(Rådata!J1428:L1428)-SUM(Rådata!O1428:P1428))*100)/SUM(Rådata!H1428:L1428))","v":""},{"$f":"IF(ISBLANK(Rådata!R1428),\"\",(Rådata!Q1428*100)/Rådata!R1428)","v":""}]
[{"$f":"IF(ISBLANK(Rådata!A1429)=TRUE,\"\",Rådata!A1429)","v":""},{"$f":"IF(ISBLANK(Rådata!A1429)=TRUE,\"\",YEAR(A1429))","v":""},{"$f":"IF(ISBLANK(Rådata!A1429)=TRUE,\"\",VLOOKUP(MONTH(A1429),Opsætning!$G$3:$H$14,2,FALSE))","v":""},{"$f":"IF(ISBLANK(Rådata!B1429)=TRUE,\"\",(Rådata!C1429*100)/Rådata!B1429)","v":""},{"$f":"IF(ISBLANK(Rådata!D1429)=TRUE,\"\",((Rådata!D1429-Rådata!E1429)*100)/Rådata!D1429)","v":""},{"$f":"IF(ISBLANK(Rådata!G1429)=TRUE,\"\",(Rådata!F1429*100)/Rådata!G1429)","v":""},{"$f":"IF(ISBLANK(Rådata!K1429),\"\",(SUM(Rådata!M1429:P1429)*100)/SUM(Rådata!H1429:K1429))","v":""},{"$f":"IF(ISBLANK(Rådata!H1429),\"\",((SUM(Rådata!J1429:L1429)-SUM(Rådata!O1429:P1429))*100)/SUM(Rådata!H1429:L1429))","v":""},{"$f":"IF(ISBLANK(Rådata!R1429),\"\",(Rådata!Q1429*100)/Rådata!R1429)","v":""}]
[{"$f":"IF(ISBLANK(Rådata!A1430)=TRUE,\"\",Rådata!A1430)","v":""},{"$f":"IF(ISBLANK(Rådata!A1430)=TRUE,\"\",YEAR(A1430))","v":""},{"$f":"IF(ISBLANK(Rådata!A1430)=TRUE,\"\",VLOOKUP(MONTH(A1430),Opsætning!$G$3:$H$14,2,FALSE))","v":""},{"$f":"IF(ISBLANK(Rådata!B1430)=TRUE,\"\",(Rådata!C1430*100)/Rådata!B1430)","v":""},{"$f":"IF(ISBLANK(Rådata!D1430)=TRUE,\"\",((Rådata!D1430-Rådata!E1430)*100)/Rådata!D1430)","v":""},{"$f":"IF(ISBLANK(Rådata!G1430)=TRUE,\"\",(Rådata!F1430*100)/Rådata!G1430)","v":""},{"$f":"IF(ISBLANK(Rådata!K1430),\"\",(SUM(Rådata!M1430:P1430)*100)/SUM(Rådata!H1430:K1430))","v":""},{"$f":"IF(ISBLANK(Rådata!H1430),\"\",((SUM(Rådata!J1430:L1430)-SUM(Rådata!O1430:P1430))*100)/SUM(Rådata!H1430:L1430))","v":""},{"$f":"IF(ISBLANK(Rådata!R1430),\"\",(Rådata!Q1430*100)/Rådata!R1430)","v":""}]
[{"$f":"IF(ISBLANK(Rådata!A1431)=TRUE,\"\",Rådata!A1431)","v":""},{"$f":"IF(ISBLANK(Rådata!A1431)=TRUE,\"\",YEAR(A1431))","v":""},{"$f":"IF(ISBLANK(Rådata!A1431)=TRUE,\"\",VLOOKUP(MONTH(A1431),Opsætning!$G$3:$H$14,2,FALSE))","v":""},{"$f":"IF(ISBLANK(Rådata!B1431)=TRUE,\"\",(Rådata!C1431*100)/Rådata!B1431)","v":""},{"$f":"IF(ISBLANK(Rådata!D1431)=TRUE,\"\",((Rådata!D1431-Rådata!E1431)*100)/Rådata!D1431)","v":""},{"$f":"IF(ISBLANK(Rådata!G1431)=TRUE,\"\",(Rådata!F1431*100)/Rådata!G1431)","v":""},{"$f":"IF(ISBLANK(Rådata!K1431),\"\",(SUM(Rådata!M1431:P1431)*100)/SUM(Rådata!H1431:K1431))","v":""},{"$f":"IF(ISBLANK(Rådata!H1431),\"\",((SUM(Rådata!J1431:L1431)-SUM(Rådata!O1431:P1431))*100)/SUM(Rådata!H1431:L1431))","v":""},{"$f":"IF(ISBLANK(Rådata!R1431),\"\",(Rådata!Q1431*100)/Rådata!R1431)","v":""}]
[{"$f":"IF(ISBLANK(Rådata!A1432)=TRUE,\"\",Rådata!A1432)","v":""},{"$f":"IF(ISBLANK(Rådata!A1432)=TRUE,\"\",YEAR(A1432))","v":""},{"$f":"IF(ISBLANK(Rådata!A1432)=TRUE,\"\",VLOOKUP(MONTH(A1432),Opsætning!$G$3:$H$14,2,FALSE))","v":""},{"$f":"IF(ISBLANK(Rådata!B1432)=TRUE,\"\",(Rådata!C1432*100)/Rådata!B1432)","v":""},{"$f":"IF(ISBLANK(Rådata!D1432)=TRUE,\"\",((Rådata!D1432-Rådata!E1432)*100)/Rådata!D1432)","v":""},{"$f":"IF(ISBLANK(Rådata!G1432)=TRUE,\"\",(Rådata!F1432*100)/Rådata!G1432)","v":""},{"$f":"IF(ISBLANK(Rådata!K1432),\"\",(SUM(Rådata!M1432:P1432)*100)/SUM(Rådata!H1432:K1432))","v":""},{"$f":"IF(ISBLANK(Rådata!H1432),\"\",((SUM(Rådata!J1432:L1432)-SUM(Rådata!O1432:P1432))*100)/SUM(Rådata!H1432:L1432))","v":""},{"$f":"IF(ISBLANK(Rådata!R1432),\"\",(Rådata!Q1432*100)/Rådata!R1432)","v":""}]
[{"$f":"IF(ISBLANK(Rådata!A1433)=TRUE,\"\",Rådata!A1433)","v":""},{"$f":"IF(ISBLANK(Rådata!A1433)=TRUE,\"\",YEAR(A1433))","v":""},{"$f":"IF(ISBLANK(Rådata!A1433)=TRUE,\"\",VLOOKUP(MONTH(A1433),Opsætning!$G$3:$H$14,2,FALSE))","v":""},{"$f":"IF(ISBLANK(Rådata!B1433)=TRUE,\"\",(Rådata!C1433*100)/Rådata!B1433)","v":""},{"$f":"IF(ISBLANK(Rådata!D1433)=TRUE,\"\",((Rådata!D1433-Rådata!E1433)*100)/Rådata!D1433)","v":""},{"$f":"IF(ISBLANK(Rådata!G1433)=TRUE,\"\",(Rådata!F1433*100)/Rådata!G1433)","v":""},{"$f":"IF(ISBLANK(Rådata!K1433),\"\",(SUM(Rådata!M1433:P1433)*100)/SUM(Rådata!H1433:K1433))","v":""},{"$f":"IF(ISBLANK(Rådata!H1433),\"\",((SUM(Rådata!J1433:L1433)-SUM(Rådata!O1433:P1433))*100)/SUM(Rådata!H1433:L1433))","v":""},{"$f":"IF(ISBLANK(Rådata!R1433),\"\",(Rådata!Q1433*100)/Rådata!R1433)","v":""}]
[{"$f":"IF(ISBLANK(Rådata!A1434)=TRUE,\"\",Rådata!A1434)","v":""},{"$f":"IF(ISBLANK(Rådata!A1434)=TRUE,\"\",YEAR(A1434))","v":""},{"$f":"IF(ISBLANK(Rådata!A1434)=TRUE,\"\",VLOOKUP(MONTH(A1434),Opsætning!$G$3:$H$14,2,FALSE))","v":""},{"$f":"IF(ISBLANK(Rådata!B1434)=TRUE,\"\",(Rådata!C1434*100)/Rådata!B1434)","v":""},{"$f":"IF(ISBLANK(Rådata!D1434)=TRUE,\"\",((Rådata!D1434-Rådata!E1434)*100)/Rådata!D1434)","v":""},{"$f":"IF(ISBLANK(Rådata!G1434)=TRUE,\"\",(Rådata!F1434*100)/Rådata!G1434)","v":""},{"$f":"IF(ISBLANK(Rådata!K1434),\"\",(SUM(Rådata!M1434:P1434)*100)/SUM(Rådata!H1434:K1434))","v":""},{"$f":"IF(ISBLANK(Rådata!H1434),\"\",((SUM(Rådata!J1434:L1434)-SUM(Rådata!O1434:P1434))*100)/SUM(Rådata!H1434:L1434))","v":""},{"$f":"IF(ISBLANK(Rådata!R1434),\"\",(Rådata!Q1434*100)/Rådata!R1434)","v":""}]
[{"$f":"IF(ISBLANK(Rådata!A1435)=TRUE,\"\",Rådata!A1435)","v":""},{"$f":"IF(ISBLANK(Rådata!A1435)=TRUE,\"\",YEAR(A1435))","v":""},{"$f":"IF(ISBLANK(Rådata!A1435)=TRUE,\"\",VLOOKUP(MONTH(A1435),Opsætning!$G$3:$H$14,2,FALSE))","v":""},{"$f":"IF(ISBLANK(Rådata!B1435)=TRUE,\"\",(Rådata!C1435*100)/Rådata!B1435)","v":""},{"$f":"IF(ISBLANK(Rådata!D1435)=TRUE,\"\",((Rådata!D1435-Rådata!E1435)*100)/Rådata!D1435)","v":""},{"$f":"IF(ISBLANK(Rådata!G1435)=TRUE,\"\",(Rådata!F1435*100)/Rådata!G1435)","v":""},{"$f":"IF(ISBLANK(Rådata!K1435),\"\",(SUM(Rådata!M1435:P1435)*100)/SUM(Rådata!H1435:K1435))","v":""},{"$f":"IF(ISBLANK(Rådata!H1435),\"\",((SUM(Rådata!J1435:L1435)-SUM(Rådata!O1435:P1435))*100)/SUM(Rådata!H1435:L1435))","v":""},{"$f":"IF(ISBLANK(Rådata!R1435),\"\",(Rådata!Q1435*100)/Rådata!R1435)","v":""}]
[{"$f":"IF(ISBLANK(Rådata!A1436)=TRUE,\"\",Rådata!A1436)","v":""},{"$f":"IF(ISBLANK(Rådata!A1436)=TRUE,\"\",YEAR(A1436))","v":""},{"$f":"IF(ISBLANK(Rådata!A1436)=TRUE,\"\",VLOOKUP(MONTH(A1436),Opsætning!$G$3:$H$14,2,FALSE))","v":""},{"$f":"IF(ISBLANK(Rådata!B1436)=TRUE,\"\",(Rådata!C1436*100)/Rådata!B1436)","v":""},{"$f":"IF(ISBLANK(Rådata!D1436)=TRUE,\"\",((Rådata!D1436-Rådata!E1436)*100)/Rådata!D1436)","v":""},{"$f":"IF(ISBLANK(Rådata!G1436)=TRUE,\"\",(Rådata!F1436*100)/Rådata!G1436)","v":""},{"$f":"IF(ISBLANK(Rådata!K1436),\"\",(SUM(Rådata!M1436:P1436)*100)/SUM(Rådata!H1436:K1436))","v":""},{"$f":"IF(ISBLANK(Rådata!H1436),\"\",((SUM(Rådata!J1436:L1436)-SUM(Rådata!O1436:P1436))*100)/SUM(Rådata!H1436:L1436))","v":""},{"$f":"IF(ISBLANK(Rådata!R1436),\"\",(Rådata!Q1436*100)/Rådata!R1436)","v":""}]
[{"$f":"IF(ISBLANK(Rådata!A1437)=TRUE,\"\",Rådata!A1437)","v":""},{"$f":"IF(ISBLANK(Rådata!A1437)=TRUE,\"\",YEAR(A1437))","v":""},{"$f":"IF(ISBLANK(Rådata!A1437)=TRUE,\"\",VLOOKUP(MONTH(A1437),Opsætning!$G$3:$H$14,2,FALSE))","v":""},{"$f":"IF(ISBLANK(Rådata!B1437)=TRUE,\"\",(Rådata!C1437*100)/Rådata!B1437)","v":""},{"$f":"IF(ISBLANK(Rådata!D1437)=TRUE,\"\",((Rådata!D1437-Rådata!E1437)*100)/Rådata!D1437)","v":""},{"$f":"IF(ISBLANK(Rådata!G1437)=TRUE,\"\",(Rådata!F1437*100)/Rådata!G1437)","v":""},{"$f":"IF(ISBLANK(Rådata!K1437),\"\",(SUM(Rådata!M1437:P1437)*100)/SUM(Rådata!H1437:K1437))","v":""},{"$f":"IF(ISBLANK(Rådata!H1437),\"\",((SUM(Rådata!J1437:L1437)-SUM(Rådata!O1437:P1437))*100)/SUM(Rådata!H1437:L1437))","v":""},{"$f":"IF(ISBLANK(Rådata!R1437),\"\",(Rådata!Q1437*100)/Rådata!R1437)","v":""}]
[{"$f":"IF(ISBLANK(Rådata!A1438)=TRUE,\"\",Rådata!A1438)","v":""},{"$f":"IF(ISBLANK(Rådata!A1438)=TRUE,\"\",YEAR(A1438))","v":""},{"$f":"IF(ISBLANK(Rådata!A1438)=TRUE,\"\",VLOOKUP(MONTH(A1438),Opsætning!$G$3:$H$14,2,FALSE))","v":""},{"$f":"IF(ISBLANK(Rådata!B1438)=TRUE,\"\",(Rådata!C1438*100)/Rådata!B1438)","v":""},{"$f":"IF(ISBLANK(Rådata!D1438)=TRUE,\"\",((Rådata!D1438-Rådata!E1438)*100)/Rådata!D1438)","v":""},{"$f":"IF(ISBLANK(Rådata!G1438)=TRUE,\"\",(Rådata!F1438*100)/Rådata!G1438)","v":""},{"$f":"IF(ISBLANK(Rådata!K1438),\"\",(SUM(Rådata!M1438:P1438)*100)/SUM(Rådata!H1438:K1438))","v":""},{"$f":"IF(ISBLANK(Rådata!H1438),\"\",((SUM(Rådata!J1438:L1438)-SUM(Rådata!O1438:P1438))*100)/SUM(Rådata!H1438:L1438))","v":""},{"$f":"IF(ISBLANK(Rådata!R1438),\"\",(Rådata!Q1438*100)/Rådata!R1438)","v":""}]
[{"$f":"IF(ISBLANK(Rådata!A1439)=TRUE,\"\",Rådata!A1439)","v":""},{"$f":"IF(ISBLANK(Rådata!A1439)=TRUE,\"\",YEAR(A1439))","v":""},{"$f":"IF(ISBLANK(Rådata!A1439)=TRUE,\"\",VLOOKUP(MONTH(A1439),Opsætning!$G$3:$H$14,2,FALSE))","v":""},{"$f":"IF(ISBLANK(Rådata!B1439)=TRUE,\"\",(Rådata!C1439*100)/Rådata!B1439)","v":""},{"$f":"IF(ISBLANK(Rådata!D1439)=TRUE,\"\",((Rådata!D1439-Rådata!E1439)*100)/Rådata!D1439)","v":""},{"$f":"IF(ISBLANK(Rådata!G1439)=TRUE,\"\",(Rådata!F1439*100)/Rådata!G1439)","v":""},{"$f":"IF(ISBLANK(Rådata!K1439),\"\",(SUM(Rådata!M1439:P1439)*100)/SUM(Rådata!H1439:K1439))","v":""},{"$f":"IF(ISBLANK(Rådata!H1439),\"\",((SUM(Rådata!J1439:L1439)-SUM(Rådata!O1439:P1439))*100)/SUM(Rådata!H1439:L1439))","v":""},{"$f":"IF(ISBLANK(Rådata!R1439),\"\",(Rådata!Q1439*100)/Rådata!R1439)","v":""}]
[{"$f":"IF(ISBLANK(Rådata!A1440)=TRUE,\"\",Rådata!A1440)","v":""},{"$f":"IF(ISBLANK(Rådata!A1440)=TRUE,\"\",YEAR(A1440))","v":""},{"$f":"IF(ISBLANK(Rådata!A1440)=TRUE,\"\",VLOOKUP(MONTH(A1440),Opsætning!$G$3:$H$14,2,FALSE))","v":""},{"$f":"IF(ISBLANK(Rådata!B1440)=TRUE,\"\",(Rådata!C1440*100)/Rådata!B1440)","v":""},{"$f":"IF(ISBLANK(Rådata!D1440)=TRUE,\"\",((Rådata!D1440-Rådata!E1440)*100)/Rådata!D1440)","v":""},{"$f":"IF(ISBLANK(Rådata!G1440)=TRUE,\"\",(Rådata!F1440*100)/Rådata!G1440)","v":""},{"$f":"IF(ISBLANK(Rådata!K1440),\"\",(SUM(Rådata!M1440:P1440)*100)/SUM(Rådata!H1440:K1440))","v":""},{"$f":"IF(ISBLANK(Rådata!H1440),\"\",((SUM(Rådata!J1440:L1440)-SUM(Rådata!O1440:P1440))*100)/SUM(Rådata!H1440:L1440))","v":""},{"$f":"IF(ISBLANK(Rådata!R1440),\"\",(Rådata!Q1440*100)/Rådata!R1440)","v":""}]
[{"$f":"IF(ISBLANK(Rådata!A1441)=TRUE,\"\",Rådata!A1441)","v":""},{"$f":"IF(ISBLANK(Rådata!A1441)=TRUE,\"\",YEAR(A1441))","v":""},{"$f":"IF(ISBLANK(Rådata!A1441)=TRUE,\"\",VLOOKUP(MONTH(A1441),Opsætning!$G$3:$H$14,2,FALSE))","v":""},{"$f":"IF(ISBLANK(Rådata!B1441)=TRUE,\"\",(Rådata!C1441*100)/Rådata!B1441)","v":""},{"$f":"IF(ISBLANK(Rådata!D1441)=TRUE,\"\",((Rådata!D1441-Rådata!E1441)*100)/Rådata!D1441)","v":""},{"$f":"IF(ISBLANK(Rådata!G1441)=TRUE,\"\",(Rådata!F1441*100)/Rådata!G1441)","v":""},{"$f":"IF(ISBLANK(Rådata!K1441),\"\",(SUM(Rådata!M1441:P1441)*100)/SUM(Rådata!H1441:K1441))","v":""},{"$f":"IF(ISBLANK(Rådata!H1441),\"\",((SUM(Rådata!J1441:L1441)-SUM(Rådata!O1441:P1441))*100)/SUM(Rådata!H1441:L1441))","v":""},{"$f":"IF(ISBLANK(Rådata!R1441),\"\",(Rådata!Q1441*100)/Rådata!R1441)","v":""}]
[{"$f":"IF(ISBLANK(Rådata!A1442)=TRUE,\"\",Rådata!A1442)","v":""},{"$f":"IF(ISBLANK(Rådata!A1442)=TRUE,\"\",YEAR(A1442))","v":""},{"$f":"IF(ISBLANK(Rådata!A1442)=TRUE,\"\",VLOOKUP(MONTH(A1442),Opsætning!$G$3:$H$14,2,FALSE))","v":""},{"$f":"IF(ISBLANK(Rådata!B1442)=TRUE,\"\",(Rådata!C1442*100)/Rådata!B1442)","v":""},{"$f":"IF(ISBLANK(Rådata!D1442)=TRUE,\"\",((Rådata!D1442-Rådata!E1442)*100)/Rådata!D1442)","v":""},{"$f":"IF(ISBLANK(Rådata!G1442)=TRUE,\"\",(Rådata!F1442*100)/Rådata!G1442)","v":""},{"$f":"IF(ISBLANK(Rådata!K1442),\"\",(SUM(Rådata!M1442:P1442)*100)/SUM(Rådata!H1442:K1442))","v":""},{"$f":"IF(ISBLANK(Rådata!H1442),\"\",((SUM(Rådata!J1442:L1442)-SUM(Rådata!O1442:P1442))*100)/SUM(Rådata!H1442:L1442))","v":""},{"$f":"IF(ISBLANK(Rådata!R1442),\"\",(Rådata!Q1442*100)/Rådata!R1442)","v":""}]
[{"$f":"IF(ISBLANK(Rådata!A1443)=TRUE,\"\",Rådata!A1443)","v":""},{"$f":"IF(ISBLANK(Rådata!A1443)=TRUE,\"\",YEAR(A1443))","v":""},{"$f":"IF(ISBLANK(Rådata!A1443)=TRUE,\"\",VLOOKUP(MONTH(A1443),Opsætning!$G$3:$H$14,2,FALSE))","v":""},{"$f":"IF(ISBLANK(Rådata!B1443)=TRUE,\"\",(Rådata!C1443*100)/Rådata!B1443)","v":""},{"$f":"IF(ISBLANK(Rådata!D1443)=TRUE,\"\",((Rådata!D1443-Rådata!E1443)*100)/Rådata!D1443)","v":""},{"$f":"IF(ISBLANK(Rådata!G1443)=TRUE,\"\",(Rådata!F1443*100)/Rådata!G1443)","v":""},{"$f":"IF(ISBLANK(Rådata!K1443),\"\",(SUM(Rådata!M1443:P1443)*100)/SUM(Rådata!H1443:K1443))","v":""},{"$f":"IF(ISBLANK(Rådata!H1443),\"\",((SUM(Rådata!J1443:L1443)-SUM(Rådata!O1443:P1443))*100)/SUM(Rådata!H1443:L1443))","v":""},{"$f":"IF(ISBLANK(Rådata!R1443),\"\",(Rådata!Q1443*100)/Rådata!R1443)","v":""}]
[{"$f":"IF(ISBLANK(Rådata!A1444)=TRUE,\"\",Rådata!A1444)","v":""},{"$f":"IF(ISBLANK(Rådata!A1444)=TRUE,\"\",YEAR(A1444))","v":""},{"$f":"IF(ISBLANK(Rådata!A1444)=TRUE,\"\",VLOOKUP(MONTH(A1444),Opsætning!$G$3:$H$14,2,FALSE))","v":""},{"$f":"IF(ISBLANK(Rådata!B1444)=TRUE,\"\",(Rådata!C1444*100)/Rådata!B1444)","v":""},{"$f":"IF(ISBLANK(Rådata!D1444)=TRUE,\"\",((Rådata!D1444-Rådata!E1444)*100)/Rådata!D1444)","v":""},{"$f":"IF(ISBLANK(Rådata!G1444)=TRUE,\"\",(Rådata!F1444*100)/Rådata!G1444)","v":""},{"$f":"IF(ISBLANK(Rådata!K1444),\"\",(SUM(Rådata!M1444:P1444)*100)/SUM(Rådata!H1444:K1444))","v":""},{"$f":"IF(ISBLANK(Rådata!H1444),\"\",((SUM(Rådata!J1444:L1444)-SUM(Rådata!O1444:P1444))*100)/SUM(Rådata!H1444:L1444))","v":""},{"$f":"IF(ISBLANK(Rådata!R1444),\"\",(Rådata!Q1444*100)/Rådata!R1444)","v":""}]
[{"$f":"IF(ISBLANK(Rådata!A1445)=TRUE,\"\",Rådata!A1445)","v":""},{"$f":"IF(ISBLANK(Rådata!A1445)=TRUE,\"\",YEAR(A1445))","v":""},{"$f":"IF(ISBLANK(Rådata!A1445)=TRUE,\"\",VLOOKUP(MONTH(A1445),Opsætning!$G$3:$H$14,2,FALSE))","v":""},{"$f":"IF(ISBLANK(Rådata!B1445)=TRUE,\"\",(Rådata!C1445*100)/Rådata!B1445)","v":""},{"$f":"IF(ISBLANK(Rådata!D1445)=TRUE,\"\",((Rådata!D1445-Rådata!E1445)*100)/Rådata!D1445)","v":""},{"$f":"IF(ISBLANK(Rådata!G1445)=TRUE,\"\",(Rådata!F1445*100)/Rådata!G1445)","v":""},{"$f":"IF(ISBLANK(Rådata!K1445),\"\",(SUM(Rådata!M1445:P1445)*100)/SUM(Rådata!H1445:K1445))","v":""},{"$f":"IF(ISBLANK(Rådata!H1445),\"\",((SUM(Rådata!J1445:L1445)-SUM(Rådata!O1445:P1445))*100)/SUM(Rådata!H1445:L1445))","v":""},{"$f":"IF(ISBLANK(Rådata!R1445),\"\",(Rådata!Q1445*100)/Rådata!R1445)","v":""}]
[{"$f":"IF(ISBLANK(Rådata!A1446)=TRUE,\"\",Rådata!A1446)","v":""},{"$f":"IF(ISBLANK(Rådata!A1446)=TRUE,\"\",YEAR(A1446))","v":""},{"$f":"IF(ISBLANK(Rådata!A1446)=TRUE,\"\",VLOOKUP(MONTH(A1446),Opsætning!$G$3:$H$14,2,FALSE))","v":""},{"$f":"IF(ISBLANK(Rådata!B1446)=TRUE,\"\",(Rådata!C1446*100)/Rådata!B1446)","v":""},{"$f":"IF(ISBLANK(Rådata!D1446)=TRUE,\"\",((Rådata!D1446-Rådata!E1446)*100)/Rådata!D1446)","v":""},{"$f":"IF(ISBLANK(Rådata!G1446)=TRUE,\"\",(Rådata!F1446*100)/Rådata!G1446)","v":""},{"$f":"IF(ISBLANK(Rådata!K1446),\"\",(SUM(Rådata!M1446:P1446)*100)/SUM(Rådata!H1446:K1446))","v":""},{"$f":"IF(ISBLANK(Rådata!H1446),\"\",((SUM(Rådata!J1446:L1446)-SUM(Rådata!O1446:P1446))*100)/SUM(Rådata!H1446:L1446))","v":""},{"$f":"IF(ISBLANK(Rådata!R1446),\"\",(Rådata!Q1446*100)/Rådata!R1446)","v":""}]
[{"$f":"IF(ISBLANK(Rådata!A1447)=TRUE,\"\",Rådata!A1447)","v":""},{"$f":"IF(ISBLANK(Rådata!A1447)=TRUE,\"\",YEAR(A1447))","v":""},{"$f":"IF(ISBLANK(Rådata!A1447)=TRUE,\"\",VLOOKUP(MONTH(A1447),Opsætning!$G$3:$H$14,2,FALSE))","v":""},{"$f":"IF(ISBLANK(Rådata!B1447)=TRUE,\"\",(Rådata!C1447*100)/Rådata!B1447)","v":""},{"$f":"IF(ISBLANK(Rådata!D1447)=TRUE,\"\",((Rådata!D1447-Rådata!E1447)*100)/Rådata!D1447)","v":""},{"$f":"IF(ISBLANK(Rådata!G1447)=TRUE,\"\",(Rådata!F1447*100)/Rådata!G1447)","v":""},{"$f":"IF(ISBLANK(Rådata!K1447),\"\",(SUM(Rådata!M1447:P1447)*100)/SUM(Rådata!H1447:K1447))","v":""},{"$f":"IF(ISBLANK(Rådata!H1447),\"\",((SUM(Rådata!J1447:L1447)-SUM(Rådata!O1447:P1447))*100)/SUM(Rådata!H1447:L1447))","v":""},{"$f":"IF(ISBLANK(Rådata!R1447),\"\",(Rådata!Q1447*100)/Rådata!R1447)","v":""}]
[{"$f":"IF(ISBLANK(Rådata!A1448)=TRUE,\"\",Rådata!A1448)","v":""},{"$f":"IF(ISBLANK(Rådata!A1448)=TRUE,\"\",YEAR(A1448))","v":""},{"$f":"IF(ISBLANK(Rådata!A1448)=TRUE,\"\",VLOOKUP(MONTH(A1448),Opsætning!$G$3:$H$14,2,FALSE))","v":""},{"$f":"IF(ISBLANK(Rådata!B1448)=TRUE,\"\",(Rådata!C1448*100)/Rådata!B1448)","v":""},{"$f":"IF(ISBLANK(Rådata!D1448)=TRUE,\"\",((Rådata!D1448-Rådata!E1448)*100)/Rådata!D1448)","v":""},{"$f":"IF(ISBLANK(Rådata!G1448)=TRUE,\"\",(Rådata!F1448*100)/Rådata!G1448)","v":""},{"$f":"IF(ISBLANK(Rådata!K1448),\"\",(SUM(Rådata!M1448:P1448)*100)/SUM(Rådata!H1448:K1448))","v":""},{"$f":"IF(ISBLANK(Rådata!H1448),\"\",((SUM(Rådata!J1448:L1448)-SUM(Rådata!O1448:P1448))*100)/SUM(Rådata!H1448:L1448))","v":""},{"$f":"IF(ISBLANK(Rådata!R1448),\"\",(Rådata!Q1448*100)/Rådata!R1448)","v":""}]
[{"$f":"IF(ISBLANK(Rådata!A1449)=TRUE,\"\",Rådata!A1449)","v":""},{"$f":"IF(ISBLANK(Rådata!A1449)=TRUE,\"\",YEAR(A1449))","v":""},{"$f":"IF(ISBLANK(Rådata!A1449)=TRUE,\"\",VLOOKUP(MONTH(A1449),Opsætning!$G$3:$H$14,2,FALSE))","v":""},{"$f":"IF(ISBLANK(Rådata!B1449)=TRUE,\"\",(Rådata!C1449*100)/Rådata!B1449)","v":""},{"$f":"IF(ISBLANK(Rådata!D1449)=TRUE,\"\",((Rådata!D1449-Rådata!E1449)*100)/Rådata!D1449)","v":""},{"$f":"IF(ISBLANK(Rådata!G1449)=TRUE,\"\",(Rådata!F1449*100)/Rådata!G1449)","v":""},{"$f":"IF(ISBLANK(Rådata!K1449),\"\",(SUM(Rådata!M1449:P1449)*100)/SUM(Rådata!H1449:K1449))","v":""},{"$f":"IF(ISBLANK(Rådata!H1449),\"\",((SUM(Rådata!J1449:L1449)-SUM(Rådata!O1449:P1449))*100)/SUM(Rådata!H1449:L1449))","v":""},{"$f":"IF(ISBLANK(Rådata!R1449),\"\",(Rådata!Q1449*100)/Rådata!R1449)","v":""}]
[{"$f":"IF(ISBLANK(Rådata!A1450)=TRUE,\"\",Rådata!A1450)","v":""},{"$f":"IF(ISBLANK(Rådata!A1450)=TRUE,\"\",YEAR(A1450))","v":""},{"$f":"IF(ISBLANK(Rådata!A1450)=TRUE,\"\",VLOOKUP(MONTH(A1450),Opsætning!$G$3:$H$14,2,FALSE))","v":""},{"$f":"IF(ISBLANK(Rådata!B1450)=TRUE,\"\",(Rådata!C1450*100)/Rådata!B1450)","v":""},{"$f":"IF(ISBLANK(Rådata!D1450)=TRUE,\"\",((Rådata!D1450-Rådata!E1450)*100)/Rådata!D1450)","v":""},{"$f":"IF(ISBLANK(Rådata!G1450)=TRUE,\"\",(Rådata!F1450*100)/Rådata!G1450)","v":""},{"$f":"IF(ISBLANK(Rådata!K1450),\"\",(SUM(Rådata!M1450:P1450)*100)/SUM(Rådata!H1450:K1450))","v":""},{"$f":"IF(ISBLANK(Rådata!H1450),\"\",((SUM(Rådata!J1450:L1450)-SUM(Rådata!O1450:P1450))*100)/SUM(Rådata!H1450:L1450))","v":""},{"$f":"IF(ISBLANK(Rådata!R1450),\"\",(Rådata!Q1450*100)/Rådata!R1450)","v":""}]
[{"$f":"IF(ISBLANK(Rådata!A1451)=TRUE,\"\",Rådata!A1451)","v":""},{"$f":"IF(ISBLANK(Rådata!A1451)=TRUE,\"\",YEAR(A1451))","v":""},{"$f":"IF(ISBLANK(Rådata!A1451)=TRUE,\"\",VLOOKUP(MONTH(A1451),Opsætning!$G$3:$H$14,2,FALSE))","v":""},{"$f":"IF(ISBLANK(Rådata!B1451)=TRUE,\"\",(Rådata!C1451*100)/Rådata!B1451)","v":""},{"$f":"IF(ISBLANK(Rådata!D1451)=TRUE,\"\",((Rådata!D1451-Rådata!E1451)*100)/Rådata!D1451)","v":""},{"$f":"IF(ISBLANK(Rådata!G1451)=TRUE,\"\",(Rådata!F1451*100)/Rådata!G1451)","v":""},{"$f":"IF(ISBLANK(Rådata!K1451),\"\",(SUM(Rådata!M1451:P1451)*100)/SUM(Rådata!H1451:K1451))","v":""},{"$f":"IF(ISBLANK(Rådata!H1451),\"\",((SUM(Rådata!J1451:L1451)-SUM(Rådata!O1451:P1451))*100)/SUM(Rådata!H1451:L1451))","v":""},{"$f":"IF(ISBLANK(Rådata!R1451),\"\",(Rådata!Q1451*100)/Rådata!R1451)","v":""}]
[{"$f":"IF(ISBLANK(Rådata!A1452)=TRUE,\"\",Rådata!A1452)","v":""},{"$f":"IF(ISBLANK(Rådata!A1452)=TRUE,\"\",YEAR(A1452))","v":""},{"$f":"IF(ISBLANK(Rådata!A1452)=TRUE,\"\",VLOOKUP(MONTH(A1452),Opsætning!$G$3:$H$14,2,FALSE))","v":""},{"$f":"IF(ISBLANK(Rådata!B1452)=TRUE,\"\",(Rådata!C1452*100)/Rådata!B1452)","v":""},{"$f":"IF(ISBLANK(Rådata!D1452)=TRUE,\"\",((Rådata!D1452-Rådata!E1452)*100)/Rådata!D1452)","v":""},{"$f":"IF(ISBLANK(Rådata!G1452)=TRUE,\"\",(Rådata!F1452*100)/Rådata!G1452)","v":""},{"$f":"IF(ISBLANK(Rådata!K1452),\"\",(SUM(Rådata!M1452:P1452)*100)/SUM(Rådata!H1452:K1452))","v":""},{"$f":"IF(ISBLANK(Rådata!H1452),\"\",((SUM(Rådata!J1452:L1452)-SUM(Rådata!O1452:P1452))*100)/SUM(Rådata!H1452:L1452))","v":""},{"$f":"IF(ISBLANK(Rådata!R1452),\"\",(Rådata!Q1452*100)/Rådata!R1452)","v":""}]
[{"$f":"IF(ISBLANK(Rådata!A1453)=TRUE,\"\",Rådata!A1453)","v":""},{"$f":"IF(ISBLANK(Rådata!A1453)=TRUE,\"\",YEAR(A1453))","v":""},{"$f":"IF(ISBLANK(Rådata!A1453)=TRUE,\"\",VLOOKUP(MONTH(A1453),Opsætning!$G$3:$H$14,2,FALSE))","v":""},{"$f":"IF(ISBLANK(Rådata!B1453)=TRUE,\"\",(Rådata!C1453*100)/Rådata!B1453)","v":""},{"$f":"IF(ISBLANK(Rådata!D1453)=TRUE,\"\",((Rådata!D1453-Rådata!E1453)*100)/Rådata!D1453)","v":""},{"$f":"IF(ISBLANK(Rådata!G1453)=TRUE,\"\",(Rådata!F1453*100)/Rådata!G1453)","v":""},{"$f":"IF(ISBLANK(Rådata!K1453),\"\",(SUM(Rådata!M1453:P1453)*100)/SUM(Rådata!H1453:K1453))","v":""},{"$f":"IF(ISBLANK(Rådata!H1453),\"\",((SUM(Rådata!J1453:L1453)-SUM(Rådata!O1453:P1453))*100)/SUM(Rådata!H1453:L1453))","v":""},{"$f":"IF(ISBLANK(Rådata!R1453),\"\",(Rådata!Q1453*100)/Rådata!R1453)","v":""}]
[{"$f":"IF(ISBLANK(Rådata!A1454)=TRUE,\"\",Rådata!A1454)","v":""},{"$f":"IF(ISBLANK(Rådata!A1454)=TRUE,\"\",YEAR(A1454))","v":""},{"$f":"IF(ISBLANK(Rådata!A1454)=TRUE,\"\",VLOOKUP(MONTH(A1454),Opsætning!$G$3:$H$14,2,FALSE))","v":""},{"$f":"IF(ISBLANK(Rådata!B1454)=TRUE,\"\",(Rådata!C1454*100)/Rådata!B1454)","v":""},{"$f":"IF(ISBLANK(Rådata!D1454)=TRUE,\"\",((Rådata!D1454-Rådata!E1454)*100)/Rådata!D1454)","v":""},{"$f":"IF(ISBLANK(Rådata!G1454)=TRUE,\"\",(Rådata!F1454*100)/Rådata!G1454)","v":""},{"$f":"IF(ISBLANK(Rådata!K1454),\"\",(SUM(Rådata!M1454:P1454)*100)/SUM(Rådata!H1454:K1454))","v":""},{"$f":"IF(ISBLANK(Rådata!H1454),\"\",((SUM(Rådata!J1454:L1454)-SUM(Rådata!O1454:P1454))*100)/SUM(Rådata!H1454:L1454))","v":""},{"$f":"IF(ISBLANK(Rådata!R1454),\"\",(Rådata!Q1454*100)/Rådata!R1454)","v":""}]
[{"$f":"IF(ISBLANK(Rådata!A1455)=TRUE,\"\",Rådata!A1455)","v":""},{"$f":"IF(ISBLANK(Rådata!A1455)=TRUE,\"\",YEAR(A1455))","v":""},{"$f":"IF(ISBLANK(Rådata!A1455)=TRUE,\"\",VLOOKUP(MONTH(A1455),Opsætning!$G$3:$H$14,2,FALSE))","v":""},{"$f":"IF(ISBLANK(Rådata!B1455)=TRUE,\"\",(Rådata!C1455*100)/Rådata!B1455)","v":""},{"$f":"IF(ISBLANK(Rådata!D1455)=TRUE,\"\",((Rådata!D1455-Rådata!E1455)*100)/Rådata!D1455)","v":""},{"$f":"IF(ISBLANK(Rådata!G1455)=TRUE,\"\",(Rådata!F1455*100)/Rådata!G1455)","v":""},{"$f":"IF(ISBLANK(Rådata!K1455),\"\",(SUM(Rådata!M1455:P1455)*100)/SUM(Rådata!H1455:K1455))","v":""},{"$f":"IF(ISBLANK(Rådata!H1455),\"\",((SUM(Rådata!J1455:L1455)-SUM(Rådata!O1455:P1455))*100)/SUM(Rådata!H1455:L1455))","v":""},{"$f":"IF(ISBLANK(Rådata!R1455),\"\",(Rådata!Q1455*100)/Rådata!R1455)","v":""}]
[{"$f":"IF(ISBLANK(Rådata!A1456)=TRUE,\"\",Rådata!A1456)","v":""},{"$f":"IF(ISBLANK(Rådata!A1456)=TRUE,\"\",YEAR(A1456))","v":""},{"$f":"IF(ISBLANK(Rådata!A1456)=TRUE,\"\",VLOOKUP(MONTH(A1456),Opsætning!$G$3:$H$14,2,FALSE))","v":""},{"$f":"IF(ISBLANK(Rådata!B1456)=TRUE,\"\",(Rådata!C1456*100)/Rådata!B1456)","v":""},{"$f":"IF(ISBLANK(Rådata!D1456)=TRUE,\"\",((Rådata!D1456-Rådata!E1456)*100)/Rådata!D1456)","v":""},{"$f":"IF(ISBLANK(Rådata!G1456)=TRUE,\"\",(Rådata!F1456*100)/Rådata!G1456)","v":""},{"$f":"IF(ISBLANK(Rådata!K1456),\"\",(SUM(Rådata!M1456:P1456)*100)/SUM(Rådata!H1456:K1456))","v":""},{"$f":"IF(ISBLANK(Rådata!H1456),\"\",((SUM(Rådata!J1456:L1456)-SUM(Rådata!O1456:P1456))*100)/SUM(Rådata!H1456:L1456))","v":""},{"$f":"IF(ISBLANK(Rådata!R1456),\"\",(Rådata!Q1456*100)/Rådata!R1456)","v":""}]
[{"$f":"IF(ISBLANK(Rådata!A1457)=TRUE,\"\",Rådata!A1457)","v":""},{"$f":"IF(ISBLANK(Rådata!A1457)=TRUE,\"\",YEAR(A1457))","v":""},{"$f":"IF(ISBLANK(Rådata!A1457)=TRUE,\"\",VLOOKUP(MONTH(A1457),Opsætning!$G$3:$H$14,2,FALSE))","v":""},{"$f":"IF(ISBLANK(Rådata!B1457)=TRUE,\"\",(Rådata!C1457*100)/Rådata!B1457)","v":""},{"$f":"IF(ISBLANK(Rådata!D1457)=TRUE,\"\",((Rådata!D1457-Rådata!E1457)*100)/Rådata!D1457)","v":""},{"$f":"IF(ISBLANK(Rådata!G1457)=TRUE,\"\",(Rådata!F1457*100)/Rådata!G1457)","v":""},{"$f":"IF(ISBLANK(Rådata!K1457),\"\",(SUM(Rådata!M1457:P1457)*100)/SUM(Rådata!H1457:K1457))","v":""},{"$f":"IF(ISBLANK(Rådata!H1457),\"\",((SUM(Rådata!J1457:L1457)-SUM(Rådata!O1457:P1457))*100)/SUM(Rådata!H1457:L1457))","v":""},{"$f":"IF(ISBLANK(Rådata!R1457),\"\",(Rådata!Q1457*100)/Rådata!R1457)","v":""}]
[{"$f":"IF(ISBLANK(Rådata!A1458)=TRUE,\"\",Rådata!A1458)","v":""},{"$f":"IF(ISBLANK(Rådata!A1458)=TRUE,\"\",YEAR(A1458))","v":""},{"$f":"IF(ISBLANK(Rådata!A1458)=TRUE,\"\",VLOOKUP(MONTH(A1458),Opsætning!$G$3:$H$14,2,FALSE))","v":""},{"$f":"IF(ISBLANK(Rådata!B1458)=TRUE,\"\",(Rådata!C1458*100)/Rådata!B1458)","v":""},{"$f":"IF(ISBLANK(Rådata!D1458)=TRUE,\"\",((Rådata!D1458-Rådata!E1458)*100)/Rådata!D1458)","v":""},{"$f":"IF(ISBLANK(Rådata!G1458)=TRUE,\"\",(Rådata!F1458*100)/Rådata!G1458)","v":""},{"$f":"IF(ISBLANK(Rådata!K1458),\"\",(SUM(Rådata!M1458:P1458)*100)/SUM(Rådata!H1458:K1458))","v":""},{"$f":"IF(ISBLANK(Rådata!H1458),\"\",((SUM(Rådata!J1458:L1458)-SUM(Rådata!O1458:P1458))*100)/SUM(Rådata!H1458:L1458))","v":""},{"$f":"IF(ISBLANK(Rådata!R1458),\"\",(Rådata!Q1458*100)/Rådata!R1458)","v":""}]
[{"$f":"IF(ISBLANK(Rådata!A1459)=TRUE,\"\",Rådata!A1459)","v":""},{"$f":"IF(ISBLANK(Rådata!A1459)=TRUE,\"\",YEAR(A1459))","v":""},{"$f":"IF(ISBLANK(Rådata!A1459)=TRUE,\"\",VLOOKUP(MONTH(A1459),Opsætning!$G$3:$H$14,2,FALSE))","v":""},{"$f":"IF(ISBLANK(Rådata!B1459)=TRUE,\"\",(Rådata!C1459*100)/Rådata!B1459)","v":""},{"$f":"IF(ISBLANK(Rådata!D1459)=TRUE,\"\",((Rådata!D1459-Rådata!E1459)*100)/Rådata!D1459)","v":""},{"$f":"IF(ISBLANK(Rådata!G1459)=TRUE,\"\",(Rådata!F1459*100)/Rådata!G1459)","v":""},{"$f":"IF(ISBLANK(Rådata!K1459),\"\",(SUM(Rådata!M1459:P1459)*100)/SUM(Rådata!H1459:K1459))","v":""},{"$f":"IF(ISBLANK(Rådata!H1459),\"\",((SUM(Rådata!J1459:L1459)-SUM(Rådata!O1459:P1459))*100)/SUM(Rådata!H1459:L1459))","v":""},{"$f":"IF(ISBLANK(Rådata!R1459),\"\",(Rådata!Q1459*100)/Rådata!R1459)","v":""}]
[{"$f":"IF(ISBLANK(Rådata!A1460)=TRUE,\"\",Rådata!A1460)","v":""},{"$f":"IF(ISBLANK(Rådata!A1460)=TRUE,\"\",YEAR(A1460))","v":""},{"$f":"IF(ISBLANK(Rådata!A1460)=TRUE,\"\",VLOOKUP(MONTH(A1460),Opsætning!$G$3:$H$14,2,FALSE))","v":""},{"$f":"IF(ISBLANK(Rådata!B1460)=TRUE,\"\",(Rådata!C1460*100)/Rådata!B1460)","v":""},{"$f":"IF(ISBLANK(Rådata!D1460)=TRUE,\"\",((Rådata!D1460-Rådata!E1460)*100)/Rådata!D1460)","v":""},{"$f":"IF(ISBLANK(Rådata!G1460)=TRUE,\"\",(Rådata!F1460*100)/Rådata!G1460)","v":""},{"$f":"IF(ISBLANK(Rådata!K1460),\"\",(SUM(Rådata!M1460:P1460)*100)/SUM(Rådata!H1460:K1460))","v":""},{"$f":"IF(ISBLANK(Rådata!H1460),\"\",((SUM(Rådata!J1460:L1460)-SUM(Rådata!O1460:P1460))*100)/SUM(Rådata!H1460:L1460))","v":""},{"$f":"IF(ISBLANK(Rådata!R1460),\"\",(Rådata!Q1460*100)/Rådata!R1460)","v":""}]
[{"$f":"IF(ISBLANK(Rådata!A1461)=TRUE,\"\",Rådata!A1461)","v":""},{"$f":"IF(ISBLANK(Rådata!A1461)=TRUE,\"\",YEAR(A1461))","v":""},{"$f":"IF(ISBLANK(Rådata!A1461)=TRUE,\"\",VLOOKUP(MONTH(A1461),Opsætning!$G$3:$H$14,2,FALSE))","v":""},{"$f":"IF(ISBLANK(Rådata!B1461)=TRUE,\"\",(Rådata!C1461*100)/Rådata!B1461)","v":""},{"$f":"IF(ISBLANK(Rådata!D1461)=TRUE,\"\",((Rådata!D1461-Rådata!E1461)*100)/Rådata!D1461)","v":""},{"$f":"IF(ISBLANK(Rådata!G1461)=TRUE,\"\",(Rådata!F1461*100)/Rådata!G1461)","v":""},{"$f":"IF(ISBLANK(Rådata!K1461),\"\",(SUM(Rådata!M1461:P1461)*100)/SUM(Rådata!H1461:K1461))","v":""},{"$f":"IF(ISBLANK(Rådata!H1461),\"\",((SUM(Rådata!J1461:L1461)-SUM(Rådata!O1461:P1461))*100)/SUM(Rådata!H1461:L1461))","v":""},{"$f":"IF(ISBLANK(Rådata!R1461),\"\",(Rådata!Q1461*100)/Rådata!R1461)","v":""}]
[{"$f":"IF(ISBLANK(Rådata!A1462)=TRUE,\"\",Rådata!A1462)","v":""},{"$f":"IF(ISBLANK(Rådata!A1462)=TRUE,\"\",YEAR(A1462))","v":""},{"$f":"IF(ISBLANK(Rådata!A1462)=TRUE,\"\",VLOOKUP(MONTH(A1462),Opsætning!$G$3:$H$14,2,FALSE))","v":""},{"$f":"IF(ISBLANK(Rådata!B1462)=TRUE,\"\",(Rådata!C1462*100)/Rådata!B1462)","v":""},{"$f":"IF(ISBLANK(Rådata!D1462)=TRUE,\"\",((Rådata!D1462-Rådata!E1462)*100)/Rådata!D1462)","v":""},{"$f":"IF(ISBLANK(Rådata!G1462)=TRUE,\"\",(Rådata!F1462*100)/Rådata!G1462)","v":""},{"$f":"IF(ISBLANK(Rådata!K1462),\"\",(SUM(Rådata!M1462:P1462)*100)/SUM(Rådata!H1462:K1462))","v":""},{"$f":"IF(ISBLANK(Rådata!H1462),\"\",((SUM(Rådata!J1462:L1462)-SUM(Rådata!O1462:P1462))*100)/SUM(Rådata!H1462:L1462))","v":""},{"$f":"IF(ISBLANK(Rådata!R1462),\"\",(Rådata!Q1462*100)/Rådata!R1462)","v":""}]
[{"$f":"IF(ISBLANK(Rådata!A1463)=TRUE,\"\",Rådata!A1463)","v":""},{"$f":"IF(ISBLANK(Rådata!A1463)=TRUE,\"\",YEAR(A1463))","v":""},{"$f":"IF(ISBLANK(Rådata!A1463)=TRUE,\"\",VLOOKUP(MONTH(A1463),Opsætning!$G$3:$H$14,2,FALSE))","v":""},{"$f":"IF(ISBLANK(Rådata!B1463)=TRUE,\"\",(Rådata!C1463*100)/Rådata!B1463)","v":""},{"$f":"IF(ISBLANK(Rådata!D1463)=TRUE,\"\",((Rådata!D1463-Rådata!E1463)*100)/Rådata!D1463)","v":""},{"$f":"IF(ISBLANK(Rådata!G1463)=TRUE,\"\",(Rådata!F1463*100)/Rådata!G1463)","v":""},{"$f":"IF(ISBLANK(Rådata!K1463),\"\",(SUM(Rådata!M1463:P1463)*100)/SUM(Rådata!H1463:K1463))","v":""},{"$f":"IF(ISBLANK(Rådata!H1463),\"\",((SUM(Rådata!J1463:L1463)-SUM(Rådata!O1463:P1463))*100)/SUM(Rådata!H1463:L1463))","v":""},{"$f":"IF(ISBLANK(Rådata!R1463),\"\",(Rådata!Q1463*100)/Rådata!R1463)","v":""}]
[{"$f":"IF(ISBLANK(Rådata!A1464)=TRUE,\"\",Rådata!A1464)","v":""},{"$f":"IF(ISBLANK(Rådata!A1464)=TRUE,\"\",YEAR(A1464))","v":""},{"$f":"IF(ISBLANK(Rådata!A1464)=TRUE,\"\",VLOOKUP(MONTH(A1464),Opsætning!$G$3:$H$14,2,FALSE))","v":""},{"$f":"IF(ISBLANK(Rådata!B1464)=TRUE,\"\",(Rådata!C1464*100)/Rådata!B1464)","v":""},{"$f":"IF(ISBLANK(Rådata!D1464)=TRUE,\"\",((Rådata!D1464-Rådata!E1464)*100)/Rådata!D1464)","v":""},{"$f":"IF(ISBLANK(Rådata!G1464)=TRUE,\"\",(Rådata!F1464*100)/Rådata!G1464)","v":""},{"$f":"IF(ISBLANK(Rådata!K1464),\"\",(SUM(Rådata!M1464:P1464)*100)/SUM(Rådata!H1464:K1464))","v":""},{"$f":"IF(ISBLANK(Rådata!H1464),\"\",((SUM(Rådata!J1464:L1464)-SUM(Rådata!O1464:P1464))*100)/SUM(Rådata!H1464:L1464))","v":""},{"$f":"IF(ISBLANK(Rådata!R1464),\"\",(Rådata!Q1464*100)/Rådata!R1464)","v":""}]
[{"$f":"IF(ISBLANK(Rådata!A1465)=TRUE,\"\",Rådata!A1465)","v":""},{"$f":"IF(ISBLANK(Rådata!A1465)=TRUE,\"\",YEAR(A1465))","v":""},{"$f":"IF(ISBLANK(Rådata!A1465)=TRUE,\"\",VLOOKUP(MONTH(A1465),Opsætning!$G$3:$H$14,2,FALSE))","v":""},{"$f":"IF(ISBLANK(Rådata!B1465)=TRUE,\"\",(Rådata!C1465*100)/Rådata!B1465)","v":""},{"$f":"IF(ISBLANK(Rådata!D1465)=TRUE,\"\",((Rådata!D1465-Rådata!E1465)*100)/Rådata!D1465)","v":""},{"$f":"IF(ISBLANK(Rådata!G1465)=TRUE,\"\",(Rådata!F1465*100)/Rådata!G1465)","v":""},{"$f":"IF(ISBLANK(Rådata!K1465),\"\",(SUM(Rådata!M1465:P1465)*100)/SUM(Rådata!H1465:K1465))","v":""},{"$f":"IF(ISBLANK(Rådata!H1465),\"\",((SUM(Rådata!J1465:L1465)-SUM(Rådata!O1465:P1465))*100)/SUM(Rådata!H1465:L1465))","v":""},{"$f":"IF(ISBLANK(Rådata!R1465),\"\",(Rådata!Q1465*100)/Rådata!R1465)","v":""}]
[{"$f":"IF(ISBLANK(Rådata!A1466)=TRUE,\"\",Rådata!A1466)","v":""},{"$f":"IF(ISBLANK(Rådata!A1466)=TRUE,\"\",YEAR(A1466))","v":""},{"$f":"IF(ISBLANK(Rådata!A1466)=TRUE,\"\",VLOOKUP(MONTH(A1466),Opsætning!$G$3:$H$14,2,FALSE))","v":""},{"$f":"IF(ISBLANK(Rådata!B1466)=TRUE,\"\",(Rådata!C1466*100)/Rådata!B1466)","v":""},{"$f":"IF(ISBLANK(Rådata!D1466)=TRUE,\"\",((Rådata!D1466-Rådata!E1466)*100)/Rådata!D1466)","v":""},{"$f":"IF(ISBLANK(Rådata!G1466)=TRUE,\"\",(Rådata!F1466*100)/Rådata!G1466)","v":""},{"$f":"IF(ISBLANK(Rådata!K1466),\"\",(SUM(Rådata!M1466:P1466)*100)/SUM(Rådata!H1466:K1466))","v":""},{"$f":"IF(ISBLANK(Rådata!H1466),\"\",((SUM(Rådata!J1466:L1466)-SUM(Rådata!O1466:P1466))*100)/SUM(Rådata!H1466:L1466))","v":""},{"$f":"IF(ISBLANK(Rådata!R1466),\"\",(Rådata!Q1466*100)/Rådata!R1466)","v":""}]
[{"$f":"IF(ISBLANK(Rådata!A1467)=TRUE,\"\",Rådata!A1467)","v":""},{"$f":"IF(ISBLANK(Rådata!A1467)=TRUE,\"\",YEAR(A1467))","v":""},{"$f":"IF(ISBLANK(Rådata!A1467)=TRUE,\"\",VLOOKUP(MONTH(A1467),Opsætning!$G$3:$H$14,2,FALSE))","v":""},{"$f":"IF(ISBLANK(Rådata!B1467)=TRUE,\"\",(Rådata!C1467*100)/Rådata!B1467)","v":""},{"$f":"IF(ISBLANK(Rådata!D1467)=TRUE,\"\",((Rådata!D1467-Rådata!E1467)*100)/Rådata!D1467)","v":""},{"$f":"IF(ISBLANK(Rådata!G1467)=TRUE,\"\",(Rådata!F1467*100)/Rådata!G1467)","v":""},{"$f":"IF(ISBLANK(Rådata!K1467),\"\",(SUM(Rådata!M1467:P1467)*100)/SUM(Rådata!H1467:K1467))","v":""},{"$f":"IF(ISBLANK(Rådata!H1467),\"\",((SUM(Rådata!J1467:L1467)-SUM(Rådata!O1467:P1467))*100)/SUM(Rådata!H1467:L1467))","v":""},{"$f":"IF(ISBLANK(Rådata!R1467),\"\",(Rådata!Q1467*100)/Rådata!R1467)","v":""}]
[{"$f":"IF(ISBLANK(Rådata!A1468)=TRUE,\"\",Rådata!A1468)","v":""},{"$f":"IF(ISBLANK(Rådata!A1468)=TRUE,\"\",YEAR(A1468))","v":""},{"$f":"IF(ISBLANK(Rådata!A1468)=TRUE,\"\",VLOOKUP(MONTH(A1468),Opsætning!$G$3:$H$14,2,FALSE))","v":""},{"$f":"IF(ISBLANK(Rådata!B1468)=TRUE,\"\",(Rådata!C1468*100)/Rådata!B1468)","v":""},{"$f":"IF(ISBLANK(Rådata!D1468)=TRUE,\"\",((Rådata!D1468-Rådata!E1468)*100)/Rådata!D1468)","v":""},{"$f":"IF(ISBLANK(Rådata!G1468)=TRUE,\"\",(Rådata!F1468*100)/Rådata!G1468)","v":""},{"$f":"IF(ISBLANK(Rådata!K1468),\"\",(SUM(Rådata!M1468:P1468)*100)/SUM(Rådata!H1468:K1468))","v":""},{"$f":"IF(ISBLANK(Rådata!H1468),\"\",((SUM(Rådata!J1468:L1468)-SUM(Rådata!O1468:P1468))*100)/SUM(Rådata!H1468:L1468))","v":""},{"$f":"IF(ISBLANK(Rådata!R1468),\"\",(Rådata!Q1468*100)/Rådata!R1468)","v":""}]
[{"$f":"IF(ISBLANK(Rådata!A1469)=TRUE,\"\",Rådata!A1469)","v":""},{"$f":"IF(ISBLANK(Rådata!A1469)=TRUE,\"\",YEAR(A1469))","v":""},{"$f":"IF(ISBLANK(Rådata!A1469)=TRUE,\"\",VLOOKUP(MONTH(A1469),Opsætning!$G$3:$H$14,2,FALSE))","v":""},{"$f":"IF(ISBLANK(Rådata!B1469)=TRUE,\"\",(Rådata!C1469*100)/Rådata!B1469)","v":""},{"$f":"IF(ISBLANK(Rådata!D1469)=TRUE,\"\",((Rådata!D1469-Rådata!E1469)*100)/Rådata!D1469)","v":""},{"$f":"IF(ISBLANK(Rådata!G1469)=TRUE,\"\",(Rådata!F1469*100)/Rådata!G1469)","v":""},{"$f":"IF(ISBLANK(Rådata!K1469),\"\",(SUM(Rådata!M1469:P1469)*100)/SUM(Rådata!H1469:K1469))","v":""},{"$f":"IF(ISBLANK(Rådata!H1469),\"\",((SUM(Rådata!J1469:L1469)-SUM(Rådata!O1469:P1469))*100)/SUM(Rådata!H1469:L1469))","v":""},{"$f":"IF(ISBLANK(Rådata!R1469),\"\",(Rådata!Q1469*100)/Rådata!R1469)","v":""}]
[{"$f":"IF(ISBLANK(Rådata!A1470)=TRUE,\"\",Rådata!A1470)","v":""},{"$f":"IF(ISBLANK(Rådata!A1470)=TRUE,\"\",YEAR(A1470))","v":""},{"$f":"IF(ISBLANK(Rådata!A1470)=TRUE,\"\",VLOOKUP(MONTH(A1470),Opsætning!$G$3:$H$14,2,FALSE))","v":""},{"$f":"IF(ISBLANK(Rådata!B1470)=TRUE,\"\",(Rådata!C1470*100)/Rådata!B1470)","v":""},{"$f":"IF(ISBLANK(Rådata!D1470)=TRUE,\"\",((Rådata!D1470-Rådata!E1470)*100)/Rådata!D1470)","v":""},{"$f":"IF(ISBLANK(Rådata!G1470)=TRUE,\"\",(Rådata!F1470*100)/Rådata!G1470)","v":""},{"$f":"IF(ISBLANK(Rådata!K1470),\"\",(SUM(Rådata!M1470:P1470)*100)/SUM(Rådata!H1470:K1470))","v":""},{"$f":"IF(ISBLANK(Rådata!H1470),\"\",((SUM(Rådata!J1470:L1470)-SUM(Rådata!O1470:P1470))*100)/SUM(Rådata!H1470:L1470))","v":""},{"$f":"IF(ISBLANK(Rådata!R1470),\"\",(Rådata!Q1470*100)/Rådata!R1470)","v":""}]
[{"$f":"IF(ISBLANK(Rådata!A1471)=TRUE,\"\",Rådata!A1471)","v":""},{"$f":"IF(ISBLANK(Rådata!A1471)=TRUE,\"\",YEAR(A1471))","v":""},{"$f":"IF(ISBLANK(Rådata!A1471)=TRUE,\"\",VLOOKUP(MONTH(A1471),Opsætning!$G$3:$H$14,2,FALSE))","v":""},{"$f":"IF(ISBLANK(Rådata!B1471)=TRUE,\"\",(Rådata!C1471*100)/Rådata!B1471)","v":""},{"$f":"IF(ISBLANK(Rådata!D1471)=TRUE,\"\",((Rådata!D1471-Rådata!E1471)*100)/Rådata!D1471)","v":""},{"$f":"IF(ISBLANK(Rådata!G1471)=TRUE,\"\",(Rådata!F1471*100)/Rådata!G1471)","v":""},{"$f":"IF(ISBLANK(Rådata!K1471),\"\",(SUM(Rådata!M1471:P1471)*100)/SUM(Rådata!H1471:K1471))","v":""},{"$f":"IF(ISBLANK(Rådata!H1471),\"\",((SUM(Rådata!J1471:L1471)-SUM(Rådata!O1471:P1471))*100)/SUM(Rådata!H1471:L1471))","v":""},{"$f":"IF(ISBLANK(Rådata!R1471),\"\",(Rådata!Q1471*100)/Rådata!R1471)","v":""}]
[{"$f":"IF(ISBLANK(Rådata!A1472)=TRUE,\"\",Rådata!A1472)","v":""},{"$f":"IF(ISBLANK(Rådata!A1472)=TRUE,\"\",YEAR(A1472))","v":""},{"$f":"IF(ISBLANK(Rådata!A1472)=TRUE,\"\",VLOOKUP(MONTH(A1472),Opsætning!$G$3:$H$14,2,FALSE))","v":""},{"$f":"IF(ISBLANK(Rådata!B1472)=TRUE,\"\",(Rådata!C1472*100)/Rådata!B1472)","v":""},{"$f":"IF(ISBLANK(Rådata!D1472)=TRUE,\"\",((Rådata!D1472-Rådata!E1472)*100)/Rådata!D1472)","v":""},{"$f":"IF(ISBLANK(Rådata!G1472)=TRUE,\"\",(Rådata!F1472*100)/Rådata!G1472)","v":""},{"$f":"IF(ISBLANK(Rådata!K1472),\"\",(SUM(Rådata!M1472:P1472)*100)/SUM(Rådata!H1472:K1472))","v":""},{"$f":"IF(ISBLANK(Rådata!H1472),\"\",((SUM(Rådata!J1472:L1472)-SUM(Rådata!O1472:P1472))*100)/SUM(Rådata!H1472:L1472))","v":""},{"$f":"IF(ISBLANK(Rådata!R1472),\"\",(Rådata!Q1472*100)/Rådata!R1472)","v":""}]
[{"$f":"IF(ISBLANK(Rådata!A1473)=TRUE,\"\",Rådata!A1473)","v":""},{"$f":"IF(ISBLANK(Rådata!A1473)=TRUE,\"\",YEAR(A1473))","v":""},{"$f":"IF(ISBLANK(Rådata!A1473)=TRUE,\"\",VLOOKUP(MONTH(A1473),Opsætning!$G$3:$H$14,2,FALSE))","v":""},{"$f":"IF(ISBLANK(Rådata!B1473)=TRUE,\"\",(Rådata!C1473*100)/Rådata!B1473)","v":""},{"$f":"IF(ISBLANK(Rådata!D1473)=TRUE,\"\",((Rådata!D1473-Rådata!E1473)*100)/Rådata!D1473)","v":""},{"$f":"IF(ISBLANK(Rådata!G1473)=TRUE,\"\",(Rådata!F1473*100)/Rådata!G1473)","v":""},{"$f":"IF(ISBLANK(Rådata!K1473),\"\",(SUM(Rådata!M1473:P1473)*100)/SUM(Rådata!H1473:K1473))","v":""},{"$f":"IF(ISBLANK(Rådata!H1473),\"\",((SUM(Rådata!J1473:L1473)-SUM(Rådata!O1473:P1473))*100)/SUM(Rådata!H1473:L1473))","v":""},{"$f":"IF(ISBLANK(Rådata!R1473),\"\",(Rådata!Q1473*100)/Rådata!R1473)","v":""}]
[{"$f":"IF(ISBLANK(Rådata!A1474)=TRUE,\"\",Rådata!A1474)","v":""},{"$f":"IF(ISBLANK(Rådata!A1474)=TRUE,\"\",YEAR(A1474))","v":""},{"$f":"IF(ISBLANK(Rådata!A1474)=TRUE,\"\",VLOOKUP(MONTH(A1474),Opsætning!$G$3:$H$14,2,FALSE))","v":""},{"$f":"IF(ISBLANK(Rådata!B1474)=TRUE,\"\",(Rådata!C1474*100)/Rådata!B1474)","v":""},{"$f":"IF(ISBLANK(Rådata!D1474)=TRUE,\"\",((Rådata!D1474-Rådata!E1474)*100)/Rådata!D1474)","v":""},{"$f":"IF(ISBLANK(Rådata!G1474)=TRUE,\"\",(Rådata!F1474*100)/Rådata!G1474)","v":""},{"$f":"IF(ISBLANK(Rådata!K1474),\"\",(SUM(Rådata!M1474:P1474)*100)/SUM(Rådata!H1474:K1474))","v":""},{"$f":"IF(ISBLANK(Rådata!H1474),\"\",((SUM(Rådata!J1474:L1474)-SUM(Rådata!O1474:P1474))*100)/SUM(Rådata!H1474:L1474))","v":""},{"$f":"IF(ISBLANK(Rådata!R1474),\"\",(Rådata!Q1474*100)/Rådata!R1474)","v":""}]
[{"$f":"IF(ISBLANK(Rådata!A1475)=TRUE,\"\",Rådata!A1475)","v":""},{"$f":"IF(ISBLANK(Rådata!A1475)=TRUE,\"\",YEAR(A1475))","v":""},{"$f":"IF(ISBLANK(Rådata!A1475)=TRUE,\"\",VLOOKUP(MONTH(A1475),Opsætning!$G$3:$H$14,2,FALSE))","v":""},{"$f":"IF(ISBLANK(Rådata!B1475)=TRUE,\"\",(Rådata!C1475*100)/Rådata!B1475)","v":""},{"$f":"IF(ISBLANK(Rådata!D1475)=TRUE,\"\",((Rådata!D1475-Rådata!E1475)*100)/Rådata!D1475)","v":""},{"$f":"IF(ISBLANK(Rådata!G1475)=TRUE,\"\",(Rådata!F1475*100)/Rådata!G1475)","v":""},{"$f":"IF(ISBLANK(Rådata!K1475),\"\",(SUM(Rådata!M1475:P1475)*100)/SUM(Rådata!H1475:K1475))","v":""},{"$f":"IF(ISBLANK(Rådata!H1475),\"\",((SUM(Rådata!J1475:L1475)-SUM(Rådata!O1475:P1475))*100)/SUM(Rådata!H1475:L1475))","v":""},{"$f":"IF(ISBLANK(Rådata!R1475),\"\",(Rådata!Q1475*100)/Rådata!R1475)","v":""}]
[{"$f":"IF(ISBLANK(Rådata!A1476)=TRUE,\"\",Rådata!A1476)","v":""},{"$f":"IF(ISBLANK(Rådata!A1476)=TRUE,\"\",YEAR(A1476))","v":""},{"$f":"IF(ISBLANK(Rådata!A1476)=TRUE,\"\",VLOOKUP(MONTH(A1476),Opsætning!$G$3:$H$14,2,FALSE))","v":""},{"$f":"IF(ISBLANK(Rådata!B1476)=TRUE,\"\",(Rådata!C1476*100)/Rådata!B1476)","v":""},{"$f":"IF(ISBLANK(Rådata!D1476)=TRUE,\"\",((Rådata!D1476-Rådata!E1476)*100)/Rådata!D1476)","v":""},{"$f":"IF(ISBLANK(Rådata!G1476)=TRUE,\"\",(Rådata!F1476*100)/Rådata!G1476)","v":""},{"$f":"IF(ISBLANK(Rådata!K1476),\"\",(SUM(Rådata!M1476:P1476)*100)/SUM(Rådata!H1476:K1476))","v":""},{"$f":"IF(ISBLANK(Rådata!H1476),\"\",((SUM(Rådata!J1476:L1476)-SUM(Rådata!O1476:P1476))*100)/SUM(Rådata!H1476:L1476))","v":""},{"$f":"IF(ISBLANK(Rådata!R1476),\"\",(Rådata!Q1476*100)/Rådata!R1476)","v":""}]
[{"$f":"IF(ISBLANK(Rådata!A1477)=TRUE,\"\",Rådata!A1477)","v":""},{"$f":"IF(ISBLANK(Rådata!A1477)=TRUE,\"\",YEAR(A1477))","v":""},{"$f":"IF(ISBLANK(Rådata!A1477)=TRUE,\"\",VLOOKUP(MONTH(A1477),Opsætning!$G$3:$H$14,2,FALSE))","v":""},{"$f":"IF(ISBLANK(Rådata!B1477)=TRUE,\"\",(Rådata!C1477*100)/Rådata!B1477)","v":""},{"$f":"IF(ISBLANK(Rådata!D1477)=TRUE,\"\",((Rådata!D1477-Rådata!E1477)*100)/Rådata!D1477)","v":""},{"$f":"IF(ISBLANK(Rådata!G1477)=TRUE,\"\",(Rådata!F1477*100)/Rådata!G1477)","v":""},{"$f":"IF(ISBLANK(Rådata!K1477),\"\",(SUM(Rådata!M1477:P1477)*100)/SUM(Rådata!H1477:K1477))","v":""},{"$f":"IF(ISBLANK(Rådata!H1477),\"\",((SUM(Rådata!J1477:L1477)-SUM(Rådata!O1477:P1477))*100)/SUM(Rådata!H1477:L1477))","v":""},{"$f":"IF(ISBLANK(Rådata!R1477),\"\",(Rådata!Q1477*100)/Rådata!R1477)","v":""}]
[{"$f":"IF(ISBLANK(Rådata!A1478)=TRUE,\"\",Rådata!A1478)","v":""},{"$f":"IF(ISBLANK(Rådata!A1478)=TRUE,\"\",YEAR(A1478))","v":""},{"$f":"IF(ISBLANK(Rådata!A1478)=TRUE,\"\",VLOOKUP(MONTH(A1478),Opsætning!$G$3:$H$14,2,FALSE))","v":""},{"$f":"IF(ISBLANK(Rådata!B1478)=TRUE,\"\",(Rådata!C1478*100)/Rådata!B1478)","v":""},{"$f":"IF(ISBLANK(Rådata!D1478)=TRUE,\"\",((Rådata!D1478-Rådata!E1478)*100)/Rådata!D1478)","v":""},{"$f":"IF(ISBLANK(Rådata!G1478)=TRUE,\"\",(Rådata!F1478*100)/Rådata!G1478)","v":""},{"$f":"IF(ISBLANK(Rådata!K1478),\"\",(SUM(Rådata!M1478:P1478)*100)/SUM(Rådata!H1478:K1478))","v":""},{"$f":"IF(ISBLANK(Rådata!H1478),\"\",((SUM(Rådata!J1478:L1478)-SUM(Rådata!O1478:P1478))*100)/SUM(Rådata!H1478:L1478))","v":""},{"$f":"IF(ISBLANK(Rådata!R1478),\"\",(Rådata!Q1478*100)/Rådata!R1478)","v":""}]
[{"$f":"IF(ISBLANK(Rådata!A1479)=TRUE,\"\",Rådata!A1479)","v":""},{"$f":"IF(ISBLANK(Rådata!A1479)=TRUE,\"\",YEAR(A1479))","v":""},{"$f":"IF(ISBLANK(Rådata!A1479)=TRUE,\"\",VLOOKUP(MONTH(A1479),Opsætning!$G$3:$H$14,2,FALSE))","v":""},{"$f":"IF(ISBLANK(Rådata!B1479)=TRUE,\"\",(Rådata!C1479*100)/Rådata!B1479)","v":""},{"$f":"IF(ISBLANK(Rådata!D1479)=TRUE,\"\",((Rådata!D1479-Rådata!E1479)*100)/Rådata!D1479)","v":""},{"$f":"IF(ISBLANK(Rådata!G1479)=TRUE,\"\",(Rådata!F1479*100)/Rådata!G1479)","v":""},{"$f":"IF(ISBLANK(Rådata!K1479),\"\",(SUM(Rådata!M1479:P1479)*100)/SUM(Rådata!H1479:K1479))","v":""},{"$f":"IF(ISBLANK(Rådata!H1479),\"\",((SUM(Rådata!J1479:L1479)-SUM(Rådata!O1479:P1479))*100)/SUM(Rådata!H1479:L1479))","v":""},{"$f":"IF(ISBLANK(Rådata!R1479),\"\",(Rådata!Q1479*100)/Rådata!R1479)","v":""}]
[{"$f":"IF(ISBLANK(Rådata!A1480)=TRUE,\"\",Rådata!A1480)","v":""},{"$f":"IF(ISBLANK(Rådata!A1480)=TRUE,\"\",YEAR(A1480))","v":""},{"$f":"IF(ISBLANK(Rådata!A1480)=TRUE,\"\",VLOOKUP(MONTH(A1480),Opsætning!$G$3:$H$14,2,FALSE))","v":""},{"$f":"IF(ISBLANK(Rådata!B1480)=TRUE,\"\",(Rådata!C1480*100)/Rådata!B1480)","v":""},{"$f":"IF(ISBLANK(Rådata!D1480)=TRUE,\"\",((Rådata!D1480-Rådata!E1480)*100)/Rådata!D1480)","v":""},{"$f":"IF(ISBLANK(Rådata!G1480)=TRUE,\"\",(Rådata!F1480*100)/Rådata!G1480)","v":""},{"$f":"IF(ISBLANK(Rådata!K1480),\"\",(SUM(Rådata!M1480:P1480)*100)/SUM(Rådata!H1480:K1480))","v":""},{"$f":"IF(ISBLANK(Rådata!H1480),\"\",((SUM(Rådata!J1480:L1480)-SUM(Rådata!O1480:P1480))*100)/SUM(Rådata!H1480:L1480))","v":""},{"$f":"IF(ISBLANK(Rådata!R1480),\"\",(Rådata!Q1480*100)/Rådata!R1480)","v":""}]
[{"$f":"IF(ISBLANK(Rådata!A1481)=TRUE,\"\",Rådata!A1481)","v":""},{"$f":"IF(ISBLANK(Rådata!A1481)=TRUE,\"\",YEAR(A1481))","v":""},{"$f":"IF(ISBLANK(Rådata!A1481)=TRUE,\"\",VLOOKUP(MONTH(A1481),Opsætning!$G$3:$H$14,2,FALSE))","v":""},{"$f":"IF(ISBLANK(Rådata!B1481)=TRUE,\"\",(Rådata!C1481*100)/Rådata!B1481)","v":""},{"$f":"IF(ISBLANK(Rådata!D1481)=TRUE,\"\",((Rådata!D1481-Rådata!E1481)*100)/Rådata!D1481)","v":""},{"$f":"IF(ISBLANK(Rådata!G1481)=TRUE,\"\",(Rådata!F1481*100)/Rådata!G1481)","v":""},{"$f":"IF(ISBLANK(Rådata!K1481),\"\",(SUM(Rådata!M1481:P1481)*100)/SUM(Rådata!H1481:K1481))","v":""},{"$f":"IF(ISBLANK(Rådata!H1481),\"\",((SUM(Rådata!J1481:L1481)-SUM(Rådata!O1481:P1481))*100)/SUM(Rådata!H1481:L1481))","v":""},{"$f":"IF(ISBLANK(Rådata!R1481),\"\",(Rådata!Q1481*100)/Rådata!R1481)","v":""}]
[{"$f":"IF(ISBLANK(Rådata!A1482)=TRUE,\"\",Rådata!A1482)","v":""},{"$f":"IF(ISBLANK(Rådata!A1482)=TRUE,\"\",YEAR(A1482))","v":""},{"$f":"IF(ISBLANK(Rådata!A1482)=TRUE,\"\",VLOOKUP(MONTH(A1482),Opsætning!$G$3:$H$14,2,FALSE))","v":""},{"$f":"IF(ISBLANK(Rådata!B1482)=TRUE,\"\",(Rådata!C1482*100)/Rådata!B1482)","v":""},{"$f":"IF(ISBLANK(Rådata!D1482)=TRUE,\"\",((Rådata!D1482-Rådata!E1482)*100)/Rådata!D1482)","v":""},{"$f":"IF(ISBLANK(Rådata!G1482)=TRUE,\"\",(Rådata!F1482*100)/Rådata!G1482)","v":""},{"$f":"IF(ISBLANK(Rådata!K1482),\"\",(SUM(Rådata!M1482:P1482)*100)/SUM(Rådata!H1482:K1482))","v":""},{"$f":"IF(ISBLANK(Rådata!H1482),\"\",((SUM(Rådata!J1482:L1482)-SUM(Rådata!O1482:P1482))*100)/SUM(Rådata!H1482:L1482))","v":""},{"$f":"IF(ISBLANK(Rådata!R1482),\"\",(Rådata!Q1482*100)/Rådata!R1482)","v":""}]
[{"$f":"IF(ISBLANK(Rådata!A1483)=TRUE,\"\",Rådata!A1483)","v":""},{"$f":"IF(ISBLANK(Rådata!A1483)=TRUE,\"\",YEAR(A1483))","v":""},{"$f":"IF(ISBLANK(Rådata!A1483)=TRUE,\"\",VLOOKUP(MONTH(A1483),Opsætning!$G$3:$H$14,2,FALSE))","v":""},{"$f":"IF(ISBLANK(Rådata!B1483)=TRUE,\"\",(Rådata!C1483*100)/Rådata!B1483)","v":""},{"$f":"IF(ISBLANK(Rådata!D1483)=TRUE,\"\",((Rådata!D1483-Rådata!E1483)*100)/Rådata!D1483)","v":""},{"$f":"IF(ISBLANK(Rådata!G1483)=TRUE,\"\",(Rådata!F1483*100)/Rådata!G1483)","v":""},{"$f":"IF(ISBLANK(Rådata!K1483),\"\",(SUM(Rådata!M1483:P1483)*100)/SUM(Rådata!H1483:K1483))","v":""},{"$f":"IF(ISBLANK(Rådata!H1483),\"\",((SUM(Rådata!J1483:L1483)-SUM(Rådata!O1483:P1483))*100)/SUM(Rådata!H1483:L1483))","v":""},{"$f":"IF(ISBLANK(Rådata!R1483),\"\",(Rådata!Q1483*100)/Rådata!R1483)","v":""}]
[{"$f":"IF(ISBLANK(Rådata!A1484)=TRUE,\"\",Rådata!A1484)","v":""},{"$f":"IF(ISBLANK(Rådata!A1484)=TRUE,\"\",YEAR(A1484))","v":""},{"$f":"IF(ISBLANK(Rådata!A1484)=TRUE,\"\",VLOOKUP(MONTH(A1484),Opsætning!$G$3:$H$14,2,FALSE))","v":""},{"$f":"IF(ISBLANK(Rådata!B1484)=TRUE,\"\",(Rådata!C1484*100)/Rådata!B1484)","v":""},{"$f":"IF(ISBLANK(Rådata!D1484)=TRUE,\"\",((Rådata!D1484-Rådata!E1484)*100)/Rådata!D1484)","v":""},{"$f":"IF(ISBLANK(Rådata!G1484)=TRUE,\"\",(Rådata!F1484*100)/Rådata!G1484)","v":""},{"$f":"IF(ISBLANK(Rådata!K1484),\"\",(SUM(Rådata!M1484:P1484)*100)/SUM(Rådata!H1484:K1484))","v":""},{"$f":"IF(ISBLANK(Rådata!H1484),\"\",((SUM(Rådata!J1484:L1484)-SUM(Rådata!O1484:P1484))*100)/SUM(Rådata!H1484:L1484))","v":""},{"$f":"IF(ISBLANK(Rådata!R1484),\"\",(Rådata!Q1484*100)/Rådata!R1484)","v":""}]
[{"$f":"IF(ISBLANK(Rådata!A1485)=TRUE,\"\",Rådata!A1485)","v":""},{"$f":"IF(ISBLANK(Rådata!A1485)=TRUE,\"\",YEAR(A1485))","v":""},{"$f":"IF(ISBLANK(Rådata!A1485)=TRUE,\"\",VLOOKUP(MONTH(A1485),Opsætning!$G$3:$H$14,2,FALSE))","v":""},{"$f":"IF(ISBLANK(Rådata!B1485)=TRUE,\"\",(Rådata!C1485*100)/Rådata!B1485)","v":""},{"$f":"IF(ISBLANK(Rådata!D1485)=TRUE,\"\",((Rådata!D1485-Rådata!E1485)*100)/Rådata!D1485)","v":""},{"$f":"IF(ISBLANK(Rådata!G1485)=TRUE,\"\",(Rådata!F1485*100)/Rådata!G1485)","v":""},{"$f":"IF(ISBLANK(Rådata!K1485),\"\",(SUM(Rådata!M1485:P1485)*100)/SUM(Rådata!H1485:K1485))","v":""},{"$f":"IF(ISBLANK(Rådata!H1485),\"\",((SUM(Rådata!J1485:L1485)-SUM(Rådata!O1485:P1485))*100)/SUM(Rådata!H1485:L1485))","v":""},{"$f":"IF(ISBLANK(Rådata!R1485),\"\",(Rådata!Q1485*100)/Rådata!R1485)","v":""}]
[{"$f":"IF(ISBLANK(Rådata!A1486)=TRUE,\"\",Rådata!A1486)","v":""},{"$f":"IF(ISBLANK(Rådata!A1486)=TRUE,\"\",YEAR(A1486))","v":""},{"$f":"IF(ISBLANK(Rådata!A1486)=TRUE,\"\",VLOOKUP(MONTH(A1486),Opsætning!$G$3:$H$14,2,FALSE))","v":""},{"$f":"IF(ISBLANK(Rådata!B1486)=TRUE,\"\",(Rådata!C1486*100)/Rådata!B1486)","v":""},{"$f":"IF(ISBLANK(Rådata!D1486)=TRUE,\"\",((Rådata!D1486-Rådata!E1486)*100)/Rådata!D1486)","v":""},{"$f":"IF(ISBLANK(Rådata!G1486)=TRUE,\"\",(Rådata!F1486*100)/Rådata!G1486)","v":""},{"$f":"IF(ISBLANK(Rådata!K1486),\"\",(SUM(Rådata!M1486:P1486)*100)/SUM(Rådata!H1486:K1486))","v":""},{"$f":"IF(ISBLANK(Rådata!H1486),\"\",((SUM(Rådata!J1486:L1486)-SUM(Rådata!O1486:P1486))*100)/SUM(Rådata!H1486:L1486))","v":""},{"$f":"IF(ISBLANK(Rådata!R1486),\"\",(Rådata!Q1486*100)/Rådata!R1486)","v":""}]
[{"$f":"IF(ISBLANK(Rådata!A1487)=TRUE,\"\",Rådata!A1487)","v":""},{"$f":"IF(ISBLANK(Rådata!A1487)=TRUE,\"\",YEAR(A1487))","v":""},{"$f":"IF(ISBLANK(Rådata!A1487)=TRUE,\"\",VLOOKUP(MONTH(A1487),Opsætning!$G$3:$H$14,2,FALSE))","v":""},{"$f":"IF(ISBLANK(Rådata!B1487)=TRUE,\"\",(Rådata!C1487*100)/Rådata!B1487)","v":""},{"$f":"IF(ISBLANK(Rådata!D1487)=TRUE,\"\",((Rådata!D1487-Rådata!E1487)*100)/Rådata!D1487)","v":""},{"$f":"IF(ISBLANK(Rådata!G1487)=TRUE,\"\",(Rådata!F1487*100)/Rådata!G1487)","v":""},{"$f":"IF(ISBLANK(Rådata!K1487),\"\",(SUM(Rådata!M1487:P1487)*100)/SUM(Rådata!H1487:K1487))","v":""},{"$f":"IF(ISBLANK(Rådata!H1487),\"\",((SUM(Rådata!J1487:L1487)-SUM(Rådata!O1487:P1487))*100)/SUM(Rådata!H1487:L1487))","v":""},{"$f":"IF(ISBLANK(Rådata!R1487),\"\",(Rådata!Q1487*100)/Rådata!R1487)","v":""}]
[{"$f":"IF(ISBLANK(Rådata!A1488)=TRUE,\"\",Rådata!A1488)","v":""},{"$f":"IF(ISBLANK(Rådata!A1488)=TRUE,\"\",YEAR(A1488))","v":""},{"$f":"IF(ISBLANK(Rådata!A1488)=TRUE,\"\",VLOOKUP(MONTH(A1488),Opsætning!$G$3:$H$14,2,FALSE))","v":""},{"$f":"IF(ISBLANK(Rådata!B1488)=TRUE,\"\",(Rådata!C1488*100)/Rådata!B1488)","v":""},{"$f":"IF(ISBLANK(Rådata!D1488)=TRUE,\"\",((Rådata!D1488-Rådata!E1488)*100)/Rådata!D1488)","v":""},{"$f":"IF(ISBLANK(Rådata!G1488)=TRUE,\"\",(Rådata!F1488*100)/Rådata!G1488)","v":""},{"$f":"IF(ISBLANK(Rådata!K1488),\"\",(SUM(Rådata!M1488:P1488)*100)/SUM(Rådata!H1488:K1488))","v":""},{"$f":"IF(ISBLANK(Rådata!H1488),\"\",((SUM(Rådata!J1488:L1488)-SUM(Rådata!O1488:P1488))*100)/SUM(Rådata!H1488:L1488))","v":""},{"$f":"IF(ISBLANK(Rådata!R1488),\"\",(Rådata!Q1488*100)/Rådata!R1488)","v":""}]
[{"$f":"IF(ISBLANK(Rådata!A1489)=TRUE,\"\",Rådata!A1489)","v":""},{"$f":"IF(ISBLANK(Rådata!A1489)=TRUE,\"\",YEAR(A1489))","v":""},{"$f":"IF(ISBLANK(Rådata!A1489)=TRUE,\"\",VLOOKUP(MONTH(A1489),Opsætning!$G$3:$H$14,2,FALSE))","v":""},{"$f":"IF(ISBLANK(Rådata!B1489)=TRUE,\"\",(Rådata!C1489*100)/Rådata!B1489)","v":""},{"$f":"IF(ISBLANK(Rådata!D1489)=TRUE,\"\",((Rådata!D1489-Rådata!E1489)*100)/Rådata!D1489)","v":""},{"$f":"IF(ISBLANK(Rådata!G1489)=TRUE,\"\",(Rådata!F1489*100)/Rådata!G1489)","v":""},{"$f":"IF(ISBLANK(Rådata!K1489),\"\",(SUM(Rådata!M1489:P1489)*100)/SUM(Rådata!H1489:K1489))","v":""},{"$f":"IF(ISBLANK(Rådata!H1489),\"\",((SUM(Rådata!J1489:L1489)-SUM(Rådata!O1489:P1489))*100)/SUM(Rådata!H1489:L1489))","v":""},{"$f":"IF(ISBLANK(Rådata!R1489),\"\",(Rådata!Q1489*100)/Rådata!R1489)","v":""}]
[{"$f":"IF(ISBLANK(Rådata!A1490)=TRUE,\"\",Rådata!A1490)","v":""},{"$f":"IF(ISBLANK(Rådata!A1490)=TRUE,\"\",YEAR(A1490))","v":""},{"$f":"IF(ISBLANK(Rådata!A1490)=TRUE,\"\",VLOOKUP(MONTH(A1490),Opsætning!$G$3:$H$14,2,FALSE))","v":""},{"$f":"IF(ISBLANK(Rådata!B1490)=TRUE,\"\",(Rådata!C1490*100)/Rådata!B1490)","v":""},{"$f":"IF(ISBLANK(Rådata!D1490)=TRUE,\"\",((Rådata!D1490-Rådata!E1490)*100)/Rådata!D1490)","v":""},{"$f":"IF(ISBLANK(Rådata!G1490)=TRUE,\"\",(Rådata!F1490*100)/Rådata!G1490)","v":""},{"$f":"IF(ISBLANK(Rådata!K1490),\"\",(SUM(Rådata!M1490:P1490)*100)/SUM(Rådata!H1490:K1490))","v":""},{"$f":"IF(ISBLANK(Rådata!H1490),\"\",((SUM(Rådata!J1490:L1490)-SUM(Rådata!O1490:P1490))*100)/SUM(Rådata!H1490:L1490))","v":""},{"$f":"IF(ISBLANK(Rådata!R1490),\"\",(Rådata!Q1490*100)/Rådata!R1490)","v":""}]
[{"$f":"IF(ISBLANK(Rådata!A1491)=TRUE,\"\",Rådata!A1491)","v":""},{"$f":"IF(ISBLANK(Rådata!A1491)=TRUE,\"\",YEAR(A1491))","v":""},{"$f":"IF(ISBLANK(Rådata!A1491)=TRUE,\"\",VLOOKUP(MONTH(A1491),Opsætning!$G$3:$H$14,2,FALSE))","v":""},{"$f":"IF(ISBLANK(Rådata!B1491)=TRUE,\"\",(Rådata!C1491*100)/Rådata!B1491)","v":""},{"$f":"IF(ISBLANK(Rådata!D1491)=TRUE,\"\",((Rådata!D1491-Rådata!E1491)*100)/Rådata!D1491)","v":""},{"$f":"IF(ISBLANK(Rådata!G1491)=TRUE,\"\",(Rådata!F1491*100)/Rådata!G1491)","v":""},{"$f":"IF(ISBLANK(Rådata!K1491),\"\",(SUM(Rådata!M1491:P1491)*100)/SUM(Rådata!H1491:K1491))","v":""},{"$f":"IF(ISBLANK(Rådata!H1491),\"\",((SUM(Rådata!J1491:L1491)-SUM(Rådata!O1491:P1491))*100)/SUM(Rådata!H1491:L1491))","v":""},{"$f":"IF(ISBLANK(Rådata!R1491),\"\",(Rådata!Q1491*100)/Rådata!R1491)","v":""}]
[{"$f":"IF(ISBLANK(Rådata!A1492)=TRUE,\"\",Rådata!A1492)","v":""},{"$f":"IF(ISBLANK(Rådata!A1492)=TRUE,\"\",YEAR(A1492))","v":""},{"$f":"IF(ISBLANK(Rådata!A1492)=TRUE,\"\",VLOOKUP(MONTH(A1492),Opsætning!$G$3:$H$14,2,FALSE))","v":""},{"$f":"IF(ISBLANK(Rådata!B1492)=TRUE,\"\",(Rådata!C1492*100)/Rådata!B1492)","v":""},{"$f":"IF(ISBLANK(Rådata!D1492)=TRUE,\"\",((Rådata!D1492-Rådata!E1492)*100)/Rådata!D1492)","v":""},{"$f":"IF(ISBLANK(Rådata!G1492)=TRUE,\"\",(Rådata!F1492*100)/Rådata!G1492)","v":""},{"$f":"IF(ISBLANK(Rådata!K1492),\"\",(SUM(Rådata!M1492:P1492)*100)/SUM(Rådata!H1492:K1492))","v":""},{"$f":"IF(ISBLANK(Rådata!H1492),\"\",((SUM(Rådata!J1492:L1492)-SUM(Rådata!O1492:P1492))*100)/SUM(Rådata!H1492:L1492))","v":""},{"$f":"IF(ISBLANK(Rådata!R1492),\"\",(Rådata!Q1492*100)/Rådata!R1492)","v":""}]
[{"$f":"IF(ISBLANK(Rådata!A1493)=TRUE,\"\",Rådata!A1493)","v":""},{"$f":"IF(ISBLANK(Rådata!A1493)=TRUE,\"\",YEAR(A1493))","v":""},{"$f":"IF(ISBLANK(Rådata!A1493)=TRUE,\"\",VLOOKUP(MONTH(A1493),Opsætning!$G$3:$H$14,2,FALSE))","v":""},{"$f":"IF(ISBLANK(Rådata!B1493)=TRUE,\"\",(Rådata!C1493*100)/Rådata!B1493)","v":""},{"$f":"IF(ISBLANK(Rådata!D1493)=TRUE,\"\",((Rådata!D1493-Rådata!E1493)*100)/Rådata!D1493)","v":""},{"$f":"IF(ISBLANK(Rådata!G1493)=TRUE,\"\",(Rådata!F1493*100)/Rådata!G1493)","v":""},{"$f":"IF(ISBLANK(Rådata!K1493),\"\",(SUM(Rådata!M1493:P1493)*100)/SUM(Rådata!H1493:K1493))","v":""},{"$f":"IF(ISBLANK(Rådata!H1493),\"\",((SUM(Rådata!J1493:L1493)-SUM(Rådata!O1493:P1493))*100)/SUM(Rådata!H1493:L1493))","v":""},{"$f":"IF(ISBLANK(Rådata!R1493),\"\",(Rådata!Q1493*100)/Rådata!R1493)","v":""}]
[{"$f":"IF(ISBLANK(Rådata!A1494)=TRUE,\"\",Rådata!A1494)","v":""},{"$f":"IF(ISBLANK(Rådata!A1494)=TRUE,\"\",YEAR(A1494))","v":""},{"$f":"IF(ISBLANK(Rådata!A1494)=TRUE,\"\",VLOOKUP(MONTH(A1494),Opsætning!$G$3:$H$14,2,FALSE))","v":""},{"$f":"IF(ISBLANK(Rådata!B1494)=TRUE,\"\",(Rådata!C1494*100)/Rådata!B1494)","v":""},{"$f":"IF(ISBLANK(Rådata!D1494)=TRUE,\"\",((Rådata!D1494-Rådata!E1494)*100)/Rådata!D1494)","v":""},{"$f":"IF(ISBLANK(Rådata!G1494)=TRUE,\"\",(Rådata!F1494*100)/Rådata!G1494)","v":""},{"$f":"IF(ISBLANK(Rådata!K1494),\"\",(SUM(Rådata!M1494:P1494)*100)/SUM(Rådata!H1494:K1494))","v":""},{"$f":"IF(ISBLANK(Rådata!H1494),\"\",((SUM(Rådata!J1494:L1494)-SUM(Rådata!O1494:P1494))*100)/SUM(Rådata!H1494:L1494))","v":""},{"$f":"IF(ISBLANK(Rådata!R1494),\"\",(Rådata!Q1494*100)/Rådata!R1494)","v":""}]
[{"$f":"IF(ISBLANK(Rådata!A1495)=TRUE,\"\",Rådata!A1495)","v":""},{"$f":"IF(ISBLANK(Rådata!A1495)=TRUE,\"\",YEAR(A1495))","v":""},{"$f":"IF(ISBLANK(Rådata!A1495)=TRUE,\"\",VLOOKUP(MONTH(A1495),Opsætning!$G$3:$H$14,2,FALSE))","v":""},{"$f":"IF(ISBLANK(Rådata!B1495)=TRUE,\"\",(Rådata!C1495*100)/Rådata!B1495)","v":""},{"$f":"IF(ISBLANK(Rådata!D1495)=TRUE,\"\",((Rådata!D1495-Rådata!E1495)*100)/Rådata!D1495)","v":""},{"$f":"IF(ISBLANK(Rådata!G1495)=TRUE,\"\",(Rådata!F1495*100)/Rådata!G1495)","v":""},{"$f":"IF(ISBLANK(Rådata!K1495),\"\",(SUM(Rådata!M1495:P1495)*100)/SUM(Rådata!H1495:K1495))","v":""},{"$f":"IF(ISBLANK(Rådata!H1495),\"\",((SUM(Rådata!J1495:L1495)-SUM(Rådata!O1495:P1495))*100)/SUM(Rådata!H1495:L1495))","v":""},{"$f":"IF(ISBLANK(Rådata!R1495),\"\",(Rådata!Q1495*100)/Rådata!R1495)","v":""}]
[{"$f":"IF(ISBLANK(Rådata!A1496)=TRUE,\"\",Rådata!A1496)","v":""},{"$f":"IF(ISBLANK(Rådata!A1496)=TRUE,\"\",YEAR(A1496))","v":""},{"$f":"IF(ISBLANK(Rådata!A1496)=TRUE,\"\",VLOOKUP(MONTH(A1496),Opsætning!$G$3:$H$14,2,FALSE))","v":""},{"$f":"IF(ISBLANK(Rådata!B1496)=TRUE,\"\",(Rådata!C1496*100)/Rådata!B1496)","v":""},{"$f":"IF(ISBLANK(Rådata!D1496)=TRUE,\"\",((Rådata!D1496-Rådata!E1496)*100)/Rådata!D1496)","v":""},{"$f":"IF(ISBLANK(Rådata!G1496)=TRUE,\"\",(Rådata!F1496*100)/Rådata!G1496)","v":""},{"$f":"IF(ISBLANK(Rådata!K1496),\"\",(SUM(Rådata!M1496:P1496)*100)/SUM(Rådata!H1496:K1496))","v":""},{"$f":"IF(ISBLANK(Rådata!H1496),\"\",((SUM(Rådata!J1496:L1496)-SUM(Rådata!O1496:P1496))*100)/SUM(Rådata!H1496:L1496))","v":""},{"$f":"IF(ISBLANK(Rådata!R1496),\"\",(Rådata!Q1496*100)/Rådata!R1496)","v":""}]
[{"$f":"IF(ISBLANK(Rådata!A1497)=TRUE,\"\",Rådata!A1497)","v":""},{"$f":"IF(ISBLANK(Rådata!A1497)=TRUE,\"\",YEAR(A1497))","v":""},{"$f":"IF(ISBLANK(Rådata!A1497)=TRUE,\"\",VLOOKUP(MONTH(A1497),Opsætning!$G$3:$H$14,2,FALSE))","v":""},{"$f":"IF(ISBLANK(Rådata!B1497)=TRUE,\"\",(Rådata!C1497*100)/Rådata!B1497)","v":""},{"$f":"IF(ISBLANK(Rådata!D1497)=TRUE,\"\",((Rådata!D1497-Rådata!E1497)*100)/Rådata!D1497)","v":""},{"$f":"IF(ISBLANK(Rådata!G1497)=TRUE,\"\",(Rådata!F1497*100)/Rådata!G1497)","v":""},{"$f":"IF(ISBLANK(Rådata!K1497),\"\",(SUM(Rådata!M1497:P1497)*100)/SUM(Rådata!H1497:K1497))","v":""},{"$f":"IF(ISBLANK(Rådata!H1497),\"\",((SUM(Rådata!J1497:L1497)-SUM(Rådata!O1497:P1497))*100)/SUM(Rådata!H1497:L1497))","v":""},{"$f":"IF(ISBLANK(Rådata!R1497),\"\",(Rådata!Q1497*100)/Rådata!R1497)","v":""}]
[{"$f":"IF(ISBLANK(Rådata!A1498)=TRUE,\"\",Rådata!A1498)","v":""},{"$f":"IF(ISBLANK(Rådata!A1498)=TRUE,\"\",YEAR(A1498))","v":""},{"$f":"IF(ISBLANK(Rådata!A1498)=TRUE,\"\",VLOOKUP(MONTH(A1498),Opsætning!$G$3:$H$14,2,FALSE))","v":""},{"$f":"IF(ISBLANK(Rådata!B1498)=TRUE,\"\",(Rådata!C1498*100)/Rådata!B1498)","v":""},{"$f":"IF(ISBLANK(Rådata!D1498)=TRUE,\"\",((Rådata!D1498-Rådata!E1498)*100)/Rådata!D1498)","v":""},{"$f":"IF(ISBLANK(Rådata!G1498)=TRUE,\"\",(Rådata!F1498*100)/Rådata!G1498)","v":""},{"$f":"IF(ISBLANK(Rådata!K1498),\"\",(SUM(Rådata!M1498:P1498)*100)/SUM(Rådata!H1498:K1498))","v":""},{"$f":"IF(ISBLANK(Rådata!H1498),\"\",((SUM(Rådata!J1498:L1498)-SUM(Rådata!O1498:P1498))*100)/SUM(Rådata!H1498:L1498))","v":""},{"$f":"IF(ISBLANK(Rådata!R1498),\"\",(Rådata!Q1498*100)/Rådata!R1498)","v":""}]
[{"$f":"IF(ISBLANK(Rådata!A1499)=TRUE,\"\",Rådata!A1499)","v":""},{"$f":"IF(ISBLANK(Rådata!A1499)=TRUE,\"\",YEAR(A1499))","v":""},{"$f":"IF(ISBLANK(Rådata!A1499)=TRUE,\"\",VLOOKUP(MONTH(A1499),Opsætning!$G$3:$H$14,2,FALSE))","v":""},{"$f":"IF(ISBLANK(Rådata!B1499)=TRUE,\"\",(Rådata!C1499*100)/Rådata!B1499)","v":""},{"$f":"IF(ISBLANK(Rådata!D1499)=TRUE,\"\",((Rådata!D1499-Rådata!E1499)*100)/Rådata!D1499)","v":""},{"$f":"IF(ISBLANK(Rådata!G1499)=TRUE,\"\",(Rådata!F1499*100)/Rådata!G1499)","v":""},{"$f":"IF(ISBLANK(Rådata!K1499),\"\",(SUM(Rådata!M1499:P1499)*100)/SUM(Rådata!H1499:K1499))","v":""},{"$f":"IF(ISBLANK(Rådata!H1499),\"\",((SUM(Rådata!J1499:L1499)-SUM(Rådata!O1499:P1499))*100)/SUM(Rådata!H1499:L1499))","v":""},{"$f":"IF(ISBLANK(Rådata!R1499),\"\",(Rådata!Q1499*100)/Rådata!R1499)","v":""}]
[{"$f":"IF(ISBLANK(Rådata!A1500)=TRUE,\"\",Rådata!A1500)","v":""},{"$f":"IF(ISBLANK(Rådata!A1500)=TRUE,\"\",YEAR(A1500))","v":""},{"$f":"IF(ISBLANK(Rådata!A1500)=TRUE,\"\",VLOOKUP(MONTH(A1500),Opsætning!$G$3:$H$14,2,FALSE))","v":""},{"$f":"IF(ISBLANK(Rådata!B1500)=TRUE,\"\",(Rådata!C1500*100)/Rådata!B1500)","v":""},{"$f":"IF(ISBLANK(Rådata!D1500)=TRUE,\"\",((Rådata!D1500-Rådata!E1500)*100)/Rådata!D1500)","v":""},{"$f":"IF(ISBLANK(Rådata!G1500)=TRUE,\"\",(Rådata!F1500*100)/Rådata!G1500)","v":""},{"$f":"IF(ISBLANK(Rådata!K1500),\"\",(SUM(Rådata!M1500:P1500)*100)/SUM(Rådata!H1500:K1500))","v":""},{"$f":"IF(ISBLANK(Rådata!H1500),\"\",((SUM(Rådata!J1500:L1500)-SUM(Rådata!O1500:P1500))*100)/SUM(Rådata!H1500:L1500))","v":""},{"$f":"IF(ISBLANK(Rådata!R1500),\"\",(Rådata!Q1500*100)/Rådata!R1500)","v":""}]
[{"$f":"IF(ISBLANK(Rådata!A1501)=TRUE,\"\",Rådata!A1501)","v":""},{"$f":"IF(ISBLANK(Rådata!A1501)=TRUE,\"\",YEAR(A1501))","v":""},{"$f":"IF(ISBLANK(Rådata!A1501)=TRUE,\"\",VLOOKUP(MONTH(A1501),Opsætning!$G$3:$H$14,2,FALSE))","v":""},{"$f":"IF(ISBLANK(Rådata!B1501)=TRUE,\"\",(Rådata!C1501*100)/Rådata!B1501)","v":""},{"$f":"IF(ISBLANK(Rådata!D1501)=TRUE,\"\",((Rådata!D1501-Rådata!E1501)*100)/Rådata!D1501)","v":""},{"$f":"IF(ISBLANK(Rådata!G1501)=TRUE,\"\",(Rådata!F1501*100)/Rådata!G1501)","v":""},{"$f":"IF(ISBLANK(Rådata!K1501),\"\",(SUM(Rådata!M1501:P1501)*100)/SUM(Rådata!H1501:K1501))","v":""},{"$f":"IF(ISBLANK(Rådata!H1501),\"\",((SUM(Rådata!J1501:L1501)-SUM(Rådata!O1501:P1501))*100)/SUM(Rådata!H1501:L1501))","v":""},{"$f":"IF(ISBLANK(Rådata!R1501),\"\",(Rådata!Q1501*100)/Rådata!R1501)","v":""}]
[{"$f":"IF(ISBLANK(Rådata!A1502)=TRUE,\"\",Rådata!A1502)","v":""},{"$f":"IF(ISBLANK(Rådata!A1502)=TRUE,\"\",YEAR(A1502))","v":""},{"$f":"IF(ISBLANK(Rådata!A1502)=TRUE,\"\",VLOOKUP(MONTH(A1502),Opsætning!$G$3:$H$14,2,FALSE))","v":""},{"$f":"IF(ISBLANK(Rådata!B1502)=TRUE,\"\",(Rådata!C1502*100)/Rådata!B1502)","v":""},{"$f":"IF(ISBLANK(Rådata!D1502)=TRUE,\"\",((Rådata!D1502-Rådata!E1502)*100)/Rådata!D1502)","v":""},{"$f":"IF(ISBLANK(Rådata!G1502)=TRUE,\"\",(Rådata!F1502*100)/Rådata!G1502)","v":""},{"$f":"IF(ISBLANK(Rådata!K1502),\"\",(SUM(Rådata!M1502:P1502)*100)/SUM(Rådata!H1502:K1502))","v":""},{"$f":"IF(ISBLANK(Rådata!H1502),\"\",((SUM(Rådata!J1502:L1502)-SUM(Rådata!O1502:P1502))*100)/SUM(Rådata!H1502:L1502))","v":""},{"$f":"IF(ISBLANK(Rådata!R1502),\"\",(Rådata!Q1502*100)/Rådata!R1502)","v":""}]
[{"$f":"IF(ISBLANK(Rådata!A1503)=TRUE,\"\",Rådata!A1503)","v":""},{"$f":"IF(ISBLANK(Rådata!A1503)=TRUE,\"\",YEAR(A1503))","v":""},{"$f":"IF(ISBLANK(Rådata!A1503)=TRUE,\"\",VLOOKUP(MONTH(A1503),Opsætning!$G$3:$H$14,2,FALSE))","v":""},{"$f":"IF(ISBLANK(Rådata!B1503)=TRUE,\"\",(Rådata!C1503*100)/Rådata!B1503)","v":""},{"$f":"IF(ISBLANK(Rådata!D1503)=TRUE,\"\",((Rådata!D1503-Rådata!E1503)*100)/Rådata!D1503)","v":""},{"$f":"IF(ISBLANK(Rådata!G1503)=TRUE,\"\",(Rådata!F1503*100)/Rådata!G1503)","v":""},{"$f":"IF(ISBLANK(Rådata!K1503),\"\",(SUM(Rådata!M1503:P1503)*100)/SUM(Rådata!H1503:K1503))","v":""},{"$f":"IF(ISBLANK(Rådata!H1503),\"\",((SUM(Rådata!J1503:L1503)-SUM(Rådata!O1503:P1503))*100)/SUM(Rådata!H1503:L1503))","v":""},{"$f":"IF(ISBLANK(Rådata!R1503),\"\",(Rådata!Q1503*100)/Rådata!R1503)","v":""}]
[{"$f":"IF(ISBLANK(Rådata!A1504)=TRUE,\"\",Rådata!A1504)","v":""},{"$f":"IF(ISBLANK(Rådata!A1504)=TRUE,\"\",YEAR(A1504))","v":""},{"$f":"IF(ISBLANK(Rådata!A1504)=TRUE,\"\",VLOOKUP(MONTH(A1504),Opsætning!$G$3:$H$14,2,FALSE))","v":""},{"$f":"IF(ISBLANK(Rådata!B1504)=TRUE,\"\",(Rådata!C1504*100)/Rådata!B1504)","v":""},{"$f":"IF(ISBLANK(Rådata!D1504)=TRUE,\"\",((Rådata!D1504-Rådata!E1504)*100)/Rådata!D1504)","v":""},{"$f":"IF(ISBLANK(Rådata!G1504)=TRUE,\"\",(Rådata!F1504*100)/Rådata!G1504)","v":""},{"$f":"IF(ISBLANK(Rådata!K1504),\"\",(SUM(Rådata!M1504:P1504)*100)/SUM(Rådata!H1504:K1504))","v":""},{"$f":"IF(ISBLANK(Rådata!H1504),\"\",((SUM(Rådata!J1504:L1504)-SUM(Rådata!O1504:P1504))*100)/SUM(Rådata!H1504:L1504))","v":""},{"$f":"IF(ISBLANK(Rådata!R1504),\"\",(Rådata!Q1504*100)/Rådata!R1504)","v":""}]
[{"$f":"IF(ISBLANK(Rådata!A1505)=TRUE,\"\",Rådata!A1505)","v":""},{"$f":"IF(ISBLANK(Rådata!A1505)=TRUE,\"\",YEAR(A1505))","v":""},{"$f":"IF(ISBLANK(Rådata!A1505)=TRUE,\"\",VLOOKUP(MONTH(A1505),Opsætning!$G$3:$H$14,2,FALSE))","v":""},{"$f":"IF(ISBLANK(Rådata!B1505)=TRUE,\"\",(Rådata!C1505*100)/Rådata!B1505)","v":""},{"$f":"IF(ISBLANK(Rådata!D1505)=TRUE,\"\",((Rådata!D1505-Rådata!E1505)*100)/Rådata!D1505)","v":""},{"$f":"IF(ISBLANK(Rådata!G1505)=TRUE,\"\",(Rådata!F1505*100)/Rådata!G1505)","v":""},{"$f":"IF(ISBLANK(Rådata!K1505),\"\",(SUM(Rådata!M1505:P1505)*100)/SUM(Rådata!H1505:K1505))","v":""},{"$f":"IF(ISBLANK(Rådata!H1505),\"\",((SUM(Rådata!J1505:L1505)-SUM(Rådata!O1505:P1505))*100)/SUM(Rådata!H1505:L1505))","v":""},{"$f":"IF(ISBLANK(Rådata!R1505),\"\",(Rådata!Q1505*100)/Rådata!R1505)","v":""}]
[{"$f":"IF(ISBLANK(Rådata!A1506)=TRUE,\"\",Rådata!A1506)","v":""},{"$f":"IF(ISBLANK(Rådata!A1506)=TRUE,\"\",YEAR(A1506))","v":""},{"$f":"IF(ISBLANK(Rådata!A1506)=TRUE,\"\",VLOOKUP(MONTH(A1506),Opsætning!$G$3:$H$14,2,FALSE))","v":""},{"$f":"IF(ISBLANK(Rådata!B1506)=TRUE,\"\",(Rådata!C1506*100)/Rådata!B1506)","v":""},{"$f":"IF(ISBLANK(Rådata!D1506)=TRUE,\"\",((Rådata!D1506-Rådata!E1506)*100)/Rådata!D1506)","v":""},{"$f":"IF(ISBLANK(Rådata!G1506)=TRUE,\"\",(Rådata!F1506*100)/Rådata!G1506)","v":""},{"$f":"IF(ISBLANK(Rådata!K1506),\"\",(SUM(Rådata!M1506:P1506)*100)/SUM(Rådata!H1506:K1506))","v":""},{"$f":"IF(ISBLANK(Rådata!H1506),\"\",((SUM(Rådata!J1506:L1506)-SUM(Rådata!O1506:P1506))*100)/SUM(Rådata!H1506:L1506))","v":""},{"$f":"IF(ISBLANK(Rådata!R1506),\"\",(Rådata!Q1506*100)/Rådata!R1506)","v":""}]
[{"$f":"IF(ISBLANK(Rådata!A1507)=TRUE,\"\",Rådata!A1507)","v":""},{"$f":"IF(ISBLANK(Rådata!A1507)=TRUE,\"\",YEAR(A1507))","v":""},{"$f":"IF(ISBLANK(Rådata!A1507)=TRUE,\"\",VLOOKUP(MONTH(A1507),Opsætning!$G$3:$H$14,2,FALSE))","v":""},{"$f":"IF(ISBLANK(Rådata!B1507)=TRUE,\"\",(Rådata!C1507*100)/Rådata!B1507)","v":""},{"$f":"IF(ISBLANK(Rådata!D1507)=TRUE,\"\",((Rådata!D1507-Rådata!E1507)*100)/Rådata!D1507)","v":""},{"$f":"IF(ISBLANK(Rådata!G1507)=TRUE,\"\",(Rådata!F1507*100)/Rådata!G1507)","v":""},{"$f":"IF(ISBLANK(Rådata!K1507),\"\",(SUM(Rådata!M1507:P1507)*100)/SUM(Rådata!H1507:K1507))","v":""},{"$f":"IF(ISBLANK(Rådata!H1507),\"\",((SUM(Rådata!J1507:L1507)-SUM(Rådata!O1507:P1507))*100)/SUM(Rådata!H1507:L1507))","v":""},{"$f":"IF(ISBLANK(Rådata!R1507),\"\",(Rådata!Q1507*100)/Rådata!R1507)","v":""}]
[{"$f":"IF(ISBLANK(Rådata!A1508)=TRUE,\"\",Rådata!A1508)","v":""},{"$f":"IF(ISBLANK(Rådata!A1508)=TRUE,\"\",YEAR(A1508))","v":""},{"$f":"IF(ISBLANK(Rådata!A1508)=TRUE,\"\",VLOOKUP(MONTH(A1508),Opsætning!$G$3:$H$14,2,FALSE))","v":""},{"$f":"IF(ISBLANK(Rådata!B1508)=TRUE,\"\",(Rådata!C1508*100)/Rådata!B1508)","v":""},{"$f":"IF(ISBLANK(Rådata!D1508)=TRUE,\"\",((Rådata!D1508-Rådata!E1508)*100)/Rådata!D1508)","v":""},{"$f":"IF(ISBLANK(Rådata!G1508)=TRUE,\"\",(Rådata!F1508*100)/Rådata!G1508)","v":""},{"$f":"IF(ISBLANK(Rådata!K1508),\"\",(SUM(Rådata!M1508:P1508)*100)/SUM(Rådata!H1508:K1508))","v":""},{"$f":"IF(ISBLANK(Rådata!H1508),\"\",((SUM(Rådata!J1508:L1508)-SUM(Rådata!O1508:P1508))*100)/SUM(Rådata!H1508:L1508))","v":""},{"$f":"IF(ISBLANK(Rådata!R1508),\"\",(Rådata!Q1508*100)/Rådata!R1508)","v":""}]
[{"$f":"IF(ISBLANK(Rådata!A1509)=TRUE,\"\",Rådata!A1509)","v":""},{"$f":"IF(ISBLANK(Rådata!A1509)=TRUE,\"\",YEAR(A1509))","v":""},{"$f":"IF(ISBLANK(Rådata!A1509)=TRUE,\"\",VLOOKUP(MONTH(A1509),Opsætning!$G$3:$H$14,2,FALSE))","v":""},{"$f":"IF(ISBLANK(Rådata!B1509)=TRUE,\"\",(Rådata!C1509*100)/Rådata!B1509)","v":""},{"$f":"IF(ISBLANK(Rådata!D1509)=TRUE,\"\",((Rådata!D1509-Rådata!E1509)*100)/Rådata!D1509)","v":""},{"$f":"IF(ISBLANK(Rådata!G1509)=TRUE,\"\",(Rådata!F1509*100)/Rådata!G1509)","v":""},{"$f":"IF(ISBLANK(Rådata!K1509),\"\",(SUM(Rådata!M1509:P1509)*100)/SUM(Rådata!H1509:K1509))","v":""},{"$f":"IF(ISBLANK(Rådata!H1509),\"\",((SUM(Rådata!J1509:L1509)-SUM(Rådata!O1509:P1509))*100)/SUM(Rådata!H1509:L1509))","v":""},{"$f":"IF(ISBLANK(Rådata!R1509),\"\",(Rådata!Q1509*100)/Rådata!R1509)","v":""}]
[{"$f":"IF(ISBLANK(Rådata!A1510)=TRUE,\"\",Rådata!A1510)","v":""},{"$f":"IF(ISBLANK(Rådata!A1510)=TRUE,\"\",YEAR(A1510))","v":""},{"$f":"IF(ISBLANK(Rådata!A1510)=TRUE,\"\",VLOOKUP(MONTH(A1510),Opsætning!$G$3:$H$14,2,FALSE))","v":""},{"$f":"IF(ISBLANK(Rådata!B1510)=TRUE,\"\",(Rådata!C1510*100)/Rådata!B1510)","v":""},{"$f":"IF(ISBLANK(Rådata!D1510)=TRUE,\"\",((Rådata!D1510-Rådata!E1510)*100)/Rådata!D1510)","v":""},{"$f":"IF(ISBLANK(Rådata!G1510)=TRUE,\"\",(Rådata!F1510*100)/Rådata!G1510)","v":""},{"$f":"IF(ISBLANK(Rådata!K1510),\"\",(SUM(Rådata!M1510:P1510)*100)/SUM(Rådata!H1510:K1510))","v":""},{"$f":"IF(ISBLANK(Rådata!H1510),\"\",((SUM(Rådata!J1510:L1510)-SUM(Rådata!O1510:P1510))*100)/SUM(Rådata!H1510:L1510))","v":""},{"$f":"IF(ISBLANK(Rådata!R1510),\"\",(Rådata!Q1510*100)/Rådata!R1510)","v":""}]
[{"$f":"IF(ISBLANK(Rådata!A1511)=TRUE,\"\",Rådata!A1511)","v":""},{"$f":"IF(ISBLANK(Rådata!A1511)=TRUE,\"\",YEAR(A1511))","v":""},{"$f":"IF(ISBLANK(Rådata!A1511)=TRUE,\"\",VLOOKUP(MONTH(A1511),Opsætning!$G$3:$H$14,2,FALSE))","v":""},{"$f":"IF(ISBLANK(Rådata!B1511)=TRUE,\"\",(Rådata!C1511*100)/Rådata!B1511)","v":""},{"$f":"IF(ISBLANK(Rådata!D1511)=TRUE,\"\",((Rådata!D1511-Rådata!E1511)*100)/Rådata!D1511)","v":""},{"$f":"IF(ISBLANK(Rådata!G1511)=TRUE,\"\",(Rådata!F1511*100)/Rådata!G1511)","v":""},{"$f":"IF(ISBLANK(Rådata!K1511),\"\",(SUM(Rådata!M1511:P1511)*100)/SUM(Rådata!H1511:K1511))","v":""},{"$f":"IF(ISBLANK(Rådata!H1511),\"\",((SUM(Rådata!J1511:L1511)-SUM(Rådata!O1511:P1511))*100)/SUM(Rådata!H1511:L1511))","v":""},{"$f":"IF(ISBLANK(Rådata!R1511),\"\",(Rådata!Q1511*100)/Rådata!R1511)","v":""}]
[{"$f":"IF(ISBLANK(Rådata!A1512)=TRUE,\"\",Rådata!A1512)","v":""},{"$f":"IF(ISBLANK(Rådata!A1512)=TRUE,\"\",YEAR(A1512))","v":""},{"$f":"IF(ISBLANK(Rådata!A1512)=TRUE,\"\",VLOOKUP(MONTH(A1512),Opsætning!$G$3:$H$14,2,FALSE))","v":""},{"$f":"IF(ISBLANK(Rådata!B1512)=TRUE,\"\",(Rådata!C1512*100)/Rådata!B1512)","v":""},{"$f":"IF(ISBLANK(Rådata!D1512)=TRUE,\"\",((Rådata!D1512-Rådata!E1512)*100)/Rådata!D1512)","v":""},{"$f":"IF(ISBLANK(Rådata!G1512)=TRUE,\"\",(Rådata!F1512*100)/Rådata!G1512)","v":""},{"$f":"IF(ISBLANK(Rådata!K1512),\"\",(SUM(Rådata!M1512:P1512)*100)/SUM(Rådata!H1512:K1512))","v":""},{"$f":"IF(ISBLANK(Rådata!H1512),\"\",((SUM(Rådata!J1512:L1512)-SUM(Rådata!O1512:P1512))*100)/SUM(Rådata!H1512:L1512))","v":""},{"$f":"IF(ISBLANK(Rådata!R1512),\"\",(Rådata!Q1512*100)/Rådata!R1512)","v":""}]
[{"$f":"IF(ISBLANK(Rådata!A1513)=TRUE,\"\",Rådata!A1513)","v":""},{"$f":"IF(ISBLANK(Rådata!A1513)=TRUE,\"\",YEAR(A1513))","v":""},{"$f":"IF(ISBLANK(Rådata!A1513)=TRUE,\"\",VLOOKUP(MONTH(A1513),Opsætning!$G$3:$H$14,2,FALSE))","v":""},{"$f":"IF(ISBLANK(Rådata!B1513)=TRUE,\"\",(Rådata!C1513*100)/Rådata!B1513)","v":""},{"$f":"IF(ISBLANK(Rådata!D1513)=TRUE,\"\",((Rådata!D1513-Rådata!E1513)*100)/Rådata!D1513)","v":""},{"$f":"IF(ISBLANK(Rådata!G1513)=TRUE,\"\",(Rådata!F1513*100)/Rådata!G1513)","v":""},{"$f":"IF(ISBLANK(Rådata!K1513),\"\",(SUM(Rådata!M1513:P1513)*100)/SUM(Rådata!H1513:K1513))","v":""},{"$f":"IF(ISBLANK(Rådata!H1513),\"\",((SUM(Rådata!J1513:L1513)-SUM(Rådata!O1513:P1513))*100)/SUM(Rådata!H1513:L1513))","v":""},{"$f":"IF(ISBLANK(Rådata!R1513),\"\",(Rådata!Q1513*100)/Rådata!R1513)","v":""}]
[{"$f":"IF(ISBLANK(Rådata!A1514)=TRUE,\"\",Rådata!A1514)","v":""},{"$f":"IF(ISBLANK(Rådata!A1514)=TRUE,\"\",YEAR(A1514))","v":""},{"$f":"IF(ISBLANK(Rådata!A1514)=TRUE,\"\",VLOOKUP(MONTH(A1514),Opsætning!$G$3:$H$14,2,FALSE))","v":""},{"$f":"IF(ISBLANK(Rådata!B1514)=TRUE,\"\",(Rådata!C1514*100)/Rådata!B1514)","v":""},{"$f":"IF(ISBLANK(Rådata!D1514)=TRUE,\"\",((Rådata!D1514-Rådata!E1514)*100)/Rådata!D1514)","v":""},{"$f":"IF(ISBLANK(Rådata!G1514)=TRUE,\"\",(Rådata!F1514*100)/Rådata!G1514)","v":""},{"$f":"IF(ISBLANK(Rådata!K1514),\"\",(SUM(Rådata!M1514:P1514)*100)/SUM(Rådata!H1514:K1514))","v":""},{"$f":"IF(ISBLANK(Rådata!H1514),\"\",((SUM(Rådata!J1514:L1514)-SUM(Rådata!O1514:P1514))*100)/SUM(Rådata!H1514:L1514))","v":""},{"$f":"IF(ISBLANK(Rådata!R1514),\"\",(Rådata!Q1514*100)/Rådata!R1514)","v":""}]
[{"$f":"IF(ISBLANK(Rådata!A1515)=TRUE,\"\",Rådata!A1515)","v":""},{"$f":"IF(ISBLANK(Rådata!A1515)=TRUE,\"\",YEAR(A1515))","v":""},{"$f":"IF(ISBLANK(Rådata!A1515)=TRUE,\"\",VLOOKUP(MONTH(A1515),Opsætning!$G$3:$H$14,2,FALSE))","v":""},{"$f":"IF(ISBLANK(Rådata!B1515)=TRUE,\"\",(Rådata!C1515*100)/Rådata!B1515)","v":""},{"$f":"IF(ISBLANK(Rådata!D1515)=TRUE,\"\",((Rådata!D1515-Rådata!E1515)*100)/Rådata!D1515)","v":""},{"$f":"IF(ISBLANK(Rådata!G1515)=TRUE,\"\",(Rådata!F1515*100)/Rådata!G1515)","v":""},{"$f":"IF(ISBLANK(Rådata!K1515),\"\",(SUM(Rådata!M1515:P1515)*100)/SUM(Rådata!H1515:K1515))","v":""},{"$f":"IF(ISBLANK(Rådata!H1515),\"\",((SUM(Rådata!J1515:L1515)-SUM(Rådata!O1515:P1515))*100)/SUM(Rådata!H1515:L1515))","v":""},{"$f":"IF(ISBLANK(Rådata!R1515),\"\",(Rådata!Q1515*100)/Rådata!R1515)","v":""}]
[{"$f":"IF(ISBLANK(Rådata!A1516)=TRUE,\"\",Rådata!A1516)","v":""},{"$f":"IF(ISBLANK(Rådata!A1516)=TRUE,\"\",YEAR(A1516))","v":""},{"$f":"IF(ISBLANK(Rådata!A1516)=TRUE,\"\",VLOOKUP(MONTH(A1516),Opsætning!$G$3:$H$14,2,FALSE))","v":""},{"$f":"IF(ISBLANK(Rådata!B1516)=TRUE,\"\",(Rådata!C1516*100)/Rådata!B1516)","v":""},{"$f":"IF(ISBLANK(Rådata!D1516)=TRUE,\"\",((Rådata!D1516-Rådata!E1516)*100)/Rådata!D1516)","v":""},{"$f":"IF(ISBLANK(Rådata!G1516)=TRUE,\"\",(Rådata!F1516*100)/Rådata!G1516)","v":""},{"$f":"IF(ISBLANK(Rådata!K1516),\"\",(SUM(Rådata!M1516:P1516)*100)/SUM(Rådata!H1516:K1516))","v":""},{"$f":"IF(ISBLANK(Rådata!H1516),\"\",((SUM(Rådata!J1516:L1516)-SUM(Rådata!O1516:P1516))*100)/SUM(Rådata!H1516:L1516))","v":""},{"$f":"IF(ISBLANK(Rådata!R1516),\"\",(Rådata!Q1516*100)/Rådata!R1516)","v":""}]
[{"$f":"IF(ISBLANK(Rådata!A1517)=TRUE,\"\",Rådata!A1517)","v":""},{"$f":"IF(ISBLANK(Rådata!A1517)=TRUE,\"\",YEAR(A1517))","v":""},{"$f":"IF(ISBLANK(Rådata!A1517)=TRUE,\"\",VLOOKUP(MONTH(A1517),Opsætning!$G$3:$H$14,2,FALSE))","v":""},{"$f":"IF(ISBLANK(Rådata!B1517)=TRUE,\"\",(Rådata!C1517*100)/Rådata!B1517)","v":""},{"$f":"IF(ISBLANK(Rådata!D1517)=TRUE,\"\",((Rådata!D1517-Rådata!E1517)*100)/Rådata!D1517)","v":""},{"$f":"IF(ISBLANK(Rådata!G1517)=TRUE,\"\",(Rådata!F1517*100)/Rådata!G1517)","v":""},{"$f":"IF(ISBLANK(Rådata!K1517),\"\",(SUM(Rådata!M1517:P1517)*100)/SUM(Rådata!H1517:K1517))","v":""},{"$f":"IF(ISBLANK(Rådata!H1517),\"\",((SUM(Rådata!J1517:L1517)-SUM(Rådata!O1517:P1517))*100)/SUM(Rådata!H1517:L1517))","v":""},{"$f":"IF(ISBLANK(Rådata!R1517),\"\",(Rådata!Q1517*100)/Rådata!R1517)","v":""}]
[{"$f":"IF(ISBLANK(Rådata!A1518)=TRUE,\"\",Rådata!A1518)","v":""},{"$f":"IF(ISBLANK(Rådata!A1518)=TRUE,\"\",YEAR(A1518))","v":""},{"$f":"IF(ISBLANK(Rådata!A1518)=TRUE,\"\",VLOOKUP(MONTH(A1518),Opsætning!$G$3:$H$14,2,FALSE))","v":""},{"$f":"IF(ISBLANK(Rådata!B1518)=TRUE,\"\",(Rådata!C1518*100)/Rådata!B1518)","v":""},{"$f":"IF(ISBLANK(Rådata!D1518)=TRUE,\"\",((Rådata!D1518-Rådata!E1518)*100)/Rådata!D1518)","v":""},{"$f":"IF(ISBLANK(Rådata!G1518)=TRUE,\"\",(Rådata!F1518*100)/Rådata!G1518)","v":""},{"$f":"IF(ISBLANK(Rådata!K1518),\"\",(SUM(Rådata!M1518:P1518)*100)/SUM(Rådata!H1518:K1518))","v":""},{"$f":"IF(ISBLANK(Rådata!H1518),\"\",((SUM(Rådata!J1518:L1518)-SUM(Rådata!O1518:P1518))*100)/SUM(Rådata!H1518:L1518))","v":""},{"$f":"IF(ISBLANK(Rådata!R1518),\"\",(Rådata!Q1518*100)/Rådata!R1518)","v":""}]
[{"$f":"IF(ISBLANK(Rådata!A1519)=TRUE,\"\",Rådata!A1519)","v":""},{"$f":"IF(ISBLANK(Rådata!A1519)=TRUE,\"\",YEAR(A1519))","v":""},{"$f":"IF(ISBLANK(Rådata!A1519)=TRUE,\"\",VLOOKUP(MONTH(A1519),Opsætning!$G$3:$H$14,2,FALSE))","v":""},{"$f":"IF(ISBLANK(Rådata!B1519)=TRUE,\"\",(Rådata!C1519*100)/Rådata!B1519)","v":""},{"$f":"IF(ISBLANK(Rådata!D1519)=TRUE,\"\",((Rådata!D1519-Rådata!E1519)*100)/Rådata!D1519)","v":""},{"$f":"IF(ISBLANK(Rådata!G1519)=TRUE,\"\",(Rådata!F1519*100)/Rådata!G1519)","v":""},{"$f":"IF(ISBLANK(Rådata!K1519),\"\",(SUM(Rådata!M1519:P1519)*100)/SUM(Rådata!H1519:K1519))","v":""},{"$f":"IF(ISBLANK(Rådata!H1519),\"\",((SUM(Rådata!J1519:L1519)-SUM(Rådata!O1519:P1519))*100)/SUM(Rådata!H1519:L1519))","v":""},{"$f":"IF(ISBLANK(Rådata!R1519),\"\",(Rådata!Q1519*100)/Rådata!R1519)","v":""}]
[{"$f":"IF(ISBLANK(Rådata!A1520)=TRUE,\"\",Rådata!A1520)","v":""},{"$f":"IF(ISBLANK(Rådata!A1520)=TRUE,\"\",YEAR(A1520))","v":""},{"$f":"IF(ISBLANK(Rådata!A1520)=TRUE,\"\",VLOOKUP(MONTH(A1520),Opsætning!$G$3:$H$14,2,FALSE))","v":""},{"$f":"IF(ISBLANK(Rådata!B1520)=TRUE,\"\",(Rådata!C1520*100)/Rådata!B1520)","v":""},{"$f":"IF(ISBLANK(Rådata!D1520)=TRUE,\"\",((Rådata!D1520-Rådata!E1520)*100)/Rådata!D1520)","v":""},{"$f":"IF(ISBLANK(Rådata!G1520)=TRUE,\"\",(Rådata!F1520*100)/Rådata!G1520)","v":""},{"$f":"IF(ISBLANK(Rådata!K1520),\"\",(SUM(Rådata!M1520:P1520)*100)/SUM(Rådata!H1520:K1520))","v":""},{"$f":"IF(ISBLANK(Rådata!H1520),\"\",((SUM(Rådata!J1520:L1520)-SUM(Rådata!O1520:P1520))*100)/SUM(Rådata!H1520:L1520))","v":""},{"$f":"IF(ISBLANK(Rådata!R1520),\"\",(Rådata!Q1520*100)/Rådata!R1520)","v":""}]
[{"$f":"IF(ISBLANK(Rådata!A1521)=TRUE,\"\",Rådata!A1521)","v":""},{"$f":"IF(ISBLANK(Rådata!A1521)=TRUE,\"\",YEAR(A1521))","v":""},{"$f":"IF(ISBLANK(Rådata!A1521)=TRUE,\"\",VLOOKUP(MONTH(A1521),Opsætning!$G$3:$H$14,2,FALSE))","v":""},{"$f":"IF(ISBLANK(Rådata!B1521)=TRUE,\"\",(Rådata!C1521*100)/Rådata!B1521)","v":""},{"$f":"IF(ISBLANK(Rådata!D1521)=TRUE,\"\",((Rådata!D1521-Rådata!E1521)*100)/Rådata!D1521)","v":""},{"$f":"IF(ISBLANK(Rådata!G1521)=TRUE,\"\",(Rådata!F1521*100)/Rådata!G1521)","v":""},{"$f":"IF(ISBLANK(Rådata!K1521),\"\",(SUM(Rådata!M1521:P1521)*100)/SUM(Rådata!H1521:K1521))","v":""},{"$f":"IF(ISBLANK(Rådata!H1521),\"\",((SUM(Rådata!J1521:L1521)-SUM(Rådata!O1521:P1521))*100)/SUM(Rådata!H1521:L1521))","v":""},{"$f":"IF(ISBLANK(Rådata!R1521),\"\",(Rådata!Q1521*100)/Rådata!R1521)","v":""}]
[{"$f":"IF(ISBLANK(Rådata!A1522)=TRUE,\"\",Rådata!A1522)","v":""},{"$f":"IF(ISBLANK(Rådata!A1522)=TRUE,\"\",YEAR(A1522))","v":""},{"$f":"IF(ISBLANK(Rådata!A1522)=TRUE,\"\",VLOOKUP(MONTH(A1522),Opsætning!$G$3:$H$14,2,FALSE))","v":""},{"$f":"IF(ISBLANK(Rådata!B1522)=TRUE,\"\",(Rådata!C1522*100)/Rådata!B1522)","v":""},{"$f":"IF(ISBLANK(Rådata!D1522)=TRUE,\"\",((Rådata!D1522-Rådata!E1522)*100)/Rådata!D1522)","v":""},{"$f":"IF(ISBLANK(Rådata!G1522)=TRUE,\"\",(Rådata!F1522*100)/Rådata!G1522)","v":""},{"$f":"IF(ISBLANK(Rådata!K1522),\"\",(SUM(Rådata!M1522:P1522)*100)/SUM(Rådata!H1522:K1522))","v":""},{"$f":"IF(ISBLANK(Rådata!H1522),\"\",((SUM(Rådata!J1522:L1522)-SUM(Rådata!O1522:P1522))*100)/SUM(Rådata!H1522:L1522))","v":""},{"$f":"IF(ISBLANK(Rådata!R1522),\"\",(Rådata!Q1522*100)/Rådata!R1522)","v":""}]
[{"$f":"IF(ISBLANK(Rådata!A1523)=TRUE,\"\",Rådata!A1523)","v":""},{"$f":"IF(ISBLANK(Rådata!A1523)=TRUE,\"\",YEAR(A1523))","v":""},{"$f":"IF(ISBLANK(Rådata!A1523)=TRUE,\"\",VLOOKUP(MONTH(A1523),Opsætning!$G$3:$H$14,2,FALSE))","v":""},{"$f":"IF(ISBLANK(Rådata!B1523)=TRUE,\"\",(Rådata!C1523*100)/Rådata!B1523)","v":""},{"$f":"IF(ISBLANK(Rådata!D1523)=TRUE,\"\",((Rådata!D1523-Rådata!E1523)*100)/Rådata!D1523)","v":""},{"$f":"IF(ISBLANK(Rådata!G1523)=TRUE,\"\",(Rådata!F1523*100)/Rådata!G1523)","v":""},{"$f":"IF(ISBLANK(Rådata!K1523),\"\",(SUM(Rådata!M1523:P1523)*100)/SUM(Rådata!H1523:K1523))","v":""},{"$f":"IF(ISBLANK(Rådata!H1523),\"\",((SUM(Rådata!J1523:L1523)-SUM(Rådata!O1523:P1523))*100)/SUM(Rådata!H1523:L1523))","v":""},{"$f":"IF(ISBLANK(Rådata!R1523),\"\",(Rådata!Q1523*100)/Rådata!R1523)","v":""}]
[{"$f":"IF(ISBLANK(Rådata!A1524)=TRUE,\"\",Rådata!A1524)","v":""},{"$f":"IF(ISBLANK(Rådata!A1524)=TRUE,\"\",YEAR(A1524))","v":""},{"$f":"IF(ISBLANK(Rådata!A1524)=TRUE,\"\",VLOOKUP(MONTH(A1524),Opsætning!$G$3:$H$14,2,FALSE))","v":""},{"$f":"IF(ISBLANK(Rådata!B1524)=TRUE,\"\",(Rådata!C1524*100)/Rådata!B1524)","v":""},{"$f":"IF(ISBLANK(Rådata!D1524)=TRUE,\"\",((Rådata!D1524-Rådata!E1524)*100)/Rådata!D1524)","v":""},{"$f":"IF(ISBLANK(Rådata!G1524)=TRUE,\"\",(Rådata!F1524*100)/Rådata!G1524)","v":""},{"$f":"IF(ISBLANK(Rådata!K1524),\"\",(SUM(Rådata!M1524:P1524)*100)/SUM(Rådata!H1524:K1524))","v":""},{"$f":"IF(ISBLANK(Rådata!H1524),\"\",((SUM(Rådata!J1524:L1524)-SUM(Rådata!O1524:P1524))*100)/SUM(Rådata!H1524:L1524))","v":""},{"$f":"IF(ISBLANK(Rådata!R1524),\"\",(Rådata!Q1524*100)/Rådata!R1524)","v":""}]
[{"$f":"IF(ISBLANK(Rådata!A1525)=TRUE,\"\",Rådata!A1525)","v":""},{"$f":"IF(ISBLANK(Rådata!A1525)=TRUE,\"\",YEAR(A1525))","v":""},{"$f":"IF(ISBLANK(Rådata!A1525)=TRUE,\"\",VLOOKUP(MONTH(A1525),Opsætning!$G$3:$H$14,2,FALSE))","v":""},{"$f":"IF(ISBLANK(Rådata!B1525)=TRUE,\"\",(Rådata!C1525*100)/Rådata!B1525)","v":""},{"$f":"IF(ISBLANK(Rådata!D1525)=TRUE,\"\",((Rådata!D1525-Rådata!E1525)*100)/Rådata!D1525)","v":""},{"$f":"IF(ISBLANK(Rådata!G1525)=TRUE,\"\",(Rådata!F1525*100)/Rådata!G1525)","v":""},{"$f":"IF(ISBLANK(Rådata!K1525),\"\",(SUM(Rådata!M1525:P1525)*100)/SUM(Rådata!H1525:K1525))","v":""},{"$f":"IF(ISBLANK(Rådata!H1525),\"\",((SUM(Rådata!J1525:L1525)-SUM(Rådata!O1525:P1525))*100)/SUM(Rådata!H1525:L1525))","v":""},{"$f":"IF(ISBLANK(Rådata!R1525),\"\",(Rådata!Q1525*100)/Rådata!R1525)","v":""}]
[{"$f":"IF(ISBLANK(Rådata!A1526)=TRUE,\"\",Rådata!A1526)","v":""},{"$f":"IF(ISBLANK(Rådata!A1526)=TRUE,\"\",YEAR(A1526))","v":""},{"$f":"IF(ISBLANK(Rådata!A1526)=TRUE,\"\",VLOOKUP(MONTH(A1526),Opsætning!$G$3:$H$14,2,FALSE))","v":""},{"$f":"IF(ISBLANK(Rådata!B1526)=TRUE,\"\",(Rådata!C1526*100)/Rådata!B1526)","v":""},{"$f":"IF(ISBLANK(Rådata!D1526)=TRUE,\"\",((Rådata!D1526-Rådata!E1526)*100)/Rådata!D1526)","v":""},{"$f":"IF(ISBLANK(Rådata!G1526)=TRUE,\"\",(Rådata!F1526*100)/Rådata!G1526)","v":""},{"$f":"IF(ISBLANK(Rådata!K1526),\"\",(SUM(Rådata!M1526:P1526)*100)/SUM(Rådata!H1526:K1526))","v":""},{"$f":"IF(ISBLANK(Rådata!H1526),\"\",((SUM(Rådata!J1526:L1526)-SUM(Rådata!O1526:P1526))*100)/SUM(Rådata!H1526:L1526))","v":""},{"$f":"IF(ISBLANK(Rådata!R1526),\"\",(Rådata!Q1526*100)/Rådata!R1526)","v":""}]
[{"$f":"IF(ISBLANK(Rådata!A1527)=TRUE,\"\",Rådata!A1527)","v":""},{"$f":"IF(ISBLANK(Rådata!A1527)=TRUE,\"\",YEAR(A1527))","v":""},{"$f":"IF(ISBLANK(Rådata!A1527)=TRUE,\"\",VLOOKUP(MONTH(A1527),Opsætning!$G$3:$H$14,2,FALSE))","v":""},{"$f":"IF(ISBLANK(Rådata!B1527)=TRUE,\"\",(Rådata!C1527*100)/Rådata!B1527)","v":""},{"$f":"IF(ISBLANK(Rådata!D1527)=TRUE,\"\",((Rådata!D1527-Rådata!E1527)*100)/Rådata!D1527)","v":""},{"$f":"IF(ISBLANK(Rådata!G1527)=TRUE,\"\",(Rådata!F1527*100)/Rådata!G1527)","v":""},{"$f":"IF(ISBLANK(Rådata!K1527),\"\",(SUM(Rådata!M1527:P1527)*100)/SUM(Rådata!H1527:K1527))","v":""},{"$f":"IF(ISBLANK(Rådata!H1527),\"\",((SUM(Rådata!J1527:L1527)-SUM(Rådata!O1527:P1527))*100)/SUM(Rådata!H1527:L1527))","v":""},{"$f":"IF(ISBLANK(Rådata!R1527),\"\",(Rådata!Q1527*100)/Rådata!R1527)","v":""}]
[{"$f":"IF(ISBLANK(Rådata!A1528)=TRUE,\"\",Rådata!A1528)","v":""},{"$f":"IF(ISBLANK(Rådata!A1528)=TRUE,\"\",YEAR(A1528))","v":""},{"$f":"IF(ISBLANK(Rådata!A1528)=TRUE,\"\",VLOOKUP(MONTH(A1528),Opsætning!$G$3:$H$14,2,FALSE))","v":""},{"$f":"IF(ISBLANK(Rådata!B1528)=TRUE,\"\",(Rådata!C1528*100)/Rådata!B1528)","v":""},{"$f":"IF(ISBLANK(Rådata!D1528)=TRUE,\"\",((Rådata!D1528-Rådata!E1528)*100)/Rådata!D1528)","v":""},{"$f":"IF(ISBLANK(Rådata!G1528)=TRUE,\"\",(Rådata!F1528*100)/Rådata!G1528)","v":""},{"$f":"IF(ISBLANK(Rådata!K1528),\"\",(SUM(Rådata!M1528:P1528)*100)/SUM(Rådata!H1528:K1528))","v":""},{"$f":"IF(ISBLANK(Rådata!H1528),\"\",((SUM(Rådata!J1528:L1528)-SUM(Rådata!O1528:P1528))*100)/SUM(Rådata!H1528:L1528))","v":""},{"$f":"IF(ISBLANK(Rådata!R1528),\"\",(Rådata!Q1528*100)/Rådata!R1528)","v":""}]
[{"$f":"IF(ISBLANK(Rådata!A1529)=TRUE,\"\",Rådata!A1529)","v":""},{"$f":"IF(ISBLANK(Rådata!A1529)=TRUE,\"\",YEAR(A1529))","v":""},{"$f":"IF(ISBLANK(Rådata!A1529)=TRUE,\"\",VLOOKUP(MONTH(A1529),Opsætning!$G$3:$H$14,2,FALSE))","v":""},{"$f":"IF(ISBLANK(Rådata!B1529)=TRUE,\"\",(Rådata!C1529*100)/Rådata!B1529)","v":""},{"$f":"IF(ISBLANK(Rådata!D1529)=TRUE,\"\",((Rådata!D1529-Rådata!E1529)*100)/Rådata!D1529)","v":""},{"$f":"IF(ISBLANK(Rådata!G1529)=TRUE,\"\",(Rådata!F1529*100)/Rådata!G1529)","v":""},{"$f":"IF(ISBLANK(Rådata!K1529),\"\",(SUM(Rådata!M1529:P1529)*100)/SUM(Rådata!H1529:K1529))","v":""},{"$f":"IF(ISBLANK(Rådata!H1529),\"\",((SUM(Rådata!J1529:L1529)-SUM(Rådata!O1529:P1529))*100)/SUM(Rådata!H1529:L1529))","v":""},{"$f":"IF(ISBLANK(Rådata!R1529),\"\",(Rådata!Q1529*100)/Rådata!R1529)","v":""}]
[{"$f":"IF(ISBLANK(Rådata!A1530)=TRUE,\"\",Rådata!A1530)","v":""},{"$f":"IF(ISBLANK(Rådata!A1530)=TRUE,\"\",YEAR(A1530))","v":""},{"$f":"IF(ISBLANK(Rådata!A1530)=TRUE,\"\",VLOOKUP(MONTH(A1530),Opsætning!$G$3:$H$14,2,FALSE))","v":""},{"$f":"IF(ISBLANK(Rådata!B1530)=TRUE,\"\",(Rådata!C1530*100)/Rådata!B1530)","v":""},{"$f":"IF(ISBLANK(Rådata!D1530)=TRUE,\"\",((Rådata!D1530-Rådata!E1530)*100)/Rådata!D1530)","v":""},{"$f":"IF(ISBLANK(Rådata!G1530)=TRUE,\"\",(Rådata!F1530*100)/Rådata!G1530)","v":""},{"$f":"IF(ISBLANK(Rådata!K1530),\"\",(SUM(Rådata!M1530:P1530)*100)/SUM(Rådata!H1530:K1530))","v":""},{"$f":"IF(ISBLANK(Rådata!H1530),\"\",((SUM(Rådata!J1530:L1530)-SUM(Rådata!O1530:P1530))*100)/SUM(Rådata!H1530:L1530))","v":""},{"$f":"IF(ISBLANK(Rådata!R1530),\"\",(Rådata!Q1530*100)/Rådata!R1530)","v":""}]
[{"$f":"IF(ISBLANK(Rådata!A1531)=TRUE,\"\",Rådata!A1531)","v":""},{"$f":"IF(ISBLANK(Rådata!A1531)=TRUE,\"\",YEAR(A1531))","v":""},{"$f":"IF(ISBLANK(Rådata!A1531)=TRUE,\"\",VLOOKUP(MONTH(A1531),Opsætning!$G$3:$H$14,2,FALSE))","v":""},{"$f":"IF(ISBLANK(Rådata!B1531)=TRUE,\"\",(Rådata!C1531*100)/Rådata!B1531)","v":""},{"$f":"IF(ISBLANK(Rådata!D1531)=TRUE,\"\",((Rådata!D1531-Rådata!E1531)*100)/Rådata!D1531)","v":""},{"$f":"IF(ISBLANK(Rådata!G1531)=TRUE,\"\",(Rådata!F1531*100)/Rådata!G1531)","v":""},{"$f":"IF(ISBLANK(Rådata!K1531),\"\",(SUM(Rådata!M1531:P1531)*100)/SUM(Rådata!H1531:K1531))","v":""},{"$f":"IF(ISBLANK(Rådata!H1531),\"\",((SUM(Rådata!J1531:L1531)-SUM(Rådata!O1531:P1531))*100)/SUM(Rådata!H1531:L1531))","v":""},{"$f":"IF(ISBLANK(Rådata!R1531),\"\",(Rådata!Q1531*100)/Rådata!R1531)","v":""}]
[{"$f":"IF(ISBLANK(Rådata!A1532)=TRUE,\"\",Rådata!A1532)","v":""},{"$f":"IF(ISBLANK(Rådata!A1532)=TRUE,\"\",YEAR(A1532))","v":""},{"$f":"IF(ISBLANK(Rådata!A1532)=TRUE,\"\",VLOOKUP(MONTH(A1532),Opsætning!$G$3:$H$14,2,FALSE))","v":""},{"$f":"IF(ISBLANK(Rådata!B1532)=TRUE,\"\",(Rådata!C1532*100)/Rådata!B1532)","v":""},{"$f":"IF(ISBLANK(Rådata!D1532)=TRUE,\"\",((Rådata!D1532-Rådata!E1532)*100)/Rådata!D1532)","v":""},{"$f":"IF(ISBLANK(Rådata!G1532)=TRUE,\"\",(Rådata!F1532*100)/Rådata!G1532)","v":""},{"$f":"IF(ISBLANK(Rådata!K1532),\"\",(SUM(Rådata!M1532:P1532)*100)/SUM(Rådata!H1532:K1532))","v":""},{"$f":"IF(ISBLANK(Rådata!H1532),\"\",((SUM(Rådata!J1532:L1532)-SUM(Rådata!O1532:P1532))*100)/SUM(Rådata!H1532:L1532))","v":""},{"$f":"IF(ISBLANK(Rådata!R1532),\"\",(Rådata!Q1532*100)/Rådata!R1532)","v":""}]
[{"$f":"IF(ISBLANK(Rådata!A1533)=TRUE,\"\",Rådata!A1533)","v":""},{"$f":"IF(ISBLANK(Rådata!A1533)=TRUE,\"\",YEAR(A1533))","v":""},{"$f":"IF(ISBLANK(Rådata!A1533)=TRUE,\"\",VLOOKUP(MONTH(A1533),Opsætning!$G$3:$H$14,2,FALSE))","v":""},{"$f":"IF(ISBLANK(Rådata!B1533)=TRUE,\"\",(Rådata!C1533*100)/Rådata!B1533)","v":""},{"$f":"IF(ISBLANK(Rådata!D1533)=TRUE,\"\",((Rådata!D1533-Rådata!E1533)*100)/Rådata!D1533)","v":""},{"$f":"IF(ISBLANK(Rådata!G1533)=TRUE,\"\",(Rådata!F1533*100)/Rådata!G1533)","v":""},{"$f":"IF(ISBLANK(Rådata!K1533),\"\",(SUM(Rådata!M1533:P1533)*100)/SUM(Rådata!H1533:K1533))","v":""},{"$f":"IF(ISBLANK(Rådata!H1533),\"\",((SUM(Rådata!J1533:L1533)-SUM(Rådata!O1533:P1533))*100)/SUM(Rådata!H1533:L1533))","v":""},{"$f":"IF(ISBLANK(Rådata!R1533),\"\",(Rådata!Q1533*100)/Rådata!R1533)","v":""}]
[{"$f":"IF(ISBLANK(Rådata!A1534)=TRUE,\"\",Rådata!A1534)","v":""},{"$f":"IF(ISBLANK(Rådata!A1534)=TRUE,\"\",YEAR(A1534))","v":""},{"$f":"IF(ISBLANK(Rådata!A1534)=TRUE,\"\",VLOOKUP(MONTH(A1534),Opsætning!$G$3:$H$14,2,FALSE))","v":""},{"$f":"IF(ISBLANK(Rådata!B1534)=TRUE,\"\",(Rådata!C1534*100)/Rådata!B1534)","v":""},{"$f":"IF(ISBLANK(Rådata!D1534)=TRUE,\"\",((Rådata!D1534-Rådata!E1534)*100)/Rådata!D1534)","v":""},{"$f":"IF(ISBLANK(Rådata!G1534)=TRUE,\"\",(Rådata!F1534*100)/Rådata!G1534)","v":""},{"$f":"IF(ISBLANK(Rådata!K1534),\"\",(SUM(Rådata!M1534:P1534)*100)/SUM(Rådata!H1534:K1534))","v":""},{"$f":"IF(ISBLANK(Rådata!H1534),\"\",((SUM(Rådata!J1534:L1534)-SUM(Rådata!O1534:P1534))*100)/SUM(Rådata!H1534:L1534))","v":""},{"$f":"IF(ISBLANK(Rådata!R1534),\"\",(Rådata!Q1534*100)/Rådata!R1534)","v":""}]
[{"$f":"IF(ISBLANK(Rådata!A1535)=TRUE,\"\",Rådata!A1535)","v":""},{"$f":"IF(ISBLANK(Rådata!A1535)=TRUE,\"\",YEAR(A1535))","v":""},{"$f":"IF(ISBLANK(Rådata!A1535)=TRUE,\"\",VLOOKUP(MONTH(A1535),Opsætning!$G$3:$H$14,2,FALSE))","v":""},{"$f":"IF(ISBLANK(Rådata!B1535)=TRUE,\"\",(Rådata!C1535*100)/Rådata!B1535)","v":""},{"$f":"IF(ISBLANK(Rådata!D1535)=TRUE,\"\",((Rådata!D1535-Rådata!E1535)*100)/Rådata!D1535)","v":""},{"$f":"IF(ISBLANK(Rådata!G1535)=TRUE,\"\",(Rådata!F1535*100)/Rådata!G1535)","v":""},{"$f":"IF(ISBLANK(Rådata!K1535),\"\",(SUM(Rådata!M1535:P1535)*100)/SUM(Rådata!H1535:K1535))","v":""},{"$f":"IF(ISBLANK(Rådata!H1535),\"\",((SUM(Rådata!J1535:L1535)-SUM(Rådata!O1535:P1535))*100)/SUM(Rådata!H1535:L1535))","v":""},{"$f":"IF(ISBLANK(Rådata!R1535),\"\",(Rådata!Q1535*100)/Rådata!R1535)","v":""}]
[{"$f":"IF(ISBLANK(Rådata!A1536)=TRUE,\"\",Rådata!A1536)","v":""},{"$f":"IF(ISBLANK(Rådata!A1536)=TRUE,\"\",YEAR(A1536))","v":""},{"$f":"IF(ISBLANK(Rådata!A1536)=TRUE,\"\",VLOOKUP(MONTH(A1536),Opsætning!$G$3:$H$14,2,FALSE))","v":""},{"$f":"IF(ISBLANK(Rådata!B1536)=TRUE,\"\",(Rådata!C1536*100)/Rådata!B1536)","v":""},{"$f":"IF(ISBLANK(Rådata!D1536)=TRUE,\"\",((Rådata!D1536-Rådata!E1536)*100)/Rådata!D1536)","v":""},{"$f":"IF(ISBLANK(Rådata!G1536)=TRUE,\"\",(Rådata!F1536*100)/Rådata!G1536)","v":""},{"$f":"IF(ISBLANK(Rådata!K1536),\"\",(SUM(Rådata!M1536:P1536)*100)/SUM(Rådata!H1536:K1536))","v":""},{"$f":"IF(ISBLANK(Rådata!H1536),\"\",((SUM(Rådata!J1536:L1536)-SUM(Rådata!O1536:P1536))*100)/SUM(Rådata!H1536:L1536))","v":""},{"$f":"IF(ISBLANK(Rådata!R1536),\"\",(Rådata!Q1536*100)/Rådata!R1536)","v":""}]
[{"$f":"IF(ISBLANK(Rådata!A1537)=TRUE,\"\",Rådata!A1537)","v":""},{"$f":"IF(ISBLANK(Rådata!A1537)=TRUE,\"\",YEAR(A1537))","v":""},{"$f":"IF(ISBLANK(Rådata!A1537)=TRUE,\"\",VLOOKUP(MONTH(A1537),Opsætning!$G$3:$H$14,2,FALSE))","v":""},{"$f":"IF(ISBLANK(Rådata!B1537)=TRUE,\"\",(Rådata!C1537*100)/Rådata!B1537)","v":""},{"$f":"IF(ISBLANK(Rådata!D1537)=TRUE,\"\",((Rådata!D1537-Rådata!E1537)*100)/Rådata!D1537)","v":""},{"$f":"IF(ISBLANK(Rådata!G1537)=TRUE,\"\",(Rådata!F1537*100)/Rådata!G1537)","v":""},{"$f":"IF(ISBLANK(Rådata!K1537),\"\",(SUM(Rådata!M1537:P1537)*100)/SUM(Rådata!H1537:K1537))","v":""},{"$f":"IF(ISBLANK(Rådata!H1537),\"\",((SUM(Rådata!J1537:L1537)-SUM(Rådata!O1537:P1537))*100)/SUM(Rådata!H1537:L1537))","v":""},{"$f":"IF(ISBLANK(Rådata!R1537),\"\",(Rådata!Q1537*100)/Rådata!R1537)","v":""}]
[{"$f":"IF(ISBLANK(Rådata!A1538)=TRUE,\"\",Rådata!A1538)","v":""},{"$f":"IF(ISBLANK(Rådata!A1538)=TRUE,\"\",YEAR(A1538))","v":""},{"$f":"IF(ISBLANK(Rådata!A1538)=TRUE,\"\",VLOOKUP(MONTH(A1538),Opsætning!$G$3:$H$14,2,FALSE))","v":""},{"$f":"IF(ISBLANK(Rådata!B1538)=TRUE,\"\",(Rådata!C1538*100)/Rådata!B1538)","v":""},{"$f":"IF(ISBLANK(Rådata!D1538)=TRUE,\"\",((Rådata!D1538-Rådata!E1538)*100)/Rådata!D1538)","v":""},{"$f":"IF(ISBLANK(Rådata!G1538)=TRUE,\"\",(Rådata!F1538*100)/Rådata!G1538)","v":""},{"$f":"IF(ISBLANK(Rådata!K1538),\"\",(SUM(Rådata!M1538:P1538)*100)/SUM(Rådata!H1538:K1538))","v":""},{"$f":"IF(ISBLANK(Rådata!H1538),\"\",((SUM(Rådata!J1538:L1538)-SUM(Rådata!O1538:P1538))*100)/SUM(Rådata!H1538:L1538))","v":""},{"$f":"IF(ISBLANK(Rådata!R1538),\"\",(Rådata!Q1538*100)/Rådata!R1538)","v":""}]
[{"$f":"IF(ISBLANK(Rådata!A1539)=TRUE,\"\",Rådata!A1539)","v":""},{"$f":"IF(ISBLANK(Rådata!A1539)=TRUE,\"\",YEAR(A1539))","v":""},{"$f":"IF(ISBLANK(Rådata!A1539)=TRUE,\"\",VLOOKUP(MONTH(A1539),Opsætning!$G$3:$H$14,2,FALSE))","v":""},{"$f":"IF(ISBLANK(Rådata!B1539)=TRUE,\"\",(Rådata!C1539*100)/Rådata!B1539)","v":""},{"$f":"IF(ISBLANK(Rådata!D1539)=TRUE,\"\",((Rådata!D1539-Rådata!E1539)*100)/Rådata!D1539)","v":""},{"$f":"IF(ISBLANK(Rådata!G1539)=TRUE,\"\",(Rådata!F1539*100)/Rådata!G1539)","v":""},{"$f":"IF(ISBLANK(Rådata!K1539),\"\",(SUM(Rådata!M1539:P1539)*100)/SUM(Rådata!H1539:K1539))","v":""},{"$f":"IF(ISBLANK(Rådata!H1539),\"\",((SUM(Rådata!J1539:L1539)-SUM(Rådata!O1539:P1539))*100)/SUM(Rådata!H1539:L1539))","v":""},{"$f":"IF(ISBLANK(Rådata!R1539),\"\",(Rådata!Q1539*100)/Rådata!R1539)","v":""}]
[{"$f":"IF(ISBLANK(Rådata!A1540)=TRUE,\"\",Rådata!A1540)","v":""},{"$f":"IF(ISBLANK(Rådata!A1540)=TRUE,\"\",YEAR(A1540))","v":""},{"$f":"IF(ISBLANK(Rådata!A1540)=TRUE,\"\",VLOOKUP(MONTH(A1540),Opsætning!$G$3:$H$14,2,FALSE))","v":""},{"$f":"IF(ISBLANK(Rådata!B1540)=TRUE,\"\",(Rådata!C1540*100)/Rådata!B1540)","v":""},{"$f":"IF(ISBLANK(Rådata!D1540)=TRUE,\"\",((Rådata!D1540-Rådata!E1540)*100)/Rådata!D1540)","v":""},{"$f":"IF(ISBLANK(Rådata!G1540)=TRUE,\"\",(Rådata!F1540*100)/Rådata!G1540)","v":""},{"$f":"IF(ISBLANK(Rådata!K1540),\"\",(SUM(Rådata!M1540:P1540)*100)/SUM(Rådata!H1540:K1540))","v":""},{"$f":"IF(ISBLANK(Rådata!H1540),\"\",((SUM(Rådata!J1540:L1540)-SUM(Rådata!O1540:P1540))*100)/SUM(Rådata!H1540:L1540))","v":""},{"$f":"IF(ISBLANK(Rådata!R1540),\"\",(Rådata!Q1540*100)/Rådata!R1540)","v":""}]
[{"$f":"IF(ISBLANK(Rådata!A1541)=TRUE,\"\",Rådata!A1541)","v":""},{"$f":"IF(ISBLANK(Rådata!A1541)=TRUE,\"\",YEAR(A1541))","v":""},{"$f":"IF(ISBLANK(Rådata!A1541)=TRUE,\"\",VLOOKUP(MONTH(A1541),Opsætning!$G$3:$H$14,2,FALSE))","v":""},{"$f":"IF(ISBLANK(Rådata!B1541)=TRUE,\"\",(Rådata!C1541*100)/Rådata!B1541)","v":""},{"$f":"IF(ISBLANK(Rådata!D1541)=TRUE,\"\",((Rådata!D1541-Rådata!E1541)*100)/Rådata!D1541)","v":""},{"$f":"IF(ISBLANK(Rådata!G1541)=TRUE,\"\",(Rådata!F1541*100)/Rådata!G1541)","v":""},{"$f":"IF(ISBLANK(Rådata!K1541),\"\",(SUM(Rådata!M1541:P1541)*100)/SUM(Rådata!H1541:K1541))","v":""},{"$f":"IF(ISBLANK(Rådata!H1541),\"\",((SUM(Rådata!J1541:L1541)-SUM(Rådata!O1541:P1541))*100)/SUM(Rådata!H1541:L1541))","v":""},{"$f":"IF(ISBLANK(Rådata!R1541),\"\",(Rådata!Q1541*100)/Rådata!R1541)","v":""}]
[{"$f":"IF(ISBLANK(Rådata!A1542)=TRUE,\"\",Rådata!A1542)","v":""},{"$f":"IF(ISBLANK(Rådata!A1542)=TRUE,\"\",YEAR(A1542))","v":""},{"$f":"IF(ISBLANK(Rådata!A1542)=TRUE,\"\",VLOOKUP(MONTH(A1542),Opsætning!$G$3:$H$14,2,FALSE))","v":""},{"$f":"IF(ISBLANK(Rådata!B1542)=TRUE,\"\",(Rådata!C1542*100)/Rådata!B1542)","v":""},{"$f":"IF(ISBLANK(Rådata!D1542)=TRUE,\"\",((Rådata!D1542-Rådata!E1542)*100)/Rådata!D1542)","v":""},{"$f":"IF(ISBLANK(Rådata!G1542)=TRUE,\"\",(Rådata!F1542*100)/Rådata!G1542)","v":""},{"$f":"IF(ISBLANK(Rådata!K1542),\"\",(SUM(Rådata!M1542:P1542)*100)/SUM(Rådata!H1542:K1542))","v":""},{"$f":"IF(ISBLANK(Rådata!H1542),\"\",((SUM(Rådata!J1542:L1542)-SUM(Rådata!O1542:P1542))*100)/SUM(Rådata!H1542:L1542))","v":""},{"$f":"IF(ISBLANK(Rådata!R1542),\"\",(Rådata!Q1542*100)/Rådata!R1542)","v":""}]
[{"$f":"IF(ISBLANK(Rådata!A1543)=TRUE,\"\",Rådata!A1543)","v":""},{"$f":"IF(ISBLANK(Rådata!A1543)=TRUE,\"\",YEAR(A1543))","v":""},{"$f":"IF(ISBLANK(Rådata!A1543)=TRUE,\"\",VLOOKUP(MONTH(A1543),Opsætning!$G$3:$H$14,2,FALSE))","v":""},{"$f":"IF(ISBLANK(Rådata!B1543)=TRUE,\"\",(Rådata!C1543*100)/Rådata!B1543)","v":""},{"$f":"IF(ISBLANK(Rådata!D1543)=TRUE,\"\",((Rådata!D1543-Rådata!E1543)*100)/Rådata!D1543)","v":""},{"$f":"IF(ISBLANK(Rådata!G1543)=TRUE,\"\",(Rådata!F1543*100)/Rådata!G1543)","v":""},{"$f":"IF(ISBLANK(Rådata!K1543),\"\",(SUM(Rådata!M1543:P1543)*100)/SUM(Rådata!H1543:K1543))","v":""},{"$f":"IF(ISBLANK(Rådata!H1543),\"\",((SUM(Rådata!J1543:L1543)-SUM(Rådata!O1543:P1543))*100)/SUM(Rådata!H1543:L1543))","v":""},{"$f":"IF(ISBLANK(Rådata!R1543),\"\",(Rådata!Q1543*100)/Rådata!R1543)","v":""}]
[{"$f":"IF(ISBLANK(Rådata!A1544)=TRUE,\"\",Rådata!A1544)","v":""},{"$f":"IF(ISBLANK(Rådata!A1544)=TRUE,\"\",YEAR(A1544))","v":""},{"$f":"IF(ISBLANK(Rådata!A1544)=TRUE,\"\",VLOOKUP(MONTH(A1544),Opsætning!$G$3:$H$14,2,FALSE))","v":""},{"$f":"IF(ISBLANK(Rådata!B1544)=TRUE,\"\",(Rådata!C1544*100)/Rådata!B1544)","v":""},{"$f":"IF(ISBLANK(Rådata!D1544)=TRUE,\"\",((Rådata!D1544-Rådata!E1544)*100)/Rådata!D1544)","v":""},{"$f":"IF(ISBLANK(Rådata!G1544)=TRUE,\"\",(Rådata!F1544*100)/Rådata!G1544)","v":""},{"$f":"IF(ISBLANK(Rådata!K1544),\"\",(SUM(Rådata!M1544:P1544)*100)/SUM(Rådata!H1544:K1544))","v":""},{"$f":"IF(ISBLANK(Rådata!H1544),\"\",((SUM(Rådata!J1544:L1544)-SUM(Rådata!O1544:P1544))*100)/SUM(Rådata!H1544:L1544))","v":""},{"$f":"IF(ISBLANK(Rådata!R1544),\"\",(Rådata!Q1544*100)/Rådata!R1544)","v":""}]
[{"$f":"IF(ISBLANK(Rådata!A1545)=TRUE,\"\",Rådata!A1545)","v":""},{"$f":"IF(ISBLANK(Rådata!A1545)=TRUE,\"\",YEAR(A1545))","v":""},{"$f":"IF(ISBLANK(Rådata!A1545)=TRUE,\"\",VLOOKUP(MONTH(A1545),Opsætning!$G$3:$H$14,2,FALSE))","v":""},{"$f":"IF(ISBLANK(Rådata!B1545)=TRUE,\"\",(Rådata!C1545*100)/Rådata!B1545)","v":""},{"$f":"IF(ISBLANK(Rådata!D1545)=TRUE,\"\",((Rådata!D1545-Rådata!E1545)*100)/Rådata!D1545)","v":""},{"$f":"IF(ISBLANK(Rådata!G1545)=TRUE,\"\",(Rådata!F1545*100)/Rådata!G1545)","v":""},{"$f":"IF(ISBLANK(Rådata!K1545),\"\",(SUM(Rådata!M1545:P1545)*100)/SUM(Rådata!H1545:K1545))","v":""},{"$f":"IF(ISBLANK(Rådata!H1545),\"\",((SUM(Rådata!J1545:L1545)-SUM(Rådata!O1545:P1545))*100)/SUM(Rådata!H1545:L1545))","v":""},{"$f":"IF(ISBLANK(Rådata!R1545),\"\",(Rådata!Q1545*100)/Rådata!R1545)","v":""}]
[{"$f":"IF(ISBLANK(Rådata!A1546)=TRUE,\"\",Rådata!A1546)","v":""},{"$f":"IF(ISBLANK(Rådata!A1546)=TRUE,\"\",YEAR(A1546))","v":""},{"$f":"IF(ISBLANK(Rådata!A1546)=TRUE,\"\",VLOOKUP(MONTH(A1546),Opsætning!$G$3:$H$14,2,FALSE))","v":""},{"$f":"IF(ISBLANK(Rådata!B1546)=TRUE,\"\",(Rådata!C1546*100)/Rådata!B1546)","v":""},{"$f":"IF(ISBLANK(Rådata!D1546)=TRUE,\"\",((Rådata!D1546-Rådata!E1546)*100)/Rådata!D1546)","v":""},{"$f":"IF(ISBLANK(Rådata!G1546)=TRUE,\"\",(Rådata!F1546*100)/Rådata!G1546)","v":""},{"$f":"IF(ISBLANK(Rådata!K1546),\"\",(SUM(Rådata!M1546:P1546)*100)/SUM(Rådata!H1546:K1546))","v":""},{"$f":"IF(ISBLANK(Rådata!H1546),\"\",((SUM(Rådata!J1546:L1546)-SUM(Rådata!O1546:P1546))*100)/SUM(Rådata!H1546:L1546))","v":""},{"$f":"IF(ISBLANK(Rådata!R1546),\"\",(Rådata!Q1546*100)/Rådata!R1546)","v":""}]
[{"$f":"IF(ISBLANK(Rådata!A1547)=TRUE,\"\",Rådata!A1547)","v":""},{"$f":"IF(ISBLANK(Rådata!A1547)=TRUE,\"\",YEAR(A1547))","v":""},{"$f":"IF(ISBLANK(Rådata!A1547)=TRUE,\"\",VLOOKUP(MONTH(A1547),Opsætning!$G$3:$H$14,2,FALSE))","v":""},{"$f":"IF(ISBLANK(Rådata!B1547)=TRUE,\"\",(Rådata!C1547*100)/Rådata!B1547)","v":""},{"$f":"IF(ISBLANK(Rådata!D1547)=TRUE,\"\",((Rådata!D1547-Rådata!E1547)*100)/Rådata!D1547)","v":""},{"$f":"IF(ISBLANK(Rådata!G1547)=TRUE,\"\",(Rådata!F1547*100)/Rådata!G1547)","v":""},{"$f":"IF(ISBLANK(Rådata!K1547),\"\",(SUM(Rådata!M1547:P1547)*100)/SUM(Rådata!H1547:K1547))","v":""},{"$f":"IF(ISBLANK(Rådata!H1547),\"\",((SUM(Rådata!J1547:L1547)-SUM(Rådata!O1547:P1547))*100)/SUM(Rådata!H1547:L1547))","v":""},{"$f":"IF(ISBLANK(Rådata!R1547),\"\",(Rådata!Q1547*100)/Rådata!R1547)","v":""}]
[{"$f":"IF(ISBLANK(Rådata!A1548)=TRUE,\"\",Rådata!A1548)","v":""},{"$f":"IF(ISBLANK(Rådata!A1548)=TRUE,\"\",YEAR(A1548))","v":""},{"$f":"IF(ISBLANK(Rådata!A1548)=TRUE,\"\",VLOOKUP(MONTH(A1548),Opsætning!$G$3:$H$14,2,FALSE))","v":""},{"$f":"IF(ISBLANK(Rådata!B1548)=TRUE,\"\",(Rådata!C1548*100)/Rådata!B1548)","v":""},{"$f":"IF(ISBLANK(Rådata!D1548)=TRUE,\"\",((Rådata!D1548-Rådata!E1548)*100)/Rådata!D1548)","v":""},{"$f":"IF(ISBLANK(Rådata!G1548)=TRUE,\"\",(Rådata!F1548*100)/Rådata!G1548)","v":""},{"$f":"IF(ISBLANK(Rådata!K1548),\"\",(SUM(Rådata!M1548:P1548)*100)/SUM(Rådata!H1548:K1548))","v":""},{"$f":"IF(ISBLANK(Rådata!H1548),\"\",((SUM(Rådata!J1548:L1548)-SUM(Rådata!O1548:P1548))*100)/SUM(Rådata!H1548:L1548))","v":""},{"$f":"IF(ISBLANK(Rådata!R1548),\"\",(Rådata!Q1548*100)/Rådata!R1548)","v":""}]
[{"$f":"IF(ISBLANK(Rådata!A1549)=TRUE,\"\",Rådata!A1549)","v":""},{"$f":"IF(ISBLANK(Rådata!A1549)=TRUE,\"\",YEAR(A1549))","v":""},{"$f":"IF(ISBLANK(Rådata!A1549)=TRUE,\"\",VLOOKUP(MONTH(A1549),Opsætning!$G$3:$H$14,2,FALSE))","v":""},{"$f":"IF(ISBLANK(Rådata!B1549)=TRUE,\"\",(Rådata!C1549*100)/Rådata!B1549)","v":""},{"$f":"IF(ISBLANK(Rådata!D1549)=TRUE,\"\",((Rådata!D1549-Rådata!E1549)*100)/Rådata!D1549)","v":""},{"$f":"IF(ISBLANK(Rådata!G1549)=TRUE,\"\",(Rådata!F1549*100)/Rådata!G1549)","v":""},{"$f":"IF(ISBLANK(Rådata!K1549),\"\",(SUM(Rådata!M1549:P1549)*100)/SUM(Rådata!H1549:K1549))","v":""},{"$f":"IF(ISBLANK(Rådata!H1549),\"\",((SUM(Rådata!J1549:L1549)-SUM(Rådata!O1549:P1549))*100)/SUM(Rådata!H1549:L1549))","v":""},{"$f":"IF(ISBLANK(Rådata!R1549),\"\",(Rådata!Q1549*100)/Rådata!R1549)","v":""}]
[{"$f":"IF(ISBLANK(Rådata!A1550)=TRUE,\"\",Rådata!A1550)","v":""},{"$f":"IF(ISBLANK(Rådata!A1550)=TRUE,\"\",YEAR(A1550))","v":""},{"$f":"IF(ISBLANK(Rådata!A1550)=TRUE,\"\",VLOOKUP(MONTH(A1550),Opsætning!$G$3:$H$14,2,FALSE))","v":""},{"$f":"IF(ISBLANK(Rådata!B1550)=TRUE,\"\",(Rådata!C1550*100)/Rådata!B1550)","v":""},{"$f":"IF(ISBLANK(Rådata!D1550)=TRUE,\"\",((Rådata!D1550-Rådata!E1550)*100)/Rådata!D1550)","v":""},{"$f":"IF(ISBLANK(Rådata!G1550)=TRUE,\"\",(Rådata!F1550*100)/Rådata!G1550)","v":""},{"$f":"IF(ISBLANK(Rådata!K1550),\"\",(SUM(Rådata!M1550:P1550)*100)/SUM(Rådata!H1550:K1550))","v":""},{"$f":"IF(ISBLANK(Rådata!H1550),\"\",((SUM(Rådata!J1550:L1550)-SUM(Rådata!O1550:P1550))*100)/SUM(Rådata!H1550:L1550))","v":""},{"$f":"IF(ISBLANK(Rådata!R1550),\"\",(Rådata!Q1550*100)/Rådata!R1550)","v":""}]
[{"$f":"IF(ISBLANK(Rådata!A1551)=TRUE,\"\",Rådata!A1551)","v":""},{"$f":"IF(ISBLANK(Rådata!A1551)=TRUE,\"\",YEAR(A1551))","v":""},{"$f":"IF(ISBLANK(Rådata!A1551)=TRUE,\"\",VLOOKUP(MONTH(A1551),Opsætning!$G$3:$H$14,2,FALSE))","v":""},{"$f":"IF(ISBLANK(Rådata!B1551)=TRUE,\"\",(Rådata!C1551*100)/Rådata!B1551)","v":""},{"$f":"IF(ISBLANK(Rådata!D1551)=TRUE,\"\",((Rådata!D1551-Rådata!E1551)*100)/Rådata!D1551)","v":""},{"$f":"IF(ISBLANK(Rådata!G1551)=TRUE,\"\",(Rådata!F1551*100)/Rådata!G1551)","v":""},{"$f":"IF(ISBLANK(Rådata!K1551),\"\",(SUM(Rådata!M1551:P1551)*100)/SUM(Rådata!H1551:K1551))","v":""},{"$f":"IF(ISBLANK(Rådata!H1551),\"\",((SUM(Rådata!J1551:L1551)-SUM(Rådata!O1551:P1551))*100)/SUM(Rådata!H1551:L1551))","v":""},{"$f":"IF(ISBLANK(Rådata!R1551),\"\",(Rådata!Q1551*100)/Rådata!R1551)","v":""}]
[{"$f":"IF(ISBLANK(Rådata!A1552)=TRUE,\"\",Rådata!A1552)","v":""},{"$f":"IF(ISBLANK(Rådata!A1552)=TRUE,\"\",YEAR(A1552))","v":""},{"$f":"IF(ISBLANK(Rådata!A1552)=TRUE,\"\",VLOOKUP(MONTH(A1552),Opsætning!$G$3:$H$14,2,FALSE))","v":""},{"$f":"IF(ISBLANK(Rådata!B1552)=TRUE,\"\",(Rådata!C1552*100)/Rådata!B1552)","v":""},{"$f":"IF(ISBLANK(Rådata!D1552)=TRUE,\"\",((Rådata!D1552-Rådata!E1552)*100)/Rådata!D1552)","v":""},{"$f":"IF(ISBLANK(Rådata!G1552)=TRUE,\"\",(Rådata!F1552*100)/Rådata!G1552)","v":""},{"$f":"IF(ISBLANK(Rådata!K1552),\"\",(SUM(Rådata!M1552:P1552)*100)/SUM(Rådata!H1552:K1552))","v":""},{"$f":"IF(ISBLANK(Rådata!H1552),\"\",((SUM(Rådata!J1552:L1552)-SUM(Rådata!O1552:P1552))*100)/SUM(Rådata!H1552:L1552))","v":""},{"$f":"IF(ISBLANK(Rådata!R1552),\"\",(Rådata!Q1552*100)/Rådata!R1552)","v":""}]
[{"$f":"IF(ISBLANK(Rådata!A1553)=TRUE,\"\",Rådata!A1553)","v":""},{"$f":"IF(ISBLANK(Rådata!A1553)=TRUE,\"\",YEAR(A1553))","v":""},{"$f":"IF(ISBLANK(Rådata!A1553)=TRUE,\"\",VLOOKUP(MONTH(A1553),Opsætning!$G$3:$H$14,2,FALSE))","v":""},{"$f":"IF(ISBLANK(Rådata!B1553)=TRUE,\"\",(Rådata!C1553*100)/Rådata!B1553)","v":""},{"$f":"IF(ISBLANK(Rådata!D1553)=TRUE,\"\",((Rådata!D1553-Rådata!E1553)*100)/Rådata!D1553)","v":""},{"$f":"IF(ISBLANK(Rådata!G1553)=TRUE,\"\",(Rådata!F1553*100)/Rådata!G1553)","v":""},{"$f":"IF(ISBLANK(Rådata!K1553),\"\",(SUM(Rådata!M1553:P1553)*100)/SUM(Rådata!H1553:K1553))","v":""},{"$f":"IF(ISBLANK(Rådata!H1553),\"\",((SUM(Rådata!J1553:L1553)-SUM(Rådata!O1553:P1553))*100)/SUM(Rådata!H1553:L1553))","v":""},{"$f":"IF(ISBLANK(Rådata!R1553),\"\",(Rådata!Q1553*100)/Rådata!R1553)","v":""}]
[{"$f":"IF(ISBLANK(Rådata!A1554)=TRUE,\"\",Rådata!A1554)","v":""},{"$f":"IF(ISBLANK(Rådata!A1554)=TRUE,\"\",YEAR(A1554))","v":""},{"$f":"IF(ISBLANK(Rådata!A1554)=TRUE,\"\",VLOOKUP(MONTH(A1554),Opsætning!$G$3:$H$14,2,FALSE))","v":""},{"$f":"IF(ISBLANK(Rådata!B1554)=TRUE,\"\",(Rådata!C1554*100)/Rådata!B1554)","v":""},{"$f":"IF(ISBLANK(Rådata!D1554)=TRUE,\"\",((Rådata!D1554-Rådata!E1554)*100)/Rådata!D1554)","v":""},{"$f":"IF(ISBLANK(Rådata!G1554)=TRUE,\"\",(Rådata!F1554*100)/Rådata!G1554)","v":""},{"$f":"IF(ISBLANK(Rådata!K1554),\"\",(SUM(Rådata!M1554:P1554)*100)/SUM(Rådata!H1554:K1554))","v":""},{"$f":"IF(ISBLANK(Rådata!H1554),\"\",((SUM(Rådata!J1554:L1554)-SUM(Rådata!O1554:P1554))*100)/SUM(Rådata!H1554:L1554))","v":""},{"$f":"IF(ISBLANK(Rådata!R1554),\"\",(Rådata!Q1554*100)/Rådata!R1554)","v":""}]
[{"$f":"IF(ISBLANK(Rådata!A1555)=TRUE,\"\",Rådata!A1555)","v":""},{"$f":"IF(ISBLANK(Rådata!A1555)=TRUE,\"\",YEAR(A1555))","v":""},{"$f":"IF(ISBLANK(Rådata!A1555)=TRUE,\"\",VLOOKUP(MONTH(A1555),Opsætning!$G$3:$H$14,2,FALSE))","v":""},{"$f":"IF(ISBLANK(Rådata!B1555)=TRUE,\"\",(Rådata!C1555*100)/Rådata!B1555)","v":""},{"$f":"IF(ISBLANK(Rådata!D1555)=TRUE,\"\",((Rådata!D1555-Rådata!E1555)*100)/Rådata!D1555)","v":""},{"$f":"IF(ISBLANK(Rådata!G1555)=TRUE,\"\",(Rådata!F1555*100)/Rådata!G1555)","v":""},{"$f":"IF(ISBLANK(Rådata!K1555),\"\",(SUM(Rådata!M1555:P1555)*100)/SUM(Rådata!H1555:K1555))","v":""},{"$f":"IF(ISBLANK(Rådata!H1555),\"\",((SUM(Rådata!J1555:L1555)-SUM(Rådata!O1555:P1555))*100)/SUM(Rådata!H1555:L1555))","v":""},{"$f":"IF(ISBLANK(Rådata!R1555),\"\",(Rådata!Q1555*100)/Rådata!R1555)","v":""}]
[{"$f":"IF(ISBLANK(Rådata!A1556)=TRUE,\"\",Rådata!A1556)","v":""},{"$f":"IF(ISBLANK(Rådata!A1556)=TRUE,\"\",YEAR(A1556))","v":""},{"$f":"IF(ISBLANK(Rådata!A1556)=TRUE,\"\",VLOOKUP(MONTH(A1556),Opsætning!$G$3:$H$14,2,FALSE))","v":""},{"$f":"IF(ISBLANK(Rådata!B1556)=TRUE,\"\",(Rådata!C1556*100)/Rådata!B1556)","v":""},{"$f":"IF(ISBLANK(Rådata!D1556)=TRUE,\"\",((Rådata!D1556-Rådata!E1556)*100)/Rådata!D1556)","v":""},{"$f":"IF(ISBLANK(Rådata!G1556)=TRUE,\"\",(Rådata!F1556*100)/Rådata!G1556)","v":""},{"$f":"IF(ISBLANK(Rådata!K1556),\"\",(SUM(Rådata!M1556:P1556)*100)/SUM(Rådata!H1556:K1556))","v":""},{"$f":"IF(ISBLANK(Rådata!H1556),\"\",((SUM(Rådata!J1556:L1556)-SUM(Rådata!O1556:P1556))*100)/SUM(Rådata!H1556:L1556))","v":""},{"$f":"IF(ISBLANK(Rådata!R1556),\"\",(Rådata!Q1556*100)/Rådata!R1556)","v":""}]
[{"$f":"IF(ISBLANK(Rådata!A1557)=TRUE,\"\",Rådata!A1557)","v":""},{"$f":"IF(ISBLANK(Rådata!A1557)=TRUE,\"\",YEAR(A1557))","v":""},{"$f":"IF(ISBLANK(Rådata!A1557)=TRUE,\"\",VLOOKUP(MONTH(A1557),Opsætning!$G$3:$H$14,2,FALSE))","v":""},{"$f":"IF(ISBLANK(Rådata!B1557)=TRUE,\"\",(Rådata!C1557*100)/Rådata!B1557)","v":""},{"$f":"IF(ISBLANK(Rådata!D1557)=TRUE,\"\",((Rådata!D1557-Rådata!E1557)*100)/Rådata!D1557)","v":""},{"$f":"IF(ISBLANK(Rådata!G1557)=TRUE,\"\",(Rådata!F1557*100)/Rådata!G1557)","v":""},{"$f":"IF(ISBLANK(Rådata!K1557),\"\",(SUM(Rådata!M1557:P1557)*100)/SUM(Rådata!H1557:K1557))","v":""},{"$f":"IF(ISBLANK(Rådata!H1557),\"\",((SUM(Rådata!J1557:L1557)-SUM(Rådata!O1557:P1557))*100)/SUM(Rådata!H1557:L1557))","v":""},{"$f":"IF(ISBLANK(Rådata!R1557),\"\",(Rådata!Q1557*100)/Rådata!R1557)","v":""}]
[{"$f":"IF(ISBLANK(Rådata!A1558)=TRUE,\"\",Rådata!A1558)","v":""},{"$f":"IF(ISBLANK(Rådata!A1558)=TRUE,\"\",YEAR(A1558))","v":""},{"$f":"IF(ISBLANK(Rådata!A1558)=TRUE,\"\",VLOOKUP(MONTH(A1558),Opsætning!$G$3:$H$14,2,FALSE))","v":""},{"$f":"IF(ISBLANK(Rådata!B1558)=TRUE,\"\",(Rådata!C1558*100)/Rådata!B1558)","v":""},{"$f":"IF(ISBLANK(Rådata!D1558)=TRUE,\"\",((Rådata!D1558-Rådata!E1558)*100)/Rådata!D1558)","v":""},{"$f":"IF(ISBLANK(Rådata!G1558)=TRUE,\"\",(Rådata!F1558*100)/Rådata!G1558)","v":""},{"$f":"IF(ISBLANK(Rådata!K1558),\"\",(SUM(Rådata!M1558:P1558)*100)/SUM(Rådata!H1558:K1558))","v":""},{"$f":"IF(ISBLANK(Rådata!H1558),\"\",((SUM(Rådata!J1558:L1558)-SUM(Rådata!O1558:P1558))*100)/SUM(Rådata!H1558:L1558))","v":""},{"$f":"IF(ISBLANK(Rådata!R1558),\"\",(Rådata!Q1558*100)/Rådata!R1558)","v":""}]
[{"$f":"IF(ISBLANK(Rådata!A1559)=TRUE,\"\",Rådata!A1559)","v":""},{"$f":"IF(ISBLANK(Rådata!A1559)=TRUE,\"\",YEAR(A1559))","v":""},{"$f":"IF(ISBLANK(Rådata!A1559)=TRUE,\"\",VLOOKUP(MONTH(A1559),Opsætning!$G$3:$H$14,2,FALSE))","v":""},{"$f":"IF(ISBLANK(Rådata!B1559)=TRUE,\"\",(Rådata!C1559*100)/Rådata!B1559)","v":""},{"$f":"IF(ISBLANK(Rådata!D1559)=TRUE,\"\",((Rådata!D1559-Rådata!E1559)*100)/Rådata!D1559)","v":""},{"$f":"IF(ISBLANK(Rådata!G1559)=TRUE,\"\",(Rådata!F1559*100)/Rådata!G1559)","v":""},{"$f":"IF(ISBLANK(Rådata!K1559),\"\",(SUM(Rådata!M1559:P1559)*100)/SUM(Rådata!H1559:K1559))","v":""},{"$f":"IF(ISBLANK(Rådata!H1559),\"\",((SUM(Rådata!J1559:L1559)-SUM(Rådata!O1559:P1559))*100)/SUM(Rådata!H1559:L1559))","v":""},{"$f":"IF(ISBLANK(Rådata!R1559),\"\",(Rådata!Q1559*100)/Rådata!R1559)","v":""}]
[{"$f":"IF(ISBLANK(Rådata!A1560)=TRUE,\"\",Rådata!A1560)","v":""},{"$f":"IF(ISBLANK(Rådata!A1560)=TRUE,\"\",YEAR(A1560))","v":""},{"$f":"IF(ISBLANK(Rådata!A1560)=TRUE,\"\",VLOOKUP(MONTH(A1560),Opsætning!$G$3:$H$14,2,FALSE))","v":""},{"$f":"IF(ISBLANK(Rådata!B1560)=TRUE,\"\",(Rådata!C1560*100)/Rådata!B1560)","v":""},{"$f":"IF(ISBLANK(Rådata!D1560)=TRUE,\"\",((Rådata!D1560-Rådata!E1560)*100)/Rådata!D1560)","v":""},{"$f":"IF(ISBLANK(Rådata!G1560)=TRUE,\"\",(Rådata!F1560*100)/Rådata!G1560)","v":""},{"$f":"IF(ISBLANK(Rådata!K1560),\"\",(SUM(Rådata!M1560:P1560)*100)/SUM(Rådata!H1560:K1560))","v":""},{"$f":"IF(ISBLANK(Rådata!H1560),\"\",((SUM(Rådata!J1560:L1560)-SUM(Rådata!O1560:P1560))*100)/SUM(Rådata!H1560:L1560))","v":""},{"$f":"IF(ISBLANK(Rådata!R1560),\"\",(Rådata!Q1560*100)/Rådata!R1560)","v":""}]
[{"$f":"IF(ISBLANK(Rådata!A1561)=TRUE,\"\",Rådata!A1561)","v":""},{"$f":"IF(ISBLANK(Rådata!A1561)=TRUE,\"\",YEAR(A1561))","v":""},{"$f":"IF(ISBLANK(Rådata!A1561)=TRUE,\"\",VLOOKUP(MONTH(A1561),Opsætning!$G$3:$H$14,2,FALSE))","v":""},{"$f":"IF(ISBLANK(Rådata!B1561)=TRUE,\"\",(Rådata!C1561*100)/Rådata!B1561)","v":""},{"$f":"IF(ISBLANK(Rådata!D1561)=TRUE,\"\",((Rådata!D1561-Rådata!E1561)*100)/Rådata!D1561)","v":""},{"$f":"IF(ISBLANK(Rådata!G1561)=TRUE,\"\",(Rådata!F1561*100)/Rådata!G1561)","v":""},{"$f":"IF(ISBLANK(Rådata!K1561),\"\",(SUM(Rådata!M1561:P1561)*100)/SUM(Rådata!H1561:K1561))","v":""},{"$f":"IF(ISBLANK(Rådata!H1561),\"\",((SUM(Rådata!J1561:L1561)-SUM(Rådata!O1561:P1561))*100)/SUM(Rådata!H1561:L1561))","v":""},{"$f":"IF(ISBLANK(Rådata!R1561),\"\",(Rådata!Q1561*100)/Rådata!R1561)","v":""}]
[{"$f":"IF(ISBLANK(Rådata!A1562)=TRUE,\"\",Rådata!A1562)","v":""},{"$f":"IF(ISBLANK(Rådata!A1562)=TRUE,\"\",YEAR(A1562))","v":""},{"$f":"IF(ISBLANK(Rådata!A1562)=TRUE,\"\",VLOOKUP(MONTH(A1562),Opsætning!$G$3:$H$14,2,FALSE))","v":""},{"$f":"IF(ISBLANK(Rådata!B1562)=TRUE,\"\",(Rådata!C1562*100)/Rådata!B1562)","v":""},{"$f":"IF(ISBLANK(Rådata!D1562)=TRUE,\"\",((Rådata!D1562-Rådata!E1562)*100)/Rådata!D1562)","v":""},{"$f":"IF(ISBLANK(Rådata!G1562)=TRUE,\"\",(Rådata!F1562*100)/Rådata!G1562)","v":""},{"$f":"IF(ISBLANK(Rådata!K1562),\"\",(SUM(Rådata!M1562:P1562)*100)/SUM(Rådata!H1562:K1562))","v":""},{"$f":"IF(ISBLANK(Rådata!H1562),\"\",((SUM(Rådata!J1562:L1562)-SUM(Rådata!O1562:P1562))*100)/SUM(Rådata!H1562:L1562))","v":""},{"$f":"IF(ISBLANK(Rådata!R1562),\"\",(Rådata!Q1562*100)/Rådata!R1562)","v":""}]
[{"$f":"IF(ISBLANK(Rådata!A1563)=TRUE,\"\",Rådata!A1563)","v":""},{"$f":"IF(ISBLANK(Rådata!A1563)=TRUE,\"\",YEAR(A1563))","v":""},{"$f":"IF(ISBLANK(Rådata!A1563)=TRUE,\"\",VLOOKUP(MONTH(A1563),Opsætning!$G$3:$H$14,2,FALSE))","v":""},{"$f":"IF(ISBLANK(Rådata!B1563)=TRUE,\"\",(Rådata!C1563*100)/Rådata!B1563)","v":""},{"$f":"IF(ISBLANK(Rådata!D1563)=TRUE,\"\",((Rådata!D1563-Rådata!E1563)*100)/Rådata!D1563)","v":""},{"$f":"IF(ISBLANK(Rådata!G1563)=TRUE,\"\",(Rådata!F1563*100)/Rådata!G1563)","v":""},{"$f":"IF(ISBLANK(Rådata!K1563),\"\",(SUM(Rådata!M1563:P1563)*100)/SUM(Rådata!H1563:K1563))","v":""},{"$f":"IF(ISBLANK(Rådata!H1563),\"\",((SUM(Rådata!J1563:L1563)-SUM(Rådata!O1563:P1563))*100)/SUM(Rådata!H1563:L1563))","v":""},{"$f":"IF(ISBLANK(Rådata!R1563),\"\",(Rådata!Q1563*100)/Rådata!R1563)","v":""}]
[{"$f":"IF(ISBLANK(Rådata!A1564)=TRUE,\"\",Rådata!A1564)","v":""},{"$f":"IF(ISBLANK(Rådata!A1564)=TRUE,\"\",YEAR(A1564))","v":""},{"$f":"IF(ISBLANK(Rådata!A1564)=TRUE,\"\",VLOOKUP(MONTH(A1564),Opsætning!$G$3:$H$14,2,FALSE))","v":""},{"$f":"IF(ISBLANK(Rådata!B1564)=TRUE,\"\",(Rådata!C1564*100)/Rådata!B1564)","v":""},{"$f":"IF(ISBLANK(Rådata!D1564)=TRUE,\"\",((Rådata!D1564-Rådata!E1564)*100)/Rådata!D1564)","v":""},{"$f":"IF(ISBLANK(Rådata!G1564)=TRUE,\"\",(Rådata!F1564*100)/Rådata!G1564)","v":""},{"$f":"IF(ISBLANK(Rådata!K1564),\"\",(SUM(Rådata!M1564:P1564)*100)/SUM(Rådata!H1564:K1564))","v":""},{"$f":"IF(ISBLANK(Rådata!H1564),\"\",((SUM(Rådata!J1564:L1564)-SUM(Rådata!O1564:P1564))*100)/SUM(Rådata!H1564:L1564))","v":""},{"$f":"IF(ISBLANK(Rådata!R1564),\"\",(Rådata!Q1564*100)/Rådata!R1564)","v":""}]
[{"$f":"IF(ISBLANK(Rådata!A1565)=TRUE,\"\",Rådata!A1565)","v":""},{"$f":"IF(ISBLANK(Rådata!A1565)=TRUE,\"\",YEAR(A1565))","v":""},{"$f":"IF(ISBLANK(Rådata!A1565)=TRUE,\"\",VLOOKUP(MONTH(A1565),Opsætning!$G$3:$H$14,2,FALSE))","v":""},{"$f":"IF(ISBLANK(Rådata!B1565)=TRUE,\"\",(Rådata!C1565*100)/Rådata!B1565)","v":""},{"$f":"IF(ISBLANK(Rådata!D1565)=TRUE,\"\",((Rådata!D1565-Rådata!E1565)*100)/Rådata!D1565)","v":""},{"$f":"IF(ISBLANK(Rådata!G1565)=TRUE,\"\",(Rådata!F1565*100)/Rådata!G1565)","v":""},{"$f":"IF(ISBLANK(Rådata!K1565),\"\",(SUM(Rådata!M1565:P1565)*100)/SUM(Rådata!H1565:K1565))","v":""},{"$f":"IF(ISBLANK(Rådata!H1565),\"\",((SUM(Rådata!J1565:L1565)-SUM(Rådata!O1565:P1565))*100)/SUM(Rådata!H1565:L1565))","v":""},{"$f":"IF(ISBLANK(Rådata!R1565),\"\",(Rådata!Q1565*100)/Rådata!R1565)","v":""}]
[{"$f":"IF(ISBLANK(Rådata!A1566)=TRUE,\"\",Rådata!A1566)","v":""},{"$f":"IF(ISBLANK(Rådata!A1566)=TRUE,\"\",YEAR(A1566))","v":""},{"$f":"IF(ISBLANK(Rådata!A1566)=TRUE,\"\",VLOOKUP(MONTH(A1566),Opsætning!$G$3:$H$14,2,FALSE))","v":""},{"$f":"IF(ISBLANK(Rådata!B1566)=TRUE,\"\",(Rådata!C1566*100)/Rådata!B1566)","v":""},{"$f":"IF(ISBLANK(Rådata!D1566)=TRUE,\"\",((Rådata!D1566-Rådata!E1566)*100)/Rådata!D1566)","v":""},{"$f":"IF(ISBLANK(Rådata!G1566)=TRUE,\"\",(Rådata!F1566*100)/Rådata!G1566)","v":""},{"$f":"IF(ISBLANK(Rådata!K1566),\"\",(SUM(Rådata!M1566:P1566)*100)/SUM(Rådata!H1566:K1566))","v":""},{"$f":"IF(ISBLANK(Rådata!H1566),\"\",((SUM(Rådata!J1566:L1566)-SUM(Rådata!O1566:P1566))*100)/SUM(Rådata!H1566:L1566))","v":""},{"$f":"IF(ISBLANK(Rådata!R1566),\"\",(Rådata!Q1566*100)/Rådata!R1566)","v":""}]
[{"$f":"IF(ISBLANK(Rådata!A1567)=TRUE,\"\",Rådata!A1567)","v":""},{"$f":"IF(ISBLANK(Rådata!A1567)=TRUE,\"\",YEAR(A1567))","v":""},{"$f":"IF(ISBLANK(Rådata!A1567)=TRUE,\"\",VLOOKUP(MONTH(A1567),Opsætning!$G$3:$H$14,2,FALSE))","v":""},{"$f":"IF(ISBLANK(Rådata!B1567)=TRUE,\"\",(Rådata!C1567*100)/Rådata!B1567)","v":""},{"$f":"IF(ISBLANK(Rådata!D1567)=TRUE,\"\",((Rådata!D1567-Rådata!E1567)*100)/Rådata!D1567)","v":""},{"$f":"IF(ISBLANK(Rådata!G1567)=TRUE,\"\",(Rådata!F1567*100)/Rådata!G1567)","v":""},{"$f":"IF(ISBLANK(Rådata!K1567),\"\",(SUM(Rådata!M1567:P1567)*100)/SUM(Rådata!H1567:K1567))","v":""},{"$f":"IF(ISBLANK(Rådata!H1567),\"\",((SUM(Rådata!J1567:L1567)-SUM(Rådata!O1567:P1567))*100)/SUM(Rådata!H1567:L1567))","v":""},{"$f":"IF(ISBLANK(Rådata!R1567),\"\",(Rådata!Q1567*100)/Rådata!R1567)","v":""}]
[{"$f":"IF(ISBLANK(Rådata!A1568)=TRUE,\"\",Rådata!A1568)","v":""},{"$f":"IF(ISBLANK(Rådata!A1568)=TRUE,\"\",YEAR(A1568))","v":""},{"$f":"IF(ISBLANK(Rådata!A1568)=TRUE,\"\",VLOOKUP(MONTH(A1568),Opsætning!$G$3:$H$14,2,FALSE))","v":""},{"$f":"IF(ISBLANK(Rådata!B1568)=TRUE,\"\",(Rådata!C1568*100)/Rådata!B1568)","v":""},{"$f":"IF(ISBLANK(Rådata!D1568)=TRUE,\"\",((Rådata!D1568-Rådata!E1568)*100)/Rådata!D1568)","v":""},{"$f":"IF(ISBLANK(Rådata!G1568)=TRUE,\"\",(Rådata!F1568*100)/Rådata!G1568)","v":""},{"$f":"IF(ISBLANK(Rådata!K1568),\"\",(SUM(Rådata!M1568:P1568)*100)/SUM(Rådata!H1568:K1568))","v":""},{"$f":"IF(ISBLANK(Rådata!H1568),\"\",((SUM(Rådata!J1568:L1568)-SUM(Rådata!O1568:P1568))*100)/SUM(Rådata!H1568:L1568))","v":""},{"$f":"IF(ISBLANK(Rådata!R1568),\"\",(Rådata!Q1568*100)/Rådata!R1568)","v":""}]
[{"$f":"IF(ISBLANK(Rådata!A1569)=TRUE,\"\",Rådata!A1569)","v":""},{"$f":"IF(ISBLANK(Rådata!A1569)=TRUE,\"\",YEAR(A1569))","v":""},{"$f":"IF(ISBLANK(Rådata!A1569)=TRUE,\"\",VLOOKUP(MONTH(A1569),Opsætning!$G$3:$H$14,2,FALSE))","v":""},{"$f":"IF(ISBLANK(Rådata!B1569)=TRUE,\"\",(Rådata!C1569*100)/Rådata!B1569)","v":""},{"$f":"IF(ISBLANK(Rådata!D1569)=TRUE,\"\",((Rådata!D1569-Rådata!E1569)*100)/Rådata!D1569)","v":""},{"$f":"IF(ISBLANK(Rådata!G1569)=TRUE,\"\",(Rådata!F1569*100)/Rådata!G1569)","v":""},{"$f":"IF(ISBLANK(Rådata!K1569),\"\",(SUM(Rådata!M1569:P1569)*100)/SUM(Rådata!H1569:K1569))","v":""},{"$f":"IF(ISBLANK(Rådata!H1569),\"\",((SUM(Rådata!J1569:L1569)-SUM(Rådata!O1569:P1569))*100)/SUM(Rådata!H1569:L1569))","v":""},{"$f":"IF(ISBLANK(Rådata!R1569),\"\",(Rådata!Q1569*100)/Rådata!R1569)","v":""}]
[{"$f":"IF(ISBLANK(Rådata!A1570)=TRUE,\"\",Rådata!A1570)","v":""},{"$f":"IF(ISBLANK(Rådata!A1570)=TRUE,\"\",YEAR(A1570))","v":""},{"$f":"IF(ISBLANK(Rådata!A1570)=TRUE,\"\",VLOOKUP(MONTH(A1570),Opsætning!$G$3:$H$14,2,FALSE))","v":""},{"$f":"IF(ISBLANK(Rådata!B1570)=TRUE,\"\",(Rådata!C1570*100)/Rådata!B1570)","v":""},{"$f":"IF(ISBLANK(Rådata!D1570)=TRUE,\"\",((Rådata!D1570-Rådata!E1570)*100)/Rådata!D1570)","v":""},{"$f":"IF(ISBLANK(Rådata!G1570)=TRUE,\"\",(Rådata!F1570*100)/Rådata!G1570)","v":""},{"$f":"IF(ISBLANK(Rådata!K1570),\"\",(SUM(Rådata!M1570:P1570)*100)/SUM(Rådata!H1570:K1570))","v":""},{"$f":"IF(ISBLANK(Rådata!H1570),\"\",((SUM(Rådata!J1570:L1570)-SUM(Rådata!O1570:P1570))*100)/SUM(Rådata!H1570:L1570))","v":""},{"$f":"IF(ISBLANK(Rådata!R1570),\"\",(Rådata!Q1570*100)/Rådata!R1570)","v":""}]
[{"$f":"IF(ISBLANK(Rådata!A1571)=TRUE,\"\",Rådata!A1571)","v":""},{"$f":"IF(ISBLANK(Rådata!A1571)=TRUE,\"\",YEAR(A1571))","v":""},{"$f":"IF(ISBLANK(Rådata!A1571)=TRUE,\"\",VLOOKUP(MONTH(A1571),Opsætning!$G$3:$H$14,2,FALSE))","v":""},{"$f":"IF(ISBLANK(Rådata!B1571)=TRUE,\"\",(Rådata!C1571*100)/Rådata!B1571)","v":""},{"$f":"IF(ISBLANK(Rådata!D1571)=TRUE,\"\",((Rådata!D1571-Rådata!E1571)*100)/Rådata!D1571)","v":""},{"$f":"IF(ISBLANK(Rådata!G1571)=TRUE,\"\",(Rådata!F1571*100)/Rådata!G1571)","v":""},{"$f":"IF(ISBLANK(Rådata!K1571),\"\",(SUM(Rådata!M1571:P1571)*100)/SUM(Rådata!H1571:K1571))","v":""},{"$f":"IF(ISBLANK(Rådata!H1571),\"\",((SUM(Rådata!J1571:L1571)-SUM(Rådata!O1571:P1571))*100)/SUM(Rådata!H1571:L1571))","v":""},{"$f":"IF(ISBLANK(Rådata!R1571),\"\",(Rådata!Q1571*100)/Rådata!R1571)","v":""}]
[{"$f":"IF(ISBLANK(Rådata!A1572)=TRUE,\"\",Rådata!A1572)","v":""},{"$f":"IF(ISBLANK(Rådata!A1572)=TRUE,\"\",YEAR(A1572))","v":""},{"$f":"IF(ISBLANK(Rådata!A1572)=TRUE,\"\",VLOOKUP(MONTH(A1572),Opsætning!$G$3:$H$14,2,FALSE))","v":""},{"$f":"IF(ISBLANK(Rådata!B1572)=TRUE,\"\",(Rådata!C1572*100)/Rådata!B1572)","v":""},{"$f":"IF(ISBLANK(Rådata!D1572)=TRUE,\"\",((Rådata!D1572-Rådata!E1572)*100)/Rådata!D1572)","v":""},{"$f":"IF(ISBLANK(Rådata!G1572)=TRUE,\"\",(Rådata!F1572*100)/Rådata!G1572)","v":""},{"$f":"IF(ISBLANK(Rådata!K1572),\"\",(SUM(Rådata!M1572:P1572)*100)/SUM(Rådata!H1572:K1572))","v":""},{"$f":"IF(ISBLANK(Rådata!H1572),\"\",((SUM(Rådata!J1572:L1572)-SUM(Rådata!O1572:P1572))*100)/SUM(Rådata!H1572:L1572))","v":""},{"$f":"IF(ISBLANK(Rådata!R1572),\"\",(Rådata!Q1572*100)/Rådata!R1572)","v":""}]
[{"$f":"IF(ISBLANK(Rådata!A1573)=TRUE,\"\",Rådata!A1573)","v":""},{"$f":"IF(ISBLANK(Rådata!A1573)=TRUE,\"\",YEAR(A1573))","v":""},{"$f":"IF(ISBLANK(Rådata!A1573)=TRUE,\"\",VLOOKUP(MONTH(A1573),Opsætning!$G$3:$H$14,2,FALSE))","v":""},{"$f":"IF(ISBLANK(Rådata!B1573)=TRUE,\"\",(Rådata!C1573*100)/Rådata!B1573)","v":""},{"$f":"IF(ISBLANK(Rådata!D1573)=TRUE,\"\",((Rådata!D1573-Rådata!E1573)*100)/Rådata!D1573)","v":""},{"$f":"IF(ISBLANK(Rådata!G1573)=TRUE,\"\",(Rådata!F1573*100)/Rådata!G1573)","v":""},{"$f":"IF(ISBLANK(Rådata!K1573),\"\",(SUM(Rådata!M1573:P1573)*100)/SUM(Rådata!H1573:K1573))","v":""},{"$f":"IF(ISBLANK(Rådata!H1573),\"\",((SUM(Rådata!J1573:L1573)-SUM(Rådata!O1573:P1573))*100)/SUM(Rådata!H1573:L1573))","v":""},{"$f":"IF(ISBLANK(Rådata!R1573),\"\",(Rådata!Q1573*100)/Rådata!R1573)","v":""}]
[{"$f":"IF(ISBLANK(Rådata!A1574)=TRUE,\"\",Rådata!A1574)","v":""},{"$f":"IF(ISBLANK(Rådata!A1574)=TRUE,\"\",YEAR(A1574))","v":""},{"$f":"IF(ISBLANK(Rådata!A1574)=TRUE,\"\",VLOOKUP(MONTH(A1574),Opsætning!$G$3:$H$14,2,FALSE))","v":""},{"$f":"IF(ISBLANK(Rådata!B1574)=TRUE,\"\",(Rådata!C1574*100)/Rådata!B1574)","v":""},{"$f":"IF(ISBLANK(Rådata!D1574)=TRUE,\"\",((Rådata!D1574-Rådata!E1574)*100)/Rådata!D1574)","v":""},{"$f":"IF(ISBLANK(Rådata!G1574)=TRUE,\"\",(Rådata!F1574*100)/Rådata!G1574)","v":""},{"$f":"IF(ISBLANK(Rådata!K1574),\"\",(SUM(Rådata!M1574:P1574)*100)/SUM(Rådata!H1574:K1574))","v":""},{"$f":"IF(ISBLANK(Rådata!H1574),\"\",((SUM(Rådata!J1574:L1574)-SUM(Rådata!O1574:P1574))*100)/SUM(Rådata!H1574:L1574))","v":""},{"$f":"IF(ISBLANK(Rådata!R1574),\"\",(Rådata!Q1574*100)/Rådata!R1574)","v":""}]
[{"$f":"IF(ISBLANK(Rådata!A1575)=TRUE,\"\",Rådata!A1575)","v":""},{"$f":"IF(ISBLANK(Rådata!A1575)=TRUE,\"\",YEAR(A1575))","v":""},{"$f":"IF(ISBLANK(Rådata!A1575)=TRUE,\"\",VLOOKUP(MONTH(A1575),Opsætning!$G$3:$H$14,2,FALSE))","v":""},{"$f":"IF(ISBLANK(Rådata!B1575)=TRUE,\"\",(Rådata!C1575*100)/Rådata!B1575)","v":""},{"$f":"IF(ISBLANK(Rådata!D1575)=TRUE,\"\",((Rådata!D1575-Rådata!E1575)*100)/Rådata!D1575)","v":""},{"$f":"IF(ISBLANK(Rådata!G1575)=TRUE,\"\",(Rådata!F1575*100)/Rådata!G1575)","v":""},{"$f":"IF(ISBLANK(Rådata!K1575),\"\",(SUM(Rådata!M1575:P1575)*100)/SUM(Rådata!H1575:K1575))","v":""},{"$f":"IF(ISBLANK(Rådata!H1575),\"\",((SUM(Rådata!J1575:L1575)-SUM(Rådata!O1575:P1575))*100)/SUM(Rådata!H1575:L1575))","v":""},{"$f":"IF(ISBLANK(Rådata!R1575),\"\",(Rådata!Q1575*100)/Rådata!R1575)","v":""}]
[{"$f":"IF(ISBLANK(Rådata!A1576)=TRUE,\"\",Rådata!A1576)","v":""},{"$f":"IF(ISBLANK(Rådata!A1576)=TRUE,\"\",YEAR(A1576))","v":""},{"$f":"IF(ISBLANK(Rådata!A1576)=TRUE,\"\",VLOOKUP(MONTH(A1576),Opsætning!$G$3:$H$14,2,FALSE))","v":""},{"$f":"IF(ISBLANK(Rådata!B1576)=TRUE,\"\",(Rådata!C1576*100)/Rådata!B1576)","v":""},{"$f":"IF(ISBLANK(Rådata!D1576)=TRUE,\"\",((Rådata!D1576-Rådata!E1576)*100)/Rådata!D1576)","v":""},{"$f":"IF(ISBLANK(Rådata!G1576)=TRUE,\"\",(Rådata!F1576*100)/Rådata!G1576)","v":""},{"$f":"IF(ISBLANK(Rådata!K1576),\"\",(SUM(Rådata!M1576:P1576)*100)/SUM(Rådata!H1576:K1576))","v":""},{"$f":"IF(ISBLANK(Rådata!H1576),\"\",((SUM(Rådata!J1576:L1576)-SUM(Rådata!O1576:P1576))*100)/SUM(Rådata!H1576:L1576))","v":""},{"$f":"IF(ISBLANK(Rådata!R1576),\"\",(Rådata!Q1576*100)/Rådata!R1576)","v":""}]
[{"$f":"IF(ISBLANK(Rådata!A1577)=TRUE,\"\",Rådata!A1577)","v":""},{"$f":"IF(ISBLANK(Rådata!A1577)=TRUE,\"\",YEAR(A1577))","v":""},{"$f":"IF(ISBLANK(Rådata!A1577)=TRUE,\"\",VLOOKUP(MONTH(A1577),Opsætning!$G$3:$H$14,2,FALSE))","v":""},{"$f":"IF(ISBLANK(Rådata!B1577)=TRUE,\"\",(Rådata!C1577*100)/Rådata!B1577)","v":""},{"$f":"IF(ISBLANK(Rådata!D1577)=TRUE,\"\",((Rådata!D1577-Rådata!E1577)*100)/Rådata!D1577)","v":""},{"$f":"IF(ISBLANK(Rådata!G1577)=TRUE,\"\",(Rådata!F1577*100)/Rådata!G1577)","v":""},{"$f":"IF(ISBLANK(Rådata!K1577),\"\",(SUM(Rådata!M1577:P1577)*100)/SUM(Rådata!H1577:K1577))","v":""},{"$f":"IF(ISBLANK(Rådata!H1577),\"\",((SUM(Rådata!J1577:L1577)-SUM(Rådata!O1577:P1577))*100)/SUM(Rådata!H1577:L1577))","v":""},{"$f":"IF(ISBLANK(Rådata!R1577),\"\",(Rådata!Q1577*100)/Rådata!R1577)","v":""}]
[{"$f":"IF(ISBLANK(Rådata!A1578)=TRUE,\"\",Rådata!A1578)","v":""},{"$f":"IF(ISBLANK(Rådata!A1578)=TRUE,\"\",YEAR(A1578))","v":""},{"$f":"IF(ISBLANK(Rådata!A1578)=TRUE,\"\",VLOOKUP(MONTH(A1578),Opsætning!$G$3:$H$14,2,FALSE))","v":""},{"$f":"IF(ISBLANK(Rådata!B1578)=TRUE,\"\",(Rådata!C1578*100)/Rådata!B1578)","v":""},{"$f":"IF(ISBLANK(Rådata!D1578)=TRUE,\"\",((Rådata!D1578-Rådata!E1578)*100)/Rådata!D1578)","v":""},{"$f":"IF(ISBLANK(Rådata!G1578)=TRUE,\"\",(Rådata!F1578*100)/Rådata!G1578)","v":""},{"$f":"IF(ISBLANK(Rådata!K1578),\"\",(SUM(Rådata!M1578:P1578)*100)/SUM(Rådata!H1578:K1578))","v":""},{"$f":"IF(ISBLANK(Rådata!H1578),\"\",((SUM(Rådata!J1578:L1578)-SUM(Rådata!O1578:P1578))*100)/SUM(Rådata!H1578:L1578))","v":""},{"$f":"IF(ISBLANK(Rådata!R1578),\"\",(Rådata!Q1578*100)/Rådata!R1578)","v":""}]
[{"$f":"IF(ISBLANK(Rådata!A1579)=TRUE,\"\",Rådata!A1579)","v":""},{"$f":"IF(ISBLANK(Rådata!A1579)=TRUE,\"\",YEAR(A1579))","v":""},{"$f":"IF(ISBLANK(Rådata!A1579)=TRUE,\"\",VLOOKUP(MONTH(A1579),Opsætning!$G$3:$H$14,2,FALSE))","v":""},{"$f":"IF(ISBLANK(Rådata!B1579)=TRUE,\"\",(Rådata!C1579*100)/Rådata!B1579)","v":""},{"$f":"IF(ISBLANK(Rådata!D1579)=TRUE,\"\",((Rådata!D1579-Rådata!E1579)*100)/Rådata!D1579)","v":""},{"$f":"IF(ISBLANK(Rådata!G1579)=TRUE,\"\",(Rådata!F1579*100)/Rådata!G1579)","v":""},{"$f":"IF(ISBLANK(Rådata!K1579),\"\",(SUM(Rådata!M1579:P1579)*100)/SUM(Rådata!H1579:K1579))","v":""},{"$f":"IF(ISBLANK(Rådata!H1579),\"\",((SUM(Rådata!J1579:L1579)-SUM(Rådata!O1579:P1579))*100)/SUM(Rådata!H1579:L1579))","v":""},{"$f":"IF(ISBLANK(Rådata!R1579),\"\",(Rådata!Q1579*100)/Rådata!R1579)","v":""}]
[{"$f":"IF(ISBLANK(Rådata!A1580)=TRUE,\"\",Rådata!A1580)","v":""},{"$f":"IF(ISBLANK(Rådata!A1580)=TRUE,\"\",YEAR(A1580))","v":""},{"$f":"IF(ISBLANK(Rådata!A1580)=TRUE,\"\",VLOOKUP(MONTH(A1580),Opsætning!$G$3:$H$14,2,FALSE))","v":""},{"$f":"IF(ISBLANK(Rådata!B1580)=TRUE,\"\",(Rådata!C1580*100)/Rådata!B1580)","v":""},{"$f":"IF(ISBLANK(Rådata!D1580)=TRUE,\"\",((Rådata!D1580-Rådata!E1580)*100)/Rådata!D1580)","v":""},{"$f":"IF(ISBLANK(Rådata!G1580)=TRUE,\"\",(Rådata!F1580*100)/Rådata!G1580)","v":""},{"$f":"IF(ISBLANK(Rådata!K1580),\"\",(SUM(Rådata!M1580:P1580)*100)/SUM(Rådata!H1580:K1580))","v":""},{"$f":"IF(ISBLANK(Rådata!H1580),\"\",((SUM(Rådata!J1580:L1580)-SUM(Rådata!O1580:P1580))*100)/SUM(Rådata!H1580:L1580))","v":""},{"$f":"IF(ISBLANK(Rådata!R1580),\"\",(Rådata!Q1580*100)/Rådata!R1580)","v":""}]
[{"$f":"IF(ISBLANK(Rådata!A1581)=TRUE,\"\",Rådata!A1581)","v":""},{"$f":"IF(ISBLANK(Rådata!A1581)=TRUE,\"\",YEAR(A1581))","v":""},{"$f":"IF(ISBLANK(Rådata!A1581)=TRUE,\"\",VLOOKUP(MONTH(A1581),Opsætning!$G$3:$H$14,2,FALSE))","v":""},{"$f":"IF(ISBLANK(Rådata!B1581)=TRUE,\"\",(Rådata!C1581*100)/Rådata!B1581)","v":""},{"$f":"IF(ISBLANK(Rådata!D1581)=TRUE,\"\",((Rådata!D1581-Rådata!E1581)*100)/Rådata!D1581)","v":""},{"$f":"IF(ISBLANK(Rådata!G1581)=TRUE,\"\",(Rådata!F1581*100)/Rådata!G1581)","v":""},{"$f":"IF(ISBLANK(Rådata!K1581),\"\",(SUM(Rådata!M1581:P1581)*100)/SUM(Rådata!H1581:K1581))","v":""},{"$f":"IF(ISBLANK(Rådata!H1581),\"\",((SUM(Rådata!J1581:L1581)-SUM(Rådata!O1581:P1581))*100)/SUM(Rådata!H1581:L1581))","v":""},{"$f":"IF(ISBLANK(Rådata!R1581),\"\",(Rådata!Q1581*100)/Rådata!R1581)","v":""}]
[{"$f":"IF(ISBLANK(Rådata!A1582)=TRUE,\"\",Rådata!A1582)","v":""},{"$f":"IF(ISBLANK(Rådata!A1582)=TRUE,\"\",YEAR(A1582))","v":""},{"$f":"IF(ISBLANK(Rådata!A1582)=TRUE,\"\",VLOOKUP(MONTH(A1582),Opsætning!$G$3:$H$14,2,FALSE))","v":""},{"$f":"IF(ISBLANK(Rådata!B1582)=TRUE,\"\",(Rådata!C1582*100)/Rådata!B1582)","v":""},{"$f":"IF(ISBLANK(Rådata!D1582)=TRUE,\"\",((Rådata!D1582-Rådata!E1582)*100)/Rådata!D1582)","v":""},{"$f":"IF(ISBLANK(Rådata!G1582)=TRUE,\"\",(Rådata!F1582*100)/Rådata!G1582)","v":""},{"$f":"IF(ISBLANK(Rådata!K1582),\"\",(SUM(Rådata!M1582:P1582)*100)/SUM(Rådata!H1582:K1582))","v":""},{"$f":"IF(ISBLANK(Rådata!H1582),\"\",((SUM(Rådata!J1582:L1582)-SUM(Rådata!O1582:P1582))*100)/SUM(Rådata!H1582:L1582))","v":""},{"$f":"IF(ISBLANK(Rådata!R1582),\"\",(Rådata!Q1582*100)/Rådata!R1582)","v":""}]
[{"$f":"IF(ISBLANK(Rådata!A1583)=TRUE,\"\",Rådata!A1583)","v":""},{"$f":"IF(ISBLANK(Rådata!A1583)=TRUE,\"\",YEAR(A1583))","v":""},{"$f":"IF(ISBLANK(Rådata!A1583)=TRUE,\"\",VLOOKUP(MONTH(A1583),Opsætning!$G$3:$H$14,2,FALSE))","v":""},{"$f":"IF(ISBLANK(Rådata!B1583)=TRUE,\"\",(Rådata!C1583*100)/Rådata!B1583)","v":""},{"$f":"IF(ISBLANK(Rådata!D1583)=TRUE,\"\",((Rådata!D1583-Rådata!E1583)*100)/Rådata!D1583)","v":""},{"$f":"IF(ISBLANK(Rådata!G1583)=TRUE,\"\",(Rådata!F1583*100)/Rådata!G1583)","v":""},{"$f":"IF(ISBLANK(Rådata!K1583),\"\",(SUM(Rådata!M1583:P1583)*100)/SUM(Rådata!H1583:K1583))","v":""},{"$f":"IF(ISBLANK(Rådata!H1583),\"\",((SUM(Rådata!J1583:L1583)-SUM(Rådata!O1583:P1583))*100)/SUM(Rådata!H1583:L1583))","v":""},{"$f":"IF(ISBLANK(Rådata!R1583),\"\",(Rådata!Q1583*100)/Rådata!R1583)","v":""}]
[{"$f":"IF(ISBLANK(Rådata!A1584)=TRUE,\"\",Rådata!A1584)","v":""},{"$f":"IF(ISBLANK(Rådata!A1584)=TRUE,\"\",YEAR(A1584))","v":""},{"$f":"IF(ISBLANK(Rådata!A1584)=TRUE,\"\",VLOOKUP(MONTH(A1584),Opsætning!$G$3:$H$14,2,FALSE))","v":""},{"$f":"IF(ISBLANK(Rådata!B1584)=TRUE,\"\",(Rådata!C1584*100)/Rådata!B1584)","v":""},{"$f":"IF(ISBLANK(Rådata!D1584)=TRUE,\"\",((Rådata!D1584-Rådata!E1584)*100)/Rådata!D1584)","v":""},{"$f":"IF(ISBLANK(Rådata!G1584)=TRUE,\"\",(Rådata!F1584*100)/Rådata!G1584)","v":""},{"$f":"IF(ISBLANK(Rådata!K1584),\"\",(SUM(Rådata!M1584:P1584)*100)/SUM(Rådata!H1584:K1584))","v":""},{"$f":"IF(ISBLANK(Rådata!H1584),\"\",((SUM(Rådata!J1584:L1584)-SUM(Rådata!O1584:P1584))*100)/SUM(Rådata!H1584:L1584))","v":""},{"$f":"IF(ISBLANK(Rådata!R1584),\"\",(Rådata!Q1584*100)/Rådata!R1584)","v":""}]
[{"$f":"IF(ISBLANK(Rådata!A1585)=TRUE,\"\",Rådata!A1585)","v":""},{"$f":"IF(ISBLANK(Rådata!A1585)=TRUE,\"\",YEAR(A1585))","v":""},{"$f":"IF(ISBLANK(Rådata!A1585)=TRUE,\"\",VLOOKUP(MONTH(A1585),Opsætning!$G$3:$H$14,2,FALSE))","v":""},{"$f":"IF(ISBLANK(Rådata!B1585)=TRUE,\"\",(Rådata!C1585*100)/Rådata!B1585)","v":""},{"$f":"IF(ISBLANK(Rådata!D1585)=TRUE,\"\",((Rådata!D1585-Rådata!E1585)*100)/Rådata!D1585)","v":""},{"$f":"IF(ISBLANK(Rådata!G1585)=TRUE,\"\",(Rådata!F1585*100)/Rådata!G1585)","v":""},{"$f":"IF(ISBLANK(Rådata!K1585),\"\",(SUM(Rådata!M1585:P1585)*100)/SUM(Rådata!H1585:K1585))","v":""},{"$f":"IF(ISBLANK(Rådata!H1585),\"\",((SUM(Rådata!J1585:L1585)-SUM(Rådata!O1585:P1585))*100)/SUM(Rådata!H1585:L1585))","v":""},{"$f":"IF(ISBLANK(Rådata!R1585),\"\",(Rådata!Q1585*100)/Rådata!R1585)","v":""}]
[{"$f":"IF(ISBLANK(Rådata!A1586)=TRUE,\"\",Rådata!A1586)","v":""},{"$f":"IF(ISBLANK(Rådata!A1586)=TRUE,\"\",YEAR(A1586))","v":""},{"$f":"IF(ISBLANK(Rådata!A1586)=TRUE,\"\",VLOOKUP(MONTH(A1586),Opsætning!$G$3:$H$14,2,FALSE))","v":""},{"$f":"IF(ISBLANK(Rådata!B1586)=TRUE,\"\",(Rådata!C1586*100)/Rådata!B1586)","v":""},{"$f":"IF(ISBLANK(Rådata!D1586)=TRUE,\"\",((Rådata!D1586-Rådata!E1586)*100)/Rådata!D1586)","v":""},{"$f":"IF(ISBLANK(Rådata!G1586)=TRUE,\"\",(Rådata!F1586*100)/Rådata!G1586)","v":""},{"$f":"IF(ISBLANK(Rådata!K1586),\"\",(SUM(Rådata!M1586:P1586)*100)/SUM(Rådata!H1586:K1586))","v":""},{"$f":"IF(ISBLANK(Rådata!H1586),\"\",((SUM(Rådata!J1586:L1586)-SUM(Rådata!O1586:P1586))*100)/SUM(Rådata!H1586:L1586))","v":""},{"$f":"IF(ISBLANK(Rådata!R1586),\"\",(Rådata!Q1586*100)/Rådata!R1586)","v":""}]
[{"$f":"IF(ISBLANK(Rådata!A1587)=TRUE,\"\",Rådata!A1587)","v":""},{"$f":"IF(ISBLANK(Rådata!A1587)=TRUE,\"\",YEAR(A1587))","v":""},{"$f":"IF(ISBLANK(Rådata!A1587)=TRUE,\"\",VLOOKUP(MONTH(A1587),Opsætning!$G$3:$H$14,2,FALSE))","v":""},{"$f":"IF(ISBLANK(Rådata!B1587)=TRUE,\"\",(Rådata!C1587*100)/Rådata!B1587)","v":""},{"$f":"IF(ISBLANK(Rådata!D1587)=TRUE,\"\",((Rådata!D1587-Rådata!E1587)*100)/Rådata!D1587)","v":""},{"$f":"IF(ISBLANK(Rådata!G1587)=TRUE,\"\",(Rådata!F1587*100)/Rådata!G1587)","v":""},{"$f":"IF(ISBLANK(Rådata!K1587),\"\",(SUM(Rådata!M1587:P1587)*100)/SUM(Rådata!H1587:K1587))","v":""},{"$f":"IF(ISBLANK(Rådata!H1587),\"\",((SUM(Rådata!J1587:L1587)-SUM(Rådata!O1587:P1587))*100)/SUM(Rådata!H1587:L1587))","v":""},{"$f":"IF(ISBLANK(Rådata!R1587),\"\",(Rådata!Q1587*100)/Rådata!R1587)","v":""}]
[{"$f":"IF(ISBLANK(Rådata!A1588)=TRUE,\"\",Rådata!A1588)","v":""},{"$f":"IF(ISBLANK(Rådata!A1588)=TRUE,\"\",YEAR(A1588))","v":""},{"$f":"IF(ISBLANK(Rådata!A1588)=TRUE,\"\",VLOOKUP(MONTH(A1588),Opsætning!$G$3:$H$14,2,FALSE))","v":""},{"$f":"IF(ISBLANK(Rådata!B1588)=TRUE,\"\",(Rådata!C1588*100)/Rådata!B1588)","v":""},{"$f":"IF(ISBLANK(Rådata!D1588)=TRUE,\"\",((Rådata!D1588-Rådata!E1588)*100)/Rådata!D1588)","v":""},{"$f":"IF(ISBLANK(Rådata!G1588)=TRUE,\"\",(Rådata!F1588*100)/Rådata!G1588)","v":""},{"$f":"IF(ISBLANK(Rådata!K1588),\"\",(SUM(Rådata!M1588:P1588)*100)/SUM(Rådata!H1588:K1588))","v":""},{"$f":"IF(ISBLANK(Rådata!H1588),\"\",((SUM(Rådata!J1588:L1588)-SUM(Rådata!O1588:P1588))*100)/SUM(Rådata!H1588:L1588))","v":""},{"$f":"IF(ISBLANK(Rådata!R1588),\"\",(Rådata!Q1588*100)/Rådata!R1588)","v":""}]
[{"$f":"IF(ISBLANK(Rådata!A1589)=TRUE,\"\",Rådata!A1589)","v":""},{"$f":"IF(ISBLANK(Rådata!A1589)=TRUE,\"\",YEAR(A1589))","v":""},{"$f":"IF(ISBLANK(Rådata!A1589)=TRUE,\"\",VLOOKUP(MONTH(A1589),Opsætning!$G$3:$H$14,2,FALSE))","v":""},{"$f":"IF(ISBLANK(Rådata!B1589)=TRUE,\"\",(Rådata!C1589*100)/Rådata!B1589)","v":""},{"$f":"IF(ISBLANK(Rådata!D1589)=TRUE,\"\",((Rådata!D1589-Rådata!E1589)*100)/Rådata!D1589)","v":""},{"$f":"IF(ISBLANK(Rådata!G1589)=TRUE,\"\",(Rådata!F1589*100)/Rådata!G1589)","v":""},{"$f":"IF(ISBLANK(Rådata!K1589),\"\",(SUM(Rådata!M1589:P1589)*100)/SUM(Rådata!H1589:K1589))","v":""},{"$f":"IF(ISBLANK(Rådata!H1589),\"\",((SUM(Rådata!J1589:L1589)-SUM(Rådata!O1589:P1589))*100)/SUM(Rådata!H1589:L1589))","v":""},{"$f":"IF(ISBLANK(Rådata!R1589),\"\",(Rådata!Q1589*100)/Rådata!R1589)","v":""}]
[{"$f":"IF(ISBLANK(Rådata!A1590)=TRUE,\"\",Rådata!A1590)","v":""},{"$f":"IF(ISBLANK(Rådata!A1590)=TRUE,\"\",YEAR(A1590))","v":""},{"$f":"IF(ISBLANK(Rådata!A1590)=TRUE,\"\",VLOOKUP(MONTH(A1590),Opsætning!$G$3:$H$14,2,FALSE))","v":""},{"$f":"IF(ISBLANK(Rådata!B1590)=TRUE,\"\",(Rådata!C1590*100)/Rådata!B1590)","v":""},{"$f":"IF(ISBLANK(Rådata!D1590)=TRUE,\"\",((Rådata!D1590-Rådata!E1590)*100)/Rådata!D1590)","v":""},{"$f":"IF(ISBLANK(Rådata!G1590)=TRUE,\"\",(Rådata!F1590*100)/Rådata!G1590)","v":""},{"$f":"IF(ISBLANK(Rådata!K1590),\"\",(SUM(Rådata!M1590:P1590)*100)/SUM(Rådata!H1590:K1590))","v":""},{"$f":"IF(ISBLANK(Rådata!H1590),\"\",((SUM(Rådata!J1590:L1590)-SUM(Rådata!O1590:P1590))*100)/SUM(Rådata!H1590:L1590))","v":""},{"$f":"IF(ISBLANK(Rådata!R1590),\"\",(Rådata!Q1590*100)/Rådata!R1590)","v":""}]
[{"$f":"IF(ISBLANK(Rådata!A1591)=TRUE,\"\",Rådata!A1591)","v":""},{"$f":"IF(ISBLANK(Rådata!A1591)=TRUE,\"\",YEAR(A1591))","v":""},{"$f":"IF(ISBLANK(Rådata!A1591)=TRUE,\"\",VLOOKUP(MONTH(A1591),Opsætning!$G$3:$H$14,2,FALSE))","v":""},{"$f":"IF(ISBLANK(Rådata!B1591)=TRUE,\"\",(Rådata!C1591*100)/Rådata!B1591)","v":""},{"$f":"IF(ISBLANK(Rådata!D1591)=TRUE,\"\",((Rådata!D1591-Rådata!E1591)*100)/Rådata!D1591)","v":""},{"$f":"IF(ISBLANK(Rådata!G1591)=TRUE,\"\",(Rådata!F1591*100)/Rådata!G1591)","v":""},{"$f":"IF(ISBLANK(Rådata!K1591),\"\",(SUM(Rådata!M1591:P1591)*100)/SUM(Rådata!H1591:K1591))","v":""},{"$f":"IF(ISBLANK(Rådata!H1591),\"\",((SUM(Rådata!J1591:L1591)-SUM(Rådata!O1591:P1591))*100)/SUM(Rådata!H1591:L1591))","v":""},{"$f":"IF(ISBLANK(Rådata!R1591),\"\",(Rådata!Q1591*100)/Rådata!R1591)","v":""}]
[{"$f":"IF(ISBLANK(Rådata!A1592)=TRUE,\"\",Rådata!A1592)","v":""},{"$f":"IF(ISBLANK(Rådata!A1592)=TRUE,\"\",YEAR(A1592))","v":""},{"$f":"IF(ISBLANK(Rådata!A1592)=TRUE,\"\",VLOOKUP(MONTH(A1592),Opsætning!$G$3:$H$14,2,FALSE))","v":""},{"$f":"IF(ISBLANK(Rådata!B1592)=TRUE,\"\",(Rådata!C1592*100)/Rådata!B1592)","v":""},{"$f":"IF(ISBLANK(Rådata!D1592)=TRUE,\"\",((Rådata!D1592-Rådata!E1592)*100)/Rådata!D1592)","v":""},{"$f":"IF(ISBLANK(Rådata!G1592)=TRUE,\"\",(Rådata!F1592*100)/Rådata!G1592)","v":""},{"$f":"IF(ISBLANK(Rådata!K1592),\"\",(SUM(Rådata!M1592:P1592)*100)/SUM(Rådata!H1592:K1592))","v":""},{"$f":"IF(ISBLANK(Rådata!H1592),\"\",((SUM(Rådata!J1592:L1592)-SUM(Rådata!O1592:P1592))*100)/SUM(Rådata!H1592:L1592))","v":""},{"$f":"IF(ISBLANK(Rådata!R1592),\"\",(Rådata!Q1592*100)/Rådata!R1592)","v":""}]
[{"$f":"IF(ISBLANK(Rådata!A1593)=TRUE,\"\",Rådata!A1593)","v":""},{"$f":"IF(ISBLANK(Rådata!A1593)=TRUE,\"\",YEAR(A1593))","v":""},{"$f":"IF(ISBLANK(Rådata!A1593)=TRUE,\"\",VLOOKUP(MONTH(A1593),Opsætning!$G$3:$H$14,2,FALSE))","v":""},{"$f":"IF(ISBLANK(Rådata!B1593)=TRUE,\"\",(Rådata!C1593*100)/Rådata!B1593)","v":""},{"$f":"IF(ISBLANK(Rådata!D1593)=TRUE,\"\",((Rådata!D1593-Rådata!E1593)*100)/Rådata!D1593)","v":""},{"$f":"IF(ISBLANK(Rådata!G1593)=TRUE,\"\",(Rådata!F1593*100)/Rådata!G1593)","v":""},{"$f":"IF(ISBLANK(Rådata!K1593),\"\",(SUM(Rådata!M1593:P1593)*100)/SUM(Rådata!H1593:K1593))","v":""},{"$f":"IF(ISBLANK(Rådata!H1593),\"\",((SUM(Rådata!J1593:L1593)-SUM(Rådata!O1593:P1593))*100)/SUM(Rådata!H1593:L1593))","v":""},{"$f":"IF(ISBLANK(Rådata!R1593),\"\",(Rådata!Q1593*100)/Rådata!R1593)","v":""}]
[{"$f":"IF(ISBLANK(Rådata!A1594)=TRUE,\"\",Rådata!A1594)","v":""},{"$f":"IF(ISBLANK(Rådata!A1594)=TRUE,\"\",YEAR(A1594))","v":""},{"$f":"IF(ISBLANK(Rådata!A1594)=TRUE,\"\",VLOOKUP(MONTH(A1594),Opsætning!$G$3:$H$14,2,FALSE))","v":""},{"$f":"IF(ISBLANK(Rådata!B1594)=TRUE,\"\",(Rådata!C1594*100)/Rådata!B1594)","v":""},{"$f":"IF(ISBLANK(Rådata!D1594)=TRUE,\"\",((Rådata!D1594-Rådata!E1594)*100)/Rådata!D1594)","v":""},{"$f":"IF(ISBLANK(Rådata!G1594)=TRUE,\"\",(Rådata!F1594*100)/Rådata!G1594)","v":""},{"$f":"IF(ISBLANK(Rådata!K1594),\"\",(SUM(Rådata!M1594:P1594)*100)/SUM(Rådata!H1594:K1594))","v":""},{"$f":"IF(ISBLANK(Rådata!H1594),\"\",((SUM(Rådata!J1594:L1594)-SUM(Rådata!O1594:P1594))*100)/SUM(Rådata!H1594:L1594))","v":""},{"$f":"IF(ISBLANK(Rådata!R1594),\"\",(Rådata!Q1594*100)/Rådata!R1594)","v":""}]
[{"$f":"IF(ISBLANK(Rådata!A1595)=TRUE,\"\",Rådata!A1595)","v":""},{"$f":"IF(ISBLANK(Rådata!A1595)=TRUE,\"\",YEAR(A1595))","v":""},{"$f":"IF(ISBLANK(Rådata!A1595)=TRUE,\"\",VLOOKUP(MONTH(A1595),Opsætning!$G$3:$H$14,2,FALSE))","v":""},{"$f":"IF(ISBLANK(Rådata!B1595)=TRUE,\"\",(Rådata!C1595*100)/Rådata!B1595)","v":""},{"$f":"IF(ISBLANK(Rådata!D1595)=TRUE,\"\",((Rådata!D1595-Rådata!E1595)*100)/Rådata!D1595)","v":""},{"$f":"IF(ISBLANK(Rådata!G1595)=TRUE,\"\",(Rådata!F1595*100)/Rådata!G1595)","v":""},{"$f":"IF(ISBLANK(Rådata!K1595),\"\",(SUM(Rådata!M1595:P1595)*100)/SUM(Rådata!H1595:K1595))","v":""},{"$f":"IF(ISBLANK(Rådata!H1595),\"\",((SUM(Rådata!J1595:L1595)-SUM(Rådata!O1595:P1595))*100)/SUM(Rådata!H1595:L1595))","v":""},{"$f":"IF(ISBLANK(Rådata!R1595),\"\",(Rådata!Q1595*100)/Rådata!R1595)","v":""}]
[{"$f":"IF(ISBLANK(Rådata!A1596)=TRUE,\"\",Rådata!A1596)","v":""},{"$f":"IF(ISBLANK(Rådata!A1596)=TRUE,\"\",YEAR(A1596))","v":""},{"$f":"IF(ISBLANK(Rådata!A1596)=TRUE,\"\",VLOOKUP(MONTH(A1596),Opsætning!$G$3:$H$14,2,FALSE))","v":""},{"$f":"IF(ISBLANK(Rådata!B1596)=TRUE,\"\",(Rådata!C1596*100)/Rådata!B1596)","v":""},{"$f":"IF(ISBLANK(Rådata!D1596)=TRUE,\"\",((Rådata!D1596-Rådata!E1596)*100)/Rådata!D1596)","v":""},{"$f":"IF(ISBLANK(Rådata!G1596)=TRUE,\"\",(Rådata!F1596*100)/Rådata!G1596)","v":""},{"$f":"IF(ISBLANK(Rådata!K1596),\"\",(SUM(Rådata!M1596:P1596)*100)/SUM(Rådata!H1596:K1596))","v":""},{"$f":"IF(ISBLANK(Rådata!H1596),\"\",((SUM(Rådata!J1596:L1596)-SUM(Rådata!O1596:P1596))*100)/SUM(Rådata!H1596:L1596))","v":""},{"$f":"IF(ISBLANK(Rådata!R1596),\"\",(Rådata!Q1596*100)/Rådata!R1596)","v":""}]
[{"$f":"IF(ISBLANK(Rådata!A1597)=TRUE,\"\",Rådata!A1597)","v":""},{"$f":"IF(ISBLANK(Rådata!A1597)=TRUE,\"\",YEAR(A1597))","v":""},{"$f":"IF(ISBLANK(Rådata!A1597)=TRUE,\"\",VLOOKUP(MONTH(A1597),Opsætning!$G$3:$H$14,2,FALSE))","v":""},{"$f":"IF(ISBLANK(Rådata!B1597)=TRUE,\"\",(Rådata!C1597*100)/Rådata!B1597)","v":""},{"$f":"IF(ISBLANK(Rådata!D1597)=TRUE,\"\",((Rådata!D1597-Rådata!E1597)*100)/Rådata!D1597)","v":""},{"$f":"IF(ISBLANK(Rådata!G1597)=TRUE,\"\",(Rådata!F1597*100)/Rådata!G1597)","v":""},{"$f":"IF(ISBLANK(Rådata!K1597),\"\",(SUM(Rådata!M1597:P1597)*100)/SUM(Rådata!H1597:K1597))","v":""},{"$f":"IF(ISBLANK(Rådata!H1597),\"\",((SUM(Rådata!J1597:L1597)-SUM(Rådata!O1597:P1597))*100)/SUM(Rådata!H1597:L1597))","v":""},{"$f":"IF(ISBLANK(Rådata!R1597),\"\",(Rådata!Q1597*100)/Rådata!R1597)","v":""}]
[{"$f":"IF(ISBLANK(Rådata!A1598)=TRUE,\"\",Rådata!A1598)","v":""},{"$f":"IF(ISBLANK(Rådata!A1598)=TRUE,\"\",YEAR(A1598))","v":""},{"$f":"IF(ISBLANK(Rådata!A1598)=TRUE,\"\",VLOOKUP(MONTH(A1598),Opsætning!$G$3:$H$14,2,FALSE))","v":""},{"$f":"IF(ISBLANK(Rådata!B1598)=TRUE,\"\",(Rådata!C1598*100)/Rådata!B1598)","v":""},{"$f":"IF(ISBLANK(Rådata!D1598)=TRUE,\"\",((Rådata!D1598-Rådata!E1598)*100)/Rådata!D1598)","v":""},{"$f":"IF(ISBLANK(Rådata!G1598)=TRUE,\"\",(Rådata!F1598*100)/Rådata!G1598)","v":""},{"$f":"IF(ISBLANK(Rådata!K1598),\"\",(SUM(Rådata!M1598:P1598)*100)/SUM(Rådata!H1598:K1598))","v":""},{"$f":"IF(ISBLANK(Rådata!H1598),\"\",((SUM(Rådata!J1598:L1598)-SUM(Rådata!O1598:P1598))*100)/SUM(Rådata!H1598:L1598))","v":""},{"$f":"IF(ISBLANK(Rådata!R1598),\"\",(Rådata!Q1598*100)/Rådata!R1598)","v":""}]
[{"$f":"IF(ISBLANK(Rådata!A1599)=TRUE,\"\",Rådata!A1599)","v":""},{"$f":"IF(ISBLANK(Rådata!A1599)=TRUE,\"\",YEAR(A1599))","v":""},{"$f":"IF(ISBLANK(Rådata!A1599)=TRUE,\"\",VLOOKUP(MONTH(A1599),Opsætning!$G$3:$H$14,2,FALSE))","v":""},{"$f":"IF(ISBLANK(Rådata!B1599)=TRUE,\"\",(Rådata!C1599*100)/Rådata!B1599)","v":""},{"$f":"IF(ISBLANK(Rådata!D1599)=TRUE,\"\",((Rådata!D1599-Rådata!E1599)*100)/Rådata!D1599)","v":""},{"$f":"IF(ISBLANK(Rådata!G1599)=TRUE,\"\",(Rådata!F1599*100)/Rådata!G1599)","v":""},{"$f":"IF(ISBLANK(Rådata!K1599),\"\",(SUM(Rådata!M1599:P1599)*100)/SUM(Rådata!H1599:K1599))","v":""},{"$f":"IF(ISBLANK(Rådata!H1599),\"\",((SUM(Rådata!J1599:L1599)-SUM(Rådata!O1599:P1599))*100)/SUM(Rådata!H1599:L1599))","v":""},{"$f":"IF(ISBLANK(Rådata!R1599),\"\",(Rådata!Q1599*100)/Rådata!R1599)","v":""}]
[{"$f":"IF(ISBLANK(Rådata!A1600)=TRUE,\"\",Rådata!A1600)","v":""},{"$f":"IF(ISBLANK(Rådata!A1600)=TRUE,\"\",YEAR(A1600))","v":""},{"$f":"IF(ISBLANK(Rådata!A1600)=TRUE,\"\",VLOOKUP(MONTH(A1600),Opsætning!$G$3:$H$14,2,FALSE))","v":""},{"$f":"IF(ISBLANK(Rådata!B1600)=TRUE,\"\",(Rådata!C1600*100)/Rådata!B1600)","v":""},{"$f":"IF(ISBLANK(Rådata!D1600)=TRUE,\"\",((Rådata!D1600-Rådata!E1600)*100)/Rådata!D1600)","v":""},{"$f":"IF(ISBLANK(Rådata!G1600)=TRUE,\"\",(Rådata!F1600*100)/Rådata!G1600)","v":""},{"$f":"IF(ISBLANK(Rådata!K1600),\"\",(SUM(Rådata!M1600:P1600)*100)/SUM(Rådata!H1600:K1600))","v":""},{"$f":"IF(ISBLANK(Rådata!H1600),\"\",((SUM(Rådata!J1600:L1600)-SUM(Rådata!O1600:P1600))*100)/SUM(Rådata!H1600:L1600))","v":""},{"$f":"IF(ISBLANK(Rådata!R1600),\"\",(Rådata!Q1600*100)/Rådata!R1600)","v":""}]
[{"$f":"IF(ISBLANK(Rådata!A1601)=TRUE,\"\",Rådata!A1601)","v":""},{"$f":"IF(ISBLANK(Rådata!A1601)=TRUE,\"\",YEAR(A1601))","v":""},{"$f":"IF(ISBLANK(Rådata!A1601)=TRUE,\"\",VLOOKUP(MONTH(A1601),Opsætning!$G$3:$H$14,2,FALSE))","v":""},{"$f":"IF(ISBLANK(Rådata!B1601)=TRUE,\"\",(Rådata!C1601*100)/Rådata!B1601)","v":""},{"$f":"IF(ISBLANK(Rådata!D1601)=TRUE,\"\",((Rådata!D1601-Rådata!E1601)*100)/Rådata!D1601)","v":""},{"$f":"IF(ISBLANK(Rådata!G1601)=TRUE,\"\",(Rådata!F1601*100)/Rådata!G1601)","v":""},{"$f":"IF(ISBLANK(Rådata!K1601),\"\",(SUM(Rådata!M1601:P1601)*100)/SUM(Rådata!H1601:K1601))","v":""},{"$f":"IF(ISBLANK(Rådata!H1601),\"\",((SUM(Rådata!J1601:L1601)-SUM(Rådata!O1601:P1601))*100)/SUM(Rådata!H1601:L1601))","v":""},{"$f":"IF(ISBLANK(Rådata!R1601),\"\",(Rådata!Q1601*100)/Rådata!R1601)","v":""}]
[{"$f":"IF(ISBLANK(Rådata!A1602)=TRUE,\"\",Rådata!A1602)","v":""},{"$f":"IF(ISBLANK(Rådata!A1602)=TRUE,\"\",YEAR(A1602))","v":""},{"$f":"IF(ISBLANK(Rådata!A1602)=TRUE,\"\",VLOOKUP(MONTH(A1602),Opsætning!$G$3:$H$14,2,FALSE))","v":""},{"$f":"IF(ISBLANK(Rådata!B1602)=TRUE,\"\",(Rådata!C1602*100)/Rådata!B1602)","v":""},{"$f":"IF(ISBLANK(Rådata!D1602)=TRUE,\"\",((Rådata!D1602-Rådata!E1602)*100)/Rådata!D1602)","v":""},{"$f":"IF(ISBLANK(Rådata!G1602)=TRUE,\"\",(Rådata!F1602*100)/Rådata!G1602)","v":""},{"$f":"IF(ISBLANK(Rådata!K1602),\"\",(SUM(Rådata!M1602:P1602)*100)/SUM(Rådata!H1602:K1602))","v":""},{"$f":"IF(ISBLANK(Rådata!H1602),\"\",((SUM(Rådata!J1602:L1602)-SUM(Rådata!O1602:P1602))*100)/SUM(Rådata!H1602:L1602))","v":""},{"$f":"IF(ISBLANK(Rådata!R1602),\"\",(Rådata!Q1602*100)/Rådata!R1602)","v":""}]
[{"$f":"IF(ISBLANK(Rådata!A1603)=TRUE,\"\",Rådata!A1603)","v":""},{"$f":"IF(ISBLANK(Rådata!A1603)=TRUE,\"\",YEAR(A1603))","v":""},{"$f":"IF(ISBLANK(Rådata!A1603)=TRUE,\"\",VLOOKUP(MONTH(A1603),Opsætning!$G$3:$H$14,2,FALSE))","v":""},{"$f":"IF(ISBLANK(Rådata!B1603)=TRUE,\"\",(Rådata!C1603*100)/Rådata!B1603)","v":""},{"$f":"IF(ISBLANK(Rådata!D1603)=TRUE,\"\",((Rådata!D1603-Rådata!E1603)*100)/Rådata!D1603)","v":""},{"$f":"IF(ISBLANK(Rådata!G1603)=TRUE,\"\",(Rådata!F1603*100)/Rådata!G1603)","v":""},{"$f":"IF(ISBLANK(Rådata!K1603),\"\",(SUM(Rådata!M1603:P1603)*100)/SUM(Rådata!H1603:K1603))","v":""},{"$f":"IF(ISBLANK(Rådata!H1603),\"\",((SUM(Rådata!J1603:L1603)-SUM(Rådata!O1603:P1603))*100)/SUM(Rådata!H1603:L1603))","v":""},{"$f":"IF(ISBLANK(Rådata!R1603),\"\",(Rådata!Q1603*100)/Rådata!R1603)","v":""}]
[{"$f":"IF(ISBLANK(Rådata!A1604)=TRUE,\"\",Rådata!A1604)","v":""},{"$f":"IF(ISBLANK(Rådata!A1604)=TRUE,\"\",YEAR(A1604))","v":""},{"$f":"IF(ISBLANK(Rådata!A1604)=TRUE,\"\",VLOOKUP(MONTH(A1604),Opsætning!$G$3:$H$14,2,FALSE))","v":""},{"$f":"IF(ISBLANK(Rådata!B1604)=TRUE,\"\",(Rådata!C1604*100)/Rådata!B1604)","v":""},{"$f":"IF(ISBLANK(Rådata!D1604)=TRUE,\"\",((Rådata!D1604-Rådata!E1604)*100)/Rådata!D1604)","v":""},{"$f":"IF(ISBLANK(Rådata!G1604)=TRUE,\"\",(Rådata!F1604*100)/Rådata!G1604)","v":""},{"$f":"IF(ISBLANK(Rådata!K1604),\"\",(SUM(Rådata!M1604:P1604)*100)/SUM(Rådata!H1604:K1604))","v":""},{"$f":"IF(ISBLANK(Rådata!H1604),\"\",((SUM(Rådata!J1604:L1604)-SUM(Rådata!O1604:P1604))*100)/SUM(Rådata!H1604:L1604))","v":""},{"$f":"IF(ISBLANK(Rådata!R1604),\"\",(Rådata!Q1604*100)/Rådata!R1604)","v":""}]
[{"$f":"IF(ISBLANK(Rådata!A1605)=TRUE,\"\",Rådata!A1605)","v":""},{"$f":"IF(ISBLANK(Rådata!A1605)=TRUE,\"\",YEAR(A1605))","v":""},{"$f":"IF(ISBLANK(Rådata!A1605)=TRUE,\"\",VLOOKUP(MONTH(A1605),Opsætning!$G$3:$H$14,2,FALSE))","v":""},{"$f":"IF(ISBLANK(Rådata!B1605)=TRUE,\"\",(Rådata!C1605*100)/Rådata!B1605)","v":""},{"$f":"IF(ISBLANK(Rådata!D1605)=TRUE,\"\",((Rådata!D1605-Rådata!E1605)*100)/Rådata!D1605)","v":""},{"$f":"IF(ISBLANK(Rådata!G1605)=TRUE,\"\",(Rådata!F1605*100)/Rådata!G1605)","v":""},{"$f":"IF(ISBLANK(Rådata!K1605),\"\",(SUM(Rådata!M1605:P1605)*100)/SUM(Rådata!H1605:K1605))","v":""},{"$f":"IF(ISBLANK(Rådata!H1605),\"\",((SUM(Rådata!J1605:L1605)-SUM(Rådata!O1605:P1605))*100)/SUM(Rådata!H1605:L1605))","v":""},{"$f":"IF(ISBLANK(Rådata!R1605),\"\",(Rådata!Q1605*100)/Rådata!R1605)","v":""}]
[{"$f":"IF(ISBLANK(Rådata!A1606)=TRUE,\"\",Rådata!A1606)","v":""},{"$f":"IF(ISBLANK(Rådata!A1606)=TRUE,\"\",YEAR(A1606))","v":""},{"$f":"IF(ISBLANK(Rådata!A1606)=TRUE,\"\",VLOOKUP(MONTH(A1606),Opsætning!$G$3:$H$14,2,FALSE))","v":""},{"$f":"IF(ISBLANK(Rådata!B1606)=TRUE,\"\",(Rådata!C1606*100)/Rådata!B1606)","v":""},{"$f":"IF(ISBLANK(Rådata!D1606)=TRUE,\"\",((Rådata!D1606-Rådata!E1606)*100)/Rådata!D1606)","v":""},{"$f":"IF(ISBLANK(Rådata!G1606)=TRUE,\"\",(Rådata!F1606*100)/Rådata!G1606)","v":""},{"$f":"IF(ISBLANK(Rådata!K1606),\"\",(SUM(Rådata!M1606:P1606)*100)/SUM(Rådata!H1606:K1606))","v":""},{"$f":"IF(ISBLANK(Rådata!H1606),\"\",((SUM(Rådata!J1606:L1606)-SUM(Rådata!O1606:P1606))*100)/SUM(Rådata!H1606:L1606))","v":""},{"$f":"IF(ISBLANK(Rådata!R1606),\"\",(Rådata!Q1606*100)/Rådata!R1606)","v":""}]
[{"$f":"IF(ISBLANK(Rådata!A1607)=TRUE,\"\",Rådata!A1607)","v":""},{"$f":"IF(ISBLANK(Rådata!A1607)=TRUE,\"\",YEAR(A1607))","v":""},{"$f":"IF(ISBLANK(Rådata!A1607)=TRUE,\"\",VLOOKUP(MONTH(A1607),Opsætning!$G$3:$H$14,2,FALSE))","v":""},{"$f":"IF(ISBLANK(Rådata!B1607)=TRUE,\"\",(Rådata!C1607*100)/Rådata!B1607)","v":""},{"$f":"IF(ISBLANK(Rådata!D1607)=TRUE,\"\",((Rådata!D1607-Rådata!E1607)*100)/Rådata!D1607)","v":""},{"$f":"IF(ISBLANK(Rådata!G1607)=TRUE,\"\",(Rådata!F1607*100)/Rådata!G1607)","v":""},{"$f":"IF(ISBLANK(Rådata!K1607),\"\",(SUM(Rådata!M1607:P1607)*100)/SUM(Rådata!H1607:K1607))","v":""},{"$f":"IF(ISBLANK(Rådata!H1607),\"\",((SUM(Rådata!J1607:L1607)-SUM(Rådata!O1607:P1607))*100)/SUM(Rådata!H1607:L1607))","v":""},{"$f":"IF(ISBLANK(Rådata!R1607),\"\",(Rådata!Q1607*100)/Rådata!R1607)","v":""}]
[{"$f":"IF(ISBLANK(Rådata!A1608)=TRUE,\"\",Rådata!A1608)","v":""},{"$f":"IF(ISBLANK(Rådata!A1608)=TRUE,\"\",YEAR(A1608))","v":""},{"$f":"IF(ISBLANK(Rådata!A1608)=TRUE,\"\",VLOOKUP(MONTH(A1608),Opsætning!$G$3:$H$14,2,FALSE))","v":""},{"$f":"IF(ISBLANK(Rådata!B1608)=TRUE,\"\",(Rådata!C1608*100)/Rådata!B1608)","v":""},{"$f":"IF(ISBLANK(Rådata!D1608)=TRUE,\"\",((Rådata!D1608-Rådata!E1608)*100)/Rådata!D1608)","v":""},{"$f":"IF(ISBLANK(Rådata!G1608)=TRUE,\"\",(Rådata!F1608*100)/Rådata!G1608)","v":""},{"$f":"IF(ISBLANK(Rådata!K1608),\"\",(SUM(Rådata!M1608:P1608)*100)/SUM(Rådata!H1608:K1608))","v":""},{"$f":"IF(ISBLANK(Rådata!H1608),\"\",((SUM(Rådata!J1608:L1608)-SUM(Rådata!O1608:P1608))*100)/SUM(Rådata!H1608:L1608))","v":""},{"$f":"IF(ISBLANK(Rådata!R1608),\"\",(Rådata!Q1608*100)/Rådata!R1608)","v":""}]
[{"$f":"IF(ISBLANK(Rådata!A1609)=TRUE,\"\",Rådata!A1609)","v":""},{"$f":"IF(ISBLANK(Rådata!A1609)=TRUE,\"\",YEAR(A1609))","v":""},{"$f":"IF(ISBLANK(Rådata!A1609)=TRUE,\"\",VLOOKUP(MONTH(A1609),Opsætning!$G$3:$H$14,2,FALSE))","v":""},{"$f":"IF(ISBLANK(Rådata!B1609)=TRUE,\"\",(Rådata!C1609*100)/Rådata!B1609)","v":""},{"$f":"IF(ISBLANK(Rådata!D1609)=TRUE,\"\",((Rådata!D1609-Rådata!E1609)*100)/Rådata!D1609)","v":""},{"$f":"IF(ISBLANK(Rådata!G1609)=TRUE,\"\",(Rådata!F1609*100)/Rådata!G1609)","v":""},{"$f":"IF(ISBLANK(Rådata!K1609),\"\",(SUM(Rådata!M1609:P1609)*100)/SUM(Rådata!H1609:K1609))","v":""},{"$f":"IF(ISBLANK(Rådata!H1609),\"\",((SUM(Rådata!J1609:L1609)-SUM(Rådata!O1609:P1609))*100)/SUM(Rådata!H1609:L1609))","v":""},{"$f":"IF(ISBLANK(Rådata!R1609),\"\",(Rådata!Q1609*100)/Rådata!R1609)","v":""}]
[{"$f":"IF(ISBLANK(Rådata!A1610)=TRUE,\"\",Rådata!A1610)","v":""},{"$f":"IF(ISBLANK(Rådata!A1610)=TRUE,\"\",YEAR(A1610))","v":""},{"$f":"IF(ISBLANK(Rådata!A1610)=TRUE,\"\",VLOOKUP(MONTH(A1610),Opsætning!$G$3:$H$14,2,FALSE))","v":""},{"$f":"IF(ISBLANK(Rådata!B1610)=TRUE,\"\",(Rådata!C1610*100)/Rådata!B1610)","v":""},{"$f":"IF(ISBLANK(Rådata!D1610)=TRUE,\"\",((Rådata!D1610-Rådata!E1610)*100)/Rådata!D1610)","v":""},{"$f":"IF(ISBLANK(Rådata!G1610)=TRUE,\"\",(Rådata!F1610*100)/Rådata!G1610)","v":""},{"$f":"IF(ISBLANK(Rådata!K1610),\"\",(SUM(Rådata!M1610:P1610)*100)/SUM(Rådata!H1610:K1610))","v":""},{"$f":"IF(ISBLANK(Rådata!H1610),\"\",((SUM(Rådata!J1610:L1610)-SUM(Rådata!O1610:P1610))*100)/SUM(Rådata!H1610:L1610))","v":""},{"$f":"IF(ISBLANK(Rådata!R1610),\"\",(Rådata!Q1610*100)/Rådata!R1610)","v":""}]
[{"$f":"IF(ISBLANK(Rådata!A1611)=TRUE,\"\",Rådata!A1611)","v":""},{"$f":"IF(ISBLANK(Rådata!A1611)=TRUE,\"\",YEAR(A1611))","v":""},{"$f":"IF(ISBLANK(Rådata!A1611)=TRUE,\"\",VLOOKUP(MONTH(A1611),Opsætning!$G$3:$H$14,2,FALSE))","v":""},{"$f":"IF(ISBLANK(Rådata!B1611)=TRUE,\"\",(Rådata!C1611*100)/Rådata!B1611)","v":""},{"$f":"IF(ISBLANK(Rådata!D1611)=TRUE,\"\",((Rådata!D1611-Rådata!E1611)*100)/Rådata!D1611)","v":""},{"$f":"IF(ISBLANK(Rådata!G1611)=TRUE,\"\",(Rådata!F1611*100)/Rådata!G1611)","v":""},{"$f":"IF(ISBLANK(Rådata!K1611),\"\",(SUM(Rådata!M1611:P1611)*100)/SUM(Rådata!H1611:K1611))","v":""},{"$f":"IF(ISBLANK(Rådata!H1611),\"\",((SUM(Rådata!J1611:L1611)-SUM(Rådata!O1611:P1611))*100)/SUM(Rådata!H1611:L1611))","v":""},{"$f":"IF(ISBLANK(Rådata!R1611),\"\",(Rådata!Q1611*100)/Rådata!R1611)","v":""}]
[{"$f":"IF(ISBLANK(Rådata!A1612)=TRUE,\"\",Rådata!A1612)","v":""},{"$f":"IF(ISBLANK(Rådata!A1612)=TRUE,\"\",YEAR(A1612))","v":""},{"$f":"IF(ISBLANK(Rådata!A1612)=TRUE,\"\",VLOOKUP(MONTH(A1612),Opsætning!$G$3:$H$14,2,FALSE))","v":""},{"$f":"IF(ISBLANK(Rådata!B1612)=TRUE,\"\",(Rådata!C1612*100)/Rådata!B1612)","v":""},{"$f":"IF(ISBLANK(Rådata!D1612)=TRUE,\"\",((Rådata!D1612-Rådata!E1612)*100)/Rådata!D1612)","v":""},{"$f":"IF(ISBLANK(Rådata!G1612)=TRUE,\"\",(Rådata!F1612*100)/Rådata!G1612)","v":""},{"$f":"IF(ISBLANK(Rådata!K1612),\"\",(SUM(Rådata!M1612:P1612)*100)/SUM(Rådata!H1612:K1612))","v":""},{"$f":"IF(ISBLANK(Rådata!H1612),\"\",((SUM(Rådata!J1612:L1612)-SUM(Rådata!O1612:P1612))*100)/SUM(Rådata!H1612:L1612))","v":""},{"$f":"IF(ISBLANK(Rådata!R1612),\"\",(Rådata!Q1612*100)/Rådata!R1612)","v":""}]
[{"$f":"IF(ISBLANK(Rådata!A1613)=TRUE,\"\",Rådata!A1613)","v":""},{"$f":"IF(ISBLANK(Rådata!A1613)=TRUE,\"\",YEAR(A1613))","v":""},{"$f":"IF(ISBLANK(Rådata!A1613)=TRUE,\"\",VLOOKUP(MONTH(A1613),Opsætning!$G$3:$H$14,2,FALSE))","v":""},{"$f":"IF(ISBLANK(Rådata!B1613)=TRUE,\"\",(Rådata!C1613*100)/Rådata!B1613)","v":""},{"$f":"IF(ISBLANK(Rådata!D1613)=TRUE,\"\",((Rådata!D1613-Rådata!E1613)*100)/Rådata!D1613)","v":""},{"$f":"IF(ISBLANK(Rådata!G1613)=TRUE,\"\",(Rådata!F1613*100)/Rådata!G1613)","v":""},{"$f":"IF(ISBLANK(Rådata!K1613),\"\",(SUM(Rådata!M1613:P1613)*100)/SUM(Rådata!H1613:K1613))","v":""},{"$f":"IF(ISBLANK(Rådata!H1613),\"\",((SUM(Rådata!J1613:L1613)-SUM(Rådata!O1613:P1613))*100)/SUM(Rådata!H1613:L1613))","v":""},{"$f":"IF(ISBLANK(Rådata!R1613),\"\",(Rådata!Q1613*100)/Rådata!R1613)","v":""}]
[{"$f":"IF(ISBLANK(Rådata!A1614)=TRUE,\"\",Rådata!A1614)","v":""},{"$f":"IF(ISBLANK(Rådata!A1614)=TRUE,\"\",YEAR(A1614))","v":""},{"$f":"IF(ISBLANK(Rådata!A1614)=TRUE,\"\",VLOOKUP(MONTH(A1614),Opsætning!$G$3:$H$14,2,FALSE))","v":""},{"$f":"IF(ISBLANK(Rådata!B1614)=TRUE,\"\",(Rådata!C1614*100)/Rådata!B1614)","v":""},{"$f":"IF(ISBLANK(Rådata!D1614)=TRUE,\"\",((Rådata!D1614-Rådata!E1614)*100)/Rådata!D1614)","v":""},{"$f":"IF(ISBLANK(Rådata!G1614)=TRUE,\"\",(Rådata!F1614*100)/Rådata!G1614)","v":""},{"$f":"IF(ISBLANK(Rådata!K1614),\"\",(SUM(Rådata!M1614:P1614)*100)/SUM(Rådata!H1614:K1614))","v":""},{"$f":"IF(ISBLANK(Rådata!H1614),\"\",((SUM(Rådata!J1614:L1614)-SUM(Rådata!O1614:P1614))*100)/SUM(Rådata!H1614:L1614))","v":""},{"$f":"IF(ISBLANK(Rådata!R1614),\"\",(Rådata!Q1614*100)/Rådata!R1614)","v":""}]
[{"$f":"IF(ISBLANK(Rådata!A1615)=TRUE,\"\",Rådata!A1615)","v":""},{"$f":"IF(ISBLANK(Rådata!A1615)=TRUE,\"\",YEAR(A1615))","v":""},{"$f":"IF(ISBLANK(Rådata!A1615)=TRUE,\"\",VLOOKUP(MONTH(A1615),Opsætning!$G$3:$H$14,2,FALSE))","v":""},{"$f":"IF(ISBLANK(Rådata!B1615)=TRUE,\"\",(Rådata!C1615*100)/Rådata!B1615)","v":""},{"$f":"IF(ISBLANK(Rådata!D1615)=TRUE,\"\",((Rådata!D1615-Rådata!E1615)*100)/Rådata!D1615)","v":""},{"$f":"IF(ISBLANK(Rådata!G1615)=TRUE,\"\",(Rådata!F1615*100)/Rådata!G1615)","v":""},{"$f":"IF(ISBLANK(Rådata!K1615),\"\",(SUM(Rådata!M1615:P1615)*100)/SUM(Rådata!H1615:K1615))","v":""},{"$f":"IF(ISBLANK(Rådata!H1615),\"\",((SUM(Rådata!J1615:L1615)-SUM(Rådata!O1615:P1615))*100)/SUM(Rådata!H1615:L1615))","v":""},{"$f":"IF(ISBLANK(Rådata!R1615),\"\",(Rådata!Q1615*100)/Rådata!R1615)","v":""}]
[{"$f":"IF(ISBLANK(Rådata!A1616)=TRUE,\"\",Rådata!A1616)","v":""},{"$f":"IF(ISBLANK(Rådata!A1616)=TRUE,\"\",YEAR(A1616))","v":""},{"$f":"IF(ISBLANK(Rådata!A1616)=TRUE,\"\",VLOOKUP(MONTH(A1616),Opsætning!$G$3:$H$14,2,FALSE))","v":""},{"$f":"IF(ISBLANK(Rådata!B1616)=TRUE,\"\",(Rådata!C1616*100)/Rådata!B1616)","v":""},{"$f":"IF(ISBLANK(Rådata!D1616)=TRUE,\"\",((Rådata!D1616-Rådata!E1616)*100)/Rådata!D1616)","v":""},{"$f":"IF(ISBLANK(Rådata!G1616)=TRUE,\"\",(Rådata!F1616*100)/Rådata!G1616)","v":""},{"$f":"IF(ISBLANK(Rådata!K1616),\"\",(SUM(Rådata!M1616:P1616)*100)/SUM(Rådata!H1616:K1616))","v":""},{"$f":"IF(ISBLANK(Rådata!H1616),\"\",((SUM(Rådata!J1616:L1616)-SUM(Rådata!O1616:P1616))*100)/SUM(Rådata!H1616:L1616))","v":""},{"$f":"IF(ISBLANK(Rådata!R1616),\"\",(Rådata!Q1616*100)/Rådata!R1616)","v":""}]
[{"$f":"IF(ISBLANK(Rådata!A1617)=TRUE,\"\",Rådata!A1617)","v":""},{"$f":"IF(ISBLANK(Rådata!A1617)=TRUE,\"\",YEAR(A1617))","v":""},{"$f":"IF(ISBLANK(Rådata!A1617)=TRUE,\"\",VLOOKUP(MONTH(A1617),Opsætning!$G$3:$H$14,2,FALSE))","v":""},{"$f":"IF(ISBLANK(Rådata!B1617)=TRUE,\"\",(Rådata!C1617*100)/Rådata!B1617)","v":""},{"$f":"IF(ISBLANK(Rådata!D1617)=TRUE,\"\",((Rådata!D1617-Rådata!E1617)*100)/Rådata!D1617)","v":""},{"$f":"IF(ISBLANK(Rådata!G1617)=TRUE,\"\",(Rådata!F1617*100)/Rådata!G1617)","v":""},{"$f":"IF(ISBLANK(Rådata!K1617),\"\",(SUM(Rådata!M1617:P1617)*100)/SUM(Rådata!H1617:K1617))","v":""},{"$f":"IF(ISBLANK(Rådata!H1617),\"\",((SUM(Rådata!J1617:L1617)-SUM(Rådata!O1617:P1617))*100)/SUM(Rådata!H1617:L1617))","v":""},{"$f":"IF(ISBLANK(Rådata!R1617),\"\",(Rådata!Q1617*100)/Rådata!R1617)","v":""}]
[{"$f":"IF(ISBLANK(Rådata!A1618)=TRUE,\"\",Rådata!A1618)","v":""},{"$f":"IF(ISBLANK(Rådata!A1618)=TRUE,\"\",YEAR(A1618))","v":""},{"$f":"IF(ISBLANK(Rådata!A1618)=TRUE,\"\",VLOOKUP(MONTH(A1618),Opsætning!$G$3:$H$14,2,FALSE))","v":""},{"$f":"IF(ISBLANK(Rådata!B1618)=TRUE,\"\",(Rådata!C1618*100)/Rådata!B1618)","v":""},{"$f":"IF(ISBLANK(Rådata!D1618)=TRUE,\"\",((Rådata!D1618-Rådata!E1618)*100)/Rådata!D1618)","v":""},{"$f":"IF(ISBLANK(Rådata!G1618)=TRUE,\"\",(Rådata!F1618*100)/Rådata!G1618)","v":""},{"$f":"IF(ISBLANK(Rådata!K1618),\"\",(SUM(Rådata!M1618:P1618)*100)/SUM(Rådata!H1618:K1618))","v":""},{"$f":"IF(ISBLANK(Rådata!H1618),\"\",((SUM(Rådata!J1618:L1618)-SUM(Rådata!O1618:P1618))*100)/SUM(Rådata!H1618:L1618))","v":""},{"$f":"IF(ISBLANK(Rådata!R1618),\"\",(Rådata!Q1618*100)/Rådata!R1618)","v":""}]
[{"$f":"IF(ISBLANK(Rådata!A1619)=TRUE,\"\",Rådata!A1619)","v":""},{"$f":"IF(ISBLANK(Rådata!A1619)=TRUE,\"\",YEAR(A1619))","v":""},{"$f":"IF(ISBLANK(Rådata!A1619)=TRUE,\"\",VLOOKUP(MONTH(A1619),Opsætning!$G$3:$H$14,2,FALSE))","v":""},{"$f":"IF(ISBLANK(Rådata!B1619)=TRUE,\"\",(Rådata!C1619*100)/Rådata!B1619)","v":""},{"$f":"IF(ISBLANK(Rådata!D1619)=TRUE,\"\",((Rådata!D1619-Rådata!E1619)*100)/Rådata!D1619)","v":""},{"$f":"IF(ISBLANK(Rådata!G1619)=TRUE,\"\",(Rådata!F1619*100)/Rådata!G1619)","v":""},{"$f":"IF(ISBLANK(Rådata!K1619),\"\",(SUM(Rådata!M1619:P1619)*100)/SUM(Rådata!H1619:K1619))","v":""},{"$f":"IF(ISBLANK(Rådata!H1619),\"\",((SUM(Rådata!J1619:L1619)-SUM(Rådata!O1619:P1619))*100)/SUM(Rådata!H1619:L1619))","v":""},{"$f":"IF(ISBLANK(Rådata!R1619),\"\",(Rådata!Q1619*100)/Rådata!R1619)","v":""}]
[{"$f":"IF(ISBLANK(Rådata!A1620)=TRUE,\"\",Rådata!A1620)","v":""},{"$f":"IF(ISBLANK(Rådata!A1620)=TRUE,\"\",YEAR(A1620))","v":""},{"$f":"IF(ISBLANK(Rådata!A1620)=TRUE,\"\",VLOOKUP(MONTH(A1620),Opsætning!$G$3:$H$14,2,FALSE))","v":""},{"$f":"IF(ISBLANK(Rådata!B1620)=TRUE,\"\",(Rådata!C1620*100)/Rådata!B1620)","v":""},{"$f":"IF(ISBLANK(Rådata!D1620)=TRUE,\"\",((Rådata!D1620-Rådata!E1620)*100)/Rådata!D1620)","v":""},{"$f":"IF(ISBLANK(Rådata!G1620)=TRUE,\"\",(Rådata!F1620*100)/Rådata!G1620)","v":""},{"$f":"IF(ISBLANK(Rådata!K1620),\"\",(SUM(Rådata!M1620:P1620)*100)/SUM(Rådata!H1620:K1620))","v":""},{"$f":"IF(ISBLANK(Rådata!H1620),\"\",((SUM(Rådata!J1620:L1620)-SUM(Rådata!O1620:P1620))*100)/SUM(Rådata!H1620:L1620))","v":""},{"$f":"IF(ISBLANK(Rådata!R1620),\"\",(Rådata!Q1620*100)/Rådata!R1620)","v":""}]
[{"$f":"IF(ISBLANK(Rådata!A1621)=TRUE,\"\",Rådata!A1621)","v":""},{"$f":"IF(ISBLANK(Rådata!A1621)=TRUE,\"\",YEAR(A1621))","v":""},{"$f":"IF(ISBLANK(Rådata!A1621)=TRUE,\"\",VLOOKUP(MONTH(A1621),Opsætning!$G$3:$H$14,2,FALSE))","v":""},{"$f":"IF(ISBLANK(Rådata!B1621)=TRUE,\"\",(Rådata!C1621*100)/Rådata!B1621)","v":""},{"$f":"IF(ISBLANK(Rådata!D1621)=TRUE,\"\",((Rådata!D1621-Rådata!E1621)*100)/Rådata!D1621)","v":""},{"$f":"IF(ISBLANK(Rådata!G1621)=TRUE,\"\",(Rådata!F1621*100)/Rådata!G1621)","v":""},{"$f":"IF(ISBLANK(Rådata!K1621),\"\",(SUM(Rådata!M1621:P1621)*100)/SUM(Rådata!H1621:K1621))","v":""},{"$f":"IF(ISBLANK(Rådata!H1621),\"\",((SUM(Rådata!J1621:L1621)-SUM(Rådata!O1621:P1621))*100)/SUM(Rådata!H1621:L1621))","v":""},{"$f":"IF(ISBLANK(Rådata!R1621),\"\",(Rådata!Q1621*100)/Rådata!R1621)","v":""}]
[{"$f":"IF(ISBLANK(Rådata!A1622)=TRUE,\"\",Rådata!A1622)","v":""},{"$f":"IF(ISBLANK(Rådata!A1622)=TRUE,\"\",YEAR(A1622))","v":""},{"$f":"IF(ISBLANK(Rådata!A1622)=TRUE,\"\",VLOOKUP(MONTH(A1622),Opsætning!$G$3:$H$14,2,FALSE))","v":""},{"$f":"IF(ISBLANK(Rådata!B1622)=TRUE,\"\",(Rådata!C1622*100)/Rådata!B1622)","v":""},{"$f":"IF(ISBLANK(Rådata!D1622)=TRUE,\"\",((Rådata!D1622-Rådata!E1622)*100)/Rådata!D1622)","v":""},{"$f":"IF(ISBLANK(Rådata!G1622)=TRUE,\"\",(Rådata!F1622*100)/Rådata!G1622)","v":""},{"$f":"IF(ISBLANK(Rådata!K1622),\"\",(SUM(Rådata!M1622:P1622)*100)/SUM(Rådata!H1622:K1622))","v":""},{"$f":"IF(ISBLANK(Rådata!H1622),\"\",((SUM(Rådata!J1622:L1622)-SUM(Rådata!O1622:P1622))*100)/SUM(Rådata!H1622:L1622))","v":""},{"$f":"IF(ISBLANK(Rådata!R1622),\"\",(Rådata!Q1622*100)/Rådata!R1622)","v":""}]
[{"$f":"IF(ISBLANK(Rådata!A1623)=TRUE,\"\",Rådata!A1623)","v":""},{"$f":"IF(ISBLANK(Rådata!A1623)=TRUE,\"\",YEAR(A1623))","v":""},{"$f":"IF(ISBLANK(Rådata!A1623)=TRUE,\"\",VLOOKUP(MONTH(A1623),Opsætning!$G$3:$H$14,2,FALSE))","v":""},{"$f":"IF(ISBLANK(Rådata!B1623)=TRUE,\"\",(Rådata!C1623*100)/Rådata!B1623)","v":""},{"$f":"IF(ISBLANK(Rådata!D1623)=TRUE,\"\",((Rådata!D1623-Rådata!E1623)*100)/Rådata!D1623)","v":""},{"$f":"IF(ISBLANK(Rådata!G1623)=TRUE,\"\",(Rådata!F1623*100)/Rådata!G1623)","v":""},{"$f":"IF(ISBLANK(Rådata!K1623),\"\",(SUM(Rådata!M1623:P1623)*100)/SUM(Rådata!H1623:K1623))","v":""},{"$f":"IF(ISBLANK(Rådata!H1623),\"\",((SUM(Rådata!J1623:L1623)-SUM(Rådata!O1623:P1623))*100)/SUM(Rådata!H1623:L1623))","v":""},{"$f":"IF(ISBLANK(Rådata!R1623),\"\",(Rådata!Q1623*100)/Rådata!R1623)","v":""}]
[{"$f":"IF(ISBLANK(Rådata!A1624)=TRUE,\"\",Rådata!A1624)","v":""},{"$f":"IF(ISBLANK(Rådata!A1624)=TRUE,\"\",YEAR(A1624))","v":""},{"$f":"IF(ISBLANK(Rådata!A1624)=TRUE,\"\",VLOOKUP(MONTH(A1624),Opsætning!$G$3:$H$14,2,FALSE))","v":""},{"$f":"IF(ISBLANK(Rådata!B1624)=TRUE,\"\",(Rådata!C1624*100)/Rådata!B1624)","v":""},{"$f":"IF(ISBLANK(Rådata!D1624)=TRUE,\"\",((Rådata!D1624-Rådata!E1624)*100)/Rådata!D1624)","v":""},{"$f":"IF(ISBLANK(Rådata!G1624)=TRUE,\"\",(Rådata!F1624*100)/Rådata!G1624)","v":""},{"$f":"IF(ISBLANK(Rådata!K1624),\"\",(SUM(Rådata!M1624:P1624)*100)/SUM(Rådata!H1624:K1624))","v":""},{"$f":"IF(ISBLANK(Rådata!H1624),\"\",((SUM(Rådata!J1624:L1624)-SUM(Rådata!O1624:P1624))*100)/SUM(Rådata!H1624:L1624))","v":""},{"$f":"IF(ISBLANK(Rådata!R1624),\"\",(Rådata!Q1624*100)/Rådata!R1624)","v":""}]
[{"$f":"IF(ISBLANK(Rådata!A1625)=TRUE,\"\",Rådata!A1625)","v":""},{"$f":"IF(ISBLANK(Rådata!A1625)=TRUE,\"\",YEAR(A1625))","v":""},{"$f":"IF(ISBLANK(Rådata!A1625)=TRUE,\"\",VLOOKUP(MONTH(A1625),Opsætning!$G$3:$H$14,2,FALSE))","v":""},{"$f":"IF(ISBLANK(Rådata!B1625)=TRUE,\"\",(Rådata!C1625*100)/Rådata!B1625)","v":""},{"$f":"IF(ISBLANK(Rådata!D1625)=TRUE,\"\",((Rådata!D1625-Rådata!E1625)*100)/Rådata!D1625)","v":""},{"$f":"IF(ISBLANK(Rådata!G1625)=TRUE,\"\",(Rådata!F1625*100)/Rådata!G1625)","v":""},{"$f":"IF(ISBLANK(Rådata!K1625),\"\",(SUM(Rådata!M1625:P1625)*100)/SUM(Rådata!H1625:K1625))","v":""},{"$f":"IF(ISBLANK(Rådata!H1625),\"\",((SUM(Rådata!J1625:L1625)-SUM(Rådata!O1625:P1625))*100)/SUM(Rådata!H1625:L1625))","v":""},{"$f":"IF(ISBLANK(Rådata!R1625),\"\",(Rådata!Q1625*100)/Rådata!R1625)","v":""}]
[{"$f":"IF(ISBLANK(Rådata!A1626)=TRUE,\"\",Rådata!A1626)","v":""},{"$f":"IF(ISBLANK(Rådata!A1626)=TRUE,\"\",YEAR(A1626))","v":""},{"$f":"IF(ISBLANK(Rådata!A1626)=TRUE,\"\",VLOOKUP(MONTH(A1626),Opsætning!$G$3:$H$14,2,FALSE))","v":""},{"$f":"IF(ISBLANK(Rådata!B1626)=TRUE,\"\",(Rådata!C1626*100)/Rådata!B1626)","v":""},{"$f":"IF(ISBLANK(Rådata!D1626)=TRUE,\"\",((Rådata!D1626-Rådata!E1626)*100)/Rådata!D1626)","v":""},{"$f":"IF(ISBLANK(Rådata!G1626)=TRUE,\"\",(Rådata!F1626*100)/Rådata!G1626)","v":""},{"$f":"IF(ISBLANK(Rådata!K1626),\"\",(SUM(Rådata!M1626:P1626)*100)/SUM(Rådata!H1626:K1626))","v":""},{"$f":"IF(ISBLANK(Rådata!H1626),\"\",((SUM(Rådata!J1626:L1626)-SUM(Rådata!O1626:P1626))*100)/SUM(Rådata!H1626:L1626))","v":""},{"$f":"IF(ISBLANK(Rådata!R1626),\"\",(Rådata!Q1626*100)/Rådata!R1626)","v":""}]
[{"$f":"IF(ISBLANK(Rådata!A1627)=TRUE,\"\",Rådata!A1627)","v":""},{"$f":"IF(ISBLANK(Rådata!A1627)=TRUE,\"\",YEAR(A1627))","v":""},{"$f":"IF(ISBLANK(Rådata!A1627)=TRUE,\"\",VLOOKUP(MONTH(A1627),Opsætning!$G$3:$H$14,2,FALSE))","v":""},{"$f":"IF(ISBLANK(Rådata!B1627)=TRUE,\"\",(Rådata!C1627*100)/Rådata!B1627)","v":""},{"$f":"IF(ISBLANK(Rådata!D1627)=TRUE,\"\",((Rådata!D1627-Rådata!E1627)*100)/Rådata!D1627)","v":""},{"$f":"IF(ISBLANK(Rådata!G1627)=TRUE,\"\",(Rådata!F1627*100)/Rådata!G1627)","v":""},{"$f":"IF(ISBLANK(Rådata!K1627),\"\",(SUM(Rådata!M1627:P1627)*100)/SUM(Rådata!H1627:K1627))","v":""},{"$f":"IF(ISBLANK(Rådata!H1627),\"\",((SUM(Rådata!J1627:L1627)-SUM(Rådata!O1627:P1627))*100)/SUM(Rådata!H1627:L1627))","v":""},{"$f":"IF(ISBLANK(Rådata!R1627),\"\",(Rådata!Q1627*100)/Rådata!R1627)","v":""}]
[{"$f":"IF(ISBLANK(Rådata!A1628)=TRUE,\"\",Rådata!A1628)","v":""},{"$f":"IF(ISBLANK(Rådata!A1628)=TRUE,\"\",YEAR(A1628))","v":""},{"$f":"IF(ISBLANK(Rådata!A1628)=TRUE,\"\",VLOOKUP(MONTH(A1628),Opsætning!$G$3:$H$14,2,FALSE))","v":""},{"$f":"IF(ISBLANK(Rådata!B1628)=TRUE,\"\",(Rådata!C1628*100)/Rådata!B1628)","v":""},{"$f":"IF(ISBLANK(Rådata!D1628)=TRUE,\"\",((Rådata!D1628-Rådata!E1628)*100)/Rådata!D1628)","v":""},{"$f":"IF(ISBLANK(Rådata!G1628)=TRUE,\"\",(Rådata!F1628*100)/Rådata!G1628)","v":""},{"$f":"IF(ISBLANK(Rådata!K1628),\"\",(SUM(Rådata!M1628:P1628)*100)/SUM(Rådata!H1628:K1628))","v":""},{"$f":"IF(ISBLANK(Rådata!H1628),\"\",((SUM(Rådata!J1628:L1628)-SUM(Rådata!O1628:P1628))*100)/SUM(Rådata!H1628:L1628))","v":""},{"$f":"IF(ISBLANK(Rådata!R1628),\"\",(Rådata!Q1628*100)/Rådata!R1628)","v":""}]
[{"$f":"IF(ISBLANK(Rådata!A1629)=TRUE,\"\",Rådata!A1629)","v":""},{"$f":"IF(ISBLANK(Rådata!A1629)=TRUE,\"\",YEAR(A1629))","v":""},{"$f":"IF(ISBLANK(Rådata!A1629)=TRUE,\"\",VLOOKUP(MONTH(A1629),Opsætning!$G$3:$H$14,2,FALSE))","v":""},{"$f":"IF(ISBLANK(Rådata!B1629)=TRUE,\"\",(Rådata!C1629*100)/Rådata!B1629)","v":""},{"$f":"IF(ISBLANK(Rådata!D1629)=TRUE,\"\",((Rådata!D1629-Rådata!E1629)*100)/Rådata!D1629)","v":""},{"$f":"IF(ISBLANK(Rådata!G1629)=TRUE,\"\",(Rådata!F1629*100)/Rådata!G1629)","v":""},{"$f":"IF(ISBLANK(Rådata!K1629),\"\",(SUM(Rådata!M1629:P1629)*100)/SUM(Rådata!H1629:K1629))","v":""},{"$f":"IF(ISBLANK(Rådata!H1629),\"\",((SUM(Rådata!J1629:L1629)-SUM(Rådata!O1629:P1629))*100)/SUM(Rådata!H1629:L1629))","v":""},{"$f":"IF(ISBLANK(Rådata!R1629),\"\",(Rådata!Q1629*100)/Rådata!R1629)","v":""}]
[{"$f":"IF(ISBLANK(Rådata!A1630)=TRUE,\"\",Rådata!A1630)","v":""},{"$f":"IF(ISBLANK(Rådata!A1630)=TRUE,\"\",YEAR(A1630))","v":""},{"$f":"IF(ISBLANK(Rådata!A1630)=TRUE,\"\",VLOOKUP(MONTH(A1630),Opsætning!$G$3:$H$14,2,FALSE))","v":""},{"$f":"IF(ISBLANK(Rådata!B1630)=TRUE,\"\",(Rådata!C1630*100)/Rådata!B1630)","v":""},{"$f":"IF(ISBLANK(Rådata!D1630)=TRUE,\"\",((Rådata!D1630-Rådata!E1630)*100)/Rådata!D1630)","v":""},{"$f":"IF(ISBLANK(Rådata!G1630)=TRUE,\"\",(Rådata!F1630*100)/Rådata!G1630)","v":""},{"$f":"IF(ISBLANK(Rådata!K1630),\"\",(SUM(Rådata!M1630:P1630)*100)/SUM(Rådata!H1630:K1630))","v":""},{"$f":"IF(ISBLANK(Rådata!H1630),\"\",((SUM(Rådata!J1630:L1630)-SUM(Rådata!O1630:P1630))*100)/SUM(Rådata!H1630:L1630))","v":""},{"$f":"IF(ISBLANK(Rådata!R1630),\"\",(Rådata!Q1630*100)/Rådata!R1630)","v":""}]
[{"$f":"IF(ISBLANK(Rådata!A1631)=TRUE,\"\",Rådata!A1631)","v":""},{"$f":"IF(ISBLANK(Rådata!A1631)=TRUE,\"\",YEAR(A1631))","v":""},{"$f":"IF(ISBLANK(Rådata!A1631)=TRUE,\"\",VLOOKUP(MONTH(A1631),Opsætning!$G$3:$H$14,2,FALSE))","v":""},{"$f":"IF(ISBLANK(Rådata!B1631)=TRUE,\"\",(Rådata!C1631*100)/Rådata!B1631)","v":""},{"$f":"IF(ISBLANK(Rådata!D1631)=TRUE,\"\",((Rådata!D1631-Rådata!E1631)*100)/Rådata!D1631)","v":""},{"$f":"IF(ISBLANK(Rådata!G1631)=TRUE,\"\",(Rådata!F1631*100)/Rådata!G1631)","v":""},{"$f":"IF(ISBLANK(Rådata!K1631),\"\",(SUM(Rådata!M1631:P1631)*100)/SUM(Rådata!H1631:K1631))","v":""},{"$f":"IF(ISBLANK(Rådata!H1631),\"\",((SUM(Rådata!J1631:L1631)-SUM(Rådata!O1631:P1631))*100)/SUM(Rådata!H1631:L1631))","v":""},{"$f":"IF(ISBLANK(Rådata!R1631),\"\",(Rådata!Q1631*100)/Rådata!R1631)","v":""}]
[{"$f":"IF(ISBLANK(Rådata!A1632)=TRUE,\"\",Rådata!A1632)","v":""},{"$f":"IF(ISBLANK(Rådata!A1632)=TRUE,\"\",YEAR(A1632))","v":""},{"$f":"IF(ISBLANK(Rådata!A1632)=TRUE,\"\",VLOOKUP(MONTH(A1632),Opsætning!$G$3:$H$14,2,FALSE))","v":""},{"$f":"IF(ISBLANK(Rådata!B1632)=TRUE,\"\",(Rådata!C1632*100)/Rådata!B1632)","v":""},{"$f":"IF(ISBLANK(Rådata!D1632)=TRUE,\"\",((Rådata!D1632-Rådata!E1632)*100)/Rådata!D1632)","v":""},{"$f":"IF(ISBLANK(Rådata!G1632)=TRUE,\"\",(Rådata!F1632*100)/Rådata!G1632)","v":""},{"$f":"IF(ISBLANK(Rådata!K1632),\"\",(SUM(Rådata!M1632:P1632)*100)/SUM(Rådata!H1632:K1632))","v":""},{"$f":"IF(ISBLANK(Rådata!H1632),\"\",((SUM(Rådata!J1632:L1632)-SUM(Rådata!O1632:P1632))*100)/SUM(Rådata!H1632:L1632))","v":""},{"$f":"IF(ISBLANK(Rådata!R1632),\"\",(Rådata!Q1632*100)/Rådata!R1632)","v":""}]
[{"$f":"IF(ISBLANK(Rådata!A1633)=TRUE,\"\",Rådata!A1633)","v":""},{"$f":"IF(ISBLANK(Rådata!A1633)=TRUE,\"\",YEAR(A1633))","v":""},{"$f":"IF(ISBLANK(Rådata!A1633)=TRUE,\"\",VLOOKUP(MONTH(A1633),Opsætning!$G$3:$H$14,2,FALSE))","v":""},{"$f":"IF(ISBLANK(Rådata!B1633)=TRUE,\"\",(Rådata!C1633*100)/Rådata!B1633)","v":""},{"$f":"IF(ISBLANK(Rådata!D1633)=TRUE,\"\",((Rådata!D1633-Rådata!E1633)*100)/Rådata!D1633)","v":""},{"$f":"IF(ISBLANK(Rådata!G1633)=TRUE,\"\",(Rådata!F1633*100)/Rådata!G1633)","v":""},{"$f":"IF(ISBLANK(Rådata!K1633),\"\",(SUM(Rådata!M1633:P1633)*100)/SUM(Rådata!H1633:K1633))","v":""},{"$f":"IF(ISBLANK(Rådata!H1633),\"\",((SUM(Rådata!J1633:L1633)-SUM(Rådata!O1633:P1633))*100)/SUM(Rådata!H1633:L1633))","v":""},{"$f":"IF(ISBLANK(Rådata!R1633),\"\",(Rådata!Q1633*100)/Rådata!R1633)","v":""}]
[{"$f":"IF(ISBLANK(Rådata!A1634)=TRUE,\"\",Rådata!A1634)","v":""},{"$f":"IF(ISBLANK(Rådata!A1634)=TRUE,\"\",YEAR(A1634))","v":""},{"$f":"IF(ISBLANK(Rådata!A1634)=TRUE,\"\",VLOOKUP(MONTH(A1634),Opsætning!$G$3:$H$14,2,FALSE))","v":""},{"$f":"IF(ISBLANK(Rådata!B1634)=TRUE,\"\",(Rådata!C1634*100)/Rådata!B1634)","v":""},{"$f":"IF(ISBLANK(Rådata!D1634)=TRUE,\"\",((Rådata!D1634-Rådata!E1634)*100)/Rådata!D1634)","v":""},{"$f":"IF(ISBLANK(Rådata!G1634)=TRUE,\"\",(Rådata!F1634*100)/Rådata!G1634)","v":""},{"$f":"IF(ISBLANK(Rådata!K1634),\"\",(SUM(Rådata!M1634:P1634)*100)/SUM(Rådata!H1634:K1634))","v":""},{"$f":"IF(ISBLANK(Rådata!H1634),\"\",((SUM(Rådata!J1634:L1634)-SUM(Rådata!O1634:P1634))*100)/SUM(Rådata!H1634:L1634))","v":""},{"$f":"IF(ISBLANK(Rådata!R1634),\"\",(Rådata!Q1634*100)/Rådata!R1634)","v":""}]
[{"$f":"IF(ISBLANK(Rådata!A1635)=TRUE,\"\",Rådata!A1635)","v":""},{"$f":"IF(ISBLANK(Rådata!A1635)=TRUE,\"\",YEAR(A1635))","v":""},{"$f":"IF(ISBLANK(Rådata!A1635)=TRUE,\"\",VLOOKUP(MONTH(A1635),Opsætning!$G$3:$H$14,2,FALSE))","v":""},{"$f":"IF(ISBLANK(Rådata!B1635)=TRUE,\"\",(Rådata!C1635*100)/Rådata!B1635)","v":""},{"$f":"IF(ISBLANK(Rådata!D1635)=TRUE,\"\",((Rådata!D1635-Rådata!E1635)*100)/Rådata!D1635)","v":""},{"$f":"IF(ISBLANK(Rådata!G1635)=TRUE,\"\",(Rådata!F1635*100)/Rådata!G1635)","v":""},{"$f":"IF(ISBLANK(Rådata!K1635),\"\",(SUM(Rådata!M1635:P1635)*100)/SUM(Rådata!H1635:K1635))","v":""},{"$f":"IF(ISBLANK(Rådata!H1635),\"\",((SUM(Rådata!J1635:L1635)-SUM(Rådata!O1635:P1635))*100)/SUM(Rådata!H1635:L1635))","v":""},{"$f":"IF(ISBLANK(Rådata!R1635),\"\",(Rådata!Q1635*100)/Rådata!R1635)","v":""}]
[{"$f":"IF(ISBLANK(Rådata!A1636)=TRUE,\"\",Rådata!A1636)","v":""},{"$f":"IF(ISBLANK(Rådata!A1636)=TRUE,\"\",YEAR(A1636))","v":""},{"$f":"IF(ISBLANK(Rådata!A1636)=TRUE,\"\",VLOOKUP(MONTH(A1636),Opsætning!$G$3:$H$14,2,FALSE))","v":""},{"$f":"IF(ISBLANK(Rådata!B1636)=TRUE,\"\",(Rådata!C1636*100)/Rådata!B1636)","v":""},{"$f":"IF(ISBLANK(Rådata!D1636)=TRUE,\"\",((Rådata!D1636-Rådata!E1636)*100)/Rådata!D1636)","v":""},{"$f":"IF(ISBLANK(Rådata!G1636)=TRUE,\"\",(Rådata!F1636*100)/Rådata!G1636)","v":""},{"$f":"IF(ISBLANK(Rådata!K1636),\"\",(SUM(Rådata!M1636:P1636)*100)/SUM(Rådata!H1636:K1636))","v":""},{"$f":"IF(ISBLANK(Rådata!H1636),\"\",((SUM(Rådata!J1636:L1636)-SUM(Rådata!O1636:P1636))*100)/SUM(Rådata!H1636:L1636))","v":""},{"$f":"IF(ISBLANK(Rådata!R1636),\"\",(Rådata!Q1636*100)/Rådata!R1636)","v":""}]
[{"$f":"IF(ISBLANK(Rådata!A1637)=TRUE,\"\",Rådata!A1637)","v":""},{"$f":"IF(ISBLANK(Rådata!A1637)=TRUE,\"\",YEAR(A1637))","v":""},{"$f":"IF(ISBLANK(Rådata!A1637)=TRUE,\"\",VLOOKUP(MONTH(A1637),Opsætning!$G$3:$H$14,2,FALSE))","v":""},{"$f":"IF(ISBLANK(Rådata!B1637)=TRUE,\"\",(Rådata!C1637*100)/Rådata!B1637)","v":""},{"$f":"IF(ISBLANK(Rådata!D1637)=TRUE,\"\",((Rådata!D1637-Rådata!E1637)*100)/Rådata!D1637)","v":""},{"$f":"IF(ISBLANK(Rådata!G1637)=TRUE,\"\",(Rådata!F1637*100)/Rådata!G1637)","v":""},{"$f":"IF(ISBLANK(Rådata!K1637),\"\",(SUM(Rådata!M1637:P1637)*100)/SUM(Rådata!H1637:K1637))","v":""},{"$f":"IF(ISBLANK(Rådata!H1637),\"\",((SUM(Rådata!J1637:L1637)-SUM(Rådata!O1637:P1637))*100)/SUM(Rådata!H1637:L1637))","v":""},{"$f":"IF(ISBLANK(Rådata!R1637),\"\",(Rådata!Q1637*100)/Rådata!R1637)","v":""}]
[{"$f":"IF(ISBLANK(Rådata!A1638)=TRUE,\"\",Rådata!A1638)","v":""},{"$f":"IF(ISBLANK(Rådata!A1638)=TRUE,\"\",YEAR(A1638))","v":""},{"$f":"IF(ISBLANK(Rådata!A1638)=TRUE,\"\",VLOOKUP(MONTH(A1638),Opsætning!$G$3:$H$14,2,FALSE))","v":""},{"$f":"IF(ISBLANK(Rådata!B1638)=TRUE,\"\",(Rådata!C1638*100)/Rådata!B1638)","v":""},{"$f":"IF(ISBLANK(Rådata!D1638)=TRUE,\"\",((Rådata!D1638-Rådata!E1638)*100)/Rådata!D1638)","v":""},{"$f":"IF(ISBLANK(Rådata!G1638)=TRUE,\"\",(Rådata!F1638*100)/Rådata!G1638)","v":""},{"$f":"IF(ISBLANK(Rådata!K1638),\"\",(SUM(Rådata!M1638:P1638)*100)/SUM(Rådata!H1638:K1638))","v":""},{"$f":"IF(ISBLANK(Rådata!H1638),\"\",((SUM(Rådata!J1638:L1638)-SUM(Rådata!O1638:P1638))*100)/SUM(Rådata!H1638:L1638))","v":""},{"$f":"IF(ISBLANK(Rådata!R1638),\"\",(Rådata!Q1638*100)/Rådata!R1638)","v":""}]
[{"$f":"IF(ISBLANK(Rådata!A1639)=TRUE,\"\",Rådata!A1639)","v":""},{"$f":"IF(ISBLANK(Rådata!A1639)=TRUE,\"\",YEAR(A1639))","v":""},{"$f":"IF(ISBLANK(Rådata!A1639)=TRUE,\"\",VLOOKUP(MONTH(A1639),Opsætning!$G$3:$H$14,2,FALSE))","v":""},{"$f":"IF(ISBLANK(Rådata!B1639)=TRUE,\"\",(Rådata!C1639*100)/Rådata!B1639)","v":""},{"$f":"IF(ISBLANK(Rådata!D1639)=TRUE,\"\",((Rådata!D1639-Rådata!E1639)*100)/Rådata!D1639)","v":""},{"$f":"IF(ISBLANK(Rådata!G1639)=TRUE,\"\",(Rådata!F1639*100)/Rådata!G1639)","v":""},{"$f":"IF(ISBLANK(Rådata!K1639),\"\",(SUM(Rådata!M1639:P1639)*100)/SUM(Rådata!H1639:K1639))","v":""},{"$f":"IF(ISBLANK(Rådata!H1639),\"\",((SUM(Rådata!J1639:L1639)-SUM(Rådata!O1639:P1639))*100)/SUM(Rådata!H1639:L1639))","v":""},{"$f":"IF(ISBLANK(Rådata!R1639),\"\",(Rådata!Q1639*100)/Rådata!R1639)","v":""}]
[{"$f":"IF(ISBLANK(Rådata!A1640)=TRUE,\"\",Rådata!A1640)","v":""},{"$f":"IF(ISBLANK(Rådata!A1640)=TRUE,\"\",YEAR(A1640))","v":""},{"$f":"IF(ISBLANK(Rådata!A1640)=TRUE,\"\",VLOOKUP(MONTH(A1640),Opsætning!$G$3:$H$14,2,FALSE))","v":""},{"$f":"IF(ISBLANK(Rådata!B1640)=TRUE,\"\",(Rådata!C1640*100)/Rådata!B1640)","v":""},{"$f":"IF(ISBLANK(Rådata!D1640)=TRUE,\"\",((Rådata!D1640-Rådata!E1640)*100)/Rådata!D1640)","v":""},{"$f":"IF(ISBLANK(Rådata!G1640)=TRUE,\"\",(Rådata!F1640*100)/Rådata!G1640)","v":""},{"$f":"IF(ISBLANK(Rådata!K1640),\"\",(SUM(Rådata!M1640:P1640)*100)/SUM(Rådata!H1640:K1640))","v":""},{"$f":"IF(ISBLANK(Rådata!H1640),\"\",((SUM(Rådata!J1640:L1640)-SUM(Rådata!O1640:P1640))*100)/SUM(Rådata!H1640:L1640))","v":""},{"$f":"IF(ISBLANK(Rådata!R1640),\"\",(Rådata!Q1640*100)/Rådata!R1640)","v":""}]
[{"$f":"IF(ISBLANK(Rådata!A1641)=TRUE,\"\",Rådata!A1641)","v":""},{"$f":"IF(ISBLANK(Rådata!A1641)=TRUE,\"\",YEAR(A1641))","v":""},{"$f":"IF(ISBLANK(Rådata!A1641)=TRUE,\"\",VLOOKUP(MONTH(A1641),Opsætning!$G$3:$H$14,2,FALSE))","v":""},{"$f":"IF(ISBLANK(Rådata!B1641)=TRUE,\"\",(Rådata!C1641*100)/Rådata!B1641)","v":""},{"$f":"IF(ISBLANK(Rådata!D1641)=TRUE,\"\",((Rådata!D1641-Rådata!E1641)*100)/Rådata!D1641)","v":""},{"$f":"IF(ISBLANK(Rådata!G1641)=TRUE,\"\",(Rådata!F1641*100)/Rådata!G1641)","v":""},{"$f":"IF(ISBLANK(Rådata!K1641),\"\",(SUM(Rådata!M1641:P1641)*100)/SUM(Rådata!H1641:K1641))","v":""},{"$f":"IF(ISBLANK(Rådata!H1641),\"\",((SUM(Rådata!J1641:L1641)-SUM(Rådata!O1641:P1641))*100)/SUM(Rådata!H1641:L1641))","v":""},{"$f":"IF(ISBLANK(Rådata!R1641),\"\",(Rådata!Q1641*100)/Rådata!R1641)","v":""}]
[{"$f":"IF(ISBLANK(Rådata!A1642)=TRUE,\"\",Rådata!A1642)","v":""},{"$f":"IF(ISBLANK(Rådata!A1642)=TRUE,\"\",YEAR(A1642))","v":""},{"$f":"IF(ISBLANK(Rådata!A1642)=TRUE,\"\",VLOOKUP(MONTH(A1642),Opsætning!$G$3:$H$14,2,FALSE))","v":""},{"$f":"IF(ISBLANK(Rådata!B1642)=TRUE,\"\",(Rådata!C1642*100)/Rådata!B1642)","v":""},{"$f":"IF(ISBLANK(Rådata!D1642)=TRUE,\"\",((Rådata!D1642-Rådata!E1642)*100)/Rådata!D1642)","v":""},{"$f":"IF(ISBLANK(Rådata!G1642)=TRUE,\"\",(Rådata!F1642*100)/Rådata!G1642)","v":""},{"$f":"IF(ISBLANK(Rådata!K1642),\"\",(SUM(Rådata!M1642:P1642)*100)/SUM(Rådata!H1642:K1642))","v":""},{"$f":"IF(ISBLANK(Rådata!H1642),\"\",((SUM(Rådata!J1642:L1642)-SUM(Rådata!O1642:P1642))*100)/SUM(Rådata!H1642:L1642))","v":""},{"$f":"IF(ISBLANK(Rådata!R1642),\"\",(Rådata!Q1642*100)/Rådata!R1642)","v":""}]
[{"$f":"IF(ISBLANK(Rådata!A1643)=TRUE,\"\",Rådata!A1643)","v":""},{"$f":"IF(ISBLANK(Rådata!A1643)=TRUE,\"\",YEAR(A1643))","v":""},{"$f":"IF(ISBLANK(Rådata!A1643)=TRUE,\"\",VLOOKUP(MONTH(A1643),Opsætning!$G$3:$H$14,2,FALSE))","v":""},{"$f":"IF(ISBLANK(Rådata!B1643)=TRUE,\"\",(Rådata!C1643*100)/Rådata!B1643)","v":""},{"$f":"IF(ISBLANK(Rådata!D1643)=TRUE,\"\",((Rådata!D1643-Rådata!E1643)*100)/Rådata!D1643)","v":""},{"$f":"IF(ISBLANK(Rådata!G1643)=TRUE,\"\",(Rådata!F1643*100)/Rådata!G1643)","v":""},{"$f":"IF(ISBLANK(Rådata!K1643),\"\",(SUM(Rådata!M1643:P1643)*100)/SUM(Rådata!H1643:K1643))","v":""},{"$f":"IF(ISBLANK(Rådata!H1643),\"\",((SUM(Rådata!J1643:L1643)-SUM(Rådata!O1643:P1643))*100)/SUM(Rådata!H1643:L1643))","v":""},{"$f":"IF(ISBLANK(Rådata!R1643),\"\",(Rådata!Q1643*100)/Rådata!R1643)","v":""}]
[{"$f":"IF(ISBLANK(Rådata!A1644)=TRUE,\"\",Rådata!A1644)","v":""},{"$f":"IF(ISBLANK(Rådata!A1644)=TRUE,\"\",YEAR(A1644))","v":""},{"$f":"IF(ISBLANK(Rådata!A1644)=TRUE,\"\",VLOOKUP(MONTH(A1644),Opsætning!$G$3:$H$14,2,FALSE))","v":""},{"$f":"IF(ISBLANK(Rådata!B1644)=TRUE,\"\",(Rådata!C1644*100)/Rådata!B1644)","v":""},{"$f":"IF(ISBLANK(Rådata!D1644)=TRUE,\"\",((Rådata!D1644-Rådata!E1644)*100)/Rådata!D1644)","v":""},{"$f":"IF(ISBLANK(Rådata!G1644)=TRUE,\"\",(Rådata!F1644*100)/Rådata!G1644)","v":""},{"$f":"IF(ISBLANK(Rådata!K1644),\"\",(SUM(Rådata!M1644:P1644)*100)/SUM(Rådata!H1644:K1644))","v":""},{"$f":"IF(ISBLANK(Rådata!H1644),\"\",((SUM(Rådata!J1644:L1644)-SUM(Rådata!O1644:P1644))*100)/SUM(Rådata!H1644:L1644))","v":""},{"$f":"IF(ISBLANK(Rådata!R1644),\"\",(Rådata!Q1644*100)/Rådata!R1644)","v":""}]
[{"$f":"IF(ISBLANK(Rådata!A1645)=TRUE,\"\",Rådata!A1645)","v":""},{"$f":"IF(ISBLANK(Rådata!A1645)=TRUE,\"\",YEAR(A1645))","v":""},{"$f":"IF(ISBLANK(Rådata!A1645)=TRUE,\"\",VLOOKUP(MONTH(A1645),Opsætning!$G$3:$H$14,2,FALSE))","v":""},{"$f":"IF(ISBLANK(Rådata!B1645)=TRUE,\"\",(Rådata!C1645*100)/Rådata!B1645)","v":""},{"$f":"IF(ISBLANK(Rådata!D1645)=TRUE,\"\",((Rådata!D1645-Rådata!E1645)*100)/Rådata!D1645)","v":""},{"$f":"IF(ISBLANK(Rådata!G1645)=TRUE,\"\",(Rådata!F1645*100)/Rådata!G1645)","v":""},{"$f":"IF(ISBLANK(Rådata!K1645),\"\",(SUM(Rådata!M1645:P1645)*100)/SUM(Rådata!H1645:K1645))","v":""},{"$f":"IF(ISBLANK(Rådata!H1645),\"\",((SUM(Rådata!J1645:L1645)-SUM(Rådata!O1645:P1645))*100)/SUM(Rådata!H1645:L1645))","v":""},{"$f":"IF(ISBLANK(Rådata!R1645),\"\",(Rådata!Q1645*100)/Rådata!R1645)","v":""}]
[{"$f":"IF(ISBLANK(Rådata!A1646)=TRUE,\"\",Rådata!A1646)","v":""},{"$f":"IF(ISBLANK(Rådata!A1646)=TRUE,\"\",YEAR(A1646))","v":""},{"$f":"IF(ISBLANK(Rådata!A1646)=TRUE,\"\",VLOOKUP(MONTH(A1646),Opsætning!$G$3:$H$14,2,FALSE))","v":""},{"$f":"IF(ISBLANK(Rådata!B1646)=TRUE,\"\",(Rådata!C1646*100)/Rådata!B1646)","v":""},{"$f":"IF(ISBLANK(Rådata!D1646)=TRUE,\"\",((Rådata!D1646-Rådata!E1646)*100)/Rådata!D1646)","v":""},{"$f":"IF(ISBLANK(Rådata!G1646)=TRUE,\"\",(Rådata!F1646*100)/Rådata!G1646)","v":""},{"$f":"IF(ISBLANK(Rådata!K1646),\"\",(SUM(Rådata!M1646:P1646)*100)/SUM(Rådata!H1646:K1646))","v":""},{"$f":"IF(ISBLANK(Rådata!H1646),\"\",((SUM(Rådata!J1646:L1646)-SUM(Rådata!O1646:P1646))*100)/SUM(Rådata!H1646:L1646))","v":""},{"$f":"IF(ISBLANK(Rådata!R1646),\"\",(Rådata!Q1646*100)/Rådata!R1646)","v":""}]
[{"$f":"IF(ISBLANK(Rådata!A1647)=TRUE,\"\",Rådata!A1647)","v":""},{"$f":"IF(ISBLANK(Rådata!A1647)=TRUE,\"\",YEAR(A1647))","v":""},{"$f":"IF(ISBLANK(Rådata!A1647)=TRUE,\"\",VLOOKUP(MONTH(A1647),Opsætning!$G$3:$H$14,2,FALSE))","v":""},{"$f":"IF(ISBLANK(Rådata!B1647)=TRUE,\"\",(Rådata!C1647*100)/Rådata!B1647)","v":""},{"$f":"IF(ISBLANK(Rådata!D1647)=TRUE,\"\",((Rådata!D1647-Rådata!E1647)*100)/Rådata!D1647)","v":""},{"$f":"IF(ISBLANK(Rådata!G1647)=TRUE,\"\",(Rådata!F1647*100)/Rådata!G1647)","v":""},{"$f":"IF(ISBLANK(Rådata!K1647),\"\",(SUM(Rådata!M1647:P1647)*100)/SUM(Rådata!H1647:K1647))","v":""},{"$f":"IF(ISBLANK(Rådata!H1647),\"\",((SUM(Rådata!J1647:L1647)-SUM(Rådata!O1647:P1647))*100)/SUM(Rådata!H1647:L1647))","v":""},{"$f":"IF(ISBLANK(Rådata!R1647),\"\",(Rådata!Q1647*100)/Rådata!R1647)","v":""}]
[{"$f":"IF(ISBLANK(Rådata!A1648)=TRUE,\"\",Rådata!A1648)","v":""},{"$f":"IF(ISBLANK(Rådata!A1648)=TRUE,\"\",YEAR(A1648))","v":""},{"$f":"IF(ISBLANK(Rådata!A1648)=TRUE,\"\",VLOOKUP(MONTH(A1648),Opsætning!$G$3:$H$14,2,FALSE))","v":""},{"$f":"IF(ISBLANK(Rådata!B1648)=TRUE,\"\",(Rådata!C1648*100)/Rådata!B1648)","v":""},{"$f":"IF(ISBLANK(Rådata!D1648)=TRUE,\"\",((Rådata!D1648-Rådata!E1648)*100)/Rådata!D1648)","v":""},{"$f":"IF(ISBLANK(Rådata!G1648)=TRUE,\"\",(Rådata!F1648*100)/Rådata!G1648)","v":""},{"$f":"IF(ISBLANK(Rådata!K1648),\"\",(SUM(Rådata!M1648:P1648)*100)/SUM(Rådata!H1648:K1648))","v":""},{"$f":"IF(ISBLANK(Rådata!H1648),\"\",((SUM(Rådata!J1648:L1648)-SUM(Rådata!O1648:P1648))*100)/SUM(Rådata!H1648:L1648))","v":""},{"$f":"IF(ISBLANK(Rådata!R1648),\"\",(Rådata!Q1648*100)/Rådata!R1648)","v":""}]
[{"$f":"IF(ISBLANK(Rådata!A1649)=TRUE,\"\",Rådata!A1649)","v":""},{"$f":"IF(ISBLANK(Rådata!A1649)=TRUE,\"\",YEAR(A1649))","v":""},{"$f":"IF(ISBLANK(Rådata!A1649)=TRUE,\"\",VLOOKUP(MONTH(A1649),Opsætning!$G$3:$H$14,2,FALSE))","v":""},{"$f":"IF(ISBLANK(Rådata!B1649)=TRUE,\"\",(Rådata!C1649*100)/Rådata!B1649)","v":""},{"$f":"IF(ISBLANK(Rådata!D1649)=TRUE,\"\",((Rådata!D1649-Rådata!E1649)*100)/Rådata!D1649)","v":""},{"$f":"IF(ISBLANK(Rådata!G1649)=TRUE,\"\",(Rådata!F1649*100)/Rådata!G1649)","v":""},{"$f":"IF(ISBLANK(Rådata!K1649),\"\",(SUM(Rådata!M1649:P1649)*100)/SUM(Rådata!H1649:K1649))","v":""},{"$f":"IF(ISBLANK(Rådata!H1649),\"\",((SUM(Rådata!J1649:L1649)-SUM(Rådata!O1649:P1649))*100)/SUM(Rådata!H1649:L1649))","v":""},{"$f":"IF(ISBLANK(Rådata!R1649),\"\",(Rådata!Q1649*100)/Rådata!R1649)","v":""}]
[{"$f":"IF(ISBLANK(Rådata!A1650)=TRUE,\"\",Rådata!A1650)","v":""},{"$f":"IF(ISBLANK(Rådata!A1650)=TRUE,\"\",YEAR(A1650))","v":""},{"$f":"IF(ISBLANK(Rådata!A1650)=TRUE,\"\",VLOOKUP(MONTH(A1650),Opsætning!$G$3:$H$14,2,FALSE))","v":""},{"$f":"IF(ISBLANK(Rådata!B1650)=TRUE,\"\",(Rådata!C1650*100)/Rådata!B1650)","v":""},{"$f":"IF(ISBLANK(Rådata!D1650)=TRUE,\"\",((Rådata!D1650-Rådata!E1650)*100)/Rådata!D1650)","v":""},{"$f":"IF(ISBLANK(Rådata!G1650)=TRUE,\"\",(Rådata!F1650*100)/Rådata!G1650)","v":""},{"$f":"IF(ISBLANK(Rådata!K1650),\"\",(SUM(Rådata!M1650:P1650)*100)/SUM(Rådata!H1650:K1650))","v":""},{"$f":"IF(ISBLANK(Rådata!H1650),\"\",((SUM(Rådata!J1650:L1650)-SUM(Rådata!O1650:P1650))*100)/SUM(Rådata!H1650:L1650))","v":""},{"$f":"IF(ISBLANK(Rådata!R1650),\"\",(Rådata!Q1650*100)/Rådata!R1650)","v":""}]
[{"$f":"IF(ISBLANK(Rådata!A1651)=TRUE,\"\",Rådata!A1651)","v":""},{"$f":"IF(ISBLANK(Rådata!A1651)=TRUE,\"\",YEAR(A1651))","v":""},{"$f":"IF(ISBLANK(Rådata!A1651)=TRUE,\"\",VLOOKUP(MONTH(A1651),Opsætning!$G$3:$H$14,2,FALSE))","v":""},{"$f":"IF(ISBLANK(Rådata!B1651)=TRUE,\"\",(Rådata!C1651*100)/Rådata!B1651)","v":""},{"$f":"IF(ISBLANK(Rådata!D1651)=TRUE,\"\",((Rådata!D1651-Rådata!E1651)*100)/Rådata!D1651)","v":""},{"$f":"IF(ISBLANK(Rådata!G1651)=TRUE,\"\",(Rådata!F1651*100)/Rådata!G1651)","v":""},{"$f":"IF(ISBLANK(Rådata!K1651),\"\",(SUM(Rådata!M1651:P1651)*100)/SUM(Rådata!H1651:K1651))","v":""},{"$f":"IF(ISBLANK(Rådata!H1651),\"\",((SUM(Rådata!J1651:L1651)-SUM(Rådata!O1651:P1651))*100)/SUM(Rådata!H1651:L1651))","v":""},{"$f":"IF(ISBLANK(Rådata!R1651),\"\",(Rådata!Q1651*100)/Rådata!R1651)","v":""}]
[{"$f":"IF(ISBLANK(Rådata!A1652)=TRUE,\"\",Rådata!A1652)","v":""},{"$f":"IF(ISBLANK(Rådata!A1652)=TRUE,\"\",YEAR(A1652))","v":""},{"$f":"IF(ISBLANK(Rådata!A1652)=TRUE,\"\",VLOOKUP(MONTH(A1652),Opsætning!$G$3:$H$14,2,FALSE))","v":""},{"$f":"IF(ISBLANK(Rådata!B1652)=TRUE,\"\",(Rådata!C1652*100)/Rådata!B1652)","v":""},{"$f":"IF(ISBLANK(Rådata!D1652)=TRUE,\"\",((Rådata!D1652-Rådata!E1652)*100)/Rådata!D1652)","v":""},{"$f":"IF(ISBLANK(Rådata!G1652)=TRUE,\"\",(Rådata!F1652*100)/Rådata!G1652)","v":""},{"$f":"IF(ISBLANK(Rådata!K1652),\"\",(SUM(Rådata!M1652:P1652)*100)/SUM(Rådata!H1652:K1652))","v":""},{"$f":"IF(ISBLANK(Rådata!H1652),\"\",((SUM(Rådata!J1652:L1652)-SUM(Rådata!O1652:P1652))*100)/SUM(Rådata!H1652:L1652))","v":""},{"$f":"IF(ISBLANK(Rådata!R1652),\"\",(Rådata!Q1652*100)/Rådata!R1652)","v":""}]
[{"$f":"IF(ISBLANK(Rådata!A1653)=TRUE,\"\",Rådata!A1653)","v":""},{"$f":"IF(ISBLANK(Rådata!A1653)=TRUE,\"\",YEAR(A1653))","v":""},{"$f":"IF(ISBLANK(Rådata!A1653)=TRUE,\"\",VLOOKUP(MONTH(A1653),Opsætning!$G$3:$H$14,2,FALSE))","v":""},{"$f":"IF(ISBLANK(Rådata!B1653)=TRUE,\"\",(Rådata!C1653*100)/Rådata!B1653)","v":""},{"$f":"IF(ISBLANK(Rådata!D1653)=TRUE,\"\",((Rådata!D1653-Rådata!E1653)*100)/Rådata!D1653)","v":""},{"$f":"IF(ISBLANK(Rådata!G1653)=TRUE,\"\",(Rådata!F1653*100)/Rådata!G1653)","v":""},{"$f":"IF(ISBLANK(Rådata!K1653),\"\",(SUM(Rådata!M1653:P1653)*100)/SUM(Rådata!H1653:K1653))","v":""},{"$f":"IF(ISBLANK(Rådata!H1653),\"\",((SUM(Rådata!J1653:L1653)-SUM(Rådata!O1653:P1653))*100)/SUM(Rådata!H1653:L1653))","v":""},{"$f":"IF(ISBLANK(Rådata!R1653),\"\",(Rådata!Q1653*100)/Rådata!R1653)","v":""}]
[{"$f":"IF(ISBLANK(Rådata!A1654)=TRUE,\"\",Rådata!A1654)","v":""},{"$f":"IF(ISBLANK(Rådata!A1654)=TRUE,\"\",YEAR(A1654))","v":""},{"$f":"IF(ISBLANK(Rådata!A1654)=TRUE,\"\",VLOOKUP(MONTH(A1654),Opsætning!$G$3:$H$14,2,FALSE))","v":""},{"$f":"IF(ISBLANK(Rådata!B1654)=TRUE,\"\",(Rådata!C1654*100)/Rådata!B1654)","v":""},{"$f":"IF(ISBLANK(Rådata!D1654)=TRUE,\"\",((Rådata!D1654-Rådata!E1654)*100)/Rådata!D1654)","v":""},{"$f":"IF(ISBLANK(Rådata!G1654)=TRUE,\"\",(Rådata!F1654*100)/Rådata!G1654)","v":""},{"$f":"IF(ISBLANK(Rådata!K1654),\"\",(SUM(Rådata!M1654:P1654)*100)/SUM(Rådata!H1654:K1654))","v":""},{"$f":"IF(ISBLANK(Rådata!H1654),\"\",((SUM(Rådata!J1654:L1654)-SUM(Rådata!O1654:P1654))*100)/SUM(Rådata!H1654:L1654))","v":""},{"$f":"IF(ISBLANK(Rådata!R1654),\"\",(Rådata!Q1654*100)/Rådata!R1654)","v":""}]
[{"$f":"IF(ISBLANK(Rådata!A1655)=TRUE,\"\",Rådata!A1655)","v":""},{"$f":"IF(ISBLANK(Rådata!A1655)=TRUE,\"\",YEAR(A1655))","v":""},{"$f":"IF(ISBLANK(Rådata!A1655)=TRUE,\"\",VLOOKUP(MONTH(A1655),Opsætning!$G$3:$H$14,2,FALSE))","v":""},{"$f":"IF(ISBLANK(Rådata!B1655)=TRUE,\"\",(Rådata!C1655*100)/Rådata!B1655)","v":""},{"$f":"IF(ISBLANK(Rådata!D1655)=TRUE,\"\",((Rådata!D1655-Rådata!E1655)*100)/Rådata!D1655)","v":""},{"$f":"IF(ISBLANK(Rådata!G1655)=TRUE,\"\",(Rådata!F1655*100)/Rådata!G1655)","v":""},{"$f":"IF(ISBLANK(Rådata!K1655),\"\",(SUM(Rådata!M1655:P1655)*100)/SUM(Rådata!H1655:K1655))","v":""},{"$f":"IF(ISBLANK(Rådata!H1655),\"\",((SUM(Rådata!J1655:L1655)-SUM(Rådata!O1655:P1655))*100)/SUM(Rådata!H1655:L1655))","v":""},{"$f":"IF(ISBLANK(Rådata!R1655),\"\",(Rådata!Q1655*100)/Rådata!R1655)","v":""}]
[{"$f":"IF(ISBLANK(Rådata!A1656)=TRUE,\"\",Rådata!A1656)","v":""},{"$f":"IF(ISBLANK(Rådata!A1656)=TRUE,\"\",YEAR(A1656))","v":""},{"$f":"IF(ISBLANK(Rådata!A1656)=TRUE,\"\",VLOOKUP(MONTH(A1656),Opsætning!$G$3:$H$14,2,FALSE))","v":""},{"$f":"IF(ISBLANK(Rådata!B1656)=TRUE,\"\",(Rådata!C1656*100)/Rådata!B1656)","v":""},{"$f":"IF(ISBLANK(Rådata!D1656)=TRUE,\"\",((Rådata!D1656-Rådata!E1656)*100)/Rådata!D1656)","v":""},{"$f":"IF(ISBLANK(Rådata!G1656)=TRUE,\"\",(Rådata!F1656*100)/Rådata!G1656)","v":""},{"$f":"IF(ISBLANK(Rådata!K1656),\"\",(SUM(Rådata!M1656:P1656)*100)/SUM(Rådata!H1656:K1656))","v":""},{"$f":"IF(ISBLANK(Rådata!H1656),\"\",((SUM(Rådata!J1656:L1656)-SUM(Rådata!O1656:P1656))*100)/SUM(Rådata!H1656:L1656))","v":""},{"$f":"IF(ISBLANK(Rådata!R1656),\"\",(Rådata!Q1656*100)/Rådata!R1656)","v":""}]
[{"$f":"IF(ISBLANK(Rådata!A1657)=TRUE,\"\",Rådata!A1657)","v":""},{"$f":"IF(ISBLANK(Rådata!A1657)=TRUE,\"\",YEAR(A1657))","v":""},{"$f":"IF(ISBLANK(Rådata!A1657)=TRUE,\"\",VLOOKUP(MONTH(A1657),Opsætning!$G$3:$H$14,2,FALSE))","v":""},{"$f":"IF(ISBLANK(Rådata!B1657)=TRUE,\"\",(Rådata!C1657*100)/Rådata!B1657)","v":""},{"$f":"IF(ISBLANK(Rådata!D1657)=TRUE,\"\",((Rådata!D1657-Rådata!E1657)*100)/Rådata!D1657)","v":""},{"$f":"IF(ISBLANK(Rådata!G1657)=TRUE,\"\",(Rådata!F1657*100)/Rådata!G1657)","v":""},{"$f":"IF(ISBLANK(Rådata!K1657),\"\",(SUM(Rådata!M1657:P1657)*100)/SUM(Rådata!H1657:K1657))","v":""},{"$f":"IF(ISBLANK(Rådata!H1657),\"\",((SUM(Rådata!J1657:L1657)-SUM(Rådata!O1657:P1657))*100)/SUM(Rådata!H1657:L1657))","v":""},{"$f":"IF(ISBLANK(Rådata!R1657),\"\",(Rådata!Q1657*100)/Rådata!R1657)","v":""}]
[{"$f":"IF(ISBLANK(Rådata!A1658)=TRUE,\"\",Rådata!A1658)","v":""},{"$f":"IF(ISBLANK(Rådata!A1658)=TRUE,\"\",YEAR(A1658))","v":""},{"$f":"IF(ISBLANK(Rådata!A1658)=TRUE,\"\",VLOOKUP(MONTH(A1658),Opsætning!$G$3:$H$14,2,FALSE))","v":""},{"$f":"IF(ISBLANK(Rådata!B1658)=TRUE,\"\",(Rådata!C1658*100)/Rådata!B1658)","v":""},{"$f":"IF(ISBLANK(Rådata!D1658)=TRUE,\"\",((Rådata!D1658-Rådata!E1658)*100)/Rådata!D1658)","v":""},{"$f":"IF(ISBLANK(Rådata!G1658)=TRUE,\"\",(Rådata!F1658*100)/Rådata!G1658)","v":""},{"$f":"IF(ISBLANK(Rådata!K1658),\"\",(SUM(Rådata!M1658:P1658)*100)/SUM(Rådata!H1658:K1658))","v":""},{"$f":"IF(ISBLANK(Rådata!H1658),\"\",((SUM(Rådata!J1658:L1658)-SUM(Rådata!O1658:P1658))*100)/SUM(Rådata!H1658:L1658))","v":""},{"$f":"IF(ISBLANK(Rådata!R1658),\"\",(Rådata!Q1658*100)/Rådata!R1658)","v":""}]
[{"$f":"IF(ISBLANK(Rådata!A1659)=TRUE,\"\",Rådata!A1659)","v":""},{"$f":"IF(ISBLANK(Rådata!A1659)=TRUE,\"\",YEAR(A1659))","v":""},{"$f":"IF(ISBLANK(Rådata!A1659)=TRUE,\"\",VLOOKUP(MONTH(A1659),Opsætning!$G$3:$H$14,2,FALSE))","v":""},{"$f":"IF(ISBLANK(Rådata!B1659)=TRUE,\"\",(Rådata!C1659*100)/Rådata!B1659)","v":""},{"$f":"IF(ISBLANK(Rådata!D1659)=TRUE,\"\",((Rådata!D1659-Rådata!E1659)*100)/Rådata!D1659)","v":""},{"$f":"IF(ISBLANK(Rådata!G1659)=TRUE,\"\",(Rådata!F1659*100)/Rådata!G1659)","v":""},{"$f":"IF(ISBLANK(Rådata!K1659),\"\",(SUM(Rådata!M1659:P1659)*100)/SUM(Rådata!H1659:K1659))","v":""},{"$f":"IF(ISBLANK(Rådata!H1659),\"\",((SUM(Rådata!J1659:L1659)-SUM(Rådata!O1659:P1659))*100)/SUM(Rådata!H1659:L1659))","v":""},{"$f":"IF(ISBLANK(Rådata!R1659),\"\",(Rådata!Q1659*100)/Rådata!R1659)","v":""}]
[{"$f":"IF(ISBLANK(Rådata!A1660)=TRUE,\"\",Rådata!A1660)","v":""},{"$f":"IF(ISBLANK(Rådata!A1660)=TRUE,\"\",YEAR(A1660))","v":""},{"$f":"IF(ISBLANK(Rådata!A1660)=TRUE,\"\",VLOOKUP(MONTH(A1660),Opsætning!$G$3:$H$14,2,FALSE))","v":""},{"$f":"IF(ISBLANK(Rådata!B1660)=TRUE,\"\",(Rådata!C1660*100)/Rådata!B1660)","v":""},{"$f":"IF(ISBLANK(Rådata!D1660)=TRUE,\"\",((Rådata!D1660-Rådata!E1660)*100)/Rådata!D1660)","v":""},{"$f":"IF(ISBLANK(Rådata!G1660)=TRUE,\"\",(Rådata!F1660*100)/Rådata!G1660)","v":""},{"$f":"IF(ISBLANK(Rådata!K1660),\"\",(SUM(Rådata!M1660:P1660)*100)/SUM(Rådata!H1660:K1660))","v":""},{"$f":"IF(ISBLANK(Rådata!H1660),\"\",((SUM(Rådata!J1660:L1660)-SUM(Rådata!O1660:P1660))*100)/SUM(Rådata!H1660:L1660))","v":""},{"$f":"IF(ISBLANK(Rådata!R1660),\"\",(Rådata!Q1660*100)/Rådata!R1660)","v":""}]
[{"$f":"IF(ISBLANK(Rådata!A1661)=TRUE,\"\",Rådata!A1661)","v":""},{"$f":"IF(ISBLANK(Rådata!A1661)=TRUE,\"\",YEAR(A1661))","v":""},{"$f":"IF(ISBLANK(Rådata!A1661)=TRUE,\"\",VLOOKUP(MONTH(A1661),Opsætning!$G$3:$H$14,2,FALSE))","v":""},{"$f":"IF(ISBLANK(Rådata!B1661)=TRUE,\"\",(Rådata!C1661*100)/Rådata!B1661)","v":""},{"$f":"IF(ISBLANK(Rådata!D1661)=TRUE,\"\",((Rådata!D1661-Rådata!E1661)*100)/Rådata!D1661)","v":""},{"$f":"IF(ISBLANK(Rådata!G1661)=TRUE,\"\",(Rådata!F1661*100)/Rådata!G1661)","v":""},{"$f":"IF(ISBLANK(Rådata!K1661),\"\",(SUM(Rådata!M1661:P1661)*100)/SUM(Rådata!H1661:K1661))","v":""},{"$f":"IF(ISBLANK(Rådata!H1661),\"\",((SUM(Rådata!J1661:L1661)-SUM(Rådata!O1661:P1661))*100)/SUM(Rådata!H1661:L1661))","v":""},{"$f":"IF(ISBLANK(Rådata!R1661),\"\",(Rådata!Q1661*100)/Rådata!R1661)","v":""}]
[{"$f":"IF(ISBLANK(Rådata!A1662)=TRUE,\"\",Rådata!A1662)","v":""},{"$f":"IF(ISBLANK(Rådata!A1662)=TRUE,\"\",YEAR(A1662))","v":""},{"$f":"IF(ISBLANK(Rådata!A1662)=TRUE,\"\",VLOOKUP(MONTH(A1662),Opsætning!$G$3:$H$14,2,FALSE))","v":""},{"$f":"IF(ISBLANK(Rådata!B1662)=TRUE,\"\",(Rådata!C1662*100)/Rådata!B1662)","v":""},{"$f":"IF(ISBLANK(Rådata!D1662)=TRUE,\"\",((Rådata!D1662-Rådata!E1662)*100)/Rådata!D1662)","v":""},{"$f":"IF(ISBLANK(Rådata!G1662)=TRUE,\"\",(Rådata!F1662*100)/Rådata!G1662)","v":""},{"$f":"IF(ISBLANK(Rådata!K1662),\"\",(SUM(Rådata!M1662:P1662)*100)/SUM(Rådata!H1662:K1662))","v":""},{"$f":"IF(ISBLANK(Rådata!H1662),\"\",((SUM(Rådata!J1662:L1662)-SUM(Rådata!O1662:P1662))*100)/SUM(Rådata!H1662:L1662))","v":""},{"$f":"IF(ISBLANK(Rådata!R1662),\"\",(Rådata!Q1662*100)/Rådata!R1662)","v":""}]
[{"$f":"IF(ISBLANK(Rådata!A1663)=TRUE,\"\",Rådata!A1663)","v":""},{"$f":"IF(ISBLANK(Rådata!A1663)=TRUE,\"\",YEAR(A1663))","v":""},{"$f":"IF(ISBLANK(Rådata!A1663)=TRUE,\"\",VLOOKUP(MONTH(A1663),Opsætning!$G$3:$H$14,2,FALSE))","v":""},{"$f":"IF(ISBLANK(Rådata!B1663)=TRUE,\"\",(Rådata!C1663*100)/Rådata!B1663)","v":""},{"$f":"IF(ISBLANK(Rådata!D1663)=TRUE,\"\",((Rådata!D1663-Rådata!E1663)*100)/Rådata!D1663)","v":""},{"$f":"IF(ISBLANK(Rådata!G1663)=TRUE,\"\",(Rådata!F1663*100)/Rådata!G1663)","v":""},{"$f":"IF(ISBLANK(Rådata!K1663),\"\",(SUM(Rådata!M1663:P1663)*100)/SUM(Rådata!H1663:K1663))","v":""},{"$f":"IF(ISBLANK(Rådata!H1663),\"\",((SUM(Rådata!J1663:L1663)-SUM(Rådata!O1663:P1663))*100)/SUM(Rådata!H1663:L1663))","v":""},{"$f":"IF(ISBLANK(Rådata!R1663),\"\",(Rådata!Q1663*100)/Rådata!R1663)","v":""}]
[{"$f":"IF(ISBLANK(Rådata!A1664)=TRUE,\"\",Rådata!A1664)","v":""},{"$f":"IF(ISBLANK(Rådata!A1664)=TRUE,\"\",YEAR(A1664))","v":""},{"$f":"IF(ISBLANK(Rådata!A1664)=TRUE,\"\",VLOOKUP(MONTH(A1664),Opsætning!$G$3:$H$14,2,FALSE))","v":""},{"$f":"IF(ISBLANK(Rådata!B1664)=TRUE,\"\",(Rådata!C1664*100)/Rådata!B1664)","v":""},{"$f":"IF(ISBLANK(Rådata!D1664)=TRUE,\"\",((Rådata!D1664-Rådata!E1664)*100)/Rådata!D1664)","v":""},{"$f":"IF(ISBLANK(Rådata!G1664)=TRUE,\"\",(Rådata!F1664*100)/Rådata!G1664)","v":""},{"$f":"IF(ISBLANK(Rådata!K1664),\"\",(SUM(Rådata!M1664:P1664)*100)/SUM(Rådata!H1664:K1664))","v":""},{"$f":"IF(ISBLANK(Rådata!H1664),\"\",((SUM(Rådata!J1664:L1664)-SUM(Rådata!O1664:P1664))*100)/SUM(Rådata!H1664:L1664))","v":""},{"$f":"IF(ISBLANK(Rådata!R1664),\"\",(Rådata!Q1664*100)/Rådata!R1664)","v":""}]
[{"$f":"IF(ISBLANK(Rådata!A1665)=TRUE,\"\",Rådata!A1665)","v":""},{"$f":"IF(ISBLANK(Rådata!A1665)=TRUE,\"\",YEAR(A1665))","v":""},{"$f":"IF(ISBLANK(Rådata!A1665)=TRUE,\"\",VLOOKUP(MONTH(A1665),Opsætning!$G$3:$H$14,2,FALSE))","v":""},{"$f":"IF(ISBLANK(Rådata!B1665)=TRUE,\"\",(Rådata!C1665*100)/Rådata!B1665)","v":""},{"$f":"IF(ISBLANK(Rådata!D1665)=TRUE,\"\",((Rådata!D1665-Rådata!E1665)*100)/Rådata!D1665)","v":""},{"$f":"IF(ISBLANK(Rådata!G1665)=TRUE,\"\",(Rådata!F1665*100)/Rådata!G1665)","v":""},{"$f":"IF(ISBLANK(Rådata!K1665),\"\",(SUM(Rådata!M1665:P1665)*100)/SUM(Rådata!H1665:K1665))","v":""},{"$f":"IF(ISBLANK(Rådata!H1665),\"\",((SUM(Rådata!J1665:L1665)-SUM(Rådata!O1665:P1665))*100)/SUM(Rådata!H1665:L1665))","v":""},{"$f":"IF(ISBLANK(Rådata!R1665),\"\",(Rådata!Q1665*100)/Rådata!R1665)","v":""}]
[{"$f":"IF(ISBLANK(Rådata!A1666)=TRUE,\"\",Rådata!A1666)","v":""},{"$f":"IF(ISBLANK(Rådata!A1666)=TRUE,\"\",YEAR(A1666))","v":""},{"$f":"IF(ISBLANK(Rådata!A1666)=TRUE,\"\",VLOOKUP(MONTH(A1666),Opsætning!$G$3:$H$14,2,FALSE))","v":""},{"$f":"IF(ISBLANK(Rådata!B1666)=TRUE,\"\",(Rådata!C1666*100)/Rådata!B1666)","v":""},{"$f":"IF(ISBLANK(Rådata!D1666)=TRUE,\"\",((Rådata!D1666-Rådata!E1666)*100)/Rådata!D1666)","v":""},{"$f":"IF(ISBLANK(Rådata!G1666)=TRUE,\"\",(Rådata!F1666*100)/Rådata!G1666)","v":""},{"$f":"IF(ISBLANK(Rådata!K1666),\"\",(SUM(Rådata!M1666:P1666)*100)/SUM(Rådata!H1666:K1666))","v":""},{"$f":"IF(ISBLANK(Rådata!H1666),\"\",((SUM(Rådata!J1666:L1666)-SUM(Rådata!O1666:P1666))*100)/SUM(Rådata!H1666:L1666))","v":""},{"$f":"IF(ISBLANK(Rådata!R1666),\"\",(Rådata!Q1666*100)/Rådata!R1666)","v":""}]
[{"$f":"IF(ISBLANK(Rådata!A1667)=TRUE,\"\",Rådata!A1667)","v":""},{"$f":"IF(ISBLANK(Rådata!A1667)=TRUE,\"\",YEAR(A1667))","v":""},{"$f":"IF(ISBLANK(Rådata!A1667)=TRUE,\"\",VLOOKUP(MONTH(A1667),Opsætning!$G$3:$H$14,2,FALSE))","v":""},{"$f":"IF(ISBLANK(Rådata!B1667)=TRUE,\"\",(Rådata!C1667*100)/Rådata!B1667)","v":""},{"$f":"IF(ISBLANK(Rådata!D1667)=TRUE,\"\",((Rådata!D1667-Rådata!E1667)*100)/Rådata!D1667)","v":""},{"$f":"IF(ISBLANK(Rådata!G1667)=TRUE,\"\",(Rådata!F1667*100)/Rådata!G1667)","v":""},{"$f":"IF(ISBLANK(Rådata!K1667),\"\",(SUM(Rådata!M1667:P1667)*100)/SUM(Rådata!H1667:K1667))","v":""},{"$f":"IF(ISBLANK(Rådata!H1667),\"\",((SUM(Rådata!J1667:L1667)-SUM(Rådata!O1667:P1667))*100)/SUM(Rådata!H1667:L1667))","v":""},{"$f":"IF(ISBLANK(Rådata!R1667),\"\",(Rådata!Q1667*100)/Rådata!R1667)","v":""}]
[{"$f":"IF(ISBLANK(Rådata!A1668)=TRUE,\"\",Rådata!A1668)","v":""},{"$f":"IF(ISBLANK(Rådata!A1668)=TRUE,\"\",YEAR(A1668))","v":""},{"$f":"IF(ISBLANK(Rådata!A1668)=TRUE,\"\",VLOOKUP(MONTH(A1668),Opsætning!$G$3:$H$14,2,FALSE))","v":""},{"$f":"IF(ISBLANK(Rådata!B1668)=TRUE,\"\",(Rådata!C1668*100)/Rådata!B1668)","v":""},{"$f":"IF(ISBLANK(Rådata!D1668)=TRUE,\"\",((Rådata!D1668-Rådata!E1668)*100)/Rådata!D1668)","v":""},{"$f":"IF(ISBLANK(Rådata!G1668)=TRUE,\"\",(Rådata!F1668*100)/Rådata!G1668)","v":""},{"$f":"IF(ISBLANK(Rådata!K1668),\"\",(SUM(Rådata!M1668:P1668)*100)/SUM(Rådata!H1668:K1668))","v":""},{"$f":"IF(ISBLANK(Rådata!H1668),\"\",((SUM(Rådata!J1668:L1668)-SUM(Rådata!O1668:P1668))*100)/SUM(Rådata!H1668:L1668))","v":""},{"$f":"IF(ISBLANK(Rådata!R1668),\"\",(Rådata!Q1668*100)/Rådata!R1668)","v":""}]
[{"$f":"IF(ISBLANK(Rådata!A1669)=TRUE,\"\",Rådata!A1669)","v":""},{"$f":"IF(ISBLANK(Rådata!A1669)=TRUE,\"\",YEAR(A1669))","v":""},{"$f":"IF(ISBLANK(Rådata!A1669)=TRUE,\"\",VLOOKUP(MONTH(A1669),Opsætning!$G$3:$H$14,2,FALSE))","v":""},{"$f":"IF(ISBLANK(Rådata!B1669)=TRUE,\"\",(Rådata!C1669*100)/Rådata!B1669)","v":""},{"$f":"IF(ISBLANK(Rådata!D1669)=TRUE,\"\",((Rådata!D1669-Rådata!E1669)*100)/Rådata!D1669)","v":""},{"$f":"IF(ISBLANK(Rådata!G1669)=TRUE,\"\",(Rådata!F1669*100)/Rådata!G1669)","v":""},{"$f":"IF(ISBLANK(Rådata!K1669),\"\",(SUM(Rådata!M1669:P1669)*100)/SUM(Rådata!H1669:K1669))","v":""},{"$f":"IF(ISBLANK(Rådata!H1669),\"\",((SUM(Rådata!J1669:L1669)-SUM(Rådata!O1669:P1669))*100)/SUM(Rådata!H1669:L1669))","v":""},{"$f":"IF(ISBLANK(Rådata!R1669),\"\",(Rådata!Q1669*100)/Rådata!R1669)","v":""}]
[{"$f":"IF(ISBLANK(Rådata!A1670)=TRUE,\"\",Rådata!A1670)","v":""},{"$f":"IF(ISBLANK(Rådata!A1670)=TRUE,\"\",YEAR(A1670))","v":""},{"$f":"IF(ISBLANK(Rådata!A1670)=TRUE,\"\",VLOOKUP(MONTH(A1670),Opsætning!$G$3:$H$14,2,FALSE))","v":""},{"$f":"IF(ISBLANK(Rådata!B1670)=TRUE,\"\",(Rådata!C1670*100)/Rådata!B1670)","v":""},{"$f":"IF(ISBLANK(Rådata!D1670)=TRUE,\"\",((Rådata!D1670-Rådata!E1670)*100)/Rådata!D1670)","v":""},{"$f":"IF(ISBLANK(Rådata!G1670)=TRUE,\"\",(Rådata!F1670*100)/Rådata!G1670)","v":""},{"$f":"IF(ISBLANK(Rådata!K1670),\"\",(SUM(Rådata!M1670:P1670)*100)/SUM(Rådata!H1670:K1670))","v":""},{"$f":"IF(ISBLANK(Rådata!H1670),\"\",((SUM(Rådata!J1670:L1670)-SUM(Rådata!O1670:P1670))*100)/SUM(Rådata!H1670:L1670))","v":""},{"$f":"IF(ISBLANK(Rådata!R1670),\"\",(Rådata!Q1670*100)/Rådata!R1670)","v":""}]
[{"$f":"IF(ISBLANK(Rådata!A1671)=TRUE,\"\",Rådata!A1671)","v":""},{"$f":"IF(ISBLANK(Rådata!A1671)=TRUE,\"\",YEAR(A1671))","v":""},{"$f":"IF(ISBLANK(Rådata!A1671)=TRUE,\"\",VLOOKUP(MONTH(A1671),Opsætning!$G$3:$H$14,2,FALSE))","v":""},{"$f":"IF(ISBLANK(Rådata!B1671)=TRUE,\"\",(Rådata!C1671*100)/Rådata!B1671)","v":""},{"$f":"IF(ISBLANK(Rådata!D1671)=TRUE,\"\",((Rådata!D1671-Rådata!E1671)*100)/Rådata!D1671)","v":""},{"$f":"IF(ISBLANK(Rådata!G1671)=TRUE,\"\",(Rådata!F1671*100)/Rådata!G1671)","v":""},{"$f":"IF(ISBLANK(Rådata!K1671),\"\",(SUM(Rådata!M1671:P1671)*100)/SUM(Rådata!H1671:K1671))","v":""},{"$f":"IF(ISBLANK(Rådata!H1671),\"\",((SUM(Rådata!J1671:L1671)-SUM(Rådata!O1671:P1671))*100)/SUM(Rådata!H1671:L1671))","v":""},{"$f":"IF(ISBLANK(Rådata!R1671),\"\",(Rådata!Q1671*100)/Rådata!R1671)","v":""}]
[{"$f":"IF(ISBLANK(Rådata!A1672)=TRUE,\"\",Rådata!A1672)","v":""},{"$f":"IF(ISBLANK(Rådata!A1672)=TRUE,\"\",YEAR(A1672))","v":""},{"$f":"IF(ISBLANK(Rådata!A1672)=TRUE,\"\",VLOOKUP(MONTH(A1672),Opsætning!$G$3:$H$14,2,FALSE))","v":""},{"$f":"IF(ISBLANK(Rådata!B1672)=TRUE,\"\",(Rådata!C1672*100)/Rådata!B1672)","v":""},{"$f":"IF(ISBLANK(Rådata!D1672)=TRUE,\"\",((Rådata!D1672-Rådata!E1672)*100)/Rådata!D1672)","v":""},{"$f":"IF(ISBLANK(Rådata!G1672)=TRUE,\"\",(Rådata!F1672*100)/Rådata!G1672)","v":""},{"$f":"IF(ISBLANK(Rådata!K1672),\"\",(SUM(Rådata!M1672:P1672)*100)/SUM(Rådata!H1672:K1672))","v":""},{"$f":"IF(ISBLANK(Rådata!H1672),\"\",((SUM(Rådata!J1672:L1672)-SUM(Rådata!O1672:P1672))*100)/SUM(Rådata!H1672:L1672))","v":""},{"$f":"IF(ISBLANK(Rådata!R1672),\"\",(Rådata!Q1672*100)/Rådata!R1672)","v":""}]
[{"$f":"IF(ISBLANK(Rådata!A1673)=TRUE,\"\",Rådata!A1673)","v":""},{"$f":"IF(ISBLANK(Rådata!A1673)=TRUE,\"\",YEAR(A1673))","v":""},{"$f":"IF(ISBLANK(Rådata!A1673)=TRUE,\"\",VLOOKUP(MONTH(A1673),Opsætning!$G$3:$H$14,2,FALSE))","v":""},{"$f":"IF(ISBLANK(Rådata!B1673)=TRUE,\"\",(Rådata!C1673*100)/Rådata!B1673)","v":""},{"$f":"IF(ISBLANK(Rådata!D1673)=TRUE,\"\",((Rådata!D1673-Rådata!E1673)*100)/Rådata!D1673)","v":""},{"$f":"IF(ISBLANK(Rådata!G1673)=TRUE,\"\",(Rådata!F1673*100)/Rådata!G1673)","v":""},{"$f":"IF(ISBLANK(Rådata!K1673),\"\",(SUM(Rådata!M1673:P1673)*100)/SUM(Rådata!H1673:K1673))","v":""},{"$f":"IF(ISBLANK(Rådata!H1673),\"\",((SUM(Rådata!J1673:L1673)-SUM(Rådata!O1673:P1673))*100)/SUM(Rådata!H1673:L1673))","v":""},{"$f":"IF(ISBLANK(Rådata!R1673),\"\",(Rådata!Q1673*100)/Rådata!R1673)","v":""}]
[{"$f":"IF(ISBLANK(Rådata!A1674)=TRUE,\"\",Rådata!A1674)","v":""},{"$f":"IF(ISBLANK(Rådata!A1674)=TRUE,\"\",YEAR(A1674))","v":""},{"$f":"IF(ISBLANK(Rådata!A1674)=TRUE,\"\",VLOOKUP(MONTH(A1674),Opsætning!$G$3:$H$14,2,FALSE))","v":""},{"$f":"IF(ISBLANK(Rådata!B1674)=TRUE,\"\",(Rådata!C1674*100)/Rådata!B1674)","v":""},{"$f":"IF(ISBLANK(Rådata!D1674)=TRUE,\"\",((Rådata!D1674-Rådata!E1674)*100)/Rådata!D1674)","v":""},{"$f":"IF(ISBLANK(Rådata!G1674)=TRUE,\"\",(Rådata!F1674*100)/Rådata!G1674)","v":""},{"$f":"IF(ISBLANK(Rådata!K1674),\"\",(SUM(Rådata!M1674:P1674)*100)/SUM(Rådata!H1674:K1674))","v":""},{"$f":"IF(ISBLANK(Rådata!H1674),\"\",((SUM(Rådata!J1674:L1674)-SUM(Rådata!O1674:P1674))*100)/SUM(Rådata!H1674:L1674))","v":""},{"$f":"IF(ISBLANK(Rådata!R1674),\"\",(Rådata!Q1674*100)/Rådata!R1674)","v":""}]
[{"$f":"IF(ISBLANK(Rådata!A1675)=TRUE,\"\",Rådata!A1675)","v":""},{"$f":"IF(ISBLANK(Rådata!A1675)=TRUE,\"\",YEAR(A1675))","v":""},{"$f":"IF(ISBLANK(Rådata!A1675)=TRUE,\"\",VLOOKUP(MONTH(A1675),Opsætning!$G$3:$H$14,2,FALSE))","v":""},{"$f":"IF(ISBLANK(Rådata!B1675)=TRUE,\"\",(Rådata!C1675*100)/Rådata!B1675)","v":""},{"$f":"IF(ISBLANK(Rådata!D1675)=TRUE,\"\",((Rådata!D1675-Rådata!E1675)*100)/Rådata!D1675)","v":""},{"$f":"IF(ISBLANK(Rådata!G1675)=TRUE,\"\",(Rådata!F1675*100)/Rådata!G1675)","v":""},{"$f":"IF(ISBLANK(Rådata!K1675),\"\",(SUM(Rådata!M1675:P1675)*100)/SUM(Rådata!H1675:K1675))","v":""},{"$f":"IF(ISBLANK(Rådata!H1675),\"\",((SUM(Rådata!J1675:L1675)-SUM(Rådata!O1675:P1675))*100)/SUM(Rådata!H1675:L1675))","v":""},{"$f":"IF(ISBLANK(Rådata!R1675),\"\",(Rådata!Q1675*100)/Rådata!R1675)","v":""}]
[{"$f":"IF(ISBLANK(Rådata!A1676)=TRUE,\"\",Rådata!A1676)","v":""},{"$f":"IF(ISBLANK(Rådata!A1676)=TRUE,\"\",YEAR(A1676))","v":""},{"$f":"IF(ISBLANK(Rådata!A1676)=TRUE,\"\",VLOOKUP(MONTH(A1676),Opsætning!$G$3:$H$14,2,FALSE))","v":""},{"$f":"IF(ISBLANK(Rådata!B1676)=TRUE,\"\",(Rådata!C1676*100)/Rådata!B1676)","v":""},{"$f":"IF(ISBLANK(Rådata!D1676)=TRUE,\"\",((Rådata!D1676-Rådata!E1676)*100)/Rådata!D1676)","v":""},{"$f":"IF(ISBLANK(Rådata!G1676)=TRUE,\"\",(Rådata!F1676*100)/Rådata!G1676)","v":""},{"$f":"IF(ISBLANK(Rådata!K1676),\"\",(SUM(Rådata!M1676:P1676)*100)/SUM(Rådata!H1676:K1676))","v":""},{"$f":"IF(ISBLANK(Rådata!H1676),\"\",((SUM(Rådata!J1676:L1676)-SUM(Rådata!O1676:P1676))*100)/SUM(Rådata!H1676:L1676))","v":""},{"$f":"IF(ISBLANK(Rådata!R1676),\"\",(Rådata!Q1676*100)/Rådata!R1676)","v":""}]
[{"$f":"IF(ISBLANK(Rådata!A1677)=TRUE,\"\",Rådata!A1677)","v":""},{"$f":"IF(ISBLANK(Rådata!A1677)=TRUE,\"\",YEAR(A1677))","v":""},{"$f":"IF(ISBLANK(Rådata!A1677)=TRUE,\"\",VLOOKUP(MONTH(A1677),Opsætning!$G$3:$H$14,2,FALSE))","v":""},{"$f":"IF(ISBLANK(Rådata!B1677)=TRUE,\"\",(Rådata!C1677*100)/Rådata!B1677)","v":""},{"$f":"IF(ISBLANK(Rådata!D1677)=TRUE,\"\",((Rådata!D1677-Rådata!E1677)*100)/Rådata!D1677)","v":""},{"$f":"IF(ISBLANK(Rådata!G1677)=TRUE,\"\",(Rådata!F1677*100)/Rådata!G1677)","v":""},{"$f":"IF(ISBLANK(Rådata!K1677),\"\",(SUM(Rådata!M1677:P1677)*100)/SUM(Rådata!H1677:K1677))","v":""},{"$f":"IF(ISBLANK(Rådata!H1677),\"\",((SUM(Rådata!J1677:L1677)-SUM(Rådata!O1677:P1677))*100)/SUM(Rådata!H1677:L1677))","v":""},{"$f":"IF(ISBLANK(Rådata!R1677),\"\",(Rådata!Q1677*100)/Rådata!R1677)","v":""}]
[{"$f":"IF(ISBLANK(Rådata!A1678)=TRUE,\"\",Rådata!A1678)","v":""},{"$f":"IF(ISBLANK(Rådata!A1678)=TRUE,\"\",YEAR(A1678))","v":""},{"$f":"IF(ISBLANK(Rådata!A1678)=TRUE,\"\",VLOOKUP(MONTH(A1678),Opsætning!$G$3:$H$14,2,FALSE))","v":""},{"$f":"IF(ISBLANK(Rådata!B1678)=TRUE,\"\",(Rådata!C1678*100)/Rådata!B1678)","v":""},{"$f":"IF(ISBLANK(Rådata!D1678)=TRUE,\"\",((Rådata!D1678-Rådata!E1678)*100)/Rådata!D1678)","v":""},{"$f":"IF(ISBLANK(Rådata!G1678)=TRUE,\"\",(Rådata!F1678*100)/Rådata!G1678)","v":""},{"$f":"IF(ISBLANK(Rådata!K1678),\"\",(SUM(Rådata!M1678:P1678)*100)/SUM(Rådata!H1678:K1678))","v":""},{"$f":"IF(ISBLANK(Rådata!H1678),\"\",((SUM(Rådata!J1678:L1678)-SUM(Rådata!O1678:P1678))*100)/SUM(Rådata!H1678:L1678))","v":""},{"$f":"IF(ISBLANK(Rådata!R1678),\"\",(Rådata!Q1678*100)/Rådata!R1678)","v":""}]
[{"$f":"IF(ISBLANK(Rådata!A1679)=TRUE,\"\",Rådata!A1679)","v":""},{"$f":"IF(ISBLANK(Rådata!A1679)=TRUE,\"\",YEAR(A1679))","v":""},{"$f":"IF(ISBLANK(Rådata!A1679)=TRUE,\"\",VLOOKUP(MONTH(A1679),Opsætning!$G$3:$H$14,2,FALSE))","v":""},{"$f":"IF(ISBLANK(Rådata!B1679)=TRUE,\"\",(Rådata!C1679*100)/Rådata!B1679)","v":""},{"$f":"IF(ISBLANK(Rådata!D1679)=TRUE,\"\",((Rådata!D1679-Rådata!E1679)*100)/Rådata!D1679)","v":""},{"$f":"IF(ISBLANK(Rådata!G1679)=TRUE,\"\",(Rådata!F1679*100)/Rådata!G1679)","v":""},{"$f":"IF(ISBLANK(Rådata!K1679),\"\",(SUM(Rådata!M1679:P1679)*100)/SUM(Rådata!H1679:K1679))","v":""},{"$f":"IF(ISBLANK(Rådata!H1679),\"\",((SUM(Rådata!J1679:L1679)-SUM(Rådata!O1679:P1679))*100)/SUM(Rådata!H1679:L1679))","v":""},{"$f":"IF(ISBLANK(Rådata!R1679),\"\",(Rådata!Q1679*100)/Rådata!R1679)","v":""}]
[{"$f":"IF(ISBLANK(Rådata!A1680)=TRUE,\"\",Rådata!A1680)","v":""},{"$f":"IF(ISBLANK(Rådata!A1680)=TRUE,\"\",YEAR(A1680))","v":""},{"$f":"IF(ISBLANK(Rådata!A1680)=TRUE,\"\",VLOOKUP(MONTH(A1680),Opsætning!$G$3:$H$14,2,FALSE))","v":""},{"$f":"IF(ISBLANK(Rådata!B1680)=TRUE,\"\",(Rådata!C1680*100)/Rådata!B1680)","v":""},{"$f":"IF(ISBLANK(Rådata!D1680)=TRUE,\"\",((Rådata!D1680-Rådata!E1680)*100)/Rådata!D1680)","v":""},{"$f":"IF(ISBLANK(Rådata!G1680)=TRUE,\"\",(Rådata!F1680*100)/Rådata!G1680)","v":""},{"$f":"IF(ISBLANK(Rådata!K1680),\"\",(SUM(Rådata!M1680:P1680)*100)/SUM(Rådata!H1680:K1680))","v":""},{"$f":"IF(ISBLANK(Rådata!H1680),\"\",((SUM(Rådata!J1680:L1680)-SUM(Rådata!O1680:P1680))*100)/SUM(Rådata!H1680:L1680))","v":""},{"$f":"IF(ISBLANK(Rådata!R1680),\"\",(Rådata!Q1680*100)/Rådata!R1680)","v":""}]
[{"$f":"IF(ISBLANK(Rådata!A1681)=TRUE,\"\",Rådata!A1681)","v":""},{"$f":"IF(ISBLANK(Rådata!A1681)=TRUE,\"\",YEAR(A1681))","v":""},{"$f":"IF(ISBLANK(Rådata!A1681)=TRUE,\"\",VLOOKUP(MONTH(A1681),Opsætning!$G$3:$H$14,2,FALSE))","v":""},{"$f":"IF(ISBLANK(Rådata!B1681)=TRUE,\"\",(Rådata!C1681*100)/Rådata!B1681)","v":""},{"$f":"IF(ISBLANK(Rådata!D1681)=TRUE,\"\",((Rådata!D1681-Rådata!E1681)*100)/Rådata!D1681)","v":""},{"$f":"IF(ISBLANK(Rådata!G1681)=TRUE,\"\",(Rådata!F1681*100)/Rådata!G1681)","v":""},{"$f":"IF(ISBLANK(Rådata!K1681),\"\",(SUM(Rådata!M1681:P1681)*100)/SUM(Rådata!H1681:K1681))","v":""},{"$f":"IF(ISBLANK(Rådata!H1681),\"\",((SUM(Rådata!J1681:L1681)-SUM(Rådata!O1681:P1681))*100)/SUM(Rådata!H1681:L1681))","v":""},{"$f":"IF(ISBLANK(Rådata!R1681),\"\",(Rådata!Q1681*100)/Rådata!R1681)","v":""}]
[{"$f":"IF(ISBLANK(Rådata!A1682)=TRUE,\"\",Rådata!A1682)","v":""},{"$f":"IF(ISBLANK(Rådata!A1682)=TRUE,\"\",YEAR(A1682))","v":""},{"$f":"IF(ISBLANK(Rådata!A1682)=TRUE,\"\",VLOOKUP(MONTH(A1682),Opsætning!$G$3:$H$14,2,FALSE))","v":""},{"$f":"IF(ISBLANK(Rådata!B1682)=TRUE,\"\",(Rådata!C1682*100)/Rådata!B1682)","v":""},{"$f":"IF(ISBLANK(Rådata!D1682)=TRUE,\"\",((Rådata!D1682-Rådata!E1682)*100)/Rådata!D1682)","v":""},{"$f":"IF(ISBLANK(Rådata!G1682)=TRUE,\"\",(Rådata!F1682*100)/Rådata!G1682)","v":""},{"$f":"IF(ISBLANK(Rådata!K1682),\"\",(SUM(Rådata!M1682:P1682)*100)/SUM(Rådata!H1682:K1682))","v":""},{"$f":"IF(ISBLANK(Rådata!H1682),\"\",((SUM(Rådata!J1682:L1682)-SUM(Rådata!O1682:P1682))*100)/SUM(Rådata!H1682:L1682))","v":""},{"$f":"IF(ISBLANK(Rådata!R1682),\"\",(Rådata!Q1682*100)/Rådata!R1682)","v":""}]
[{"$f":"IF(ISBLANK(Rådata!A1683)=TRUE,\"\",Rådata!A1683)","v":""},{"$f":"IF(ISBLANK(Rådata!A1683)=TRUE,\"\",YEAR(A1683))","v":""},{"$f":"IF(ISBLANK(Rådata!A1683)=TRUE,\"\",VLOOKUP(MONTH(A1683),Opsætning!$G$3:$H$14,2,FALSE))","v":""},{"$f":"IF(ISBLANK(Rådata!B1683)=TRUE,\"\",(Rådata!C1683*100)/Rådata!B1683)","v":""},{"$f":"IF(ISBLANK(Rådata!D1683)=TRUE,\"\",((Rådata!D1683-Rådata!E1683)*100)/Rådata!D1683)","v":""},{"$f":"IF(ISBLANK(Rådata!G1683)=TRUE,\"\",(Rådata!F1683*100)/Rådata!G1683)","v":""},{"$f":"IF(ISBLANK(Rådata!K1683),\"\",(SUM(Rådata!M1683:P1683)*100)/SUM(Rådata!H1683:K1683))","v":""},{"$f":"IF(ISBLANK(Rådata!H1683),\"\",((SUM(Rådata!J1683:L1683)-SUM(Rådata!O1683:P1683))*100)/SUM(Rådata!H1683:L1683))","v":""},{"$f":"IF(ISBLANK(Rådata!R1683),\"\",(Rådata!Q1683*100)/Rådata!R1683)","v":""}]
[{"$f":"IF(ISBLANK(Rådata!A1684)=TRUE,\"\",Rådata!A1684)","v":""},{"$f":"IF(ISBLANK(Rådata!A1684)=TRUE,\"\",YEAR(A1684))","v":""},{"$f":"IF(ISBLANK(Rådata!A1684)=TRUE,\"\",VLOOKUP(MONTH(A1684),Opsætning!$G$3:$H$14,2,FALSE))","v":""},{"$f":"IF(ISBLANK(Rådata!B1684)=TRUE,\"\",(Rådata!C1684*100)/Rådata!B1684)","v":""},{"$f":"IF(ISBLANK(Rådata!D1684)=TRUE,\"\",((Rådata!D1684-Rådata!E1684)*100)/Rådata!D1684)","v":""},{"$f":"IF(ISBLANK(Rådata!G1684)=TRUE,\"\",(Rådata!F1684*100)/Rådata!G1684)","v":""},{"$f":"IF(ISBLANK(Rådata!K1684),\"\",(SUM(Rådata!M1684:P1684)*100)/SUM(Rådata!H1684:K1684))","v":""},{"$f":"IF(ISBLANK(Rådata!H1684),\"\",((SUM(Rådata!J1684:L1684)-SUM(Rådata!O1684:P1684))*100)/SUM(Rådata!H1684:L1684))","v":""},{"$f":"IF(ISBLANK(Rådata!R1684),\"\",(Rådata!Q1684*100)/Rådata!R1684)","v":""}]
[{"$f":"IF(ISBLANK(Rådata!A1685)=TRUE,\"\",Rådata!A1685)","v":""},{"$f":"IF(ISBLANK(Rådata!A1685)=TRUE,\"\",YEAR(A1685))","v":""},{"$f":"IF(ISBLANK(Rådata!A1685)=TRUE,\"\",VLOOKUP(MONTH(A1685),Opsætning!$G$3:$H$14,2,FALSE))","v":""},{"$f":"IF(ISBLANK(Rådata!B1685)=TRUE,\"\",(Rådata!C1685*100)/Rådata!B1685)","v":""},{"$f":"IF(ISBLANK(Rådata!D1685)=TRUE,\"\",((Rådata!D1685-Rådata!E1685)*100)/Rådata!D1685)","v":""},{"$f":"IF(ISBLANK(Rådata!G1685)=TRUE,\"\",(Rådata!F1685*100)/Rådata!G1685)","v":""},{"$f":"IF(ISBLANK(Rådata!K1685),\"\",(SUM(Rådata!M1685:P1685)*100)/SUM(Rådata!H1685:K1685))","v":""},{"$f":"IF(ISBLANK(Rådata!H1685),\"\",((SUM(Rådata!J1685:L1685)-SUM(Rådata!O1685:P1685))*100)/SUM(Rådata!H1685:L1685))","v":""},{"$f":"IF(ISBLANK(Rådata!R1685),\"\",(Rådata!Q1685*100)/Rådata!R1685)","v":""}]
[{"$f":"IF(ISBLANK(Rådata!A1686)=TRUE,\"\",Rådata!A1686)","v":""},{"$f":"IF(ISBLANK(Rådata!A1686)=TRUE,\"\",YEAR(A1686))","v":""},{"$f":"IF(ISBLANK(Rådata!A1686)=TRUE,\"\",VLOOKUP(MONTH(A1686),Opsætning!$G$3:$H$14,2,FALSE))","v":""},{"$f":"IF(ISBLANK(Rådata!B1686)=TRUE,\"\",(Rådata!C1686*100)/Rådata!B1686)","v":""},{"$f":"IF(ISBLANK(Rådata!D1686)=TRUE,\"\",((Rådata!D1686-Rådata!E1686)*100)/Rådata!D1686)","v":""},{"$f":"IF(ISBLANK(Rådata!G1686)=TRUE,\"\",(Rådata!F1686*100)/Rådata!G1686)","v":""},{"$f":"IF(ISBLANK(Rådata!K1686),\"\",(SUM(Rådata!M1686:P1686)*100)/SUM(Rådata!H1686:K1686))","v":""},{"$f":"IF(ISBLANK(Rådata!H1686),\"\",((SUM(Rådata!J1686:L1686)-SUM(Rådata!O1686:P1686))*100)/SUM(Rådata!H1686:L1686))","v":""},{"$f":"IF(ISBLANK(Rådata!R1686),\"\",(Rådata!Q1686*100)/Rådata!R1686)","v":""}]
[{"$f":"IF(ISBLANK(Rådata!A1687)=TRUE,\"\",Rådata!A1687)","v":""},{"$f":"IF(ISBLANK(Rådata!A1687)=TRUE,\"\",YEAR(A1687))","v":""},{"$f":"IF(ISBLANK(Rådata!A1687)=TRUE,\"\",VLOOKUP(MONTH(A1687),Opsætning!$G$3:$H$14,2,FALSE))","v":""},{"$f":"IF(ISBLANK(Rådata!B1687)=TRUE,\"\",(Rådata!C1687*100)/Rådata!B1687)","v":""},{"$f":"IF(ISBLANK(Rådata!D1687)=TRUE,\"\",((Rådata!D1687-Rådata!E1687)*100)/Rådata!D1687)","v":""},{"$f":"IF(ISBLANK(Rådata!G1687)=TRUE,\"\",(Rådata!F1687*100)/Rådata!G1687)","v":""},{"$f":"IF(ISBLANK(Rådata!K1687),\"\",(SUM(Rådata!M1687:P1687)*100)/SUM(Rådata!H1687:K1687))","v":""},{"$f":"IF(ISBLANK(Rådata!H1687),\"\",((SUM(Rådata!J1687:L1687)-SUM(Rådata!O1687:P1687))*100)/SUM(Rådata!H1687:L1687))","v":""},{"$f":"IF(ISBLANK(Rådata!R1687),\"\",(Rådata!Q1687*100)/Rådata!R1687)","v":""}]
[{"$f":"IF(ISBLANK(Rådata!A1688)=TRUE,\"\",Rådata!A1688)","v":""},{"$f":"IF(ISBLANK(Rådata!A1688)=TRUE,\"\",YEAR(A1688))","v":""},{"$f":"IF(ISBLANK(Rådata!A1688)=TRUE,\"\",VLOOKUP(MONTH(A1688),Opsætning!$G$3:$H$14,2,FALSE))","v":""},{"$f":"IF(ISBLANK(Rådata!B1688)=TRUE,\"\",(Rådata!C1688*100)/Rådata!B1688)","v":""},{"$f":"IF(ISBLANK(Rådata!D1688)=TRUE,\"\",((Rådata!D1688-Rådata!E1688)*100)/Rådata!D1688)","v":""},{"$f":"IF(ISBLANK(Rådata!G1688)=TRUE,\"\",(Rådata!F1688*100)/Rådata!G1688)","v":""},{"$f":"IF(ISBLANK(Rådata!K1688),\"\",(SUM(Rådata!M1688:P1688)*100)/SUM(Rådata!H1688:K1688))","v":""},{"$f":"IF(ISBLANK(Rådata!H1688),\"\",((SUM(Rådata!J1688:L1688)-SUM(Rådata!O1688:P1688))*100)/SUM(Rådata!H1688:L1688))","v":""},{"$f":"IF(ISBLANK(Rådata!R1688),\"\",(Rådata!Q1688*100)/Rådata!R1688)","v":""}]
[{"$f":"IF(ISBLANK(Rådata!A1689)=TRUE,\"\",Rådata!A1689)","v":""},{"$f":"IF(ISBLANK(Rådata!A1689)=TRUE,\"\",YEAR(A1689))","v":""},{"$f":"IF(ISBLANK(Rådata!A1689)=TRUE,\"\",VLOOKUP(MONTH(A1689),Opsætning!$G$3:$H$14,2,FALSE))","v":""},{"$f":"IF(ISBLANK(Rådata!B1689)=TRUE,\"\",(Rådata!C1689*100)/Rådata!B1689)","v":""},{"$f":"IF(ISBLANK(Rådata!D1689)=TRUE,\"\",((Rådata!D1689-Rådata!E1689)*100)/Rådata!D1689)","v":""},{"$f":"IF(ISBLANK(Rådata!G1689)=TRUE,\"\",(Rådata!F1689*100)/Rådata!G1689)","v":""},{"$f":"IF(ISBLANK(Rådata!K1689),\"\",(SUM(Rådata!M1689:P1689)*100)/SUM(Rådata!H1689:K1689))","v":""},{"$f":"IF(ISBLANK(Rådata!H1689),\"\",((SUM(Rådata!J1689:L1689)-SUM(Rådata!O1689:P1689))*100)/SUM(Rådata!H1689:L1689))","v":""},{"$f":"IF(ISBLANK(Rådata!R1689),\"\",(Rådata!Q1689*100)/Rådata!R1689)","v":""}]
[{"$f":"IF(ISBLANK(Rådata!A1690)=TRUE,\"\",Rådata!A1690)","v":""},{"$f":"IF(ISBLANK(Rådata!A1690)=TRUE,\"\",YEAR(A1690))","v":""},{"$f":"IF(ISBLANK(Rådata!A1690)=TRUE,\"\",VLOOKUP(MONTH(A1690),Opsætning!$G$3:$H$14,2,FALSE))","v":""},{"$f":"IF(ISBLANK(Rådata!B1690)=TRUE,\"\",(Rådata!C1690*100)/Rådata!B1690)","v":""},{"$f":"IF(ISBLANK(Rådata!D1690)=TRUE,\"\",((Rådata!D1690-Rådata!E1690)*100)/Rådata!D1690)","v":""},{"$f":"IF(ISBLANK(Rådata!G1690)=TRUE,\"\",(Rådata!F1690*100)/Rådata!G1690)","v":""},{"$f":"IF(ISBLANK(Rådata!K1690),\"\",(SUM(Rådata!M1690:P1690)*100)/SUM(Rådata!H1690:K1690))","v":""},{"$f":"IF(ISBLANK(Rådata!H1690),\"\",((SUM(Rådata!J1690:L1690)-SUM(Rådata!O1690:P1690))*100)/SUM(Rådata!H1690:L1690))","v":""},{"$f":"IF(ISBLANK(Rådata!R1690),\"\",(Rådata!Q1690*100)/Rådata!R1690)","v":""}]
[{"$f":"IF(ISBLANK(Rådata!A1691)=TRUE,\"\",Rådata!A1691)","v":""},{"$f":"IF(ISBLANK(Rådata!A1691)=TRUE,\"\",YEAR(A1691))","v":""},{"$f":"IF(ISBLANK(Rådata!A1691)=TRUE,\"\",VLOOKUP(MONTH(A1691),Opsætning!$G$3:$H$14,2,FALSE))","v":""},{"$f":"IF(ISBLANK(Rådata!B1691)=TRUE,\"\",(Rådata!C1691*100)/Rådata!B1691)","v":""},{"$f":"IF(ISBLANK(Rådata!D1691)=TRUE,\"\",((Rådata!D1691-Rådata!E1691)*100)/Rådata!D1691)","v":""},{"$f":"IF(ISBLANK(Rådata!G1691)=TRUE,\"\",(Rådata!F1691*100)/Rådata!G1691)","v":""},{"$f":"IF(ISBLANK(Rådata!K1691),\"\",(SUM(Rådata!M1691:P1691)*100)/SUM(Rådata!H1691:K1691))","v":""},{"$f":"IF(ISBLANK(Rådata!H1691),\"\",((SUM(Rådata!J1691:L1691)-SUM(Rådata!O1691:P1691))*100)/SUM(Rådata!H1691:L1691))","v":""},{"$f":"IF(ISBLANK(Rådata!R1691),\"\",(Rådata!Q1691*100)/Rådata!R1691)","v":""}]
[{"$f":"IF(ISBLANK(Rådata!A1692)=TRUE,\"\",Rådata!A1692)","v":""},{"$f":"IF(ISBLANK(Rådata!A1692)=TRUE,\"\",YEAR(A1692))","v":""},{"$f":"IF(ISBLANK(Rådata!A1692)=TRUE,\"\",VLOOKUP(MONTH(A1692),Opsætning!$G$3:$H$14,2,FALSE))","v":""},{"$f":"IF(ISBLANK(Rådata!B1692)=TRUE,\"\",(Rådata!C1692*100)/Rådata!B1692)","v":""},{"$f":"IF(ISBLANK(Rådata!D1692)=TRUE,\"\",((Rådata!D1692-Rådata!E1692)*100)/Rådata!D1692)","v":""},{"$f":"IF(ISBLANK(Rådata!G1692)=TRUE,\"\",(Rådata!F1692*100)/Rådata!G1692)","v":""},{"$f":"IF(ISBLANK(Rådata!K1692),\"\",(SUM(Rådata!M1692:P1692)*100)/SUM(Rådata!H1692:K1692))","v":""},{"$f":"IF(ISBLANK(Rådata!H1692),\"\",((SUM(Rådata!J1692:L1692)-SUM(Rådata!O1692:P1692))*100)/SUM(Rådata!H1692:L1692))","v":""},{"$f":"IF(ISBLANK(Rådata!R1692),\"\",(Rådata!Q1692*100)/Rådata!R1692)","v":""}]
[{"$f":"IF(ISBLANK(Rådata!A1693)=TRUE,\"\",Rådata!A1693)","v":""},{"$f":"IF(ISBLANK(Rådata!A1693)=TRUE,\"\",YEAR(A1693))","v":""},{"$f":"IF(ISBLANK(Rådata!A1693)=TRUE,\"\",VLOOKUP(MONTH(A1693),Opsætning!$G$3:$H$14,2,FALSE))","v":""},{"$f":"IF(ISBLANK(Rådata!B1693)=TRUE,\"\",(Rådata!C1693*100)/Rådata!B1693)","v":""},{"$f":"IF(ISBLANK(Rådata!D1693)=TRUE,\"\",((Rådata!D1693-Rådata!E1693)*100)/Rådata!D1693)","v":""},{"$f":"IF(ISBLANK(Rådata!G1693)=TRUE,\"\",(Rådata!F1693*100)/Rådata!G1693)","v":""},{"$f":"IF(ISBLANK(Rådata!K1693),\"\",(SUM(Rådata!M1693:P1693)*100)/SUM(Rådata!H1693:K1693))","v":""},{"$f":"IF(ISBLANK(Rådata!H1693),\"\",((SUM(Rådata!J1693:L1693)-SUM(Rådata!O1693:P1693))*100)/SUM(Rådata!H1693:L1693))","v":""},{"$f":"IF(ISBLANK(Rådata!R1693),\"\",(Rådata!Q1693*100)/Rådata!R1693)","v":""}]
[{"$f":"IF(ISBLANK(Rådata!A1694)=TRUE,\"\",Rådata!A1694)","v":""},{"$f":"IF(ISBLANK(Rådata!A1694)=TRUE,\"\",YEAR(A1694))","v":""},{"$f":"IF(ISBLANK(Rådata!A1694)=TRUE,\"\",VLOOKUP(MONTH(A1694),Opsætning!$G$3:$H$14,2,FALSE))","v":""},{"$f":"IF(ISBLANK(Rådata!B1694)=TRUE,\"\",(Rådata!C1694*100)/Rådata!B1694)","v":""},{"$f":"IF(ISBLANK(Rådata!D1694)=TRUE,\"\",((Rådata!D1694-Rådata!E1694)*100)/Rådata!D1694)","v":""},{"$f":"IF(ISBLANK(Rådata!G1694)=TRUE,\"\",(Rådata!F1694*100)/Rådata!G1694)","v":""},{"$f":"IF(ISBLANK(Rådata!K1694),\"\",(SUM(Rådata!M1694:P1694)*100)/SUM(Rådata!H1694:K1694))","v":""},{"$f":"IF(ISBLANK(Rådata!H1694),\"\",((SUM(Rådata!J1694:L1694)-SUM(Rådata!O1694:P1694))*100)/SUM(Rådata!H1694:L1694))","v":""},{"$f":"IF(ISBLANK(Rådata!R1694),\"\",(Rådata!Q1694*100)/Rådata!R1694)","v":""}]
[{"$f":"IF(ISBLANK(Rådata!A1695)=TRUE,\"\",Rådata!A1695)","v":""},{"$f":"IF(ISBLANK(Rådata!A1695)=TRUE,\"\",YEAR(A1695))","v":""},{"$f":"IF(ISBLANK(Rådata!A1695)=TRUE,\"\",VLOOKUP(MONTH(A1695),Opsætning!$G$3:$H$14,2,FALSE))","v":""},{"$f":"IF(ISBLANK(Rådata!B1695)=TRUE,\"\",(Rådata!C1695*100)/Rådata!B1695)","v":""},{"$f":"IF(ISBLANK(Rådata!D1695)=TRUE,\"\",((Rådata!D1695-Rådata!E1695)*100)/Rådata!D1695)","v":""},{"$f":"IF(ISBLANK(Rådata!G1695)=TRUE,\"\",(Rådata!F1695*100)/Rådata!G1695)","v":""},{"$f":"IF(ISBLANK(Rådata!K1695),\"\",(SUM(Rådata!M1695:P1695)*100)/SUM(Rådata!H1695:K1695))","v":""},{"$f":"IF(ISBLANK(Rådata!H1695),\"\",((SUM(Rådata!J1695:L1695)-SUM(Rådata!O1695:P1695))*100)/SUM(Rådata!H1695:L1695))","v":""},{"$f":"IF(ISBLANK(Rådata!R1695),\"\",(Rådata!Q1695*100)/Rådata!R1695)","v":""}]
[{"$f":"IF(ISBLANK(Rådata!A1696)=TRUE,\"\",Rådata!A1696)","v":""},{"$f":"IF(ISBLANK(Rådata!A1696)=TRUE,\"\",YEAR(A1696))","v":""},{"$f":"IF(ISBLANK(Rådata!A1696)=TRUE,\"\",VLOOKUP(MONTH(A1696),Opsætning!$G$3:$H$14,2,FALSE))","v":""},{"$f":"IF(ISBLANK(Rådata!B1696)=TRUE,\"\",(Rådata!C1696*100)/Rådata!B1696)","v":""},{"$f":"IF(ISBLANK(Rådata!D1696)=TRUE,\"\",((Rådata!D1696-Rådata!E1696)*100)/Rådata!D1696)","v":""},{"$f":"IF(ISBLANK(Rådata!G1696)=TRUE,\"\",(Rådata!F1696*100)/Rådata!G1696)","v":""},{"$f":"IF(ISBLANK(Rådata!K1696),\"\",(SUM(Rådata!M1696:P1696)*100)/SUM(Rådata!H1696:K1696))","v":""},{"$f":"IF(ISBLANK(Rådata!H1696),\"\",((SUM(Rådata!J1696:L1696)-SUM(Rådata!O1696:P1696))*100)/SUM(Rådata!H1696:L1696))","v":""},{"$f":"IF(ISBLANK(Rådata!R1696),\"\",(Rådata!Q1696*100)/Rådata!R1696)","v":""}]
[{"$f":"IF(ISBLANK(Rådata!A1697)=TRUE,\"\",Rådata!A1697)","v":""},{"$f":"IF(ISBLANK(Rådata!A1697)=TRUE,\"\",YEAR(A1697))","v":""},{"$f":"IF(ISBLANK(Rådata!A1697)=TRUE,\"\",VLOOKUP(MONTH(A1697),Opsætning!$G$3:$H$14,2,FALSE))","v":""},{"$f":"IF(ISBLANK(Rådata!B1697)=TRUE,\"\",(Rådata!C1697*100)/Rådata!B1697)","v":""},{"$f":"IF(ISBLANK(Rådata!D1697)=TRUE,\"\",((Rådata!D1697-Rådata!E1697)*100)/Rådata!D1697)","v":""},{"$f":"IF(ISBLANK(Rådata!G1697)=TRUE,\"\",(Rådata!F1697*100)/Rådata!G1697)","v":""},{"$f":"IF(ISBLANK(Rådata!K1697),\"\",(SUM(Rådata!M1697:P1697)*100)/SUM(Rådata!H1697:K1697))","v":""},{"$f":"IF(ISBLANK(Rådata!H1697),\"\",((SUM(Rådata!J1697:L1697)-SUM(Rådata!O1697:P1697))*100)/SUM(Rådata!H1697:L1697))","v":""},{"$f":"IF(ISBLANK(Rådata!R1697),\"\",(Rådata!Q1697*100)/Rådata!R1697)","v":""}]
[{"$f":"IF(ISBLANK(Rådata!A1698)=TRUE,\"\",Rådata!A1698)","v":""},{"$f":"IF(ISBLANK(Rådata!A1698)=TRUE,\"\",YEAR(A1698))","v":""},{"$f":"IF(ISBLANK(Rådata!A1698)=TRUE,\"\",VLOOKUP(MONTH(A1698),Opsætning!$G$3:$H$14,2,FALSE))","v":""},{"$f":"IF(ISBLANK(Rådata!B1698)=TRUE,\"\",(Rådata!C1698*100)/Rådata!B1698)","v":""},{"$f":"IF(ISBLANK(Rådata!D1698)=TRUE,\"\",((Rådata!D1698-Rådata!E1698)*100)/Rådata!D1698)","v":""},{"$f":"IF(ISBLANK(Rådata!G1698)=TRUE,\"\",(Rådata!F1698*100)/Rådata!G1698)","v":""},{"$f":"IF(ISBLANK(Rådata!K1698),\"\",(SUM(Rådata!M1698:P1698)*100)/SUM(Rådata!H1698:K1698))","v":""},{"$f":"IF(ISBLANK(Rådata!H1698),\"\",((SUM(Rådata!J1698:L1698)-SUM(Rådata!O1698:P1698))*100)/SUM(Rådata!H1698:L1698))","v":""},{"$f":"IF(ISBLANK(Rådata!R1698),\"\",(Rådata!Q1698*100)/Rådata!R1698)","v":""}]
[{"$f":"IF(ISBLANK(Rådata!A1699)=TRUE,\"\",Rådata!A1699)","v":""},{"$f":"IF(ISBLANK(Rådata!A1699)=TRUE,\"\",YEAR(A1699))","v":""},{"$f":"IF(ISBLANK(Rådata!A1699)=TRUE,\"\",VLOOKUP(MONTH(A1699),Opsætning!$G$3:$H$14,2,FALSE))","v":""},{"$f":"IF(ISBLANK(Rådata!B1699)=TRUE,\"\",(Rådata!C1699*100)/Rådata!B1699)","v":""},{"$f":"IF(ISBLANK(Rådata!D1699)=TRUE,\"\",((Rådata!D1699-Rådata!E1699)*100)/Rådata!D1699)","v":""},{"$f":"IF(ISBLANK(Rådata!G1699)=TRUE,\"\",(Rådata!F1699*100)/Rådata!G1699)","v":""},{"$f":"IF(ISBLANK(Rådata!K1699),\"\",(SUM(Rådata!M1699:P1699)*100)/SUM(Rådata!H1699:K1699))","v":""},{"$f":"IF(ISBLANK(Rådata!H1699),\"\",((SUM(Rådata!J1699:L1699)-SUM(Rådata!O1699:P1699))*100)/SUM(Rådata!H1699:L1699))","v":""},{"$f":"IF(ISBLANK(Rådata!R1699),\"\",(Rådata!Q1699*100)/Rådata!R1699)","v":""}]
[{"$f":"IF(ISBLANK(Rådata!A1700)=TRUE,\"\",Rådata!A1700)","v":""},{"$f":"IF(ISBLANK(Rådata!A1700)=TRUE,\"\",YEAR(A1700))","v":""},{"$f":"IF(ISBLANK(Rådata!A1700)=TRUE,\"\",VLOOKUP(MONTH(A1700),Opsætning!$G$3:$H$14,2,FALSE))","v":""},{"$f":"IF(ISBLANK(Rådata!B1700)=TRUE,\"\",(Rådata!C1700*100)/Rådata!B1700)","v":""},{"$f":"IF(ISBLANK(Rådata!D1700)=TRUE,\"\",((Rådata!D1700-Rådata!E1700)*100)/Rådata!D1700)","v":""},{"$f":"IF(ISBLANK(Rådata!G1700)=TRUE,\"\",(Rådata!F1700*100)/Rådata!G1700)","v":""},{"$f":"IF(ISBLANK(Rådata!K1700),\"\",(SUM(Rådata!M1700:P1700)*100)/SUM(Rådata!H1700:K1700))","v":""},{"$f":"IF(ISBLANK(Rådata!H1700),\"\",((SUM(Rådata!J1700:L1700)-SUM(Rådata!O1700:P1700))*100)/SUM(Rådata!H1700:L1700))","v":""},{"$f":"IF(ISBLANK(Rådata!R1700),\"\",(Rådata!Q1700*100)/Rådata!R1700)","v":""}]
[{"$f":"IF(ISBLANK(Rådata!A1701)=TRUE,\"\",Rådata!A1701)","v":""},{"$f":"IF(ISBLANK(Rådata!A1701)=TRUE,\"\",YEAR(A1701))","v":""},{"$f":"IF(ISBLANK(Rådata!A1701)=TRUE,\"\",VLOOKUP(MONTH(A1701),Opsætning!$G$3:$H$14,2,FALSE))","v":""},{"$f":"IF(ISBLANK(Rådata!B1701)=TRUE,\"\",(Rådata!C1701*100)/Rådata!B1701)","v":""},{"$f":"IF(ISBLANK(Rådata!D1701)=TRUE,\"\",((Rådata!D1701-Rådata!E1701)*100)/Rådata!D1701)","v":""},{"$f":"IF(ISBLANK(Rådata!G1701)=TRUE,\"\",(Rådata!F1701*100)/Rådata!G1701)","v":""},{"$f":"IF(ISBLANK(Rådata!K1701),\"\",(SUM(Rådata!M1701:P1701)*100)/SUM(Rådata!H1701:K1701))","v":""},{"$f":"IF(ISBLANK(Rådata!H1701),\"\",((SUM(Rådata!J1701:L1701)-SUM(Rådata!O1701:P1701))*100)/SUM(Rådata!H1701:L1701))","v":""},{"$f":"IF(ISBLANK(Rådata!R1701),\"\",(Rådata!Q1701*100)/Rådata!R1701)","v":""}]
[{"$f":"IF(ISBLANK(Rådata!A1702)=TRUE,\"\",Rådata!A1702)","v":""},{"$f":"IF(ISBLANK(Rådata!A1702)=TRUE,\"\",YEAR(A1702))","v":""},{"$f":"IF(ISBLANK(Rådata!A1702)=TRUE,\"\",VLOOKUP(MONTH(A1702),Opsætning!$G$3:$H$14,2,FALSE))","v":""},{"$f":"IF(ISBLANK(Rådata!B1702)=TRUE,\"\",(Rådata!C1702*100)/Rådata!B1702)","v":""},{"$f":"IF(ISBLANK(Rådata!D1702)=TRUE,\"\",((Rådata!D1702-Rådata!E1702)*100)/Rådata!D1702)","v":""},{"$f":"IF(ISBLANK(Rådata!G1702)=TRUE,\"\",(Rådata!F1702*100)/Rådata!G1702)","v":""},{"$f":"IF(ISBLANK(Rådata!K1702),\"\",(SUM(Rådata!M1702:P1702)*100)/SUM(Rådata!H1702:K1702))","v":""},{"$f":"IF(ISBLANK(Rådata!H1702),\"\",((SUM(Rådata!J1702:L1702)-SUM(Rådata!O1702:P1702))*100)/SUM(Rådata!H1702:L1702))","v":""},{"$f":"IF(ISBLANK(Rådata!R1702),\"\",(Rådata!Q1702*100)/Rådata!R1702)","v":""}]
[{"$f":"IF(ISBLANK(Rådata!A1703)=TRUE,\"\",Rådata!A1703)","v":""},{"$f":"IF(ISBLANK(Rådata!A1703)=TRUE,\"\",YEAR(A1703))","v":""},{"$f":"IF(ISBLANK(Rådata!A1703)=TRUE,\"\",VLOOKUP(MONTH(A1703),Opsætning!$G$3:$H$14,2,FALSE))","v":""},{"$f":"IF(ISBLANK(Rådata!B1703)=TRUE,\"\",(Rådata!C1703*100)/Rådata!B1703)","v":""},{"$f":"IF(ISBLANK(Rådata!D1703)=TRUE,\"\",((Rådata!D1703-Rådata!E1703)*100)/Rådata!D1703)","v":""},{"$f":"IF(ISBLANK(Rådata!G1703)=TRUE,\"\",(Rådata!F1703*100)/Rådata!G1703)","v":""},{"$f":"IF(ISBLANK(Rådata!K1703),\"\",(SUM(Rådata!M1703:P1703)*100)/SUM(Rådata!H1703:K1703))","v":""},{"$f":"IF(ISBLANK(Rådata!H1703),\"\",((SUM(Rådata!J1703:L1703)-SUM(Rådata!O1703:P1703))*100)/SUM(Rådata!H1703:L1703))","v":""},{"$f":"IF(ISBLANK(Rådata!R1703),\"\",(Rådata!Q1703*100)/Rådata!R1703)","v":""}]
[{"$f":"IF(ISBLANK(Rådata!A1704)=TRUE,\"\",Rådata!A1704)","v":""},{"$f":"IF(ISBLANK(Rådata!A1704)=TRUE,\"\",YEAR(A1704))","v":""},{"$f":"IF(ISBLANK(Rådata!A1704)=TRUE,\"\",VLOOKUP(MONTH(A1704),Opsætning!$G$3:$H$14,2,FALSE))","v":""},{"$f":"IF(ISBLANK(Rådata!B1704)=TRUE,\"\",(Rådata!C1704*100)/Rådata!B1704)","v":""},{"$f":"IF(ISBLANK(Rådata!D1704)=TRUE,\"\",((Rådata!D1704-Rådata!E1704)*100)/Rådata!D1704)","v":""},{"$f":"IF(ISBLANK(Rådata!G1704)=TRUE,\"\",(Rådata!F1704*100)/Rådata!G1704)","v":""},{"$f":"IF(ISBLANK(Rådata!K1704),\"\",(SUM(Rådata!M1704:P1704)*100)/SUM(Rådata!H1704:K1704))","v":""},{"$f":"IF(ISBLANK(Rådata!H1704),\"\",((SUM(Rådata!J1704:L1704)-SUM(Rådata!O1704:P1704))*100)/SUM(Rådata!H1704:L1704))","v":""},{"$f":"IF(ISBLANK(Rådata!R1704),\"\",(Rådata!Q1704*100)/Rådata!R1704)","v":""}]
[{"$f":"IF(ISBLANK(Rådata!A1705)=TRUE,\"\",Rådata!A1705)","v":""},{"$f":"IF(ISBLANK(Rådata!A1705)=TRUE,\"\",YEAR(A1705))","v":""},{"$f":"IF(ISBLANK(Rådata!A1705)=TRUE,\"\",VLOOKUP(MONTH(A1705),Opsætning!$G$3:$H$14,2,FALSE))","v":""},{"$f":"IF(ISBLANK(Rådata!B1705)=TRUE,\"\",(Rådata!C1705*100)/Rådata!B1705)","v":""},{"$f":"IF(ISBLANK(Rådata!D1705)=TRUE,\"\",((Rådata!D1705-Rådata!E1705)*100)/Rådata!D1705)","v":""},{"$f":"IF(ISBLANK(Rådata!G1705)=TRUE,\"\",(Rådata!F1705*100)/Rådata!G1705)","v":""},{"$f":"IF(ISBLANK(Rådata!K1705),\"\",(SUM(Rådata!M1705:P1705)*100)/SUM(Rådata!H1705:K1705))","v":""},{"$f":"IF(ISBLANK(Rådata!H1705),\"\",((SUM(Rådata!J1705:L1705)-SUM(Rådata!O1705:P1705))*100)/SUM(Rådata!H1705:L1705))","v":""},{"$f":"IF(ISBLANK(Rådata!R1705),\"\",(Rådata!Q1705*100)/Rådata!R1705)","v":""}]
[{"$f":"IF(ISBLANK(Rådata!A1706)=TRUE,\"\",Rådata!A1706)","v":""},{"$f":"IF(ISBLANK(Rådata!A1706)=TRUE,\"\",YEAR(A1706))","v":""},{"$f":"IF(ISBLANK(Rådata!A1706)=TRUE,\"\",VLOOKUP(MONTH(A1706),Opsætning!$G$3:$H$14,2,FALSE))","v":""},{"$f":"IF(ISBLANK(Rådata!B1706)=TRUE,\"\",(Rådata!C1706*100)/Rådata!B1706)","v":""},{"$f":"IF(ISBLANK(Rådata!D1706)=TRUE,\"\",((Rådata!D1706-Rådata!E1706)*100)/Rådata!D1706)","v":""},{"$f":"IF(ISBLANK(Rådata!G1706)=TRUE,\"\",(Rådata!F1706*100)/Rådata!G1706)","v":""},{"$f":"IF(ISBLANK(Rådata!K1706),\"\",(SUM(Rådata!M1706:P1706)*100)/SUM(Rådata!H1706:K1706))","v":""},{"$f":"IF(ISBLANK(Rådata!H1706),\"\",((SUM(Rådata!J1706:L1706)-SUM(Rådata!O1706:P1706))*100)/SUM(Rådata!H1706:L1706))","v":""},{"$f":"IF(ISBLANK(Rådata!R1706),\"\",(Rådata!Q1706*100)/Rådata!R1706)","v":""}]
[{"$f":"IF(ISBLANK(Rådata!A1707)=TRUE,\"\",Rådata!A1707)","v":""},{"$f":"IF(ISBLANK(Rådata!A1707)=TRUE,\"\",YEAR(A1707))","v":""},{"$f":"IF(ISBLANK(Rådata!A1707)=TRUE,\"\",VLOOKUP(MONTH(A1707),Opsætning!$G$3:$H$14,2,FALSE))","v":""},{"$f":"IF(ISBLANK(Rådata!B1707)=TRUE,\"\",(Rådata!C1707*100)/Rådata!B1707)","v":""},{"$f":"IF(ISBLANK(Rådata!D1707)=TRUE,\"\",((Rådata!D1707-Rådata!E1707)*100)/Rådata!D1707)","v":""},{"$f":"IF(ISBLANK(Rådata!G1707)=TRUE,\"\",(Rådata!F1707*100)/Rådata!G1707)","v":""},{"$f":"IF(ISBLANK(Rådata!K1707),\"\",(SUM(Rådata!M1707:P1707)*100)/SUM(Rådata!H1707:K1707))","v":""},{"$f":"IF(ISBLANK(Rådata!H1707),\"\",((SUM(Rådata!J1707:L1707)-SUM(Rådata!O1707:P1707))*100)/SUM(Rådata!H1707:L1707))","v":""},{"$f":"IF(ISBLANK(Rådata!R1707),\"\",(Rådata!Q1707*100)/Rådata!R1707)","v":""}]
[{"$f":"IF(ISBLANK(Rådata!A1708)=TRUE,\"\",Rådata!A1708)","v":""},{"$f":"IF(ISBLANK(Rådata!A1708)=TRUE,\"\",YEAR(A1708))","v":""},{"$f":"IF(ISBLANK(Rådata!A1708)=TRUE,\"\",VLOOKUP(MONTH(A1708),Opsætning!$G$3:$H$14,2,FALSE))","v":""},{"$f":"IF(ISBLANK(Rådata!B1708)=TRUE,\"\",(Rådata!C1708*100)/Rådata!B1708)","v":""},{"$f":"IF(ISBLANK(Rådata!D1708)=TRUE,\"\",((Rådata!D1708-Rådata!E1708)*100)/Rådata!D1708)","v":""},{"$f":"IF(ISBLANK(Rådata!G1708)=TRUE,\"\",(Rådata!F1708*100)/Rådata!G1708)","v":""},{"$f":"IF(ISBLANK(Rådata!K1708),\"\",(SUM(Rådata!M1708:P1708)*100)/SUM(Rådata!H1708:K1708))","v":""},{"$f":"IF(ISBLANK(Rådata!H1708),\"\",((SUM(Rådata!J1708:L1708)-SUM(Rådata!O1708:P1708))*100)/SUM(Rådata!H1708:L1708))","v":""},{"$f":"IF(ISBLANK(Rådata!R1708),\"\",(Rådata!Q1708*100)/Rådata!R1708)","v":""}]
[{"$f":"IF(ISBLANK(Rådata!A1709)=TRUE,\"\",Rådata!A1709)","v":""},{"$f":"IF(ISBLANK(Rådata!A1709)=TRUE,\"\",YEAR(A1709))","v":""},{"$f":"IF(ISBLANK(Rådata!A1709)=TRUE,\"\",VLOOKUP(MONTH(A1709),Opsætning!$G$3:$H$14,2,FALSE))","v":""},{"$f":"IF(ISBLANK(Rådata!B1709)=TRUE,\"\",(Rådata!C1709*100)/Rådata!B1709)","v":""},{"$f":"IF(ISBLANK(Rådata!D1709)=TRUE,\"\",((Rådata!D1709-Rådata!E1709)*100)/Rådata!D1709)","v":""},{"$f":"IF(ISBLANK(Rådata!G1709)=TRUE,\"\",(Rådata!F1709*100)/Rådata!G1709)","v":""},{"$f":"IF(ISBLANK(Rådata!K1709),\"\",(SUM(Rådata!M1709:P1709)*100)/SUM(Rådata!H1709:K1709))","v":""},{"$f":"IF(ISBLANK(Rådata!H1709),\"\",((SUM(Rådata!J1709:L1709)-SUM(Rådata!O1709:P1709))*100)/SUM(Rådata!H1709:L1709))","v":""},{"$f":"IF(ISBLANK(Rådata!R1709),\"\",(Rådata!Q1709*100)/Rådata!R1709)","v":""}]
[{"$f":"IF(ISBLANK(Rådata!A1710)=TRUE,\"\",Rådata!A1710)","v":""},{"$f":"IF(ISBLANK(Rådata!A1710)=TRUE,\"\",YEAR(A1710))","v":""},{"$f":"IF(ISBLANK(Rådata!A1710)=TRUE,\"\",VLOOKUP(MONTH(A1710),Opsætning!$G$3:$H$14,2,FALSE))","v":""},{"$f":"IF(ISBLANK(Rådata!B1710)=TRUE,\"\",(Rådata!C1710*100)/Rådata!B1710)","v":""},{"$f":"IF(ISBLANK(Rådata!D1710)=TRUE,\"\",((Rådata!D1710-Rådata!E1710)*100)/Rådata!D1710)","v":""},{"$f":"IF(ISBLANK(Rådata!G1710)=TRUE,\"\",(Rådata!F1710*100)/Rådata!G1710)","v":""},{"$f":"IF(ISBLANK(Rådata!K1710),\"\",(SUM(Rådata!M1710:P1710)*100)/SUM(Rådata!H1710:K1710))","v":""},{"$f":"IF(ISBLANK(Rådata!H1710),\"\",((SUM(Rådata!J1710:L1710)-SUM(Rådata!O1710:P1710))*100)/SUM(Rådata!H1710:L1710))","v":""},{"$f":"IF(ISBLANK(Rådata!R1710),\"\",(Rådata!Q1710*100)/Rådata!R1710)","v":""}]
[{"$f":"IF(ISBLANK(Rådata!A1711)=TRUE,\"\",Rådata!A1711)","v":""},{"$f":"IF(ISBLANK(Rådata!A1711)=TRUE,\"\",YEAR(A1711))","v":""},{"$f":"IF(ISBLANK(Rådata!A1711)=TRUE,\"\",VLOOKUP(MONTH(A1711),Opsætning!$G$3:$H$14,2,FALSE))","v":""},{"$f":"IF(ISBLANK(Rådata!B1711)=TRUE,\"\",(Rådata!C1711*100)/Rådata!B1711)","v":""},{"$f":"IF(ISBLANK(Rådata!D1711)=TRUE,\"\",((Rådata!D1711-Rådata!E1711)*100)/Rådata!D1711)","v":""},{"$f":"IF(ISBLANK(Rådata!G1711)=TRUE,\"\",(Rådata!F1711*100)/Rådata!G1711)","v":""},{"$f":"IF(ISBLANK(Rådata!K1711),\"\",(SUM(Rådata!M1711:P1711)*100)/SUM(Rådata!H1711:K1711))","v":""},{"$f":"IF(ISBLANK(Rådata!H1711),\"\",((SUM(Rådata!J1711:L1711)-SUM(Rådata!O1711:P1711))*100)/SUM(Rådata!H1711:L1711))","v":""},{"$f":"IF(ISBLANK(Rådata!R1711),\"\",(Rådata!Q1711*100)/Rådata!R1711)","v":""}]
[{"$f":"IF(ISBLANK(Rådata!A1712)=TRUE,\"\",Rådata!A1712)","v":""},{"$f":"IF(ISBLANK(Rådata!A1712)=TRUE,\"\",YEAR(A1712))","v":""},{"$f":"IF(ISBLANK(Rådata!A1712)=TRUE,\"\",VLOOKUP(MONTH(A1712),Opsætning!$G$3:$H$14,2,FALSE))","v":""},{"$f":"IF(ISBLANK(Rådata!B1712)=TRUE,\"\",(Rådata!C1712*100)/Rådata!B1712)","v":""},{"$f":"IF(ISBLANK(Rådata!D1712)=TRUE,\"\",((Rådata!D1712-Rådata!E1712)*100)/Rådata!D1712)","v":""},{"$f":"IF(ISBLANK(Rådata!G1712)=TRUE,\"\",(Rådata!F1712*100)/Rådata!G1712)","v":""},{"$f":"IF(ISBLANK(Rådata!K1712),\"\",(SUM(Rådata!M1712:P1712)*100)/SUM(Rådata!H1712:K1712))","v":""},{"$f":"IF(ISBLANK(Rådata!H1712),\"\",((SUM(Rådata!J1712:L1712)-SUM(Rådata!O1712:P1712))*100)/SUM(Rådata!H1712:L1712))","v":""},{"$f":"IF(ISBLANK(Rådata!R1712),\"\",(Rådata!Q1712*100)/Rådata!R1712)","v":""}]
[{"$f":"IF(ISBLANK(Rådata!A1713)=TRUE,\"\",Rådata!A1713)","v":""},{"$f":"IF(ISBLANK(Rådata!A1713)=TRUE,\"\",YEAR(A1713))","v":""},{"$f":"IF(ISBLANK(Rådata!A1713)=TRUE,\"\",VLOOKUP(MONTH(A1713),Opsætning!$G$3:$H$14,2,FALSE))","v":""},{"$f":"IF(ISBLANK(Rådata!B1713)=TRUE,\"\",(Rådata!C1713*100)/Rådata!B1713)","v":""},{"$f":"IF(ISBLANK(Rådata!D1713)=TRUE,\"\",((Rådata!D1713-Rådata!E1713)*100)/Rådata!D1713)","v":""},{"$f":"IF(ISBLANK(Rådata!G1713)=TRUE,\"\",(Rådata!F1713*100)/Rådata!G1713)","v":""},{"$f":"IF(ISBLANK(Rådata!K1713),\"\",(SUM(Rådata!M1713:P1713)*100)/SUM(Rådata!H1713:K1713))","v":""},{"$f":"IF(ISBLANK(Rådata!H1713),\"\",((SUM(Rådata!J1713:L1713)-SUM(Rådata!O1713:P1713))*100)/SUM(Rådata!H1713:L1713))","v":""},{"$f":"IF(ISBLANK(Rådata!R1713),\"\",(Rådata!Q1713*100)/Rådata!R1713)","v":""}]
[{"$f":"IF(ISBLANK(Rådata!A1714)=TRUE,\"\",Rådata!A1714)","v":""},{"$f":"IF(ISBLANK(Rådata!A1714)=TRUE,\"\",YEAR(A1714))","v":""},{"$f":"IF(ISBLANK(Rådata!A1714)=TRUE,\"\",VLOOKUP(MONTH(A1714),Opsætning!$G$3:$H$14,2,FALSE))","v":""},{"$f":"IF(ISBLANK(Rådata!B1714)=TRUE,\"\",(Rådata!C1714*100)/Rådata!B1714)","v":""},{"$f":"IF(ISBLANK(Rådata!D1714)=TRUE,\"\",((Rådata!D1714-Rådata!E1714)*100)/Rådata!D1714)","v":""},{"$f":"IF(ISBLANK(Rådata!G1714)=TRUE,\"\",(Rådata!F1714*100)/Rådata!G1714)","v":""},{"$f":"IF(ISBLANK(Rådata!K1714),\"\",(SUM(Rådata!M1714:P1714)*100)/SUM(Rådata!H1714:K1714))","v":""},{"$f":"IF(ISBLANK(Rådata!H1714),\"\",((SUM(Rådata!J1714:L1714)-SUM(Rådata!O1714:P1714))*100)/SUM(Rådata!H1714:L1714))","v":""},{"$f":"IF(ISBLANK(Rådata!R1714),\"\",(Rådata!Q1714*100)/Rådata!R1714)","v":""}]
[{"$f":"IF(ISBLANK(Rådata!A1715)=TRUE,\"\",Rådata!A1715)","v":""},{"$f":"IF(ISBLANK(Rådata!A1715)=TRUE,\"\",YEAR(A1715))","v":""},{"$f":"IF(ISBLANK(Rådata!A1715)=TRUE,\"\",VLOOKUP(MONTH(A1715),Opsætning!$G$3:$H$14,2,FALSE))","v":""},{"$f":"IF(ISBLANK(Rådata!B1715)=TRUE,\"\",(Rådata!C1715*100)/Rådata!B1715)","v":""},{"$f":"IF(ISBLANK(Rådata!D1715)=TRUE,\"\",((Rådata!D1715-Rådata!E1715)*100)/Rådata!D1715)","v":""},{"$f":"IF(ISBLANK(Rådata!G1715)=TRUE,\"\",(Rådata!F1715*100)/Rådata!G1715)","v":""},{"$f":"IF(ISBLANK(Rådata!K1715),\"\",(SUM(Rådata!M1715:P1715)*100)/SUM(Rådata!H1715:K1715))","v":""},{"$f":"IF(ISBLANK(Rådata!H1715),\"\",((SUM(Rådata!J1715:L1715)-SUM(Rådata!O1715:P1715))*100)/SUM(Rådata!H1715:L1715))","v":""},{"$f":"IF(ISBLANK(Rådata!R1715),\"\",(Rådata!Q1715*100)/Rådata!R1715)","v":""}]
[{"$f":"IF(ISBLANK(Rådata!A1716)=TRUE,\"\",Rådata!A1716)","v":""},{"$f":"IF(ISBLANK(Rådata!A1716)=TRUE,\"\",YEAR(A1716))","v":""},{"$f":"IF(ISBLANK(Rådata!A1716)=TRUE,\"\",VLOOKUP(MONTH(A1716),Opsætning!$G$3:$H$14,2,FALSE))","v":""},{"$f":"IF(ISBLANK(Rådata!B1716)=TRUE,\"\",(Rådata!C1716*100)/Rådata!B1716)","v":""},{"$f":"IF(ISBLANK(Rådata!D1716)=TRUE,\"\",((Rådata!D1716-Rådata!E1716)*100)/Rådata!D1716)","v":""},{"$f":"IF(ISBLANK(Rådata!G1716)=TRUE,\"\",(Rådata!F1716*100)/Rådata!G1716)","v":""},{"$f":"IF(ISBLANK(Rådata!K1716),\"\",(SUM(Rådata!M1716:P1716)*100)/SUM(Rådata!H1716:K1716))","v":""},{"$f":"IF(ISBLANK(Rådata!H1716),\"\",((SUM(Rådata!J1716:L1716)-SUM(Rådata!O1716:P1716))*100)/SUM(Rådata!H1716:L1716))","v":""},{"$f":"IF(ISBLANK(Rådata!R1716),\"\",(Rådata!Q1716*100)/Rådata!R1716)","v":""}]
[{"$f":"IF(ISBLANK(Rådata!A1717)=TRUE,\"\",Rådata!A1717)","v":""},{"$f":"IF(ISBLANK(Rådata!A1717)=TRUE,\"\",YEAR(A1717))","v":""},{"$f":"IF(ISBLANK(Rådata!A1717)=TRUE,\"\",VLOOKUP(MONTH(A1717),Opsætning!$G$3:$H$14,2,FALSE))","v":""},{"$f":"IF(ISBLANK(Rådata!B1717)=TRUE,\"\",(Rådata!C1717*100)/Rådata!B1717)","v":""},{"$f":"IF(ISBLANK(Rådata!D1717)=TRUE,\"\",((Rådata!D1717-Rådata!E1717)*100)/Rådata!D1717)","v":""},{"$f":"IF(ISBLANK(Rådata!G1717)=TRUE,\"\",(Rådata!F1717*100)/Rådata!G1717)","v":""},{"$f":"IF(ISBLANK(Rådata!K1717),\"\",(SUM(Rådata!M1717:P1717)*100)/SUM(Rådata!H1717:K1717))","v":""},{"$f":"IF(ISBLANK(Rådata!H1717),\"\",((SUM(Rådata!J1717:L1717)-SUM(Rådata!O1717:P1717))*100)/SUM(Rådata!H1717:L1717))","v":""},{"$f":"IF(ISBLANK(Rådata!R1717),\"\",(Rådata!Q1717*100)/Rådata!R1717)","v":""}]
[{"$f":"IF(ISBLANK(Rådata!A1718)=TRUE,\"\",Rådata!A1718)","v":""},{"$f":"IF(ISBLANK(Rådata!A1718)=TRUE,\"\",YEAR(A1718))","v":""},{"$f":"IF(ISBLANK(Rådata!A1718)=TRUE,\"\",VLOOKUP(MONTH(A1718),Opsætning!$G$3:$H$14,2,FALSE))","v":""},{"$f":"IF(ISBLANK(Rådata!B1718)=TRUE,\"\",(Rådata!C1718*100)/Rådata!B1718)","v":""},{"$f":"IF(ISBLANK(Rådata!D1718)=TRUE,\"\",((Rådata!D1718-Rådata!E1718)*100)/Rådata!D1718)","v":""},{"$f":"IF(ISBLANK(Rådata!G1718)=TRUE,\"\",(Rådata!F1718*100)/Rådata!G1718)","v":""},{"$f":"IF(ISBLANK(Rådata!K1718),\"\",(SUM(Rådata!M1718:P1718)*100)/SUM(Rådata!H1718:K1718))","v":""},{"$f":"IF(ISBLANK(Rådata!H1718),\"\",((SUM(Rådata!J1718:L1718)-SUM(Rådata!O1718:P1718))*100)/SUM(Rådata!H1718:L1718))","v":""},{"$f":"IF(ISBLANK(Rådata!R1718),\"\",(Rådata!Q1718*100)/Rådata!R1718)","v":""}]
[{"$f":"IF(ISBLANK(Rådata!A1719)=TRUE,\"\",Rådata!A1719)","v":""},{"$f":"IF(ISBLANK(Rådata!A1719)=TRUE,\"\",YEAR(A1719))","v":""},{"$f":"IF(ISBLANK(Rådata!A1719)=TRUE,\"\",VLOOKUP(MONTH(A1719),Opsætning!$G$3:$H$14,2,FALSE))","v":""},{"$f":"IF(ISBLANK(Rådata!B1719)=TRUE,\"\",(Rådata!C1719*100)/Rådata!B1719)","v":""},{"$f":"IF(ISBLANK(Rådata!D1719)=TRUE,\"\",((Rådata!D1719-Rådata!E1719)*100)/Rådata!D1719)","v":""},{"$f":"IF(ISBLANK(Rådata!G1719)=TRUE,\"\",(Rådata!F1719*100)/Rådata!G1719)","v":""},{"$f":"IF(ISBLANK(Rådata!K1719),\"\",(SUM(Rådata!M1719:P1719)*100)/SUM(Rådata!H1719:K1719))","v":""},{"$f":"IF(ISBLANK(Rådata!H1719),\"\",((SUM(Rådata!J1719:L1719)-SUM(Rådata!O1719:P1719))*100)/SUM(Rådata!H1719:L1719))","v":""},{"$f":"IF(ISBLANK(Rådata!R1719),\"\",(Rådata!Q1719*100)/Rådata!R1719)","v":""}]
[{"$f":"IF(ISBLANK(Rådata!A1720)=TRUE,\"\",Rådata!A1720)","v":""},{"$f":"IF(ISBLANK(Rådata!A1720)=TRUE,\"\",YEAR(A1720))","v":""},{"$f":"IF(ISBLANK(Rådata!A1720)=TRUE,\"\",VLOOKUP(MONTH(A1720),Opsætning!$G$3:$H$14,2,FALSE))","v":""},{"$f":"IF(ISBLANK(Rådata!B1720)=TRUE,\"\",(Rådata!C1720*100)/Rådata!B1720)","v":""},{"$f":"IF(ISBLANK(Rådata!D1720)=TRUE,\"\",((Rådata!D1720-Rådata!E1720)*100)/Rådata!D1720)","v":""},{"$f":"IF(ISBLANK(Rådata!G1720)=TRUE,\"\",(Rådata!F1720*100)/Rådata!G1720)","v":""},{"$f":"IF(ISBLANK(Rådata!K1720),\"\",(SUM(Rådata!M1720:P1720)*100)/SUM(Rådata!H1720:K1720))","v":""},{"$f":"IF(ISBLANK(Rådata!H1720),\"\",((SUM(Rådata!J1720:L1720)-SUM(Rådata!O1720:P1720))*100)/SUM(Rådata!H1720:L1720))","v":""},{"$f":"IF(ISBLANK(Rådata!R1720),\"\",(Rådata!Q1720*100)/Rådata!R1720)","v":""}]
[{"$f":"IF(ISBLANK(Rådata!A1721)=TRUE,\"\",Rådata!A1721)","v":""},{"$f":"IF(ISBLANK(Rådata!A1721)=TRUE,\"\",YEAR(A1721))","v":""},{"$f":"IF(ISBLANK(Rådata!A1721)=TRUE,\"\",VLOOKUP(MONTH(A1721),Opsætning!$G$3:$H$14,2,FALSE))","v":""},{"$f":"IF(ISBLANK(Rådata!B1721)=TRUE,\"\",(Rådata!C1721*100)/Rådata!B1721)","v":""},{"$f":"IF(ISBLANK(Rådata!D1721)=TRUE,\"\",((Rådata!D1721-Rådata!E1721)*100)/Rådata!D1721)","v":""},{"$f":"IF(ISBLANK(Rådata!G1721)=TRUE,\"\",(Rådata!F1721*100)/Rådata!G1721)","v":""},{"$f":"IF(ISBLANK(Rådata!K1721),\"\",(SUM(Rådata!M1721:P1721)*100)/SUM(Rådata!H1721:K1721))","v":""},{"$f":"IF(ISBLANK(Rådata!H1721),\"\",((SUM(Rådata!J1721:L1721)-SUM(Rådata!O1721:P1721))*100)/SUM(Rådata!H1721:L1721))","v":""},{"$f":"IF(ISBLANK(Rådata!R1721),\"\",(Rådata!Q1721*100)/Rådata!R1721)","v":""}]
[{"$f":"IF(ISBLANK(Rådata!A1722)=TRUE,\"\",Rådata!A1722)","v":""},{"$f":"IF(ISBLANK(Rådata!A1722)=TRUE,\"\",YEAR(A1722))","v":""},{"$f":"IF(ISBLANK(Rådata!A1722)=TRUE,\"\",VLOOKUP(MONTH(A1722),Opsætning!$G$3:$H$14,2,FALSE))","v":""},{"$f":"IF(ISBLANK(Rådata!B1722)=TRUE,\"\",(Rådata!C1722*100)/Rådata!B1722)","v":""},{"$f":"IF(ISBLANK(Rådata!D1722)=TRUE,\"\",((Rådata!D1722-Rådata!E1722)*100)/Rådata!D1722)","v":""},{"$f":"IF(ISBLANK(Rådata!G1722)=TRUE,\"\",(Rådata!F1722*100)/Rådata!G1722)","v":""},{"$f":"IF(ISBLANK(Rådata!K1722),\"\",(SUM(Rådata!M1722:P1722)*100)/SUM(Rådata!H1722:K1722))","v":""},{"$f":"IF(ISBLANK(Rådata!H1722),\"\",((SUM(Rådata!J1722:L1722)-SUM(Rådata!O1722:P1722))*100)/SUM(Rådata!H1722:L1722))","v":""},{"$f":"IF(ISBLANK(Rådata!R1722),\"\",(Rådata!Q1722*100)/Rådata!R1722)","v":""}]
[{"$f":"IF(ISBLANK(Rådata!A1723)=TRUE,\"\",Rådata!A1723)","v":""},{"$f":"IF(ISBLANK(Rådata!A1723)=TRUE,\"\",YEAR(A1723))","v":""},{"$f":"IF(ISBLANK(Rådata!A1723)=TRUE,\"\",VLOOKUP(MONTH(A1723),Opsætning!$G$3:$H$14,2,FALSE))","v":""},{"$f":"IF(ISBLANK(Rådata!B1723)=TRUE,\"\",(Rådata!C1723*100)/Rådata!B1723)","v":""},{"$f":"IF(ISBLANK(Rådata!D1723)=TRUE,\"\",((Rådata!D1723-Rådata!E1723)*100)/Rådata!D1723)","v":""},{"$f":"IF(ISBLANK(Rådata!G1723)=TRUE,\"\",(Rådata!F1723*100)/Rådata!G1723)","v":""},{"$f":"IF(ISBLANK(Rådata!K1723),\"\",(SUM(Rådata!M1723:P1723)*100)/SUM(Rådata!H1723:K1723))","v":""},{"$f":"IF(ISBLANK(Rådata!H1723),\"\",((SUM(Rådata!J1723:L1723)-SUM(Rådata!O1723:P1723))*100)/SUM(Rådata!H1723:L1723))","v":""},{"$f":"IF(ISBLANK(Rådata!R1723),\"\",(Rådata!Q1723*100)/Rådata!R1723)","v":""}]
[{"$f":"IF(ISBLANK(Rådata!A1724)=TRUE,\"\",Rådata!A1724)","v":""},{"$f":"IF(ISBLANK(Rådata!A1724)=TRUE,\"\",YEAR(A1724))","v":""},{"$f":"IF(ISBLANK(Rådata!A1724)=TRUE,\"\",VLOOKUP(MONTH(A1724),Opsætning!$G$3:$H$14,2,FALSE))","v":""},{"$f":"IF(ISBLANK(Rådata!B1724)=TRUE,\"\",(Rådata!C1724*100)/Rådata!B1724)","v":""},{"$f":"IF(ISBLANK(Rådata!D1724)=TRUE,\"\",((Rådata!D1724-Rådata!E1724)*100)/Rådata!D1724)","v":""},{"$f":"IF(ISBLANK(Rådata!G1724)=TRUE,\"\",(Rådata!F1724*100)/Rådata!G1724)","v":""},{"$f":"IF(ISBLANK(Rådata!K1724),\"\",(SUM(Rådata!M1724:P1724)*100)/SUM(Rådata!H1724:K1724))","v":""},{"$f":"IF(ISBLANK(Rådata!H1724),\"\",((SUM(Rådata!J1724:L1724)-SUM(Rådata!O1724:P1724))*100)/SUM(Rådata!H1724:L1724))","v":""},{"$f":"IF(ISBLANK(Rådata!R1724),\"\",(Rådata!Q1724*100)/Rådata!R1724)","v":""}]
[{"$f":"IF(ISBLANK(Rådata!A1725)=TRUE,\"\",Rådata!A1725)","v":""},{"$f":"IF(ISBLANK(Rådata!A1725)=TRUE,\"\",YEAR(A1725))","v":""},{"$f":"IF(ISBLANK(Rådata!A1725)=TRUE,\"\",VLOOKUP(MONTH(A1725),Opsætning!$G$3:$H$14,2,FALSE))","v":""},{"$f":"IF(ISBLANK(Rådata!B1725)=TRUE,\"\",(Rådata!C1725*100)/Rådata!B1725)","v":""},{"$f":"IF(ISBLANK(Rådata!D1725)=TRUE,\"\",((Rådata!D1725-Rådata!E1725)*100)/Rådata!D1725)","v":""},{"$f":"IF(ISBLANK(Rådata!G1725)=TRUE,\"\",(Rådata!F1725*100)/Rådata!G1725)","v":""},{"$f":"IF(ISBLANK(Rådata!K1725),\"\",(SUM(Rådata!M1725:P1725)*100)/SUM(Rådata!H1725:K1725))","v":""},{"$f":"IF(ISBLANK(Rådata!H1725),\"\",((SUM(Rådata!J1725:L1725)-SUM(Rådata!O1725:P1725))*100)/SUM(Rådata!H1725:L1725))","v":""},{"$f":"IF(ISBLANK(Rådata!R1725),\"\",(Rådata!Q1725*100)/Rådata!R1725)","v":""}]
[{"$f":"IF(ISBLANK(Rådata!A1726)=TRUE,\"\",Rådata!A1726)","v":""},{"$f":"IF(ISBLANK(Rådata!A1726)=TRUE,\"\",YEAR(A1726))","v":""},{"$f":"IF(ISBLANK(Rådata!A1726)=TRUE,\"\",VLOOKUP(MONTH(A1726),Opsætning!$G$3:$H$14,2,FALSE))","v":""},{"$f":"IF(ISBLANK(Rådata!B1726)=TRUE,\"\",(Rådata!C1726*100)/Rådata!B1726)","v":""},{"$f":"IF(ISBLANK(Rådata!D1726)=TRUE,\"\",((Rådata!D1726-Rådata!E1726)*100)/Rådata!D1726)","v":""},{"$f":"IF(ISBLANK(Rådata!G1726)=TRUE,\"\",(Rådata!F1726*100)/Rådata!G1726)","v":""},{"$f":"IF(ISBLANK(Rådata!K1726),\"\",(SUM(Rådata!M1726:P1726)*100)/SUM(Rådata!H1726:K1726))","v":""},{"$f":"IF(ISBLANK(Rådata!H1726),\"\",((SUM(Rådata!J1726:L1726)-SUM(Rådata!O1726:P1726))*100)/SUM(Rådata!H1726:L1726))","v":""},{"$f":"IF(ISBLANK(Rådata!R1726),\"\",(Rådata!Q1726*100)/Rådata!R1726)","v":""}]
[{"$f":"IF(ISBLANK(Rådata!A1727)=TRUE,\"\",Rådata!A1727)","v":""},{"$f":"IF(ISBLANK(Rådata!A1727)=TRUE,\"\",YEAR(A1727))","v":""},{"$f":"IF(ISBLANK(Rådata!A1727)=TRUE,\"\",VLOOKUP(MONTH(A1727),Opsætning!$G$3:$H$14,2,FALSE))","v":""},{"$f":"IF(ISBLANK(Rådata!B1727)=TRUE,\"\",(Rådata!C1727*100)/Rådata!B1727)","v":""},{"$f":"IF(ISBLANK(Rådata!D1727)=TRUE,\"\",((Rådata!D1727-Rådata!E1727)*100)/Rådata!D1727)","v":""},{"$f":"IF(ISBLANK(Rådata!G1727)=TRUE,\"\",(Rådata!F1727*100)/Rådata!G1727)","v":""},{"$f":"IF(ISBLANK(Rådata!K1727),\"\",(SUM(Rådata!M1727:P1727)*100)/SUM(Rådata!H1727:K1727))","v":""},{"$f":"IF(ISBLANK(Rådata!H1727),\"\",((SUM(Rådata!J1727:L1727)-SUM(Rådata!O1727:P1727))*100)/SUM(Rådata!H1727:L1727))","v":""},{"$f":"IF(ISBLANK(Rådata!R1727),\"\",(Rådata!Q1727*100)/Rådata!R1727)","v":""}]
[{"$f":"IF(ISBLANK(Rådata!A1728)=TRUE,\"\",Rådata!A1728)","v":""},{"$f":"IF(ISBLANK(Rådata!A1728)=TRUE,\"\",YEAR(A1728))","v":""},{"$f":"IF(ISBLANK(Rådata!A1728)=TRUE,\"\",VLOOKUP(MONTH(A1728),Opsætning!$G$3:$H$14,2,FALSE))","v":""},{"$f":"IF(ISBLANK(Rådata!B1728)=TRUE,\"\",(Rådata!C1728*100)/Rådata!B1728)","v":""},{"$f":"IF(ISBLANK(Rådata!D1728)=TRUE,\"\",((Rådata!D1728-Rådata!E1728)*100)/Rådata!D1728)","v":""},{"$f":"IF(ISBLANK(Rådata!G1728)=TRUE,\"\",(Rådata!F1728*100)/Rådata!G1728)","v":""},{"$f":"IF(ISBLANK(Rådata!K1728),\"\",(SUM(Rådata!M1728:P1728)*100)/SUM(Rådata!H1728:K1728))","v":""},{"$f":"IF(ISBLANK(Rådata!H1728),\"\",((SUM(Rådata!J1728:L1728)-SUM(Rådata!O1728:P1728))*100)/SUM(Rådata!H1728:L1728))","v":""},{"$f":"IF(ISBLANK(Rådata!R1728),\"\",(Rådata!Q1728*100)/Rådata!R1728)","v":""}]
[{"$f":"IF(ISBLANK(Rådata!A1729)=TRUE,\"\",Rådata!A1729)","v":""},{"$f":"IF(ISBLANK(Rådata!A1729)=TRUE,\"\",YEAR(A1729))","v":""},{"$f":"IF(ISBLANK(Rådata!A1729)=TRUE,\"\",VLOOKUP(MONTH(A1729),Opsætning!$G$3:$H$14,2,FALSE))","v":""},{"$f":"IF(ISBLANK(Rådata!B1729)=TRUE,\"\",(Rådata!C1729*100)/Rådata!B1729)","v":""},{"$f":"IF(ISBLANK(Rådata!D1729)=TRUE,\"\",((Rådata!D1729-Rådata!E1729)*100)/Rådata!D1729)","v":""},{"$f":"IF(ISBLANK(Rådata!G1729)=TRUE,\"\",(Rådata!F1729*100)/Rådata!G1729)","v":""},{"$f":"IF(ISBLANK(Rådata!K1729),\"\",(SUM(Rådata!M1729:P1729)*100)/SUM(Rådata!H1729:K1729))","v":""},{"$f":"IF(ISBLANK(Rådata!H1729),\"\",((SUM(Rådata!J1729:L1729)-SUM(Rådata!O1729:P1729))*100)/SUM(Rådata!H1729:L1729))","v":""},{"$f":"IF(ISBLANK(Rådata!R1729),\"\",(Rådata!Q1729*100)/Rådata!R1729)","v":""}]
[{"$f":"IF(ISBLANK(Rådata!A1730)=TRUE,\"\",Rådata!A1730)","v":""},{"$f":"IF(ISBLANK(Rådata!A1730)=TRUE,\"\",YEAR(A1730))","v":""},{"$f":"IF(ISBLANK(Rådata!A1730)=TRUE,\"\",VLOOKUP(MONTH(A1730),Opsætning!$G$3:$H$14,2,FALSE))","v":""},{"$f":"IF(ISBLANK(Rådata!B1730)=TRUE,\"\",(Rådata!C1730*100)/Rådata!B1730)","v":""},{"$f":"IF(ISBLANK(Rådata!D1730)=TRUE,\"\",((Rådata!D1730-Rådata!E1730)*100)/Rådata!D1730)","v":""},{"$f":"IF(ISBLANK(Rådata!G1730)=TRUE,\"\",(Rådata!F1730*100)/Rådata!G1730)","v":""},{"$f":"IF(ISBLANK(Rådata!K1730),\"\",(SUM(Rådata!M1730:P1730)*100)/SUM(Rådata!H1730:K1730))","v":""},{"$f":"IF(ISBLANK(Rådata!H1730),\"\",((SUM(Rådata!J1730:L1730)-SUM(Rådata!O1730:P1730))*100)/SUM(Rådata!H1730:L1730))","v":""},{"$f":"IF(ISBLANK(Rådata!R1730),\"\",(Rådata!Q1730*100)/Rådata!R1730)","v":""}]
[{"$f":"IF(ISBLANK(Rådata!A1731)=TRUE,\"\",Rådata!A1731)","v":""},{"$f":"IF(ISBLANK(Rådata!A1731)=TRUE,\"\",YEAR(A1731))","v":""},{"$f":"IF(ISBLANK(Rådata!A1731)=TRUE,\"\",VLOOKUP(MONTH(A1731),Opsætning!$G$3:$H$14,2,FALSE))","v":""},{"$f":"IF(ISBLANK(Rådata!B1731)=TRUE,\"\",(Rådata!C1731*100)/Rådata!B1731)","v":""},{"$f":"IF(ISBLANK(Rådata!D1731)=TRUE,\"\",((Rådata!D1731-Rådata!E1731)*100)/Rådata!D1731)","v":""},{"$f":"IF(ISBLANK(Rådata!G1731)=TRUE,\"\",(Rådata!F1731*100)/Rådata!G1731)","v":""},{"$f":"IF(ISBLANK(Rådata!K1731),\"\",(SUM(Rådata!M1731:P1731)*100)/SUM(Rådata!H1731:K1731))","v":""},{"$f":"IF(ISBLANK(Rådata!H1731),\"\",((SUM(Rådata!J1731:L1731)-SUM(Rådata!O1731:P1731))*100)/SUM(Rådata!H1731:L1731))","v":""},{"$f":"IF(ISBLANK(Rådata!R1731),\"\",(Rådata!Q1731*100)/Rådata!R1731)","v":""}]
[{"$f":"IF(ISBLANK(Rådata!A1732)=TRUE,\"\",Rådata!A1732)","v":""},{"$f":"IF(ISBLANK(Rådata!A1732)=TRUE,\"\",YEAR(A1732))","v":""},{"$f":"IF(ISBLANK(Rådata!A1732)=TRUE,\"\",VLOOKUP(MONTH(A1732),Opsætning!$G$3:$H$14,2,FALSE))","v":""},{"$f":"IF(ISBLANK(Rådata!B1732)=TRUE,\"\",(Rådata!C1732*100)/Rådata!B1732)","v":""},{"$f":"IF(ISBLANK(Rådata!D1732)=TRUE,\"\",((Rådata!D1732-Rådata!E1732)*100)/Rådata!D1732)","v":""},{"$f":"IF(ISBLANK(Rådata!G1732)=TRUE,\"\",(Rådata!F1732*100)/Rådata!G1732)","v":""},{"$f":"IF(ISBLANK(Rådata!K1732),\"\",(SUM(Rådata!M1732:P1732)*100)/SUM(Rådata!H1732:K1732))","v":""},{"$f":"IF(ISBLANK(Rådata!H1732),\"\",((SUM(Rådata!J1732:L1732)-SUM(Rådata!O1732:P1732))*100)/SUM(Rådata!H1732:L1732))","v":""},{"$f":"IF(ISBLANK(Rådata!R1732),\"\",(Rådata!Q1732*100)/Rådata!R1732)","v":""}]
[{"$f":"IF(ISBLANK(Rådata!A1733)=TRUE,\"\",Rådata!A1733)","v":""},{"$f":"IF(ISBLANK(Rådata!A1733)=TRUE,\"\",YEAR(A1733))","v":""},{"$f":"IF(ISBLANK(Rådata!A1733)=TRUE,\"\",VLOOKUP(MONTH(A1733),Opsætning!$G$3:$H$14,2,FALSE))","v":""},{"$f":"IF(ISBLANK(Rådata!B1733)=TRUE,\"\",(Rådata!C1733*100)/Rådata!B1733)","v":""},{"$f":"IF(ISBLANK(Rådata!D1733)=TRUE,\"\",((Rådata!D1733-Rådata!E1733)*100)/Rådata!D1733)","v":""},{"$f":"IF(ISBLANK(Rådata!G1733)=TRUE,\"\",(Rådata!F1733*100)/Rådata!G1733)","v":""},{"$f":"IF(ISBLANK(Rådata!K1733),\"\",(SUM(Rådata!M1733:P1733)*100)/SUM(Rådata!H1733:K1733))","v":""},{"$f":"IF(ISBLANK(Rådata!H1733),\"\",((SUM(Rådata!J1733:L1733)-SUM(Rådata!O1733:P1733))*100)/SUM(Rådata!H1733:L1733))","v":""},{"$f":"IF(ISBLANK(Rådata!R1733),\"\",(Rådata!Q1733*100)/Rådata!R1733)","v":""}]
[{"$f":"IF(ISBLANK(Rådata!A1734)=TRUE,\"\",Rådata!A1734)","v":""},{"$f":"IF(ISBLANK(Rådata!A1734)=TRUE,\"\",YEAR(A1734))","v":""},{"$f":"IF(ISBLANK(Rådata!A1734)=TRUE,\"\",VLOOKUP(MONTH(A1734),Opsætning!$G$3:$H$14,2,FALSE))","v":""},{"$f":"IF(ISBLANK(Rådata!B1734)=TRUE,\"\",(Rådata!C1734*100)/Rådata!B1734)","v":""},{"$f":"IF(ISBLANK(Rådata!D1734)=TRUE,\"\",((Rådata!D1734-Rådata!E1734)*100)/Rådata!D1734)","v":""},{"$f":"IF(ISBLANK(Rådata!G1734)=TRUE,\"\",(Rådata!F1734*100)/Rådata!G1734)","v":""},{"$f":"IF(ISBLANK(Rådata!K1734),\"\",(SUM(Rådata!M1734:P1734)*100)/SUM(Rådata!H1734:K1734))","v":""},{"$f":"IF(ISBLANK(Rådata!H1734),\"\",((SUM(Rådata!J1734:L1734)-SUM(Rådata!O1734:P1734))*100)/SUM(Rådata!H1734:L1734))","v":""},{"$f":"IF(ISBLANK(Rådata!R1734),\"\",(Rådata!Q1734*100)/Rådata!R1734)","v":""}]
[{"$f":"IF(ISBLANK(Rådata!A1735)=TRUE,\"\",Rådata!A1735)","v":""},{"$f":"IF(ISBLANK(Rådata!A1735)=TRUE,\"\",YEAR(A1735))","v":""},{"$f":"IF(ISBLANK(Rådata!A1735)=TRUE,\"\",VLOOKUP(MONTH(A1735),Opsætning!$G$3:$H$14,2,FALSE))","v":""},{"$f":"IF(ISBLANK(Rådata!B1735)=TRUE,\"\",(Rådata!C1735*100)/Rådata!B1735)","v":""},{"$f":"IF(ISBLANK(Rådata!D1735)=TRUE,\"\",((Rådata!D1735-Rådata!E1735)*100)/Rådata!D1735)","v":""},{"$f":"IF(ISBLANK(Rådata!G1735)=TRUE,\"\",(Rådata!F1735*100)/Rådata!G1735)","v":""},{"$f":"IF(ISBLANK(Rådata!K1735),\"\",(SUM(Rådata!M1735:P1735)*100)/SUM(Rådata!H1735:K1735))","v":""},{"$f":"IF(ISBLANK(Rådata!H1735),\"\",((SUM(Rådata!J1735:L1735)-SUM(Rådata!O1735:P1735))*100)/SUM(Rådata!H1735:L1735))","v":""},{"$f":"IF(ISBLANK(Rådata!R1735),\"\",(Rådata!Q1735*100)/Rådata!R1735)","v":""}]
[{"$f":"IF(ISBLANK(Rådata!A1736)=TRUE,\"\",Rådata!A1736)","v":""},{"$f":"IF(ISBLANK(Rådata!A1736)=TRUE,\"\",YEAR(A1736))","v":""},{"$f":"IF(ISBLANK(Rådata!A1736)=TRUE,\"\",VLOOKUP(MONTH(A1736),Opsætning!$G$3:$H$14,2,FALSE))","v":""},{"$f":"IF(ISBLANK(Rådata!B1736)=TRUE,\"\",(Rådata!C1736*100)/Rådata!B1736)","v":""},{"$f":"IF(ISBLANK(Rådata!D1736)=TRUE,\"\",((Rådata!D1736-Rådata!E1736)*100)/Rådata!D1736)","v":""},{"$f":"IF(ISBLANK(Rådata!G1736)=TRUE,\"\",(Rådata!F1736*100)/Rådata!G1736)","v":""},{"$f":"IF(ISBLANK(Rådata!K1736),\"\",(SUM(Rådata!M1736:P1736)*100)/SUM(Rådata!H1736:K1736))","v":""},{"$f":"IF(ISBLANK(Rådata!H1736),\"\",((SUM(Rådata!J1736:L1736)-SUM(Rådata!O1736:P1736))*100)/SUM(Rådata!H1736:L1736))","v":""},{"$f":"IF(ISBLANK(Rådata!R1736),\"\",(Rådata!Q1736*100)/Rådata!R1736)","v":""}]
[{"$f":"IF(ISBLANK(Rådata!A1737)=TRUE,\"\",Rådata!A1737)","v":""},{"$f":"IF(ISBLANK(Rådata!A1737)=TRUE,\"\",YEAR(A1737))","v":""},{"$f":"IF(ISBLANK(Rådata!A1737)=TRUE,\"\",VLOOKUP(MONTH(A1737),Opsætning!$G$3:$H$14,2,FALSE))","v":""},{"$f":"IF(ISBLANK(Rådata!B1737)=TRUE,\"\",(Rådata!C1737*100)/Rådata!B1737)","v":""},{"$f":"IF(ISBLANK(Rådata!D1737)=TRUE,\"\",((Rådata!D1737-Rådata!E1737)*100)/Rådata!D1737)","v":""},{"$f":"IF(ISBLANK(Rådata!G1737)=TRUE,\"\",(Rådata!F1737*100)/Rådata!G1737)","v":""},{"$f":"IF(ISBLANK(Rådata!K1737),\"\",(SUM(Rådata!M1737:P1737)*100)/SUM(Rådata!H1737:K1737))","v":""},{"$f":"IF(ISBLANK(Rådata!H1737),\"\",((SUM(Rådata!J1737:L1737)-SUM(Rådata!O1737:P1737))*100)/SUM(Rådata!H1737:L1737))","v":""},{"$f":"IF(ISBLANK(Rådata!R1737),\"\",(Rådata!Q1737*100)/Rådata!R1737)","v":""}]
[{"$f":"IF(ISBLANK(Rådata!A1738)=TRUE,\"\",Rådata!A1738)","v":""},{"$f":"IF(ISBLANK(Rådata!A1738)=TRUE,\"\",YEAR(A1738))","v":""},{"$f":"IF(ISBLANK(Rådata!A1738)=TRUE,\"\",VLOOKUP(MONTH(A1738),Opsætning!$G$3:$H$14,2,FALSE))","v":""},{"$f":"IF(ISBLANK(Rådata!B1738)=TRUE,\"\",(Rådata!C1738*100)/Rådata!B1738)","v":""},{"$f":"IF(ISBLANK(Rådata!D1738)=TRUE,\"\",((Rådata!D1738-Rådata!E1738)*100)/Rådata!D1738)","v":""},{"$f":"IF(ISBLANK(Rådata!G1738)=TRUE,\"\",(Rådata!F1738*100)/Rådata!G1738)","v":""},{"$f":"IF(ISBLANK(Rådata!K1738),\"\",(SUM(Rådata!M1738:P1738)*100)/SUM(Rådata!H1738:K1738))","v":""},{"$f":"IF(ISBLANK(Rådata!H1738),\"\",((SUM(Rådata!J1738:L1738)-SUM(Rådata!O1738:P1738))*100)/SUM(Rådata!H1738:L1738))","v":""},{"$f":"IF(ISBLANK(Rådata!R1738),\"\",(Rådata!Q1738*100)/Rådata!R1738)","v":""}]
[{"$f":"IF(ISBLANK(Rådata!A1739)=TRUE,\"\",Rådata!A1739)","v":""},{"$f":"IF(ISBLANK(Rådata!A1739)=TRUE,\"\",YEAR(A1739))","v":""},{"$f":"IF(ISBLANK(Rådata!A1739)=TRUE,\"\",VLOOKUP(MONTH(A1739),Opsætning!$G$3:$H$14,2,FALSE))","v":""},{"$f":"IF(ISBLANK(Rådata!B1739)=TRUE,\"\",(Rådata!C1739*100)/Rådata!B1739)","v":""},{"$f":"IF(ISBLANK(Rådata!D1739)=TRUE,\"\",((Rådata!D1739-Rådata!E1739)*100)/Rådata!D1739)","v":""},{"$f":"IF(ISBLANK(Rådata!G1739)=TRUE,\"\",(Rådata!F1739*100)/Rådata!G1739)","v":""},{"$f":"IF(ISBLANK(Rådata!K1739),\"\",(SUM(Rådata!M1739:P1739)*100)/SUM(Rådata!H1739:K1739))","v":""},{"$f":"IF(ISBLANK(Rådata!H1739),\"\",((SUM(Rådata!J1739:L1739)-SUM(Rådata!O1739:P1739))*100)/SUM(Rådata!H1739:L1739))","v":""},{"$f":"IF(ISBLANK(Rådata!R1739),\"\",(Rådata!Q1739*100)/Rådata!R1739)","v":""}]
[{"$f":"IF(ISBLANK(Rådata!A1740)=TRUE,\"\",Rådata!A1740)","v":""},{"$f":"IF(ISBLANK(Rådata!A1740)=TRUE,\"\",YEAR(A1740))","v":""},{"$f":"IF(ISBLANK(Rådata!A1740)=TRUE,\"\",VLOOKUP(MONTH(A1740),Opsætning!$G$3:$H$14,2,FALSE))","v":""},{"$f":"IF(ISBLANK(Rådata!B1740)=TRUE,\"\",(Rådata!C1740*100)/Rådata!B1740)","v":""},{"$f":"IF(ISBLANK(Rådata!D1740)=TRUE,\"\",((Rådata!D1740-Rådata!E1740)*100)/Rådata!D1740)","v":""},{"$f":"IF(ISBLANK(Rådata!G1740)=TRUE,\"\",(Rådata!F1740*100)/Rådata!G1740)","v":""},{"$f":"IF(ISBLANK(Rådata!K1740),\"\",(SUM(Rådata!M1740:P1740)*100)/SUM(Rådata!H1740:K1740))","v":""},{"$f":"IF(ISBLANK(Rådata!H1740),\"\",((SUM(Rådata!J1740:L1740)-SUM(Rådata!O1740:P1740))*100)/SUM(Rådata!H1740:L1740))","v":""},{"$f":"IF(ISBLANK(Rådata!R1740),\"\",(Rådata!Q1740*100)/Rådata!R1740)","v":""}]
[{"$f":"IF(ISBLANK(Rådata!A1741)=TRUE,\"\",Rådata!A1741)","v":""},{"$f":"IF(ISBLANK(Rådata!A1741)=TRUE,\"\",YEAR(A1741))","v":""},{"$f":"IF(ISBLANK(Rådata!A1741)=TRUE,\"\",VLOOKUP(MONTH(A1741),Opsætning!$G$3:$H$14,2,FALSE))","v":""},{"$f":"IF(ISBLANK(Rådata!B1741)=TRUE,\"\",(Rådata!C1741*100)/Rådata!B1741)","v":""},{"$f":"IF(ISBLANK(Rådata!D1741)=TRUE,\"\",((Rådata!D1741-Rådata!E1741)*100)/Rådata!D1741)","v":""},{"$f":"IF(ISBLANK(Rådata!G1741)=TRUE,\"\",(Rådata!F1741*100)/Rådata!G1741)","v":""},{"$f":"IF(ISBLANK(Rådata!K1741),\"\",(SUM(Rådata!M1741:P1741)*100)/SUM(Rådata!H1741:K1741))","v":""},{"$f":"IF(ISBLANK(Rådata!H1741),\"\",((SUM(Rådata!J1741:L1741)-SUM(Rådata!O1741:P1741))*100)/SUM(Rådata!H1741:L1741))","v":""},{"$f":"IF(ISBLANK(Rådata!R1741),\"\",(Rådata!Q1741*100)/Rådata!R1741)","v":""}]
[{"$f":"IF(ISBLANK(Rådata!A1742)=TRUE,\"\",Rådata!A1742)","v":""},{"$f":"IF(ISBLANK(Rådata!A1742)=TRUE,\"\",YEAR(A1742))","v":""},{"$f":"IF(ISBLANK(Rådata!A1742)=TRUE,\"\",VLOOKUP(MONTH(A1742),Opsætning!$G$3:$H$14,2,FALSE))","v":""},{"$f":"IF(ISBLANK(Rådata!B1742)=TRUE,\"\",(Rådata!C1742*100)/Rådata!B1742)","v":""},{"$f":"IF(ISBLANK(Rådata!D1742)=TRUE,\"\",((Rådata!D1742-Rådata!E1742)*100)/Rådata!D1742)","v":""},{"$f":"IF(ISBLANK(Rådata!G1742)=TRUE,\"\",(Rådata!F1742*100)/Rådata!G1742)","v":""},{"$f":"IF(ISBLANK(Rådata!K1742),\"\",(SUM(Rådata!M1742:P1742)*100)/SUM(Rådata!H1742:K1742))","v":""},{"$f":"IF(ISBLANK(Rådata!H1742),\"\",((SUM(Rådata!J1742:L1742)-SUM(Rådata!O1742:P1742))*100)/SUM(Rådata!H1742:L1742))","v":""},{"$f":"IF(ISBLANK(Rådata!R1742),\"\",(Rådata!Q1742*100)/Rådata!R1742)","v":""}]
[{"$f":"IF(ISBLANK(Rådata!A1743)=TRUE,\"\",Rådata!A1743)","v":""},{"$f":"IF(ISBLANK(Rådata!A1743)=TRUE,\"\",YEAR(A1743))","v":""},{"$f":"IF(ISBLANK(Rådata!A1743)=TRUE,\"\",VLOOKUP(MONTH(A1743),Opsætning!$G$3:$H$14,2,FALSE))","v":""},{"$f":"IF(ISBLANK(Rådata!B1743)=TRUE,\"\",(Rådata!C1743*100)/Rådata!B1743)","v":""},{"$f":"IF(ISBLANK(Rådata!D1743)=TRUE,\"\",((Rådata!D1743-Rådata!E1743)*100)/Rådata!D1743)","v":""},{"$f":"IF(ISBLANK(Rådata!G1743)=TRUE,\"\",(Rådata!F1743*100)/Rådata!G1743)","v":""},{"$f":"IF(ISBLANK(Rådata!K1743),\"\",(SUM(Rådata!M1743:P1743)*100)/SUM(Rådata!H1743:K1743))","v":""},{"$f":"IF(ISBLANK(Rådata!H1743),\"\",((SUM(Rådata!J1743:L1743)-SUM(Rådata!O1743:P1743))*100)/SUM(Rådata!H1743:L1743))","v":""},{"$f":"IF(ISBLANK(Rådata!R1743),\"\",(Rådata!Q1743*100)/Rådata!R1743)","v":""}]
[{"$f":"IF(ISBLANK(Rådata!A1744)=TRUE,\"\",Rådata!A1744)","v":""},{"$f":"IF(ISBLANK(Rådata!A1744)=TRUE,\"\",YEAR(A1744))","v":""},{"$f":"IF(ISBLANK(Rådata!A1744)=TRUE,\"\",VLOOKUP(MONTH(A1744),Opsætning!$G$3:$H$14,2,FALSE))","v":""},{"$f":"IF(ISBLANK(Rådata!B1744)=TRUE,\"\",(Rådata!C1744*100)/Rådata!B1744)","v":""},{"$f":"IF(ISBLANK(Rådata!D1744)=TRUE,\"\",((Rådata!D1744-Rådata!E1744)*100)/Rådata!D1744)","v":""},{"$f":"IF(ISBLANK(Rådata!G1744)=TRUE,\"\",(Rådata!F1744*100)/Rådata!G1744)","v":""},{"$f":"IF(ISBLANK(Rådata!K1744),\"\",(SUM(Rådata!M1744:P1744)*100)/SUM(Rådata!H1744:K1744))","v":""},{"$f":"IF(ISBLANK(Rådata!H1744),\"\",((SUM(Rådata!J1744:L1744)-SUM(Rådata!O1744:P1744))*100)/SUM(Rådata!H1744:L1744))","v":""},{"$f":"IF(ISBLANK(Rådata!R1744),\"\",(Rådata!Q1744*100)/Rådata!R1744)","v":""}]
[{"$f":"IF(ISBLANK(Rådata!A1745)=TRUE,\"\",Rådata!A1745)","v":""},{"$f":"IF(ISBLANK(Rådata!A1745)=TRUE,\"\",YEAR(A1745))","v":""},{"$f":"IF(ISBLANK(Rådata!A1745)=TRUE,\"\",VLOOKUP(MONTH(A1745),Opsætning!$G$3:$H$14,2,FALSE))","v":""},{"$f":"IF(ISBLANK(Rådata!B1745)=TRUE,\"\",(Rådata!C1745*100)/Rådata!B1745)","v":""},{"$f":"IF(ISBLANK(Rådata!D1745)=TRUE,\"\",((Rådata!D1745-Rådata!E1745)*100)/Rådata!D1745)","v":""},{"$f":"IF(ISBLANK(Rådata!G1745)=TRUE,\"\",(Rådata!F1745*100)/Rådata!G1745)","v":""},{"$f":"IF(ISBLANK(Rådata!K1745),\"\",(SUM(Rådata!M1745:P1745)*100)/SUM(Rådata!H1745:K1745))","v":""},{"$f":"IF(ISBLANK(Rådata!H1745),\"\",((SUM(Rådata!J1745:L1745)-SUM(Rådata!O1745:P1745))*100)/SUM(Rådata!H1745:L1745))","v":""},{"$f":"IF(ISBLANK(Rådata!R1745),\"\",(Rådata!Q1745*100)/Rådata!R1745)","v":""}]
[{"$f":"IF(ISBLANK(Rådata!A1746)=TRUE,\"\",Rådata!A1746)","v":""},{"$f":"IF(ISBLANK(Rådata!A1746)=TRUE,\"\",YEAR(A1746))","v":""},{"$f":"IF(ISBLANK(Rådata!A1746)=TRUE,\"\",VLOOKUP(MONTH(A1746),Opsætning!$G$3:$H$14,2,FALSE))","v":""},{"$f":"IF(ISBLANK(Rådata!B1746)=TRUE,\"\",(Rådata!C1746*100)/Rådata!B1746)","v":""},{"$f":"IF(ISBLANK(Rådata!D1746)=TRUE,\"\",((Rådata!D1746-Rådata!E1746)*100)/Rådata!D1746)","v":""},{"$f":"IF(ISBLANK(Rådata!G1746)=TRUE,\"\",(Rådata!F1746*100)/Rådata!G1746)","v":""},{"$f":"IF(ISBLANK(Rådata!K1746),\"\",(SUM(Rådata!M1746:P1746)*100)/SUM(Rådata!H1746:K1746))","v":""},{"$f":"IF(ISBLANK(Rådata!H1746),\"\",((SUM(Rådata!J1746:L1746)-SUM(Rådata!O1746:P1746))*100)/SUM(Rådata!H1746:L1746))","v":""},{"$f":"IF(ISBLANK(Rådata!R1746),\"\",(Rådata!Q1746*100)/Rådata!R1746)","v":""}]
[{"$f":"IF(ISBLANK(Rådata!A1747)=TRUE,\"\",Rådata!A1747)","v":""},{"$f":"IF(ISBLANK(Rådata!A1747)=TRUE,\"\",YEAR(A1747))","v":""},{"$f":"IF(ISBLANK(Rådata!A1747)=TRUE,\"\",VLOOKUP(MONTH(A1747),Opsætning!$G$3:$H$14,2,FALSE))","v":""},{"$f":"IF(ISBLANK(Rådata!B1747)=TRUE,\"\",(Rådata!C1747*100)/Rådata!B1747)","v":""},{"$f":"IF(ISBLANK(Rådata!D1747)=TRUE,\"\",((Rådata!D1747-Rådata!E1747)*100)/Rådata!D1747)","v":""},{"$f":"IF(ISBLANK(Rådata!G1747)=TRUE,\"\",(Rådata!F1747*100)/Rådata!G1747)","v":""},{"$f":"IF(ISBLANK(Rådata!K1747),\"\",(SUM(Rådata!M1747:P1747)*100)/SUM(Rådata!H1747:K1747))","v":""},{"$f":"IF(ISBLANK(Rådata!H1747),\"\",((SUM(Rådata!J1747:L1747)-SUM(Rådata!O1747:P1747))*100)/SUM(Rådata!H1747:L1747))","v":""},{"$f":"IF(ISBLANK(Rådata!R1747),\"\",(Rådata!Q1747*100)/Rådata!R1747)","v":""}]
[{"$f":"IF(ISBLANK(Rådata!A1748)=TRUE,\"\",Rådata!A1748)","v":""},{"$f":"IF(ISBLANK(Rådata!A1748)=TRUE,\"\",YEAR(A1748))","v":""},{"$f":"IF(ISBLANK(Rådata!A1748)=TRUE,\"\",VLOOKUP(MONTH(A1748),Opsætning!$G$3:$H$14,2,FALSE))","v":""},{"$f":"IF(ISBLANK(Rådata!B1748)=TRUE,\"\",(Rådata!C1748*100)/Rådata!B1748)","v":""},{"$f":"IF(ISBLANK(Rådata!D1748)=TRUE,\"\",((Rådata!D1748-Rådata!E1748)*100)/Rådata!D1748)","v":""},{"$f":"IF(ISBLANK(Rådata!G1748)=TRUE,\"\",(Rådata!F1748*100)/Rådata!G1748)","v":""},{"$f":"IF(ISBLANK(Rådata!K1748),\"\",(SUM(Rådata!M1748:P1748)*100)/SUM(Rådata!H1748:K1748))","v":""},{"$f":"IF(ISBLANK(Rådata!H1748),\"\",((SUM(Rådata!J1748:L1748)-SUM(Rådata!O1748:P1748))*100)/SUM(Rådata!H1748:L1748))","v":""},{"$f":"IF(ISBLANK(Rådata!R1748),\"\",(Rådata!Q1748*100)/Rådata!R1748)","v":""}]
[{"$f":"IF(ISBLANK(Rådata!A1749)=TRUE,\"\",Rådata!A1749)","v":""},{"$f":"IF(ISBLANK(Rådata!A1749)=TRUE,\"\",YEAR(A1749))","v":""},{"$f":"IF(ISBLANK(Rådata!A1749)=TRUE,\"\",VLOOKUP(MONTH(A1749),Opsætning!$G$3:$H$14,2,FALSE))","v":""},{"$f":"IF(ISBLANK(Rådata!B1749)=TRUE,\"\",(Rådata!C1749*100)/Rådata!B1749)","v":""},{"$f":"IF(ISBLANK(Rådata!D1749)=TRUE,\"\",((Rådata!D1749-Rådata!E1749)*100)/Rådata!D1749)","v":""},{"$f":"IF(ISBLANK(Rådata!G1749)=TRUE,\"\",(Rådata!F1749*100)/Rådata!G1749)","v":""},{"$f":"IF(ISBLANK(Rådata!K1749),\"\",(SUM(Rådata!M1749:P1749)*100)/SUM(Rådata!H1749:K1749))","v":""},{"$f":"IF(ISBLANK(Rådata!H1749),\"\",((SUM(Rådata!J1749:L1749)-SUM(Rådata!O1749:P1749))*100)/SUM(Rådata!H1749:L1749))","v":""},{"$f":"IF(ISBLANK(Rådata!R1749),\"\",(Rådata!Q1749*100)/Rådata!R1749)","v":""}]
[{"$f":"IF(ISBLANK(Rådata!A1750)=TRUE,\"\",Rådata!A1750)","v":""},{"$f":"IF(ISBLANK(Rådata!A1750)=TRUE,\"\",YEAR(A1750))","v":""},{"$f":"IF(ISBLANK(Rådata!A1750)=TRUE,\"\",VLOOKUP(MONTH(A1750),Opsætning!$G$3:$H$14,2,FALSE))","v":""},{"$f":"IF(ISBLANK(Rådata!B1750)=TRUE,\"\",(Rådata!C1750*100)/Rådata!B1750)","v":""},{"$f":"IF(ISBLANK(Rådata!D1750)=TRUE,\"\",((Rådata!D1750-Rådata!E1750)*100)/Rådata!D1750)","v":""},{"$f":"IF(ISBLANK(Rådata!G1750)=TRUE,\"\",(Rådata!F1750*100)/Rådata!G1750)","v":""},{"$f":"IF(ISBLANK(Rådata!K1750),\"\",(SUM(Rådata!M1750:P1750)*100)/SUM(Rådata!H1750:K1750))","v":""},{"$f":"IF(ISBLANK(Rådata!H1750),\"\",((SUM(Rådata!J1750:L1750)-SUM(Rådata!O1750:P1750))*100)/SUM(Rådata!H1750:L1750))","v":""},{"$f":"IF(ISBLANK(Rådata!R1750),\"\",(Rådata!Q1750*100)/Rådata!R1750)","v":""}]
[{"$f":"IF(ISBLANK(Rådata!A1751)=TRUE,\"\",Rådata!A1751)","v":""},{"$f":"IF(ISBLANK(Rådata!A1751)=TRUE,\"\",YEAR(A1751))","v":""},{"$f":"IF(ISBLANK(Rådata!A1751)=TRUE,\"\",VLOOKUP(MONTH(A1751),Opsætning!$G$3:$H$14,2,FALSE))","v":""},{"$f":"IF(ISBLANK(Rådata!B1751)=TRUE,\"\",(Rådata!C1751*100)/Rådata!B1751)","v":""},{"$f":"IF(ISBLANK(Rådata!D1751)=TRUE,\"\",((Rådata!D1751-Rådata!E1751)*100)/Rådata!D1751)","v":""},{"$f":"IF(ISBLANK(Rådata!G1751)=TRUE,\"\",(Rådata!F1751*100)/Rådata!G1751)","v":""},{"$f":"IF(ISBLANK(Rådata!K1751),\"\",(SUM(Rådata!M1751:P1751)*100)/SUM(Rådata!H1751:K1751))","v":""},{"$f":"IF(ISBLANK(Rådata!H1751),\"\",((SUM(Rådata!J1751:L1751)-SUM(Rådata!O1751:P1751))*100)/SUM(Rådata!H1751:L1751))","v":""},{"$f":"IF(ISBLANK(Rådata!R1751),\"\",(Rådata!Q1751*100)/Rådata!R1751)","v":""}]
[{"$f":"IF(ISBLANK(Rådata!A1752)=TRUE,\"\",Rådata!A1752)","v":""},{"$f":"IF(ISBLANK(Rådata!A1752)=TRUE,\"\",YEAR(A1752))","v":""},{"$f":"IF(ISBLANK(Rådata!A1752)=TRUE,\"\",VLOOKUP(MONTH(A1752),Opsætning!$G$3:$H$14,2,FALSE))","v":""},{"$f":"IF(ISBLANK(Rådata!B1752)=TRUE,\"\",(Rådata!C1752*100)/Rådata!B1752)","v":""},{"$f":"IF(ISBLANK(Rådata!D1752)=TRUE,\"\",((Rådata!D1752-Rådata!E1752)*100)/Rådata!D1752)","v":""},{"$f":"IF(ISBLANK(Rådata!G1752)=TRUE,\"\",(Rådata!F1752*100)/Rådata!G1752)","v":""},{"$f":"IF(ISBLANK(Rådata!K1752),\"\",(SUM(Rådata!M1752:P1752)*100)/SUM(Rådata!H1752:K1752))","v":""},{"$f":"IF(ISBLANK(Rådata!H1752),\"\",((SUM(Rådata!J1752:L1752)-SUM(Rådata!O1752:P1752))*100)/SUM(Rådata!H1752:L1752))","v":""},{"$f":"IF(ISBLANK(Rådata!R1752),\"\",(Rådata!Q1752*100)/Rådata!R1752)","v":""}]
[{"$f":"IF(ISBLANK(Rådata!A1753)=TRUE,\"\",Rådata!A1753)","v":""},{"$f":"IF(ISBLANK(Rådata!A1753)=TRUE,\"\",YEAR(A1753))","v":""},{"$f":"IF(ISBLANK(Rådata!A1753)=TRUE,\"\",VLOOKUP(MONTH(A1753),Opsætning!$G$3:$H$14,2,FALSE))","v":""},{"$f":"IF(ISBLANK(Rådata!B1753)=TRUE,\"\",(Rådata!C1753*100)/Rådata!B1753)","v":""},{"$f":"IF(ISBLANK(Rådata!D1753)=TRUE,\"\",((Rådata!D1753-Rådata!E1753)*100)/Rådata!D1753)","v":""},{"$f":"IF(ISBLANK(Rådata!G1753)=TRUE,\"\",(Rådata!F1753*100)/Rådata!G1753)","v":""},{"$f":"IF(ISBLANK(Rådata!K1753),\"\",(SUM(Rådata!M1753:P1753)*100)/SUM(Rådata!H1753:K1753))","v":""},{"$f":"IF(ISBLANK(Rådata!H1753),\"\",((SUM(Rådata!J1753:L1753)-SUM(Rådata!O1753:P1753))*100)/SUM(Rådata!H1753:L1753))","v":""},{"$f":"IF(ISBLANK(Rådata!R1753),\"\",(Rådata!Q1753*100)/Rådata!R1753)","v":""}]
[{"$f":"IF(ISBLANK(Rådata!A1754)=TRUE,\"\",Rådata!A1754)","v":""},{"$f":"IF(ISBLANK(Rådata!A1754)=TRUE,\"\",YEAR(A1754))","v":""},{"$f":"IF(ISBLANK(Rådata!A1754)=TRUE,\"\",VLOOKUP(MONTH(A1754),Opsætning!$G$3:$H$14,2,FALSE))","v":""},{"$f":"IF(ISBLANK(Rådata!B1754)=TRUE,\"\",(Rådata!C1754*100)/Rådata!B1754)","v":""},{"$f":"IF(ISBLANK(Rådata!D1754)=TRUE,\"\",((Rådata!D1754-Rådata!E1754)*100)/Rådata!D1754)","v":""},{"$f":"IF(ISBLANK(Rådata!G1754)=TRUE,\"\",(Rådata!F1754*100)/Rådata!G1754)","v":""},{"$f":"IF(ISBLANK(Rådata!K1754),\"\",(SUM(Rådata!M1754:P1754)*100)/SUM(Rådata!H1754:K1754))","v":""},{"$f":"IF(ISBLANK(Rådata!H1754),\"\",((SUM(Rådata!J1754:L1754)-SUM(Rådata!O1754:P1754))*100)/SUM(Rådata!H1754:L1754))","v":""},{"$f":"IF(ISBLANK(Rådata!R1754),\"\",(Rådata!Q1754*100)/Rådata!R1754)","v":""}]
[{"$f":"IF(ISBLANK(Rådata!A1755)=TRUE,\"\",Rådata!A1755)","v":""},{"$f":"IF(ISBLANK(Rådata!A1755)=TRUE,\"\",YEAR(A1755))","v":""},{"$f":"IF(ISBLANK(Rådata!A1755)=TRUE,\"\",VLOOKUP(MONTH(A1755),Opsætning!$G$3:$H$14,2,FALSE))","v":""},{"$f":"IF(ISBLANK(Rådata!B1755)=TRUE,\"\",(Rådata!C1755*100)/Rådata!B1755)","v":""},{"$f":"IF(ISBLANK(Rådata!D1755)=TRUE,\"\",((Rådata!D1755-Rådata!E1755)*100)/Rådata!D1755)","v":""},{"$f":"IF(ISBLANK(Rådata!G1755)=TRUE,\"\",(Rådata!F1755*100)/Rådata!G1755)","v":""},{"$f":"IF(ISBLANK(Rådata!K1755),\"\",(SUM(Rådata!M1755:P1755)*100)/SUM(Rådata!H1755:K1755))","v":""},{"$f":"IF(ISBLANK(Rådata!H1755),\"\",((SUM(Rådata!J1755:L1755)-SUM(Rådata!O1755:P1755))*100)/SUM(Rådata!H1755:L1755))","v":""},{"$f":"IF(ISBLANK(Rådata!R1755),\"\",(Rådata!Q1755*100)/Rådata!R1755)","v":""}]
[{"$f":"IF(ISBLANK(Rådata!A1756)=TRUE,\"\",Rådata!A1756)","v":""},{"$f":"IF(ISBLANK(Rådata!A1756)=TRUE,\"\",YEAR(A1756))","v":""},{"$f":"IF(ISBLANK(Rådata!A1756)=TRUE,\"\",VLOOKUP(MONTH(A1756),Opsætning!$G$3:$H$14,2,FALSE))","v":""},{"$f":"IF(ISBLANK(Rådata!B1756)=TRUE,\"\",(Rådata!C1756*100)/Rådata!B1756)","v":""},{"$f":"IF(ISBLANK(Rådata!D1756)=TRUE,\"\",((Rådata!D1756-Rådata!E1756)*100)/Rådata!D1756)","v":""},{"$f":"IF(ISBLANK(Rådata!G1756)=TRUE,\"\",(Rådata!F1756*100)/Rådata!G1756)","v":""},{"$f":"IF(ISBLANK(Rådata!K1756),\"\",(SUM(Rådata!M1756:P1756)*100)/SUM(Rådata!H1756:K1756))","v":""},{"$f":"IF(ISBLANK(Rådata!H1756),\"\",((SUM(Rådata!J1756:L1756)-SUM(Rådata!O1756:P1756))*100)/SUM(Rådata!H1756:L1756))","v":""},{"$f":"IF(ISBLANK(Rådata!R1756),\"\",(Rådata!Q1756*100)/Rådata!R1756)","v":""}]
[{"$f":"IF(ISBLANK(Rådata!A1757)=TRUE,\"\",Rådata!A1757)","v":""},{"$f":"IF(ISBLANK(Rådata!A1757)=TRUE,\"\",YEAR(A1757))","v":""},{"$f":"IF(ISBLANK(Rådata!A1757)=TRUE,\"\",VLOOKUP(MONTH(A1757),Opsætning!$G$3:$H$14,2,FALSE))","v":""},{"$f":"IF(ISBLANK(Rådata!B1757)=TRUE,\"\",(Rådata!C1757*100)/Rådata!B1757)","v":""},{"$f":"IF(ISBLANK(Rådata!D1757)=TRUE,\"\",((Rådata!D1757-Rådata!E1757)*100)/Rådata!D1757)","v":""},{"$f":"IF(ISBLANK(Rådata!G1757)=TRUE,\"\",(Rådata!F1757*100)/Rådata!G1757)","v":""},{"$f":"IF(ISBLANK(Rådata!K1757),\"\",(SUM(Rådata!M1757:P1757)*100)/SUM(Rådata!H1757:K1757))","v":""},{"$f":"IF(ISBLANK(Rådata!H1757),\"\",((SUM(Rådata!J1757:L1757)-SUM(Rådata!O1757:P1757))*100)/SUM(Rådata!H1757:L1757))","v":""},{"$f":"IF(ISBLANK(Rådata!R1757),\"\",(Rådata!Q1757*100)/Rådata!R1757)","v":""}]
[{"$f":"IF(ISBLANK(Rådata!A1758)=TRUE,\"\",Rådata!A1758)","v":""},{"$f":"IF(ISBLANK(Rådata!A1758)=TRUE,\"\",YEAR(A1758))","v":""},{"$f":"IF(ISBLANK(Rådata!A1758)=TRUE,\"\",VLOOKUP(MONTH(A1758),Opsætning!$G$3:$H$14,2,FALSE))","v":""},{"$f":"IF(ISBLANK(Rådata!B1758)=TRUE,\"\",(Rådata!C1758*100)/Rådata!B1758)","v":""},{"$f":"IF(ISBLANK(Rådata!D1758)=TRUE,\"\",((Rådata!D1758-Rådata!E1758)*100)/Rådata!D1758)","v":""},{"$f":"IF(ISBLANK(Rådata!G1758)=TRUE,\"\",(Rådata!F1758*100)/Rådata!G1758)","v":""},{"$f":"IF(ISBLANK(Rådata!K1758),\"\",(SUM(Rådata!M1758:P1758)*100)/SUM(Rådata!H1758:K1758))","v":""},{"$f":"IF(ISBLANK(Rådata!H1758),\"\",((SUM(Rådata!J1758:L1758)-SUM(Rådata!O1758:P1758))*100)/SUM(Rådata!H1758:L1758))","v":""},{"$f":"IF(ISBLANK(Rådata!R1758),\"\",(Rådata!Q1758*100)/Rådata!R1758)","v":""}]
[{"$f":"IF(ISBLANK(Rådata!A1759)=TRUE,\"\",Rådata!A1759)","v":""},{"$f":"IF(ISBLANK(Rådata!A1759)=TRUE,\"\",YEAR(A1759))","v":""},{"$f":"IF(ISBLANK(Rådata!A1759)=TRUE,\"\",VLOOKUP(MONTH(A1759),Opsætning!$G$3:$H$14,2,FALSE))","v":""},{"$f":"IF(ISBLANK(Rådata!B1759)=TRUE,\"\",(Rådata!C1759*100)/Rådata!B1759)","v":""},{"$f":"IF(ISBLANK(Rådata!D1759)=TRUE,\"\",((Rådata!D1759-Rådata!E1759)*100)/Rådata!D1759)","v":""},{"$f":"IF(ISBLANK(Rådata!G1759)=TRUE,\"\",(Rådata!F1759*100)/Rådata!G1759)","v":""},{"$f":"IF(ISBLANK(Rådata!K1759),\"\",(SUM(Rådata!M1759:P1759)*100)/SUM(Rådata!H1759:K1759))","v":""},{"$f":"IF(ISBLANK(Rådata!H1759),\"\",((SUM(Rådata!J1759:L1759)-SUM(Rådata!O1759:P1759))*100)/SUM(Rådata!H1759:L1759))","v":""},{"$f":"IF(ISBLANK(Rådata!R1759),\"\",(Rådata!Q1759*100)/Rådata!R1759)","v":""}]
[{"$f":"IF(ISBLANK(Rådata!A1760)=TRUE,\"\",Rådata!A1760)","v":""},{"$f":"IF(ISBLANK(Rådata!A1760)=TRUE,\"\",YEAR(A1760))","v":""},{"$f":"IF(ISBLANK(Rådata!A1760)=TRUE,\"\",VLOOKUP(MONTH(A1760),Opsætning!$G$3:$H$14,2,FALSE))","v":""},{"$f":"IF(ISBLANK(Rådata!B1760)=TRUE,\"\",(Rådata!C1760*100)/Rådata!B1760)","v":""},{"$f":"IF(ISBLANK(Rådata!D1760)=TRUE,\"\",((Rådata!D1760-Rådata!E1760)*100)/Rådata!D1760)","v":""},{"$f":"IF(ISBLANK(Rådata!G1760)=TRUE,\"\",(Rådata!F1760*100)/Rådata!G1760)","v":""},{"$f":"IF(ISBLANK(Rådata!K1760),\"\",(SUM(Rådata!M1760:P1760)*100)/SUM(Rådata!H1760:K1760))","v":""},{"$f":"IF(ISBLANK(Rådata!H1760),\"\",((SUM(Rådata!J1760:L1760)-SUM(Rådata!O1760:P1760))*100)/SUM(Rådata!H1760:L1760))","v":""},{"$f":"IF(ISBLANK(Rådata!R1760),\"\",(Rådata!Q1760*100)/Rådata!R1760)","v":""}]
[{"$f":"IF(ISBLANK(Rådata!A1761)=TRUE,\"\",Rådata!A1761)","v":""},{"$f":"IF(ISBLANK(Rådata!A1761)=TRUE,\"\",YEAR(A1761))","v":""},{"$f":"IF(ISBLANK(Rådata!A1761)=TRUE,\"\",VLOOKUP(MONTH(A1761),Opsætning!$G$3:$H$14,2,FALSE))","v":""},{"$f":"IF(ISBLANK(Rådata!B1761)=TRUE,\"\",(Rådata!C1761*100)/Rådata!B1761)","v":""},{"$f":"IF(ISBLANK(Rådata!D1761)=TRUE,\"\",((Rådata!D1761-Rådata!E1761)*100)/Rådata!D1761)","v":""},{"$f":"IF(ISBLANK(Rådata!G1761)=TRUE,\"\",(Rådata!F1761*100)/Rådata!G1761)","v":""},{"$f":"IF(ISBLANK(Rådata!K1761),\"\",(SUM(Rådata!M1761:P1761)*100)/SUM(Rådata!H1761:K1761))","v":""},{"$f":"IF(ISBLANK(Rådata!H1761),\"\",((SUM(Rådata!J1761:L1761)-SUM(Rådata!O1761:P1761))*100)/SUM(Rådata!H1761:L1761))","v":""},{"$f":"IF(ISBLANK(Rådata!R1761),\"\",(Rådata!Q1761*100)/Rådata!R1761)","v":""}]
[{"$f":"IF(ISBLANK(Rådata!A1762)=TRUE,\"\",Rådata!A1762)","v":""},{"$f":"IF(ISBLANK(Rådata!A1762)=TRUE,\"\",YEAR(A1762))","v":""},{"$f":"IF(ISBLANK(Rådata!A1762)=TRUE,\"\",VLOOKUP(MONTH(A1762),Opsætning!$G$3:$H$14,2,FALSE))","v":""},{"$f":"IF(ISBLANK(Rådata!B1762)=TRUE,\"\",(Rådata!C1762*100)/Rådata!B1762)","v":""},{"$f":"IF(ISBLANK(Rådata!D1762)=TRUE,\"\",((Rådata!D1762-Rådata!E1762)*100)/Rådata!D1762)","v":""},{"$f":"IF(ISBLANK(Rådata!G1762)=TRUE,\"\",(Rådata!F1762*100)/Rådata!G1762)","v":""},{"$f":"IF(ISBLANK(Rådata!K1762),\"\",(SUM(Rådata!M1762:P1762)*100)/SUM(Rådata!H1762:K1762))","v":""},{"$f":"IF(ISBLANK(Rådata!H1762),\"\",((SUM(Rådata!J1762:L1762)-SUM(Rådata!O1762:P1762))*100)/SUM(Rådata!H1762:L1762))","v":""},{"$f":"IF(ISBLANK(Rådata!R1762),\"\",(Rådata!Q1762*100)/Rådata!R1762)","v":""}]
[{"$f":"IF(ISBLANK(Rådata!A1763)=TRUE,\"\",Rådata!A1763)","v":""},{"$f":"IF(ISBLANK(Rådata!A1763)=TRUE,\"\",YEAR(A1763))","v":""},{"$f":"IF(ISBLANK(Rådata!A1763)=TRUE,\"\",VLOOKUP(MONTH(A1763),Opsætning!$G$3:$H$14,2,FALSE))","v":""},{"$f":"IF(ISBLANK(Rådata!B1763)=TRUE,\"\",(Rådata!C1763*100)/Rådata!B1763)","v":""},{"$f":"IF(ISBLANK(Rådata!D1763)=TRUE,\"\",((Rådata!D1763-Rådata!E1763)*100)/Rådata!D1763)","v":""},{"$f":"IF(ISBLANK(Rådata!G1763)=TRUE,\"\",(Rådata!F1763*100)/Rådata!G1763)","v":""},{"$f":"IF(ISBLANK(Rådata!K1763),\"\",(SUM(Rådata!M1763:P1763)*100)/SUM(Rådata!H1763:K1763))","v":""},{"$f":"IF(ISBLANK(Rådata!H1763),\"\",((SUM(Rådata!J1763:L1763)-SUM(Rådata!O1763:P1763))*100)/SUM(Rådata!H1763:L1763))","v":""},{"$f":"IF(ISBLANK(Rådata!R1763),\"\",(Rådata!Q1763*100)/Rådata!R1763)","v":""}]
[{"$f":"IF(ISBLANK(Rådata!A1764)=TRUE,\"\",Rådata!A1764)","v":""},{"$f":"IF(ISBLANK(Rådata!A1764)=TRUE,\"\",YEAR(A1764))","v":""},{"$f":"IF(ISBLANK(Rådata!A1764)=TRUE,\"\",VLOOKUP(MONTH(A1764),Opsætning!$G$3:$H$14,2,FALSE))","v":""},{"$f":"IF(ISBLANK(Rådata!B1764)=TRUE,\"\",(Rådata!C1764*100)/Rådata!B1764)","v":""},{"$f":"IF(ISBLANK(Rådata!D1764)=TRUE,\"\",((Rådata!D1764-Rådata!E1764)*100)/Rådata!D1764)","v":""},{"$f":"IF(ISBLANK(Rådata!G1764)=TRUE,\"\",(Rådata!F1764*100)/Rådata!G1764)","v":""},{"$f":"IF(ISBLANK(Rådata!K1764),\"\",(SUM(Rådata!M1764:P1764)*100)/SUM(Rådata!H1764:K1764))","v":""},{"$f":"IF(ISBLANK(Rådata!H1764),\"\",((SUM(Rådata!J1764:L1764)-SUM(Rådata!O1764:P1764))*100)/SUM(Rådata!H1764:L1764))","v":""},{"$f":"IF(ISBLANK(Rådata!R1764),\"\",(Rådata!Q1764*100)/Rådata!R1764)","v":""}]
[{"$f":"IF(ISBLANK(Rådata!A1765)=TRUE,\"\",Rådata!A1765)","v":""},{"$f":"IF(ISBLANK(Rådata!A1765)=TRUE,\"\",YEAR(A1765))","v":""},{"$f":"IF(ISBLANK(Rådata!A1765)=TRUE,\"\",VLOOKUP(MONTH(A1765),Opsætning!$G$3:$H$14,2,FALSE))","v":""},{"$f":"IF(ISBLANK(Rådata!B1765)=TRUE,\"\",(Rådata!C1765*100)/Rådata!B1765)","v":""},{"$f":"IF(ISBLANK(Rådata!D1765)=TRUE,\"\",((Rådata!D1765-Rådata!E1765)*100)/Rådata!D1765)","v":""},{"$f":"IF(ISBLANK(Rådata!G1765)=TRUE,\"\",(Rådata!F1765*100)/Rådata!G1765)","v":""},{"$f":"IF(ISBLANK(Rådata!K1765),\"\",(SUM(Rådata!M1765:P1765)*100)/SUM(Rådata!H1765:K1765))","v":""},{"$f":"IF(ISBLANK(Rådata!H1765),\"\",((SUM(Rådata!J1765:L1765)-SUM(Rådata!O1765:P1765))*100)/SUM(Rådata!H1765:L1765))","v":""},{"$f":"IF(ISBLANK(Rådata!R1765),\"\",(Rådata!Q1765*100)/Rådata!R1765)","v":""}]
[{"$f":"IF(ISBLANK(Rådata!A1766)=TRUE,\"\",Rådata!A1766)","v":""},{"$f":"IF(ISBLANK(Rådata!A1766)=TRUE,\"\",YEAR(A1766))","v":""},{"$f":"IF(ISBLANK(Rådata!A1766)=TRUE,\"\",VLOOKUP(MONTH(A1766),Opsætning!$G$3:$H$14,2,FALSE))","v":""},{"$f":"IF(ISBLANK(Rådata!B1766)=TRUE,\"\",(Rådata!C1766*100)/Rådata!B1766)","v":""},{"$f":"IF(ISBLANK(Rådata!D1766)=TRUE,\"\",((Rådata!D1766-Rådata!E1766)*100)/Rådata!D1766)","v":""},{"$f":"IF(ISBLANK(Rådata!G1766)=TRUE,\"\",(Rådata!F1766*100)/Rådata!G1766)","v":""},{"$f":"IF(ISBLANK(Rådata!K1766),\"\",(SUM(Rådata!M1766:P1766)*100)/SUM(Rådata!H1766:K1766))","v":""},{"$f":"IF(ISBLANK(Rådata!H1766),\"\",((SUM(Rådata!J1766:L1766)-SUM(Rådata!O1766:P1766))*100)/SUM(Rådata!H1766:L1766))","v":""},{"$f":"IF(ISBLANK(Rådata!R1766),\"\",(Rådata!Q1766*100)/Rådata!R1766)","v":""}]
[{"$f":"IF(ISBLANK(Rådata!A1767)=TRUE,\"\",Rådata!A1767)","v":""},{"$f":"IF(ISBLANK(Rådata!A1767)=TRUE,\"\",YEAR(A1767))","v":""},{"$f":"IF(ISBLANK(Rådata!A1767)=TRUE,\"\",VLOOKUP(MONTH(A1767),Opsætning!$G$3:$H$14,2,FALSE))","v":""},{"$f":"IF(ISBLANK(Rådata!B1767)=TRUE,\"\",(Rådata!C1767*100)/Rådata!B1767)","v":""},{"$f":"IF(ISBLANK(Rådata!D1767)=TRUE,\"\",((Rådata!D1767-Rådata!E1767)*100)/Rådata!D1767)","v":""},{"$f":"IF(ISBLANK(Rådata!G1767)=TRUE,\"\",(Rådata!F1767*100)/Rådata!G1767)","v":""},{"$f":"IF(ISBLANK(Rådata!K1767),\"\",(SUM(Rådata!M1767:P1767)*100)/SUM(Rådata!H1767:K1767))","v":""},{"$f":"IF(ISBLANK(Rådata!H1767),\"\",((SUM(Rådata!J1767:L1767)-SUM(Rådata!O1767:P1767))*100)/SUM(Rådata!H1767:L1767))","v":""},{"$f":"IF(ISBLANK(Rådata!R1767),\"\",(Rådata!Q1767*100)/Rådata!R1767)","v":""}]
[{"$f":"IF(ISBLANK(Rådata!A1768)=TRUE,\"\",Rådata!A1768)","v":""},{"$f":"IF(ISBLANK(Rådata!A1768)=TRUE,\"\",YEAR(A1768))","v":""},{"$f":"IF(ISBLANK(Rådata!A1768)=TRUE,\"\",VLOOKUP(MONTH(A1768),Opsætning!$G$3:$H$14,2,FALSE))","v":""},{"$f":"IF(ISBLANK(Rådata!B1768)=TRUE,\"\",(Rådata!C1768*100)/Rådata!B1768)","v":""},{"$f":"IF(ISBLANK(Rådata!D1768)=TRUE,\"\",((Rådata!D1768-Rådata!E1768)*100)/Rådata!D1768)","v":""},{"$f":"IF(ISBLANK(Rådata!G1768)=TRUE,\"\",(Rådata!F1768*100)/Rådata!G1768)","v":""},{"$f":"IF(ISBLANK(Rådata!K1768),\"\",(SUM(Rådata!M1768:P1768)*100)/SUM(Rådata!H1768:K1768))","v":""},{"$f":"IF(ISBLANK(Rådata!H1768),\"\",((SUM(Rådata!J1768:L1768)-SUM(Rådata!O1768:P1768))*100)/SUM(Rådata!H1768:L1768))","v":""},{"$f":"IF(ISBLANK(Rådata!R1768),\"\",(Rådata!Q1768*100)/Rådata!R1768)","v":""}]
[{"$f":"IF(ISBLANK(Rådata!A1769)=TRUE,\"\",Rådata!A1769)","v":""},{"$f":"IF(ISBLANK(Rådata!A1769)=TRUE,\"\",YEAR(A1769))","v":""},{"$f":"IF(ISBLANK(Rådata!A1769)=TRUE,\"\",VLOOKUP(MONTH(A1769),Opsætning!$G$3:$H$14,2,FALSE))","v":""},{"$f":"IF(ISBLANK(Rådata!B1769)=TRUE,\"\",(Rådata!C1769*100)/Rådata!B1769)","v":""},{"$f":"IF(ISBLANK(Rådata!D1769)=TRUE,\"\",((Rådata!D1769-Rådata!E1769)*100)/Rådata!D1769)","v":""},{"$f":"IF(ISBLANK(Rådata!G1769)=TRUE,\"\",(Rådata!F1769*100)/Rådata!G1769)","v":""},{"$f":"IF(ISBLANK(Rådata!K1769),\"\",(SUM(Rådata!M1769:P1769)*100)/SUM(Rådata!H1769:K1769))","v":""},{"$f":"IF(ISBLANK(Rådata!H1769),\"\",((SUM(Rådata!J1769:L1769)-SUM(Rådata!O1769:P1769))*100)/SUM(Rådata!H1769:L1769))","v":""},{"$f":"IF(ISBLANK(Rådata!R1769),\"\",(Rådata!Q1769*100)/Rådata!R1769)","v":""}]
[{"$f":"IF(ISBLANK(Rådata!A1770)=TRUE,\"\",Rådata!A1770)","v":""},{"$f":"IF(ISBLANK(Rådata!A1770)=TRUE,\"\",YEAR(A1770))","v":""},{"$f":"IF(ISBLANK(Rådata!A1770)=TRUE,\"\",VLOOKUP(MONTH(A1770),Opsætning!$G$3:$H$14,2,FALSE))","v":""},{"$f":"IF(ISBLANK(Rådata!B1770)=TRUE,\"\",(Rådata!C1770*100)/Rådata!B1770)","v":""},{"$f":"IF(ISBLANK(Rådata!D1770)=TRUE,\"\",((Rådata!D1770-Rådata!E1770)*100)/Rådata!D1770)","v":""},{"$f":"IF(ISBLANK(Rådata!G1770)=TRUE,\"\",(Rådata!F1770*100)/Rådata!G1770)","v":""},{"$f":"IF(ISBLANK(Rådata!K1770),\"\",(SUM(Rådata!M1770:P1770)*100)/SUM(Rådata!H1770:K1770))","v":""},{"$f":"IF(ISBLANK(Rådata!H1770),\"\",((SUM(Rådata!J1770:L1770)-SUM(Rådata!O1770:P1770))*100)/SUM(Rådata!H1770:L1770))","v":""},{"$f":"IF(ISBLANK(Rådata!R1770),\"\",(Rådata!Q1770*100)/Rådata!R1770)","v":""}]
[{"$f":"IF(ISBLANK(Rådata!A1771)=TRUE,\"\",Rådata!A1771)","v":""},{"$f":"IF(ISBLANK(Rådata!A1771)=TRUE,\"\",YEAR(A1771))","v":""},{"$f":"IF(ISBLANK(Rådata!A1771)=TRUE,\"\",VLOOKUP(MONTH(A1771),Opsætning!$G$3:$H$14,2,FALSE))","v":""},{"$f":"IF(ISBLANK(Rådata!B1771)=TRUE,\"\",(Rådata!C1771*100)/Rådata!B1771)","v":""},{"$f":"IF(ISBLANK(Rådata!D1771)=TRUE,\"\",((Rådata!D1771-Rådata!E1771)*100)/Rådata!D1771)","v":""},{"$f":"IF(ISBLANK(Rådata!G1771)=TRUE,\"\",(Rådata!F1771*100)/Rådata!G1771)","v":""},{"$f":"IF(ISBLANK(Rådata!K1771),\"\",(SUM(Rådata!M1771:P1771)*100)/SUM(Rådata!H1771:K1771))","v":""},{"$f":"IF(ISBLANK(Rådata!H1771),\"\",((SUM(Rådata!J1771:L1771)-SUM(Rådata!O1771:P1771))*100)/SUM(Rådata!H1771:L1771))","v":""},{"$f":"IF(ISBLANK(Rådata!R1771),\"\",(Rådata!Q1771*100)/Rådata!R1771)","v":""}]
[{"$f":"IF(ISBLANK(Rådata!A1772)=TRUE,\"\",Rådata!A1772)","v":""},{"$f":"IF(ISBLANK(Rådata!A1772)=TRUE,\"\",YEAR(A1772))","v":""},{"$f":"IF(ISBLANK(Rådata!A1772)=TRUE,\"\",VLOOKUP(MONTH(A1772),Opsætning!$G$3:$H$14,2,FALSE))","v":""},{"$f":"IF(ISBLANK(Rådata!B1772)=TRUE,\"\",(Rådata!C1772*100)/Rådata!B1772)","v":""},{"$f":"IF(ISBLANK(Rådata!D1772)=TRUE,\"\",((Rådata!D1772-Rådata!E1772)*100)/Rådata!D1772)","v":""},{"$f":"IF(ISBLANK(Rådata!G1772)=TRUE,\"\",(Rådata!F1772*100)/Rådata!G1772)","v":""},{"$f":"IF(ISBLANK(Rådata!K1772),\"\",(SUM(Rådata!M1772:P1772)*100)/SUM(Rådata!H1772:K1772))","v":""},{"$f":"IF(ISBLANK(Rådata!H1772),\"\",((SUM(Rådata!J1772:L1772)-SUM(Rådata!O1772:P1772))*100)/SUM(Rådata!H1772:L1772))","v":""},{"$f":"IF(ISBLANK(Rådata!R1772),\"\",(Rådata!Q1772*100)/Rådata!R1772)","v":""}]
[{"$f":"IF(ISBLANK(Rådata!A1773)=TRUE,\"\",Rådata!A1773)","v":""},{"$f":"IF(ISBLANK(Rådata!A1773)=TRUE,\"\",YEAR(A1773))","v":""},{"$f":"IF(ISBLANK(Rådata!A1773)=TRUE,\"\",VLOOKUP(MONTH(A1773),Opsætning!$G$3:$H$14,2,FALSE))","v":""},{"$f":"IF(ISBLANK(Rådata!B1773)=TRUE,\"\",(Rådata!C1773*100)/Rådata!B1773)","v":""},{"$f":"IF(ISBLANK(Rådata!D1773)=TRUE,\"\",((Rådata!D1773-Rådata!E1773)*100)/Rådata!D1773)","v":""},{"$f":"IF(ISBLANK(Rådata!G1773)=TRUE,\"\",(Rådata!F1773*100)/Rådata!G1773)","v":""},{"$f":"IF(ISBLANK(Rådata!K1773),\"\",(SUM(Rådata!M1773:P1773)*100)/SUM(Rådata!H1773:K1773))","v":""},{"$f":"IF(ISBLANK(Rådata!H1773),\"\",((SUM(Rådata!J1773:L1773)-SUM(Rådata!O1773:P1773))*100)/SUM(Rådata!H1773:L1773))","v":""},{"$f":"IF(ISBLANK(Rådata!R1773),\"\",(Rådata!Q1773*100)/Rådata!R1773)","v":""}]
[{"$f":"IF(ISBLANK(Rådata!A1774)=TRUE,\"\",Rådata!A1774)","v":""},{"$f":"IF(ISBLANK(Rådata!A1774)=TRUE,\"\",YEAR(A1774))","v":""},{"$f":"IF(ISBLANK(Rådata!A1774)=TRUE,\"\",VLOOKUP(MONTH(A1774),Opsætning!$G$3:$H$14,2,FALSE))","v":""},{"$f":"IF(ISBLANK(Rådata!B1774)=TRUE,\"\",(Rådata!C1774*100)/Rådata!B1774)","v":""},{"$f":"IF(ISBLANK(Rådata!D1774)=TRUE,\"\",((Rådata!D1774-Rådata!E1774)*100)/Rådata!D1774)","v":""},{"$f":"IF(ISBLANK(Rådata!G1774)=TRUE,\"\",(Rådata!F1774*100)/Rådata!G1774)","v":""},{"$f":"IF(ISBLANK(Rådata!K1774),\"\",(SUM(Rådata!M1774:P1774)*100)/SUM(Rådata!H1774:K1774))","v":""},{"$f":"IF(ISBLANK(Rådata!H1774),\"\",((SUM(Rådata!J1774:L1774)-SUM(Rådata!O1774:P1774))*100)/SUM(Rådata!H1774:L1774))","v":""},{"$f":"IF(ISBLANK(Rådata!R1774),\"\",(Rådata!Q1774*100)/Rådata!R1774)","v":""}]
[{"$f":"IF(ISBLANK(Rådata!A1775)=TRUE,\"\",Rådata!A1775)","v":""},{"$f":"IF(ISBLANK(Rådata!A1775)=TRUE,\"\",YEAR(A1775))","v":""},{"$f":"IF(ISBLANK(Rådata!A1775)=TRUE,\"\",VLOOKUP(MONTH(A1775),Opsætning!$G$3:$H$14,2,FALSE))","v":""},{"$f":"IF(ISBLANK(Rådata!B1775)=TRUE,\"\",(Rådata!C1775*100)/Rådata!B1775)","v":""},{"$f":"IF(ISBLANK(Rådata!D1775)=TRUE,\"\",((Rådata!D1775-Rådata!E1775)*100)/Rådata!D1775)","v":""},{"$f":"IF(ISBLANK(Rådata!G1775)=TRUE,\"\",(Rådata!F1775*100)/Rådata!G1775)","v":""},{"$f":"IF(ISBLANK(Rådata!K1775),\"\",(SUM(Rådata!M1775:P1775)*100)/SUM(Rådata!H1775:K1775))","v":""},{"$f":"IF(ISBLANK(Rådata!H1775),\"\",((SUM(Rådata!J1775:L1775)-SUM(Rådata!O1775:P1775))*100)/SUM(Rådata!H1775:L1775))","v":""},{"$f":"IF(ISBLANK(Rådata!R1775),\"\",(Rådata!Q1775*100)/Rådata!R1775)","v":""}]
[{"$f":"IF(ISBLANK(Rådata!A1776)=TRUE,\"\",Rådata!A1776)","v":""},{"$f":"IF(ISBLANK(Rådata!A1776)=TRUE,\"\",YEAR(A1776))","v":""},{"$f":"IF(ISBLANK(Rådata!A1776)=TRUE,\"\",VLOOKUP(MONTH(A1776),Opsætning!$G$3:$H$14,2,FALSE))","v":""},{"$f":"IF(ISBLANK(Rådata!B1776)=TRUE,\"\",(Rådata!C1776*100)/Rådata!B1776)","v":""},{"$f":"IF(ISBLANK(Rådata!D1776)=TRUE,\"\",((Rådata!D1776-Rådata!E1776)*100)/Rådata!D1776)","v":""},{"$f":"IF(ISBLANK(Rådata!G1776)=TRUE,\"\",(Rådata!F1776*100)/Rådata!G1776)","v":""},{"$f":"IF(ISBLANK(Rådata!K1776),\"\",(SUM(Rådata!M1776:P1776)*100)/SUM(Rådata!H1776:K1776))","v":""},{"$f":"IF(ISBLANK(Rådata!H1776),\"\",((SUM(Rådata!J1776:L1776)-SUM(Rådata!O1776:P1776))*100)/SUM(Rådata!H1776:L1776))","v":""},{"$f":"IF(ISBLANK(Rådata!R1776),\"\",(Rådata!Q1776*100)/Rådata!R1776)","v":""}]
[{"$f":"IF(ISBLANK(Rådata!A1777)=TRUE,\"\",Rådata!A1777)","v":""},{"$f":"IF(ISBLANK(Rådata!A1777)=TRUE,\"\",YEAR(A1777))","v":""},{"$f":"IF(ISBLANK(Rådata!A1777)=TRUE,\"\",VLOOKUP(MONTH(A1777),Opsætning!$G$3:$H$14,2,FALSE))","v":""},{"$f":"IF(ISBLANK(Rådata!B1777)=TRUE,\"\",(Rådata!C1777*100)/Rådata!B1777)","v":""},{"$f":"IF(ISBLANK(Rådata!D1777)=TRUE,\"\",((Rådata!D1777-Rådata!E1777)*100)/Rådata!D1777)","v":""},{"$f":"IF(ISBLANK(Rådata!G1777)=TRUE,\"\",(Rådata!F1777*100)/Rådata!G1777)","v":""},{"$f":"IF(ISBLANK(Rådata!K1777),\"\",(SUM(Rådata!M1777:P1777)*100)/SUM(Rådata!H1777:K1777))","v":""},{"$f":"IF(ISBLANK(Rådata!H1777),\"\",((SUM(Rådata!J1777:L1777)-SUM(Rådata!O1777:P1777))*100)/SUM(Rådata!H1777:L1777))","v":""},{"$f":"IF(ISBLANK(Rådata!R1777),\"\",(Rådata!Q1777*100)/Rådata!R1777)","v":""}]
[{"$f":"IF(ISBLANK(Rådata!A1778)=TRUE,\"\",Rådata!A1778)","v":""},{"$f":"IF(ISBLANK(Rådata!A1778)=TRUE,\"\",YEAR(A1778))","v":""},{"$f":"IF(ISBLANK(Rådata!A1778)=TRUE,\"\",VLOOKUP(MONTH(A1778),Opsætning!$G$3:$H$14,2,FALSE))","v":""},{"$f":"IF(ISBLANK(Rådata!B1778)=TRUE,\"\",(Rådata!C1778*100)/Rådata!B1778)","v":""},{"$f":"IF(ISBLANK(Rådata!D1778)=TRUE,\"\",((Rådata!D1778-Rådata!E1778)*100)/Rådata!D1778)","v":""},{"$f":"IF(ISBLANK(Rådata!G1778)=TRUE,\"\",(Rådata!F1778*100)/Rådata!G1778)","v":""},{"$f":"IF(ISBLANK(Rådata!K1778),\"\",(SUM(Rådata!M1778:P1778)*100)/SUM(Rådata!H1778:K1778))","v":""},{"$f":"IF(ISBLANK(Rådata!H1778),\"\",((SUM(Rådata!J1778:L1778)-SUM(Rådata!O1778:P1778))*100)/SUM(Rådata!H1778:L1778))","v":""},{"$f":"IF(ISBLANK(Rådata!R1778),\"\",(Rådata!Q1778*100)/Rådata!R1778)","v":""}]
[{"$f":"IF(ISBLANK(Rådata!A1779)=TRUE,\"\",Rådata!A1779)","v":""},{"$f":"IF(ISBLANK(Rådata!A1779)=TRUE,\"\",YEAR(A1779))","v":""},{"$f":"IF(ISBLANK(Rådata!A1779)=TRUE,\"\",VLOOKUP(MONTH(A1779),Opsætning!$G$3:$H$14,2,FALSE))","v":""},{"$f":"IF(ISBLANK(Rådata!B1779)=TRUE,\"\",(Rådata!C1779*100)/Rådata!B1779)","v":""},{"$f":"IF(ISBLANK(Rådata!D1779)=TRUE,\"\",((Rådata!D1779-Rådata!E1779)*100)/Rådata!D1779)","v":""},{"$f":"IF(ISBLANK(Rådata!G1779)=TRUE,\"\",(Rådata!F1779*100)/Rådata!G1779)","v":""},{"$f":"IF(ISBLANK(Rådata!K1779),\"\",(SUM(Rådata!M1779:P1779)*100)/SUM(Rådata!H1779:K1779))","v":""},{"$f":"IF(ISBLANK(Rådata!H1779),\"\",((SUM(Rådata!J1779:L1779)-SUM(Rådata!O1779:P1779))*100)/SUM(Rådata!H1779:L1779))","v":""},{"$f":"IF(ISBLANK(Rådata!R1779),\"\",(Rådata!Q1779*100)/Rådata!R1779)","v":""}]
[{"$f":"IF(ISBLANK(Rådata!A1780)=TRUE,\"\",Rådata!A1780)","v":""},{"$f":"IF(ISBLANK(Rådata!A1780)=TRUE,\"\",YEAR(A1780))","v":""},{"$f":"IF(ISBLANK(Rådata!A1780)=TRUE,\"\",VLOOKUP(MONTH(A1780),Opsætning!$G$3:$H$14,2,FALSE))","v":""},{"$f":"IF(ISBLANK(Rådata!B1780)=TRUE,\"\",(Rådata!C1780*100)/Rådata!B1780)","v":""},{"$f":"IF(ISBLANK(Rådata!D1780)=TRUE,\"\",((Rådata!D1780-Rådata!E1780)*100)/Rådata!D1780)","v":""},{"$f":"IF(ISBLANK(Rådata!G1780)=TRUE,\"\",(Rådata!F1780*100)/Rådata!G1780)","v":""},{"$f":"IF(ISBLANK(Rådata!K1780),\"\",(SUM(Rådata!M1780:P1780)*100)/SUM(Rådata!H1780:K1780))","v":""},{"$f":"IF(ISBLANK(Rådata!H1780),\"\",((SUM(Rådata!J1780:L1780)-SUM(Rådata!O1780:P1780))*100)/SUM(Rådata!H1780:L1780))","v":""},{"$f":"IF(ISBLANK(Rådata!R1780),\"\",(Rådata!Q1780*100)/Rådata!R1780)","v":""}]
[{"$f":"IF(ISBLANK(Rådata!A1781)=TRUE,\"\",Rådata!A1781)","v":""},{"$f":"IF(ISBLANK(Rådata!A1781)=TRUE,\"\",YEAR(A1781))","v":""},{"$f":"IF(ISBLANK(Rådata!A1781)=TRUE,\"\",VLOOKUP(MONTH(A1781),Opsætning!$G$3:$H$14,2,FALSE))","v":""},{"$f":"IF(ISBLANK(Rådata!B1781)=TRUE,\"\",(Rådata!C1781*100)/Rådata!B1781)","v":""},{"$f":"IF(ISBLANK(Rådata!D1781)=TRUE,\"\",((Rådata!D1781-Rådata!E1781)*100)/Rådata!D1781)","v":""},{"$f":"IF(ISBLANK(Rådata!G1781)=TRUE,\"\",(Rådata!F1781*100)/Rådata!G1781)","v":""},{"$f":"IF(ISBLANK(Rådata!K1781),\"\",(SUM(Rådata!M1781:P1781)*100)/SUM(Rådata!H1781:K1781))","v":""},{"$f":"IF(ISBLANK(Rådata!H1781),\"\",((SUM(Rådata!J1781:L1781)-SUM(Rådata!O1781:P1781))*100)/SUM(Rådata!H1781:L1781))","v":""},{"$f":"IF(ISBLANK(Rådata!R1781),\"\",(Rådata!Q1781*100)/Rådata!R1781)","v":""}]
[{"$f":"IF(ISBLANK(Rådata!A1782)=TRUE,\"\",Rådata!A1782)","v":""},{"$f":"IF(ISBLANK(Rådata!A1782)=TRUE,\"\",YEAR(A1782))","v":""},{"$f":"IF(ISBLANK(Rådata!A1782)=TRUE,\"\",VLOOKUP(MONTH(A1782),Opsætning!$G$3:$H$14,2,FALSE))","v":""},{"$f":"IF(ISBLANK(Rådata!B1782)=TRUE,\"\",(Rådata!C1782*100)/Rådata!B1782)","v":""},{"$f":"IF(ISBLANK(Rådata!D1782)=TRUE,\"\",((Rådata!D1782-Rådata!E1782)*100)/Rådata!D1782)","v":""},{"$f":"IF(ISBLANK(Rådata!G1782)=TRUE,\"\",(Rådata!F1782*100)/Rådata!G1782)","v":""},{"$f":"IF(ISBLANK(Rådata!K1782),\"\",(SUM(Rådata!M1782:P1782)*100)/SUM(Rådata!H1782:K1782))","v":""},{"$f":"IF(ISBLANK(Rådata!H1782),\"\",((SUM(Rådata!J1782:L1782)-SUM(Rådata!O1782:P1782))*100)/SUM(Rådata!H1782:L1782))","v":""},{"$f":"IF(ISBLANK(Rådata!R1782),\"\",(Rådata!Q1782*100)/Rådata!R1782)","v":""}]
[{"$f":"IF(ISBLANK(Rådata!A1783)=TRUE,\"\",Rådata!A1783)","v":""},{"$f":"IF(ISBLANK(Rådata!A1783)=TRUE,\"\",YEAR(A1783))","v":""},{"$f":"IF(ISBLANK(Rådata!A1783)=TRUE,\"\",VLOOKUP(MONTH(A1783),Opsætning!$G$3:$H$14,2,FALSE))","v":""},{"$f":"IF(ISBLANK(Rådata!B1783)=TRUE,\"\",(Rådata!C1783*100)/Rådata!B1783)","v":""},{"$f":"IF(ISBLANK(Rådata!D1783)=TRUE,\"\",((Rådata!D1783-Rådata!E1783)*100)/Rådata!D1783)","v":""},{"$f":"IF(ISBLANK(Rådata!G1783)=TRUE,\"\",(Rådata!F1783*100)/Rådata!G1783)","v":""},{"$f":"IF(ISBLANK(Rådata!K1783),\"\",(SUM(Rådata!M1783:P1783)*100)/SUM(Rådata!H1783:K1783))","v":""},{"$f":"IF(ISBLANK(Rådata!H1783),\"\",((SUM(Rådata!J1783:L1783)-SUM(Rådata!O1783:P1783))*100)/SUM(Rådata!H1783:L1783))","v":""},{"$f":"IF(ISBLANK(Rådata!R1783),\"\",(Rådata!Q1783*100)/Rådata!R1783)","v":""}]
[{"$f":"IF(ISBLANK(Rådata!A1784)=TRUE,\"\",Rådata!A1784)","v":""},{"$f":"IF(ISBLANK(Rådata!A1784)=TRUE,\"\",YEAR(A1784))","v":""},{"$f":"IF(ISBLANK(Rådata!A1784)=TRUE,\"\",VLOOKUP(MONTH(A1784),Opsætning!$G$3:$H$14,2,FALSE))","v":""},{"$f":"IF(ISBLANK(Rådata!B1784)=TRUE,\"\",(Rådata!C1784*100)/Rådata!B1784)","v":""},{"$f":"IF(ISBLANK(Rådata!D1784)=TRUE,\"\",((Rådata!D1784-Rådata!E1784)*100)/Rådata!D1784)","v":""},{"$f":"IF(ISBLANK(Rådata!G1784)=TRUE,\"\",(Rådata!F1784*100)/Rådata!G1784)","v":""},{"$f":"IF(ISBLANK(Rådata!K1784),\"\",(SUM(Rådata!M1784:P1784)*100)/SUM(Rådata!H1784:K1784))","v":""},{"$f":"IF(ISBLANK(Rådata!H1784),\"\",((SUM(Rådata!J1784:L1784)-SUM(Rådata!O1784:P1784))*100)/SUM(Rådata!H1784:L1784))","v":""},{"$f":"IF(ISBLANK(Rådata!R1784),\"\",(Rådata!Q1784*100)/Rådata!R1784)","v":""}]
[{"$f":"IF(ISBLANK(Rådata!A1785)=TRUE,\"\",Rådata!A1785)","v":""},{"$f":"IF(ISBLANK(Rådata!A1785)=TRUE,\"\",YEAR(A1785))","v":""},{"$f":"IF(ISBLANK(Rådata!A1785)=TRUE,\"\",VLOOKUP(MONTH(A1785),Opsætning!$G$3:$H$14,2,FALSE))","v":""},{"$f":"IF(ISBLANK(Rådata!B1785)=TRUE,\"\",(Rådata!C1785*100)/Rådata!B1785)","v":""},{"$f":"IF(ISBLANK(Rådata!D1785)=TRUE,\"\",((Rådata!D1785-Rådata!E1785)*100)/Rådata!D1785)","v":""},{"$f":"IF(ISBLANK(Rådata!G1785)=TRUE,\"\",(Rådata!F1785*100)/Rådata!G1785)","v":""},{"$f":"IF(ISBLANK(Rådata!K1785),\"\",(SUM(Rådata!M1785:P1785)*100)/SUM(Rådata!H1785:K1785))","v":""},{"$f":"IF(ISBLANK(Rådata!H1785),\"\",((SUM(Rådata!J1785:L1785)-SUM(Rådata!O1785:P1785))*100)/SUM(Rådata!H1785:L1785))","v":""},{"$f":"IF(ISBLANK(Rådata!R1785),\"\",(Rådata!Q1785*100)/Rådata!R1785)","v":""}]
[{"$f":"IF(ISBLANK(Rådata!A1786)=TRUE,\"\",Rådata!A1786)","v":""},{"$f":"IF(ISBLANK(Rådata!A1786)=TRUE,\"\",YEAR(A1786))","v":""},{"$f":"IF(ISBLANK(Rådata!A1786)=TRUE,\"\",VLOOKUP(MONTH(A1786),Opsætning!$G$3:$H$14,2,FALSE))","v":""},{"$f":"IF(ISBLANK(Rådata!B1786)=TRUE,\"\",(Rådata!C1786*100)/Rådata!B1786)","v":""},{"$f":"IF(ISBLANK(Rådata!D1786)=TRUE,\"\",((Rådata!D1786-Rådata!E1786)*100)/Rådata!D1786)","v":""},{"$f":"IF(ISBLANK(Rådata!G1786)=TRUE,\"\",(Rådata!F1786*100)/Rådata!G1786)","v":""},{"$f":"IF(ISBLANK(Rådata!K1786),\"\",(SUM(Rådata!M1786:P1786)*100)/SUM(Rådata!H1786:K1786))","v":""},{"$f":"IF(ISBLANK(Rådata!H1786),\"\",((SUM(Rådata!J1786:L1786)-SUM(Rådata!O1786:P1786))*100)/SUM(Rådata!H1786:L1786))","v":""},{"$f":"IF(ISBLANK(Rådata!R1786),\"\",(Rådata!Q1786*100)/Rådata!R1786)","v":""}]
[{"$f":"IF(ISBLANK(Rådata!A1787)=TRUE,\"\",Rådata!A1787)","v":""},{"$f":"IF(ISBLANK(Rådata!A1787)=TRUE,\"\",YEAR(A1787))","v":""},{"$f":"IF(ISBLANK(Rådata!A1787)=TRUE,\"\",VLOOKUP(MONTH(A1787),Opsætning!$G$3:$H$14,2,FALSE))","v":""},{"$f":"IF(ISBLANK(Rådata!B1787)=TRUE,\"\",(Rådata!C1787*100)/Rådata!B1787)","v":""},{"$f":"IF(ISBLANK(Rådata!D1787)=TRUE,\"\",((Rådata!D1787-Rådata!E1787)*100)/Rådata!D1787)","v":""},{"$f":"IF(ISBLANK(Rådata!G1787)=TRUE,\"\",(Rådata!F1787*100)/Rådata!G1787)","v":""},{"$f":"IF(ISBLANK(Rådata!K1787),\"\",(SUM(Rådata!M1787:P1787)*100)/SUM(Rådata!H1787:K1787))","v":""},{"$f":"IF(ISBLANK(Rådata!H1787),\"\",((SUM(Rådata!J1787:L1787)-SUM(Rådata!O1787:P1787))*100)/SUM(Rådata!H1787:L1787))","v":""},{"$f":"IF(ISBLANK(Rådata!R1787),\"\",(Rådata!Q1787*100)/Rådata!R1787)","v":""}]
[{"$f":"IF(ISBLANK(Rådata!A1788)=TRUE,\"\",Rådata!A1788)","v":""},{"$f":"IF(ISBLANK(Rådata!A1788)=TRUE,\"\",YEAR(A1788))","v":""},{"$f":"IF(ISBLANK(Rådata!A1788)=TRUE,\"\",VLOOKUP(MONTH(A1788),Opsætning!$G$3:$H$14,2,FALSE))","v":""},{"$f":"IF(ISBLANK(Rådata!B1788)=TRUE,\"\",(Rådata!C1788*100)/Rådata!B1788)","v":""},{"$f":"IF(ISBLANK(Rådata!D1788)=TRUE,\"\",((Rådata!D1788-Rådata!E1788)*100)/Rådata!D1788)","v":""},{"$f":"IF(ISBLANK(Rådata!G1788)=TRUE,\"\",(Rådata!F1788*100)/Rådata!G1788)","v":""},{"$f":"IF(ISBLANK(Rådata!K1788),\"\",(SUM(Rådata!M1788:P1788)*100)/SUM(Rådata!H1788:K1788))","v":""},{"$f":"IF(ISBLANK(Rådata!H1788),\"\",((SUM(Rådata!J1788:L1788)-SUM(Rådata!O1788:P1788))*100)/SUM(Rådata!H1788:L1788))","v":""},{"$f":"IF(ISBLANK(Rådata!R1788),\"\",(Rådata!Q1788*100)/Rådata!R1788)","v":""}]
[{"$f":"IF(ISBLANK(Rådata!A1789)=TRUE,\"\",Rådata!A1789)","v":""},{"$f":"IF(ISBLANK(Rådata!A1789)=TRUE,\"\",YEAR(A1789))","v":""},{"$f":"IF(ISBLANK(Rådata!A1789)=TRUE,\"\",VLOOKUP(MONTH(A1789),Opsætning!$G$3:$H$14,2,FALSE))","v":""},{"$f":"IF(ISBLANK(Rådata!B1789)=TRUE,\"\",(Rådata!C1789*100)/Rådata!B1789)","v":""},{"$f":"IF(ISBLANK(Rådata!D1789)=TRUE,\"\",((Rådata!D1789-Rådata!E1789)*100)/Rådata!D1789)","v":""},{"$f":"IF(ISBLANK(Rådata!G1789)=TRUE,\"\",(Rådata!F1789*100)/Rådata!G1789)","v":""},{"$f":"IF(ISBLANK(Rådata!K1789),\"\",(SUM(Rådata!M1789:P1789)*100)/SUM(Rådata!H1789:K1789))","v":""},{"$f":"IF(ISBLANK(Rådata!H1789),\"\",((SUM(Rådata!J1789:L1789)-SUM(Rådata!O1789:P1789))*100)/SUM(Rådata!H1789:L1789))","v":""},{"$f":"IF(ISBLANK(Rådata!R1789),\"\",(Rådata!Q1789*100)/Rådata!R1789)","v":""}]
[{"$f":"IF(ISBLANK(Rådata!A1790)=TRUE,\"\",Rådata!A1790)","v":""},{"$f":"IF(ISBLANK(Rådata!A1790)=TRUE,\"\",YEAR(A1790))","v":""},{"$f":"IF(ISBLANK(Rådata!A1790)=TRUE,\"\",VLOOKUP(MONTH(A1790),Opsætning!$G$3:$H$14,2,FALSE))","v":""},{"$f":"IF(ISBLANK(Rådata!B1790)=TRUE,\"\",(Rådata!C1790*100)/Rådata!B1790)","v":""},{"$f":"IF(ISBLANK(Rådata!D1790)=TRUE,\"\",((Rådata!D1790-Rådata!E1790)*100)/Rådata!D1790)","v":""},{"$f":"IF(ISBLANK(Rådata!G1790)=TRUE,\"\",(Rådata!F1790*100)/Rådata!G1790)","v":""},{"$f":"IF(ISBLANK(Rådata!K1790),\"\",(SUM(Rådata!M1790:P1790)*100)/SUM(Rådata!H1790:K1790))","v":""},{"$f":"IF(ISBLANK(Rådata!H1790),\"\",((SUM(Rådata!J1790:L1790)-SUM(Rådata!O1790:P1790))*100)/SUM(Rådata!H1790:L1790))","v":""},{"$f":"IF(ISBLANK(Rådata!R1790),\"\",(Rådata!Q1790*100)/Rådata!R1790)","v":""}]
[{"$f":"IF(ISBLANK(Rådata!A1791)=TRUE,\"\",Rådata!A1791)","v":""},{"$f":"IF(ISBLANK(Rådata!A1791)=TRUE,\"\",YEAR(A1791))","v":""},{"$f":"IF(ISBLANK(Rådata!A1791)=TRUE,\"\",VLOOKUP(MONTH(A1791),Opsætning!$G$3:$H$14,2,FALSE))","v":""},{"$f":"IF(ISBLANK(Rådata!B1791)=TRUE,\"\",(Rådata!C1791*100)/Rådata!B1791)","v":""},{"$f":"IF(ISBLANK(Rådata!D1791)=TRUE,\"\",((Rådata!D1791-Rådata!E1791)*100)/Rådata!D1791)","v":""},{"$f":"IF(ISBLANK(Rådata!G1791)=TRUE,\"\",(Rådata!F1791*100)/Rådata!G1791)","v":""},{"$f":"IF(ISBLANK(Rådata!K1791),\"\",(SUM(Rådata!M1791:P1791)*100)/SUM(Rådata!H1791:K1791))","v":""},{"$f":"IF(ISBLANK(Rådata!H1791),\"\",((SUM(Rådata!J1791:L1791)-SUM(Rådata!O1791:P1791))*100)/SUM(Rådata!H1791:L1791))","v":""},{"$f":"IF(ISBLANK(Rådata!R1791),\"\",(Rådata!Q1791*100)/Rådata!R1791)","v":""}]
[{"$f":"IF(ISBLANK(Rådata!A1792)=TRUE,\"\",Rådata!A1792)","v":""},{"$f":"IF(ISBLANK(Rådata!A1792)=TRUE,\"\",YEAR(A1792))","v":""},{"$f":"IF(ISBLANK(Rådata!A1792)=TRUE,\"\",VLOOKUP(MONTH(A1792),Opsætning!$G$3:$H$14,2,FALSE))","v":""},{"$f":"IF(ISBLANK(Rådata!B1792)=TRUE,\"\",(Rådata!C1792*100)/Rådata!B1792)","v":""},{"$f":"IF(ISBLANK(Rådata!D1792)=TRUE,\"\",((Rådata!D1792-Rådata!E1792)*100)/Rådata!D1792)","v":""},{"$f":"IF(ISBLANK(Rådata!G1792)=TRUE,\"\",(Rådata!F1792*100)/Rådata!G1792)","v":""},{"$f":"IF(ISBLANK(Rådata!K1792),\"\",(SUM(Rådata!M1792:P1792)*100)/SUM(Rådata!H1792:K1792))","v":""},{"$f":"IF(ISBLANK(Rådata!H1792),\"\",((SUM(Rådata!J1792:L1792)-SUM(Rådata!O1792:P1792))*100)/SUM(Rådata!H1792:L1792))","v":""},{"$f":"IF(ISBLANK(Rådata!R1792),\"\",(Rådata!Q1792*100)/Rådata!R1792)","v":""}]
[{"$f":"IF(ISBLANK(Rådata!A1793)=TRUE,\"\",Rådata!A1793)","v":""},{"$f":"IF(ISBLANK(Rådata!A1793)=TRUE,\"\",YEAR(A1793))","v":""},{"$f":"IF(ISBLANK(Rådata!A1793)=TRUE,\"\",VLOOKUP(MONTH(A1793),Opsætning!$G$3:$H$14,2,FALSE))","v":""},{"$f":"IF(ISBLANK(Rådata!B1793)=TRUE,\"\",(Rådata!C1793*100)/Rådata!B1793)","v":""},{"$f":"IF(ISBLANK(Rådata!D1793)=TRUE,\"\",((Rådata!D1793-Rådata!E1793)*100)/Rådata!D1793)","v":""},{"$f":"IF(ISBLANK(Rådata!G1793)=TRUE,\"\",(Rådata!F1793*100)/Rådata!G1793)","v":""},{"$f":"IF(ISBLANK(Rådata!K1793),\"\",(SUM(Rådata!M1793:P1793)*100)/SUM(Rådata!H1793:K1793))","v":""},{"$f":"IF(ISBLANK(Rådata!H1793),\"\",((SUM(Rådata!J1793:L1793)-SUM(Rådata!O1793:P1793))*100)/SUM(Rådata!H1793:L1793))","v":""},{"$f":"IF(ISBLANK(Rådata!R1793),\"\",(Rådata!Q1793*100)/Rådata!R1793)","v":""}]
[{"$f":"IF(ISBLANK(Rådata!A1794)=TRUE,\"\",Rådata!A1794)","v":""},{"$f":"IF(ISBLANK(Rådata!A1794)=TRUE,\"\",YEAR(A1794))","v":""},{"$f":"IF(ISBLANK(Rådata!A1794)=TRUE,\"\",VLOOKUP(MONTH(A1794),Opsætning!$G$3:$H$14,2,FALSE))","v":""},{"$f":"IF(ISBLANK(Rådata!B1794)=TRUE,\"\",(Rådata!C1794*100)/Rådata!B1794)","v":""},{"$f":"IF(ISBLANK(Rådata!D1794)=TRUE,\"\",((Rådata!D1794-Rådata!E1794)*100)/Rådata!D1794)","v":""},{"$f":"IF(ISBLANK(Rådata!G1794)=TRUE,\"\",(Rådata!F1794*100)/Rådata!G1794)","v":""},{"$f":"IF(ISBLANK(Rådata!K1794),\"\",(SUM(Rådata!M1794:P1794)*100)/SUM(Rådata!H1794:K1794))","v":""},{"$f":"IF(ISBLANK(Rådata!H1794),\"\",((SUM(Rådata!J1794:L1794)-SUM(Rådata!O1794:P1794))*100)/SUM(Rådata!H1794:L1794))","v":""},{"$f":"IF(ISBLANK(Rådata!R1794),\"\",(Rådata!Q1794*100)/Rådata!R1794)","v":""}]
[{"$f":"IF(ISBLANK(Rådata!A1795)=TRUE,\"\",Rådata!A1795)","v":""},{"$f":"IF(ISBLANK(Rådata!A1795)=TRUE,\"\",YEAR(A1795))","v":""},{"$f":"IF(ISBLANK(Rådata!A1795)=TRUE,\"\",VLOOKUP(MONTH(A1795),Opsætning!$G$3:$H$14,2,FALSE))","v":""},{"$f":"IF(ISBLANK(Rådata!B1795)=TRUE,\"\",(Rådata!C1795*100)/Rådata!B1795)","v":""},{"$f":"IF(ISBLANK(Rådata!D1795)=TRUE,\"\",((Rådata!D1795-Rådata!E1795)*100)/Rådata!D1795)","v":""},{"$f":"IF(ISBLANK(Rådata!G1795)=TRUE,\"\",(Rådata!F1795*100)/Rådata!G1795)","v":""},{"$f":"IF(ISBLANK(Rådata!K1795),\"\",(SUM(Rådata!M1795:P1795)*100)/SUM(Rådata!H1795:K1795))","v":""},{"$f":"IF(ISBLANK(Rådata!H1795),\"\",((SUM(Rådata!J1795:L1795)-SUM(Rådata!O1795:P1795))*100)/SUM(Rådata!H1795:L1795))","v":""},{"$f":"IF(ISBLANK(Rådata!R1795),\"\",(Rådata!Q1795*100)/Rådata!R1795)","v":""}]
[{"$f":"IF(ISBLANK(Rådata!A1796)=TRUE,\"\",Rådata!A1796)","v":""},{"$f":"IF(ISBLANK(Rådata!A1796)=TRUE,\"\",YEAR(A1796))","v":""},{"$f":"IF(ISBLANK(Rådata!A1796)=TRUE,\"\",VLOOKUP(MONTH(A1796),Opsætning!$G$3:$H$14,2,FALSE))","v":""},{"$f":"IF(ISBLANK(Rådata!B1796)=TRUE,\"\",(Rådata!C1796*100)/Rådata!B1796)","v":""},{"$f":"IF(ISBLANK(Rådata!D1796)=TRUE,\"\",((Rådata!D1796-Rådata!E1796)*100)/Rådata!D1796)","v":""},{"$f":"IF(ISBLANK(Rådata!G1796)=TRUE,\"\",(Rådata!F1796*100)/Rådata!G1796)","v":""},{"$f":"IF(ISBLANK(Rådata!K1796),\"\",(SUM(Rådata!M1796:P1796)*100)/SUM(Rådata!H1796:K1796))","v":""},{"$f":"IF(ISBLANK(Rådata!H1796),\"\",((SUM(Rådata!J1796:L1796)-SUM(Rådata!O1796:P1796))*100)/SUM(Rådata!H1796:L1796))","v":""},{"$f":"IF(ISBLANK(Rådata!R1796),\"\",(Rådata!Q1796*100)/Rådata!R1796)","v":""}]
[{"$f":"IF(ISBLANK(Rådata!A1797)=TRUE,\"\",Rådata!A1797)","v":""},{"$f":"IF(ISBLANK(Rådata!A1797)=TRUE,\"\",YEAR(A1797))","v":""},{"$f":"IF(ISBLANK(Rådata!A1797)=TRUE,\"\",VLOOKUP(MONTH(A1797),Opsætning!$G$3:$H$14,2,FALSE))","v":""},{"$f":"IF(ISBLANK(Rådata!B1797)=TRUE,\"\",(Rådata!C1797*100)/Rådata!B1797)","v":""},{"$f":"IF(ISBLANK(Rådata!D1797)=TRUE,\"\",((Rådata!D1797-Rådata!E1797)*100)/Rådata!D1797)","v":""},{"$f":"IF(ISBLANK(Rådata!G1797)=TRUE,\"\",(Rådata!F1797*100)/Rådata!G1797)","v":""},{"$f":"IF(ISBLANK(Rådata!K1797),\"\",(SUM(Rådata!M1797:P1797)*100)/SUM(Rådata!H1797:K1797))","v":""},{"$f":"IF(ISBLANK(Rådata!H1797),\"\",((SUM(Rådata!J1797:L1797)-SUM(Rådata!O1797:P1797))*100)/SUM(Rådata!H1797:L1797))","v":""},{"$f":"IF(ISBLANK(Rådata!R1797),\"\",(Rådata!Q1797*100)/Rådata!R1797)","v":""}]
[{"$f":"IF(ISBLANK(Rådata!A1798)=TRUE,\"\",Rådata!A1798)","v":""},{"$f":"IF(ISBLANK(Rådata!A1798)=TRUE,\"\",YEAR(A1798))","v":""},{"$f":"IF(ISBLANK(Rådata!A1798)=TRUE,\"\",VLOOKUP(MONTH(A1798),Opsætning!$G$3:$H$14,2,FALSE))","v":""},{"$f":"IF(ISBLANK(Rådata!B1798)=TRUE,\"\",(Rådata!C1798*100)/Rådata!B1798)","v":""},{"$f":"IF(ISBLANK(Rådata!D1798)=TRUE,\"\",((Rådata!D1798-Rådata!E1798)*100)/Rådata!D1798)","v":""},{"$f":"IF(ISBLANK(Rådata!G1798)=TRUE,\"\",(Rådata!F1798*100)/Rådata!G1798)","v":""},{"$f":"IF(ISBLANK(Rådata!K1798),\"\",(SUM(Rådata!M1798:P1798)*100)/SUM(Rådata!H1798:K1798))","v":""},{"$f":"IF(ISBLANK(Rådata!H1798),\"\",((SUM(Rådata!J1798:L1798)-SUM(Rådata!O1798:P1798))*100)/SUM(Rådata!H1798:L1798))","v":""},{"$f":"IF(ISBLANK(Rådata!R1798),\"\",(Rådata!Q1798*100)/Rådata!R1798)","v":""}]
[{"$f":"IF(ISBLANK(Rådata!A1799)=TRUE,\"\",Rådata!A1799)","v":""},{"$f":"IF(ISBLANK(Rådata!A1799)=TRUE,\"\",YEAR(A1799))","v":""},{"$f":"IF(ISBLANK(Rådata!A1799)=TRUE,\"\",VLOOKUP(MONTH(A1799),Opsætning!$G$3:$H$14,2,FALSE))","v":""},{"$f":"IF(ISBLANK(Rådata!B1799)=TRUE,\"\",(Rådata!C1799*100)/Rådata!B1799)","v":""},{"$f":"IF(ISBLANK(Rådata!D1799)=TRUE,\"\",((Rådata!D1799-Rådata!E1799)*100)/Rådata!D1799)","v":""},{"$f":"IF(ISBLANK(Rådata!G1799)=TRUE,\"\",(Rådata!F1799*100)/Rådata!G1799)","v":""},{"$f":"IF(ISBLANK(Rådata!K1799),\"\",(SUM(Rådata!M1799:P1799)*100)/SUM(Rådata!H1799:K1799))","v":""},{"$f":"IF(ISBLANK(Rådata!H1799),\"\",((SUM(Rådata!J1799:L1799)-SUM(Rådata!O1799:P1799))*100)/SUM(Rådata!H1799:L1799))","v":""},{"$f":"IF(ISBLANK(Rådata!R1799),\"\",(Rådata!Q1799*100)/Rådata!R1799)","v":""}]
[{"$f":"IF(ISBLANK(Rådata!A1800)=TRUE,\"\",Rådata!A1800)","v":""},{"$f":"IF(ISBLANK(Rådata!A1800)=TRUE,\"\",YEAR(A1800))","v":""},{"$f":"IF(ISBLANK(Rådata!A1800)=TRUE,\"\",VLOOKUP(MONTH(A1800),Opsætning!$G$3:$H$14,2,FALSE))","v":""},{"$f":"IF(ISBLANK(Rådata!B1800)=TRUE,\"\",(Rådata!C1800*100)/Rådata!B1800)","v":""},{"$f":"IF(ISBLANK(Rådata!D1800)=TRUE,\"\",((Rådata!D1800-Rådata!E1800)*100)/Rådata!D1800)","v":""},{"$f":"IF(ISBLANK(Rådata!G1800)=TRUE,\"\",(Rådata!F1800*100)/Rådata!G1800)","v":""},{"$f":"IF(ISBLANK(Rådata!K1800),\"\",(SUM(Rådata!M1800:P1800)*100)/SUM(Rådata!H1800:K1800))","v":""},{"$f":"IF(ISBLANK(Rådata!H1800),\"\",((SUM(Rådata!J1800:L1800)-SUM(Rådata!O1800:P1800))*100)/SUM(Rådata!H1800:L1800))","v":""},{"$f":"IF(ISBLANK(Rådata!R1800),\"\",(Rådata!Q1800*100)/Rådata!R1800)","v":""}]
[{"$f":"IF(ISBLANK(Rådata!A1801)=TRUE,\"\",Rådata!A1801)","v":""},{"$f":"IF(ISBLANK(Rådata!A1801)=TRUE,\"\",YEAR(A1801))","v":""},{"$f":"IF(ISBLANK(Rådata!A1801)=TRUE,\"\",VLOOKUP(MONTH(A1801),Opsætning!$G$3:$H$14,2,FALSE))","v":""},{"$f":"IF(ISBLANK(Rådata!B1801)=TRUE,\"\",(Rådata!C1801*100)/Rådata!B1801)","v":""},{"$f":"IF(ISBLANK(Rådata!D1801)=TRUE,\"\",((Rådata!D1801-Rådata!E1801)*100)/Rådata!D1801)","v":""},{"$f":"IF(ISBLANK(Rådata!G1801)=TRUE,\"\",(Rådata!F1801*100)/Rådata!G1801)","v":""},{"$f":"IF(ISBLANK(Rådata!K1801),\"\",(SUM(Rådata!M1801:P1801)*100)/SUM(Rådata!H1801:K1801))","v":""},{"$f":"IF(ISBLANK(Rådata!H1801),\"\",((SUM(Rådata!J1801:L1801)-SUM(Rådata!O1801:P1801))*100)/SUM(Rådata!H1801:L1801))","v":""},{"$f":"IF(ISBLANK(Rådata!R1801),\"\",(Rådata!Q1801*100)/Rådata!R1801)","v":""}]
[{"$f":"IF(ISBLANK(Rådata!A1802)=TRUE,\"\",Rådata!A1802)","v":""},{"$f":"IF(ISBLANK(Rådata!A1802)=TRUE,\"\",YEAR(A1802))","v":""},{"$f":"IF(ISBLANK(Rådata!A1802)=TRUE,\"\",VLOOKUP(MONTH(A1802),Opsætning!$G$3:$H$14,2,FALSE))","v":""},{"$f":"IF(ISBLANK(Rådata!B1802)=TRUE,\"\",(Rådata!C1802*100)/Rådata!B1802)","v":""},{"$f":"IF(ISBLANK(Rådata!D1802)=TRUE,\"\",((Rådata!D1802-Rådata!E1802)*100)/Rådata!D1802)","v":""},{"$f":"IF(ISBLANK(Rådata!G1802)=TRUE,\"\",(Rådata!F1802*100)/Rådata!G1802)","v":""},{"$f":"IF(ISBLANK(Rådata!K1802),\"\",(SUM(Rådata!M1802:P1802)*100)/SUM(Rådata!H1802:K1802))","v":""},{"$f":"IF(ISBLANK(Rådata!H1802),\"\",((SUM(Rådata!J1802:L1802)-SUM(Rådata!O1802:P1802))*100)/SUM(Rådata!H1802:L1802))","v":""},{"$f":"IF(ISBLANK(Rådata!R1802),\"\",(Rådata!Q1802*100)/Rådata!R1802)","v":""}]
[{"$f":"IF(ISBLANK(Rådata!A1803)=TRUE,\"\",Rådata!A1803)","v":""},{"$f":"IF(ISBLANK(Rådata!A1803)=TRUE,\"\",YEAR(A1803))","v":""},{"$f":"IF(ISBLANK(Rådata!A1803)=TRUE,\"\",VLOOKUP(MONTH(A1803),Opsætning!$G$3:$H$14,2,FALSE))","v":""},{"$f":"IF(ISBLANK(Rådata!B1803)=TRUE,\"\",(Rådata!C1803*100)/Rådata!B1803)","v":""},{"$f":"IF(ISBLANK(Rådata!D1803)=TRUE,\"\",((Rådata!D1803-Rådata!E1803)*100)/Rådata!D1803)","v":""},{"$f":"IF(ISBLANK(Rådata!G1803)=TRUE,\"\",(Rådata!F1803*100)/Rådata!G1803)","v":""},{"$f":"IF(ISBLANK(Rådata!K1803),\"\",(SUM(Rådata!M1803:P1803)*100)/SUM(Rådata!H1803:K1803))","v":""},{"$f":"IF(ISBLANK(Rådata!H1803),\"\",((SUM(Rådata!J1803:L1803)-SUM(Rådata!O1803:P1803))*100)/SUM(Rådata!H1803:L1803))","v":""},{"$f":"IF(ISBLANK(Rådata!R1803),\"\",(Rådata!Q1803*100)/Rådata!R1803)","v":""}]
[{"$f":"IF(ISBLANK(Rådata!A1804)=TRUE,\"\",Rådata!A1804)","v":""},{"$f":"IF(ISBLANK(Rådata!A1804)=TRUE,\"\",YEAR(A1804))","v":""},{"$f":"IF(ISBLANK(Rådata!A1804)=TRUE,\"\",VLOOKUP(MONTH(A1804),Opsætning!$G$3:$H$14,2,FALSE))","v":""},{"$f":"IF(ISBLANK(Rådata!B1804)=TRUE,\"\",(Rådata!C1804*100)/Rådata!B1804)","v":""},{"$f":"IF(ISBLANK(Rådata!D1804)=TRUE,\"\",((Rådata!D1804-Rådata!E1804)*100)/Rådata!D1804)","v":""},{"$f":"IF(ISBLANK(Rådata!G1804)=TRUE,\"\",(Rådata!F1804*100)/Rådata!G1804)","v":""},{"$f":"IF(ISBLANK(Rådata!K1804),\"\",(SUM(Rådata!M1804:P1804)*100)/SUM(Rådata!H1804:K1804))","v":""},{"$f":"IF(ISBLANK(Rådata!H1804),\"\",((SUM(Rådata!J1804:L1804)-SUM(Rådata!O1804:P1804))*100)/SUM(Rådata!H1804:L1804))","v":""},{"$f":"IF(ISBLANK(Rådata!R1804),\"\",(Rådata!Q1804*100)/Rådata!R1804)","v":""}]
[{"$f":"IF(ISBLANK(Rådata!A1805)=TRUE,\"\",Rådata!A1805)","v":""},{"$f":"IF(ISBLANK(Rådata!A1805)=TRUE,\"\",YEAR(A1805))","v":""},{"$f":"IF(ISBLANK(Rådata!A1805)=TRUE,\"\",VLOOKUP(MONTH(A1805),Opsætning!$G$3:$H$14,2,FALSE))","v":""},{"$f":"IF(ISBLANK(Rådata!B1805)=TRUE,\"\",(Rådata!C1805*100)/Rådata!B1805)","v":""},{"$f":"IF(ISBLANK(Rådata!D1805)=TRUE,\"\",((Rådata!D1805-Rådata!E1805)*100)/Rådata!D1805)","v":""},{"$f":"IF(ISBLANK(Rådata!G1805)=TRUE,\"\",(Rådata!F1805*100)/Rådata!G1805)","v":""},{"$f":"IF(ISBLANK(Rådata!K1805),\"\",(SUM(Rådata!M1805:P1805)*100)/SUM(Rådata!H1805:K1805))","v":""},{"$f":"IF(ISBLANK(Rådata!H1805),\"\",((SUM(Rådata!J1805:L1805)-SUM(Rådata!O1805:P1805))*100)/SUM(Rådata!H1805:L1805))","v":""},{"$f":"IF(ISBLANK(Rådata!R1805),\"\",(Rådata!Q1805*100)/Rådata!R1805)","v":""}]
[{"$f":"IF(ISBLANK(Rådata!A1806)=TRUE,\"\",Rådata!A1806)","v":""},{"$f":"IF(ISBLANK(Rådata!A1806)=TRUE,\"\",YEAR(A1806))","v":""},{"$f":"IF(ISBLANK(Rådata!A1806)=TRUE,\"\",VLOOKUP(MONTH(A1806),Opsætning!$G$3:$H$14,2,FALSE))","v":""},{"$f":"IF(ISBLANK(Rådata!B1806)=TRUE,\"\",(Rådata!C1806*100)/Rådata!B1806)","v":""},{"$f":"IF(ISBLANK(Rådata!D1806)=TRUE,\"\",((Rådata!D1806-Rådata!E1806)*100)/Rådata!D1806)","v":""},{"$f":"IF(ISBLANK(Rådata!G1806)=TRUE,\"\",(Rådata!F1806*100)/Rådata!G1806)","v":""},{"$f":"IF(ISBLANK(Rådata!K1806),\"\",(SUM(Rådata!M1806:P1806)*100)/SUM(Rådata!H1806:K1806))","v":""},{"$f":"IF(ISBLANK(Rådata!H1806),\"\",((SUM(Rådata!J1806:L1806)-SUM(Rådata!O1806:P1806))*100)/SUM(Rådata!H1806:L1806))","v":""},{"$f":"IF(ISBLANK(Rådata!R1806),\"\",(Rådata!Q1806*100)/Rådata!R1806)","v":""}]
[{"$f":"IF(ISBLANK(Rådata!A1807)=TRUE,\"\",Rådata!A1807)","v":""},{"$f":"IF(ISBLANK(Rådata!A1807)=TRUE,\"\",YEAR(A1807))","v":""},{"$f":"IF(ISBLANK(Rådata!A1807)=TRUE,\"\",VLOOKUP(MONTH(A1807),Opsætning!$G$3:$H$14,2,FALSE))","v":""},{"$f":"IF(ISBLANK(Rådata!B1807)=TRUE,\"\",(Rådata!C1807*100)/Rådata!B1807)","v":""},{"$f":"IF(ISBLANK(Rådata!D1807)=TRUE,\"\",((Rådata!D1807-Rådata!E1807)*100)/Rådata!D1807)","v":""},{"$f":"IF(ISBLANK(Rådata!G1807)=TRUE,\"\",(Rådata!F1807*100)/Rådata!G1807)","v":""},{"$f":"IF(ISBLANK(Rådata!K1807),\"\",(SUM(Rådata!M1807:P1807)*100)/SUM(Rådata!H1807:K1807))","v":""},{"$f":"IF(ISBLANK(Rådata!H1807),\"\",((SUM(Rådata!J1807:L1807)-SUM(Rådata!O1807:P1807))*100)/SUM(Rådata!H1807:L1807))","v":""},{"$f":"IF(ISBLANK(Rådata!R1807),\"\",(Rådata!Q1807*100)/Rådata!R1807)","v":""}]
[{"$f":"IF(ISBLANK(Rådata!A1808)=TRUE,\"\",Rådata!A1808)","v":""},{"$f":"IF(ISBLANK(Rådata!A1808)=TRUE,\"\",YEAR(A1808))","v":""},{"$f":"IF(ISBLANK(Rådata!A1808)=TRUE,\"\",VLOOKUP(MONTH(A1808),Opsætning!$G$3:$H$14,2,FALSE))","v":""},{"$f":"IF(ISBLANK(Rådata!B1808)=TRUE,\"\",(Rådata!C1808*100)/Rådata!B1808)","v":""},{"$f":"IF(ISBLANK(Rådata!D1808)=TRUE,\"\",((Rådata!D1808-Rådata!E1808)*100)/Rådata!D1808)","v":""},{"$f":"IF(ISBLANK(Rådata!G1808)=TRUE,\"\",(Rådata!F1808*100)/Rådata!G1808)","v":""},{"$f":"IF(ISBLANK(Rådata!K1808),\"\",(SUM(Rådata!M1808:P1808)*100)/SUM(Rådata!H1808:K1808))","v":""},{"$f":"IF(ISBLANK(Rådata!H1808),\"\",((SUM(Rådata!J1808:L1808)-SUM(Rådata!O1808:P1808))*100)/SUM(Rådata!H1808:L1808))","v":""},{"$f":"IF(ISBLANK(Rådata!R1808),\"\",(Rådata!Q1808*100)/Rådata!R1808)","v":""}]
[{"$f":"IF(ISBLANK(Rådata!A1809)=TRUE,\"\",Rådata!A1809)","v":""},{"$f":"IF(ISBLANK(Rådata!A1809)=TRUE,\"\",YEAR(A1809))","v":""},{"$f":"IF(ISBLANK(Rådata!A1809)=TRUE,\"\",VLOOKUP(MONTH(A1809),Opsætning!$G$3:$H$14,2,FALSE))","v":""},{"$f":"IF(ISBLANK(Rådata!B1809)=TRUE,\"\",(Rådata!C1809*100)/Rådata!B1809)","v":""},{"$f":"IF(ISBLANK(Rådata!D1809)=TRUE,\"\",((Rådata!D1809-Rådata!E1809)*100)/Rådata!D1809)","v":""},{"$f":"IF(ISBLANK(Rådata!G1809)=TRUE,\"\",(Rådata!F1809*100)/Rådata!G1809)","v":""},{"$f":"IF(ISBLANK(Rådata!K1809),\"\",(SUM(Rådata!M1809:P1809)*100)/SUM(Rådata!H1809:K1809))","v":""},{"$f":"IF(ISBLANK(Rådata!H1809),\"\",((SUM(Rådata!J1809:L1809)-SUM(Rådata!O1809:P1809))*100)/SUM(Rådata!H1809:L1809))","v":""},{"$f":"IF(ISBLANK(Rådata!R1809),\"\",(Rådata!Q1809*100)/Rådata!R1809)","v":""}]
[{"$f":"IF(ISBLANK(Rådata!A1810)=TRUE,\"\",Rådata!A1810)","v":""},{"$f":"IF(ISBLANK(Rådata!A1810)=TRUE,\"\",YEAR(A1810))","v":""},{"$f":"IF(ISBLANK(Rådata!A1810)=TRUE,\"\",VLOOKUP(MONTH(A1810),Opsætning!$G$3:$H$14,2,FALSE))","v":""},{"$f":"IF(ISBLANK(Rådata!B1810)=TRUE,\"\",(Rådata!C1810*100)/Rådata!B1810)","v":""},{"$f":"IF(ISBLANK(Rådata!D1810)=TRUE,\"\",((Rådata!D1810-Rådata!E1810)*100)/Rådata!D1810)","v":""},{"$f":"IF(ISBLANK(Rådata!G1810)=TRUE,\"\",(Rådata!F1810*100)/Rådata!G1810)","v":""},{"$f":"IF(ISBLANK(Rådata!K1810),\"\",(SUM(Rådata!M1810:P1810)*100)/SUM(Rådata!H1810:K1810))","v":""},{"$f":"IF(ISBLANK(Rådata!H1810),\"\",((SUM(Rådata!J1810:L1810)-SUM(Rådata!O1810:P1810))*100)/SUM(Rådata!H1810:L1810))","v":""},{"$f":"IF(ISBLANK(Rådata!R1810),\"\",(Rådata!Q1810*100)/Rådata!R1810)","v":""}]
[{"$f":"IF(ISBLANK(Rådata!A1811)=TRUE,\"\",Rådata!A1811)","v":""},{"$f":"IF(ISBLANK(Rådata!A1811)=TRUE,\"\",YEAR(A1811))","v":""},{"$f":"IF(ISBLANK(Rådata!A1811)=TRUE,\"\",VLOOKUP(MONTH(A1811),Opsætning!$G$3:$H$14,2,FALSE))","v":""},{"$f":"IF(ISBLANK(Rådata!B1811)=TRUE,\"\",(Rådata!C1811*100)/Rådata!B1811)","v":""},{"$f":"IF(ISBLANK(Rådata!D1811)=TRUE,\"\",((Rådata!D1811-Rådata!E1811)*100)/Rådata!D1811)","v":""},{"$f":"IF(ISBLANK(Rådata!G1811)=TRUE,\"\",(Rådata!F1811*100)/Rådata!G1811)","v":""},{"$f":"IF(ISBLANK(Rådata!K1811),\"\",(SUM(Rådata!M1811:P1811)*100)/SUM(Rådata!H1811:K1811))","v":""},{"$f":"IF(ISBLANK(Rådata!H1811),\"\",((SUM(Rådata!J1811:L1811)-SUM(Rådata!O1811:P1811))*100)/SUM(Rådata!H1811:L1811))","v":""},{"$f":"IF(ISBLANK(Rådata!R1811),\"\",(Rådata!Q1811*100)/Rådata!R1811)","v":""}]
[{"$f":"IF(ISBLANK(Rådata!A1812)=TRUE,\"\",Rådata!A1812)","v":""},{"$f":"IF(ISBLANK(Rådata!A1812)=TRUE,\"\",YEAR(A1812))","v":""},{"$f":"IF(ISBLANK(Rådata!A1812)=TRUE,\"\",VLOOKUP(MONTH(A1812),Opsætning!$G$3:$H$14,2,FALSE))","v":""},{"$f":"IF(ISBLANK(Rådata!B1812)=TRUE,\"\",(Rådata!C1812*100)/Rådata!B1812)","v":""},{"$f":"IF(ISBLANK(Rådata!D1812)=TRUE,\"\",((Rådata!D1812-Rådata!E1812)*100)/Rådata!D1812)","v":""},{"$f":"IF(ISBLANK(Rådata!G1812)=TRUE,\"\",(Rådata!F1812*100)/Rådata!G1812)","v":""},{"$f":"IF(ISBLANK(Rådata!K1812),\"\",(SUM(Rådata!M1812:P1812)*100)/SUM(Rådata!H1812:K1812))","v":""},{"$f":"IF(ISBLANK(Rådata!H1812),\"\",((SUM(Rådata!J1812:L1812)-SUM(Rådata!O1812:P1812))*100)/SUM(Rådata!H1812:L1812))","v":""},{"$f":"IF(ISBLANK(Rådata!R1812),\"\",(Rådata!Q1812*100)/Rådata!R1812)","v":""}]
[{"$f":"IF(ISBLANK(Rådata!A1813)=TRUE,\"\",Rådata!A1813)","v":""},{"$f":"IF(ISBLANK(Rådata!A1813)=TRUE,\"\",YEAR(A1813))","v":""},{"$f":"IF(ISBLANK(Rådata!A1813)=TRUE,\"\",VLOOKUP(MONTH(A1813),Opsætning!$G$3:$H$14,2,FALSE))","v":""},{"$f":"IF(ISBLANK(Rådata!B1813)=TRUE,\"\",(Rådata!C1813*100)/Rådata!B1813)","v":""},{"$f":"IF(ISBLANK(Rådata!D1813)=TRUE,\"\",((Rådata!D1813-Rådata!E1813)*100)/Rådata!D1813)","v":""},{"$f":"IF(ISBLANK(Rådata!G1813)=TRUE,\"\",(Rådata!F1813*100)/Rådata!G1813)","v":""},{"$f":"IF(ISBLANK(Rådata!K1813),\"\",(SUM(Rådata!M1813:P1813)*100)/SUM(Rådata!H1813:K1813))","v":""},{"$f":"IF(ISBLANK(Rådata!H1813),\"\",((SUM(Rådata!J1813:L1813)-SUM(Rådata!O1813:P1813))*100)/SUM(Rådata!H1813:L1813))","v":""},{"$f":"IF(ISBLANK(Rådata!R1813),\"\",(Rådata!Q1813*100)/Rådata!R1813)","v":""}]
[{"$f":"IF(ISBLANK(Rådata!A1814)=TRUE,\"\",Rådata!A1814)","v":""},{"$f":"IF(ISBLANK(Rådata!A1814)=TRUE,\"\",YEAR(A1814))","v":""},{"$f":"IF(ISBLANK(Rådata!A1814)=TRUE,\"\",VLOOKUP(MONTH(A1814),Opsætning!$G$3:$H$14,2,FALSE))","v":""},{"$f":"IF(ISBLANK(Rådata!B1814)=TRUE,\"\",(Rådata!C1814*100)/Rådata!B1814)","v":""},{"$f":"IF(ISBLANK(Rådata!D1814)=TRUE,\"\",((Rådata!D1814-Rådata!E1814)*100)/Rådata!D1814)","v":""},{"$f":"IF(ISBLANK(Rådata!G1814)=TRUE,\"\",(Rådata!F1814*100)/Rådata!G1814)","v":""},{"$f":"IF(ISBLANK(Rådata!K1814),\"\",(SUM(Rådata!M1814:P1814)*100)/SUM(Rådata!H1814:K1814))","v":""},{"$f":"IF(ISBLANK(Rådata!H1814),\"\",((SUM(Rådata!J1814:L1814)-SUM(Rådata!O1814:P1814))*100)/SUM(Rådata!H1814:L1814))","v":""},{"$f":"IF(ISBLANK(Rådata!R1814),\"\",(Rådata!Q1814*100)/Rådata!R1814)","v":""}]
[{"$f":"IF(ISBLANK(Rådata!A1815)=TRUE,\"\",Rådata!A1815)","v":""},{"$f":"IF(ISBLANK(Rådata!A1815)=TRUE,\"\",YEAR(A1815))","v":""},{"$f":"IF(ISBLANK(Rådata!A1815)=TRUE,\"\",VLOOKUP(MONTH(A1815),Opsætning!$G$3:$H$14,2,FALSE))","v":""},{"$f":"IF(ISBLANK(Rådata!B1815)=TRUE,\"\",(Rådata!C1815*100)/Rådata!B1815)","v":""},{"$f":"IF(ISBLANK(Rådata!D1815)=TRUE,\"\",((Rådata!D1815-Rådata!E1815)*100)/Rådata!D1815)","v":""},{"$f":"IF(ISBLANK(Rådata!G1815)=TRUE,\"\",(Rådata!F1815*100)/Rådata!G1815)","v":""},{"$f":"IF(ISBLANK(Rådata!K1815),\"\",(SUM(Rådata!M1815:P1815)*100)/SUM(Rådata!H1815:K1815))","v":""},{"$f":"IF(ISBLANK(Rådata!H1815),\"\",((SUM(Rådata!J1815:L1815)-SUM(Rådata!O1815:P1815))*100)/SUM(Rådata!H1815:L1815))","v":""},{"$f":"IF(ISBLANK(Rådata!R1815),\"\",(Rådata!Q1815*100)/Rådata!R1815)","v":""}]
[{"$f":"IF(ISBLANK(Rådata!A1816)=TRUE,\"\",Rådata!A1816)","v":""},{"$f":"IF(ISBLANK(Rådata!A1816)=TRUE,\"\",YEAR(A1816))","v":""},{"$f":"IF(ISBLANK(Rådata!A1816)=TRUE,\"\",VLOOKUP(MONTH(A1816),Opsætning!$G$3:$H$14,2,FALSE))","v":""},{"$f":"IF(ISBLANK(Rådata!B1816)=TRUE,\"\",(Rådata!C1816*100)/Rådata!B1816)","v":""},{"$f":"IF(ISBLANK(Rådata!D1816)=TRUE,\"\",((Rådata!D1816-Rådata!E1816)*100)/Rådata!D1816)","v":""},{"$f":"IF(ISBLANK(Rådata!G1816)=TRUE,\"\",(Rådata!F1816*100)/Rådata!G1816)","v":""},{"$f":"IF(ISBLANK(Rådata!K1816),\"\",(SUM(Rådata!M1816:P1816)*100)/SUM(Rådata!H1816:K1816))","v":""},{"$f":"IF(ISBLANK(Rådata!H1816),\"\",((SUM(Rådata!J1816:L1816)-SUM(Rådata!O1816:P1816))*100)/SUM(Rådata!H1816:L1816))","v":""},{"$f":"IF(ISBLANK(Rådata!R1816),\"\",(Rådata!Q1816*100)/Rådata!R1816)","v":""}]
[{"$f":"IF(ISBLANK(Rådata!A1817)=TRUE,\"\",Rådata!A1817)","v":""},{"$f":"IF(ISBLANK(Rådata!A1817)=TRUE,\"\",YEAR(A1817))","v":""},{"$f":"IF(ISBLANK(Rådata!A1817)=TRUE,\"\",VLOOKUP(MONTH(A1817),Opsætning!$G$3:$H$14,2,FALSE))","v":""},{"$f":"IF(ISBLANK(Rådata!B1817)=TRUE,\"\",(Rådata!C1817*100)/Rådata!B1817)","v":""},{"$f":"IF(ISBLANK(Rådata!D1817)=TRUE,\"\",((Rådata!D1817-Rådata!E1817)*100)/Rådata!D1817)","v":""},{"$f":"IF(ISBLANK(Rådata!G1817)=TRUE,\"\",(Rådata!F1817*100)/Rådata!G1817)","v":""},{"$f":"IF(ISBLANK(Rådata!K1817),\"\",(SUM(Rådata!M1817:P1817)*100)/SUM(Rådata!H1817:K1817))","v":""},{"$f":"IF(ISBLANK(Rådata!H1817),\"\",((SUM(Rådata!J1817:L1817)-SUM(Rådata!O1817:P1817))*100)/SUM(Rådata!H1817:L1817))","v":""},{"$f":"IF(ISBLANK(Rådata!R1817),\"\",(Rådata!Q1817*100)/Rådata!R1817)","v":""}]
[{"$f":"IF(ISBLANK(Rådata!A1818)=TRUE,\"\",Rådata!A1818)","v":""},{"$f":"IF(ISBLANK(Rådata!A1818)=TRUE,\"\",YEAR(A1818))","v":""},{"$f":"IF(ISBLANK(Rådata!A1818)=TRUE,\"\",VLOOKUP(MONTH(A1818),Opsætning!$G$3:$H$14,2,FALSE))","v":""},{"$f":"IF(ISBLANK(Rådata!B1818)=TRUE,\"\",(Rådata!C1818*100)/Rådata!B1818)","v":""},{"$f":"IF(ISBLANK(Rådata!D1818)=TRUE,\"\",((Rådata!D1818-Rådata!E1818)*100)/Rådata!D1818)","v":""},{"$f":"IF(ISBLANK(Rådata!G1818)=TRUE,\"\",(Rådata!F1818*100)/Rådata!G1818)","v":""},{"$f":"IF(ISBLANK(Rådata!K1818),\"\",(SUM(Rådata!M1818:P1818)*100)/SUM(Rådata!H1818:K1818))","v":""},{"$f":"IF(ISBLANK(Rådata!H1818),\"\",((SUM(Rådata!J1818:L1818)-SUM(Rådata!O1818:P1818))*100)/SUM(Rådata!H1818:L1818))","v":""},{"$f":"IF(ISBLANK(Rådata!R1818),\"\",(Rådata!Q1818*100)/Rådata!R1818)","v":""}]
[{"$f":"IF(ISBLANK(Rådata!A1819)=TRUE,\"\",Rådata!A1819)","v":""},{"$f":"IF(ISBLANK(Rådata!A1819)=TRUE,\"\",YEAR(A1819))","v":""},{"$f":"IF(ISBLANK(Rådata!A1819)=TRUE,\"\",VLOOKUP(MONTH(A1819),Opsætning!$G$3:$H$14,2,FALSE))","v":""},{"$f":"IF(ISBLANK(Rådata!B1819)=TRUE,\"\",(Rådata!C1819*100)/Rådata!B1819)","v":""},{"$f":"IF(ISBLANK(Rådata!D1819)=TRUE,\"\",((Rådata!D1819-Rådata!E1819)*100)/Rådata!D1819)","v":""},{"$f":"IF(ISBLANK(Rådata!G1819)=TRUE,\"\",(Rådata!F1819*100)/Rådata!G1819)","v":""},{"$f":"IF(ISBLANK(Rådata!K1819),\"\",(SUM(Rådata!M1819:P1819)*100)/SUM(Rådata!H1819:K1819))","v":""},{"$f":"IF(ISBLANK(Rådata!H1819),\"\",((SUM(Rådata!J1819:L1819)-SUM(Rådata!O1819:P1819))*100)/SUM(Rådata!H1819:L1819))","v":""},{"$f":"IF(ISBLANK(Rådata!R1819),\"\",(Rådata!Q1819*100)/Rådata!R1819)","v":""}]
[{"$f":"IF(ISBLANK(Rådata!A1820)=TRUE,\"\",Rådata!A1820)","v":""},{"$f":"IF(ISBLANK(Rådata!A1820)=TRUE,\"\",YEAR(A1820))","v":""},{"$f":"IF(ISBLANK(Rådata!A1820)=TRUE,\"\",VLOOKUP(MONTH(A1820),Opsætning!$G$3:$H$14,2,FALSE))","v":""},{"$f":"IF(ISBLANK(Rådata!B1820)=TRUE,\"\",(Rådata!C1820*100)/Rådata!B1820)","v":""},{"$f":"IF(ISBLANK(Rådata!D1820)=TRUE,\"\",((Rådata!D1820-Rådata!E1820)*100)/Rådata!D1820)","v":""},{"$f":"IF(ISBLANK(Rådata!G1820)=TRUE,\"\",(Rådata!F1820*100)/Rådata!G1820)","v":""},{"$f":"IF(ISBLANK(Rådata!K1820),\"\",(SUM(Rådata!M1820:P1820)*100)/SUM(Rådata!H1820:K1820))","v":""},{"$f":"IF(ISBLANK(Rådata!H1820),\"\",((SUM(Rådata!J1820:L1820)-SUM(Rådata!O1820:P1820))*100)/SUM(Rådata!H1820:L1820))","v":""},{"$f":"IF(ISBLANK(Rådata!R1820),\"\",(Rådata!Q1820*100)/Rådata!R1820)","v":""}]
[{"$f":"IF(ISBLANK(Rådata!A1821)=TRUE,\"\",Rådata!A1821)","v":""},{"$f":"IF(ISBLANK(Rådata!A1821)=TRUE,\"\",YEAR(A1821))","v":""},{"$f":"IF(ISBLANK(Rådata!A1821)=TRUE,\"\",VLOOKUP(MONTH(A1821),Opsætning!$G$3:$H$14,2,FALSE))","v":""},{"$f":"IF(ISBLANK(Rådata!B1821)=TRUE,\"\",(Rådata!C1821*100)/Rådata!B1821)","v":""},{"$f":"IF(ISBLANK(Rådata!D1821)=TRUE,\"\",((Rådata!D1821-Rådata!E1821)*100)/Rådata!D1821)","v":""},{"$f":"IF(ISBLANK(Rådata!G1821)=TRUE,\"\",(Rådata!F1821*100)/Rådata!G1821)","v":""},{"$f":"IF(ISBLANK(Rådata!K1821),\"\",(SUM(Rådata!M1821:P1821)*100)/SUM(Rådata!H1821:K1821))","v":""},{"$f":"IF(ISBLANK(Rådata!H1821),\"\",((SUM(Rådata!J1821:L1821)-SUM(Rådata!O1821:P1821))*100)/SUM(Rådata!H1821:L1821))","v":""},{"$f":"IF(ISBLANK(Rådata!R1821),\"\",(Rådata!Q1821*100)/Rådata!R1821)","v":""}]
[{"$f":"IF(ISBLANK(Rådata!A1822)=TRUE,\"\",Rådata!A1822)","v":""},{"$f":"IF(ISBLANK(Rådata!A1822)=TRUE,\"\",YEAR(A1822))","v":""},{"$f":"IF(ISBLANK(Rådata!A1822)=TRUE,\"\",VLOOKUP(MONTH(A1822),Opsætning!$G$3:$H$14,2,FALSE))","v":""},{"$f":"IF(ISBLANK(Rådata!B1822)=TRUE,\"\",(Rådata!C1822*100)/Rådata!B1822)","v":""},{"$f":"IF(ISBLANK(Rådata!D1822)=TRUE,\"\",((Rådata!D1822-Rådata!E1822)*100)/Rådata!D1822)","v":""},{"$f":"IF(ISBLANK(Rådata!G1822)=TRUE,\"\",(Rådata!F1822*100)/Rådata!G1822)","v":""},{"$f":"IF(ISBLANK(Rådata!K1822),\"\",(SUM(Rådata!M1822:P1822)*100)/SUM(Rådata!H1822:K1822))","v":""},{"$f":"IF(ISBLANK(Rådata!H1822),\"\",((SUM(Rådata!J1822:L1822)-SUM(Rådata!O1822:P1822))*100)/SUM(Rådata!H1822:L1822))","v":""},{"$f":"IF(ISBLANK(Rådata!R1822),\"\",(Rådata!Q1822*100)/Rådata!R1822)","v":""}]
[{"$f":"IF(ISBLANK(Rådata!A1823)=TRUE,\"\",Rådata!A1823)","v":""},{"$f":"IF(ISBLANK(Rådata!A1823)=TRUE,\"\",YEAR(A1823))","v":""},{"$f":"IF(ISBLANK(Rådata!A1823)=TRUE,\"\",VLOOKUP(MONTH(A1823),Opsætning!$G$3:$H$14,2,FALSE))","v":""},{"$f":"IF(ISBLANK(Rådata!B1823)=TRUE,\"\",(Rådata!C1823*100)/Rådata!B1823)","v":""},{"$f":"IF(ISBLANK(Rådata!D1823)=TRUE,\"\",((Rådata!D1823-Rådata!E1823)*100)/Rådata!D1823)","v":""},{"$f":"IF(ISBLANK(Rådata!G1823)=TRUE,\"\",(Rådata!F1823*100)/Rådata!G1823)","v":""},{"$f":"IF(ISBLANK(Rådata!K1823),\"\",(SUM(Rådata!M1823:P1823)*100)/SUM(Rådata!H1823:K1823))","v":""},{"$f":"IF(ISBLANK(Rådata!H1823),\"\",((SUM(Rådata!J1823:L1823)-SUM(Rådata!O1823:P1823))*100)/SUM(Rådata!H1823:L1823))","v":""},{"$f":"IF(ISBLANK(Rådata!R1823),\"\",(Rådata!Q1823*100)/Rådata!R1823)","v":""}]
[{"$f":"IF(ISBLANK(Rådata!A1824)=TRUE,\"\",Rådata!A1824)","v":""},{"$f":"IF(ISBLANK(Rådata!A1824)=TRUE,\"\",YEAR(A1824))","v":""},{"$f":"IF(ISBLANK(Rådata!A1824)=TRUE,\"\",VLOOKUP(MONTH(A1824),Opsætning!$G$3:$H$14,2,FALSE))","v":""},{"$f":"IF(ISBLANK(Rådata!B1824)=TRUE,\"\",(Rådata!C1824*100)/Rådata!B1824)","v":""},{"$f":"IF(ISBLANK(Rådata!D1824)=TRUE,\"\",((Rådata!D1824-Rådata!E1824)*100)/Rådata!D1824)","v":""},{"$f":"IF(ISBLANK(Rådata!G1824)=TRUE,\"\",(Rådata!F1824*100)/Rådata!G1824)","v":""},{"$f":"IF(ISBLANK(Rådata!K1824),\"\",(SUM(Rådata!M1824:P1824)*100)/SUM(Rådata!H1824:K1824))","v":""},{"$f":"IF(ISBLANK(Rådata!H1824),\"\",((SUM(Rådata!J1824:L1824)-SUM(Rådata!O1824:P1824))*100)/SUM(Rådata!H1824:L1824))","v":""},{"$f":"IF(ISBLANK(Rådata!R1824),\"\",(Rådata!Q1824*100)/Rådata!R1824)","v":""}]
[{"$f":"IF(ISBLANK(Rådata!A1825)=TRUE,\"\",Rådata!A1825)","v":""},{"$f":"IF(ISBLANK(Rådata!A1825)=TRUE,\"\",YEAR(A1825))","v":""},{"$f":"IF(ISBLANK(Rådata!A1825)=TRUE,\"\",VLOOKUP(MONTH(A1825),Opsætning!$G$3:$H$14,2,FALSE))","v":""},{"$f":"IF(ISBLANK(Rådata!B1825)=TRUE,\"\",(Rådata!C1825*100)/Rådata!B1825)","v":""},{"$f":"IF(ISBLANK(Rådata!D1825)=TRUE,\"\",((Rådata!D1825-Rådata!E1825)*100)/Rådata!D1825)","v":""},{"$f":"IF(ISBLANK(Rådata!G1825)=TRUE,\"\",(Rådata!F1825*100)/Rådata!G1825)","v":""},{"$f":"IF(ISBLANK(Rådata!K1825),\"\",(SUM(Rådata!M1825:P1825)*100)/SUM(Rådata!H1825:K1825))","v":""},{"$f":"IF(ISBLANK(Rådata!H1825),\"\",((SUM(Rådata!J1825:L1825)-SUM(Rådata!O1825:P1825))*100)/SUM(Rådata!H1825:L1825))","v":""},{"$f":"IF(ISBLANK(Rådata!R1825),\"\",(Rådata!Q1825*100)/Rådata!R1825)","v":""}]
[{"$f":"IF(ISBLANK(Rådata!A1826)=TRUE,\"\",Rådata!A1826)","v":""},{"$f":"IF(ISBLANK(Rådata!A1826)=TRUE,\"\",YEAR(A1826))","v":""},{"$f":"IF(ISBLANK(Rådata!A1826)=TRUE,\"\",VLOOKUP(MONTH(A1826),Opsætning!$G$3:$H$14,2,FALSE))","v":""},{"$f":"IF(ISBLANK(Rådata!B1826)=TRUE,\"\",(Rådata!C1826*100)/Rådata!B1826)","v":""},{"$f":"IF(ISBLANK(Rådata!D1826)=TRUE,\"\",((Rådata!D1826-Rådata!E1826)*100)/Rådata!D1826)","v":""},{"$f":"IF(ISBLANK(Rådata!G1826)=TRUE,\"\",(Rådata!F1826*100)/Rådata!G1826)","v":""},{"$f":"IF(ISBLANK(Rådata!K1826),\"\",(SUM(Rådata!M1826:P1826)*100)/SUM(Rådata!H1826:K1826))","v":""},{"$f":"IF(ISBLANK(Rådata!H1826),\"\",((SUM(Rådata!J1826:L1826)-SUM(Rådata!O1826:P1826))*100)/SUM(Rådata!H1826:L1826))","v":""},{"$f":"IF(ISBLANK(Rådata!R1826),\"\",(Rådata!Q1826*100)/Rådata!R1826)","v":""}]
[{"$f":"IF(ISBLANK(Rådata!A1827)=TRUE,\"\",Rådata!A1827)","v":""},{"$f":"IF(ISBLANK(Rådata!A1827)=TRUE,\"\",YEAR(A1827))","v":""},{"$f":"IF(ISBLANK(Rådata!A1827)=TRUE,\"\",VLOOKUP(MONTH(A1827),Opsætning!$G$3:$H$14,2,FALSE))","v":""},{"$f":"IF(ISBLANK(Rådata!B1827)=TRUE,\"\",(Rådata!C1827*100)/Rådata!B1827)","v":""},{"$f":"IF(ISBLANK(Rådata!D1827)=TRUE,\"\",((Rådata!D1827-Rådata!E1827)*100)/Rådata!D1827)","v":""},{"$f":"IF(ISBLANK(Rådata!G1827)=TRUE,\"\",(Rådata!F1827*100)/Rådata!G1827)","v":""},{"$f":"IF(ISBLANK(Rådata!K1827),\"\",(SUM(Rådata!M1827:P1827)*100)/SUM(Rådata!H1827:K1827))","v":""},{"$f":"IF(ISBLANK(Rådata!H1827),\"\",((SUM(Rådata!J1827:L1827)-SUM(Rådata!O1827:P1827))*100)/SUM(Rådata!H1827:L1827))","v":""},{"$f":"IF(ISBLANK(Rådata!R1827),\"\",(Rådata!Q1827*100)/Rådata!R1827)","v":""}]
[{"$f":"IF(ISBLANK(Rådata!A1828)=TRUE,\"\",Rådata!A1828)","v":""},{"$f":"IF(ISBLANK(Rådata!A1828)=TRUE,\"\",YEAR(A1828))","v":""},{"$f":"IF(ISBLANK(Rådata!A1828)=TRUE,\"\",VLOOKUP(MONTH(A1828),Opsætning!$G$3:$H$14,2,FALSE))","v":""},{"$f":"IF(ISBLANK(Rådata!B1828)=TRUE,\"\",(Rådata!C1828*100)/Rådata!B1828)","v":""},{"$f":"IF(ISBLANK(Rådata!D1828)=TRUE,\"\",((Rådata!D1828-Rådata!E1828)*100)/Rådata!D1828)","v":""},{"$f":"IF(ISBLANK(Rådata!G1828)=TRUE,\"\",(Rådata!F1828*100)/Rådata!G1828)","v":""},{"$f":"IF(ISBLANK(Rådata!K1828),\"\",(SUM(Rådata!M1828:P1828)*100)/SUM(Rådata!H1828:K1828))","v":""},{"$f":"IF(ISBLANK(Rådata!H1828),\"\",((SUM(Rådata!J1828:L1828)-SUM(Rådata!O1828:P1828))*100)/SUM(Rådata!H1828:L1828))","v":""},{"$f":"IF(ISBLANK(Rådata!R1828),\"\",(Rådata!Q1828*100)/Rådata!R1828)","v":""}]
[{"$f":"IF(ISBLANK(Rådata!A1829)=TRUE,\"\",Rådata!A1829)","v":""},{"$f":"IF(ISBLANK(Rådata!A1829)=TRUE,\"\",YEAR(A1829))","v":""},{"$f":"IF(ISBLANK(Rådata!A1829)=TRUE,\"\",VLOOKUP(MONTH(A1829),Opsætning!$G$3:$H$14,2,FALSE))","v":""},{"$f":"IF(ISBLANK(Rådata!B1829)=TRUE,\"\",(Rådata!C1829*100)/Rådata!B1829)","v":""},{"$f":"IF(ISBLANK(Rådata!D1829)=TRUE,\"\",((Rådata!D1829-Rådata!E1829)*100)/Rådata!D1829)","v":""},{"$f":"IF(ISBLANK(Rådata!G1829)=TRUE,\"\",(Rådata!F1829*100)/Rådata!G1829)","v":""},{"$f":"IF(ISBLANK(Rådata!K1829),\"\",(SUM(Rådata!M1829:P1829)*100)/SUM(Rådata!H1829:K1829))","v":""},{"$f":"IF(ISBLANK(Rådata!H1829),\"\",((SUM(Rådata!J1829:L1829)-SUM(Rådata!O1829:P1829))*100)/SUM(Rådata!H1829:L1829))","v":""},{"$f":"IF(ISBLANK(Rådata!R1829),\"\",(Rådata!Q1829*100)/Rådata!R1829)","v":""}]
[{"$f":"IF(ISBLANK(Rådata!A1830)=TRUE,\"\",Rådata!A1830)","v":""},{"$f":"IF(ISBLANK(Rådata!A1830)=TRUE,\"\",YEAR(A1830))","v":""},{"$f":"IF(ISBLANK(Rådata!A1830)=TRUE,\"\",VLOOKUP(MONTH(A1830),Opsætning!$G$3:$H$14,2,FALSE))","v":""},{"$f":"IF(ISBLANK(Rådata!B1830)=TRUE,\"\",(Rådata!C1830*100)/Rådata!B1830)","v":""},{"$f":"IF(ISBLANK(Rådata!D1830)=TRUE,\"\",((Rådata!D1830-Rådata!E1830)*100)/Rådata!D1830)","v":""},{"$f":"IF(ISBLANK(Rådata!G1830)=TRUE,\"\",(Rådata!F1830*100)/Rådata!G1830)","v":""},{"$f":"IF(ISBLANK(Rådata!K1830),\"\",(SUM(Rådata!M1830:P1830)*100)/SUM(Rådata!H1830:K1830))","v":""},{"$f":"IF(ISBLANK(Rådata!H1830),\"\",((SUM(Rådata!J1830:L1830)-SUM(Rådata!O1830:P1830))*100)/SUM(Rådata!H1830:L1830))","v":""},{"$f":"IF(ISBLANK(Rådata!R1830),\"\",(Rådata!Q1830*100)/Rådata!R1830)","v":""}]
[{"$f":"IF(ISBLANK(Rådata!A1831)=TRUE,\"\",Rådata!A1831)","v":""},{"$f":"IF(ISBLANK(Rådata!A1831)=TRUE,\"\",YEAR(A1831))","v":""},{"$f":"IF(ISBLANK(Rådata!A1831)=TRUE,\"\",VLOOKUP(MONTH(A1831),Opsætning!$G$3:$H$14,2,FALSE))","v":""},{"$f":"IF(ISBLANK(Rådata!B1831)=TRUE,\"\",(Rådata!C1831*100)/Rådata!B1831)","v":""},{"$f":"IF(ISBLANK(Rådata!D1831)=TRUE,\"\",((Rådata!D1831-Rådata!E1831)*100)/Rådata!D1831)","v":""},{"$f":"IF(ISBLANK(Rådata!G1831)=TRUE,\"\",(Rådata!F1831*100)/Rådata!G1831)","v":""},{"$f":"IF(ISBLANK(Rådata!K1831),\"\",(SUM(Rådata!M1831:P1831)*100)/SUM(Rådata!H1831:K1831))","v":""},{"$f":"IF(ISBLANK(Rådata!H1831),\"\",((SUM(Rådata!J1831:L1831)-SUM(Rådata!O1831:P1831))*100)/SUM(Rådata!H1831:L1831))","v":""},{"$f":"IF(ISBLANK(Rådata!R1831),\"\",(Rådata!Q1831*100)/Rådata!R1831)","v":""}]
[{"$f":"IF(ISBLANK(Rådata!A1832)=TRUE,\"\",Rådata!A1832)","v":""},{"$f":"IF(ISBLANK(Rådata!A1832)=TRUE,\"\",YEAR(A1832))","v":""},{"$f":"IF(ISBLANK(Rådata!A1832)=TRUE,\"\",VLOOKUP(MONTH(A1832),Opsætning!$G$3:$H$14,2,FALSE))","v":""},{"$f":"IF(ISBLANK(Rådata!B1832)=TRUE,\"\",(Rådata!C1832*100)/Rådata!B1832)","v":""},{"$f":"IF(ISBLANK(Rådata!D1832)=TRUE,\"\",((Rådata!D1832-Rådata!E1832)*100)/Rådata!D1832)","v":""},{"$f":"IF(ISBLANK(Rådata!G1832)=TRUE,\"\",(Rådata!F1832*100)/Rådata!G1832)","v":""},{"$f":"IF(ISBLANK(Rådata!K1832),\"\",(SUM(Rådata!M1832:P1832)*100)/SUM(Rådata!H1832:K1832))","v":""},{"$f":"IF(ISBLANK(Rådata!H1832),\"\",((SUM(Rådata!J1832:L1832)-SUM(Rådata!O1832:P1832))*100)/SUM(Rådata!H1832:L1832))","v":""},{"$f":"IF(ISBLANK(Rådata!R1832),\"\",(Rådata!Q1832*100)/Rådata!R1832)","v":""}]
[{"$f":"IF(ISBLANK(Rådata!A1833)=TRUE,\"\",Rådata!A1833)","v":""},{"$f":"IF(ISBLANK(Rådata!A1833)=TRUE,\"\",YEAR(A1833))","v":""},{"$f":"IF(ISBLANK(Rådata!A1833)=TRUE,\"\",VLOOKUP(MONTH(A1833),Opsætning!$G$3:$H$14,2,FALSE))","v":""},{"$f":"IF(ISBLANK(Rådata!B1833)=TRUE,\"\",(Rådata!C1833*100)/Rådata!B1833)","v":""},{"$f":"IF(ISBLANK(Rådata!D1833)=TRUE,\"\",((Rådata!D1833-Rådata!E1833)*100)/Rådata!D1833)","v":""},{"$f":"IF(ISBLANK(Rådata!G1833)=TRUE,\"\",(Rådata!F1833*100)/Rådata!G1833)","v":""},{"$f":"IF(ISBLANK(Rådata!K1833),\"\",(SUM(Rådata!M1833:P1833)*100)/SUM(Rådata!H1833:K1833))","v":""},{"$f":"IF(ISBLANK(Rådata!H1833),\"\",((SUM(Rådata!J1833:L1833)-SUM(Rådata!O1833:P1833))*100)/SUM(Rådata!H1833:L1833))","v":""},{"$f":"IF(ISBLANK(Rådata!R1833),\"\",(Rådata!Q1833*100)/Rådata!R1833)","v":""}]
[{"$f":"IF(ISBLANK(Rådata!A1834)=TRUE,\"\",Rådata!A1834)","v":""},{"$f":"IF(ISBLANK(Rådata!A1834)=TRUE,\"\",YEAR(A1834))","v":""},{"$f":"IF(ISBLANK(Rådata!A1834)=TRUE,\"\",VLOOKUP(MONTH(A1834),Opsætning!$G$3:$H$14,2,FALSE))","v":""},{"$f":"IF(ISBLANK(Rådata!B1834)=TRUE,\"\",(Rådata!C1834*100)/Rådata!B1834)","v":""},{"$f":"IF(ISBLANK(Rådata!D1834)=TRUE,\"\",((Rådata!D1834-Rådata!E1834)*100)/Rådata!D1834)","v":""},{"$f":"IF(ISBLANK(Rådata!G1834)=TRUE,\"\",(Rådata!F1834*100)/Rådata!G1834)","v":""},{"$f":"IF(ISBLANK(Rådata!K1834),\"\",(SUM(Rådata!M1834:P1834)*100)/SUM(Rådata!H1834:K1834))","v":""},{"$f":"IF(ISBLANK(Rådata!H1834),\"\",((SUM(Rådata!J1834:L1834)-SUM(Rådata!O1834:P1834))*100)/SUM(Rådata!H1834:L1834))","v":""},{"$f":"IF(ISBLANK(Rådata!R1834),\"\",(Rådata!Q1834*100)/Rådata!R1834)","v":""}]
[{"$f":"IF(ISBLANK(Rådata!A1835)=TRUE,\"\",Rådata!A1835)","v":""},{"$f":"IF(ISBLANK(Rådata!A1835)=TRUE,\"\",YEAR(A1835))","v":""},{"$f":"IF(ISBLANK(Rådata!A1835)=TRUE,\"\",VLOOKUP(MONTH(A1835),Opsætning!$G$3:$H$14,2,FALSE))","v":""},{"$f":"IF(ISBLANK(Rådata!B1835)=TRUE,\"\",(Rådata!C1835*100)/Rådata!B1835)","v":""},{"$f":"IF(ISBLANK(Rådata!D1835)=TRUE,\"\",((Rådata!D1835-Rådata!E1835)*100)/Rådata!D1835)","v":""},{"$f":"IF(ISBLANK(Rådata!G1835)=TRUE,\"\",(Rådata!F1835*100)/Rådata!G1835)","v":""},{"$f":"IF(ISBLANK(Rådata!K1835),\"\",(SUM(Rådata!M1835:P1835)*100)/SUM(Rådata!H1835:K1835))","v":""},{"$f":"IF(ISBLANK(Rådata!H1835),\"\",((SUM(Rådata!J1835:L1835)-SUM(Rådata!O1835:P1835))*100)/SUM(Rådata!H1835:L1835))","v":""},{"$f":"IF(ISBLANK(Rådata!R1835),\"\",(Rådata!Q1835*100)/Rådata!R1835)","v":""}]
[{"$f":"IF(ISBLANK(Rådata!A1836)=TRUE,\"\",Rådata!A1836)","v":""},{"$f":"IF(ISBLANK(Rådata!A1836)=TRUE,\"\",YEAR(A1836))","v":""},{"$f":"IF(ISBLANK(Rådata!A1836)=TRUE,\"\",VLOOKUP(MONTH(A1836),Opsætning!$G$3:$H$14,2,FALSE))","v":""},{"$f":"IF(ISBLANK(Rådata!B1836)=TRUE,\"\",(Rådata!C1836*100)/Rådata!B1836)","v":""},{"$f":"IF(ISBLANK(Rådata!D1836)=TRUE,\"\",((Rådata!D1836-Rådata!E1836)*100)/Rådata!D1836)","v":""},{"$f":"IF(ISBLANK(Rådata!G1836)=TRUE,\"\",(Rådata!F1836*100)/Rådata!G1836)","v":""},{"$f":"IF(ISBLANK(Rådata!K1836),\"\",(SUM(Rådata!M1836:P1836)*100)/SUM(Rådata!H1836:K1836))","v":""},{"$f":"IF(ISBLANK(Rådata!H1836),\"\",((SUM(Rådata!J1836:L1836)-SUM(Rådata!O1836:P1836))*100)/SUM(Rådata!H1836:L1836))","v":""},{"$f":"IF(ISBLANK(Rådata!R1836),\"\",(Rådata!Q1836*100)/Rådata!R1836)","v":""}]
[{"$f":"IF(ISBLANK(Rådata!A1837)=TRUE,\"\",Rådata!A1837)","v":""},{"$f":"IF(ISBLANK(Rådata!A1837)=TRUE,\"\",YEAR(A1837))","v":""},{"$f":"IF(ISBLANK(Rådata!A1837)=TRUE,\"\",VLOOKUP(MONTH(A1837),Opsætning!$G$3:$H$14,2,FALSE))","v":""},{"$f":"IF(ISBLANK(Rådata!B1837)=TRUE,\"\",(Rådata!C1837*100)/Rådata!B1837)","v":""},{"$f":"IF(ISBLANK(Rådata!D1837)=TRUE,\"\",((Rådata!D1837-Rådata!E1837)*100)/Rådata!D1837)","v":""},{"$f":"IF(ISBLANK(Rådata!G1837)=TRUE,\"\",(Rådata!F1837*100)/Rådata!G1837)","v":""},{"$f":"IF(ISBLANK(Rådata!K1837),\"\",(SUM(Rådata!M1837:P1837)*100)/SUM(Rådata!H1837:K1837))","v":""},{"$f":"IF(ISBLANK(Rådata!H1837),\"\",((SUM(Rådata!J1837:L1837)-SUM(Rådata!O1837:P1837))*100)/SUM(Rådata!H1837:L1837))","v":""},{"$f":"IF(ISBLANK(Rådata!R1837),\"\",(Rådata!Q1837*100)/Rådata!R1837)","v":""}]
[{"$f":"IF(ISBLANK(Rådata!A1838)=TRUE,\"\",Rådata!A1838)","v":""},{"$f":"IF(ISBLANK(Rådata!A1838)=TRUE,\"\",YEAR(A1838))","v":""},{"$f":"IF(ISBLANK(Rådata!A1838)=TRUE,\"\",VLOOKUP(MONTH(A1838),Opsætning!$G$3:$H$14,2,FALSE))","v":""},{"$f":"IF(ISBLANK(Rådata!B1838)=TRUE,\"\",(Rådata!C1838*100)/Rådata!B1838)","v":""},{"$f":"IF(ISBLANK(Rådata!D1838)=TRUE,\"\",((Rådata!D1838-Rådata!E1838)*100)/Rådata!D1838)","v":""},{"$f":"IF(ISBLANK(Rådata!G1838)=TRUE,\"\",(Rådata!F1838*100)/Rådata!G1838)","v":""},{"$f":"IF(ISBLANK(Rådata!K1838),\"\",(SUM(Rådata!M1838:P1838)*100)/SUM(Rådata!H1838:K1838))","v":""},{"$f":"IF(ISBLANK(Rådata!H1838),\"\",((SUM(Rådata!J1838:L1838)-SUM(Rådata!O1838:P1838))*100)/SUM(Rådata!H1838:L1838))","v":""},{"$f":"IF(ISBLANK(Rådata!R1838),\"\",(Rådata!Q1838*100)/Rådata!R1838)","v":""}]
[{"$f":"IF(ISBLANK(Rådata!A1839)=TRUE,\"\",Rådata!A1839)","v":""},{"$f":"IF(ISBLANK(Rådata!A1839)=TRUE,\"\",YEAR(A1839))","v":""},{"$f":"IF(ISBLANK(Rådata!A1839)=TRUE,\"\",VLOOKUP(MONTH(A1839),Opsætning!$G$3:$H$14,2,FALSE))","v":""},{"$f":"IF(ISBLANK(Rådata!B1839)=TRUE,\"\",(Rådata!C1839*100)/Rådata!B1839)","v":""},{"$f":"IF(ISBLANK(Rådata!D1839)=TRUE,\"\",((Rådata!D1839-Rådata!E1839)*100)/Rådata!D1839)","v":""},{"$f":"IF(ISBLANK(Rådata!G1839)=TRUE,\"\",(Rådata!F1839*100)/Rådata!G1839)","v":""},{"$f":"IF(ISBLANK(Rådata!K1839),\"\",(SUM(Rådata!M1839:P1839)*100)/SUM(Rådata!H1839:K1839))","v":""},{"$f":"IF(ISBLANK(Rådata!H1839),\"\",((SUM(Rådata!J1839:L1839)-SUM(Rådata!O1839:P1839))*100)/SUM(Rådata!H1839:L1839))","v":""},{"$f":"IF(ISBLANK(Rådata!R1839),\"\",(Rådata!Q1839*100)/Rådata!R1839)","v":""}]
[{"$f":"IF(ISBLANK(Rådata!A1840)=TRUE,\"\",Rådata!A1840)","v":""},{"$f":"IF(ISBLANK(Rådata!A1840)=TRUE,\"\",YEAR(A1840))","v":""},{"$f":"IF(ISBLANK(Rådata!A1840)=TRUE,\"\",VLOOKUP(MONTH(A1840),Opsætning!$G$3:$H$14,2,FALSE))","v":""},{"$f":"IF(ISBLANK(Rådata!B1840)=TRUE,\"\",(Rådata!C1840*100)/Rådata!B1840)","v":""},{"$f":"IF(ISBLANK(Rådata!D1840)=TRUE,\"\",((Rådata!D1840-Rådata!E1840)*100)/Rådata!D1840)","v":""},{"$f":"IF(ISBLANK(Rådata!G1840)=TRUE,\"\",(Rådata!F1840*100)/Rådata!G1840)","v":""},{"$f":"IF(ISBLANK(Rådata!K1840),\"\",(SUM(Rådata!M1840:P1840)*100)/SUM(Rådata!H1840:K1840))","v":""},{"$f":"IF(ISBLANK(Rådata!H1840),\"\",((SUM(Rådata!J1840:L1840)-SUM(Rådata!O1840:P1840))*100)/SUM(Rådata!H1840:L1840))","v":""},{"$f":"IF(ISBLANK(Rådata!R1840),\"\",(Rådata!Q1840*100)/Rådata!R1840)","v":""}]
[{"$f":"IF(ISBLANK(Rådata!A1841)=TRUE,\"\",Rådata!A1841)","v":""},{"$f":"IF(ISBLANK(Rådata!A1841)=TRUE,\"\",YEAR(A1841))","v":""},{"$f":"IF(ISBLANK(Rådata!A1841)=TRUE,\"\",VLOOKUP(MONTH(A1841),Opsætning!$G$3:$H$14,2,FALSE))","v":""},{"$f":"IF(ISBLANK(Rådata!B1841)=TRUE,\"\",(Rådata!C1841*100)/Rådata!B1841)","v":""},{"$f":"IF(ISBLANK(Rådata!D1841)=TRUE,\"\",((Rådata!D1841-Rådata!E1841)*100)/Rådata!D1841)","v":""},{"$f":"IF(ISBLANK(Rådata!G1841)=TRUE,\"\",(Rådata!F1841*100)/Rådata!G1841)","v":""},{"$f":"IF(ISBLANK(Rådata!K1841),\"\",(SUM(Rådata!M1841:P1841)*100)/SUM(Rådata!H1841:K1841))","v":""},{"$f":"IF(ISBLANK(Rådata!H1841),\"\",((SUM(Rådata!J1841:L1841)-SUM(Rådata!O1841:P1841))*100)/SUM(Rådata!H1841:L1841))","v":""},{"$f":"IF(ISBLANK(Rådata!R1841),\"\",(Rådata!Q1841*100)/Rådata!R1841)","v":""}]
[{"$f":"IF(ISBLANK(Rådata!A1842)=TRUE,\"\",Rådata!A1842)","v":""},{"$f":"IF(ISBLANK(Rådata!A1842)=TRUE,\"\",YEAR(A1842))","v":""},{"$f":"IF(ISBLANK(Rådata!A1842)=TRUE,\"\",VLOOKUP(MONTH(A1842),Opsætning!$G$3:$H$14,2,FALSE))","v":""},{"$f":"IF(ISBLANK(Rådata!B1842)=TRUE,\"\",(Rådata!C1842*100)/Rådata!B1842)","v":""},{"$f":"IF(ISBLANK(Rådata!D1842)=TRUE,\"\",((Rådata!D1842-Rådata!E1842)*100)/Rådata!D1842)","v":""},{"$f":"IF(ISBLANK(Rådata!G1842)=TRUE,\"\",(Rådata!F1842*100)/Rådata!G1842)","v":""},{"$f":"IF(ISBLANK(Rådata!K1842),\"\",(SUM(Rådata!M1842:P1842)*100)/SUM(Rådata!H1842:K1842))","v":""},{"$f":"IF(ISBLANK(Rådata!H1842),\"\",((SUM(Rådata!J1842:L1842)-SUM(Rådata!O1842:P1842))*100)/SUM(Rådata!H1842:L1842))","v":""},{"$f":"IF(ISBLANK(Rådata!R1842),\"\",(Rådata!Q1842*100)/Rådata!R1842)","v":""}]
[{"$f":"IF(ISBLANK(Rådata!A1843)=TRUE,\"\",Rådata!A1843)","v":""},{"$f":"IF(ISBLANK(Rådata!A1843)=TRUE,\"\",YEAR(A1843))","v":""},{"$f":"IF(ISBLANK(Rådata!A1843)=TRUE,\"\",VLOOKUP(MONTH(A1843),Opsætning!$G$3:$H$14,2,FALSE))","v":""},{"$f":"IF(ISBLANK(Rådata!B1843)=TRUE,\"\",(Rådata!C1843*100)/Rådata!B1843)","v":""},{"$f":"IF(ISBLANK(Rådata!D1843)=TRUE,\"\",((Rådata!D1843-Rådata!E1843)*100)/Rådata!D1843)","v":""},{"$f":"IF(ISBLANK(Rådata!G1843)=TRUE,\"\",(Rådata!F1843*100)/Rådata!G1843)","v":""},{"$f":"IF(ISBLANK(Rådata!K1843),\"\",(SUM(Rådata!M1843:P1843)*100)/SUM(Rådata!H1843:K1843))","v":""},{"$f":"IF(ISBLANK(Rådata!H1843),\"\",((SUM(Rådata!J1843:L1843)-SUM(Rådata!O1843:P1843))*100)/SUM(Rådata!H1843:L1843))","v":""},{"$f":"IF(ISBLANK(Rådata!R1843),\"\",(Rådata!Q1843*100)/Rådata!R1843)","v":""}]
[{"$f":"IF(ISBLANK(Rådata!A1844)=TRUE,\"\",Rådata!A1844)","v":""},{"$f":"IF(ISBLANK(Rådata!A1844)=TRUE,\"\",YEAR(A1844))","v":""},{"$f":"IF(ISBLANK(Rådata!A1844)=TRUE,\"\",VLOOKUP(MONTH(A1844),Opsætning!$G$3:$H$14,2,FALSE))","v":""},{"$f":"IF(ISBLANK(Rådata!B1844)=TRUE,\"\",(Rådata!C1844*100)/Rådata!B1844)","v":""},{"$f":"IF(ISBLANK(Rådata!D1844)=TRUE,\"\",((Rådata!D1844-Rådata!E1844)*100)/Rådata!D1844)","v":""},{"$f":"IF(ISBLANK(Rådata!G1844)=TRUE,\"\",(Rådata!F1844*100)/Rådata!G1844)","v":""},{"$f":"IF(ISBLANK(Rådata!K1844),\"\",(SUM(Rådata!M1844:P1844)*100)/SUM(Rådata!H1844:K1844))","v":""},{"$f":"IF(ISBLANK(Rådata!H1844),\"\",((SUM(Rådata!J1844:L1844)-SUM(Rådata!O1844:P1844))*100)/SUM(Rådata!H1844:L1844))","v":""},{"$f":"IF(ISBLANK(Rådata!R1844),\"\",(Rådata!Q1844*100)/Rådata!R1844)","v":""}]
[{"$f":"IF(ISBLANK(Rådata!A1845)=TRUE,\"\",Rådata!A1845)","v":""},{"$f":"IF(ISBLANK(Rådata!A1845)=TRUE,\"\",YEAR(A1845))","v":""},{"$f":"IF(ISBLANK(Rådata!A1845)=TRUE,\"\",VLOOKUP(MONTH(A1845),Opsætning!$G$3:$H$14,2,FALSE))","v":""},{"$f":"IF(ISBLANK(Rådata!B1845)=TRUE,\"\",(Rådata!C1845*100)/Rådata!B1845)","v":""},{"$f":"IF(ISBLANK(Rådata!D1845)=TRUE,\"\",((Rådata!D1845-Rådata!E1845)*100)/Rådata!D1845)","v":""},{"$f":"IF(ISBLANK(Rådata!G1845)=TRUE,\"\",(Rådata!F1845*100)/Rådata!G1845)","v":""},{"$f":"IF(ISBLANK(Rådata!K1845),\"\",(SUM(Rådata!M1845:P1845)*100)/SUM(Rådata!H1845:K1845))","v":""},{"$f":"IF(ISBLANK(Rådata!H1845),\"\",((SUM(Rådata!J1845:L1845)-SUM(Rådata!O1845:P1845))*100)/SUM(Rådata!H1845:L1845))","v":""},{"$f":"IF(ISBLANK(Rådata!R1845),\"\",(Rådata!Q1845*100)/Rådata!R1845)","v":""}]
[{"$f":"IF(ISBLANK(Rådata!A1846)=TRUE,\"\",Rådata!A1846)","v":""},{"$f":"IF(ISBLANK(Rådata!A1846)=TRUE,\"\",YEAR(A1846))","v":""},{"$f":"IF(ISBLANK(Rådata!A1846)=TRUE,\"\",VLOOKUP(MONTH(A1846),Opsætning!$G$3:$H$14,2,FALSE))","v":""},{"$f":"IF(ISBLANK(Rådata!B1846)=TRUE,\"\",(Rådata!C1846*100)/Rådata!B1846)","v":""},{"$f":"IF(ISBLANK(Rådata!D1846)=TRUE,\"\",((Rådata!D1846-Rådata!E1846)*100)/Rådata!D1846)","v":""},{"$f":"IF(ISBLANK(Rådata!G1846)=TRUE,\"\",(Rådata!F1846*100)/Rådata!G1846)","v":""},{"$f":"IF(ISBLANK(Rådata!K1846),\"\",(SUM(Rådata!M1846:P1846)*100)/SUM(Rådata!H1846:K1846))","v":""},{"$f":"IF(ISBLANK(Rådata!H1846),\"\",((SUM(Rådata!J1846:L1846)-SUM(Rådata!O1846:P1846))*100)/SUM(Rådata!H1846:L1846))","v":""},{"$f":"IF(ISBLANK(Rådata!R1846),\"\",(Rådata!Q1846*100)/Rådata!R1846)","v":""}]
[{"$f":"IF(ISBLANK(Rådata!A1847)=TRUE,\"\",Rådata!A1847)","v":""},{"$f":"IF(ISBLANK(Rådata!A1847)=TRUE,\"\",YEAR(A1847))","v":""},{"$f":"IF(ISBLANK(Rådata!A1847)=TRUE,\"\",VLOOKUP(MONTH(A1847),Opsætning!$G$3:$H$14,2,FALSE))","v":""},{"$f":"IF(ISBLANK(Rådata!B1847)=TRUE,\"\",(Rådata!C1847*100)/Rådata!B1847)","v":""},{"$f":"IF(ISBLANK(Rådata!D1847)=TRUE,\"\",((Rådata!D1847-Rådata!E1847)*100)/Rådata!D1847)","v":""},{"$f":"IF(ISBLANK(Rådata!G1847)=TRUE,\"\",(Rådata!F1847*100)/Rådata!G1847)","v":""},{"$f":"IF(ISBLANK(Rådata!K1847),\"\",(SUM(Rådata!M1847:P1847)*100)/SUM(Rådata!H1847:K1847))","v":""},{"$f":"IF(ISBLANK(Rådata!H1847),\"\",((SUM(Rådata!J1847:L1847)-SUM(Rådata!O1847:P1847))*100)/SUM(Rådata!H1847:L1847))","v":""},{"$f":"IF(ISBLANK(Rådata!R1847),\"\",(Rådata!Q1847*100)/Rådata!R1847)","v":""}]
[{"$f":"IF(ISBLANK(Rådata!A1848)=TRUE,\"\",Rådata!A1848)","v":""},{"$f":"IF(ISBLANK(Rådata!A1848)=TRUE,\"\",YEAR(A1848))","v":""},{"$f":"IF(ISBLANK(Rådata!A1848)=TRUE,\"\",VLOOKUP(MONTH(A1848),Opsætning!$G$3:$H$14,2,FALSE))","v":""},{"$f":"IF(ISBLANK(Rådata!B1848)=TRUE,\"\",(Rådata!C1848*100)/Rådata!B1848)","v":""},{"$f":"IF(ISBLANK(Rådata!D1848)=TRUE,\"\",((Rådata!D1848-Rådata!E1848)*100)/Rådata!D1848)","v":""},{"$f":"IF(ISBLANK(Rådata!G1848)=TRUE,\"\",(Rådata!F1848*100)/Rådata!G1848)","v":""},{"$f":"IF(ISBLANK(Rådata!K1848),\"\",(SUM(Rådata!M1848:P1848)*100)/SUM(Rådata!H1848:K1848))","v":""},{"$f":"IF(ISBLANK(Rådata!H1848),\"\",((SUM(Rådata!J1848:L1848)-SUM(Rådata!O1848:P1848))*100)/SUM(Rådata!H1848:L1848))","v":""},{"$f":"IF(ISBLANK(Rådata!R1848),\"\",(Rådata!Q1848*100)/Rådata!R1848)","v":""}]
[{"$f":"IF(ISBLANK(Rådata!A1849)=TRUE,\"\",Rådata!A1849)","v":""},{"$f":"IF(ISBLANK(Rådata!A1849)=TRUE,\"\",YEAR(A1849))","v":""},{"$f":"IF(ISBLANK(Rådata!A1849)=TRUE,\"\",VLOOKUP(MONTH(A1849),Opsætning!$G$3:$H$14,2,FALSE))","v":""},{"$f":"IF(ISBLANK(Rådata!B1849)=TRUE,\"\",(Rådata!C1849*100)/Rådata!B1849)","v":""},{"$f":"IF(ISBLANK(Rådata!D1849)=TRUE,\"\",((Rådata!D1849-Rådata!E1849)*100)/Rådata!D1849)","v":""},{"$f":"IF(ISBLANK(Rådata!G1849)=TRUE,\"\",(Rådata!F1849*100)/Rådata!G1849)","v":""},{"$f":"IF(ISBLANK(Rådata!K1849),\"\",(SUM(Rådata!M1849:P1849)*100)/SUM(Rådata!H1849:K1849))","v":""},{"$f":"IF(ISBLANK(Rådata!H1849),\"\",((SUM(Rådata!J1849:L1849)-SUM(Rådata!O1849:P1849))*100)/SUM(Rådata!H1849:L1849))","v":""},{"$f":"IF(ISBLANK(Rådata!R1849),\"\",(Rådata!Q1849*100)/Rådata!R1849)","v":""}]
[{"$f":"IF(ISBLANK(Rådata!A1850)=TRUE,\"\",Rådata!A1850)","v":""},{"$f":"IF(ISBLANK(Rådata!A1850)=TRUE,\"\",YEAR(A1850))","v":""},{"$f":"IF(ISBLANK(Rådata!A1850)=TRUE,\"\",VLOOKUP(MONTH(A1850),Opsætning!$G$3:$H$14,2,FALSE))","v":""},{"$f":"IF(ISBLANK(Rådata!B1850)=TRUE,\"\",(Rådata!C1850*100)/Rådata!B1850)","v":""},{"$f":"IF(ISBLANK(Rådata!D1850)=TRUE,\"\",((Rådata!D1850-Rådata!E1850)*100)/Rådata!D1850)","v":""},{"$f":"IF(ISBLANK(Rådata!G1850)=TRUE,\"\",(Rådata!F1850*100)/Rådata!G1850)","v":""},{"$f":"IF(ISBLANK(Rådata!K1850),\"\",(SUM(Rådata!M1850:P1850)*100)/SUM(Rådata!H1850:K1850))","v":""},{"$f":"IF(ISBLANK(Rådata!H1850),\"\",((SUM(Rådata!J1850:L1850)-SUM(Rådata!O1850:P1850))*100)/SUM(Rådata!H1850:L1850))","v":""},{"$f":"IF(ISBLANK(Rådata!R1850),\"\",(Rådata!Q1850*100)/Rådata!R1850)","v":""}]
[{"$f":"IF(ISBLANK(Rådata!A1851)=TRUE,\"\",Rådata!A1851)","v":""},{"$f":"IF(ISBLANK(Rådata!A1851)=TRUE,\"\",YEAR(A1851))","v":""},{"$f":"IF(ISBLANK(Rådata!A1851)=TRUE,\"\",VLOOKUP(MONTH(A1851),Opsætning!$G$3:$H$14,2,FALSE))","v":""},{"$f":"IF(ISBLANK(Rådata!B1851)=TRUE,\"\",(Rådata!C1851*100)/Rådata!B1851)","v":""},{"$f":"IF(ISBLANK(Rådata!D1851)=TRUE,\"\",((Rådata!D1851-Rådata!E1851)*100)/Rådata!D1851)","v":""},{"$f":"IF(ISBLANK(Rådata!G1851)=TRUE,\"\",(Rådata!F1851*100)/Rådata!G1851)","v":""},{"$f":"IF(ISBLANK(Rådata!K1851),\"\",(SUM(Rådata!M1851:P1851)*100)/SUM(Rådata!H1851:K1851))","v":""},{"$f":"IF(ISBLANK(Rådata!H1851),\"\",((SUM(Rådata!J1851:L1851)-SUM(Rådata!O1851:P1851))*100)/SUM(Rådata!H1851:L1851))","v":""},{"$f":"IF(ISBLANK(Rådata!R1851),\"\",(Rådata!Q1851*100)/Rådata!R1851)","v":""}]
[{"$f":"IF(ISBLANK(Rådata!A1852)=TRUE,\"\",Rådata!A1852)","v":""},{"$f":"IF(ISBLANK(Rådata!A1852)=TRUE,\"\",YEAR(A1852))","v":""},{"$f":"IF(ISBLANK(Rådata!A1852)=TRUE,\"\",VLOOKUP(MONTH(A1852),Opsætning!$G$3:$H$14,2,FALSE))","v":""},{"$f":"IF(ISBLANK(Rådata!B1852)=TRUE,\"\",(Rådata!C1852*100)/Rådata!B1852)","v":""},{"$f":"IF(ISBLANK(Rådata!D1852)=TRUE,\"\",((Rådata!D1852-Rådata!E1852)*100)/Rådata!D1852)","v":""},{"$f":"IF(ISBLANK(Rådata!G1852)=TRUE,\"\",(Rådata!F1852*100)/Rådata!G1852)","v":""},{"$f":"IF(ISBLANK(Rådata!K1852),\"\",(SUM(Rådata!M1852:P1852)*100)/SUM(Rådata!H1852:K1852))","v":""},{"$f":"IF(ISBLANK(Rådata!H1852),\"\",((SUM(Rådata!J1852:L1852)-SUM(Rådata!O1852:P1852))*100)/SUM(Rådata!H1852:L1852))","v":""},{"$f":"IF(ISBLANK(Rådata!R1852),\"\",(Rådata!Q1852*100)/Rådata!R1852)","v":""}]
[{"$f":"IF(ISBLANK(Rådata!A1853)=TRUE,\"\",Rådata!A1853)","v":""},{"$f":"IF(ISBLANK(Rådata!A1853)=TRUE,\"\",YEAR(A1853))","v":""},{"$f":"IF(ISBLANK(Rådata!A1853)=TRUE,\"\",VLOOKUP(MONTH(A1853),Opsætning!$G$3:$H$14,2,FALSE))","v":""},{"$f":"IF(ISBLANK(Rådata!B1853)=TRUE,\"\",(Rådata!C1853*100)/Rådata!B1853)","v":""},{"$f":"IF(ISBLANK(Rådata!D1853)=TRUE,\"\",((Rådata!D1853-Rådata!E1853)*100)/Rådata!D1853)","v":""},{"$f":"IF(ISBLANK(Rådata!G1853)=TRUE,\"\",(Rådata!F1853*100)/Rådata!G1853)","v":""},{"$f":"IF(ISBLANK(Rådata!K1853),\"\",(SUM(Rådata!M1853:P1853)*100)/SUM(Rådata!H1853:K1853))","v":""},{"$f":"IF(ISBLANK(Rådata!H1853),\"\",((SUM(Rådata!J1853:L1853)-SUM(Rådata!O1853:P1853))*100)/SUM(Rådata!H1853:L1853))","v":""},{"$f":"IF(ISBLANK(Rådata!R1853),\"\",(Rådata!Q1853*100)/Rådata!R1853)","v":""}]
[{"$f":"IF(ISBLANK(Rådata!A1854)=TRUE,\"\",Rådata!A1854)","v":""},{"$f":"IF(ISBLANK(Rådata!A1854)=TRUE,\"\",YEAR(A1854))","v":""},{"$f":"IF(ISBLANK(Rådata!A1854)=TRUE,\"\",VLOOKUP(MONTH(A1854),Opsætning!$G$3:$H$14,2,FALSE))","v":""},{"$f":"IF(ISBLANK(Rådata!B1854)=TRUE,\"\",(Rådata!C1854*100)/Rådata!B1854)","v":""},{"$f":"IF(ISBLANK(Rådata!D1854)=TRUE,\"\",((Rådata!D1854-Rådata!E1854)*100)/Rådata!D1854)","v":""},{"$f":"IF(ISBLANK(Rådata!G1854)=TRUE,\"\",(Rådata!F1854*100)/Rådata!G1854)","v":""},{"$f":"IF(ISBLANK(Rådata!K1854),\"\",(SUM(Rådata!M1854:P1854)*100)/SUM(Rådata!H1854:K1854))","v":""},{"$f":"IF(ISBLANK(Rådata!H1854),\"\",((SUM(Rådata!J1854:L1854)-SUM(Rådata!O1854:P1854))*100)/SUM(Rådata!H1854:L1854))","v":""},{"$f":"IF(ISBLANK(Rådata!R1854),\"\",(Rådata!Q1854*100)/Rådata!R1854)","v":""}]
[{"$f":"IF(ISBLANK(Rådata!A1855)=TRUE,\"\",Rådata!A1855)","v":""},{"$f":"IF(ISBLANK(Rådata!A1855)=TRUE,\"\",YEAR(A1855))","v":""},{"$f":"IF(ISBLANK(Rådata!A1855)=TRUE,\"\",VLOOKUP(MONTH(A1855),Opsætning!$G$3:$H$14,2,FALSE))","v":""},{"$f":"IF(ISBLANK(Rådata!B1855)=TRUE,\"\",(Rådata!C1855*100)/Rådata!B1855)","v":""},{"$f":"IF(ISBLANK(Rådata!D1855)=TRUE,\"\",((Rådata!D1855-Rådata!E1855)*100)/Rådata!D1855)","v":""},{"$f":"IF(ISBLANK(Rådata!G1855)=TRUE,\"\",(Rådata!F1855*100)/Rådata!G1855)","v":""},{"$f":"IF(ISBLANK(Rådata!K1855),\"\",(SUM(Rådata!M1855:P1855)*100)/SUM(Rådata!H1855:K1855))","v":""},{"$f":"IF(ISBLANK(Rådata!H1855),\"\",((SUM(Rådata!J1855:L1855)-SUM(Rådata!O1855:P1855))*100)/SUM(Rådata!H1855:L1855))","v":""},{"$f":"IF(ISBLANK(Rådata!R1855),\"\",(Rådata!Q1855*100)/Rådata!R1855)","v":""}]
[{"$f":"IF(ISBLANK(Rådata!A1856)=TRUE,\"\",Rådata!A1856)","v":""},{"$f":"IF(ISBLANK(Rådata!A1856)=TRUE,\"\",YEAR(A1856))","v":""},{"$f":"IF(ISBLANK(Rådata!A1856)=TRUE,\"\",VLOOKUP(MONTH(A1856),Opsætning!$G$3:$H$14,2,FALSE))","v":""},{"$f":"IF(ISBLANK(Rådata!B1856)=TRUE,\"\",(Rådata!C1856*100)/Rådata!B1856)","v":""},{"$f":"IF(ISBLANK(Rådata!D1856)=TRUE,\"\",((Rådata!D1856-Rådata!E1856)*100)/Rådata!D1856)","v":""},{"$f":"IF(ISBLANK(Rådata!G1856)=TRUE,\"\",(Rådata!F1856*100)/Rådata!G1856)","v":""},{"$f":"IF(ISBLANK(Rådata!K1856),\"\",(SUM(Rådata!M1856:P1856)*100)/SUM(Rådata!H1856:K1856))","v":""},{"$f":"IF(ISBLANK(Rådata!H1856),\"\",((SUM(Rådata!J1856:L1856)-SUM(Rådata!O1856:P1856))*100)/SUM(Rådata!H1856:L1856))","v":""},{"$f":"IF(ISBLANK(Rådata!R1856),\"\",(Rådata!Q1856*100)/Rådata!R1856)","v":""}]
[{"$f":"IF(ISBLANK(Rådata!A1857)=TRUE,\"\",Rådata!A1857)","v":""},{"$f":"IF(ISBLANK(Rådata!A1857)=TRUE,\"\",YEAR(A1857))","v":""},{"$f":"IF(ISBLANK(Rådata!A1857)=TRUE,\"\",VLOOKUP(MONTH(A1857),Opsætning!$G$3:$H$14,2,FALSE))","v":""},{"$f":"IF(ISBLANK(Rådata!B1857)=TRUE,\"\",(Rådata!C1857*100)/Rådata!B1857)","v":""},{"$f":"IF(ISBLANK(Rådata!D1857)=TRUE,\"\",((Rådata!D1857-Rådata!E1857)*100)/Rådata!D1857)","v":""},{"$f":"IF(ISBLANK(Rådata!G1857)=TRUE,\"\",(Rådata!F1857*100)/Rådata!G1857)","v":""},{"$f":"IF(ISBLANK(Rådata!K1857),\"\",(SUM(Rådata!M1857:P1857)*100)/SUM(Rådata!H1857:K1857))","v":""},{"$f":"IF(ISBLANK(Rådata!H1857),\"\",((SUM(Rådata!J1857:L1857)-SUM(Rådata!O1857:P1857))*100)/SUM(Rådata!H1857:L1857))","v":""},{"$f":"IF(ISBLANK(Rådata!R1857),\"\",(Rådata!Q1857*100)/Rådata!R1857)","v":""}]
[{"$f":"IF(ISBLANK(Rådata!A1858)=TRUE,\"\",Rådata!A1858)","v":""},{"$f":"IF(ISBLANK(Rådata!A1858)=TRUE,\"\",YEAR(A1858))","v":""},{"$f":"IF(ISBLANK(Rådata!A1858)=TRUE,\"\",VLOOKUP(MONTH(A1858),Opsætning!$G$3:$H$14,2,FALSE))","v":""},{"$f":"IF(ISBLANK(Rådata!B1858)=TRUE,\"\",(Rådata!C1858*100)/Rådata!B1858)","v":""},{"$f":"IF(ISBLANK(Rådata!D1858)=TRUE,\"\",((Rådata!D1858-Rådata!E1858)*100)/Rådata!D1858)","v":""},{"$f":"IF(ISBLANK(Rådata!G1858)=TRUE,\"\",(Rådata!F1858*100)/Rådata!G1858)","v":""},{"$f":"IF(ISBLANK(Rådata!K1858),\"\",(SUM(Rådata!M1858:P1858)*100)/SUM(Rådata!H1858:K1858))","v":""},{"$f":"IF(ISBLANK(Rådata!H1858),\"\",((SUM(Rådata!J1858:L1858)-SUM(Rådata!O1858:P1858))*100)/SUM(Rådata!H1858:L1858))","v":""},{"$f":"IF(ISBLANK(Rådata!R1858),\"\",(Rådata!Q1858*100)/Rådata!R1858)","v":""}]
[{"$f":"IF(ISBLANK(Rådata!A1859)=TRUE,\"\",Rådata!A1859)","v":""},{"$f":"IF(ISBLANK(Rådata!A1859)=TRUE,\"\",YEAR(A1859))","v":""},{"$f":"IF(ISBLANK(Rådata!A1859)=TRUE,\"\",VLOOKUP(MONTH(A1859),Opsætning!$G$3:$H$14,2,FALSE))","v":""},{"$f":"IF(ISBLANK(Rådata!B1859)=TRUE,\"\",(Rådata!C1859*100)/Rådata!B1859)","v":""},{"$f":"IF(ISBLANK(Rådata!D1859)=TRUE,\"\",((Rådata!D1859-Rådata!E1859)*100)/Rådata!D1859)","v":""},{"$f":"IF(ISBLANK(Rådata!G1859)=TRUE,\"\",(Rådata!F1859*100)/Rådata!G1859)","v":""},{"$f":"IF(ISBLANK(Rådata!K1859),\"\",(SUM(Rådata!M1859:P1859)*100)/SUM(Rådata!H1859:K1859))","v":""},{"$f":"IF(ISBLANK(Rådata!H1859),\"\",((SUM(Rådata!J1859:L1859)-SUM(Rådata!O1859:P1859))*100)/SUM(Rådata!H1859:L1859))","v":""},{"$f":"IF(ISBLANK(Rådata!R1859),\"\",(Rådata!Q1859*100)/Rådata!R1859)","v":""}]
[{"$f":"IF(ISBLANK(Rådata!A1860)=TRUE,\"\",Rådata!A1860)","v":""},{"$f":"IF(ISBLANK(Rådata!A1860)=TRUE,\"\",YEAR(A1860))","v":""},{"$f":"IF(ISBLANK(Rådata!A1860)=TRUE,\"\",VLOOKUP(MONTH(A1860),Opsætning!$G$3:$H$14,2,FALSE))","v":""},{"$f":"IF(ISBLANK(Rådata!B1860)=TRUE,\"\",(Rådata!C1860*100)/Rådata!B1860)","v":""},{"$f":"IF(ISBLANK(Rådata!D1860)=TRUE,\"\",((Rådata!D1860-Rådata!E1860)*100)/Rådata!D1860)","v":""},{"$f":"IF(ISBLANK(Rådata!G1860)=TRUE,\"\",(Rådata!F1860*100)/Rådata!G1860)","v":""},{"$f":"IF(ISBLANK(Rådata!K1860),\"\",(SUM(Rådata!M1860:P1860)*100)/SUM(Rådata!H1860:K1860))","v":""},{"$f":"IF(ISBLANK(Rådata!H1860),\"\",((SUM(Rådata!J1860:L1860)-SUM(Rådata!O1860:P1860))*100)/SUM(Rådata!H1860:L1860))","v":""},{"$f":"IF(ISBLANK(Rådata!R1860),\"\",(Rådata!Q1860*100)/Rådata!R1860)","v":""}]
[{"$f":"IF(ISBLANK(Rådata!A1861)=TRUE,\"\",Rådata!A1861)","v":""},{"$f":"IF(ISBLANK(Rådata!A1861)=TRUE,\"\",YEAR(A1861))","v":""},{"$f":"IF(ISBLANK(Rådata!A1861)=TRUE,\"\",VLOOKUP(MONTH(A1861),Opsætning!$G$3:$H$14,2,FALSE))","v":""},{"$f":"IF(ISBLANK(Rådata!B1861)=TRUE,\"\",(Rådata!C1861*100)/Rådata!B1861)","v":""},{"$f":"IF(ISBLANK(Rådata!D1861)=TRUE,\"\",((Rådata!D1861-Rådata!E1861)*100)/Rådata!D1861)","v":""},{"$f":"IF(ISBLANK(Rådata!G1861)=TRUE,\"\",(Rådata!F1861*100)/Rådata!G1861)","v":""},{"$f":"IF(ISBLANK(Rådata!K1861),\"\",(SUM(Rådata!M1861:P1861)*100)/SUM(Rådata!H1861:K1861))","v":""},{"$f":"IF(ISBLANK(Rådata!H1861),\"\",((SUM(Rådata!J1861:L1861)-SUM(Rådata!O1861:P1861))*100)/SUM(Rådata!H1861:L1861))","v":""},{"$f":"IF(ISBLANK(Rådata!R1861),\"\",(Rådata!Q1861*100)/Rådata!R1861)","v":""}]
[{"$f":"IF(ISBLANK(Rådata!A1862)=TRUE,\"\",Rådata!A1862)","v":""},{"$f":"IF(ISBLANK(Rådata!A1862)=TRUE,\"\",YEAR(A1862))","v":""},{"$f":"IF(ISBLANK(Rådata!A1862)=TRUE,\"\",VLOOKUP(MONTH(A1862),Opsætning!$G$3:$H$14,2,FALSE))","v":""},{"$f":"IF(ISBLANK(Rådata!B1862)=TRUE,\"\",(Rådata!C1862*100)/Rådata!B1862)","v":""},{"$f":"IF(ISBLANK(Rådata!D1862)=TRUE,\"\",((Rådata!D1862-Rådata!E1862)*100)/Rådata!D1862)","v":""},{"$f":"IF(ISBLANK(Rådata!G1862)=TRUE,\"\",(Rådata!F1862*100)/Rådata!G1862)","v":""},{"$f":"IF(ISBLANK(Rådata!K1862),\"\",(SUM(Rådata!M1862:P1862)*100)/SUM(Rådata!H1862:K1862))","v":""},{"$f":"IF(ISBLANK(Rådata!H1862),\"\",((SUM(Rådata!J1862:L1862)-SUM(Rådata!O1862:P1862))*100)/SUM(Rådata!H1862:L1862))","v":""},{"$f":"IF(ISBLANK(Rådata!R1862),\"\",(Rådata!Q1862*100)/Rådata!R1862)","v":""}]
[{"$f":"IF(ISBLANK(Rådata!A1863)=TRUE,\"\",Rådata!A1863)","v":""},{"$f":"IF(ISBLANK(Rådata!A1863)=TRUE,\"\",YEAR(A1863))","v":""},{"$f":"IF(ISBLANK(Rådata!A1863)=TRUE,\"\",VLOOKUP(MONTH(A1863),Opsætning!$G$3:$H$14,2,FALSE))","v":""},{"$f":"IF(ISBLANK(Rådata!B1863)=TRUE,\"\",(Rådata!C1863*100)/Rådata!B1863)","v":""},{"$f":"IF(ISBLANK(Rådata!D1863)=TRUE,\"\",((Rådata!D1863-Rådata!E1863)*100)/Rådata!D1863)","v":""},{"$f":"IF(ISBLANK(Rådata!G1863)=TRUE,\"\",(Rådata!F1863*100)/Rådata!G1863)","v":""},{"$f":"IF(ISBLANK(Rådata!K1863),\"\",(SUM(Rådata!M1863:P1863)*100)/SUM(Rådata!H1863:K1863))","v":""},{"$f":"IF(ISBLANK(Rådata!H1863),\"\",((SUM(Rådata!J1863:L1863)-SUM(Rådata!O1863:P1863))*100)/SUM(Rådata!H1863:L1863))","v":""},{"$f":"IF(ISBLANK(Rådata!R1863),\"\",(Rådata!Q1863*100)/Rådata!R1863)","v":""}]
[{"$f":"IF(ISBLANK(Rådata!A1864)=TRUE,\"\",Rådata!A1864)","v":""},{"$f":"IF(ISBLANK(Rådata!A1864)=TRUE,\"\",YEAR(A1864))","v":""},{"$f":"IF(ISBLANK(Rådata!A1864)=TRUE,\"\",VLOOKUP(MONTH(A1864),Opsætning!$G$3:$H$14,2,FALSE))","v":""},{"$f":"IF(ISBLANK(Rådata!B1864)=TRUE,\"\",(Rådata!C1864*100)/Rådata!B1864)","v":""},{"$f":"IF(ISBLANK(Rådata!D1864)=TRUE,\"\",((Rådata!D1864-Rådata!E1864)*100)/Rådata!D1864)","v":""},{"$f":"IF(ISBLANK(Rådata!G1864)=TRUE,\"\",(Rådata!F1864*100)/Rådata!G1864)","v":""},{"$f":"IF(ISBLANK(Rådata!K1864),\"\",(SUM(Rådata!M1864:P1864)*100)/SUM(Rådata!H1864:K1864))","v":""},{"$f":"IF(ISBLANK(Rådata!H1864),\"\",((SUM(Rådata!J1864:L1864)-SUM(Rådata!O1864:P1864))*100)/SUM(Rådata!H1864:L1864))","v":""},{"$f":"IF(ISBLANK(Rådata!R1864),\"\",(Rådata!Q1864*100)/Rådata!R1864)","v":""}]
[{"$f":"IF(ISBLANK(Rådata!A1865)=TRUE,\"\",Rådata!A1865)","v":""},{"$f":"IF(ISBLANK(Rådata!A1865)=TRUE,\"\",YEAR(A1865))","v":""},{"$f":"IF(ISBLANK(Rådata!A1865)=TRUE,\"\",VLOOKUP(MONTH(A1865),Opsætning!$G$3:$H$14,2,FALSE))","v":""},{"$f":"IF(ISBLANK(Rådata!B1865)=TRUE,\"\",(Rådata!C1865*100)/Rådata!B1865)","v":""},{"$f":"IF(ISBLANK(Rådata!D1865)=TRUE,\"\",((Rådata!D1865-Rådata!E1865)*100)/Rådata!D1865)","v":""},{"$f":"IF(ISBLANK(Rådata!G1865)=TRUE,\"\",(Rådata!F1865*100)/Rådata!G1865)","v":""},{"$f":"IF(ISBLANK(Rådata!K1865),\"\",(SUM(Rådata!M1865:P1865)*100)/SUM(Rådata!H1865:K1865))","v":""},{"$f":"IF(ISBLANK(Rådata!H1865),\"\",((SUM(Rådata!J1865:L1865)-SUM(Rådata!O1865:P1865))*100)/SUM(Rådata!H1865:L1865))","v":""},{"$f":"IF(ISBLANK(Rådata!R1865),\"\",(Rådata!Q1865*100)/Rådata!R1865)","v":""}]
[{"$f":"IF(ISBLANK(Rådata!A1866)=TRUE,\"\",Rådata!A1866)","v":""},{"$f":"IF(ISBLANK(Rådata!A1866)=TRUE,\"\",YEAR(A1866))","v":""},{"$f":"IF(ISBLANK(Rådata!A1866)=TRUE,\"\",VLOOKUP(MONTH(A1866),Opsætning!$G$3:$H$14,2,FALSE))","v":""},{"$f":"IF(ISBLANK(Rådata!B1866)=TRUE,\"\",(Rådata!C1866*100)/Rådata!B1866)","v":""},{"$f":"IF(ISBLANK(Rådata!D1866)=TRUE,\"\",((Rådata!D1866-Rådata!E1866)*100)/Rådata!D1866)","v":""},{"$f":"IF(ISBLANK(Rådata!G1866)=TRUE,\"\",(Rådata!F1866*100)/Rådata!G1866)","v":""},{"$f":"IF(ISBLANK(Rådata!K1866),\"\",(SUM(Rådata!M1866:P1866)*100)/SUM(Rådata!H1866:K1866))","v":""},{"$f":"IF(ISBLANK(Rådata!H1866),\"\",((SUM(Rådata!J1866:L1866)-SUM(Rådata!O1866:P1866))*100)/SUM(Rådata!H1866:L1866))","v":""},{"$f":"IF(ISBLANK(Rådata!R1866),\"\",(Rådata!Q1866*100)/Rådata!R1866)","v":""}]
[{"$f":"IF(ISBLANK(Rådata!A1867)=TRUE,\"\",Rådata!A1867)","v":""},{"$f":"IF(ISBLANK(Rådata!A1867)=TRUE,\"\",YEAR(A1867))","v":""},{"$f":"IF(ISBLANK(Rådata!A1867)=TRUE,\"\",VLOOKUP(MONTH(A1867),Opsætning!$G$3:$H$14,2,FALSE))","v":""},{"$f":"IF(ISBLANK(Rådata!B1867)=TRUE,\"\",(Rådata!C1867*100)/Rådata!B1867)","v":""},{"$f":"IF(ISBLANK(Rådata!D1867)=TRUE,\"\",((Rådata!D1867-Rådata!E1867)*100)/Rådata!D1867)","v":""},{"$f":"IF(ISBLANK(Rådata!G1867)=TRUE,\"\",(Rådata!F1867*100)/Rådata!G1867)","v":""},{"$f":"IF(ISBLANK(Rådata!K1867),\"\",(SUM(Rådata!M1867:P1867)*100)/SUM(Rådata!H1867:K1867))","v":""},{"$f":"IF(ISBLANK(Rådata!H1867),\"\",((SUM(Rådata!J1867:L1867)-SUM(Rådata!O1867:P1867))*100)/SUM(Rådata!H1867:L1867))","v":""},{"$f":"IF(ISBLANK(Rådata!R1867),\"\",(Rådata!Q1867*100)/Rådata!R1867)","v":""}]
[{"$f":"IF(ISBLANK(Rådata!A1868)=TRUE,\"\",Rådata!A1868)","v":""},{"$f":"IF(ISBLANK(Rådata!A1868)=TRUE,\"\",YEAR(A1868))","v":""},{"$f":"IF(ISBLANK(Rådata!A1868)=TRUE,\"\",VLOOKUP(MONTH(A1868),Opsætning!$G$3:$H$14,2,FALSE))","v":""},{"$f":"IF(ISBLANK(Rådata!B1868)=TRUE,\"\",(Rådata!C1868*100)/Rådata!B1868)","v":""},{"$f":"IF(ISBLANK(Rådata!D1868)=TRUE,\"\",((Rådata!D1868-Rådata!E1868)*100)/Rådata!D1868)","v":""},{"$f":"IF(ISBLANK(Rådata!G1868)=TRUE,\"\",(Rådata!F1868*100)/Rådata!G1868)","v":""},{"$f":"IF(ISBLANK(Rådata!K1868),\"\",(SUM(Rådata!M1868:P1868)*100)/SUM(Rådata!H1868:K1868))","v":""},{"$f":"IF(ISBLANK(Rådata!H1868),\"\",((SUM(Rådata!J1868:L1868)-SUM(Rådata!O1868:P1868))*100)/SUM(Rådata!H1868:L1868))","v":""},{"$f":"IF(ISBLANK(Rådata!R1868),\"\",(Rådata!Q1868*100)/Rådata!R1868)","v":""}]
[{"$f":"IF(ISBLANK(Rådata!A1869)=TRUE,\"\",Rådata!A1869)","v":""},{"$f":"IF(ISBLANK(Rådata!A1869)=TRUE,\"\",YEAR(A1869))","v":""},{"$f":"IF(ISBLANK(Rådata!A1869)=TRUE,\"\",VLOOKUP(MONTH(A1869),Opsætning!$G$3:$H$14,2,FALSE))","v":""},{"$f":"IF(ISBLANK(Rådata!B1869)=TRUE,\"\",(Rådata!C1869*100)/Rådata!B1869)","v":""},{"$f":"IF(ISBLANK(Rådata!D1869)=TRUE,\"\",((Rådata!D1869-Rådata!E1869)*100)/Rådata!D1869)","v":""},{"$f":"IF(ISBLANK(Rådata!G1869)=TRUE,\"\",(Rådata!F1869*100)/Rådata!G1869)","v":""},{"$f":"IF(ISBLANK(Rådata!K1869),\"\",(SUM(Rådata!M1869:P1869)*100)/SUM(Rådata!H1869:K1869))","v":""},{"$f":"IF(ISBLANK(Rådata!H1869),\"\",((SUM(Rådata!J1869:L1869)-SUM(Rådata!O1869:P1869))*100)/SUM(Rådata!H1869:L1869))","v":""},{"$f":"IF(ISBLANK(Rådata!R1869),\"\",(Rådata!Q1869*100)/Rådata!R1869)","v":""}]
[{"$f":"IF(ISBLANK(Rådata!A1870)=TRUE,\"\",Rådata!A1870)","v":""},{"$f":"IF(ISBLANK(Rådata!A1870)=TRUE,\"\",YEAR(A1870))","v":""},{"$f":"IF(ISBLANK(Rådata!A1870)=TRUE,\"\",VLOOKUP(MONTH(A1870),Opsætning!$G$3:$H$14,2,FALSE))","v":""},{"$f":"IF(ISBLANK(Rådata!B1870)=TRUE,\"\",(Rådata!C1870*100)/Rådata!B1870)","v":""},{"$f":"IF(ISBLANK(Rådata!D1870)=TRUE,\"\",((Rådata!D1870-Rådata!E1870)*100)/Rådata!D1870)","v":""},{"$f":"IF(ISBLANK(Rådata!G1870)=TRUE,\"\",(Rådata!F1870*100)/Rådata!G1870)","v":""},{"$f":"IF(ISBLANK(Rådata!K1870),\"\",(SUM(Rådata!M1870:P1870)*100)/SUM(Rådata!H1870:K1870))","v":""},{"$f":"IF(ISBLANK(Rådata!H1870),\"\",((SUM(Rådata!J1870:L1870)-SUM(Rådata!O1870:P1870))*100)/SUM(Rådata!H1870:L1870))","v":""},{"$f":"IF(ISBLANK(Rådata!R1870),\"\",(Rådata!Q1870*100)/Rådata!R1870)","v":""}]
[{"$f":"IF(ISBLANK(Rådata!A1871)=TRUE,\"\",Rådata!A1871)","v":""},{"$f":"IF(ISBLANK(Rådata!A1871)=TRUE,\"\",YEAR(A1871))","v":""},{"$f":"IF(ISBLANK(Rådata!A1871)=TRUE,\"\",VLOOKUP(MONTH(A1871),Opsætning!$G$3:$H$14,2,FALSE))","v":""},{"$f":"IF(ISBLANK(Rådata!B1871)=TRUE,\"\",(Rådata!C1871*100)/Rådata!B1871)","v":""},{"$f":"IF(ISBLANK(Rådata!D1871)=TRUE,\"\",((Rådata!D1871-Rådata!E1871)*100)/Rådata!D1871)","v":""},{"$f":"IF(ISBLANK(Rådata!G1871)=TRUE,\"\",(Rådata!F1871*100)/Rådata!G1871)","v":""},{"$f":"IF(ISBLANK(Rådata!K1871),\"\",(SUM(Rådata!M1871:P1871)*100)/SUM(Rådata!H1871:K1871))","v":""},{"$f":"IF(ISBLANK(Rådata!H1871),\"\",((SUM(Rådata!J1871:L1871)-SUM(Rådata!O1871:P1871))*100)/SUM(Rådata!H1871:L1871))","v":""},{"$f":"IF(ISBLANK(Rådata!R1871),\"\",(Rådata!Q1871*100)/Rådata!R1871)","v":""}]
[{"$f":"IF(ISBLANK(Rådata!A1872)=TRUE,\"\",Rådata!A1872)","v":""},{"$f":"IF(ISBLANK(Rådata!A1872)=TRUE,\"\",YEAR(A1872))","v":""},{"$f":"IF(ISBLANK(Rådata!A1872)=TRUE,\"\",VLOOKUP(MONTH(A1872),Opsætning!$G$3:$H$14,2,FALSE))","v":""},{"$f":"IF(ISBLANK(Rådata!B1872)=TRUE,\"\",(Rådata!C1872*100)/Rådata!B1872)","v":""},{"$f":"IF(ISBLANK(Rådata!D1872)=TRUE,\"\",((Rådata!D1872-Rådata!E1872)*100)/Rådata!D1872)","v":""},{"$f":"IF(ISBLANK(Rådata!G1872)=TRUE,\"\",(Rådata!F1872*100)/Rådata!G1872)","v":""},{"$f":"IF(ISBLANK(Rådata!K1872),\"\",(SUM(Rådata!M1872:P1872)*100)/SUM(Rådata!H1872:K1872))","v":""},{"$f":"IF(ISBLANK(Rådata!H1872),\"\",((SUM(Rådata!J1872:L1872)-SUM(Rådata!O1872:P1872))*100)/SUM(Rådata!H1872:L1872))","v":""},{"$f":"IF(ISBLANK(Rådata!R1872),\"\",(Rådata!Q1872*100)/Rådata!R1872)","v":""}]
[{"$f":"IF(ISBLANK(Rådata!A1873)=TRUE,\"\",Rådata!A1873)","v":""},{"$f":"IF(ISBLANK(Rådata!A1873)=TRUE,\"\",YEAR(A1873))","v":""},{"$f":"IF(ISBLANK(Rådata!A1873)=TRUE,\"\",VLOOKUP(MONTH(A1873),Opsætning!$G$3:$H$14,2,FALSE))","v":""},{"$f":"IF(ISBLANK(Rådata!B1873)=TRUE,\"\",(Rådata!C1873*100)/Rådata!B1873)","v":""},{"$f":"IF(ISBLANK(Rådata!D1873)=TRUE,\"\",((Rådata!D1873-Rådata!E1873)*100)/Rådata!D1873)","v":""},{"$f":"IF(ISBLANK(Rådata!G1873)=TRUE,\"\",(Rådata!F1873*100)/Rådata!G1873)","v":""},{"$f":"IF(ISBLANK(Rådata!K1873),\"\",(SUM(Rådata!M1873:P1873)*100)/SUM(Rådata!H1873:K1873))","v":""},{"$f":"IF(ISBLANK(Rådata!H1873),\"\",((SUM(Rådata!J1873:L1873)-SUM(Rådata!O1873:P1873))*100)/SUM(Rådata!H1873:L1873))","v":""},{"$f":"IF(ISBLANK(Rådata!R1873),\"\",(Rådata!Q1873*100)/Rådata!R1873)","v":""}]
[{"$f":"IF(ISBLANK(Rådata!A1874)=TRUE,\"\",Rådata!A1874)","v":""},{"$f":"IF(ISBLANK(Rådata!A1874)=TRUE,\"\",YEAR(A1874))","v":""},{"$f":"IF(ISBLANK(Rådata!A1874)=TRUE,\"\",VLOOKUP(MONTH(A1874),Opsætning!$G$3:$H$14,2,FALSE))","v":""},{"$f":"IF(ISBLANK(Rådata!B1874)=TRUE,\"\",(Rådata!C1874*100)/Rådata!B1874)","v":""},{"$f":"IF(ISBLANK(Rådata!D1874)=TRUE,\"\",((Rådata!D1874-Rådata!E1874)*100)/Rådata!D1874)","v":""},{"$f":"IF(ISBLANK(Rådata!G1874)=TRUE,\"\",(Rådata!F1874*100)/Rådata!G1874)","v":""},{"$f":"IF(ISBLANK(Rådata!K1874),\"\",(SUM(Rådata!M1874:P1874)*100)/SUM(Rådata!H1874:K1874))","v":""},{"$f":"IF(ISBLANK(Rådata!H1874),\"\",((SUM(Rådata!J1874:L1874)-SUM(Rådata!O1874:P1874))*100)/SUM(Rådata!H1874:L1874))","v":""},{"$f":"IF(ISBLANK(Rådata!R1874),\"\",(Rådata!Q1874*100)/Rådata!R1874)","v":""}]
[{"$f":"IF(ISBLANK(Rådata!A1875)=TRUE,\"\",Rådata!A1875)","v":""},{"$f":"IF(ISBLANK(Rådata!A1875)=TRUE,\"\",YEAR(A1875))","v":""},{"$f":"IF(ISBLANK(Rådata!A1875)=TRUE,\"\",VLOOKUP(MONTH(A1875),Opsætning!$G$3:$H$14,2,FALSE))","v":""},{"$f":"IF(ISBLANK(Rådata!B1875)=TRUE,\"\",(Rådata!C1875*100)/Rådata!B1875)","v":""},{"$f":"IF(ISBLANK(Rådata!D1875)=TRUE,\"\",((Rådata!D1875-Rådata!E1875)*100)/Rådata!D1875)","v":""},{"$f":"IF(ISBLANK(Rådata!G1875)=TRUE,\"\",(Rådata!F1875*100)/Rådata!G1875)","v":""},{"$f":"IF(ISBLANK(Rådata!K1875),\"\",(SUM(Rådata!M1875:P1875)*100)/SUM(Rådata!H1875:K1875))","v":""},{"$f":"IF(ISBLANK(Rådata!H1875),\"\",((SUM(Rådata!J1875:L1875)-SUM(Rådata!O1875:P1875))*100)/SUM(Rådata!H1875:L1875))","v":""},{"$f":"IF(ISBLANK(Rådata!R1875),\"\",(Rådata!Q1875*100)/Rådata!R1875)","v":""}]
[{"$f":"IF(ISBLANK(Rådata!A1876)=TRUE,\"\",Rådata!A1876)","v":""},{"$f":"IF(ISBLANK(Rådata!A1876)=TRUE,\"\",YEAR(A1876))","v":""},{"$f":"IF(ISBLANK(Rådata!A1876)=TRUE,\"\",VLOOKUP(MONTH(A1876),Opsætning!$G$3:$H$14,2,FALSE))","v":""},{"$f":"IF(ISBLANK(Rådata!B1876)=TRUE,\"\",(Rådata!C1876*100)/Rådata!B1876)","v":""},{"$f":"IF(ISBLANK(Rådata!D1876)=TRUE,\"\",((Rådata!D1876-Rådata!E1876)*100)/Rådata!D1876)","v":""},{"$f":"IF(ISBLANK(Rådata!G1876)=TRUE,\"\",(Rådata!F1876*100)/Rådata!G1876)","v":""},{"$f":"IF(ISBLANK(Rådata!K1876),\"\",(SUM(Rådata!M1876:P1876)*100)/SUM(Rådata!H1876:K1876))","v":""},{"$f":"IF(ISBLANK(Rådata!H1876),\"\",((SUM(Rådata!J1876:L1876)-SUM(Rådata!O1876:P1876))*100)/SUM(Rådata!H1876:L1876))","v":""},{"$f":"IF(ISBLANK(Rådata!R1876),\"\",(Rådata!Q1876*100)/Rådata!R1876)","v":""}]
[{"$f":"IF(ISBLANK(Rådata!A1877)=TRUE,\"\",Rådata!A1877)","v":""},{"$f":"IF(ISBLANK(Rådata!A1877)=TRUE,\"\",YEAR(A1877))","v":""},{"$f":"IF(ISBLANK(Rådata!A1877)=TRUE,\"\",VLOOKUP(MONTH(A1877),Opsætning!$G$3:$H$14,2,FALSE))","v":""},{"$f":"IF(ISBLANK(Rådata!B1877)=TRUE,\"\",(Rådata!C1877*100)/Rådata!B1877)","v":""},{"$f":"IF(ISBLANK(Rådata!D1877)=TRUE,\"\",((Rådata!D1877-Rådata!E1877)*100)/Rådata!D1877)","v":""},{"$f":"IF(ISBLANK(Rådata!G1877)=TRUE,\"\",(Rådata!F1877*100)/Rådata!G1877)","v":""},{"$f":"IF(ISBLANK(Rådata!K1877),\"\",(SUM(Rådata!M1877:P1877)*100)/SUM(Rådata!H1877:K1877))","v":""},{"$f":"IF(ISBLANK(Rådata!H1877),\"\",((SUM(Rådata!J1877:L1877)-SUM(Rådata!O1877:P1877))*100)/SUM(Rådata!H1877:L1877))","v":""},{"$f":"IF(ISBLANK(Rådata!R1877),\"\",(Rådata!Q1877*100)/Rådata!R1877)","v":""}]
[{"$f":"IF(ISBLANK(Rådata!A1878)=TRUE,\"\",Rådata!A1878)","v":""},{"$f":"IF(ISBLANK(Rådata!A1878)=TRUE,\"\",YEAR(A1878))","v":""},{"$f":"IF(ISBLANK(Rådata!A1878)=TRUE,\"\",VLOOKUP(MONTH(A1878),Opsætning!$G$3:$H$14,2,FALSE))","v":""},{"$f":"IF(ISBLANK(Rådata!B1878)=TRUE,\"\",(Rådata!C1878*100)/Rådata!B1878)","v":""},{"$f":"IF(ISBLANK(Rådata!D1878)=TRUE,\"\",((Rådata!D1878-Rådata!E1878)*100)/Rådata!D1878)","v":""},{"$f":"IF(ISBLANK(Rådata!G1878)=TRUE,\"\",(Rådata!F1878*100)/Rådata!G1878)","v":""},{"$f":"IF(ISBLANK(Rådata!K1878),\"\",(SUM(Rådata!M1878:P1878)*100)/SUM(Rådata!H1878:K1878))","v":""},{"$f":"IF(ISBLANK(Rådata!H1878),\"\",((SUM(Rådata!J1878:L1878)-SUM(Rådata!O1878:P1878))*100)/SUM(Rådata!H1878:L1878))","v":""},{"$f":"IF(ISBLANK(Rådata!R1878),\"\",(Rådata!Q1878*100)/Rådata!R1878)","v":""}]
[{"$f":"IF(ISBLANK(Rådata!A1879)=TRUE,\"\",Rådata!A1879)","v":""},{"$f":"IF(ISBLANK(Rådata!A1879)=TRUE,\"\",YEAR(A1879))","v":""},{"$f":"IF(ISBLANK(Rådata!A1879)=TRUE,\"\",VLOOKUP(MONTH(A1879),Opsætning!$G$3:$H$14,2,FALSE))","v":""},{"$f":"IF(ISBLANK(Rådata!B1879)=TRUE,\"\",(Rådata!C1879*100)/Rådata!B1879)","v":""},{"$f":"IF(ISBLANK(Rådata!D1879)=TRUE,\"\",((Rådata!D1879-Rådata!E1879)*100)/Rådata!D1879)","v":""},{"$f":"IF(ISBLANK(Rådata!G1879)=TRUE,\"\",(Rådata!F1879*100)/Rådata!G1879)","v":""},{"$f":"IF(ISBLANK(Rådata!K1879),\"\",(SUM(Rådata!M1879:P1879)*100)/SUM(Rådata!H1879:K1879))","v":""},{"$f":"IF(ISBLANK(Rådata!H1879),\"\",((SUM(Rådata!J1879:L1879)-SUM(Rådata!O1879:P1879))*100)/SUM(Rådata!H1879:L1879))","v":""},{"$f":"IF(ISBLANK(Rådata!R1879),\"\",(Rådata!Q1879*100)/Rådata!R1879)","v":""}]
[{"$f":"IF(ISBLANK(Rådata!A1880)=TRUE,\"\",Rådata!A1880)","v":""},{"$f":"IF(ISBLANK(Rådata!A1880)=TRUE,\"\",YEAR(A1880))","v":""},{"$f":"IF(ISBLANK(Rådata!A1880)=TRUE,\"\",VLOOKUP(MONTH(A1880),Opsætning!$G$3:$H$14,2,FALSE))","v":""},{"$f":"IF(ISBLANK(Rådata!B1880)=TRUE,\"\",(Rådata!C1880*100)/Rådata!B1880)","v":""},{"$f":"IF(ISBLANK(Rådata!D1880)=TRUE,\"\",((Rådata!D1880-Rådata!E1880)*100)/Rådata!D1880)","v":""},{"$f":"IF(ISBLANK(Rådata!G1880)=TRUE,\"\",(Rådata!F1880*100)/Rådata!G1880)","v":""},{"$f":"IF(ISBLANK(Rådata!K1880),\"\",(SUM(Rådata!M1880:P1880)*100)/SUM(Rådata!H1880:K1880))","v":""},{"$f":"IF(ISBLANK(Rådata!H1880),\"\",((SUM(Rådata!J1880:L1880)-SUM(Rådata!O1880:P1880))*100)/SUM(Rådata!H1880:L1880))","v":""},{"$f":"IF(ISBLANK(Rådata!R1880),\"\",(Rådata!Q1880*100)/Rådata!R1880)","v":""}]
[{"$f":"IF(ISBLANK(Rådata!A1881)=TRUE,\"\",Rådata!A1881)","v":""},{"$f":"IF(ISBLANK(Rådata!A1881)=TRUE,\"\",YEAR(A1881))","v":""},{"$f":"IF(ISBLANK(Rådata!A1881)=TRUE,\"\",VLOOKUP(MONTH(A1881),Opsætning!$G$3:$H$14,2,FALSE))","v":""},{"$f":"IF(ISBLANK(Rådata!B1881)=TRUE,\"\",(Rådata!C1881*100)/Rådata!B1881)","v":""},{"$f":"IF(ISBLANK(Rådata!D1881)=TRUE,\"\",((Rådata!D1881-Rådata!E1881)*100)/Rådata!D1881)","v":""},{"$f":"IF(ISBLANK(Rådata!G1881)=TRUE,\"\",(Rådata!F1881*100)/Rådata!G1881)","v":""},{"$f":"IF(ISBLANK(Rådata!K1881),\"\",(SUM(Rådata!M1881:P1881)*100)/SUM(Rådata!H1881:K1881))","v":""},{"$f":"IF(ISBLANK(Rådata!H1881),\"\",((SUM(Rådata!J1881:L1881)-SUM(Rådata!O1881:P1881))*100)/SUM(Rådata!H1881:L1881))","v":""},{"$f":"IF(ISBLANK(Rådata!R1881),\"\",(Rådata!Q1881*100)/Rådata!R1881)","v":""}]
[{"$f":"IF(ISBLANK(Rådata!A1882)=TRUE,\"\",Rådata!A1882)","v":""},{"$f":"IF(ISBLANK(Rådata!A1882)=TRUE,\"\",YEAR(A1882))","v":""},{"$f":"IF(ISBLANK(Rådata!A1882)=TRUE,\"\",VLOOKUP(MONTH(A1882),Opsætning!$G$3:$H$14,2,FALSE))","v":""},{"$f":"IF(ISBLANK(Rådata!B1882)=TRUE,\"\",(Rådata!C1882*100)/Rådata!B1882)","v":""},{"$f":"IF(ISBLANK(Rådata!D1882)=TRUE,\"\",((Rådata!D1882-Rådata!E1882)*100)/Rådata!D1882)","v":""},{"$f":"IF(ISBLANK(Rådata!G1882)=TRUE,\"\",(Rådata!F1882*100)/Rådata!G1882)","v":""},{"$f":"IF(ISBLANK(Rådata!K1882),\"\",(SUM(Rådata!M1882:P1882)*100)/SUM(Rådata!H1882:K1882))","v":""},{"$f":"IF(ISBLANK(Rådata!H1882),\"\",((SUM(Rådata!J1882:L1882)-SUM(Rådata!O1882:P1882))*100)/SUM(Rådata!H1882:L1882))","v":""},{"$f":"IF(ISBLANK(Rådata!R1882),\"\",(Rådata!Q1882*100)/Rådata!R1882)","v":""}]
[{"$f":"IF(ISBLANK(Rådata!A1883)=TRUE,\"\",Rådata!A1883)","v":""},{"$f":"IF(ISBLANK(Rådata!A1883)=TRUE,\"\",YEAR(A1883))","v":""},{"$f":"IF(ISBLANK(Rådata!A1883)=TRUE,\"\",VLOOKUP(MONTH(A1883),Opsætning!$G$3:$H$14,2,FALSE))","v":""},{"$f":"IF(ISBLANK(Rådata!B1883)=TRUE,\"\",(Rådata!C1883*100)/Rådata!B1883)","v":""},{"$f":"IF(ISBLANK(Rådata!D1883)=TRUE,\"\",((Rådata!D1883-Rådata!E1883)*100)/Rådata!D1883)","v":""},{"$f":"IF(ISBLANK(Rådata!G1883)=TRUE,\"\",(Rådata!F1883*100)/Rådata!G1883)","v":""},{"$f":"IF(ISBLANK(Rådata!K1883),\"\",(SUM(Rådata!M1883:P1883)*100)/SUM(Rådata!H1883:K1883))","v":""},{"$f":"IF(ISBLANK(Rådata!H1883),\"\",((SUM(Rådata!J1883:L1883)-SUM(Rådata!O1883:P1883))*100)/SUM(Rådata!H1883:L1883))","v":""},{"$f":"IF(ISBLANK(Rådata!R1883),\"\",(Rådata!Q1883*100)/Rådata!R1883)","v":""}]
[{"$f":"IF(ISBLANK(Rådata!A1884)=TRUE,\"\",Rådata!A1884)","v":""},{"$f":"IF(ISBLANK(Rådata!A1884)=TRUE,\"\",YEAR(A1884))","v":""},{"$f":"IF(ISBLANK(Rådata!A1884)=TRUE,\"\",VLOOKUP(MONTH(A1884),Opsætning!$G$3:$H$14,2,FALSE))","v":""},{"$f":"IF(ISBLANK(Rådata!B1884)=TRUE,\"\",(Rådata!C1884*100)/Rådata!B1884)","v":""},{"$f":"IF(ISBLANK(Rådata!D1884)=TRUE,\"\",((Rådata!D1884-Rådata!E1884)*100)/Rådata!D1884)","v":""},{"$f":"IF(ISBLANK(Rådata!G1884)=TRUE,\"\",(Rådata!F1884*100)/Rådata!G1884)","v":""},{"$f":"IF(ISBLANK(Rådata!K1884),\"\",(SUM(Rådata!M1884:P1884)*100)/SUM(Rådata!H1884:K1884))","v":""},{"$f":"IF(ISBLANK(Rådata!H1884),\"\",((SUM(Rådata!J1884:L1884)-SUM(Rådata!O1884:P1884))*100)/SUM(Rådata!H1884:L1884))","v":""},{"$f":"IF(ISBLANK(Rådata!R1884),\"\",(Rådata!Q1884*100)/Rådata!R1884)","v":""}]
[{"$f":"IF(ISBLANK(Rådata!A1885)=TRUE,\"\",Rådata!A1885)","v":""},{"$f":"IF(ISBLANK(Rådata!A1885)=TRUE,\"\",YEAR(A1885))","v":""},{"$f":"IF(ISBLANK(Rådata!A1885)=TRUE,\"\",VLOOKUP(MONTH(A1885),Opsætning!$G$3:$H$14,2,FALSE))","v":""},{"$f":"IF(ISBLANK(Rådata!B1885)=TRUE,\"\",(Rådata!C1885*100)/Rådata!B1885)","v":""},{"$f":"IF(ISBLANK(Rådata!D1885)=TRUE,\"\",((Rådata!D1885-Rådata!E1885)*100)/Rådata!D1885)","v":""},{"$f":"IF(ISBLANK(Rådata!G1885)=TRUE,\"\",(Rådata!F1885*100)/Rådata!G1885)","v":""},{"$f":"IF(ISBLANK(Rådata!K1885),\"\",(SUM(Rådata!M1885:P1885)*100)/SUM(Rådata!H1885:K1885))","v":""},{"$f":"IF(ISBLANK(Rådata!H1885),\"\",((SUM(Rådata!J1885:L1885)-SUM(Rådata!O1885:P1885))*100)/SUM(Rådata!H1885:L1885))","v":""},{"$f":"IF(ISBLANK(Rådata!R1885),\"\",(Rådata!Q1885*100)/Rådata!R1885)","v":""}]
[{"$f":"IF(ISBLANK(Rådata!A1886)=TRUE,\"\",Rådata!A1886)","v":""},{"$f":"IF(ISBLANK(Rådata!A1886)=TRUE,\"\",YEAR(A1886))","v":""},{"$f":"IF(ISBLANK(Rådata!A1886)=TRUE,\"\",VLOOKUP(MONTH(A1886),Opsætning!$G$3:$H$14,2,FALSE))","v":""},{"$f":"IF(ISBLANK(Rådata!B1886)=TRUE,\"\",(Rådata!C1886*100)/Rådata!B1886)","v":""},{"$f":"IF(ISBLANK(Rådata!D1886)=TRUE,\"\",((Rådata!D1886-Rådata!E1886)*100)/Rådata!D1886)","v":""},{"$f":"IF(ISBLANK(Rådata!G1886)=TRUE,\"\",(Rådata!F1886*100)/Rådata!G1886)","v":""},{"$f":"IF(ISBLANK(Rådata!K1886),\"\",(SUM(Rådata!M1886:P1886)*100)/SUM(Rådata!H1886:K1886))","v":""},{"$f":"IF(ISBLANK(Rådata!H1886),\"\",((SUM(Rådata!J1886:L1886)-SUM(Rådata!O1886:P1886))*100)/SUM(Rådata!H1886:L1886))","v":""},{"$f":"IF(ISBLANK(Rådata!R1886),\"\",(Rådata!Q1886*100)/Rådata!R1886)","v":""}]
[{"$f":"IF(ISBLANK(Rådata!A1887)=TRUE,\"\",Rådata!A1887)","v":""},{"$f":"IF(ISBLANK(Rådata!A1887)=TRUE,\"\",YEAR(A1887))","v":""},{"$f":"IF(ISBLANK(Rådata!A1887)=TRUE,\"\",VLOOKUP(MONTH(A1887),Opsætning!$G$3:$H$14,2,FALSE))","v":""},{"$f":"IF(ISBLANK(Rådata!B1887)=TRUE,\"\",(Rådata!C1887*100)/Rådata!B1887)","v":""},{"$f":"IF(ISBLANK(Rådata!D1887)=TRUE,\"\",((Rådata!D1887-Rådata!E1887)*100)/Rådata!D1887)","v":""},{"$f":"IF(ISBLANK(Rådata!G1887)=TRUE,\"\",(Rådata!F1887*100)/Rådata!G1887)","v":""},{"$f":"IF(ISBLANK(Rådata!K1887),\"\",(SUM(Rådata!M1887:P1887)*100)/SUM(Rådata!H1887:K1887))","v":""},{"$f":"IF(ISBLANK(Rådata!H1887),\"\",((SUM(Rådata!J1887:L1887)-SUM(Rådata!O1887:P1887))*100)/SUM(Rådata!H1887:L1887))","v":""},{"$f":"IF(ISBLANK(Rådata!R1887),\"\",(Rådata!Q1887*100)/Rådata!R1887)","v":""}]
[{"$f":"IF(ISBLANK(Rådata!A1888)=TRUE,\"\",Rådata!A1888)","v":""},{"$f":"IF(ISBLANK(Rådata!A1888)=TRUE,\"\",YEAR(A1888))","v":""},{"$f":"IF(ISBLANK(Rådata!A1888)=TRUE,\"\",VLOOKUP(MONTH(A1888),Opsætning!$G$3:$H$14,2,FALSE))","v":""},{"$f":"IF(ISBLANK(Rådata!B1888)=TRUE,\"\",(Rådata!C1888*100)/Rådata!B1888)","v":""},{"$f":"IF(ISBLANK(Rådata!D1888)=TRUE,\"\",((Rådata!D1888-Rådata!E1888)*100)/Rådata!D1888)","v":""},{"$f":"IF(ISBLANK(Rådata!G1888)=TRUE,\"\",(Rådata!F1888*100)/Rådata!G1888)","v":""},{"$f":"IF(ISBLANK(Rådata!K1888),\"\",(SUM(Rådata!M1888:P1888)*100)/SUM(Rådata!H1888:K1888))","v":""},{"$f":"IF(ISBLANK(Rådata!H1888),\"\",((SUM(Rådata!J1888:L1888)-SUM(Rådata!O1888:P1888))*100)/SUM(Rådata!H1888:L1888))","v":""},{"$f":"IF(ISBLANK(Rådata!R1888),\"\",(Rådata!Q1888*100)/Rådata!R1888)","v":""}]
[{"$f":"IF(ISBLANK(Rådata!A1889)=TRUE,\"\",Rådata!A1889)","v":""},{"$f":"IF(ISBLANK(Rådata!A1889)=TRUE,\"\",YEAR(A1889))","v":""},{"$f":"IF(ISBLANK(Rådata!A1889)=TRUE,\"\",VLOOKUP(MONTH(A1889),Opsætning!$G$3:$H$14,2,FALSE))","v":""},{"$f":"IF(ISBLANK(Rådata!B1889)=TRUE,\"\",(Rådata!C1889*100)/Rådata!B1889)","v":""},{"$f":"IF(ISBLANK(Rådata!D1889)=TRUE,\"\",((Rådata!D1889-Rådata!E1889)*100)/Rådata!D1889)","v":""},{"$f":"IF(ISBLANK(Rådata!G1889)=TRUE,\"\",(Rådata!F1889*100)/Rådata!G1889)","v":""},{"$f":"IF(ISBLANK(Rådata!K1889),\"\",(SUM(Rådata!M1889:P1889)*100)/SUM(Rådata!H1889:K1889))","v":""},{"$f":"IF(ISBLANK(Rådata!H1889),\"\",((SUM(Rådata!J1889:L1889)-SUM(Rådata!O1889:P1889))*100)/SUM(Rådata!H1889:L1889))","v":""},{"$f":"IF(ISBLANK(Rådata!R1889),\"\",(Rådata!Q1889*100)/Rådata!R1889)","v":""}]
[{"$f":"IF(ISBLANK(Rådata!A1890)=TRUE,\"\",Rådata!A1890)","v":""},{"$f":"IF(ISBLANK(Rådata!A1890)=TRUE,\"\",YEAR(A1890))","v":""},{"$f":"IF(ISBLANK(Rådata!A1890)=TRUE,\"\",VLOOKUP(MONTH(A1890),Opsætning!$G$3:$H$14,2,FALSE))","v":""},{"$f":"IF(ISBLANK(Rådata!B1890)=TRUE,\"\",(Rådata!C1890*100)/Rådata!B1890)","v":""},{"$f":"IF(ISBLANK(Rådata!D1890)=TRUE,\"\",((Rådata!D1890-Rådata!E1890)*100)/Rådata!D1890)","v":""},{"$f":"IF(ISBLANK(Rådata!G1890)=TRUE,\"\",(Rådata!F1890*100)/Rådata!G1890)","v":""},{"$f":"IF(ISBLANK(Rådata!K1890),\"\",(SUM(Rådata!M1890:P1890)*100)/SUM(Rådata!H1890:K1890))","v":""},{"$f":"IF(ISBLANK(Rådata!H1890),\"\",((SUM(Rådata!J1890:L1890)-SUM(Rådata!O1890:P1890))*100)/SUM(Rådata!H1890:L1890))","v":""},{"$f":"IF(ISBLANK(Rådata!R1890),\"\",(Rådata!Q1890*100)/Rådata!R1890)","v":""}]
[{"$f":"IF(ISBLANK(Rådata!A1891)=TRUE,\"\",Rådata!A1891)","v":""},{"$f":"IF(ISBLANK(Rådata!A1891)=TRUE,\"\",YEAR(A1891))","v":""},{"$f":"IF(ISBLANK(Rådata!A1891)=TRUE,\"\",VLOOKUP(MONTH(A1891),Opsætning!$G$3:$H$14,2,FALSE))","v":""},{"$f":"IF(ISBLANK(Rådata!B1891)=TRUE,\"\",(Rådata!C1891*100)/Rådata!B1891)","v":""},{"$f":"IF(ISBLANK(Rådata!D1891)=TRUE,\"\",((Rådata!D1891-Rådata!E1891)*100)/Rådata!D1891)","v":""},{"$f":"IF(ISBLANK(Rådata!G1891)=TRUE,\"\",(Rådata!F1891*100)/Rådata!G1891)","v":""},{"$f":"IF(ISBLANK(Rådata!K1891),\"\",(SUM(Rådata!M1891:P1891)*100)/SUM(Rådata!H1891:K1891))","v":""},{"$f":"IF(ISBLANK(Rådata!H1891),\"\",((SUM(Rådata!J1891:L1891)-SUM(Rådata!O1891:P1891))*100)/SUM(Rådata!H1891:L1891))","v":""},{"$f":"IF(ISBLANK(Rådata!R1891),\"\",(Rådata!Q1891*100)/Rådata!R1891)","v":""}]
[{"$f":"IF(ISBLANK(Rådata!A1892)=TRUE,\"\",Rådata!A1892)","v":""},{"$f":"IF(ISBLANK(Rådata!A1892)=TRUE,\"\",YEAR(A1892))","v":""},{"$f":"IF(ISBLANK(Rådata!A1892)=TRUE,\"\",VLOOKUP(MONTH(A1892),Opsætning!$G$3:$H$14,2,FALSE))","v":""},{"$f":"IF(ISBLANK(Rådata!B1892)=TRUE,\"\",(Rådata!C1892*100)/Rådata!B1892)","v":""},{"$f":"IF(ISBLANK(Rådata!D1892)=TRUE,\"\",((Rådata!D1892-Rådata!E1892)*100)/Rådata!D1892)","v":""},{"$f":"IF(ISBLANK(Rådata!G1892)=TRUE,\"\",(Rådata!F1892*100)/Rådata!G1892)","v":""},{"$f":"IF(ISBLANK(Rådata!K1892),\"\",(SUM(Rådata!M1892:P1892)*100)/SUM(Rådata!H1892:K1892))","v":""},{"$f":"IF(ISBLANK(Rådata!H1892),\"\",((SUM(Rådata!J1892:L1892)-SUM(Rådata!O1892:P1892))*100)/SUM(Rådata!H1892:L1892))","v":""},{"$f":"IF(ISBLANK(Rådata!R1892),\"\",(Rådata!Q1892*100)/Rådata!R1892)","v":""}]
[{"$f":"IF(ISBLANK(Rådata!A1893)=TRUE,\"\",Rådata!A1893)","v":""},{"$f":"IF(ISBLANK(Rådata!A1893)=TRUE,\"\",YEAR(A1893))","v":""},{"$f":"IF(ISBLANK(Rådata!A1893)=TRUE,\"\",VLOOKUP(MONTH(A1893),Opsætning!$G$3:$H$14,2,FALSE))","v":""},{"$f":"IF(ISBLANK(Rådata!B1893)=TRUE,\"\",(Rådata!C1893*100)/Rådata!B1893)","v":""},{"$f":"IF(ISBLANK(Rådata!D1893)=TRUE,\"\",((Rådata!D1893-Rådata!E1893)*100)/Rådata!D1893)","v":""},{"$f":"IF(ISBLANK(Rådata!G1893)=TRUE,\"\",(Rådata!F1893*100)/Rådata!G1893)","v":""},{"$f":"IF(ISBLANK(Rådata!K1893),\"\",(SUM(Rådata!M1893:P1893)*100)/SUM(Rådata!H1893:K1893))","v":""},{"$f":"IF(ISBLANK(Rådata!H1893),\"\",((SUM(Rådata!J1893:L1893)-SUM(Rådata!O1893:P1893))*100)/SUM(Rådata!H1893:L1893))","v":""},{"$f":"IF(ISBLANK(Rådata!R1893),\"\",(Rådata!Q1893*100)/Rådata!R1893)","v":""}]
[{"$f":"IF(ISBLANK(Rådata!A1894)=TRUE,\"\",Rådata!A1894)","v":""},{"$f":"IF(ISBLANK(Rådata!A1894)=TRUE,\"\",YEAR(A1894))","v":""},{"$f":"IF(ISBLANK(Rådata!A1894)=TRUE,\"\",VLOOKUP(MONTH(A1894),Opsætning!$G$3:$H$14,2,FALSE))","v":""},{"$f":"IF(ISBLANK(Rådata!B1894)=TRUE,\"\",(Rådata!C1894*100)/Rådata!B1894)","v":""},{"$f":"IF(ISBLANK(Rådata!D1894)=TRUE,\"\",((Rådata!D1894-Rådata!E1894)*100)/Rådata!D1894)","v":""},{"$f":"IF(ISBLANK(Rådata!G1894)=TRUE,\"\",(Rådata!F1894*100)/Rådata!G1894)","v":""},{"$f":"IF(ISBLANK(Rådata!K1894),\"\",(SUM(Rådata!M1894:P1894)*100)/SUM(Rådata!H1894:K1894))","v":""},{"$f":"IF(ISBLANK(Rådata!H1894),\"\",((SUM(Rådata!J1894:L1894)-SUM(Rådata!O1894:P1894))*100)/SUM(Rådata!H1894:L1894))","v":""},{"$f":"IF(ISBLANK(Rådata!R1894),\"\",(Rådata!Q1894*100)/Rådata!R1894)","v":""}]
[{"$f":"IF(ISBLANK(Rådata!A1895)=TRUE,\"\",Rådata!A1895)","v":""},{"$f":"IF(ISBLANK(Rådata!A1895)=TRUE,\"\",YEAR(A1895))","v":""},{"$f":"IF(ISBLANK(Rådata!A1895)=TRUE,\"\",VLOOKUP(MONTH(A1895),Opsætning!$G$3:$H$14,2,FALSE))","v":""},{"$f":"IF(ISBLANK(Rådata!B1895)=TRUE,\"\",(Rådata!C1895*100)/Rådata!B1895)","v":""},{"$f":"IF(ISBLANK(Rådata!D1895)=TRUE,\"\",((Rådata!D1895-Rådata!E1895)*100)/Rådata!D1895)","v":""},{"$f":"IF(ISBLANK(Rådata!G1895)=TRUE,\"\",(Rådata!F1895*100)/Rådata!G1895)","v":""},{"$f":"IF(ISBLANK(Rådata!K1895),\"\",(SUM(Rådata!M1895:P1895)*100)/SUM(Rådata!H1895:K1895))","v":""},{"$f":"IF(ISBLANK(Rådata!H1895),\"\",((SUM(Rådata!J1895:L1895)-SUM(Rådata!O1895:P1895))*100)/SUM(Rådata!H1895:L1895))","v":""},{"$f":"IF(ISBLANK(Rådata!R1895),\"\",(Rådata!Q1895*100)/Rådata!R1895)","v":""}]
[{"$f":"IF(ISBLANK(Rådata!A1896)=TRUE,\"\",Rådata!A1896)","v":""},{"$f":"IF(ISBLANK(Rådata!A1896)=TRUE,\"\",YEAR(A1896))","v":""},{"$f":"IF(ISBLANK(Rådata!A1896)=TRUE,\"\",VLOOKUP(MONTH(A1896),Opsætning!$G$3:$H$14,2,FALSE))","v":""},{"$f":"IF(ISBLANK(Rådata!B1896)=TRUE,\"\",(Rådata!C1896*100)/Rådata!B1896)","v":""},{"$f":"IF(ISBLANK(Rådata!D1896)=TRUE,\"\",((Rådata!D1896-Rådata!E1896)*100)/Rådata!D1896)","v":""},{"$f":"IF(ISBLANK(Rådata!G1896)=TRUE,\"\",(Rådata!F1896*100)/Rådata!G1896)","v":""},{"$f":"IF(ISBLANK(Rådata!K1896),\"\",(SUM(Rådata!M1896:P1896)*100)/SUM(Rådata!H1896:K1896))","v":""},{"$f":"IF(ISBLANK(Rådata!H1896),\"\",((SUM(Rådata!J1896:L1896)-SUM(Rådata!O1896:P1896))*100)/SUM(Rådata!H1896:L1896))","v":""},{"$f":"IF(ISBLANK(Rådata!R1896),\"\",(Rådata!Q1896*100)/Rådata!R1896)","v":""}]
[{"$f":"IF(ISBLANK(Rådata!A1897)=TRUE,\"\",Rådata!A1897)","v":""},{"$f":"IF(ISBLANK(Rådata!A1897)=TRUE,\"\",YEAR(A1897))","v":""},{"$f":"IF(ISBLANK(Rådata!A1897)=TRUE,\"\",VLOOKUP(MONTH(A1897),Opsætning!$G$3:$H$14,2,FALSE))","v":""},{"$f":"IF(ISBLANK(Rådata!B1897)=TRUE,\"\",(Rådata!C1897*100)/Rådata!B1897)","v":""},{"$f":"IF(ISBLANK(Rådata!D1897)=TRUE,\"\",((Rådata!D1897-Rådata!E1897)*100)/Rådata!D1897)","v":""},{"$f":"IF(ISBLANK(Rådata!G1897)=TRUE,\"\",(Rådata!F1897*100)/Rådata!G1897)","v":""},{"$f":"IF(ISBLANK(Rådata!K1897),\"\",(SUM(Rådata!M1897:P1897)*100)/SUM(Rådata!H1897:K1897))","v":""},{"$f":"IF(ISBLANK(Rådata!H1897),\"\",((SUM(Rådata!J1897:L1897)-SUM(Rådata!O1897:P1897))*100)/SUM(Rådata!H1897:L1897))","v":""},{"$f":"IF(ISBLANK(Rådata!R1897),\"\",(Rådata!Q1897*100)/Rådata!R1897)","v":""}]
[{"$f":"IF(ISBLANK(Rådata!A1898)=TRUE,\"\",Rådata!A1898)","v":""},{"$f":"IF(ISBLANK(Rådata!A1898)=TRUE,\"\",YEAR(A1898))","v":""},{"$f":"IF(ISBLANK(Rådata!A1898)=TRUE,\"\",VLOOKUP(MONTH(A1898),Opsætning!$G$3:$H$14,2,FALSE))","v":""},{"$f":"IF(ISBLANK(Rådata!B1898)=TRUE,\"\",(Rådata!C1898*100)/Rådata!B1898)","v":""},{"$f":"IF(ISBLANK(Rådata!D1898)=TRUE,\"\",((Rådata!D1898-Rådata!E1898)*100)/Rådata!D1898)","v":""},{"$f":"IF(ISBLANK(Rådata!G1898)=TRUE,\"\",(Rådata!F1898*100)/Rådata!G1898)","v":""},{"$f":"IF(ISBLANK(Rådata!K1898),\"\",(SUM(Rådata!M1898:P1898)*100)/SUM(Rådata!H1898:K1898))","v":""},{"$f":"IF(ISBLANK(Rådata!H1898),\"\",((SUM(Rådata!J1898:L1898)-SUM(Rådata!O1898:P1898))*100)/SUM(Rådata!H1898:L1898))","v":""},{"$f":"IF(ISBLANK(Rådata!R1898),\"\",(Rådata!Q1898*100)/Rådata!R1898)","v":""}]
[{"$f":"IF(ISBLANK(Rådata!A1899)=TRUE,\"\",Rådata!A1899)","v":""},{"$f":"IF(ISBLANK(Rådata!A1899)=TRUE,\"\",YEAR(A1899))","v":""},{"$f":"IF(ISBLANK(Rådata!A1899)=TRUE,\"\",VLOOKUP(MONTH(A1899),Opsætning!$G$3:$H$14,2,FALSE))","v":""},{"$f":"IF(ISBLANK(Rådata!B1899)=TRUE,\"\",(Rådata!C1899*100)/Rådata!B1899)","v":""},{"$f":"IF(ISBLANK(Rådata!D1899)=TRUE,\"\",((Rådata!D1899-Rådata!E1899)*100)/Rådata!D1899)","v":""},{"$f":"IF(ISBLANK(Rådata!G1899)=TRUE,\"\",(Rådata!F1899*100)/Rådata!G1899)","v":""},{"$f":"IF(ISBLANK(Rådata!K1899),\"\",(SUM(Rådata!M1899:P1899)*100)/SUM(Rådata!H1899:K1899))","v":""},{"$f":"IF(ISBLANK(Rådata!H1899),\"\",((SUM(Rådata!J1899:L1899)-SUM(Rådata!O1899:P1899))*100)/SUM(Rådata!H1899:L1899))","v":""},{"$f":"IF(ISBLANK(Rådata!R1899),\"\",(Rådata!Q1899*100)/Rådata!R1899)","v":""}]
[{"$f":"IF(ISBLANK(Rådata!A1900)=TRUE,\"\",Rådata!A1900)","v":""},{"$f":"IF(ISBLANK(Rådata!A1900)=TRUE,\"\",YEAR(A1900))","v":""},{"$f":"IF(ISBLANK(Rådata!A1900)=TRUE,\"\",VLOOKUP(MONTH(A1900),Opsætning!$G$3:$H$14,2,FALSE))","v":""},{"$f":"IF(ISBLANK(Rådata!B1900)=TRUE,\"\",(Rådata!C1900*100)/Rådata!B1900)","v":""},{"$f":"IF(ISBLANK(Rådata!D1900)=TRUE,\"\",((Rådata!D1900-Rådata!E1900)*100)/Rådata!D1900)","v":""},{"$f":"IF(ISBLANK(Rådata!G1900)=TRUE,\"\",(Rådata!F1900*100)/Rådata!G1900)","v":""},{"$f":"IF(ISBLANK(Rådata!K1900),\"\",(SUM(Rådata!M1900:P1900)*100)/SUM(Rådata!H1900:K1900))","v":""},{"$f":"IF(ISBLANK(Rådata!H1900),\"\",((SUM(Rådata!J1900:L1900)-SUM(Rådata!O1900:P1900))*100)/SUM(Rådata!H1900:L1900))","v":""},{"$f":"IF(ISBLANK(Rådata!R1900),\"\",(Rådata!Q1900*100)/Rådata!R1900)","v":""}]
[{"$f":"IF(ISBLANK(Rådata!A1901)=TRUE,\"\",Rådata!A1901)","v":""},{"$f":"IF(ISBLANK(Rådata!A1901)=TRUE,\"\",YEAR(A1901))","v":""},{"$f":"IF(ISBLANK(Rådata!A1901)=TRUE,\"\",VLOOKUP(MONTH(A1901),Opsætning!$G$3:$H$14,2,FALSE))","v":""},{"$f":"IF(ISBLANK(Rådata!B1901)=TRUE,\"\",(Rådata!C1901*100)/Rådata!B1901)","v":""},{"$f":"IF(ISBLANK(Rådata!D1901)=TRUE,\"\",((Rådata!D1901-Rådata!E1901)*100)/Rådata!D1901)","v":""},{"$f":"IF(ISBLANK(Rådata!G1901)=TRUE,\"\",(Rådata!F1901*100)/Rådata!G1901)","v":""},{"$f":"IF(ISBLANK(Rådata!K1901),\"\",(SUM(Rådata!M1901:P1901)*100)/SUM(Rådata!H1901:K1901))","v":""},{"$f":"IF(ISBLANK(Rådata!H1901),\"\",((SUM(Rådata!J1901:L1901)-SUM(Rådata!O1901:P1901))*100)/SUM(Rådata!H1901:L1901))","v":""},{"$f":"IF(ISBLANK(Rådata!R1901),\"\",(Rådata!Q1901*100)/Rådata!R1901)","v":""}]
[{"$f":"IF(ISBLANK(Rådata!A1902)=TRUE,\"\",Rådata!A1902)","v":""},{"$f":"IF(ISBLANK(Rådata!A1902)=TRUE,\"\",YEAR(A1902))","v":""},{"$f":"IF(ISBLANK(Rådata!A1902)=TRUE,\"\",VLOOKUP(MONTH(A1902),Opsætning!$G$3:$H$14,2,FALSE))","v":""},{"$f":"IF(ISBLANK(Rådata!B1902)=TRUE,\"\",(Rådata!C1902*100)/Rådata!B1902)","v":""},{"$f":"IF(ISBLANK(Rådata!D1902)=TRUE,\"\",((Rådata!D1902-Rådata!E1902)*100)/Rådata!D1902)","v":""},{"$f":"IF(ISBLANK(Rådata!G1902)=TRUE,\"\",(Rådata!F1902*100)/Rådata!G1902)","v":""},{"$f":"IF(ISBLANK(Rådata!K1902),\"\",(SUM(Rådata!M1902:P1902)*100)/SUM(Rådata!H1902:K1902))","v":""},{"$f":"IF(ISBLANK(Rådata!H1902),\"\",((SUM(Rådata!J1902:L1902)-SUM(Rådata!O1902:P1902))*100)/SUM(Rådata!H1902:L1902))","v":""},{"$f":"IF(ISBLANK(Rådata!R1902),\"\",(Rådata!Q1902*100)/Rådata!R1902)","v":""}]
[{"$f":"IF(ISBLANK(Rådata!A1903)=TRUE,\"\",Rådata!A1903)","v":""},{"$f":"IF(ISBLANK(Rådata!A1903)=TRUE,\"\",YEAR(A1903))","v":""},{"$f":"IF(ISBLANK(Rådata!A1903)=TRUE,\"\",VLOOKUP(MONTH(A1903),Opsætning!$G$3:$H$14,2,FALSE))","v":""},{"$f":"IF(ISBLANK(Rådata!B1903)=TRUE,\"\",(Rådata!C1903*100)/Rådata!B1903)","v":""},{"$f":"IF(ISBLANK(Rådata!D1903)=TRUE,\"\",((Rådata!D1903-Rådata!E1903)*100)/Rådata!D1903)","v":""},{"$f":"IF(ISBLANK(Rådata!G1903)=TRUE,\"\",(Rådata!F1903*100)/Rådata!G1903)","v":""},{"$f":"IF(ISBLANK(Rådata!K1903),\"\",(SUM(Rådata!M1903:P1903)*100)/SUM(Rådata!H1903:K1903))","v":""},{"$f":"IF(ISBLANK(Rådata!H1903),\"\",((SUM(Rådata!J1903:L1903)-SUM(Rådata!O1903:P1903))*100)/SUM(Rådata!H1903:L1903))","v":""},{"$f":"IF(ISBLANK(Rådata!R1903),\"\",(Rådata!Q1903*100)/Rådata!R1903)","v":""}]
[{"$f":"IF(ISBLANK(Rådata!A1904)=TRUE,\"\",Rådata!A1904)","v":""},{"$f":"IF(ISBLANK(Rådata!A1904)=TRUE,\"\",YEAR(A1904))","v":""},{"$f":"IF(ISBLANK(Rådata!A1904)=TRUE,\"\",VLOOKUP(MONTH(A1904),Opsætning!$G$3:$H$14,2,FALSE))","v":""},{"$f":"IF(ISBLANK(Rådata!B1904)=TRUE,\"\",(Rådata!C1904*100)/Rådata!B1904)","v":""},{"$f":"IF(ISBLANK(Rådata!D1904)=TRUE,\"\",((Rådata!D1904-Rådata!E1904)*100)/Rådata!D1904)","v":""},{"$f":"IF(ISBLANK(Rådata!G1904)=TRUE,\"\",(Rådata!F1904*100)/Rådata!G1904)","v":""},{"$f":"IF(ISBLANK(Rådata!K1904),\"\",(SUM(Rådata!M1904:P1904)*100)/SUM(Rådata!H1904:K1904))","v":""},{"$f":"IF(ISBLANK(Rådata!H1904),\"\",((SUM(Rådata!J1904:L1904)-SUM(Rådata!O1904:P1904))*100)/SUM(Rådata!H1904:L1904))","v":""},{"$f":"IF(ISBLANK(Rådata!R1904),\"\",(Rådata!Q1904*100)/Rådata!R1904)","v":""}]
[{"$f":"IF(ISBLANK(Rådata!A1905)=TRUE,\"\",Rådata!A1905)","v":""},{"$f":"IF(ISBLANK(Rådata!A1905)=TRUE,\"\",YEAR(A1905))","v":""},{"$f":"IF(ISBLANK(Rådata!A1905)=TRUE,\"\",VLOOKUP(MONTH(A1905),Opsætning!$G$3:$H$14,2,FALSE))","v":""},{"$f":"IF(ISBLANK(Rådata!B1905)=TRUE,\"\",(Rådata!C1905*100)/Rådata!B1905)","v":""},{"$f":"IF(ISBLANK(Rådata!D1905)=TRUE,\"\",((Rådata!D1905-Rådata!E1905)*100)/Rådata!D1905)","v":""},{"$f":"IF(ISBLANK(Rådata!G1905)=TRUE,\"\",(Rådata!F1905*100)/Rådata!G1905)","v":""},{"$f":"IF(ISBLANK(Rådata!K1905),\"\",(SUM(Rådata!M1905:P1905)*100)/SUM(Rådata!H1905:K1905))","v":""},{"$f":"IF(ISBLANK(Rådata!H1905),\"\",((SUM(Rådata!J1905:L1905)-SUM(Rådata!O1905:P1905))*100)/SUM(Rådata!H1905:L1905))","v":""},{"$f":"IF(ISBLANK(Rådata!R1905),\"\",(Rådata!Q1905*100)/Rådata!R1905)","v":""}]
[{"$f":"IF(ISBLANK(Rådata!A1906)=TRUE,\"\",Rådata!A1906)","v":""},{"$f":"IF(ISBLANK(Rådata!A1906)=TRUE,\"\",YEAR(A1906))","v":""},{"$f":"IF(ISBLANK(Rådata!A1906)=TRUE,\"\",VLOOKUP(MONTH(A1906),Opsætning!$G$3:$H$14,2,FALSE))","v":""},{"$f":"IF(ISBLANK(Rådata!B1906)=TRUE,\"\",(Rådata!C1906*100)/Rådata!B1906)","v":""},{"$f":"IF(ISBLANK(Rådata!D1906)=TRUE,\"\",((Rådata!D1906-Rådata!E1906)*100)/Rådata!D1906)","v":""},{"$f":"IF(ISBLANK(Rådata!G1906)=TRUE,\"\",(Rådata!F1906*100)/Rådata!G1906)","v":""},{"$f":"IF(ISBLANK(Rådata!K1906),\"\",(SUM(Rådata!M1906:P1906)*100)/SUM(Rådata!H1906:K1906))","v":""},{"$f":"IF(ISBLANK(Rådata!H1906),\"\",((SUM(Rådata!J1906:L1906)-SUM(Rådata!O1906:P1906))*100)/SUM(Rådata!H1906:L1906))","v":""},{"$f":"IF(ISBLANK(Rådata!R1906),\"\",(Rådata!Q1906*100)/Rådata!R1906)","v":""}]
[{"$f":"IF(ISBLANK(Rådata!A1907)=TRUE,\"\",Rådata!A1907)","v":""},{"$f":"IF(ISBLANK(Rådata!A1907)=TRUE,\"\",YEAR(A1907))","v":""},{"$f":"IF(ISBLANK(Rådata!A1907)=TRUE,\"\",VLOOKUP(MONTH(A1907),Opsætning!$G$3:$H$14,2,FALSE))","v":""},{"$f":"IF(ISBLANK(Rådata!B1907)=TRUE,\"\",(Rådata!C1907*100)/Rådata!B1907)","v":""},{"$f":"IF(ISBLANK(Rådata!D1907)=TRUE,\"\",((Rådata!D1907-Rådata!E1907)*100)/Rådata!D1907)","v":""},{"$f":"IF(ISBLANK(Rådata!G1907)=TRUE,\"\",(Rådata!F1907*100)/Rådata!G1907)","v":""},{"$f":"IF(ISBLANK(Rådata!K1907),\"\",(SUM(Rådata!M1907:P1907)*100)/SUM(Rådata!H1907:K1907))","v":""},{"$f":"IF(ISBLANK(Rådata!H1907),\"\",((SUM(Rådata!J1907:L1907)-SUM(Rådata!O1907:P1907))*100)/SUM(Rådata!H1907:L1907))","v":""},{"$f":"IF(ISBLANK(Rådata!R1907),\"\",(Rådata!Q1907*100)/Rådata!R1907)","v":""}]
[{"$f":"IF(ISBLANK(Rådata!A1908)=TRUE,\"\",Rådata!A1908)","v":""},{"$f":"IF(ISBLANK(Rådata!A1908)=TRUE,\"\",YEAR(A1908))","v":""},{"$f":"IF(ISBLANK(Rådata!A1908)=TRUE,\"\",VLOOKUP(MONTH(A1908),Opsætning!$G$3:$H$14,2,FALSE))","v":""},{"$f":"IF(ISBLANK(Rådata!B1908)=TRUE,\"\",(Rådata!C1908*100)/Rådata!B1908)","v":""},{"$f":"IF(ISBLANK(Rådata!D1908)=TRUE,\"\",((Rådata!D1908-Rådata!E1908)*100)/Rådata!D1908)","v":""},{"$f":"IF(ISBLANK(Rådata!G1908)=TRUE,\"\",(Rådata!F1908*100)/Rådata!G1908)","v":""},{"$f":"IF(ISBLANK(Rådata!K1908),\"\",(SUM(Rådata!M1908:P1908)*100)/SUM(Rådata!H1908:K1908))","v":""},{"$f":"IF(ISBLANK(Rådata!H1908),\"\",((SUM(Rådata!J1908:L1908)-SUM(Rådata!O1908:P1908))*100)/SUM(Rådata!H1908:L1908))","v":""},{"$f":"IF(ISBLANK(Rådata!R1908),\"\",(Rådata!Q1908*100)/Rådata!R1908)","v":""}]
[{"$f":"IF(ISBLANK(Rådata!A1909)=TRUE,\"\",Rådata!A1909)","v":""},{"$f":"IF(ISBLANK(Rådata!A1909)=TRUE,\"\",YEAR(A1909))","v":""},{"$f":"IF(ISBLANK(Rådata!A1909)=TRUE,\"\",VLOOKUP(MONTH(A1909),Opsætning!$G$3:$H$14,2,FALSE))","v":""},{"$f":"IF(ISBLANK(Rådata!B1909)=TRUE,\"\",(Rådata!C1909*100)/Rådata!B1909)","v":""},{"$f":"IF(ISBLANK(Rådata!D1909)=TRUE,\"\",((Rådata!D1909-Rådata!E1909)*100)/Rådata!D1909)","v":""},{"$f":"IF(ISBLANK(Rådata!G1909)=TRUE,\"\",(Rådata!F1909*100)/Rådata!G1909)","v":""},{"$f":"IF(ISBLANK(Rådata!K1909),\"\",(SUM(Rådata!M1909:P1909)*100)/SUM(Rådata!H1909:K1909))","v":""},{"$f":"IF(ISBLANK(Rådata!H1909),\"\",((SUM(Rådata!J1909:L1909)-SUM(Rådata!O1909:P1909))*100)/SUM(Rådata!H1909:L1909))","v":""},{"$f":"IF(ISBLANK(Rådata!R1909),\"\",(Rådata!Q1909*100)/Rådata!R1909)","v":""}]
[{"$f":"IF(ISBLANK(Rådata!A1910)=TRUE,\"\",Rådata!A1910)","v":""},{"$f":"IF(ISBLANK(Rådata!A1910)=TRUE,\"\",YEAR(A1910))","v":""},{"$f":"IF(ISBLANK(Rådata!A1910)=TRUE,\"\",VLOOKUP(MONTH(A1910),Opsætning!$G$3:$H$14,2,FALSE))","v":""},{"$f":"IF(ISBLANK(Rådata!B1910)=TRUE,\"\",(Rådata!C1910*100)/Rådata!B1910)","v":""},{"$f":"IF(ISBLANK(Rådata!D1910)=TRUE,\"\",((Rådata!D1910-Rådata!E1910)*100)/Rådata!D1910)","v":""},{"$f":"IF(ISBLANK(Rådata!G1910)=TRUE,\"\",(Rådata!F1910*100)/Rådata!G1910)","v":""},{"$f":"IF(ISBLANK(Rådata!K1910),\"\",(SUM(Rådata!M1910:P1910)*100)/SUM(Rådata!H1910:K1910))","v":""},{"$f":"IF(ISBLANK(Rådata!H1910),\"\",((SUM(Rådata!J1910:L1910)-SUM(Rådata!O1910:P1910))*100)/SUM(Rådata!H1910:L1910))","v":""},{"$f":"IF(ISBLANK(Rådata!R1910),\"\",(Rådata!Q1910*100)/Rådata!R1910)","v":""}]
[{"$f":"IF(ISBLANK(Rådata!A1911)=TRUE,\"\",Rådata!A1911)","v":""},{"$f":"IF(ISBLANK(Rådata!A1911)=TRUE,\"\",YEAR(A1911))","v":""},{"$f":"IF(ISBLANK(Rådata!A1911)=TRUE,\"\",VLOOKUP(MONTH(A1911),Opsætning!$G$3:$H$14,2,FALSE))","v":""},{"$f":"IF(ISBLANK(Rådata!B1911)=TRUE,\"\",(Rådata!C1911*100)/Rådata!B1911)","v":""},{"$f":"IF(ISBLANK(Rådata!D1911)=TRUE,\"\",((Rådata!D1911-Rådata!E1911)*100)/Rådata!D1911)","v":""},{"$f":"IF(ISBLANK(Rådata!G1911)=TRUE,\"\",(Rådata!F1911*100)/Rådata!G1911)","v":""},{"$f":"IF(ISBLANK(Rådata!K1911),\"\",(SUM(Rådata!M1911:P1911)*100)/SUM(Rådata!H1911:K1911))","v":""},{"$f":"IF(ISBLANK(Rådata!H1911),\"\",((SUM(Rådata!J1911:L1911)-SUM(Rådata!O1911:P1911))*100)/SUM(Rådata!H1911:L1911))","v":""},{"$f":"IF(ISBLANK(Rådata!R1911),\"\",(Rådata!Q1911*100)/Rådata!R1911)","v":""}]
[{"$f":"IF(ISBLANK(Rådata!A1912)=TRUE,\"\",Rådata!A1912)","v":""},{"$f":"IF(ISBLANK(Rådata!A1912)=TRUE,\"\",YEAR(A1912))","v":""},{"$f":"IF(ISBLANK(Rådata!A1912)=TRUE,\"\",VLOOKUP(MONTH(A1912),Opsætning!$G$3:$H$14,2,FALSE))","v":""},{"$f":"IF(ISBLANK(Rådata!B1912)=TRUE,\"\",(Rådata!C1912*100)/Rådata!B1912)","v":""},{"$f":"IF(ISBLANK(Rådata!D1912)=TRUE,\"\",((Rådata!D1912-Rådata!E1912)*100)/Rådata!D1912)","v":""},{"$f":"IF(ISBLANK(Rådata!G1912)=TRUE,\"\",(Rådata!F1912*100)/Rådata!G1912)","v":""},{"$f":"IF(ISBLANK(Rådata!K1912),\"\",(SUM(Rådata!M1912:P1912)*100)/SUM(Rådata!H1912:K1912))","v":""},{"$f":"IF(ISBLANK(Rådata!H1912),\"\",((SUM(Rådata!J1912:L1912)-SUM(Rådata!O1912:P1912))*100)/SUM(Rådata!H1912:L1912))","v":""},{"$f":"IF(ISBLANK(Rådata!R1912),\"\",(Rådata!Q1912*100)/Rådata!R1912)","v":""}]
[{"$f":"IF(ISBLANK(Rådata!A1913)=TRUE,\"\",Rådata!A1913)","v":""},{"$f":"IF(ISBLANK(Rådata!A1913)=TRUE,\"\",YEAR(A1913))","v":""},{"$f":"IF(ISBLANK(Rådata!A1913)=TRUE,\"\",VLOOKUP(MONTH(A1913),Opsætning!$G$3:$H$14,2,FALSE))","v":""},{"$f":"IF(ISBLANK(Rådata!B1913)=TRUE,\"\",(Rådata!C1913*100)/Rådata!B1913)","v":""},{"$f":"IF(ISBLANK(Rådata!D1913)=TRUE,\"\",((Rådata!D1913-Rådata!E1913)*100)/Rådata!D1913)","v":""},{"$f":"IF(ISBLANK(Rådata!G1913)=TRUE,\"\",(Rådata!F1913*100)/Rådata!G1913)","v":""},{"$f":"IF(ISBLANK(Rådata!K1913),\"\",(SUM(Rådata!M1913:P1913)*100)/SUM(Rådata!H1913:K1913))","v":""},{"$f":"IF(ISBLANK(Rådata!H1913),\"\",((SUM(Rådata!J1913:L1913)-SUM(Rådata!O1913:P1913))*100)/SUM(Rådata!H1913:L1913))","v":""},{"$f":"IF(ISBLANK(Rådata!R1913),\"\",(Rådata!Q1913*100)/Rådata!R1913)","v":""}]
[{"$f":"IF(ISBLANK(Rådata!A1914)=TRUE,\"\",Rådata!A1914)","v":""},{"$f":"IF(ISBLANK(Rådata!A1914)=TRUE,\"\",YEAR(A1914))","v":""},{"$f":"IF(ISBLANK(Rådata!A1914)=TRUE,\"\",VLOOKUP(MONTH(A1914),Opsætning!$G$3:$H$14,2,FALSE))","v":""},{"$f":"IF(ISBLANK(Rådata!B1914)=TRUE,\"\",(Rådata!C1914*100)/Rådata!B1914)","v":""},{"$f":"IF(ISBLANK(Rådata!D1914)=TRUE,\"\",((Rådata!D1914-Rådata!E1914)*100)/Rådata!D1914)","v":""},{"$f":"IF(ISBLANK(Rådata!G1914)=TRUE,\"\",(Rådata!F1914*100)/Rådata!G1914)","v":""},{"$f":"IF(ISBLANK(Rådata!K1914),\"\",(SUM(Rådata!M1914:P1914)*100)/SUM(Rådata!H1914:K1914))","v":""},{"$f":"IF(ISBLANK(Rådata!H1914),\"\",((SUM(Rådata!J1914:L1914)-SUM(Rådata!O1914:P1914))*100)/SUM(Rådata!H1914:L1914))","v":""},{"$f":"IF(ISBLANK(Rådata!R1914),\"\",(Rådata!Q1914*100)/Rådata!R1914)","v":""}]
[{"$f":"IF(ISBLANK(Rådata!A1915)=TRUE,\"\",Rådata!A1915)","v":""},{"$f":"IF(ISBLANK(Rådata!A1915)=TRUE,\"\",YEAR(A1915))","v":""},{"$f":"IF(ISBLANK(Rådata!A1915)=TRUE,\"\",VLOOKUP(MONTH(A1915),Opsætning!$G$3:$H$14,2,FALSE))","v":""},{"$f":"IF(ISBLANK(Rådata!B1915)=TRUE,\"\",(Rådata!C1915*100)/Rådata!B1915)","v":""},{"$f":"IF(ISBLANK(Rådata!D1915)=TRUE,\"\",((Rådata!D1915-Rådata!E1915)*100)/Rådata!D1915)","v":""},{"$f":"IF(ISBLANK(Rådata!G1915)=TRUE,\"\",(Rådata!F1915*100)/Rådata!G1915)","v":""},{"$f":"IF(ISBLANK(Rådata!K1915),\"\",(SUM(Rådata!M1915:P1915)*100)/SUM(Rådata!H1915:K1915))","v":""},{"$f":"IF(ISBLANK(Rådata!H1915),\"\",((SUM(Rådata!J1915:L1915)-SUM(Rådata!O1915:P1915))*100)/SUM(Rådata!H1915:L1915))","v":""},{"$f":"IF(ISBLANK(Rådata!R1915),\"\",(Rådata!Q1915*100)/Rådata!R1915)","v":""}]
[{"$f":"IF(ISBLANK(Rådata!A1916)=TRUE,\"\",Rådata!A1916)","v":""},{"$f":"IF(ISBLANK(Rådata!A1916)=TRUE,\"\",YEAR(A1916))","v":""},{"$f":"IF(ISBLANK(Rådata!A1916)=TRUE,\"\",VLOOKUP(MONTH(A1916),Opsætning!$G$3:$H$14,2,FALSE))","v":""},{"$f":"IF(ISBLANK(Rådata!B1916)=TRUE,\"\",(Rådata!C1916*100)/Rådata!B1916)","v":""},{"$f":"IF(ISBLANK(Rådata!D1916)=TRUE,\"\",((Rådata!D1916-Rådata!E1916)*100)/Rådata!D1916)","v":""},{"$f":"IF(ISBLANK(Rådata!G1916)=TRUE,\"\",(Rådata!F1916*100)/Rådata!G1916)","v":""},{"$f":"IF(ISBLANK(Rådata!K1916),\"\",(SUM(Rådata!M1916:P1916)*100)/SUM(Rådata!H1916:K1916))","v":""},{"$f":"IF(ISBLANK(Rådata!H1916),\"\",((SUM(Rådata!J1916:L1916)-SUM(Rådata!O1916:P1916))*100)/SUM(Rådata!H1916:L1916))","v":""},{"$f":"IF(ISBLANK(Rådata!R1916),\"\",(Rådata!Q1916*100)/Rådata!R1916)","v":""}]
[{"$f":"IF(ISBLANK(Rådata!A1917)=TRUE,\"\",Rådata!A1917)","v":""},{"$f":"IF(ISBLANK(Rådata!A1917)=TRUE,\"\",YEAR(A1917))","v":""},{"$f":"IF(ISBLANK(Rådata!A1917)=TRUE,\"\",VLOOKUP(MONTH(A1917),Opsætning!$G$3:$H$14,2,FALSE))","v":""},{"$f":"IF(ISBLANK(Rådata!B1917)=TRUE,\"\",(Rådata!C1917*100)/Rådata!B1917)","v":""},{"$f":"IF(ISBLANK(Rådata!D1917)=TRUE,\"\",((Rådata!D1917-Rådata!E1917)*100)/Rådata!D1917)","v":""},{"$f":"IF(ISBLANK(Rådata!G1917)=TRUE,\"\",(Rådata!F1917*100)/Rådata!G1917)","v":""},{"$f":"IF(ISBLANK(Rådata!K1917),\"\",(SUM(Rådata!M1917:P1917)*100)/SUM(Rådata!H1917:K1917))","v":""},{"$f":"IF(ISBLANK(Rådata!H1917),\"\",((SUM(Rådata!J1917:L1917)-SUM(Rådata!O1917:P1917))*100)/SUM(Rådata!H1917:L1917))","v":""},{"$f":"IF(ISBLANK(Rådata!R1917),\"\",(Rådata!Q1917*100)/Rådata!R1917)","v":""}]
[{"$f":"IF(ISBLANK(Rådata!A1918)=TRUE,\"\",Rådata!A1918)","v":""},{"$f":"IF(ISBLANK(Rådata!A1918)=TRUE,\"\",YEAR(A1918))","v":""},{"$f":"IF(ISBLANK(Rådata!A1918)=TRUE,\"\",VLOOKUP(MONTH(A1918),Opsætning!$G$3:$H$14,2,FALSE))","v":""},{"$f":"IF(ISBLANK(Rådata!B1918)=TRUE,\"\",(Rådata!C1918*100)/Rådata!B1918)","v":""},{"$f":"IF(ISBLANK(Rådata!D1918)=TRUE,\"\",((Rådata!D1918-Rådata!E1918)*100)/Rådata!D1918)","v":""},{"$f":"IF(ISBLANK(Rådata!G1918)=TRUE,\"\",(Rådata!F1918*100)/Rådata!G1918)","v":""},{"$f":"IF(ISBLANK(Rådata!K1918),\"\",(SUM(Rådata!M1918:P1918)*100)/SUM(Rådata!H1918:K1918))","v":""},{"$f":"IF(ISBLANK(Rådata!H1918),\"\",((SUM(Rådata!J1918:L1918)-SUM(Rådata!O1918:P1918))*100)/SUM(Rådata!H1918:L1918))","v":""},{"$f":"IF(ISBLANK(Rådata!R1918),\"\",(Rådata!Q1918*100)/Rådata!R1918)","v":""}]
[{"$f":"IF(ISBLANK(Rådata!A1919)=TRUE,\"\",Rådata!A1919)","v":""},{"$f":"IF(ISBLANK(Rådata!A1919)=TRUE,\"\",YEAR(A1919))","v":""},{"$f":"IF(ISBLANK(Rådata!A1919)=TRUE,\"\",VLOOKUP(MONTH(A1919),Opsætning!$G$3:$H$14,2,FALSE))","v":""},{"$f":"IF(ISBLANK(Rådata!B1919)=TRUE,\"\",(Rådata!C1919*100)/Rådata!B1919)","v":""},{"$f":"IF(ISBLANK(Rådata!D1919)=TRUE,\"\",((Rådata!D1919-Rådata!E1919)*100)/Rådata!D1919)","v":""},{"$f":"IF(ISBLANK(Rådata!G1919)=TRUE,\"\",(Rådata!F1919*100)/Rådata!G1919)","v":""},{"$f":"IF(ISBLANK(Rådata!K1919),\"\",(SUM(Rådata!M1919:P1919)*100)/SUM(Rådata!H1919:K1919))","v":""},{"$f":"IF(ISBLANK(Rådata!H1919),\"\",((SUM(Rådata!J1919:L1919)-SUM(Rådata!O1919:P1919))*100)/SUM(Rådata!H1919:L1919))","v":""},{"$f":"IF(ISBLANK(Rådata!R1919),\"\",(Rådata!Q1919*100)/Rådata!R1919)","v":""}]
[{"$f":"IF(ISBLANK(Rådata!A1920)=TRUE,\"\",Rådata!A1920)","v":""},{"$f":"IF(ISBLANK(Rådata!A1920)=TRUE,\"\",YEAR(A1920))","v":""},{"$f":"IF(ISBLANK(Rådata!A1920)=TRUE,\"\",VLOOKUP(MONTH(A1920),Opsætning!$G$3:$H$14,2,FALSE))","v":""},{"$f":"IF(ISBLANK(Rådata!B1920)=TRUE,\"\",(Rådata!C1920*100)/Rådata!B1920)","v":""},{"$f":"IF(ISBLANK(Rådata!D1920)=TRUE,\"\",((Rådata!D1920-Rådata!E1920)*100)/Rådata!D1920)","v":""},{"$f":"IF(ISBLANK(Rådata!G1920)=TRUE,\"\",(Rådata!F1920*100)/Rådata!G1920)","v":""},{"$f":"IF(ISBLANK(Rådata!K1920),\"\",(SUM(Rådata!M1920:P1920)*100)/SUM(Rådata!H1920:K1920))","v":""},{"$f":"IF(ISBLANK(Rådata!H1920),\"\",((SUM(Rådata!J1920:L1920)-SUM(Rådata!O1920:P1920))*100)/SUM(Rådata!H1920:L1920))","v":""},{"$f":"IF(ISBLANK(Rådata!R1920),\"\",(Rådata!Q1920*100)/Rådata!R1920)","v":""}]
[{"$f":"IF(ISBLANK(Rådata!A1921)=TRUE,\"\",Rådata!A1921)","v":""},{"$f":"IF(ISBLANK(Rådata!A1921)=TRUE,\"\",YEAR(A1921))","v":""},{"$f":"IF(ISBLANK(Rådata!A1921)=TRUE,\"\",VLOOKUP(MONTH(A1921),Opsætning!$G$3:$H$14,2,FALSE))","v":""},{"$f":"IF(ISBLANK(Rådata!B1921)=TRUE,\"\",(Rådata!C1921*100)/Rådata!B1921)","v":""},{"$f":"IF(ISBLANK(Rådata!D1921)=TRUE,\"\",((Rådata!D1921-Rådata!E1921)*100)/Rådata!D1921)","v":""},{"$f":"IF(ISBLANK(Rådata!G1921)=TRUE,\"\",(Rådata!F1921*100)/Rådata!G1921)","v":""},{"$f":"IF(ISBLANK(Rådata!K1921),\"\",(SUM(Rådata!M1921:P1921)*100)/SUM(Rådata!H1921:K1921))","v":""},{"$f":"IF(ISBLANK(Rådata!H1921),\"\",((SUM(Rådata!J1921:L1921)-SUM(Rådata!O1921:P1921))*100)/SUM(Rådata!H1921:L1921))","v":""},{"$f":"IF(ISBLANK(Rådata!R1921),\"\",(Rådata!Q1921*100)/Rådata!R1921)","v":""}]
[{"$f":"IF(ISBLANK(Rådata!A1922)=TRUE,\"\",Rådata!A1922)","v":""},{"$f":"IF(ISBLANK(Rådata!A1922)=TRUE,\"\",YEAR(A1922))","v":""},{"$f":"IF(ISBLANK(Rådata!A1922)=TRUE,\"\",VLOOKUP(MONTH(A1922),Opsætning!$G$3:$H$14,2,FALSE))","v":""},{"$f":"IF(ISBLANK(Rådata!B1922)=TRUE,\"\",(Rådata!C1922*100)/Rådata!B1922)","v":""},{"$f":"IF(ISBLANK(Rådata!D1922)=TRUE,\"\",((Rådata!D1922-Rådata!E1922)*100)/Rådata!D1922)","v":""},{"$f":"IF(ISBLANK(Rådata!G1922)=TRUE,\"\",(Rådata!F1922*100)/Rådata!G1922)","v":""},{"$f":"IF(ISBLANK(Rådata!K1922),\"\",(SUM(Rådata!M1922:P1922)*100)/SUM(Rådata!H1922:K1922))","v":""},{"$f":"IF(ISBLANK(Rådata!H1922),\"\",((SUM(Rådata!J1922:L1922)-SUM(Rådata!O1922:P1922))*100)/SUM(Rådata!H1922:L1922))","v":""},{"$f":"IF(ISBLANK(Rådata!R1922),\"\",(Rådata!Q1922*100)/Rådata!R1922)","v":""}]
[{"$f":"IF(ISBLANK(Rådata!A1923)=TRUE,\"\",Rådata!A1923)","v":""},{"$f":"IF(ISBLANK(Rådata!A1923)=TRUE,\"\",YEAR(A1923))","v":""},{"$f":"IF(ISBLANK(Rådata!A1923)=TRUE,\"\",VLOOKUP(MONTH(A1923),Opsætning!$G$3:$H$14,2,FALSE))","v":""},{"$f":"IF(ISBLANK(Rådata!B1923)=TRUE,\"\",(Rådata!C1923*100)/Rådata!B1923)","v":""},{"$f":"IF(ISBLANK(Rådata!D1923)=TRUE,\"\",((Rådata!D1923-Rådata!E1923)*100)/Rådata!D1923)","v":""},{"$f":"IF(ISBLANK(Rådata!G1923)=TRUE,\"\",(Rådata!F1923*100)/Rådata!G1923)","v":""},{"$f":"IF(ISBLANK(Rådata!K1923),\"\",(SUM(Rådata!M1923:P1923)*100)/SUM(Rådata!H1923:K1923))","v":""},{"$f":"IF(ISBLANK(Rådata!H1923),\"\",((SUM(Rådata!J1923:L1923)-SUM(Rådata!O1923:P1923))*100)/SUM(Rådata!H1923:L1923))","v":""},{"$f":"IF(ISBLANK(Rådata!R1923),\"\",(Rådata!Q1923*100)/Rådata!R1923)","v":""}]
[{"$f":"IF(ISBLANK(Rådata!A1924)=TRUE,\"\",Rådata!A1924)","v":""},{"$f":"IF(ISBLANK(Rådata!A1924)=TRUE,\"\",YEAR(A1924))","v":""},{"$f":"IF(ISBLANK(Rådata!A1924)=TRUE,\"\",VLOOKUP(MONTH(A1924),Opsætning!$G$3:$H$14,2,FALSE))","v":""},{"$f":"IF(ISBLANK(Rådata!B1924)=TRUE,\"\",(Rådata!C1924*100)/Rådata!B1924)","v":""},{"$f":"IF(ISBLANK(Rådata!D1924)=TRUE,\"\",((Rådata!D1924-Rådata!E1924)*100)/Rådata!D1924)","v":""},{"$f":"IF(ISBLANK(Rådata!G1924)=TRUE,\"\",(Rådata!F1924*100)/Rådata!G1924)","v":""},{"$f":"IF(ISBLANK(Rådata!K1924),\"\",(SUM(Rådata!M1924:P1924)*100)/SUM(Rådata!H1924:K1924))","v":""},{"$f":"IF(ISBLANK(Rådata!H1924),\"\",((SUM(Rådata!J1924:L1924)-SUM(Rådata!O1924:P1924))*100)/SUM(Rådata!H1924:L1924))","v":""},{"$f":"IF(ISBLANK(Rådata!R1924),\"\",(Rådata!Q1924*100)/Rådata!R1924)","v":""}]
[{"$f":"IF(ISBLANK(Rådata!A1925)=TRUE,\"\",Rådata!A1925)","v":""},{"$f":"IF(ISBLANK(Rådata!A1925)=TRUE,\"\",YEAR(A1925))","v":""},{"$f":"IF(ISBLANK(Rådata!A1925)=TRUE,\"\",VLOOKUP(MONTH(A1925),Opsætning!$G$3:$H$14,2,FALSE))","v":""},{"$f":"IF(ISBLANK(Rådata!B1925)=TRUE,\"\",(Rådata!C1925*100)/Rådata!B1925)","v":""},{"$f":"IF(ISBLANK(Rådata!D1925)=TRUE,\"\",((Rådata!D1925-Rådata!E1925)*100)/Rådata!D1925)","v":""},{"$f":"IF(ISBLANK(Rådata!G1925)=TRUE,\"\",(Rådata!F1925*100)/Rådata!G1925)","v":""},{"$f":"IF(ISBLANK(Rådata!K1925),\"\",(SUM(Rådata!M1925:P1925)*100)/SUM(Rådata!H1925:K1925))","v":""},{"$f":"IF(ISBLANK(Rådata!H1925),\"\",((SUM(Rådata!J1925:L1925)-SUM(Rådata!O1925:P1925))*100)/SUM(Rådata!H1925:L1925))","v":""},{"$f":"IF(ISBLANK(Rådata!R1925),\"\",(Rådata!Q1925*100)/Rådata!R1925)","v":""}]
[{"$f":"IF(ISBLANK(Rådata!A1926)=TRUE,\"\",Rådata!A1926)","v":""},{"$f":"IF(ISBLANK(Rådata!A1926)=TRUE,\"\",YEAR(A1926))","v":""},{"$f":"IF(ISBLANK(Rådata!A1926)=TRUE,\"\",VLOOKUP(MONTH(A1926),Opsætning!$G$3:$H$14,2,FALSE))","v":""},{"$f":"IF(ISBLANK(Rådata!B1926)=TRUE,\"\",(Rådata!C1926*100)/Rådata!B1926)","v":""},{"$f":"IF(ISBLANK(Rådata!D1926)=TRUE,\"\",((Rådata!D1926-Rådata!E1926)*100)/Rådata!D1926)","v":""},{"$f":"IF(ISBLANK(Rådata!G1926)=TRUE,\"\",(Rådata!F1926*100)/Rådata!G1926)","v":""},{"$f":"IF(ISBLANK(Rådata!K1926),\"\",(SUM(Rådata!M1926:P1926)*100)/SUM(Rådata!H1926:K1926))","v":""},{"$f":"IF(ISBLANK(Rådata!H1926),\"\",((SUM(Rådata!J1926:L1926)-SUM(Rådata!O1926:P1926))*100)/SUM(Rådata!H1926:L1926))","v":""},{"$f":"IF(ISBLANK(Rådata!R1926),\"\",(Rådata!Q1926*100)/Rådata!R1926)","v":""}]
[{"$f":"IF(ISBLANK(Rådata!A1927)=TRUE,\"\",Rådata!A1927)","v":""},{"$f":"IF(ISBLANK(Rådata!A1927)=TRUE,\"\",YEAR(A1927))","v":""},{"$f":"IF(ISBLANK(Rådata!A1927)=TRUE,\"\",VLOOKUP(MONTH(A1927),Opsætning!$G$3:$H$14,2,FALSE))","v":""},{"$f":"IF(ISBLANK(Rådata!B1927)=TRUE,\"\",(Rådata!C1927*100)/Rådata!B1927)","v":""},{"$f":"IF(ISBLANK(Rådata!D1927)=TRUE,\"\",((Rådata!D1927-Rådata!E1927)*100)/Rådata!D1927)","v":""},{"$f":"IF(ISBLANK(Rådata!G1927)=TRUE,\"\",(Rådata!F1927*100)/Rådata!G1927)","v":""},{"$f":"IF(ISBLANK(Rådata!K1927),\"\",(SUM(Rådata!M1927:P1927)*100)/SUM(Rådata!H1927:K1927))","v":""},{"$f":"IF(ISBLANK(Rådata!H1927),\"\",((SUM(Rådata!J1927:L1927)-SUM(Rådata!O1927:P1927))*100)/SUM(Rådata!H1927:L1927))","v":""},{"$f":"IF(ISBLANK(Rådata!R1927),\"\",(Rådata!Q1927*100)/Rådata!R1927)","v":""}]
[{"$f":"IF(ISBLANK(Rådata!A1928)=TRUE,\"\",Rådata!A1928)","v":""},{"$f":"IF(ISBLANK(Rådata!A1928)=TRUE,\"\",YEAR(A1928))","v":""},{"$f":"IF(ISBLANK(Rådata!A1928)=TRUE,\"\",VLOOKUP(MONTH(A1928),Opsætning!$G$3:$H$14,2,FALSE))","v":""},{"$f":"IF(ISBLANK(Rådata!B1928)=TRUE,\"\",(Rådata!C1928*100)/Rådata!B1928)","v":""},{"$f":"IF(ISBLANK(Rådata!D1928)=TRUE,\"\",((Rådata!D1928-Rådata!E1928)*100)/Rådata!D1928)","v":""},{"$f":"IF(ISBLANK(Rådata!G1928)=TRUE,\"\",(Rådata!F1928*100)/Rådata!G1928)","v":""},{"$f":"IF(ISBLANK(Rådata!K1928),\"\",(SUM(Rådata!M1928:P1928)*100)/SUM(Rådata!H1928:K1928))","v":""},{"$f":"IF(ISBLANK(Rådata!H1928),\"\",((SUM(Rådata!J1928:L1928)-SUM(Rådata!O1928:P1928))*100)/SUM(Rådata!H1928:L1928))","v":""},{"$f":"IF(ISBLANK(Rådata!R1928),\"\",(Rådata!Q1928*100)/Rådata!R1928)","v":""}]
[{"$f":"IF(ISBLANK(Rådata!A1929)=TRUE,\"\",Rådata!A1929)","v":""},{"$f":"IF(ISBLANK(Rådata!A1929)=TRUE,\"\",YEAR(A1929))","v":""},{"$f":"IF(ISBLANK(Rådata!A1929)=TRUE,\"\",VLOOKUP(MONTH(A1929),Opsætning!$G$3:$H$14,2,FALSE))","v":""},{"$f":"IF(ISBLANK(Rådata!B1929)=TRUE,\"\",(Rådata!C1929*100)/Rådata!B1929)","v":""},{"$f":"IF(ISBLANK(Rådata!D1929)=TRUE,\"\",((Rådata!D1929-Rådata!E1929)*100)/Rådata!D1929)","v":""},{"$f":"IF(ISBLANK(Rådata!G1929)=TRUE,\"\",(Rådata!F1929*100)/Rådata!G1929)","v":""},{"$f":"IF(ISBLANK(Rådata!K1929),\"\",(SUM(Rådata!M1929:P1929)*100)/SUM(Rådata!H1929:K1929))","v":""},{"$f":"IF(ISBLANK(Rådata!H1929),\"\",((SUM(Rådata!J1929:L1929)-SUM(Rådata!O1929:P1929))*100)/SUM(Rådata!H1929:L1929))","v":""},{"$f":"IF(ISBLANK(Rådata!R1929),\"\",(Rådata!Q1929*100)/Rådata!R1929)","v":""}]
[{"$f":"IF(ISBLANK(Rådata!A1930)=TRUE,\"\",Rådata!A1930)","v":""},{"$f":"IF(ISBLANK(Rådata!A1930)=TRUE,\"\",YEAR(A1930))","v":""},{"$f":"IF(ISBLANK(Rådata!A1930)=TRUE,\"\",VLOOKUP(MONTH(A1930),Opsætning!$G$3:$H$14,2,FALSE))","v":""},{"$f":"IF(ISBLANK(Rådata!B1930)=TRUE,\"\",(Rådata!C1930*100)/Rådata!B1930)","v":""},{"$f":"IF(ISBLANK(Rådata!D1930)=TRUE,\"\",((Rådata!D1930-Rådata!E1930)*100)/Rådata!D1930)","v":""},{"$f":"IF(ISBLANK(Rådata!G1930)=TRUE,\"\",(Rådata!F1930*100)/Rådata!G1930)","v":""},{"$f":"IF(ISBLANK(Rådata!K1930),\"\",(SUM(Rådata!M1930:P1930)*100)/SUM(Rådata!H1930:K1930))","v":""},{"$f":"IF(ISBLANK(Rådata!H1930),\"\",((SUM(Rådata!J1930:L1930)-SUM(Rådata!O1930:P1930))*100)/SUM(Rådata!H1930:L1930))","v":""},{"$f":"IF(ISBLANK(Rådata!R1930),\"\",(Rådata!Q1930*100)/Rådata!R1930)","v":""}]
[{"$f":"IF(ISBLANK(Rådata!A1931)=TRUE,\"\",Rådata!A1931)","v":""},{"$f":"IF(ISBLANK(Rådata!A1931)=TRUE,\"\",YEAR(A1931))","v":""},{"$f":"IF(ISBLANK(Rådata!A1931)=TRUE,\"\",VLOOKUP(MONTH(A1931),Opsætning!$G$3:$H$14,2,FALSE))","v":""},{"$f":"IF(ISBLANK(Rådata!B1931)=TRUE,\"\",(Rådata!C1931*100)/Rådata!B1931)","v":""},{"$f":"IF(ISBLANK(Rådata!D1931)=TRUE,\"\",((Rådata!D1931-Rådata!E1931)*100)/Rådata!D1931)","v":""},{"$f":"IF(ISBLANK(Rådata!G1931)=TRUE,\"\",(Rådata!F1931*100)/Rådata!G1931)","v":""},{"$f":"IF(ISBLANK(Rådata!K1931),\"\",(SUM(Rådata!M1931:P1931)*100)/SUM(Rådata!H1931:K1931))","v":""},{"$f":"IF(ISBLANK(Rådata!H1931),\"\",((SUM(Rådata!J1931:L1931)-SUM(Rådata!O1931:P1931))*100)/SUM(Rådata!H1931:L1931))","v":""},{"$f":"IF(ISBLANK(Rådata!R1931),\"\",(Rådata!Q1931*100)/Rådata!R1931)","v":""}]
[{"$f":"IF(ISBLANK(Rådata!A1932)=TRUE,\"\",Rådata!A1932)","v":""},{"$f":"IF(ISBLANK(Rådata!A1932)=TRUE,\"\",YEAR(A1932))","v":""},{"$f":"IF(ISBLANK(Rådata!A1932)=TRUE,\"\",VLOOKUP(MONTH(A1932),Opsætning!$G$3:$H$14,2,FALSE))","v":""},{"$f":"IF(ISBLANK(Rådata!B1932)=TRUE,\"\",(Rådata!C1932*100)/Rådata!B1932)","v":""},{"$f":"IF(ISBLANK(Rådata!D1932)=TRUE,\"\",((Rådata!D1932-Rådata!E1932)*100)/Rådata!D1932)","v":""},{"$f":"IF(ISBLANK(Rådata!G1932)=TRUE,\"\",(Rådata!F1932*100)/Rådata!G1932)","v":""},{"$f":"IF(ISBLANK(Rådata!K1932),\"\",(SUM(Rådata!M1932:P1932)*100)/SUM(Rådata!H1932:K1932))","v":""},{"$f":"IF(ISBLANK(Rådata!H1932),\"\",((SUM(Rådata!J1932:L1932)-SUM(Rådata!O1932:P1932))*100)/SUM(Rådata!H1932:L1932))","v":""},{"$f":"IF(ISBLANK(Rådata!R1932),\"\",(Rådata!Q1932*100)/Rådata!R1932)","v":""}]
[{"$f":"IF(ISBLANK(Rådata!A1933)=TRUE,\"\",Rådata!A1933)","v":""},{"$f":"IF(ISBLANK(Rådata!A1933)=TRUE,\"\",YEAR(A1933))","v":""},{"$f":"IF(ISBLANK(Rådata!A1933)=TRUE,\"\",VLOOKUP(MONTH(A1933),Opsætning!$G$3:$H$14,2,FALSE))","v":""},{"$f":"IF(ISBLANK(Rådata!B1933)=TRUE,\"\",(Rådata!C1933*100)/Rådata!B1933)","v":""},{"$f":"IF(ISBLANK(Rådata!D1933)=TRUE,\"\",((Rådata!D1933-Rådata!E1933)*100)/Rådata!D1933)","v":""},{"$f":"IF(ISBLANK(Rådata!G1933)=TRUE,\"\",(Rådata!F1933*100)/Rådata!G1933)","v":""},{"$f":"IF(ISBLANK(Rådata!K1933),\"\",(SUM(Rådata!M1933:P1933)*100)/SUM(Rådata!H1933:K1933))","v":""},{"$f":"IF(ISBLANK(Rådata!H1933),\"\",((SUM(Rådata!J1933:L1933)-SUM(Rådata!O1933:P1933))*100)/SUM(Rådata!H1933:L1933))","v":""},{"$f":"IF(ISBLANK(Rådata!R1933),\"\",(Rådata!Q1933*100)/Rådata!R1933)","v":""}]
[{"$f":"IF(ISBLANK(Rådata!A1934)=TRUE,\"\",Rådata!A1934)","v":""},{"$f":"IF(ISBLANK(Rådata!A1934)=TRUE,\"\",YEAR(A1934))","v":""},{"$f":"IF(ISBLANK(Rådata!A1934)=TRUE,\"\",VLOOKUP(MONTH(A1934),Opsætning!$G$3:$H$14,2,FALSE))","v":""},{"$f":"IF(ISBLANK(Rådata!B1934)=TRUE,\"\",(Rådata!C1934*100)/Rådata!B1934)","v":""},{"$f":"IF(ISBLANK(Rådata!D1934)=TRUE,\"\",((Rådata!D1934-Rådata!E1934)*100)/Rådata!D1934)","v":""},{"$f":"IF(ISBLANK(Rådata!G1934)=TRUE,\"\",(Rådata!F1934*100)/Rådata!G1934)","v":""},{"$f":"IF(ISBLANK(Rådata!K1934),\"\",(SUM(Rådata!M1934:P1934)*100)/SUM(Rådata!H1934:K1934))","v":""},{"$f":"IF(ISBLANK(Rådata!H1934),\"\",((SUM(Rådata!J1934:L1934)-SUM(Rådata!O1934:P1934))*100)/SUM(Rådata!H1934:L1934))","v":""},{"$f":"IF(ISBLANK(Rådata!R1934),\"\",(Rådata!Q1934*100)/Rådata!R1934)","v":""}]
[{"$f":"IF(ISBLANK(Rådata!A1935)=TRUE,\"\",Rådata!A1935)","v":""},{"$f":"IF(ISBLANK(Rådata!A1935)=TRUE,\"\",YEAR(A1935))","v":""},{"$f":"IF(ISBLANK(Rådata!A1935)=TRUE,\"\",VLOOKUP(MONTH(A1935),Opsætning!$G$3:$H$14,2,FALSE))","v":""},{"$f":"IF(ISBLANK(Rådata!B1935)=TRUE,\"\",(Rådata!C1935*100)/Rådata!B1935)","v":""},{"$f":"IF(ISBLANK(Rådata!D1935)=TRUE,\"\",((Rådata!D1935-Rådata!E1935)*100)/Rådata!D1935)","v":""},{"$f":"IF(ISBLANK(Rådata!G1935)=TRUE,\"\",(Rådata!F1935*100)/Rådata!G1935)","v":""},{"$f":"IF(ISBLANK(Rådata!K1935),\"\",(SUM(Rådata!M1935:P1935)*100)/SUM(Rådata!H1935:K1935))","v":""},{"$f":"IF(ISBLANK(Rådata!H1935),\"\",((SUM(Rådata!J1935:L1935)-SUM(Rådata!O1935:P1935))*100)/SUM(Rådata!H1935:L1935))","v":""},{"$f":"IF(ISBLANK(Rådata!R1935),\"\",(Rådata!Q1935*100)/Rådata!R1935)","v":""}]
[{"$f":"IF(ISBLANK(Rådata!A1936)=TRUE,\"\",Rådata!A1936)","v":""},{"$f":"IF(ISBLANK(Rådata!A1936)=TRUE,\"\",YEAR(A1936))","v":""},{"$f":"IF(ISBLANK(Rådata!A1936)=TRUE,\"\",VLOOKUP(MONTH(A1936),Opsætning!$G$3:$H$14,2,FALSE))","v":""},{"$f":"IF(ISBLANK(Rådata!B1936)=TRUE,\"\",(Rådata!C1936*100)/Rådata!B1936)","v":""},{"$f":"IF(ISBLANK(Rådata!D1936)=TRUE,\"\",((Rådata!D1936-Rådata!E1936)*100)/Rådata!D1936)","v":""},{"$f":"IF(ISBLANK(Rådata!G1936)=TRUE,\"\",(Rådata!F1936*100)/Rådata!G1936)","v":""},{"$f":"IF(ISBLANK(Rådata!K1936),\"\",(SUM(Rådata!M1936:P1936)*100)/SUM(Rådata!H1936:K1936))","v":""},{"$f":"IF(ISBLANK(Rådata!H1936),\"\",((SUM(Rådata!J1936:L1936)-SUM(Rådata!O1936:P1936))*100)/SUM(Rådata!H1936:L1936))","v":""},{"$f":"IF(ISBLANK(Rådata!R1936),\"\",(Rådata!Q1936*100)/Rådata!R1936)","v":""}]
[{"$f":"IF(ISBLANK(Rådata!A1937)=TRUE,\"\",Rådata!A1937)","v":""},{"$f":"IF(ISBLANK(Rådata!A1937)=TRUE,\"\",YEAR(A1937))","v":""},{"$f":"IF(ISBLANK(Rådata!A1937)=TRUE,\"\",VLOOKUP(MONTH(A1937),Opsætning!$G$3:$H$14,2,FALSE))","v":""},{"$f":"IF(ISBLANK(Rådata!B1937)=TRUE,\"\",(Rådata!C1937*100)/Rådata!B1937)","v":""},{"$f":"IF(ISBLANK(Rådata!D1937)=TRUE,\"\",((Rådata!D1937-Rådata!E1937)*100)/Rådata!D1937)","v":""},{"$f":"IF(ISBLANK(Rådata!G1937)=TRUE,\"\",(Rådata!F1937*100)/Rådata!G1937)","v":""},{"$f":"IF(ISBLANK(Rådata!K1937),\"\",(SUM(Rådata!M1937:P1937)*100)/SUM(Rådata!H1937:K1937))","v":""},{"$f":"IF(ISBLANK(Rådata!H1937),\"\",((SUM(Rådata!J1937:L1937)-SUM(Rådata!O1937:P1937))*100)/SUM(Rådata!H1937:L1937))","v":""},{"$f":"IF(ISBLANK(Rådata!R1937),\"\",(Rådata!Q1937*100)/Rådata!R1937)","v":""}]
[{"$f":"IF(ISBLANK(Rådata!A1938)=TRUE,\"\",Rådata!A1938)","v":""},{"$f":"IF(ISBLANK(Rådata!A1938)=TRUE,\"\",YEAR(A1938))","v":""},{"$f":"IF(ISBLANK(Rådata!A1938)=TRUE,\"\",VLOOKUP(MONTH(A1938),Opsætning!$G$3:$H$14,2,FALSE))","v":""},{"$f":"IF(ISBLANK(Rådata!B1938)=TRUE,\"\",(Rådata!C1938*100)/Rådata!B1938)","v":""},{"$f":"IF(ISBLANK(Rådata!D1938)=TRUE,\"\",((Rådata!D1938-Rådata!E1938)*100)/Rådata!D1938)","v":""},{"$f":"IF(ISBLANK(Rådata!G1938)=TRUE,\"\",(Rådata!F1938*100)/Rådata!G1938)","v":""},{"$f":"IF(ISBLANK(Rådata!K1938),\"\",(SUM(Rådata!M1938:P1938)*100)/SUM(Rådata!H1938:K1938))","v":""},{"$f":"IF(ISBLANK(Rådata!H1938),\"\",((SUM(Rådata!J1938:L1938)-SUM(Rådata!O1938:P1938))*100)/SUM(Rådata!H1938:L1938))","v":""},{"$f":"IF(ISBLANK(Rådata!R1938),\"\",(Rådata!Q1938*100)/Rådata!R1938)","v":""}]
[{"$f":"IF(ISBLANK(Rådata!A1939)=TRUE,\"\",Rådata!A1939)","v":""},{"$f":"IF(ISBLANK(Rådata!A1939)=TRUE,\"\",YEAR(A1939))","v":""},{"$f":"IF(ISBLANK(Rådata!A1939)=TRUE,\"\",VLOOKUP(MONTH(A1939),Opsætning!$G$3:$H$14,2,FALSE))","v":""},{"$f":"IF(ISBLANK(Rådata!B1939)=TRUE,\"\",(Rådata!C1939*100)/Rådata!B1939)","v":""},{"$f":"IF(ISBLANK(Rådata!D1939)=TRUE,\"\",((Rådata!D1939-Rådata!E1939)*100)/Rådata!D1939)","v":""},{"$f":"IF(ISBLANK(Rådata!G1939)=TRUE,\"\",(Rådata!F1939*100)/Rådata!G1939)","v":""},{"$f":"IF(ISBLANK(Rådata!K1939),\"\",(SUM(Rådata!M1939:P1939)*100)/SUM(Rådata!H1939:K1939))","v":""},{"$f":"IF(ISBLANK(Rådata!H1939),\"\",((SUM(Rådata!J1939:L1939)-SUM(Rådata!O1939:P1939))*100)/SUM(Rådata!H1939:L1939))","v":""},{"$f":"IF(ISBLANK(Rådata!R1939),\"\",(Rådata!Q1939*100)/Rådata!R1939)","v":""}]
[{"$f":"IF(ISBLANK(Rådata!A1940)=TRUE,\"\",Rådata!A1940)","v":""},{"$f":"IF(ISBLANK(Rådata!A1940)=TRUE,\"\",YEAR(A1940))","v":""},{"$f":"IF(ISBLANK(Rådata!A1940)=TRUE,\"\",VLOOKUP(MONTH(A1940),Opsætning!$G$3:$H$14,2,FALSE))","v":""},{"$f":"IF(ISBLANK(Rådata!B1940)=TRUE,\"\",(Rådata!C1940*100)/Rådata!B1940)","v":""},{"$f":"IF(ISBLANK(Rådata!D1940)=TRUE,\"\",((Rådata!D1940-Rådata!E1940)*100)/Rådata!D1940)","v":""},{"$f":"IF(ISBLANK(Rådata!G1940)=TRUE,\"\",(Rådata!F1940*100)/Rådata!G1940)","v":""},{"$f":"IF(ISBLANK(Rådata!K1940),\"\",(SUM(Rådata!M1940:P1940)*100)/SUM(Rådata!H1940:K1940))","v":""},{"$f":"IF(ISBLANK(Rådata!H1940),\"\",((SUM(Rådata!J1940:L1940)-SUM(Rådata!O1940:P1940))*100)/SUM(Rådata!H1940:L1940))","v":""},{"$f":"IF(ISBLANK(Rådata!R1940),\"\",(Rådata!Q1940*100)/Rådata!R1940)","v":""}]
[{"$f":"IF(ISBLANK(Rådata!A1941)=TRUE,\"\",Rådata!A1941)","v":""},{"$f":"IF(ISBLANK(Rådata!A1941)=TRUE,\"\",YEAR(A1941))","v":""},{"$f":"IF(ISBLANK(Rådata!A1941)=TRUE,\"\",VLOOKUP(MONTH(A1941),Opsætning!$G$3:$H$14,2,FALSE))","v":""},{"$f":"IF(ISBLANK(Rådata!B1941)=TRUE,\"\",(Rådata!C1941*100)/Rådata!B1941)","v":""},{"$f":"IF(ISBLANK(Rådata!D1941)=TRUE,\"\",((Rådata!D1941-Rådata!E1941)*100)/Rådata!D1941)","v":""},{"$f":"IF(ISBLANK(Rådata!G1941)=TRUE,\"\",(Rådata!F1941*100)/Rådata!G1941)","v":""},{"$f":"IF(ISBLANK(Rådata!K1941),\"\",(SUM(Rådata!M1941:P1941)*100)/SUM(Rådata!H1941:K1941))","v":""},{"$f":"IF(ISBLANK(Rådata!H1941),\"\",((SUM(Rådata!J1941:L1941)-SUM(Rådata!O1941:P1941))*100)/SUM(Rådata!H1941:L1941))","v":""},{"$f":"IF(ISBLANK(Rådata!R1941),\"\",(Rådata!Q1941*100)/Rådata!R1941)","v":""}]
[{"$f":"IF(ISBLANK(Rådata!A1942)=TRUE,\"\",Rådata!A1942)","v":""},{"$f":"IF(ISBLANK(Rådata!A1942)=TRUE,\"\",YEAR(A1942))","v":""},{"$f":"IF(ISBLANK(Rådata!A1942)=TRUE,\"\",VLOOKUP(MONTH(A1942),Opsætning!$G$3:$H$14,2,FALSE))","v":""},{"$f":"IF(ISBLANK(Rådata!B1942)=TRUE,\"\",(Rådata!C1942*100)/Rådata!B1942)","v":""},{"$f":"IF(ISBLANK(Rådata!D1942)=TRUE,\"\",((Rådata!D1942-Rådata!E1942)*100)/Rådata!D1942)","v":""},{"$f":"IF(ISBLANK(Rådata!G1942)=TRUE,\"\",(Rådata!F1942*100)/Rådata!G1942)","v":""},{"$f":"IF(ISBLANK(Rådata!K1942),\"\",(SUM(Rådata!M1942:P1942)*100)/SUM(Rådata!H1942:K1942))","v":""},{"$f":"IF(ISBLANK(Rådata!H1942),\"\",((SUM(Rådata!J1942:L1942)-SUM(Rådata!O1942:P1942))*100)/SUM(Rådata!H1942:L1942))","v":""},{"$f":"IF(ISBLANK(Rådata!R1942),\"\",(Rådata!Q1942*100)/Rådata!R1942)","v":""}]
[{"$f":"IF(ISBLANK(Rådata!A1943)=TRUE,\"\",Rådata!A1943)","v":""},{"$f":"IF(ISBLANK(Rådata!A1943)=TRUE,\"\",YEAR(A1943))","v":""},{"$f":"IF(ISBLANK(Rådata!A1943)=TRUE,\"\",VLOOKUP(MONTH(A1943),Opsætning!$G$3:$H$14,2,FALSE))","v":""},{"$f":"IF(ISBLANK(Rådata!B1943)=TRUE,\"\",(Rådata!C1943*100)/Rådata!B1943)","v":""},{"$f":"IF(ISBLANK(Rådata!D1943)=TRUE,\"\",((Rådata!D1943-Rådata!E1943)*100)/Rådata!D1943)","v":""},{"$f":"IF(ISBLANK(Rådata!G1943)=TRUE,\"\",(Rådata!F1943*100)/Rådata!G1943)","v":""},{"$f":"IF(ISBLANK(Rådata!K1943),\"\",(SUM(Rådata!M1943:P1943)*100)/SUM(Rådata!H1943:K1943))","v":""},{"$f":"IF(ISBLANK(Rådata!H1943),\"\",((SUM(Rådata!J1943:L1943)-SUM(Rådata!O1943:P1943))*100)/SUM(Rådata!H1943:L1943))","v":""},{"$f":"IF(ISBLANK(Rådata!R1943),\"\",(Rådata!Q1943*100)/Rådata!R1943)","v":""}]
[{"$f":"IF(ISBLANK(Rådata!A1944)=TRUE,\"\",Rådata!A1944)","v":""},{"$f":"IF(ISBLANK(Rådata!A1944)=TRUE,\"\",YEAR(A1944))","v":""},{"$f":"IF(ISBLANK(Rådata!A1944)=TRUE,\"\",VLOOKUP(MONTH(A1944),Opsætning!$G$3:$H$14,2,FALSE))","v":""},{"$f":"IF(ISBLANK(Rådata!B1944)=TRUE,\"\",(Rådata!C1944*100)/Rådata!B1944)","v":""},{"$f":"IF(ISBLANK(Rådata!D1944)=TRUE,\"\",((Rådata!D1944-Rådata!E1944)*100)/Rådata!D1944)","v":""},{"$f":"IF(ISBLANK(Rådata!G1944)=TRUE,\"\",(Rådata!F1944*100)/Rådata!G1944)","v":""},{"$f":"IF(ISBLANK(Rådata!K1944),\"\",(SUM(Rådata!M1944:P1944)*100)/SUM(Rådata!H1944:K1944))","v":""},{"$f":"IF(ISBLANK(Rådata!H1944),\"\",((SUM(Rådata!J1944:L1944)-SUM(Rådata!O1944:P1944))*100)/SUM(Rådata!H1944:L1944))","v":""},{"$f":"IF(ISBLANK(Rådata!R1944),\"\",(Rådata!Q1944*100)/Rådata!R1944)","v":""}]
[{"$f":"IF(ISBLANK(Rådata!A1945)=TRUE,\"\",Rådata!A1945)","v":""},{"$f":"IF(ISBLANK(Rådata!A1945)=TRUE,\"\",YEAR(A1945))","v":""},{"$f":"IF(ISBLANK(Rådata!A1945)=TRUE,\"\",VLOOKUP(MONTH(A1945),Opsætning!$G$3:$H$14,2,FALSE))","v":""},{"$f":"IF(ISBLANK(Rådata!B1945)=TRUE,\"\",(Rådata!C1945*100)/Rådata!B1945)","v":""},{"$f":"IF(ISBLANK(Rådata!D1945)=TRUE,\"\",((Rådata!D1945-Rådata!E1945)*100)/Rådata!D1945)","v":""},{"$f":"IF(ISBLANK(Rådata!G1945)=TRUE,\"\",(Rådata!F1945*100)/Rådata!G1945)","v":""},{"$f":"IF(ISBLANK(Rådata!K1945),\"\",(SUM(Rådata!M1945:P1945)*100)/SUM(Rådata!H1945:K1945))","v":""},{"$f":"IF(ISBLANK(Rådata!H1945),\"\",((SUM(Rådata!J1945:L1945)-SUM(Rådata!O1945:P1945))*100)/SUM(Rådata!H1945:L1945))","v":""},{"$f":"IF(ISBLANK(Rådata!R1945),\"\",(Rådata!Q1945*100)/Rådata!R1945)","v":""}]
[{"$f":"IF(ISBLANK(Rådata!A1946)=TRUE,\"\",Rådata!A1946)","v":""},{"$f":"IF(ISBLANK(Rådata!A1946)=TRUE,\"\",YEAR(A1946))","v":""},{"$f":"IF(ISBLANK(Rådata!A1946)=TRUE,\"\",VLOOKUP(MONTH(A1946),Opsætning!$G$3:$H$14,2,FALSE))","v":""},{"$f":"IF(ISBLANK(Rådata!B1946)=TRUE,\"\",(Rådata!C1946*100)/Rådata!B1946)","v":""},{"$f":"IF(ISBLANK(Rådata!D1946)=TRUE,\"\",((Rådata!D1946-Rådata!E1946)*100)/Rådata!D1946)","v":""},{"$f":"IF(ISBLANK(Rådata!G1946)=TRUE,\"\",(Rådata!F1946*100)/Rådata!G1946)","v":""},{"$f":"IF(ISBLANK(Rådata!K1946),\"\",(SUM(Rådata!M1946:P1946)*100)/SUM(Rådata!H1946:K1946))","v":""},{"$f":"IF(ISBLANK(Rådata!H1946),\"\",((SUM(Rådata!J1946:L1946)-SUM(Rådata!O1946:P1946))*100)/SUM(Rådata!H1946:L1946))","v":""},{"$f":"IF(ISBLANK(Rådata!R1946),\"\",(Rådata!Q1946*100)/Rådata!R1946)","v":""}]
[{"$f":"IF(ISBLANK(Rådata!A1947)=TRUE,\"\",Rådata!A1947)","v":""},{"$f":"IF(ISBLANK(Rådata!A1947)=TRUE,\"\",YEAR(A1947))","v":""},{"$f":"IF(ISBLANK(Rådata!A1947)=TRUE,\"\",VLOOKUP(MONTH(A1947),Opsætning!$G$3:$H$14,2,FALSE))","v":""},{"$f":"IF(ISBLANK(Rådata!B1947)=TRUE,\"\",(Rådata!C1947*100)/Rådata!B1947)","v":""},{"$f":"IF(ISBLANK(Rådata!D1947)=TRUE,\"\",((Rådata!D1947-Rådata!E1947)*100)/Rådata!D1947)","v":""},{"$f":"IF(ISBLANK(Rådata!G1947)=TRUE,\"\",(Rådata!F1947*100)/Rådata!G1947)","v":""},{"$f":"IF(ISBLANK(Rådata!K1947),\"\",(SUM(Rådata!M1947:P1947)*100)/SUM(Rådata!H1947:K1947))","v":""},{"$f":"IF(ISBLANK(Rådata!H1947),\"\",((SUM(Rådata!J1947:L1947)-SUM(Rådata!O1947:P1947))*100)/SUM(Rådata!H1947:L1947))","v":""},{"$f":"IF(ISBLANK(Rådata!R1947),\"\",(Rådata!Q1947*100)/Rådata!R1947)","v":""}]
[{"$f":"IF(ISBLANK(Rådata!A1948)=TRUE,\"\",Rådata!A1948)","v":""},{"$f":"IF(ISBLANK(Rådata!A1948)=TRUE,\"\",YEAR(A1948))","v":""},{"$f":"IF(ISBLANK(Rådata!A1948)=TRUE,\"\",VLOOKUP(MONTH(A1948),Opsætning!$G$3:$H$14,2,FALSE))","v":""},{"$f":"IF(ISBLANK(Rådata!B1948)=TRUE,\"\",(Rådata!C1948*100)/Rådata!B1948)","v":""},{"$f":"IF(ISBLANK(Rådata!D1948)=TRUE,\"\",((Rådata!D1948-Rådata!E1948)*100)/Rådata!D1948)","v":""},{"$f":"IF(ISBLANK(Rådata!G1948)=TRUE,\"\",(Rådata!F1948*100)/Rådata!G1948)","v":""},{"$f":"IF(ISBLANK(Rådata!K1948),\"\",(SUM(Rådata!M1948:P1948)*100)/SUM(Rådata!H1948:K1948))","v":""},{"$f":"IF(ISBLANK(Rådata!H1948),\"\",((SUM(Rådata!J1948:L1948)-SUM(Rådata!O1948:P1948))*100)/SUM(Rådata!H1948:L1948))","v":""},{"$f":"IF(ISBLANK(Rådata!R1948),\"\",(Rådata!Q1948*100)/Rådata!R1948)","v":""}]
[{"$f":"IF(ISBLANK(Rådata!A1949)=TRUE,\"\",Rådata!A1949)","v":""},{"$f":"IF(ISBLANK(Rådata!A1949)=TRUE,\"\",YEAR(A1949))","v":""},{"$f":"IF(ISBLANK(Rådata!A1949)=TRUE,\"\",VLOOKUP(MONTH(A1949),Opsætning!$G$3:$H$14,2,FALSE))","v":""},{"$f":"IF(ISBLANK(Rådata!B1949)=TRUE,\"\",(Rådata!C1949*100)/Rådata!B1949)","v":""},{"$f":"IF(ISBLANK(Rådata!D1949)=TRUE,\"\",((Rådata!D1949-Rådata!E1949)*100)/Rådata!D1949)","v":""},{"$f":"IF(ISBLANK(Rådata!G1949)=TRUE,\"\",(Rådata!F1949*100)/Rådata!G1949)","v":""},{"$f":"IF(ISBLANK(Rådata!K1949),\"\",(SUM(Rådata!M1949:P1949)*100)/SUM(Rådata!H1949:K1949))","v":""},{"$f":"IF(ISBLANK(Rådata!H1949),\"\",((SUM(Rådata!J1949:L1949)-SUM(Rådata!O1949:P1949))*100)/SUM(Rådata!H1949:L1949))","v":""},{"$f":"IF(ISBLANK(Rådata!R1949),\"\",(Rådata!Q1949*100)/Rådata!R1949)","v":""}]
[{"$f":"IF(ISBLANK(Rådata!A1950)=TRUE,\"\",Rådata!A1950)","v":""},{"$f":"IF(ISBLANK(Rådata!A1950)=TRUE,\"\",YEAR(A1950))","v":""},{"$f":"IF(ISBLANK(Rådata!A1950)=TRUE,\"\",VLOOKUP(MONTH(A1950),Opsætning!$G$3:$H$14,2,FALSE))","v":""},{"$f":"IF(ISBLANK(Rådata!B1950)=TRUE,\"\",(Rådata!C1950*100)/Rådata!B1950)","v":""},{"$f":"IF(ISBLANK(Rådata!D1950)=TRUE,\"\",((Rådata!D1950-Rådata!E1950)*100)/Rådata!D1950)","v":""},{"$f":"IF(ISBLANK(Rådata!G1950)=TRUE,\"\",(Rådata!F1950*100)/Rådata!G1950)","v":""},{"$f":"IF(ISBLANK(Rådata!K1950),\"\",(SUM(Rådata!M1950:P1950)*100)/SUM(Rådata!H1950:K1950))","v":""},{"$f":"IF(ISBLANK(Rådata!H1950),\"\",((SUM(Rådata!J1950:L1950)-SUM(Rådata!O1950:P1950))*100)/SUM(Rådata!H1950:L1950))","v":""},{"$f":"IF(ISBLANK(Rådata!R1950),\"\",(Rådata!Q1950*100)/Rådata!R1950)","v":""}]
[{"$f":"IF(ISBLANK(Rådata!A1951)=TRUE,\"\",Rådata!A1951)","v":""},{"$f":"IF(ISBLANK(Rådata!A1951)=TRUE,\"\",YEAR(A1951))","v":""},{"$f":"IF(ISBLANK(Rådata!A1951)=TRUE,\"\",VLOOKUP(MONTH(A1951),Opsætning!$G$3:$H$14,2,FALSE))","v":""},{"$f":"IF(ISBLANK(Rådata!B1951)=TRUE,\"\",(Rådata!C1951*100)/Rådata!B1951)","v":""},{"$f":"IF(ISBLANK(Rådata!D1951)=TRUE,\"\",((Rådata!D1951-Rådata!E1951)*100)/Rådata!D1951)","v":""},{"$f":"IF(ISBLANK(Rådata!G1951)=TRUE,\"\",(Rådata!F1951*100)/Rådata!G1951)","v":""},{"$f":"IF(ISBLANK(Rådata!K1951),\"\",(SUM(Rådata!M1951:P1951)*100)/SUM(Rådata!H1951:K1951))","v":""},{"$f":"IF(ISBLANK(Rådata!H1951),\"\",((SUM(Rådata!J1951:L1951)-SUM(Rådata!O1951:P1951))*100)/SUM(Rådata!H1951:L1951))","v":""},{"$f":"IF(ISBLANK(Rådata!R1951),\"\",(Rådata!Q1951*100)/Rådata!R1951)","v":""}]
[{"$f":"IF(ISBLANK(Rådata!A1952)=TRUE,\"\",Rådata!A1952)","v":""},{"$f":"IF(ISBLANK(Rådata!A1952)=TRUE,\"\",YEAR(A1952))","v":""},{"$f":"IF(ISBLANK(Rådata!A1952)=TRUE,\"\",VLOOKUP(MONTH(A1952),Opsætning!$G$3:$H$14,2,FALSE))","v":""},{"$f":"IF(ISBLANK(Rådata!B1952)=TRUE,\"\",(Rådata!C1952*100)/Rådata!B1952)","v":""},{"$f":"IF(ISBLANK(Rådata!D1952)=TRUE,\"\",((Rådata!D1952-Rådata!E1952)*100)/Rådata!D1952)","v":""},{"$f":"IF(ISBLANK(Rådata!G1952)=TRUE,\"\",(Rådata!F1952*100)/Rådata!G1952)","v":""},{"$f":"IF(ISBLANK(Rådata!K1952),\"\",(SUM(Rådata!M1952:P1952)*100)/SUM(Rådata!H1952:K1952))","v":""},{"$f":"IF(ISBLANK(Rådata!H1952),\"\",((SUM(Rådata!J1952:L1952)-SUM(Rådata!O1952:P1952))*100)/SUM(Rådata!H1952:L1952))","v":""},{"$f":"IF(ISBLANK(Rådata!R1952),\"\",(Rådata!Q1952*100)/Rådata!R1952)","v":""}]
[{"$f":"IF(ISBLANK(Rådata!A1953)=TRUE,\"\",Rådata!A1953)","v":""},{"$f":"IF(ISBLANK(Rådata!A1953)=TRUE,\"\",YEAR(A1953))","v":""},{"$f":"IF(ISBLANK(Rådata!A1953)=TRUE,\"\",VLOOKUP(MONTH(A1953),Opsætning!$G$3:$H$14,2,FALSE))","v":""},{"$f":"IF(ISBLANK(Rådata!B1953)=TRUE,\"\",(Rådata!C1953*100)/Rådata!B1953)","v":""},{"$f":"IF(ISBLANK(Rådata!D1953)=TRUE,\"\",((Rådata!D1953-Rådata!E1953)*100)/Rådata!D1953)","v":""},{"$f":"IF(ISBLANK(Rådata!G1953)=TRUE,\"\",(Rådata!F1953*100)/Rådata!G1953)","v":""},{"$f":"IF(ISBLANK(Rådata!K1953),\"\",(SUM(Rådata!M1953:P1953)*100)/SUM(Rådata!H1953:K1953))","v":""},{"$f":"IF(ISBLANK(Rådata!H1953),\"\",((SUM(Rådata!J1953:L1953)-SUM(Rådata!O1953:P1953))*100)/SUM(Rådata!H1953:L1953))","v":""},{"$f":"IF(ISBLANK(Rådata!R1953),\"\",(Rådata!Q1953*100)/Rådata!R1953)","v":""}]
[{"$f":"IF(ISBLANK(Rådata!A1954)=TRUE,\"\",Rådata!A1954)","v":""},{"$f":"IF(ISBLANK(Rådata!A1954)=TRUE,\"\",YEAR(A1954))","v":""},{"$f":"IF(ISBLANK(Rådata!A1954)=TRUE,\"\",VLOOKUP(MONTH(A1954),Opsætning!$G$3:$H$14,2,FALSE))","v":""},{"$f":"IF(ISBLANK(Rådata!B1954)=TRUE,\"\",(Rådata!C1954*100)/Rådata!B1954)","v":""},{"$f":"IF(ISBLANK(Rådata!D1954)=TRUE,\"\",((Rådata!D1954-Rådata!E1954)*100)/Rådata!D1954)","v":""},{"$f":"IF(ISBLANK(Rådata!G1954)=TRUE,\"\",(Rådata!F1954*100)/Rådata!G1954)","v":""},{"$f":"IF(ISBLANK(Rådata!K1954),\"\",(SUM(Rådata!M1954:P1954)*100)/SUM(Rådata!H1954:K1954))","v":""},{"$f":"IF(ISBLANK(Rådata!H1954),\"\",((SUM(Rådata!J1954:L1954)-SUM(Rådata!O1954:P1954))*100)/SUM(Rådata!H1954:L1954))","v":""},{"$f":"IF(ISBLANK(Rådata!R1954),\"\",(Rådata!Q1954*100)/Rådata!R1954)","v":""}]
[{"$f":"IF(ISBLANK(Rådata!A1955)=TRUE,\"\",Rådata!A1955)","v":""},{"$f":"IF(ISBLANK(Rådata!A1955)=TRUE,\"\",YEAR(A1955))","v":""},{"$f":"IF(ISBLANK(Rådata!A1955)=TRUE,\"\",VLOOKUP(MONTH(A1955),Opsætning!$G$3:$H$14,2,FALSE))","v":""},{"$f":"IF(ISBLANK(Rådata!B1955)=TRUE,\"\",(Rådata!C1955*100)/Rådata!B1955)","v":""},{"$f":"IF(ISBLANK(Rådata!D1955)=TRUE,\"\",((Rådata!D1955-Rådata!E1955)*100)/Rådata!D1955)","v":""},{"$f":"IF(ISBLANK(Rådata!G1955)=TRUE,\"\",(Rådata!F1955*100)/Rådata!G1955)","v":""},{"$f":"IF(ISBLANK(Rådata!K1955),\"\",(SUM(Rådata!M1955:P1955)*100)/SUM(Rådata!H1955:K1955))","v":""},{"$f":"IF(ISBLANK(Rådata!H1955),\"\",((SUM(Rådata!J1955:L1955)-SUM(Rådata!O1955:P1955))*100)/SUM(Rådata!H1955:L1955))","v":""},{"$f":"IF(ISBLANK(Rådata!R1955),\"\",(Rådata!Q1955*100)/Rådata!R1955)","v":""}]
[{"$f":"IF(ISBLANK(Rådata!A1956)=TRUE,\"\",Rådata!A1956)","v":""},{"$f":"IF(ISBLANK(Rådata!A1956)=TRUE,\"\",YEAR(A1956))","v":""},{"$f":"IF(ISBLANK(Rådata!A1956)=TRUE,\"\",VLOOKUP(MONTH(A1956),Opsætning!$G$3:$H$14,2,FALSE))","v":""},{"$f":"IF(ISBLANK(Rådata!B1956)=TRUE,\"\",(Rådata!C1956*100)/Rådata!B1956)","v":""},{"$f":"IF(ISBLANK(Rådata!D1956)=TRUE,\"\",((Rådata!D1956-Rådata!E1956)*100)/Rådata!D1956)","v":""},{"$f":"IF(ISBLANK(Rådata!G1956)=TRUE,\"\",(Rådata!F1956*100)/Rådata!G1956)","v":""},{"$f":"IF(ISBLANK(Rådata!K1956),\"\",(SUM(Rådata!M1956:P1956)*100)/SUM(Rådata!H1956:K1956))","v":""},{"$f":"IF(ISBLANK(Rådata!H1956),\"\",((SUM(Rådata!J1956:L1956)-SUM(Rådata!O1956:P1956))*100)/SUM(Rådata!H1956:L1956))","v":""},{"$f":"IF(ISBLANK(Rådata!R1956),\"\",(Rådata!Q1956*100)/Rådata!R1956)","v":""}]
[{"$f":"IF(ISBLANK(Rådata!A1957)=TRUE,\"\",Rådata!A1957)","v":""},{"$f":"IF(ISBLANK(Rådata!A1957)=TRUE,\"\",YEAR(A1957))","v":""},{"$f":"IF(ISBLANK(Rådata!A1957)=TRUE,\"\",VLOOKUP(MONTH(A1957),Opsætning!$G$3:$H$14,2,FALSE))","v":""},{"$f":"IF(ISBLANK(Rådata!B1957)=TRUE,\"\",(Rådata!C1957*100)/Rådata!B1957)","v":""},{"$f":"IF(ISBLANK(Rådata!D1957)=TRUE,\"\",((Rådata!D1957-Rådata!E1957)*100)/Rådata!D1957)","v":""},{"$f":"IF(ISBLANK(Rådata!G1957)=TRUE,\"\",(Rådata!F1957*100)/Rådata!G1957)","v":""},{"$f":"IF(ISBLANK(Rådata!K1957),\"\",(SUM(Rådata!M1957:P1957)*100)/SUM(Rådata!H1957:K1957))","v":""},{"$f":"IF(ISBLANK(Rådata!H1957),\"\",((SUM(Rådata!J1957:L1957)-SUM(Rådata!O1957:P1957))*100)/SUM(Rådata!H1957:L1957))","v":""},{"$f":"IF(ISBLANK(Rådata!R1957),\"\",(Rådata!Q1957*100)/Rådata!R1957)","v":""}]
[{"$f":"IF(ISBLANK(Rådata!A1958)=TRUE,\"\",Rådata!A1958)","v":""},{"$f":"IF(ISBLANK(Rådata!A1958)=TRUE,\"\",YEAR(A1958))","v":""},{"$f":"IF(ISBLANK(Rådata!A1958)=TRUE,\"\",VLOOKUP(MONTH(A1958),Opsætning!$G$3:$H$14,2,FALSE))","v":""},{"$f":"IF(ISBLANK(Rådata!B1958)=TRUE,\"\",(Rådata!C1958*100)/Rådata!B1958)","v":""},{"$f":"IF(ISBLANK(Rådata!D1958)=TRUE,\"\",((Rådata!D1958-Rådata!E1958)*100)/Rådata!D1958)","v":""},{"$f":"IF(ISBLANK(Rådata!G1958)=TRUE,\"\",(Rådata!F1958*100)/Rådata!G1958)","v":""},{"$f":"IF(ISBLANK(Rådata!K1958),\"\",(SUM(Rådata!M1958:P1958)*100)/SUM(Rådata!H1958:K1958))","v":""},{"$f":"IF(ISBLANK(Rådata!H1958),\"\",((SUM(Rådata!J1958:L1958)-SUM(Rådata!O1958:P1958))*100)/SUM(Rådata!H1958:L1958))","v":""},{"$f":"IF(ISBLANK(Rådata!R1958),\"\",(Rådata!Q1958*100)/Rådata!R1958)","v":""}]
[{"$f":"IF(ISBLANK(Rådata!A1959)=TRUE,\"\",Rådata!A1959)","v":""},{"$f":"IF(ISBLANK(Rådata!A1959)=TRUE,\"\",YEAR(A1959))","v":""},{"$f":"IF(ISBLANK(Rådata!A1959)=TRUE,\"\",VLOOKUP(MONTH(A1959),Opsætning!$G$3:$H$14,2,FALSE))","v":""},{"$f":"IF(ISBLANK(Rådata!B1959)=TRUE,\"\",(Rådata!C1959*100)/Rådata!B1959)","v":""},{"$f":"IF(ISBLANK(Rådata!D1959)=TRUE,\"\",((Rådata!D1959-Rådata!E1959)*100)/Rådata!D1959)","v":""},{"$f":"IF(ISBLANK(Rådata!G1959)=TRUE,\"\",(Rådata!F1959*100)/Rådata!G1959)","v":""},{"$f":"IF(ISBLANK(Rådata!K1959),\"\",(SUM(Rådata!M1959:P1959)*100)/SUM(Rådata!H1959:K1959))","v":""},{"$f":"IF(ISBLANK(Rådata!H1959),\"\",((SUM(Rådata!J1959:L1959)-SUM(Rådata!O1959:P1959))*100)/SUM(Rådata!H1959:L1959))","v":""},{"$f":"IF(ISBLANK(Rådata!R1959),\"\",(Rådata!Q1959*100)/Rådata!R1959)","v":""}]
[{"$f":"IF(ISBLANK(Rådata!A1960)=TRUE,\"\",Rådata!A1960)","v":""},{"$f":"IF(ISBLANK(Rådata!A1960)=TRUE,\"\",YEAR(A1960))","v":""},{"$f":"IF(ISBLANK(Rådata!A1960)=TRUE,\"\",VLOOKUP(MONTH(A1960),Opsætning!$G$3:$H$14,2,FALSE))","v":""},{"$f":"IF(ISBLANK(Rådata!B1960)=TRUE,\"\",(Rådata!C1960*100)/Rådata!B1960)","v":""},{"$f":"IF(ISBLANK(Rådata!D1960)=TRUE,\"\",((Rådata!D1960-Rådata!E1960)*100)/Rådata!D1960)","v":""},{"$f":"IF(ISBLANK(Rådata!G1960)=TRUE,\"\",(Rådata!F1960*100)/Rådata!G1960)","v":""},{"$f":"IF(ISBLANK(Rådata!K1960),\"\",(SUM(Rådata!M1960:P1960)*100)/SUM(Rådata!H1960:K1960))","v":""},{"$f":"IF(ISBLANK(Rådata!H1960),\"\",((SUM(Rådata!J1960:L1960)-SUM(Rådata!O1960:P1960))*100)/SUM(Rådata!H1960:L1960))","v":""},{"$f":"IF(ISBLANK(Rådata!R1960),\"\",(Rådata!Q1960*100)/Rådata!R1960)","v":""}]
[{"$f":"IF(ISBLANK(Rådata!A1961)=TRUE,\"\",Rådata!A1961)","v":""},{"$f":"IF(ISBLANK(Rådata!A1961)=TRUE,\"\",YEAR(A1961))","v":""},{"$f":"IF(ISBLANK(Rådata!A1961)=TRUE,\"\",VLOOKUP(MONTH(A1961),Opsætning!$G$3:$H$14,2,FALSE))","v":""},{"$f":"IF(ISBLANK(Rådata!B1961)=TRUE,\"\",(Rådata!C1961*100)/Rådata!B1961)","v":""},{"$f":"IF(ISBLANK(Rådata!D1961)=TRUE,\"\",((Rådata!D1961-Rådata!E1961)*100)/Rådata!D1961)","v":""},{"$f":"IF(ISBLANK(Rådata!G1961)=TRUE,\"\",(Rådata!F1961*100)/Rådata!G1961)","v":""},{"$f":"IF(ISBLANK(Rådata!K1961),\"\",(SUM(Rådata!M1961:P1961)*100)/SUM(Rådata!H1961:K1961))","v":""},{"$f":"IF(ISBLANK(Rådata!H1961),\"\",((SUM(Rådata!J1961:L1961)-SUM(Rådata!O1961:P1961))*100)/SUM(Rådata!H1961:L1961))","v":""},{"$f":"IF(ISBLANK(Rådata!R1961),\"\",(Rådata!Q1961*100)/Rådata!R1961)","v":""}]
[{"$f":"IF(ISBLANK(Rådata!A1962)=TRUE,\"\",Rådata!A1962)","v":""},{"$f":"IF(ISBLANK(Rådata!A1962)=TRUE,\"\",YEAR(A1962))","v":""},{"$f":"IF(ISBLANK(Rådata!A1962)=TRUE,\"\",VLOOKUP(MONTH(A1962),Opsætning!$G$3:$H$14,2,FALSE))","v":""},{"$f":"IF(ISBLANK(Rådata!B1962)=TRUE,\"\",(Rådata!C1962*100)/Rådata!B1962)","v":""},{"$f":"IF(ISBLANK(Rådata!D1962)=TRUE,\"\",((Rådata!D1962-Rådata!E1962)*100)/Rådata!D1962)","v":""},{"$f":"IF(ISBLANK(Rådata!G1962)=TRUE,\"\",(Rådata!F1962*100)/Rådata!G1962)","v":""},{"$f":"IF(ISBLANK(Rådata!K1962),\"\",(SUM(Rådata!M1962:P1962)*100)/SUM(Rådata!H1962:K1962))","v":""},{"$f":"IF(ISBLANK(Rådata!H1962),\"\",((SUM(Rådata!J1962:L1962)-SUM(Rådata!O1962:P1962))*100)/SUM(Rådata!H1962:L1962))","v":""},{"$f":"IF(ISBLANK(Rådata!R1962),\"\",(Rådata!Q1962*100)/Rådata!R1962)","v":""}]
[{"$f":"IF(ISBLANK(Rådata!A1963)=TRUE,\"\",Rådata!A1963)","v":""},{"$f":"IF(ISBLANK(Rådata!A1963)=TRUE,\"\",YEAR(A1963))","v":""},{"$f":"IF(ISBLANK(Rådata!A1963)=TRUE,\"\",VLOOKUP(MONTH(A1963),Opsætning!$G$3:$H$14,2,FALSE))","v":""},{"$f":"IF(ISBLANK(Rådata!B1963)=TRUE,\"\",(Rådata!C1963*100)/Rådata!B1963)","v":""},{"$f":"IF(ISBLANK(Rådata!D1963)=TRUE,\"\",((Rådata!D1963-Rådata!E1963)*100)/Rådata!D1963)","v":""},{"$f":"IF(ISBLANK(Rådata!G1963)=TRUE,\"\",(Rådata!F1963*100)/Rådata!G1963)","v":""},{"$f":"IF(ISBLANK(Rådata!K1963),\"\",(SUM(Rådata!M1963:P1963)*100)/SUM(Rådata!H1963:K1963))","v":""},{"$f":"IF(ISBLANK(Rådata!H1963),\"\",((SUM(Rådata!J1963:L1963)-SUM(Rådata!O1963:P1963))*100)/SUM(Rådata!H1963:L1963))","v":""},{"$f":"IF(ISBLANK(Rådata!R1963),\"\",(Rådata!Q1963*100)/Rådata!R1963)","v":""}]
[{"$f":"IF(ISBLANK(Rådata!A1964)=TRUE,\"\",Rådata!A1964)","v":""},{"$f":"IF(ISBLANK(Rådata!A1964)=TRUE,\"\",YEAR(A1964))","v":""},{"$f":"IF(ISBLANK(Rådata!A1964)=TRUE,\"\",VLOOKUP(MONTH(A1964),Opsætning!$G$3:$H$14,2,FALSE))","v":""},{"$f":"IF(ISBLANK(Rådata!B1964)=TRUE,\"\",(Rådata!C1964*100)/Rådata!B1964)","v":""},{"$f":"IF(ISBLANK(Rådata!D1964)=TRUE,\"\",((Rådata!D1964-Rådata!E1964)*100)/Rådata!D1964)","v":""},{"$f":"IF(ISBLANK(Rådata!G1964)=TRUE,\"\",(Rådata!F1964*100)/Rådata!G1964)","v":""},{"$f":"IF(ISBLANK(Rådata!K1964),\"\",(SUM(Rådata!M1964:P1964)*100)/SUM(Rådata!H1964:K1964))","v":""},{"$f":"IF(ISBLANK(Rådata!H1964),\"\",((SUM(Rådata!J1964:L1964)-SUM(Rådata!O1964:P1964))*100)/SUM(Rådata!H1964:L1964))","v":""},{"$f":"IF(ISBLANK(Rådata!R1964),\"\",(Rådata!Q1964*100)/Rådata!R1964)","v":""}]
[{"$f":"IF(ISBLANK(Rådata!A1965)=TRUE,\"\",Rådata!A1965)","v":""},{"$f":"IF(ISBLANK(Rådata!A1965)=TRUE,\"\",YEAR(A1965))","v":""},{"$f":"IF(ISBLANK(Rådata!A1965)=TRUE,\"\",VLOOKUP(MONTH(A1965),Opsætning!$G$3:$H$14,2,FALSE))","v":""},{"$f":"IF(ISBLANK(Rådata!B1965)=TRUE,\"\",(Rådata!C1965*100)/Rådata!B1965)","v":""},{"$f":"IF(ISBLANK(Rådata!D1965)=TRUE,\"\",((Rådata!D1965-Rådata!E1965)*100)/Rådata!D1965)","v":""},{"$f":"IF(ISBLANK(Rådata!G1965)=TRUE,\"\",(Rådata!F1965*100)/Rådata!G1965)","v":""},{"$f":"IF(ISBLANK(Rådata!K1965),\"\",(SUM(Rådata!M1965:P1965)*100)/SUM(Rådata!H1965:K1965))","v":""},{"$f":"IF(ISBLANK(Rådata!H1965),\"\",((SUM(Rådata!J1965:L1965)-SUM(Rådata!O1965:P1965))*100)/SUM(Rådata!H1965:L1965))","v":""},{"$f":"IF(ISBLANK(Rådata!R1965),\"\",(Rådata!Q1965*100)/Rådata!R1965)","v":""}]
[{"$f":"IF(ISBLANK(Rådata!A1966)=TRUE,\"\",Rådata!A1966)","v":""},{"$f":"IF(ISBLANK(Rådata!A1966)=TRUE,\"\",YEAR(A1966))","v":""},{"$f":"IF(ISBLANK(Rådata!A1966)=TRUE,\"\",VLOOKUP(MONTH(A1966),Opsætning!$G$3:$H$14,2,FALSE))","v":""},{"$f":"IF(ISBLANK(Rådata!B1966)=TRUE,\"\",(Rådata!C1966*100)/Rådata!B1966)","v":""},{"$f":"IF(ISBLANK(Rådata!D1966)=TRUE,\"\",((Rådata!D1966-Rådata!E1966)*100)/Rådata!D1966)","v":""},{"$f":"IF(ISBLANK(Rådata!G1966)=TRUE,\"\",(Rådata!F1966*100)/Rådata!G1966)","v":""},{"$f":"IF(ISBLANK(Rådata!K1966),\"\",(SUM(Rådata!M1966:P1966)*100)/SUM(Rådata!H1966:K1966))","v":""},{"$f":"IF(ISBLANK(Rådata!H1966),\"\",((SUM(Rådata!J1966:L1966)-SUM(Rådata!O1966:P1966))*100)/SUM(Rådata!H1966:L1966))","v":""},{"$f":"IF(ISBLANK(Rådata!R1966),\"\",(Rådata!Q1966*100)/Rådata!R1966)","v":""}]
[{"$f":"IF(ISBLANK(Rådata!A1967)=TRUE,\"\",Rådata!A1967)","v":""},{"$f":"IF(ISBLANK(Rådata!A1967)=TRUE,\"\",YEAR(A1967))","v":""},{"$f":"IF(ISBLANK(Rådata!A1967)=TRUE,\"\",VLOOKUP(MONTH(A1967),Opsætning!$G$3:$H$14,2,FALSE))","v":""},{"$f":"IF(ISBLANK(Rådata!B1967)=TRUE,\"\",(Rådata!C1967*100)/Rådata!B1967)","v":""},{"$f":"IF(ISBLANK(Rådata!D1967)=TRUE,\"\",((Rådata!D1967-Rådata!E1967)*100)/Rådata!D1967)","v":""},{"$f":"IF(ISBLANK(Rådata!G1967)=TRUE,\"\",(Rådata!F1967*100)/Rådata!G1967)","v":""},{"$f":"IF(ISBLANK(Rådata!K1967),\"\",(SUM(Rådata!M1967:P1967)*100)/SUM(Rådata!H1967:K1967))","v":""},{"$f":"IF(ISBLANK(Rådata!H1967),\"\",((SUM(Rådata!J1967:L1967)-SUM(Rådata!O1967:P1967))*100)/SUM(Rådata!H1967:L1967))","v":""},{"$f":"IF(ISBLANK(Rådata!R1967),\"\",(Rådata!Q1967*100)/Rådata!R1967)","v":""}]
[{"$f":"IF(ISBLANK(Rådata!A1968)=TRUE,\"\",Rådata!A1968)","v":""},{"$f":"IF(ISBLANK(Rådata!A1968)=TRUE,\"\",YEAR(A1968))","v":""},{"$f":"IF(ISBLANK(Rådata!A1968)=TRUE,\"\",VLOOKUP(MONTH(A1968),Opsætning!$G$3:$H$14,2,FALSE))","v":""},{"$f":"IF(ISBLANK(Rådata!B1968)=TRUE,\"\",(Rådata!C1968*100)/Rådata!B1968)","v":""},{"$f":"IF(ISBLANK(Rådata!D1968)=TRUE,\"\",((Rådata!D1968-Rådata!E1968)*100)/Rådata!D1968)","v":""},{"$f":"IF(ISBLANK(Rådata!G1968)=TRUE,\"\",(Rådata!F1968*100)/Rådata!G1968)","v":""},{"$f":"IF(ISBLANK(Rådata!K1968),\"\",(SUM(Rådata!M1968:P1968)*100)/SUM(Rådata!H1968:K1968))","v":""},{"$f":"IF(ISBLANK(Rådata!H1968),\"\",((SUM(Rådata!J1968:L1968)-SUM(Rådata!O1968:P1968))*100)/SUM(Rådata!H1968:L1968))","v":""},{"$f":"IF(ISBLANK(Rådata!R1968),\"\",(Rådata!Q1968*100)/Rådata!R1968)","v":""}]
[{"$f":"IF(ISBLANK(Rådata!A1969)=TRUE,\"\",Rådata!A1969)","v":""},{"$f":"IF(ISBLANK(Rådata!A1969)=TRUE,\"\",YEAR(A1969))","v":""},{"$f":"IF(ISBLANK(Rådata!A1969)=TRUE,\"\",VLOOKUP(MONTH(A1969),Opsætning!$G$3:$H$14,2,FALSE))","v":""},{"$f":"IF(ISBLANK(Rådata!B1969)=TRUE,\"\",(Rådata!C1969*100)/Rådata!B1969)","v":""},{"$f":"IF(ISBLANK(Rådata!D1969)=TRUE,\"\",((Rådata!D1969-Rådata!E1969)*100)/Rådata!D1969)","v":""},{"$f":"IF(ISBLANK(Rådata!G1969)=TRUE,\"\",(Rådata!F1969*100)/Rådata!G1969)","v":""},{"$f":"IF(ISBLANK(Rådata!K1969),\"\",(SUM(Rådata!M1969:P1969)*100)/SUM(Rådata!H1969:K1969))","v":""},{"$f":"IF(ISBLANK(Rådata!H1969),\"\",((SUM(Rådata!J1969:L1969)-SUM(Rådata!O1969:P1969))*100)/SUM(Rådata!H1969:L1969))","v":""},{"$f":"IF(ISBLANK(Rådata!R1969),\"\",(Rådata!Q1969*100)/Rådata!R1969)","v":""}]
[{"$f":"IF(ISBLANK(Rådata!A1970)=TRUE,\"\",Rådata!A1970)","v":""},{"$f":"IF(ISBLANK(Rådata!A1970)=TRUE,\"\",YEAR(A1970))","v":""},{"$f":"IF(ISBLANK(Rådata!A1970)=TRUE,\"\",VLOOKUP(MONTH(A1970),Opsætning!$G$3:$H$14,2,FALSE))","v":""},{"$f":"IF(ISBLANK(Rådata!B1970)=TRUE,\"\",(Rådata!C1970*100)/Rådata!B1970)","v":""},{"$f":"IF(ISBLANK(Rådata!D1970)=TRUE,\"\",((Rådata!D1970-Rådata!E1970)*100)/Rådata!D1970)","v":""},{"$f":"IF(ISBLANK(Rådata!G1970)=TRUE,\"\",(Rådata!F1970*100)/Rådata!G1970)","v":""},{"$f":"IF(ISBLANK(Rådata!K1970),\"\",(SUM(Rådata!M1970:P1970)*100)/SUM(Rådata!H1970:K1970))","v":""},{"$f":"IF(ISBLANK(Rådata!H1970),\"\",((SUM(Rådata!J1970:L1970)-SUM(Rådata!O1970:P1970))*100)/SUM(Rådata!H1970:L1970))","v":""},{"$f":"IF(ISBLANK(Rådata!R1970),\"\",(Rådata!Q1970*100)/Rådata!R1970)","v":""}]
[{"$f":"IF(ISBLANK(Rådata!A1971)=TRUE,\"\",Rådata!A1971)","v":""},{"$f":"IF(ISBLANK(Rådata!A1971)=TRUE,\"\",YEAR(A1971))","v":""},{"$f":"IF(ISBLANK(Rådata!A1971)=TRUE,\"\",VLOOKUP(MONTH(A1971),Opsætning!$G$3:$H$14,2,FALSE))","v":""},{"$f":"IF(ISBLANK(Rådata!B1971)=TRUE,\"\",(Rådata!C1971*100)/Rådata!B1971)","v":""},{"$f":"IF(ISBLANK(Rådata!D1971)=TRUE,\"\",((Rådata!D1971-Rådata!E1971)*100)/Rådata!D1971)","v":""},{"$f":"IF(ISBLANK(Rådata!G1971)=TRUE,\"\",(Rådata!F1971*100)/Rådata!G1971)","v":""},{"$f":"IF(ISBLANK(Rådata!K1971),\"\",(SUM(Rådata!M1971:P1971)*100)/SUM(Rådata!H1971:K1971))","v":""},{"$f":"IF(ISBLANK(Rådata!H1971),\"\",((SUM(Rådata!J1971:L1971)-SUM(Rådata!O1971:P1971))*100)/SUM(Rådata!H1971:L1971))","v":""},{"$f":"IF(ISBLANK(Rådata!R1971),\"\",(Rådata!Q1971*100)/Rådata!R1971)","v":""}]
[{"$f":"IF(ISBLANK(Rådata!A1972)=TRUE,\"\",Rådata!A1972)","v":""},{"$f":"IF(ISBLANK(Rådata!A1972)=TRUE,\"\",YEAR(A1972))","v":""},{"$f":"IF(ISBLANK(Rådata!A1972)=TRUE,\"\",VLOOKUP(MONTH(A1972),Opsætning!$G$3:$H$14,2,FALSE))","v":""},{"$f":"IF(ISBLANK(Rådata!B1972)=TRUE,\"\",(Rådata!C1972*100)/Rådata!B1972)","v":""},{"$f":"IF(ISBLANK(Rådata!D1972)=TRUE,\"\",((Rådata!D1972-Rådata!E1972)*100)/Rådata!D1972)","v":""},{"$f":"IF(ISBLANK(Rådata!G1972)=TRUE,\"\",(Rådata!F1972*100)/Rådata!G1972)","v":""},{"$f":"IF(ISBLANK(Rådata!K1972),\"\",(SUM(Rådata!M1972:P1972)*100)/SUM(Rådata!H1972:K1972))","v":""},{"$f":"IF(ISBLANK(Rådata!H1972),\"\",((SUM(Rådata!J1972:L1972)-SUM(Rådata!O1972:P1972))*100)/SUM(Rådata!H1972:L1972))","v":""},{"$f":"IF(ISBLANK(Rådata!R1972),\"\",(Rådata!Q1972*100)/Rådata!R1972)","v":""}]
[{"$f":"IF(ISBLANK(Rådata!A1973)=TRUE,\"\",Rådata!A1973)","v":""},{"$f":"IF(ISBLANK(Rådata!A1973)=TRUE,\"\",YEAR(A1973))","v":""},{"$f":"IF(ISBLANK(Rådata!A1973)=TRUE,\"\",VLOOKUP(MONTH(A1973),Opsætning!$G$3:$H$14,2,FALSE))","v":""},{"$f":"IF(ISBLANK(Rådata!B1973)=TRUE,\"\",(Rådata!C1973*100)/Rådata!B1973)","v":""},{"$f":"IF(ISBLANK(Rådata!D1973)=TRUE,\"\",((Rådata!D1973-Rådata!E1973)*100)/Rådata!D1973)","v":""},{"$f":"IF(ISBLANK(Rådata!G1973)=TRUE,\"\",(Rådata!F1973*100)/Rådata!G1973)","v":""},{"$f":"IF(ISBLANK(Rådata!K1973),\"\",(SUM(Rådata!M1973:P1973)*100)/SUM(Rådata!H1973:K1973))","v":""},{"$f":"IF(ISBLANK(Rådata!H1973),\"\",((SUM(Rådata!J1973:L1973)-SUM(Rådata!O1973:P1973))*100)/SUM(Rådata!H1973:L1973))","v":""},{"$f":"IF(ISBLANK(Rådata!R1973),\"\",(Rådata!Q1973*100)/Rådata!R1973)","v":""}]
[{"$f":"IF(ISBLANK(Rådata!A1974)=TRUE,\"\",Rådata!A1974)","v":""},{"$f":"IF(ISBLANK(Rådata!A1974)=TRUE,\"\",YEAR(A1974))","v":""},{"$f":"IF(ISBLANK(Rådata!A1974)=TRUE,\"\",VLOOKUP(MONTH(A1974),Opsætning!$G$3:$H$14,2,FALSE))","v":""},{"$f":"IF(ISBLANK(Rådata!B1974)=TRUE,\"\",(Rådata!C1974*100)/Rådata!B1974)","v":""},{"$f":"IF(ISBLANK(Rådata!D1974)=TRUE,\"\",((Rådata!D1974-Rådata!E1974)*100)/Rådata!D1974)","v":""},{"$f":"IF(ISBLANK(Rådata!G1974)=TRUE,\"\",(Rådata!F1974*100)/Rådata!G1974)","v":""},{"$f":"IF(ISBLANK(Rådata!K1974),\"\",(SUM(Rådata!M1974:P1974)*100)/SUM(Rådata!H1974:K1974))","v":""},{"$f":"IF(ISBLANK(Rådata!H1974),\"\",((SUM(Rådata!J1974:L1974)-SUM(Rådata!O1974:P1974))*100)/SUM(Rådata!H1974:L1974))","v":""},{"$f":"IF(ISBLANK(Rådata!R1974),\"\",(Rådata!Q1974*100)/Rådata!R1974)","v":""}]
[{"$f":"IF(ISBLANK(Rådata!A1975)=TRUE,\"\",Rådata!A1975)","v":""},{"$f":"IF(ISBLANK(Rådata!A1975)=TRUE,\"\",YEAR(A1975))","v":""},{"$f":"IF(ISBLANK(Rådata!A1975)=TRUE,\"\",VLOOKUP(MONTH(A1975),Opsætning!$G$3:$H$14,2,FALSE))","v":""},{"$f":"IF(ISBLANK(Rådata!B1975)=TRUE,\"\",(Rådata!C1975*100)/Rådata!B1975)","v":""},{"$f":"IF(ISBLANK(Rådata!D1975)=TRUE,\"\",((Rådata!D1975-Rådata!E1975)*100)/Rådata!D1975)","v":""},{"$f":"IF(ISBLANK(Rådata!G1975)=TRUE,\"\",(Rådata!F1975*100)/Rådata!G1975)","v":""},{"$f":"IF(ISBLANK(Rådata!K1975),\"\",(SUM(Rådata!M1975:P1975)*100)/SUM(Rådata!H1975:K1975))","v":""},{"$f":"IF(ISBLANK(Rådata!H1975),\"\",((SUM(Rådata!J1975:L1975)-SUM(Rådata!O1975:P1975))*100)/SUM(Rådata!H1975:L1975))","v":""},{"$f":"IF(ISBLANK(Rådata!R1975),\"\",(Rådata!Q1975*100)/Rådata!R1975)","v":""}]
[{"$f":"IF(ISBLANK(Rådata!A1976)=TRUE,\"\",Rådata!A1976)","v":""},{"$f":"IF(ISBLANK(Rådata!A1976)=TRUE,\"\",YEAR(A1976))","v":""},{"$f":"IF(ISBLANK(Rådata!A1976)=TRUE,\"\",VLOOKUP(MONTH(A1976),Opsætning!$G$3:$H$14,2,FALSE))","v":""},{"$f":"IF(ISBLANK(Rådata!B1976)=TRUE,\"\",(Rådata!C1976*100)/Rådata!B1976)","v":""},{"$f":"IF(ISBLANK(Rådata!D1976)=TRUE,\"\",((Rådata!D1976-Rådata!E1976)*100)/Rådata!D1976)","v":""},{"$f":"IF(ISBLANK(Rådata!G1976)=TRUE,\"\",(Rådata!F1976*100)/Rådata!G1976)","v":""},{"$f":"IF(ISBLANK(Rådata!K1976),\"\",(SUM(Rådata!M1976:P1976)*100)/SUM(Rådata!H1976:K1976))","v":""},{"$f":"IF(ISBLANK(Rådata!H1976),\"\",((SUM(Rådata!J1976:L1976)-SUM(Rådata!O1976:P1976))*100)/SUM(Rådata!H1976:L1976))","v":""},{"$f":"IF(ISBLANK(Rådata!R1976),\"\",(Rådata!Q1976*100)/Rådata!R1976)","v":""}]
[{"$f":"IF(ISBLANK(Rådata!A1977)=TRUE,\"\",Rådata!A1977)","v":""},{"$f":"IF(ISBLANK(Rådata!A1977)=TRUE,\"\",YEAR(A1977))","v":""},{"$f":"IF(ISBLANK(Rådata!A1977)=TRUE,\"\",VLOOKUP(MONTH(A1977),Opsætning!$G$3:$H$14,2,FALSE))","v":""},{"$f":"IF(ISBLANK(Rådata!B1977)=TRUE,\"\",(Rådata!C1977*100)/Rådata!B1977)","v":""},{"$f":"IF(ISBLANK(Rådata!D1977)=TRUE,\"\",((Rådata!D1977-Rådata!E1977)*100)/Rådata!D1977)","v":""},{"$f":"IF(ISBLANK(Rådata!G1977)=TRUE,\"\",(Rådata!F1977*100)/Rådata!G1977)","v":""},{"$f":"IF(ISBLANK(Rådata!K1977),\"\",(SUM(Rådata!M1977:P1977)*100)/SUM(Rådata!H1977:K1977))","v":""},{"$f":"IF(ISBLANK(Rådata!H1977),\"\",((SUM(Rådata!J1977:L1977)-SUM(Rådata!O1977:P1977))*100)/SUM(Rådata!H1977:L1977))","v":""},{"$f":"IF(ISBLANK(Rådata!R1977),\"\",(Rådata!Q1977*100)/Rådata!R1977)","v":""}]
[{"$f":"IF(ISBLANK(Rådata!A1978)=TRUE,\"\",Rådata!A1978)","v":""},{"$f":"IF(ISBLANK(Rådata!A1978)=TRUE,\"\",YEAR(A1978))","v":""},{"$f":"IF(ISBLANK(Rådata!A1978)=TRUE,\"\",VLOOKUP(MONTH(A1978),Opsætning!$G$3:$H$14,2,FALSE))","v":""},{"$f":"IF(ISBLANK(Rådata!B1978)=TRUE,\"\",(Rådata!C1978*100)/Rådata!B1978)","v":""},{"$f":"IF(ISBLANK(Rådata!D1978)=TRUE,\"\",((Rådata!D1978-Rådata!E1978)*100)/Rådata!D1978)","v":""},{"$f":"IF(ISBLANK(Rådata!G1978)=TRUE,\"\",(Rådata!F1978*100)/Rådata!G1978)","v":""},{"$f":"IF(ISBLANK(Rådata!K1978),\"\",(SUM(Rådata!M1978:P1978)*100)/SUM(Rådata!H1978:K1978))","v":""},{"$f":"IF(ISBLANK(Rådata!H1978),\"\",((SUM(Rådata!J1978:L1978)-SUM(Rådata!O1978:P1978))*100)/SUM(Rådata!H1978:L1978))","v":""},{"$f":"IF(ISBLANK(Rådata!R1978),\"\",(Rådata!Q1978*100)/Rådata!R1978)","v":""}]
[{"$f":"IF(ISBLANK(Rådata!A1979)=TRUE,\"\",Rådata!A1979)","v":""},{"$f":"IF(ISBLANK(Rådata!A1979)=TRUE,\"\",YEAR(A1979))","v":""},{"$f":"IF(ISBLANK(Rådata!A1979)=TRUE,\"\",VLOOKUP(MONTH(A1979),Opsætning!$G$3:$H$14,2,FALSE))","v":""},{"$f":"IF(ISBLANK(Rådata!B1979)=TRUE,\"\",(Rådata!C1979*100)/Rådata!B1979)","v":""},{"$f":"IF(ISBLANK(Rådata!D1979)=TRUE,\"\",((Rådata!D1979-Rådata!E1979)*100)/Rådata!D1979)","v":""},{"$f":"IF(ISBLANK(Rådata!G1979)=TRUE,\"\",(Rådata!F1979*100)/Rådata!G1979)","v":""},{"$f":"IF(ISBLANK(Rådata!K1979),\"\",(SUM(Rådata!M1979:P1979)*100)/SUM(Rådata!H1979:K1979))","v":""},{"$f":"IF(ISBLANK(Rådata!H1979),\"\",((SUM(Rådata!J1979:L1979)-SUM(Rådata!O1979:P1979))*100)/SUM(Rådata!H1979:L1979))","v":""},{"$f":"IF(ISBLANK(Rådata!R1979),\"\",(Rådata!Q1979*100)/Rådata!R1979)","v":""}]
[{"$f":"IF(ISBLANK(Rådata!A1980)=TRUE,\"\",Rådata!A1980)","v":""},{"$f":"IF(ISBLANK(Rådata!A1980)=TRUE,\"\",YEAR(A1980))","v":""},{"$f":"IF(ISBLANK(Rådata!A1980)=TRUE,\"\",VLOOKUP(MONTH(A1980),Opsætning!$G$3:$H$14,2,FALSE))","v":""},{"$f":"IF(ISBLANK(Rådata!B1980)=TRUE,\"\",(Rådata!C1980*100)/Rådata!B1980)","v":""},{"$f":"IF(ISBLANK(Rådata!D1980)=TRUE,\"\",((Rådata!D1980-Rådata!E1980)*100)/Rådata!D1980)","v":""},{"$f":"IF(ISBLANK(Rådata!G1980)=TRUE,\"\",(Rådata!F1980*100)/Rådata!G1980)","v":""},{"$f":"IF(ISBLANK(Rådata!K1980),\"\",(SUM(Rådata!M1980:P1980)*100)/SUM(Rådata!H1980:K1980))","v":""},{"$f":"IF(ISBLANK(Rådata!H1980),\"\",((SUM(Rådata!J1980:L1980)-SUM(Rådata!O1980:P1980))*100)/SUM(Rådata!H1980:L1980))","v":""},{"$f":"IF(ISBLANK(Rådata!R1980),\"\",(Rådata!Q1980*100)/Rådata!R1980)","v":""}]
[{"$f":"IF(ISBLANK(Rådata!A1981)=TRUE,\"\",Rådata!A1981)","v":""},{"$f":"IF(ISBLANK(Rådata!A1981)=TRUE,\"\",YEAR(A1981))","v":""},{"$f":"IF(ISBLANK(Rådata!A1981)=TRUE,\"\",VLOOKUP(MONTH(A1981),Opsætning!$G$3:$H$14,2,FALSE))","v":""},{"$f":"IF(ISBLANK(Rådata!B1981)=TRUE,\"\",(Rådata!C1981*100)/Rådata!B1981)","v":""},{"$f":"IF(ISBLANK(Rådata!D1981)=TRUE,\"\",((Rådata!D1981-Rådata!E1981)*100)/Rådata!D1981)","v":""},{"$f":"IF(ISBLANK(Rådata!G1981)=TRUE,\"\",(Rådata!F1981*100)/Rådata!G1981)","v":""},{"$f":"IF(ISBLANK(Rådata!K1981),\"\",(SUM(Rådata!M1981:P1981)*100)/SUM(Rådata!H1981:K1981))","v":""},{"$f":"IF(ISBLANK(Rådata!H1981),\"\",((SUM(Rådata!J1981:L1981)-SUM(Rådata!O1981:P1981))*100)/SUM(Rådata!H1981:L1981))","v":""},{"$f":"IF(ISBLANK(Rådata!R1981),\"\",(Rådata!Q1981*100)/Rådata!R1981)","v":""}]
[{"$f":"IF(ISBLANK(Rådata!A1982)=TRUE,\"\",Rådata!A1982)","v":""},{"$f":"IF(ISBLANK(Rådata!A1982)=TRUE,\"\",YEAR(A1982))","v":""},{"$f":"IF(ISBLANK(Rådata!A1982)=TRUE,\"\",VLOOKUP(MONTH(A1982),Opsætning!$G$3:$H$14,2,FALSE))","v":""},{"$f":"IF(ISBLANK(Rådata!B1982)=TRUE,\"\",(Rådata!C1982*100)/Rådata!B1982)","v":""},{"$f":"IF(ISBLANK(Rådata!D1982)=TRUE,\"\",((Rådata!D1982-Rådata!E1982)*100)/Rådata!D1982)","v":""},{"$f":"IF(ISBLANK(Rådata!G1982)=TRUE,\"\",(Rådata!F1982*100)/Rådata!G1982)","v":""},{"$f":"IF(ISBLANK(Rådata!K1982),\"\",(SUM(Rådata!M1982:P1982)*100)/SUM(Rådata!H1982:K1982))","v":""},{"$f":"IF(ISBLANK(Rådata!H1982),\"\",((SUM(Rådata!J1982:L1982)-SUM(Rådata!O1982:P1982))*100)/SUM(Rådata!H1982:L1982))","v":""},{"$f":"IF(ISBLANK(Rådata!R1982),\"\",(Rådata!Q1982*100)/Rådata!R1982)","v":""}]
[{"$f":"IF(ISBLANK(Rådata!A1983)=TRUE,\"\",Rådata!A1983)","v":""},{"$f":"IF(ISBLANK(Rådata!A1983)=TRUE,\"\",YEAR(A1983))","v":""},{"$f":"IF(ISBLANK(Rådata!A1983)=TRUE,\"\",VLOOKUP(MONTH(A1983),Opsætning!$G$3:$H$14,2,FALSE))","v":""},{"$f":"IF(ISBLANK(Rådata!B1983)=TRUE,\"\",(Rådata!C1983*100)/Rådata!B1983)","v":""},{"$f":"IF(ISBLANK(Rådata!D1983)=TRUE,\"\",((Rådata!D1983-Rådata!E1983)*100)/Rådata!D1983)","v":""},{"$f":"IF(ISBLANK(Rådata!G1983)=TRUE,\"\",(Rådata!F1983*100)/Rådata!G1983)","v":""},{"$f":"IF(ISBLANK(Rådata!K1983),\"\",(SUM(Rådata!M1983:P1983)*100)/SUM(Rådata!H1983:K1983))","v":""},{"$f":"IF(ISBLANK(Rådata!H1983),\"\",((SUM(Rådata!J1983:L1983)-SUM(Rådata!O1983:P1983))*100)/SUM(Rådata!H1983:L1983))","v":""},{"$f":"IF(ISBLANK(Rådata!R1983),\"\",(Rådata!Q1983*100)/Rådata!R1983)","v":""}]
[{"$f":"IF(ISBLANK(Rådata!A1984)=TRUE,\"\",Rådata!A1984)","v":""},{"$f":"IF(ISBLANK(Rådata!A1984)=TRUE,\"\",YEAR(A1984))","v":""},{"$f":"IF(ISBLANK(Rådata!A1984)=TRUE,\"\",VLOOKUP(MONTH(A1984),Opsætning!$G$3:$H$14,2,FALSE))","v":""},{"$f":"IF(ISBLANK(Rådata!B1984)=TRUE,\"\",(Rådata!C1984*100)/Rådata!B1984)","v":""},{"$f":"IF(ISBLANK(Rådata!D1984)=TRUE,\"\",((Rådata!D1984-Rådata!E1984)*100)/Rådata!D1984)","v":""},{"$f":"IF(ISBLANK(Rådata!G1984)=TRUE,\"\",(Rådata!F1984*100)/Rådata!G1984)","v":""},{"$f":"IF(ISBLANK(Rådata!K1984),\"\",(SUM(Rådata!M1984:P1984)*100)/SUM(Rådata!H1984:K1984))","v":""},{"$f":"IF(ISBLANK(Rådata!H1984),\"\",((SUM(Rådata!J1984:L1984)-SUM(Rådata!O1984:P1984))*100)/SUM(Rådata!H1984:L1984))","v":""},{"$f":"IF(ISBLANK(Rådata!R1984),\"\",(Rådata!Q1984*100)/Rådata!R1984)","v":""}]
[{"$f":"IF(ISBLANK(Rådata!A1985)=TRUE,\"\",Rådata!A1985)","v":""},{"$f":"IF(ISBLANK(Rådata!A1985)=TRUE,\"\",YEAR(A1985))","v":""},{"$f":"IF(ISBLANK(Rådata!A1985)=TRUE,\"\",VLOOKUP(MONTH(A1985),Opsætning!$G$3:$H$14,2,FALSE))","v":""},{"$f":"IF(ISBLANK(Rådata!B1985)=TRUE,\"\",(Rådata!C1985*100)/Rådata!B1985)","v":""},{"$f":"IF(ISBLANK(Rådata!D1985)=TRUE,\"\",((Rådata!D1985-Rådata!E1985)*100)/Rådata!D1985)","v":""},{"$f":"IF(ISBLANK(Rådata!G1985)=TRUE,\"\",(Rådata!F1985*100)/Rådata!G1985)","v":""},{"$f":"IF(ISBLANK(Rådata!K1985),\"\",(SUM(Rådata!M1985:P1985)*100)/SUM(Rådata!H1985:K1985))","v":""},{"$f":"IF(ISBLANK(Rådata!H1985),\"\",((SUM(Rådata!J1985:L1985)-SUM(Rådata!O1985:P1985))*100)/SUM(Rådata!H1985:L1985))","v":""},{"$f":"IF(ISBLANK(Rådata!R1985),\"\",(Rådata!Q1985*100)/Rådata!R1985)","v":""}]
[{"$f":"IF(ISBLANK(Rådata!A1986)=TRUE,\"\",Rådata!A1986)","v":""},{"$f":"IF(ISBLANK(Rådata!A1986)=TRUE,\"\",YEAR(A1986))","v":""},{"$f":"IF(ISBLANK(Rådata!A1986)=TRUE,\"\",VLOOKUP(MONTH(A1986),Opsætning!$G$3:$H$14,2,FALSE))","v":""},{"$f":"IF(ISBLANK(Rådata!B1986)=TRUE,\"\",(Rådata!C1986*100)/Rådata!B1986)","v":""},{"$f":"IF(ISBLANK(Rådata!D1986)=TRUE,\"\",((Rådata!D1986-Rådata!E1986)*100)/Rådata!D1986)","v":""},{"$f":"IF(ISBLANK(Rådata!G1986)=TRUE,\"\",(Rådata!F1986*100)/Rådata!G1986)","v":""},{"$f":"IF(ISBLANK(Rådata!K1986),\"\",(SUM(Rådata!M1986:P1986)*100)/SUM(Rådata!H1986:K1986))","v":""},{"$f":"IF(ISBLANK(Rådata!H1986),\"\",((SUM(Rådata!J1986:L1986)-SUM(Rådata!O1986:P1986))*100)/SUM(Rådata!H1986:L1986))","v":""},{"$f":"IF(ISBLANK(Rådata!R1986),\"\",(Rådata!Q1986*100)/Rådata!R1986)","v":""}]
[{"$f":"IF(ISBLANK(Rådata!A1987)=TRUE,\"\",Rådata!A1987)","v":""},{"$f":"IF(ISBLANK(Rådata!A1987)=TRUE,\"\",YEAR(A1987))","v":""},{"$f":"IF(ISBLANK(Rådata!A1987)=TRUE,\"\",VLOOKUP(MONTH(A1987),Opsætning!$G$3:$H$14,2,FALSE))","v":""},{"$f":"IF(ISBLANK(Rådata!B1987)=TRUE,\"\",(Rådata!C1987*100)/Rådata!B1987)","v":""},{"$f":"IF(ISBLANK(Rådata!D1987)=TRUE,\"\",((Rådata!D1987-Rådata!E1987)*100)/Rådata!D1987)","v":""},{"$f":"IF(ISBLANK(Rådata!G1987)=TRUE,\"\",(Rådata!F1987*100)/Rådata!G1987)","v":""},{"$f":"IF(ISBLANK(Rådata!K1987),\"\",(SUM(Rådata!M1987:P1987)*100)/SUM(Rådata!H1987:K1987))","v":""},{"$f":"IF(ISBLANK(Rådata!H1987),\"\",((SUM(Rådata!J1987:L1987)-SUM(Rådata!O1987:P1987))*100)/SUM(Rådata!H1987:L1987))","v":""},{"$f":"IF(ISBLANK(Rådata!R1987),\"\",(Rådata!Q1987*100)/Rådata!R1987)","v":""}]
[{"$f":"IF(ISBLANK(Rådata!A1988)=TRUE,\"\",Rådata!A1988)","v":""},{"$f":"IF(ISBLANK(Rådata!A1988)=TRUE,\"\",YEAR(A1988))","v":""},{"$f":"IF(ISBLANK(Rådata!A1988)=TRUE,\"\",VLOOKUP(MONTH(A1988),Opsætning!$G$3:$H$14,2,FALSE))","v":""},{"$f":"IF(ISBLANK(Rådata!B1988)=TRUE,\"\",(Rådata!C1988*100)/Rådata!B1988)","v":""},{"$f":"IF(ISBLANK(Rådata!D1988)=TRUE,\"\",((Rådata!D1988-Rådata!E1988)*100)/Rådata!D1988)","v":""},{"$f":"IF(ISBLANK(Rådata!G1988)=TRUE,\"\",(Rådata!F1988*100)/Rådata!G1988)","v":""},{"$f":"IF(ISBLANK(Rådata!K1988),\"\",(SUM(Rådata!M1988:P1988)*100)/SUM(Rådata!H1988:K1988))","v":""},{"$f":"IF(ISBLANK(Rådata!H1988),\"\",((SUM(Rådata!J1988:L1988)-SUM(Rådata!O1988:P1988))*100)/SUM(Rådata!H1988:L1988))","v":""},{"$f":"IF(ISBLANK(Rådata!R1988),\"\",(Rådata!Q1988*100)/Rådata!R1988)","v":""}]
[{"$f":"IF(ISBLANK(Rådata!A1989)=TRUE,\"\",Rådata!A1989)","v":""},{"$f":"IF(ISBLANK(Rådata!A1989)=TRUE,\"\",YEAR(A1989))","v":""},{"$f":"IF(ISBLANK(Rådata!A1989)=TRUE,\"\",VLOOKUP(MONTH(A1989),Opsætning!$G$3:$H$14,2,FALSE))","v":""},{"$f":"IF(ISBLANK(Rådata!B1989)=TRUE,\"\",(Rådata!C1989*100)/Rådata!B1989)","v":""},{"$f":"IF(ISBLANK(Rådata!D1989)=TRUE,\"\",((Rådata!D1989-Rådata!E1989)*100)/Rådata!D1989)","v":""},{"$f":"IF(ISBLANK(Rådata!G1989)=TRUE,\"\",(Rådata!F1989*100)/Rådata!G1989)","v":""},{"$f":"IF(ISBLANK(Rådata!K1989),\"\",(SUM(Rådata!M1989:P1989)*100)/SUM(Rådata!H1989:K1989))","v":""},{"$f":"IF(ISBLANK(Rådata!H1989),\"\",((SUM(Rådata!J1989:L1989)-SUM(Rådata!O1989:P1989))*100)/SUM(Rådata!H1989:L1989))","v":""},{"$f":"IF(ISBLANK(Rådata!R1989),\"\",(Rådata!Q1989*100)/Rådata!R1989)","v":""}]
[{"$f":"IF(ISBLANK(Rådata!A1990)=TRUE,\"\",Rådata!A1990)","v":""},{"$f":"IF(ISBLANK(Rådata!A1990)=TRUE,\"\",YEAR(A1990))","v":""},{"$f":"IF(ISBLANK(Rådata!A1990)=TRUE,\"\",VLOOKUP(MONTH(A1990),Opsætning!$G$3:$H$14,2,FALSE))","v":""},{"$f":"IF(ISBLANK(Rådata!B1990)=TRUE,\"\",(Rådata!C1990*100)/Rådata!B1990)","v":""},{"$f":"IF(ISBLANK(Rådata!D1990)=TRUE,\"\",((Rådata!D1990-Rådata!E1990)*100)/Rådata!D1990)","v":""},{"$f":"IF(ISBLANK(Rådata!G1990)=TRUE,\"\",(Rådata!F1990*100)/Rådata!G1990)","v":""},{"$f":"IF(ISBLANK(Rådata!K1990),\"\",(SUM(Rådata!M1990:P1990)*100)/SUM(Rådata!H1990:K1990))","v":""},{"$f":"IF(ISBLANK(Rådata!H1990),\"\",((SUM(Rådata!J1990:L1990)-SUM(Rådata!O1990:P1990))*100)/SUM(Rådata!H1990:L1990))","v":""},{"$f":"IF(ISBLANK(Rådata!R1990),\"\",(Rådata!Q1990*100)/Rådata!R1990)","v":""}]
[{"$f":"IF(ISBLANK(Rådata!A1991)=TRUE,\"\",Rådata!A1991)","v":""},{"$f":"IF(ISBLANK(Rådata!A1991)=TRUE,\"\",YEAR(A1991))","v":""},{"$f":"IF(ISBLANK(Rådata!A1991)=TRUE,\"\",VLOOKUP(MONTH(A1991),Opsætning!$G$3:$H$14,2,FALSE))","v":""},{"$f":"IF(ISBLANK(Rådata!B1991)=TRUE,\"\",(Rådata!C1991*100)/Rådata!B1991)","v":""},{"$f":"IF(ISBLANK(Rådata!D1991)=TRUE,\"\",((Rådata!D1991-Rådata!E1991)*100)/Rådata!D1991)","v":""},{"$f":"IF(ISBLANK(Rådata!G1991)=TRUE,\"\",(Rådata!F1991*100)/Rådata!G1991)","v":""},{"$f":"IF(ISBLANK(Rådata!K1991),\"\",(SUM(Rådata!M1991:P1991)*100)/SUM(Rådata!H1991:K1991))","v":""},{"$f":"IF(ISBLANK(Rådata!H1991),\"\",((SUM(Rådata!J1991:L1991)-SUM(Rådata!O1991:P1991))*100)/SUM(Rådata!H1991:L1991))","v":""},{"$f":"IF(ISBLANK(Rådata!R1991),\"\",(Rådata!Q1991*100)/Rådata!R1991)","v":""}]
[{"$f":"IF(ISBLANK(Rådata!A1992)=TRUE,\"\",Rådata!A1992)","v":""},{"$f":"IF(ISBLANK(Rådata!A1992)=TRUE,\"\",YEAR(A1992))","v":""},{"$f":"IF(ISBLANK(Rådata!A1992)=TRUE,\"\",VLOOKUP(MONTH(A1992),Opsætning!$G$3:$H$14,2,FALSE))","v":""},{"$f":"IF(ISBLANK(Rådata!B1992)=TRUE,\"\",(Rådata!C1992*100)/Rådata!B1992)","v":""},{"$f":"IF(ISBLANK(Rådata!D1992)=TRUE,\"\",((Rådata!D1992-Rådata!E1992)*100)/Rådata!D1992)","v":""},{"$f":"IF(ISBLANK(Rådata!G1992)=TRUE,\"\",(Rådata!F1992*100)/Rådata!G1992)","v":""},{"$f":"IF(ISBLANK(Rådata!K1992),\"\",(SUM(Rådata!M1992:P1992)*100)/SUM(Rådata!H1992:K1992))","v":""},{"$f":"IF(ISBLANK(Rådata!H1992),\"\",((SUM(Rådata!J1992:L1992)-SUM(Rådata!O1992:P1992))*100)/SUM(Rådata!H1992:L1992))","v":""},{"$f":"IF(ISBLANK(Rådata!R1992),\"\",(Rådata!Q1992*100)/Rådata!R1992)","v":""}]
[{"$f":"IF(ISBLANK(Rådata!A1993)=TRUE,\"\",Rådata!A1993)","v":""},{"$f":"IF(ISBLANK(Rådata!A1993)=TRUE,\"\",YEAR(A1993))","v":""},{"$f":"IF(ISBLANK(Rådata!A1993)=TRUE,\"\",VLOOKUP(MONTH(A1993),Opsætning!$G$3:$H$14,2,FALSE))","v":""},{"$f":"IF(ISBLANK(Rådata!B1993)=TRUE,\"\",(Rådata!C1993*100)/Rådata!B1993)","v":""},{"$f":"IF(ISBLANK(Rådata!D1993)=TRUE,\"\",((Rådata!D1993-Rådata!E1993)*100)/Rådata!D1993)","v":""},{"$f":"IF(ISBLANK(Rådata!G1993)=TRUE,\"\",(Rådata!F1993*100)/Rådata!G1993)","v":""},{"$f":"IF(ISBLANK(Rådata!K1993),\"\",(SUM(Rådata!M1993:P1993)*100)/SUM(Rådata!H1993:K1993))","v":""},{"$f":"IF(ISBLANK(Rådata!H1993),\"\",((SUM(Rådata!J1993:L1993)-SUM(Rådata!O1993:P1993))*100)/SUM(Rådata!H1993:L1993))","v":""},{"$f":"IF(ISBLANK(Rådata!R1993),\"\",(Rådata!Q1993*100)/Rådata!R1993)","v":""}]
[{"$f":"IF(ISBLANK(Rådata!A1994)=TRUE,\"\",Rådata!A1994)","v":""},{"$f":"IF(ISBLANK(Rådata!A1994)=TRUE,\"\",YEAR(A1994))","v":""},{"$f":"IF(ISBLANK(Rådata!A1994)=TRUE,\"\",VLOOKUP(MONTH(A1994),Opsætning!$G$3:$H$14,2,FALSE))","v":""},{"$f":"IF(ISBLANK(Rådata!B1994)=TRUE,\"\",(Rådata!C1994*100)/Rådata!B1994)","v":""},{"$f":"IF(ISBLANK(Rådata!D1994)=TRUE,\"\",((Rådata!D1994-Rådata!E1994)*100)/Rådata!D1994)","v":""},{"$f":"IF(ISBLANK(Rådata!G1994)=TRUE,\"\",(Rådata!F1994*100)/Rådata!G1994)","v":""},{"$f":"IF(ISBLANK(Rådata!K1994),\"\",(SUM(Rådata!M1994:P1994)*100)/SUM(Rådata!H1994:K1994))","v":""},{"$f":"IF(ISBLANK(Rådata!H1994),\"\",((SUM(Rådata!J1994:L1994)-SUM(Rådata!O1994:P1994))*100)/SUM(Rådata!H1994:L1994))","v":""},{"$f":"IF(ISBLANK(Rådata!R1994),\"\",(Rådata!Q1994*100)/Rådata!R1994)","v":""}]
[{"$f":"IF(ISBLANK(Rådata!A1995)=TRUE,\"\",Rådata!A1995)","v":""},{"$f":"IF(ISBLANK(Rådata!A1995)=TRUE,\"\",YEAR(A1995))","v":""},{"$f":"IF(ISBLANK(Rådata!A1995)=TRUE,\"\",VLOOKUP(MONTH(A1995),Opsætning!$G$3:$H$14,2,FALSE))","v":""},{"$f":"IF(ISBLANK(Rådata!B1995)=TRUE,\"\",(Rådata!C1995*100)/Rådata!B1995)","v":""},{"$f":"IF(ISBLANK(Rådata!D1995)=TRUE,\"\",((Rådata!D1995-Rådata!E1995)*100)/Rådata!D1995)","v":""},{"$f":"IF(ISBLANK(Rådata!G1995)=TRUE,\"\",(Rådata!F1995*100)/Rådata!G1995)","v":""},{"$f":"IF(ISBLANK(Rådata!K1995),\"\",(SUM(Rådata!M1995:P1995)*100)/SUM(Rådata!H1995:K1995))","v":""},{"$f":"IF(ISBLANK(Rådata!H1995),\"\",((SUM(Rådata!J1995:L1995)-SUM(Rådata!O1995:P1995))*100)/SUM(Rådata!H1995:L1995))","v":""},{"$f":"IF(ISBLANK(Rådata!R1995),\"\",(Rådata!Q1995*100)/Rådata!R1995)","v":""}]
[{"$f":"IF(ISBLANK(Rådata!A1996)=TRUE,\"\",Rådata!A1996)","v":""},{"$f":"IF(ISBLANK(Rådata!A1996)=TRUE,\"\",YEAR(A1996))","v":""},{"$f":"IF(ISBLANK(Rådata!A1996)=TRUE,\"\",VLOOKUP(MONTH(A1996),Opsætning!$G$3:$H$14,2,FALSE))","v":""},{"$f":"IF(ISBLANK(Rådata!B1996)=TRUE,\"\",(Rådata!C1996*100)/Rådata!B1996)","v":""},{"$f":"IF(ISBLANK(Rådata!D1996)=TRUE,\"\",((Rådata!D1996-Rådata!E1996)*100)/Rådata!D1996)","v":""},{"$f":"IF(ISBLANK(Rådata!G1996)=TRUE,\"\",(Rådata!F1996*100)/Rådata!G1996)","v":""},{"$f":"IF(ISBLANK(Rådata!K1996),\"\",(SUM(Rådata!M1996:P1996)*100)/SUM(Rådata!H1996:K1996))","v":""},{"$f":"IF(ISBLANK(Rådata!H1996),\"\",((SUM(Rådata!J1996:L1996)-SUM(Rådata!O1996:P1996))*100)/SUM(Rådata!H1996:L1996))","v":""},{"$f":"IF(ISBLANK(Rådata!R1996),\"\",(Rådata!Q1996*100)/Rådata!R1996)","v":""}]
[{"$f":"IF(ISBLANK(Rådata!A1997)=TRUE,\"\",Rådata!A1997)","v":""},{"$f":"IF(ISBLANK(Rådata!A1997)=TRUE,\"\",YEAR(A1997))","v":""},{"$f":"IF(ISBLANK(Rådata!A1997)=TRUE,\"\",VLOOKUP(MONTH(A1997),Opsætning!$G$3:$H$14,2,FALSE))","v":""},{"$f":"IF(ISBLANK(Rådata!B1997)=TRUE,\"\",(Rådata!C1997*100)/Rådata!B1997)","v":""},{"$f":"IF(ISBLANK(Rådata!D1997)=TRUE,\"\",((Rådata!D1997-Rådata!E1997)*100)/Rådata!D1997)","v":""},{"$f":"IF(ISBLANK(Rådata!G1997)=TRUE,\"\",(Rådata!F1997*100)/Rådata!G1997)","v":""},{"$f":"IF(ISBLANK(Rådata!K1997),\"\",(SUM(Rådata!M1997:P1997)*100)/SUM(Rådata!H1997:K1997))","v":""},{"$f":"IF(ISBLANK(Rådata!H1997),\"\",((SUM(Rådata!J1997:L1997)-SUM(Rådata!O1997:P1997))*100)/SUM(Rådata!H1997:L1997))","v":""},{"$f":"IF(ISBLANK(Rådata!R1997),\"\",(Rådata!Q1997*100)/Rådata!R1997)","v":""}]
[{"$f":"IF(ISBLANK(Rådata!A1998)=TRUE,\"\",Rådata!A1998)","v":""},{"$f":"IF(ISBLANK(Rådata!A1998)=TRUE,\"\",YEAR(A1998))","v":""},{"$f":"IF(ISBLANK(Rådata!A1998)=TRUE,\"\",VLOOKUP(MONTH(A1998),Opsætning!$G$3:$H$14,2,FALSE))","v":""},{"$f":"IF(ISBLANK(Rådata!B1998)=TRUE,\"\",(Rådata!C1998*100)/Rådata!B1998)","v":""},{"$f":"IF(ISBLANK(Rådata!D1998)=TRUE,\"\",((Rådata!D1998-Rådata!E1998)*100)/Rådata!D1998)","v":""},{"$f":"IF(ISBLANK(Rådata!G1998)=TRUE,\"\",(Rådata!F1998*100)/Rådata!G1998)","v":""},{"$f":"IF(ISBLANK(Rådata!K1998),\"\",(SUM(Rådata!M1998:P1998)*100)/SUM(Rådata!H1998:K1998))","v":""},{"$f":"IF(ISBLANK(Rådata!H1998),\"\",((SUM(Rådata!J1998:L1998)-SUM(Rådata!O1998:P1998))*100)/SUM(Rådata!H1998:L1998))","v":""},{"$f":"IF(ISBLANK(Rådata!R1998),\"\",(Rådata!Q1998*100)/Rådata!R1998)","v":""}]
[{"$f":"IF(ISBLANK(Rådata!A1999)=TRUE,\"\",Rådata!A1999)","v":""},{"$f":"IF(ISBLANK(Rådata!A1999)=TRUE,\"\",YEAR(A1999))","v":""},{"$f":"IF(ISBLANK(Rådata!A1999)=TRUE,\"\",VLOOKUP(MONTH(A1999),Opsætning!$G$3:$H$14,2,FALSE))","v":""},{"$f":"IF(ISBLANK(Rådata!B1999)=TRUE,\"\",(Rådata!C1999*100)/Rådata!B1999)","v":""},{"$f":"IF(ISBLANK(Rådata!D1999)=TRUE,\"\",((Rådata!D1999-Rådata!E1999)*100)/Rådata!D1999)","v":""},{"$f":"IF(ISBLANK(Rådata!G1999)=TRUE,\"\",(Rådata!F1999*100)/Rådata!G1999)","v":""},{"$f":"IF(ISBLANK(Rådata!K1999),\"\",(SUM(Rådata!M1999:P1999)*100)/SUM(Rådata!H1999:K1999))","v":""},{"$f":"IF(ISBLANK(Rådata!H1999),\"\",((SUM(Rådata!J1999:L1999)-SUM(Rådata!O1999:P1999))*100)/SUM(Rådata!H1999:L1999))","v":""},{"$f":"IF(ISBLANK(Rådata!R1999),\"\",(Rådata!Q1999*100)/Rådata!R1999)","v":""}]
[{"$f":"IF(ISBLANK(Rådata!A2000)=TRUE,\"\",Rådata!A2000)","v":""},{"$f":"IF(ISBLANK(Rådata!A2000)=TRUE,\"\",YEAR(A2000))","v":""},{"$f":"IF(ISBLANK(Rådata!A2000)=TRUE,\"\",VLOOKUP(MONTH(A2000),Opsætning!$G$3:$H$14,2,FALSE))","v":""},{"$f":"IF(ISBLANK(Rådata!B2000)=TRUE,\"\",(Rådata!C2000*100)/Rådata!B2000)","v":""},{"$f":"IF(ISBLANK(Rådata!D2000)=TRUE,\"\",((Rådata!D2000-Rådata!E2000)*100)/Rådata!D2000)","v":""},{"$f":"IF(ISBLANK(Rådata!G2000)=TRUE,\"\",(Rådata!F2000*100)/Rådata!G2000)","v":""},{"$f":"IF(ISBLANK(Rådata!K2000),\"\",(SUM(Rådata!M2000:P2000)*100)/SUM(Rådata!H2000:K2000))","v":""},{"$f":"IF(ISBLANK(Rådata!H2000),\"\",((SUM(Rådata!J2000:L2000)-SUM(Rådata!O2000:P2000))*100)/SUM(Rådata!H2000:L2000))","v":""},{"$f":"IF(ISBLANK(Rådata!R2000),\"\",(Rådata!Q2000*100)/Rådata!R2000)","v":""}]
[{"$f":"IF(ISBLANK(Rådata!A2001)=TRUE,\"\",Rådata!A2001)","v":""},{"$f":"IF(ISBLANK(Rådata!A2001)=TRUE,\"\",YEAR(A2001))","v":""},{"$f":"IF(ISBLANK(Rådata!A2001)=TRUE,\"\",VLOOKUP(MONTH(A2001),Opsætning!$G$3:$H$14,2,FALSE))","v":""},{"$f":"IF(ISBLANK(Rådata!B2001)=TRUE,\"\",(Rådata!C2001*100)/Rådata!B2001)","v":""},{"$f":"IF(ISBLANK(Rådata!D2001)=TRUE,\"\",((Rådata!D2001-Rådata!E2001)*100)/Rådata!D2001)","v":""},{"$f":"IF(ISBLANK(Rådata!G2001)=TRUE,\"\",(Rådata!F2001*100)/Rådata!G2001)","v":""},{"$f":"IF(ISBLANK(Rådata!K2001),\"\",(SUM(Rådata!M2001:P2001)*100)/SUM(Rådata!H2001:K2001))","v":""},{"$f":"IF(ISBLANK(Rådata!H2001),\"\",((SUM(Rådata!J2001:L2001)-SUM(Rådata!O2001:P2001))*100)/SUM(Rådata!H2001:L2001))","v":""},{"$f":"IF(ISBLANK(Rådata!R2001),\"\",(Rådata!Q2001*100)/Rådata!R2001)","v":""}]

{"sheet":"Data Sidste måned","index":3,"n_rows":3,"n_cols":17,"rows_kept":3,"cut":false,"hidden":false,"merged":[]}
["dd-mm-yyyy","(tom)"]
["Tilbud",null,"Fakturering",null,"Om igen arbejde",null,"Timeforbrug",null,null,null,null,"Udfakturerede timer",null,null,null,"Indkøb"]
["Sum af Afgivne tilbud","Sum af Vundne tilbud","Sum af Omsætning","Sum af Omkostninger","Sum af Udkald","Sum af Afsluttede opgaver","Sum af Svende","Sum af Lærlinge","Sum af Formænd","Sum af Ejerleder","Sum af Admin","Sum af Svende2","Sum af Lærlinge2","Sum af Formænd2","Sum af Ejerleder2","Sum af Fakturaer afhentet","Sum af Fakturaer i alt"]

{"sheet":"Data Speedometer","index":4,"n_rows":8,"n_cols":7,"rows_kept":8,"cut":false,"hidden":false,"merged":[]}
["YYYYMM:",{"$f":"'Data Sidste måned'!B1","v":"(tom)"}]
[]
["Forklaring","Vundne tilbud","Dækningsgrad på gennemførte opgaver","Fejlretningsprocent","Faktureringsgrad","Administrationsprocent","Online indkøbsprocent"]
["Værdi",{"$f":"IF(IF(GETPIVOTDATA(\"Sum af Afgivne tilbud\",'Data Sidste måned'!$A$3)=0,0,GETPIVOTDATA(\"Sum af Vundne tilbud\",'Data Sidste måned'!$A$3)/GETPIVOTDATA(\"Sum af Afgivne tilbud\",'Data Sidste måned'!$A$3)*100)>100,99,IF(GETPIVOTDATA(\"Sum af Afgivne tilbud\",'Data Sidste måned'!$A$3)=0,0,(GETPIVOTDATA(\"Sum af Vundne tilbud\",'Data Sidste måned'!$A$3)/GETPIVOTDATA(\"Sum af Afgivne tilbud\",'Data Sidste måned'!$A$3)*100)))","v":0},{"$f":"IF(GETPIVOTDATA(\"Sum af Omsætning\",'Data Sidste måned'!$A$3)=0,50,IF(50+((GETPIVOTDATA(\"Sum af Omsætning\",'Data Sidste måned'!$A$3)-GETPIVOTDATA(\"Sum af Omkostninger\",'Data Sidste måned'!$A$3))*100)/(2*GETPIVOTDATA(\"Sum af Omsætning\",'Data Sidste måned'!$A$3))<0,0,50+((GETPIVOTDATA(\"Sum af Omsætning\",'Data Sidste måned'!$A$3)-GETPIVOTDATA(\"Sum af Omkostninger\",'Data Sidste måned'!$A$3))*100)/(2*GETPIVOTDATA(\"Sum af Omsætning\",'Data Sidste måned'!$A$3))))","v":50},{"$f":"IF(IF(GETPIVOTDATA(\"Sum af Afsluttede opgaver\",'Data Sidste måned'!$A$3)=0,0,(GETPIVOTDATA(\"Sum af Udkald\",'Data Sidste måned'!$A$3)*100)/GETPIVOTDATA(\"Sum af Afsluttede opgaver\",'Data Sidste måned'!$A$3))>100,100,IF(GETPIVOTDATA(\"Sum af Afsluttede opgaver\",'Data Sidste måned'!$A$3)=0,0,(GETPIVOTDATA(\"Sum af Udkald\",'Data Sidste måned'!$A$3)*100)/GETPIVOTDATA(\"Sum af Afsluttede opgaver\",'Data Sidste måned'!$A$3)))","v":0},{"$f":"IF(SUM('Data Sidste måned'!$G$4:$J$4)=0,0,IF((SUM('Data Sidste måned'!$L$4:$O$4)*100)/SUM('Data Sidste måned'!$G$4:$J$4)>100,100,(SUM('Data Sidste måned'!$L$4:$O$4)*100)/SUM('Data Sidste måned'!$G$4:$J$4)))","v":0},{"$f":"IF(SUM('Data Sidste måned'!$G$4:$K$4)=0,0,((SUM('Data Sidste måned'!$I$4:$K$4)-SUM('Data Sidste måned'!$N$4:$O$4))*100)/SUM('Data Sidste måned'!$G$4:$K$4))","v":0},{"$f":"IF(GETPIVOTDATA(\"Sum af Fakturaer i alt\",'Data Sidste måned'!$A$3)=0,0,(GETPIVOTDATA(\"Sum af Fakturaer afhentet\",'Data Sidste måned'!$A$3)*100)/GETPIVOTDATA(\"Sum af Fakturaer i alt\",'Data Sidste måned'!$A$3))","v":0}]
["Viser",1,1,1,1,1,1]
["Slutpunkt",{"$f":"200-B5-B4","v":199},{"$f":"200-C5-C4","v":149},199,199,199,199]
[]
["Viserværdi",{"$f":"IF(GETPIVOTDATA(\"Sum af Afgivne tilbud\",'Data Sidste måned'!$A$3)=0,0,GETPIVOTDATA(\"Sum af Vundne tilbud\",'Data Sidste måned'!$A$3)/GETPIVOTDATA(\"Sum af Afgivne tilbud\",'Data Sidste måned'!$A$3)*100)","v":0},{"$f":"IF(GETPIVOTDATA(\"Sum af Omsætning\",'Data Sidste måned'!$A$3)=0,0,((GETPIVOTDATA(\"Sum af Omsætning\",'Data Sidste måned'!$A$3)-GETPIVOTDATA(\"Sum af Omkostninger\",'Data Sidste måned'!$A$3))*100)/GETPIVOTDATA(\"Sum af Omsætning\",'Data Sidste måned'!$A$3))","v":0},{"$f":"IF(GETPIVOTDATA(\"Sum af Afsluttede opgaver\",'Data Sidste måned'!$A$3)=0,0,GETPIVOTDATA(\"Sum af Udkald\",'Data Sidste måned'!$A$3)/GETPIVOTDATA(\"Sum af Afsluttede opgaver\",'Data Sidste måned'!$A$3)*100)","v":0},{"$f":"IF(SUM('Data Sidste måned'!$G$4:$J$4)=0,0,(SUM('Data Sidste måned'!$L$4:$O$4)*100)/SUM('Data Sidste måned'!$G$4:$J$4))","v":0}]

{"sheet":"Data Grafer","index":5,"n_rows":4,"n_cols":10,"rows_kept":4,"cut":false,"hidden":false,"merged":[]}
[]
[]
["Antal af Afhentet hos grossist"]
["dd-mm-yyyy","År","Måned","Vundne tilbud","Dækningsgrad på gennemførte opgaver","Fejlretningsprocent","Faktureringsgrad","Administrationsprocent","Afhentet hos grossist","Total"]

{"sheet":"Visning Speedometer","index":6,"n_rows":32,"n_cols":17,"rows_kept":32,"cut":false,"hidden":false,"merged":[[2,3,2,16]]}
[]
[]
[null,null,null,"TEKNIQ Produktivitetsmåler®"]
[]
[]
[]
[]
[]
[]
[]
[]
[]
[]
[]
[]
[]
[]
[]
[]
[]
[]
[]
[]
[]
[null,null,null,{"$f":"IF(ISERROR(CONCATENATE(\"   Data fra \",VLOOKUP(MONTH('Data Sidste måned'!B1),Opsætning!$G$3:$H$14,2,FALSE),\" \",YEAR('Data Sidste måned'!B1)))=TRUE,\"\",CONCATENATE(\"   Data fra \",VLOOKUP(MONTH('Data Sidste måned'!B1),Opsætning!$G$3:$H$14,2,FALSE),\" \",YEAR('Data Sidste måned'!B1)))","v":""},null,null,null,null,null,null,null,null,null,null,null,null,"®TEKNIQ 2016   "]
[]
[]
[null,null,null,"Sådan tolker du resultaterne: "]
[]
[null,null,null,null," = Fremgang i forhold til referencemåned"]
[null,null,null,null," = Samme resultat som i referencemåned"]
[null,null,null,null," = Tilbagegang i forhold til referencemåned"]

{"sheet":"Visning Grafer","index":7,"n_rows":25,"n_cols":17,"rows_kept":25,"cut":false,"hidden":false,"merged":[[42,0,42,18],[49,0,49,18],[50,0,50,18],[51,0,51,18],[43,0,43,18],[44,0,44,18],[45,0,45,18],[46,0,46,18],[47,0,47,18],[48,0,48,18],[2,3,2,16],[35,0,36,18],[38,0,38,18],[39,0,39,18],[41,0,41,18]]}
[]
[]
[null,null,null,"TEKNIQ Produktivitetsmåler®"]
[]
[]
[]
[]
[]
[]
[]
[]
[]
[]
[]
[]
[]
[]
[]
[]
[]
[]
[]
[]
[]
[null,null,null,{"$f":"IF(ISERROR(CONCATENATE(\"   Data fra \",VLOOKUP(MONTH(Nøgletal!A4),Opsætning!$G$3:$H$14,2,FALSE),\" \",YEAR(Nøgletal!A4)))=TRUE,\"\",CONCATENATE(\"   Data fra \",VLOOKUP(MONTH(Nøgletal!A4),Opsætning!$G$3:$H$14,2,FALSE),\" \",YEAR(Nøgletal!A4)))","v":""},null,null,null,null,null,null,null,null,null,null,null,null,"®TEKNIQ 2016   "]

{"sheet":"Visning Rapport","index":8,"n_rows":28,"n_cols":17,"rows_kept":28,"cut":false,"hidden":false,"merged":[[45,0,45,18],[2,3,2,16],[38,0,39,18],[41,0,41,18],[42,0,42,18],[44,0,44,18],[52,0,52,18],[53,0,53,18],[54,0,54,18],[46,0,46,18],[47,0,47,18],[48,0,48,18],[49,0,49,18],[50,0,50,18],[51,0,51,18]]}
[]
[]
[null,null,null,"TEKNIQ Produktivitetsmåler®"]
[]
[null,null,null,null,"Afgivne tilbud i alt, denne måned",null,null,null,null,null,null,null,null,{"$f":"GETPIVOTDATA(\"Sum af Afgivne tilbud\",'Data Sidste måned'!$A$3)","v":0},null,"Salgsproduktivitet"]
[null,null,null,null,"Vundne tilbud i alt, denne måned",null,null,null,null,null,null,null,null,{"$f":"GETPIVOTDATA(\"Sum af Vundne tilbud\",'Data Sidste måned'!$A$3)","v":0},null,{"$f":"IF(N5=0,\"0 %\",INT(SUM(N6/N5*100))&\" %\")","v":"0 %"}]
[]
[null,null,null,null,"Samlet omsætning på udførte kundeopgaver/projekter, denne måned ",null,null,null,null,null,null,null,null,{"$f":"GETPIVOTDATA(\"Sum af Omsætning\",'Data Sidste måned'!$A$3)","v":0},null,"Værditilvækst"]
[null,null,null,null,"Samlede omkostninger på udførte kundeopgaver/projekter, denne måned",null,null,null,null,null,null,null,null,{"$f":"GETPIVOTDATA(\"Sum af Omkostninger\",'Data Sidste måned'!$A$3)","v":0},null,{"$f":"IF(N8=0,\"0 %\",ROUND(SUM(N8-N9)/N8*100,0)&\" %\")","v":"0 %"}]
[]
[null,null,null,null,"Antal udkald til fejlretning på afsluttede kundeopgaver/projekter, denne måned",null,null,null,null,null,null,null,null,{"$f":"GETPIVOTDATA(\"Sum af Udkald\",'Data Sidste måned'!$A$3)","v":0},null,"Om-igen-arbejde"]
[null,null,null,null,"Antal afsluttede kundeopgaver/projekter, denne måned",null,null,null,null,null,null,null,null,{"$f":"GETPIVOTDATA(\"Sum af Afsluttede opgaver\",'Data Sidste måned'!$A$3)","v":0},null,{"$f":"IF(N12=0,\"0 %\",ROUND(SUM(N11/N12)*100,0)&\" %\")","v":"0 %"}]
[]
[null,null,null,null,"Antal arbejdstimer for svende, denne måned",null,null,null,null,null,null,null,null,{"$f":"GETPIVOTDATA(\"Sum af Svende\",'Data Sidste måned'!$A$3)","v":0}]
[null,null,null,null,"Antal arbejdstimer for lærlinge, denne måned",null,null,null,null,null,null,null,null,{"$f":"GETPIVOTDATA(\"Sum af Lærlinge\",'Data Sidste måned'!$A$3)","v":0}]
[null,null,null,null,"Antal arbejdstimer for evt. formænd, arbejdsledere, mv., denne måned",null,null,null,null,null,null,null,null,{"$f":"GETPIVOTDATA(\"Sum af Formænd\",'Data Sidste måned'!$A$3)","v":0}]
[null,null,null,null,"Antal arbejdstimer for ejerleder, denne måned",null,null,null,null,null,null,null,null,{"$f":"GETPIVOTDATA(\"Sum af Ejerleder\",'Data Sidste måned'!$A$3)","v":0},null,"Administrationsgrad"]
[null,null,null,null,"Antal arbejdstimer for administrative medarbejdere, denne måned ",null,null,null,null,null,null,null,null,{"$f":"GETPIVOTDATA(\"Sum af Admin\",'Data Sidste måned'!$A$3)","v":0},null,{"$f":"IF((N14+N15+N16+N17+N18)=0,\"0 %\",ROUND(SUM((N16+N17+N18-(N22+N23))/(N14+N15+N16+N17+N18)*100),0)&\" %\")","v":"0 %"}]
[]
[null,null,null,null,"Antal udfakturerede svendetimer, denne måned",null,null,null,null,null,null,null,null,{"$f":"GETPIVOTDATA(\"Sum af Svende2\",'Data Sidste måned'!$A$3)","v":0}]
[null,null,null,null,"Antal udfakturerede lærlingetimer, denne måned",null,null,null,null,null,null,null,null,{"$f":"GETPIVOTDATA(\"Sum af Lærlinge2\",'Data Sidste måned'!$A$3)","v":0}]
[null,null,null,null,"Antal udfakturerede timer for evt. formænd og øvrige arbejdsledere, denne måned ",null,null,null,null,null,null,null,null,{"$f":"GETPIVOTDATA(\"Sum af Formænd2\",'Data Sidste måned'!$A$3)","v":0},null,"Arbejdsproduktivitet"]
[null,null,null,null,"Antal udfakturerede timer for ejerleder, denne måned",null,null,null,null,null,null,null,null,{"$f":"GETPIVOTDATA(\"Sum af Ejerleder2\",'Data Sidste måned'!$A$3)","v":0},null,{"$f":"IF((N14+N15+N16+N17)=0,\"0 %\",ROUND(SUM((N20+N21+N22+N23)/(N14+N15+N16+N17)*100),0)&\" %\")","v":"0 %"}]
[]
[null,null,null,null,"Antal materialeafhentninger, denne måned",null,null,null,null,null,null,null,null,{"$f":"GETPIVOTDATA(\"Sum af Fakturaer afhentet\",'Data Sidste måned'!$A$3)","v":0},null,"Spildkørsel"]
[null,null,null,null,"Antal materialeindkøb, denne måned",null,null,null,null,null,null,null,null,{"$f":"GETPIVOTDATA(\"Sum af Fakturaer i alt\",'Data Sidste måned'!$A$3)","v":0},null,{"$f":"IF(N26 =0,\"0 %\",ROUND(SUM(N25/N26*100),0)&\" %\")","v":"0 %"}]
[]
[null,null,null,{"$f":"IF(ISERROR(CONCATENATE(\"Data fra \",VLOOKUP(MONTH('Data Sidste måned'!B1),Opsætning!$G$3:$H$14,2,FALSE),\" \",YEAR('Data Sidste måned'!B1)))=TRUE,\"\",CONCATENATE(\"   Data fra \",VLOOKUP(MONTH('Data Sidste måned'!B1),Opsætning!$G$3:$H$14,2,FALSE),\" \",YEAR('Data Sidste måned'!B1)))","v":""},null,null,null,null,null,null,null,null,null,null,null,null,"®TEKNIQ 2016   "]